Workbook

Sheet VP maijs
D1: 2.pielikums
D2: Ministru kabineta rīkojuma projekta
D3: “Par finanšu līdzekļu piešķiršanu no valsts budžeta programmas
D4: “Līdzekļi neparedzētiem gadījumiem”” sākotnējās ietekmes novērtējuma ziņojumam (anotācijai)
A6: Valsts policijai papildu nepieciešamais finansējums laikposmam no 2023. gada 1. maija līdz 31. maijam saistībā ar situāciju uz Latvijas Republikas - Baltkrievijas Republikas valsts robežas
A7: Kopasavilkums
A9: Kods | B9: Koda nosaukums | C9: Detalizēts izdevumu aprēķins | D9: Izdevumi, euro
A10: Izdevumi kopā ar vidējās izpeļņas pieauguma kompensēšanu | D10: =D11+D14 -> 110257
A11: 1000 | B11: Atlīdzība | C11: × | D11: =ROUNDUP(D12+D13,0) -> 77467
A12: 1100 | B12: Atalgojums | C12: × | D12: =D45+D19 -> 62691.64
A13: 1210 | B13: Darba devēja valsts sociālās apdrošināšanas obligātās iemaksas | C13: × | D13: =D47+D29 -> 14774.6
A14: 2000 | B14: Preces un pakalpojumi | C14: × | D14: =D48+D30 -> 32790
A15: 2271 | B15: Izdevumi, kas saistīti ar operatīvo darbību | C15: × | D15: =D33+D49 -> 10522
A17: 1) Izdevumi saistībā ar rīkojuma Nr. 518 izpildei nepieciešamo pasākumu īstenošanu | D17: =D18+D30+D40 -> 103647
A18: 1000 | B18: Atlīdzība | C18: × | D18: =ROUNDUP(D19+D29,0) -> 71509
A19: 1100 | B19: Atalgojums | C19: × | D19: =SUM(D20:D28) -> 57870.64
A20: 1116 | B20: Mēnešalga amatpersonām ar speciālajām dienesta pakāpēm
A21: 1141 | B21: Piemaksa par nakts darbu
C22: 1) Detalizēts aprēķins par laika periodu no 2023.gada 1.maija līdz 31.maijam 1.tabulā. Iesaistītas 259 personas, kopējais iesaistes laiks 4 120 stundas. | D22: ='1.tabula'!G6 -> 16311.26
C23: 2) Precizējums_detalizēts aprēķins par laika periodu no 2023.gada 1.aprīļa līdz 30.aprīlim 2.tabulā. Korekcija 1 personai par aprīli: kopējais korekcijas laiks 73,50 stundas. Bija jāveic samaksas par virsstundu darbu aprēķins par laika periodu 01.01.-30.04., bet tika aprēķināta piemaksa par nakts darbu. | D23: ='2.tabula'!G6 -> -337.14
A24: 1142 | B24: Samaksa par virsstundu darbu un darbu svētku dienās | C24: 1) Samaksa par virsstundu darbu Precizējums_detalizēts aprēķins par laika periodu no 2023.gada 1.aprīļa līdz 30.aprīlim 3.tabulā. Iesaistītas 2 personas, kopējais iesaistes laiks 87,50 stundas. Vienai no personām bija jāveic samaksas par virsstundu darbu aprēķins par laika periodu 01.01.-30.04., bet tika aprēķināta piemaksa par nakts darbu, otra persona nebija iekļauta finansējuma pieprasījumā par 2023.gada janvāri - aprīli. Izdevumi segti 2023.gada maijā. | D24: =' 3.tabula'!G6 -> 1546.43
C25: 2) Piemaksa par darbu svētku dienās (01.05., 04.05., 14.05., 28.05. un 29.05.) Detalizēts aprēķins par laika periodu no 2023.gada 1.maija līdz 31.maijam 4.tabulā. Iesaistītas 177 personas, kopējais iesaistes laiks 2385,75 stundas. | D25: ='4.tabula'!G6 -> 19085.64
A26: 1145 | B26: Piemaksa par darbu īpašos apstākļos, speciālās piemaksas | C26: Detalizēts aprēķins par laika periodu no 2023.gada 1.maija līdz 31.maijam 7.tabulā. Iesaistītas 464 personas, kopējais iesaistes laiks 12 823,50 stundas. | D26: ='5.tabula'!H6 -> 21264.45
A28: 1146 | B28: Piemaksa par personisko darba ieguldījumu un darba kvalitāti
A29: 1210 | B29: Darba devēja valsts sociālās apdrošināšanas obligātās iemaksas | C29: 23,59% no aprēķinātā atalgojuma * izņemot trīs personas, kurām tiek piemērota nodokļu likme 21,94% (izdienas pensionārs) | D29: ='1.tabula'!H6+'2.tabula'!H6+' 3.tabula'!H6+'4.tabula'!H6+'5.tabula'!I6 -> 13637.42
A30: 2000 | B30: Preces un pakalpojumi | C30: × | D30: =ROUNDUP(SUM(D31:D39),0) -> 32138
A31: 2111 | B31: Dienas nauda | C31: Detalizēts aprēķins 5.tabulā. Dienas nauda par periodu no 2023.gada 15.aprīļa līdz 30.aprīlim izmaksāta 13 personām; Valsts policijas pavēle Nr. 1707 “Par komandējumu uz Daugavpili un Dagdu (Latvijā)” dienas nauda: 100% (8,00 euro) pirmā un pēdējā diena, 30% (2,40 euro) pārējās dienas *Valsts policija iekšzemes komandējumiem nemaksā dienas naudu avansā, bet gan izmaksā tad, kad no komandējuma amatpersonas ir atgriezušās. Komandējuma laika ietvars saskaņā ar Valsts policijas pavēli par komandējumu, ir tāds, ka uz mēnesi tiek sūtīta komandējumā viena amatpersonu grupa, pēc tam – uz mēnesi tika nosūtīta cita amatpersonu grupa. | D31: 644.8
A32: 2112 | B32: Pārējie komandējumu un darba braucienu izdevumi | C32: Dienesta viesnīcas pakalpojumi (naktsmītne) Naktsmītnes izdevumi: 29 nakts × 13 gultasvietas × 15,00 euro = 5 655,00 euro; Aprēķins veikts par dienesta viesnīcas pakalpojumiem (naktsmītni), kas tika nodrošināti no 2023.gada 1.aprīļa līdz 30.aprīlim, izdevumi pakalpojuma sniedzējam tika apmaksāti 2023.gada maijā. | D32: 5655
A33: 2271 | B33: Izdevumi, kas saistīti ar operatīvo darbību | C33: Izdevumi, kas saistīti ar operatīvo darbību 2023.gada maijā (ar precizējumu par aprīli) | D33: 9870
A34: 2312 | B34: Inventārs
A35: 2322 | B35: Degviela | C35: Detalizēts aprēķins par laika periodu no 2023.gada 1.maija līdz 31.maijam 6.tabulā. Pasākuma nodrošināšanai tika iesaistīti 82 transportlīdzekļi; Vidēji viena transportlīdzekļa nobraukums 941,48 km; Vidējā degvielas cena 1,2928 euro/l; Vidējais degvielas patēriņš 7,3586 l/km uz 100 km. 82 t-ldz. x 941,48 km x 1,2928 euro/l x 7,3586 l/km ÷ 100 km = 7 344,26 euro | D35: ='7.tabula'!F6 -> 7344.26
A36: 2350 | B36: Kārtējā remonta un iestāžu uzturēšanas materiāli | C36: Veļas mazgāšanas līdzekļi / 4 gab.× 13,4975 euro = 53,99 euro; Odu un ērču atbaidīšanas līdzekļi / 25 gab. x 2,7704 euro = 69,26 euro | D36: =53.99+69.26 -> 123.25
A37: 2363 | B37: Ēdināšanas izdevumi | C37: Aprēķins veikts par ēdināšanas pakalpojumiem, kas tika nodrošināti no 2023.gada 1.aprīļa līdz 30.aprīlim, izdevumi pakalpojuma sniedzējam tika apmaksāti 2023.gada maijā. Ēdināšanas pakalpojumi: brokastis 268 porcijas × 6,00 euro = 1 608,00 euro; pusdienas 246 porcijas × 8,00 euro = 1 968,00 euro; vakariņas 259 porcijas × 8,00 euro = 2 072,00 euro; launags (sausā uztura paka) 118 pakas × 22,00 euro = 2 596 euro. Saskaņā ar līgumu par izmitināšanu un ēdināšanu Daugavpilī ir noteikts, ka ēdināšana 3 reizes dienā nedrīkst pārsniegt 22 euro: Ēdināšanas izmaksas sastāda: Brokastis 6 euro /1 pers Pusdienas un vakariņas 8 euro /1 pers Par 14 euro tiek ēdinātas amatpersonas, kuras atrodas viesnīcā, jo amatpersonas strādā maiņās. Savukārt tām amatpersonām, kuras ir maiņā uz robežas un tām nav iespējams atgriezties uz pusdienām un vakariņām, tad, lai nodrošinātu ēdināšanu amatpersonām dod līdzi pārtikas paku un kopā tas sastāda 22 euro (brokastis ir 6 euro - tās paēd izmitināšanas vietā). Pārtikas pakas tiek dotas arī Latgales reģiona pārvaldes amatpersonām, kuras arī tiek norīkotas uz robežu, augstākminēto iemeslu dēļ, komandējama izdevumi un dienas nauda viņām nav. Papildus jāatzīmē, ka dienas nauda dienās, kad nodrošināta 3 reižu ēdināšana sastāda 30% no Ministru kabineta noteikumos par komandējumu paredzētā limita. | D37: =1608+1968+2072+2596 -> 8244
A38: 2389 | B38: Pārējie specifiskas lietošanas materiāli un inventārs
A39: 2390 | B39: Pārējās preces | C39: Maisi atkritumiem 150 L / 50 gab. x 2,1176 euro = 105,88 euro; Negāzēts dzeramais ūdens 5 L / 204 gab. x 0,7381 euro = 150,57 euro; | D39: 256.45
A40: 5000 | B40: Pamatkapitāla veidošana | D40: =ROUNDUP(SUM(D41),0) -> 0
A41: 5239 | B41: Pārējie iepriekš neklasificētie pamatlīdzekļi un ieguldījuma īpašumi
A43: 2) Vidējās izpeļņas pieauguma kompensēšanai | D43: =D44+D48 -> 6610
A44: 1000 | B44: Atlīdzība | C44: × | D44: =ROUND(D45+D47,0) -> 5958
A45: 1100 | B45: Atalgojums | C45: × | D45: =ROUND(SUM(D46:D46),0) -> 4821
A46: 1116 | B46: Mēnešalga amatpersonām ar speciālajām dienesta pakāpēm | C46: 57 870,64 euro × 8,33% = 4 820,62 euro. | D46: =ROUND((D22+D23+D24+D26+D28+D27+D25+D21)*8.33%,2) -> 4820.62
A47: 1210 | B47: Darba devēja valsts sociālās apdrošināšanas obligātās iemaksas | C47: 23,59% no aprēķinātā atalgojuma | D47: =ROUND(D46*0.2359,2) -> 1137.18
A48: 2000 | B48: Preces un pakalpojumi | D48: =ROUND(SUM(D49:D49),2) -> 652
A49: 2271 | B49: Izdevumi, kas saistīti ar operatīvo darbību | C49: Informācija klasificēta | D49: 652

Sheet 1.tabula
I1: 2.pielikuma 1.tabula
A2: Valsts policija
A3: Piemaksa par nakts darbu amatpersonām ar speciālajām dienesta pakāpēm, kuras laika periodā no 2023.gada 1.maija līdz 31.maijam tika iesaistītas atbalsta sniegšanā Valsts robežsardzei Latvijas Republikas-Baltkrievijas Republikas valsts robežas robežuzraudzības nodrošināšanā
E4: 167
A5: Nr. p.k. | B5: Struktūrvienība | C5: Amats | D5: Mēnešalga amatpersonām ar speciālajām pakāpēm | E5: Stundas likme | F5: Stundu skaits | G5: Piemaksa par nakts darbu | H5: DD VSAOI | I5: Atlīdzība
A6: kopā | F6: =SUM(F8:F267) -> 4120 | G6: =SUM(G8:G267) -> 16311.26 | H6: =SUM(H8:H267) -> 3842.42 | I6: =SUM(I8:I267) -> 20153.68
B7: LATGALES REĢIONA PĀRVALDE
A8: 1 | B8: VP LATGALES REĢIONA PĀRVALDES DISCIPLINĀRĀS UZRAUDZĪBAS GRUPA | C8: galvenais inspektors | D8: 1486 | E8: 8.898 | F8: 8 | G8: 35.59 | H8: =ROUND(G8*0.2359,2) -> 8.4 | I8: =G8+H8 -> 43.99
A9: =A8+1 -> 2 | B9: VP LATGALES RP DIENVIDLATGALES IECIRKNIS | C9: iecirkņa priekšnieka vietnieks, Izmeklēšanas nodaļas priekšnieks | D9: 1937 | E9: 11.599 | F9: 22 | G9: 127.59 | H9: =ROUND(G9*0.2359,2) -> 30.1 | I9: =G9+H9 -> 157.69
A10: =A9+1 -> 3 | B10: VP LATGALES RP DIENVIDLATGALES IECIRKNIS | C10: iecirkņa priekšnieka vietnieks, Reaģēšanas nodaļas priekšnieks | D10: 1883 | E10: 11.275 | F10: 16 | G10: 90.2 | H10: =ROUND(G10*0.2359,2) -> 21.28 | I10: =G10+H10 -> 111.48
A11: =A10+1 -> 4 | B11: VP LATGALES RP DIENVIDLATGALES IECIRKNIS | C11: iecirkņa priekšnieks | D11: 2107 | E11: 12.618 | F11: 16 | G11: 100.94 | H11: =ROUND(G11*0.2359,2) -> 23.81 | I11: =G11+H11 -> 124.75
A12: =A11+1 -> 5 | B12: VP LATGALES RP DIENVIDLATGALES IECIRKŅA IZMEKLĒŠANAS NODAĻAS 1.GRUPA | C12: galvenais inspektors | D12: 1872 | E12: 11.21 | F12: 8 | G12: 44.84 | H12: =ROUND(G12*0.2359,2) -> 10.58 | I12: =G12+H12 -> 55.42
A13: =A12+1 -> 6 | B13: VP LATGALES RP DIENVIDLATGALES IECIRKŅA IZMEKLĒŠANAS NODAĻAS 1.GRUPA | C13: inspektors | D13: 1392 | E13: 8.353 | F13: 16 | G13: 66.82 | H13: =ROUND(G13*0.2359,2) -> 15.76 | I13: =G13+H13 -> 82.58
A14: =A13+1 -> 7 | B14: VP LATGALES RP DIENVIDLATGALES IECIRKŅA IZMEKLĒŠANAS NODAĻAS 1.GRUPA | C14: inspektors | D14: 1392 | E14: 8.336 | F14: 14 | G14: 58.35 | H14: =ROUND(G14*0.2359,2) -> 13.76 | I14: =G14+H14 -> 72.11
A15: =A14+1 -> 8 | B15: VP LATGALES RP DIENVIDLATGALES IECIRKŅA IZMEKLĒŠANAS NODAĻAS 1.GRUPA | C15: inspektors | D15: 1332 | E15: 7.975 | F15: 8 | G15: 31.9 | H15: =ROUND(G15*0.2359,2) -> 7.53 | I15: =G15+H15 -> 39.43
A16: =A15+1 -> 9 | B16: VP LATGALES RP DIENVIDLATGALES IECIRKŅA IZMEKLĒŠANAS NODAĻAS 2.GRUPA | C16: galvenais inspektors | D16: 1468 | E16: 8.825 | F16: 8 | G16: 35.3 | H16: =ROUND(G16*0.2359,2) -> 8.33 | I16: =G16+H16 -> 43.63
A17: =A16+1 -> 10 | B17: VP LATGALES RP DIENVIDLATGALES IECIRKŅA IZMEKLĒŠANAS NODAĻAS 2.GRUPA | C17: inspektors | D17: 1412 | E17: 8.455 | F17: 8 | G17: 33.82 | H17: =ROUND(G17*0.2359,2) -> 7.98 | I17: =G17+H17 -> 41.8
A18: =A17+1 -> 11 | B18: VP LATGALES RP DIENVIDLATGALES IECIRKŅA IZMEKLĒŠANAS NODAĻAS 2.GRUPA | C18: inspektors | D18: 1392 | E18: 8.335 | F18: 24 | G18: 100.02 | H18: =ROUND(G18*0.2359,2) -> 23.59 | I18: =G18+H18 -> 123.61
A19: =A18+1 -> 12 | B19: VP LATGALES RP DIENVIDLATGALES IECIRKŅA IZMEKLĒŠANAS NODAĻAS 2.GRUPA | C19: inspektors | D19: 1367 | E19: 8.185 | F19: 8 | G19: 32.74 | H19: =ROUND(G19*0.2359,2) -> 7.72 | I19: =G19+H19 -> 40.46
A20: =A19+1 -> 13 | B20: VP LATGALES RP DIENVIDLATGALES IECIRKŅA IZMEKLĒŠANAS NODAĻAS 2.GRUPA | C20: vecākais inspektors | D20: 1444 | E20: 8.648 | F20: 8 | G20: 34.59 | H20: =ROUND(G20*0.2359,2) -> 8.16 | I20: =G20+H20 -> 42.75
... A28: =A27+1 -> 21 | B28: VP LATGALES RP DIENVIDLATGALES IECIRKŅA IZMEKLĒŠANAS NODAĻAS 3.GRUPA | C28: inspektors | D28: 1332 | E28: 7.976 | F28: 32 | G28: 127.62 | H28: =ROUND(G28*0.2359,2) -> 30.11 | I28: =G28+H28 -> 157.73
A29: =A28+1 -> 22 | B29: VP LATGALES RP DIENVIDLATGALES IECIRKŅA IZMEKLĒŠANAS NODAĻAS 4.GRUPA | C29: inspektors | D29: 1392 | E29: 8.363 | F29: 8 | G29: 33.45 | H29: =ROUNDDOWN(G29*0.2359,2) -> 7.89 | I29: =G29+H29 -> 41.34
A30: =A29+1 -> 23 | B30: VP LATGALES RP DIENVIDLATGALES IECIRKŅA IZMEKLĒŠANAS NODAĻAS 4.GRUPA | C30: vecākais inspektors | D30: 1584 | E30: 9.485 | F30: 24 | G30: 113.82 | H30: 24.97 | I30: =G30+H30 -> 138.79 | J30: *
A31: =A30+1 -> 24 | B31: VP LATGALES RP DIENVIDLATGALES IECIRKŅA IZMEKLĒŠANAS NODAĻAS 4.GRUPA | C31: vecākais inspektors | D31: 1418 | E31: 8.491 | F31: 16 | G31: 67.93 | H31: =ROUND(G31*0.2359,2) -> 16.02 | I31: =G31+H31 -> 83.95
A32: =A31+1 -> 25 | B32: VP LATGALES RP DIENVIDLATGALES IECIRKŅA IZMEKLĒŠANAS NODAĻAS 4.GRUPA | C32: inspektors | D32: 1387 | E32: 8.314 | F32: 24 | G32: 99.77 | H32: =ROUND(G32*0.2359,2) -> 23.54 | I32: =G32+H32 -> 123.31
A33: =A32+1 -> 26 | B33: VP LATGALES RP DIENVIDLATGALES IECIRKŅA IZMEKLĒŠANAS NODAĻAS 4.GRUPA | C33: inspektors | D33: 1372 | E33: 8.216 | F33: 16 | G33: 65.73 | H33: =ROUND(G33*0.2359,2) -> 15.51 | I33: =G33+H33 -> 81.24
A34: =A33+1 -> 27 | B34: VP LATGALES RP DIENVIDLATGALES IECIRKŅA IZMEKLĒŠANAS NODAĻAS 4.GRUPA | C34: inspektors | D34: 1352 | E34: 8.095 | F34: 8 | G34: 32.38 | H34: =ROUND(G34*0.2359,2) -> 7.64 | I34: =G34+H34 -> 40.02
A35: =A34+1 -> 28 | B35: VP LATGALES RP DIENVIDLATGALES IECIRKŅA IZMEKLĒŠANAS NODAĻAS 5.GRUPA | C35: inspektors | D35: 1387 | E35: 8.309 | F35: 18 | G35: 74.78 | H35: =ROUND(G35*0.2359,2) -> 17.64 | I35: =G35+H35 -> 92.42
A36: =A35+1 -> 29 | B36: VP LATGALES RP DIENVIDLATGALES IECIRKŅA IZMEKLĒŠANAS NODAĻAS 5.GRUPA | C36: inspektors | D36: 1392 | E36: 8.335 | F36: 8 | G36: 33.34 | H36: =ROUNDUP(G36*0.2359,2) -> 7.87 | I36: =G36+H36 -> 41.21
A37: =A36+1 -> 30 | B37: VP LATGALES RP DIENVIDLATGALES IECIRKŅA IZMEKLĒŠANAS NODAĻAS 5.GRUPA | C37: galvenais inspektors | D37: 1762 | E37: 10.55 | F37: 8 | G37: 42.2 | H37: =ROUNDDOWN(G37*0.2359,2) -> 9.95 | I37: =G37+H37 -> 52.15
A38: =A37+1 -> 31 | B38: VP LATGALES RP DIENVIDLATGALES IECIRKŅA IZMEKLĒŠANAS NODAĻAS 5.GRUPA | C38: vecākais inspektors | D38: 1444 | E38: 8.648 | F38: 16 | G38: 69.18 | H38: =ROUND(G38*0.2359,2) -> 16.32 | I38: =G38+H38 -> 85.5
A39: =A38+1 -> 32 | B39: VP LATGALES RP DIENVIDLATGALES IECIRKŅA IZMEKLĒŠANAS NODAĻAS 5.GRUPA | C39: inspektors | D39: 1392 | E39: 8.342 | F39: 10 | G39: 41.71 | H39: =ROUND(G39*0.2359,2) -> 9.84 | I39: =G39+H39 -> 51.55
A40: =A39+1 -> 33 | B40: VP LATGALES RP DIENVIDLATGALES IECIRKŅA IZMEKLĒŠANAS NODAĻAS 5.GRUPA | C40: vecākais inspektors | D40: 1464 | E40: 8.784 | F40: 16 | G40: 70.27 | H40: =ROUND(G40*0.2359,2) -> 16.58 | I40: =G40+H40 -> 86.85
A41: =A40+1 -> 34 | B41: VP LATGALES RP DIENVIDLATGALES IECIRKŅA IZMEKLĒŠANAS NODAĻAS 5.GRUPA | C41: vecākais inspektors | D41: 1398 | E41: 8.37 | F41: 8 | G41: 33.48 | H41: =ROUND(G41*0.2359,2) -> 7.9 | I41: =G41+H41 -> 41.38
A42: =A41+1 -> 35 | B42: VP LATGALES RP DIENVIDLATGALES IECIRKŅA IZMEKLĒŠANAS NODAĻAS 5.GRUPA | C42: inspektors | D42: 1352 | E42: 8.096 | F42: 16 | G42: 64.77 | H42: =ROUND(G42*0.2359,2) -> 15.28 | I42: =G42+H42 -> 80.05
A43: =A42+1 -> 36 | B43: VP LATGALES RP DIENVIDLATGALES IECIRKŅA IZMEKLĒŠANAS NODAĻAS 5.GRUPA | C43: inspektors | D43: 1352 | E43: 8.13 | F43: 2 | G43: 8.13 | H43: =ROUND(G43*0.2359,2) -> 1.92 | I43: =G43+H43 -> 10.05
A44: =A43+1 -> 37 | B44: VP LATGALES RP DIENVIDLATGALES IECIRKŅA IZMEKLĒŠANAS NODAĻAS 5.GRUPA | C44: inspektors | D44: 1312 | E44: 7.855 | F44: 8 | G44: 31.42 | H44: =ROUND(G44*0.2359,2) -> 7.41 | I44: =G44+H44 -> 38.83
A45: =A44+1 -> 38 | B45: VP LATGALES RP DIENVIDLATGALES IECIRKŅA IZMEKLĒŠANAS NODAĻAS 6.GRUPA | C45: galvenais inspektors | D45: 1448 | E45: 8.671 | F45: 22 | G45: 95.38 | H45: =ROUND(G45*0.2359,2) -> 22.5 | I45: =G45+H45 -> 117.88
A46: =A45+1 -> 39 | B46: VP LATGALES RP DIENVIDLATGALES IECIRKŅA IZMEKLĒŠANAS NODAĻAS 6.GRUPA | C46: vecākais inspektors | D46: 1259 | E46: 7.54 | F46: 8 | G46: 30.16 | H46: =ROUND(G46*0.2359,2) -> 7.11 | I46: =G46+H46 -> 37.27
A47: =A46+1 -> 40 | B47: VP LATGALES RP DIENVIDLATGALES IECIRKŅA IZMEKLĒŠANAS NODAĻAS 6.GRUPA | C47: inspektors | D47: 1243 | E47: 7.443 | F47: 8 | G47: 29.77 | H47: =ROUND(G47*0.2359,2) -> 7.02 | I47: =G47+H47 -> 36.79
A48: =A47+1 -> 41 | B48: VP LATGALES RP DIENVIDLATGALES IECIRKŅA IZMEKLĒŠANAS NODAĻAS 6.GRUPA | C48: vecākais inspektors | D48: 1279 | E48: 7.66 | F48: 8 | G48: 30.64 | H48: =ROUND(G48*0.2359,2) -> 7.23 | I48: =G48+H48 -> 37.87
A49: =A48+1 -> 42 | B49: VP LATGALES RP DIENVIDLATGALES IECIRKŅA IZMEKLĒŠANAS NODAĻAS 6.GRUPA | C49: vecākais inspektors | D49: 1235 | E49: 7.395 | F49: 24 | G49: 88.74 | H49: =ROUND(G49*0.2359,2) -> 20.93 | I49: =G49+H49 -> 109.67
A50: =A49+1 -> 43 | B50: VP LATGALES RP DIENVIDLATGALES IECIRKŅA IZMEKLĒŠANAS NODAĻAS 6.GRUPA | C50: inspektors | D50: 1223 | E50: 7.335 | F50: 16 | G50: 58.68 | H50: =ROUND(G50*0.2359,2) -> 13.84 | I50: =G50+H50 -> 72.52
A51: =A50+1 -> 44 | B51: VP LATGALES RP DIENVIDLATGALES IECIRKŅA IZMEKLĒŠANAS NODAĻAS 6.GRUPA | C51: inspektors | D51: 1180 | E51: 7.065 | F51: 8 | G51: 28.26 | H51: =ROUNDUP(G51*0.2359,2) -> 6.67 | I51: =G51+H51 -> 34.93
A52: =A51+1 -> 45 | B52: VP LATGALES RP DIENVIDLATGALES IECIRKŅA IZMEKLĒŠANAS NODAĻAS 7.GRUPA | C52: vecākais inspektors | D52: 1255 | E52: 7.515 | F52: 16 | G52: 60.12 | H52: =ROUND(G52*0.2359,2) -> 14.18 | I52: =G52+H52 -> 74.3
A53: =A52+1 -> 46 | B53: VP LATGALES RP DIENVIDLATGALES IECIRKŅA IZMEKLĒŠANAS NODAĻAS 7.GRUPA | C53: inspektors | D53: 1243 | E53: 7.443 | F53: 8 | G53: 29.77 | H53: =ROUND(G53*0.2359,2) -> 7.02 | I53: =G53+H53 -> 36.79
A54: =A53+1 -> 47 | B54: VP LATGALES RP DIENVIDLATGALES IECIRKŅA IZMEKLĒŠANAS NODAĻAS 7.GRUPA | C54: inspektors | D54: 1263 | E54: 7.563 | F54: 8 | G54: 30.25 | H54: =ROUND(G54*0.2359,2) -> 7.14 | I54: =G54+H54 -> 37.39
A55: =A54+1 -> 48 | B55: VP LATGALES RP DIENVIDLATGALES IECIRKŅA IZMEKLĒŠANAS NODAĻAS 7.GRUPA | C55: galvenais inspektors | D55: 1255 | E55: 7.515 | F55: 16 | G55: 60.12 | H55: =ROUND(G55*0.2359,2) -> 14.18 | I55: =G55+H55 -> 74.3
A56: =A55+1 -> 49 | B56: VP LATGALES RP DIENVIDLATGALES IECIRKŅA IZMEKLĒŠANAS NODAĻAS 7.GRUPA | C56: vecākais inspektors | D56: 1235 | E56: 7.395 | F56: 8 | G56: 29.58 | H56: =ROUND(G56*0.2359,2) -> 6.98 | I56: =G56+H56 -> 36.56
A57: =A56+1 -> 50 | B57: VP LATGALES RP DIENVIDLATGALES IECIRKŅA IZMEKLĒŠANAS NODAĻAS 7.GRUPA | C57: inspektors | D57: 1240 | E57: 7.425 | F57: 8 | G57: 29.7 | H57: =ROUND(G57*0.2359,2) -> 7.01 | I57: =G57+H57 -> 36.71
A58: =A57+1 -> 51 | B58: VP LATGALES RP DIENVIDLATGALES IECIRKŅA IZMEKLĒŠANAS NODAĻAS 7.GRUPA | C58: vecākais inspektors | D58: 1279 | E58: 7.66 | F58: 8 | G58: 30.64 | H58: =ROUND(G58*0.2359,2) -> 7.23 | I58: =G58+H58 -> 37.87
A59: =A58+1 -> 52 | B59: VP LATGALES RP DIENVIDLATGALES IECIRKŅA IZMEKLĒŠANAS NODAĻAS 7.GRUPA | C59: vecākais inspektors | D59: 1235 | E59: 7.395 | F59: 8 | G59: 29.58 | H59: =ROUND(G59*0.2359,2) -> 6.98 | I59: =G59+H59 -> 36.56
A60: =A59+1 -> 53 | B60: VP LATGALES RP DIENVIDLATGALES IECIRKŅA IZMEKLĒŠANAS NODAĻAS 7.GRUPA | C60: inspektors | D60: 1263 | E60: 7.575 | F60: 16 | G60: 60.6 | H60: =ROUND(G60*0.2359,2) -> 14.3 | I60: =G60+H60 -> 74.9
A61: =A60+1 -> 54 | B61: VP LATGALES RP DIENVIDLATGALES IECIRKŅA IZMEKLĒŠANAS NODAĻAS 7.GRUPA | C61: inspektors | D61: 1223 | E61: 7.345 | F61: 8 | G61: 29.38 | H61: =ROUND(G61*0.2359,2) -> 6.93 | I61: =G61+H61 -> 36.31
A62: =A61+1 -> 55 | B62: VP LATGALES RP DIENVIDLATGALES IECIRKŅA IZMEKLĒŠANAS NODAĻAS 7.GRUPA | C62: vecākais inspektors | D62: 1215 | E62: 7.275 | F62: 8 | G62: 29.1 | H62: =ROUNDDOWN(G62*0.2359,2) -> 6.86 | I62: =G62+H62 -> 35.96
A63: =A62+1 -> 56 | B63: VP LATGALES RP DIENVIDLATGALES IECIRKŅA IZMEKLĒŠANAS NODAĻAS 7.GRUPA | C63: inspektors | D63: 1180 | E63: 7.065 | F63: 8 | G63: 28.26 | H63: =ROUND(G63*0.2359,2) -> 6.67 | I63: =G63+H63 -> 34.93
A64: =A63+1 -> 57 | B64: VP LATGALES RP DIENVIDLATGALES IECIRKŅA IZMEKLĒŠANAS NODAĻAS 8.GRUPA | C64: inspektors | D64: 1240 | E64: 7.425 | F64: 8 | G64: 29.7 | H64: =ROUND(G64*0.2359,2) -> 7.01 | I64: =G64+H64 -> 36.71
A65: =A64+1 -> 58 | B65: VP LATGALES RP DIENVIDLATGALES IECIRKŅA IZMEKLĒŠANAS NODAĻAS 8.GRUPA | C65: vecākais inspektors | D65: 1235 | E65: 7.395 | F65: 24 | G65: 88.74 | H65: =ROUND(G65*0.2359,2) -> 20.93 | I65: =G65+H65 -> 109.67
A66: =A65+1 -> 59 | B66: VP LATGALES RP DIENVIDLATGALES IECIRKŅA IZMEKLĒŠANAS NODAĻAS 8.GRUPA | C66: vecākais inspektors | D66: 1255 | E66: 7.515 | F66: 32 | G66: 120.24 | H66: =ROUNDDOWN(G66*0.2359,2) -> 28.36 | I66: =G66+H66 -> 148.6
A67: =A66+1 -> 60 | B67: VP LATGALES RP DIENVIDLATGALES IECIRKŅA IZMEKLĒŠANAS NODAĻAS 8.GRUPA | C67: galvenais inspektors | D67: 1255 | E67: 7.516 | F67: 14 | G67: 52.61 | H67: =ROUND(G67*0.2359,2) -> 12.41 | I67: =G67+H67 -> 65.02
A68: =A67+1 -> 61 | B68: VP LATGALES RP DIENVIDLATGALES IECIRKŅA IZMEKLĒŠANAS NODAĻAS 8.GRUPA | C68: vecākais inspektors | D68: 1215 | E68: 7.275 | F68: 8 | G68: 29.1 | H68: =ROUND(G68*0.2359,2) -> 6.86 | I68: =G68+H68 -> 35.96
A69: =A68+1 -> 62 | B69: VP LATGALES RP DIENVIDLATGALES IECIRKŅA IZMEKLĒŠANAS NODAĻAS 8.GRUPA | C69: inspektors | D69: 1223 | E69: 7.323 | F69: 8 | G69: 29.29 | H69: =ROUND(G69*0.2359,2) -> 6.91 | I69: =G69+H69 -> 36.2
A70: =A69+1 -> 63 | B70: VP LATGALES RP DIENVIDLATGALES IECIRKŅA IZMEKLĒŠANAS NODAĻAS 8.GRUPA | C70: vecākais inspektors | D70: 1239 | E70: 7.419 | F70: 32 | G70: 118.7 | H70: =ROUND(G70*0.2359,2) -> 28 | I70: =G70+H70 -> 146.7
A71: =A70+1 -> 64 | B71: VP LATGALES RP DIENVIDLATGALES IECIRKŅA IZMEKLĒŠANAS NODAĻAS 8.GRUPA | C71: inspektors | D71: 1183 | E71: 7.085 | F71: 8 | G71: 28.34 | H71: =ROUND(G71*0.2359,2) -> 6.69 | I71: =G71+H71 -> 35.03
A72: =A71+1 -> 65 | B72: VP LATGALES RP DIENVIDLATGALES IECIRKŅA IZMEKLĒŠANAS NODAĻAS 9.GRUPA | C72: inspektors | D72: 1220 | E72: 7.305 | F72: 8 | G72: 29.22 | H72: =ROUND(G72*0.2359,2) -> 6.89 | I72: =G72+H72 -> 36.11
A73: =A72+1 -> 66 | B73: VP LATGALES RP DIENVIDLATGALES IECIRKŅA IZMEKLĒŠANAS NODAĻAS 9.GRUPA | C73: inspektors | D73: 1268 | E73: 7.593 | F73: 16 | G73: 60.74 | H73: =ROUND(G73*0.2359,2) -> 14.33 | I73: =G73+H73 -> 75.07
A74: =A73+1 -> 67 | B74: VP LATGALES RP DIENVIDLATGALES IECIRKŅA IZMEKLĒŠANAS NODAĻAS 9.GRUPA | C74: inspektors | D74: 1180 | E74: 7.065 | F74: 8 | G74: 28.26 | H74: =ROUND(G74*0.2359,2) -> 6.67 | I74: =G74+H74 -> 34.93
A75: =A74+1 -> 68 | B75: VP LATGALES RP DIENVIDLATGALES IECIRKŅA IZMEKLĒŠANAS NODAĻAS 9.GRUPA | C75: inspektors | D75: 1203 | E75: 7.205 | F75: 8 | G75: 28.82 | H75: =ROUND(G75*0.2359,2) -> 6.8 | I75: =G75+H75 -> 35.62
A76: =A75+1 -> 69 | B76: VP LATGALES RP DIENVIDLATGALES IECIRKŅA PREVENCIJAS GRUPA | C76: inspektors | D76: 1240 | E76: 7.425 | F76: 8 | G76: 29.7 | H76: =ROUND(G76*0.2359,2) -> 7.01 | I76: =G76+H76 -> 36.71
A77: =A76+1 -> 70 | B77: VP LATGALES RP DIENVIDLATGALES IECIRKŅA PREVENCIJAS GRUPA | C77: vecākais inspektors | D77: 1279 | E77: 7.659 | F77: 24 | G77: 91.91 | H77: =ROUND(G77*0.2359,2) -> 21.68 | I77: =G77+H77 -> 113.59
A78: =A77+1 -> 71 | B78: VP LATGALES RP DIENVIDLATGALES IECIRKŅA PREVENCIJAS GRUPA | C78: vecākais inspektors | D78: 1255 | E78: 7.515 | F78: 16 | G78: 60.12 | H78: =ROUND(G78*0.2359,2) -> 14.18 | I78: =G78+H78 -> 74.3
... A92: =A91+1 -> 85 | B92: VP LATGALES RP DIENVIDLATGALES IECIRKŅA REAĢĒŠANAS NODAĻAS 10.GRUPA | C92: inspektors | D92: 1263 | E92: 7.578 | F92: 16 | G92: 60.62 | H92: =ROUND(G92*0.2359,2) -> 14.3 | I92: =G92+H92 -> 74.92
A93: =A92+1 -> 86 | B93: VP LATGALES RP DIENVIDLATGALES IECIRKŅA REAĢĒŠANAS NODAĻAS 10.GRUPA | C93: inspektors | D93: 1263 | E93: 7.563 | F93: 8 | G93: 30.25 | H93: =ROUNDDOWN(G93*0.2359,2)-0.01 -> 7.12 | I93: =G93+H93 -> 37.37
A94: =A93+1 -> 87 | B94: VP LATGALES RP DIENVIDLATGALES IECIRKŅA REAĢĒŠANAS NODAĻAS 10.GRUPA | C94: vecākais inspektors | D94: 1255 | E94: 7.515 | F94: 16 | G94: 60.12 | H94: =ROUNDUP(G94*0.2359,2) -> 14.19 | I94: =G94+H94 -> 74.31
A95: =A94+1 -> 88 | B95: VP LATGALES RP DIENVIDLATGALES IECIRKŅA REAĢĒŠANAS NODAĻAS 10.GRUPA | C95: galvenais inspektors | D95: 1838 | E95: 11.017 | F95: 32 | G95: 176.27 | H95: =ROUND(G95*0.2359,2) -> 41.58 | I95: =G95+H95 -> 217.85
A96: =A95+1 -> 89 | B96: VP LATGALES RP DIENVIDLATGALES IECIRKŅA REAĢĒŠANAS NODAĻAS 10.GRUPA | C96: vecākais inspektors | D96: 1235 | E96: 7.425 | F96: 8 | G96: 29.7 | H96: =ROUND(G96*0.2359,2) -> 7.01 | I96: =G96+H96 -> 36.71
A97: =A96+1 -> 90 | B97: VP LATGALES RP DIENVIDLATGALES IECIRKŅA REAĢĒŠANAS NODAĻAS 10.GRUPA | C97: inspektors | D97: 1200 | E97: 7.186 | F97: 16 | G97: 57.49 | H97: =ROUND(G97*0.2359,2) -> 13.56 | I97: =G97+H97 -> 71.05
A98: =A97+1 -> 91 | B98: VP LATGALES RP DIENVIDLATGALES IECIRKŅA REAĢĒŠANAS NODAĻAS 10.GRUPA | C98: inspektors | D98: 1200 | E98: 7.2 | F98: 16 | G98: 57.6 | H98: =ROUND(G98*0.2359,2) -> 13.59 | I98: =G98+H98 -> 71.19
A99: =A98+1 -> 92 | B99: VP LATGALES RP DIENVIDLATGALES IECIRKŅA REAĢĒŠANAS NODAĻAS 2.GRUPA | C99: vecākais inspektors | D99: 1255 | E99: 7.518 | F99: 26 | G99: 97.73 | H99: =ROUND(G99*0.2359,2) -> 23.05 | I99: =G99+H99 -> 120.78
A100: =A99+1 -> 93 | B100: VP LATGALES RP DIENVIDLATGALES IECIRKŅA REAĢĒŠANAS NODAĻAS 2.GRUPA | C100: vecākais inspektors | D100: 1215 | E100: 7.279 | F100: 18 | G100: 65.51 | H100: =ROUND(G100*0.2359,2) -> 15.45 | I100: =G100+H100 -> 80.96
A101: =A100+1 -> 94 | B101: VP LATGALES RP DIENVIDLATGALES IECIRKŅA REAĢĒŠANAS NODAĻAS 2.GRUPA | C101: inspektors | D101: 1200 | E101: 7.185 | F101: 8 | G101: 28.74 | H101: =ROUND(G101*0.2359,2) -> 6.78 | I101: =G101+H101 -> 35.52
A102: =A101+1 -> 95 | B102: VP LATGALES RP DIENVIDLATGALES IECIRKŅA REAĢĒŠANAS NODAĻAS 2.GRUPA | C102: galvenais inspektors | D102: 1232 | E102: 7.384 | F102: 10 | G102: 36.92 | H102: =ROUND(G102*0.2359,2) -> 8.71 | I102: =G102+H102 -> 45.63
A103: =A102+1 -> 96 | B103: VP LATGALES RP DIENVIDLATGALES IECIRKŅA REAĢĒŠANAS NODAĻAS 3.GRUPA | C103: vecākais inspektors | D103: 1255 | E103: 7.515 | F103: 8 | G103: 30.06 | H103: =ROUND(G103*0.2359,2) -> 7.09 | I103: =G103+H103 -> 37.15
A104: =A103+1 -> 97 | B104: VP LATGALES RP DIENVIDLATGALES IECIRKŅA REAĢĒŠANAS NODAĻAS 3.GRUPA | C104: galvenais inspektors | D104: 1208 | E104: 7.243 | F104: 24 | G104: 86.92 | H104: =ROUND(G104*0.2359,2) -> 20.5 | I104: =G104+H104 -> 107.42
A105: =A104+1 -> 98 | B105: VP LATGALES RP DIENVIDLATGALES IECIRKŅA REAĢĒŠANAS NODAĻAS 3.GRUPA | C105: inspektors | D105: 1200 | E105: 7.215 | F105: 8 | G105: 28.86 | H105: =ROUND(G105*0.2359,2) -> 6.81 | I105: =G105+H105 -> 35.67
A106: =A105+1 -> 99 | B106: VP LATGALES RP DIENVIDLATGALES IECIRKŅA REAĢĒŠANAS NODAĻAS 3.GRUPA | C106: inspektors | D106: 1180 | E106: 7.095 | F106: 8 | G106: 28.38 | H106: =ROUND(G106*0.2359,2) -> 6.69 | I106: =G106+H106 -> 35.07
... A108: =A107+1 -> 101 | B108: VP LATGALES RP DIENVIDLATGALES IECIRKŅA REAĢĒŠANAS NODAĻAS 4.GRUPA | C108: jaunākais inspektors | D108: 1083 | E108: 6.485 | F108: 8 | G108: 25.94 | H108: =ROUND(G108*0.2359,2) -> 6.12 | I108: =G108+H108 -> 32.06
A109: =A108+1 -> 102 | B109: VP LATGALES RP DIENVIDLATGALES IECIRKŅA REAĢĒŠANAS NODAĻAS 4.GRUPA | C109: vecākais inspektors | D109: 1375 | E109: 8.234 | F109: 16 | G109: 65.87 | H109: 14.45 | I109: =G109+H109 -> 80.32 | J109: *
A110: =A109+1 -> 103 | B110: VP LATGALES RP DIENVIDLATGALES IECIRKŅA REAĢĒŠANAS NODAĻAS 4.GRUPA | C110: inspektors | D110: 1243 | E110: 7.443 | F110: 8 | G110: 29.77 | H110: =ROUND(G110*0.2359,2) -> 7.02 | I110: =G110+H110 -> 36.79
A111: =A110+1 -> 104 | B111: VP LATGALES RP DIENVIDLATGALES IECIRKŅA REAĢĒŠANAS NODAĻAS 4.GRUPA | C111: inspektors | D111: 1200 | E111: 7.185 | F111: 8 | G111: 28.74 | H111: =ROUND(G111*0.2359,2) -> 6.78 | I111: =G111+H111 -> 35.52
A112: =A111+1 -> 105 | B112: VP LATGALES RP DIENVIDLATGALES IECIRKŅA REAĢĒŠANAS NODAĻAS 4.GRUPA | C112: inspektors | D112: 1263 | E112: 7.563 | F112: 8 | G112: 30.25 | H112: =ROUNDDOWN(G112*0.2359,2) -> 7.13 | I112: =G112+H112 -> 37.38
A113: =A112+1 -> 106 | B113: VP LATGALES RP DIENVIDLATGALES IECIRKŅA REAĢĒŠANAS NODAĻAS 5.GRUPA | C113: vecākais inspektors | D113: 1235 | E113: 7.395 | F113: 16 | G113: 59.16 | H113: =ROUND(G113*0.2359,2) -> 13.96 | I113: =G113+H113 -> 73.12
A114: =A113+1 -> 107 | B114: VP LATGALES RP DIENVIDLATGALES IECIRKŅA REAĢĒŠANAS NODAĻAS 5.GRUPA | C114: inspektors | D114: 1220 | E114: 7.305 | F114: 8 | G114: 29.22 | H114: =ROUND(G114*0.2359,2) -> 6.89 | I114: =G114+H114 -> 36.11
A115: =A114+1 -> 108 | B115: VP LATGALES RP DIENVIDLATGALES IECIRKŅA REAĢĒŠANAS NODAĻAS 5.GRUPA | C115: vecākais inspektors | D115: 1195 | E115: 7.156 | F115: 16 | G115: 57.25 | H115: =ROUND(G115*0.2359,2) -> 13.51 | I115: =G115+H115 -> 70.76
A116: =A115+1 -> 109 | B116: VP LATGALES RP DIENVIDLATGALES IECIRKŅA REAĢĒŠANAS NODAĻAS 5.GRUPA | C116: jaunākais inspektors | D116: 1003 | E116: 6.005 | F116: 8 | G116: 24.02 | H116: =ROUND(G116*0.2359,2) -> 5.67 | I116: =G116+H116 -> 29.69
A117: =A116+1 -> 110 | B117: VP LATGALES RP DIENVIDLATGALES IECIRKŅA REAĢĒŠANAS NODAĻAS 5.GRUPA | C117: inspektors | D117: 1160 | E117: 6.975 | F117: 8 | G117: 27.9 | H117: =ROUND(G117*0.2359,2) -> 6.58 | I117: =G117+H117 -> 34.48
A118: =A117+1 -> 111 | B118: VP LATGALES RP DIENVIDLATGALES IECIRKŅA REAĢĒŠANAS NODAĻAS 6.GRUPA | C118: jaunākais inspektors | D118: 1083 | E118: 6.485 | F118: 32 | G118: 103.76 | H118: =ROUND(G118*0.2359,2) -> 24.48 | I118: =G118+H118 -> 128.24
A119: =A118+1 -> 112 | B119: VP LATGALES RP DIENVIDLATGALES IECIRKŅA REAĢĒŠANAS NODAĻAS 6.GRUPA | C119: jaunākais inspektors | D119: 1063 | E119: 6.365 | F119: 16 | G119: 50.92 | H119: =ROUND(G119*0.2359,2) -> 12.01 | I119: =G119+H119 -> 62.93
A120: =A119+1 -> 113 | B120: VP LATGALES RP DIENVIDLATGALES IECIRKŅA REAĢĒŠANAS NODAĻAS 6.GRUPA | C120: jaunākais inspektors | D120: 1063 | E120: 6.37 | F120: 10 | G120: 31.85 | H120: =ROUND(G120*0.2359,2) -> 7.51 | I120: =G120+H120 -> 39.36
A121: =A120+1 -> 114 | B121: VP LATGALES RP DIENVIDLATGALES IECIRKŅA REAĢĒŠANAS NODAĻAS 7.GRUPA | C121: inspektors | D121: 1220 | E121: 7.305 | F121: 8 | G121: 29.22 | H121: =ROUND(G121*0.2359,2) -> 6.89 | I121: =G121+H121 -> 36.11
...

Sheet 2.tabula
I1: 2.pielikuma 2.tabula
A2: Valsts policija
A3: Precizējums_Piemaksa par nakts darbu amatpersonām ar speciālajām dienesta pakāpēm, kuras laika periodā no 2023.gada 1.aprīļa līdz 30.aprīlim tika iesaistītas atbalsta sniegšanā Valsts robežsardzei Latvijas Republikas-Baltkrievijas Republikas valsts robežas robežuzraudzības nodrošināšanā
E4: 167
A5: Nr. p.k. | B5: Struktūrvienība | C5: Amats | D5: Mēnešalga amatpersonām ar speciālajām pakāpēm | E5: Stundas likme | F5: Stundu skaits | G5: Piemaksa par nakts darbu | H5: DD VSAOI | I5: Atlīdzība
A6: kopā | F6: =SUM(F8:F8) -> -73.5 | G6: =SUM(G8:G8) -> -337.14 | H6: =SUM(H8:H8) -> -79.53 | I6: =SUM(I8:I8) -> -416.67
B7: LATGALES REĢIONA PĀRVALDE
A8: 1 | B8: VP LATGALES RP ZIEMEĻLATGALES IECIRKŅA IZMEKLĒŠANAS NODAĻAS 4.GRUPA | C8: inspektors* | D8: 1532 | E8: =ROUND(D8/$E$4,2) -> 9.17 | F8: -73.5 | G8: -337.14 | H8: =ROUND(G8*0.2359,2) -> -79.53 | I8: =G8+H8 -> -416.67
B9: *bija jāveic samaksas par virsstundu darbu aprēķins par laika periodu 01.01.-30.04., bet kļūdaini tika aprēķināta piemaksa par nakts darbu

Sheet  3.tabula
I1: 2.pielikuma 3.tabula
A2: Valsts policija
A3: Precizējums_Detalizēts aprēķins samaksai par virsstundu darbu amatpersonām ar speciālo dienesta pakāpi, sniedzot atbalstu Valsts robežsardzei Latvijas Republikas-Baltkrievijas Republikas valsts robežas nelikumīgas šķērsošanas nodrošināšanā, par laika periodu no 2023.gada 01.aprīļa līdz 30.aprīlim
E4: 167
A5: Nr. p.k. | B5: Struktūrvienība | C5: Amats | D5: Mēnešalga amatpersonām ar speciālajām pakāpēm | E5: Stundas likme | F5: Stundu skaits | G5: Samaksa par virsstundu darbu | H5: DD VSAOI | I5: Atlīdzība
A6: kopā | F6: =SUM(F7:F9) -> 87.5 | G6: =SUM(G7:G9) -> 1546.43 | H6: =SUM(H7:H9) -> 364.8 | I6: =SUM(I7:I9) -> 1911.23
B7: LATGALES REĢIONA PĀRVALDE
A8: 1 | B8: VP LATGALES RP ZIEMEĻLATGALES IECIRKŅA IZMEKLĒŠANAS NODAĻAS 4.GRUPA | C8: inspektors* | D8: 1532 | E8: =ROUND(D8/$E$4,3) -> 9.174 | F8: 73.5 | G8: 1348.58 | H8: =ROUNDDOWN(G8*0.2359,2) -> 318.13 | I8: =G8+H8 -> 1666.71
A9: 2 | B9: VP LATGALES RP DIENVIDLATGALES IECIRKŅA REAĢĒŠANAS NODAĻAS 9.GRUPA | C9: inspektors | D9: 1180 | E9: =ROUND(D9/$E$4,3) -> 7.066 | F9: 14 | G9: 197.85 | H9: =ROUND(G9*0.2359,2) -> 46.67 | I9: =G9+H9 -> 244.52
B10: *bija jāveic samaksas par virsstundu darbu aprēķins par laika periodu 01.01.-30.04., bet kļūdaini tika aprēķināta piemaksa par nakts darbu

Sheet 4.tabula
I1: 2.pielikuma 4.tabula
A2: Valsts policija
A3: Detalizēts aprēķins piemaksai par darbu svētku dienās amatpersonām ar speciālo dienesta pakāpi, sniedzot atbalstu Valsts robežsardzei Latvijas Republikas-Baltkrievijas Republikas valsts robežas nelikumīgas šķērsošanas nodrošināšanā, par laika periodu no 2023.gada 1.maija līdz 31.maijam (par 01.05., 04.05., 14.05., 28.05. un 29.05.)
E4: 167
A5: Nr. p.k. | B5: Struktūrvienība | C5: Amats | D5: Mēnešalga amatpersonām ar speciālajām pakāpēm | E5: Stundas likme | F5: Stundu skaits | G5: Piemaksa par darbu svētku dienās | H5: DD VSAOI | I5: Atlīdzība
A6: kopā | F6: =SUM(F7:F185) -> 2385.75 | G6: =SUM(G7:G185) -> 19085.64 | H6: =SUM(H7:H185) -> 4499.6 | I6: =SUM(I7:I185) -> 23585.24
B7: LATGALES REĢIONA PĀRVALDE
A8: 1 | B8: VP LATGALES RP ZIEMEĻLATGALES IECIRKŅA IZMEKLĒŠANAS NODAĻAS 2.GRUPA | C8: inspektors | D8: 1387 | E8: 8.305 | F8: 10.5 | G8: 87.2 | H8: =ROUND(G8*0.2359,2) -> 20.57 | I8: =G8+H8 -> 107.77
A9: 2 | B9: VP LATGALES RP DIENVIDLATGALES IECIRKŅA REAĢĒŠANAS NODAĻAS 3.GRUPA | C9: vecākais inspektors | D9: 1412 | E9: 8.456 | F9: 9 | G9: 76.1 | H9: =ROUND(G9*0.2359,2) -> 17.95 | I9: =G9+H9 -> 94.05
A10: 3 | B10: VP LATGALES RP DIENVIDLATGALES IECIRKŅA REAĢĒŠANAS NODAĻAS 7.GRUPA | C10: inspektors | D10: 1220 | E10: 7.306 | F10: 5 | G10: 36.53 | H10: =ROUND(G10*0.2359,2) -> 8.62 | I10: =G10+H10 -> 45.15
A11: 4 | B11: VP LATGALES RP DIENVIDLATGALES IECIRKŅA REAĢĒŠANAS NODAĻAS 1.GRUPA | C11: inspektors | D11: 1220 | E11: 7.305 | F11: 11 | G11: 80.36 | H11: =ROUND(G11*0.2359,2) -> 18.96 | I11: =G11+H11 -> 99.32
A12: 5 | B12: VP LATGALES RP ZIEMEĻLATGALES IECIRKŅA PREVENCIJAS GRUPA | C12: vecākais inspektors | D12: 1279 | E12: 7.659 | F12: 30 | G12: 229.77 | H12: =ROUND(G12*0.2359,2) -> 54.2 | I12: =G12+H12 -> 283.97
A13: 6 | B13: VP LATGALES RP KRIMPB KRIMINĀLIZLŪKOŠANAS INFORMĀCIJAS ANALĪZES GRUPA | C13: vecākais inspektors | D13: 1468 | E13: 8.79 | F13: 20 | G13: 175.8 | H13: =ROUND(G13*0.2359,2) -> 41.47 | I13: =G13+H13 -> 217.27
A14: 7 | B14: VP LATGALES RP DIENVIDLATGALES IECIRKŅA IZMEKLĒŠANAS NODAĻAS 7.GRUPA | C14: vecākais inspektors | D14: 1255 | E14: 7.516 | F14: 5 | G14: 37.58 | H14: =ROUND(G14*0.2359,2) -> 8.87 | I14: =G14+H14 -> 46.45
A15: 8 | B15: VP LATGALES RP ZIEMEĻLATGALES IECIRKŅA IZMEKLĒŠANAS NODAĻAS 3.GRUPA | C15: vecākais inspektors | D15: 1438 | E15: 8.611 | F15: 10.75 | G15: 92.57 | H15: =ROUND(G15*0.2359,2) -> 21.84 | I15: =G15+H15 -> 114.41
A16: 9 | B16: VP LATGALES RP ZIEMEĻLATGALES IECIRKŅA REAĢĒŠANAS NODAĻAS 7.GRUPA | C16: vecākais inspektors | D16: 1255 | E16: 7.545 | F16: 16 | G16: 120.72 | H16: =ROUND(G16*0.2359,2)+0.01 -> 28.49 | I16: =G16+H16 -> 149.21
A17: 10 | B17: VP LATGALES RP DIENVIDLATGALES IECIRKŅA REAĢĒŠANAS NODAĻAS 6.GRUPA | C17: jaunākais inspektors | D17: 1083 | E17: 6.486 | F17: 5 | G17: 32.43 | H17: =ROUND(G17*0.2359,2) -> 7.65 | I17: =G17+H17 -> 40.08
A18: 11 | B18: VP LATGALES RP DIENVIDLATGALES IECIRKŅA IZMEKLĒŠANAS NODAĻAS 2.GRUPA | C18: galvenais inspektors | D18: 1468 | E18: 8.825 | F18: 4 | G18: 35.3 | H18: =ROUND(G18*0.2359,2) -> 8.33 | I18: =G18+H18 -> 43.63
A19: 12 | B19: VP LATGALES RP DIENVIDLATGALES IECIRKŅA IZMEKLĒŠANAS NODAĻAS 6.GRUPA | C19: galvenais inspektors | D19: 1448 | E19: 8.671 | F19: 9 | G19: 78.04 | H19: =ROUND(G19*0.2359,2) -> 18.41 | I19: =G19+H19 -> 96.45
A20: 13 | B20: VP LATGALES RP ZIEMEĻLATGALES IECIRKŅA IZMEKLĒŠANAS NODAĻAS 8.GRUPA | C20: inspektors | D20: 1903 | E20: 11.396 | F20: 5 | G20: 56.98 | H20: =ROUND(G20*0.2359,2) -> 13.44 | I20: =G20+H20 -> 70.42
A21: 14 | B21: VP LATGALES RP ZIEMEĻLATGALES IECIRKŅA IZMEKLĒŠANAS NODAĻAS 4.GRUPA | C21: inspektors | D21: 1532 | E21: 9.174 | F21: 15 | G21: 137.61 | H21: =ROUND(G21*0.2359,2) -> 32.46 | I21: =G21+H21 -> 170.07
A22: 15 | B22: VP LATGALES RP ZIEMEĻLATGALES IECIRKŅA REAĢĒŠANAS NODAĻAS 3.GRUPA | C22: inspektors | D22: 1296 | E22: 7.76 | F22: 15.5 | G22: 120.28 | H22: =ROUND(G22*0.2359,2) -> 28.37 | I22: =G22+H22 -> 148.65
A23: 16 | B23: VP LATGALES RP KĀRTPB ATĻAUJU SISTĒMAS GRUPA | C23: vecākais inspektors | D23: 1240 | E23: 7.445 | F23: 15 | G23: 111.68 | H23: =ROUND(G23*0.2359,2) -> 26.35 | I23: =G23+H23 -> 138.03
A24: 17 | B24: VP LATGALES RP DIENVIDLATGALES IECIRKŅA REAĢĒŠANAS NODAĻAS 1.GRUPA | C24: inspektors | D24: 1240 | E24: 7.426 | F24: 9 | G24: 66.83 | H24: =ROUND(G24*0.2359,2) -> 15.77 | I24: =G24+H24 -> 82.6
A25: 18 | B25: VP LATGALES RP ZIEMEĻLATGALES IECIRKŅA IZMEKLĒŠANAS NODAĻAS 3.GRUPA | C25: inspektors | D25: 1392 | E25: 8.335 | F25: 4.75 | G25: 39.59 | H25: =ROUND(G25*0.2359,2) -> 9.34 | I25: =G25+H25 -> 48.93
A26: 19 | B26: VP LATGALES REĢIONA PĀRVALDES DISCIPLINĀRĀS UZRAUDZĪBAS GRUPA | C26: galvenais inspektors | D26: 1486 | E26: 8.898 | F26: 30 | G26: 266.94 | H26: =ROUND(G26*0.2359,2) -> 62.97 | I26: =G26+H26 -> 329.91
A27: 20 | B27: VP LATGALES RP KĀRTPB RESURSU UN KRĪZES VADĪBAS NODAĻA | C27: nodaļas priekšnieks | D27: 1474 | E27: 8.826 | F27: 30 | G27: 264.78 | H27: =ROUND(G27*0.2359,2) -> 62.46 | I27: =G27+H27 -> 327.24
A28: 21 | B28: VP LATGALES RP KĀRTPB ATĻAUJU SISTĒMAS GRUPA | C28: inspektors | D28: 1176 | E28: 7.042 | F28: 11 | G28: 77.46 | H28: =ROUND(G28*0.2359,2) -> 18.27 | I28: =G28+H28 -> 95.73
... A37: 30 | B37: VP LATGALES RP KRIMPB ORGANIZĒTĀS NOZIEDZĪBAS SMAGO UN SĒRIJVEIDA NOZIEGUMU APKAROŠANAS NODAĻA | C37: vecākais inspektors | D37: 1488 | E37: 8.91 | F37: 20 | G37: 178.2 | H37: =ROUND(G37*0.2359,2) -> 42.04 | I37: =G37+H37 -> 220.24
A38: 31 | B38: VP LATGALES RP ZIEMEĻLATGALES IECIRKNIS | C38: iecirkņa priekšnieka vietnieks, Izmeklēšanas nodaļas priekšnieks | D38: 1903 | E38: 11.395 | F38: 10 | G38: 113.95 | H38: =ROUND(G38*0.2359,2)+0.01 -> 26.89 | I38: =G38+H38 -> 140.84
A39: 32 | B39: VP LATGALES RP ZIEMEĻLATGALES IECIRKŅA REAĢĒŠANAS NODAĻAS 8.GRUPA | C39: vecākais inspektors | D39: 1279 | E39: 7.659 | F39: 11 | G39: 84.25 | H39: =ROUND(G39*0.2359,2) -> 19.87 | I39: =G39+H39 -> 104.12
A40: 33 | B40: VP LATGALES RP ZIEMEĻLATGALES IECIRKŅA REAĢĒŠANAS NODAĻAS 5.GRUPA | C40: vecākais inspektors | D40: 1464 | E40: 8.766 | F40: 15.5 | G40: 135.87 | H40: =ROUND(G40*0.2359,2) -> 32.05 | I40: =G40+H40 -> 167.92
A41: 34 | B41: VP LATGALES RP ZIEMEĻLATGALES IECIRKŅA REAĢĒŠANAS NODAĻAS 1.GRUPA | C41: vecākais inspektors | D41: 1235 | E41: 7.395 | F41: 14 | G41: 103.53 | H41: =ROUND(G41*0.2359,2) -> 24.42 | I41: =G41+H41 -> 127.95
A42: 35 | B42: VP LATGALES RP ZIEMEĻLATGALES IECIRKŅA IZMEKLĒŠANAS NODAĻAS 9.GRUPA | C42: galvenais inspektors | D42: 1412 | E42: 8.49 | F42: 4 | G42: 33.96 | H42: =ROUND(G42*0.2359,2)+0.01 -> 8.02 | I42: =G42+H42 -> 41.98
A43: 36 | B43: VP LATGALES RP ZIEMEĻLATGALES IECIRKŅA REAĢĒŠANAS NODAĻAS 6.GRUPA | C43: vecākais inspektors | D43: 1279 | E43: 7.659 | F43: 15.5 | G43: 118.71 | H43: =ROUND(G43*0.2359,2) -> 28 | I43: =G43+H43 -> 146.71
A44: 37 | B44: VP LATGALES RP DIENVIDLATGALES IECIRKŅA REAĢĒŠANAS NODAĻAS 10.GRUPA | C44: inspektors | D44: 1200 | E44: 7.215 | F44: 14 | G44: 101.01 | H44: =ROUND(G44*0.2359,2) -> 23.83 | I44: =G44+H44 -> 124.84
A45: 38 | B45: VP LATGALES RP ZIEMEĻLATGALES IECIRKŅA IZMEKLĒŠANAS NODAĻAS 1.GRUPA | C45: inspektors | D45: 1412 | E45: 8.455 | F45: 15 | G45: 126.83 | H45: =ROUND(G45*0.2359,2) -> 29.92 | I45: =G45+H45 -> 156.75
A46: 39 | B46: VP LATGALES RP ZIEMEĻLATGALES IECIRKŅA REAĢĒŠANAS NODAĻAS 4.GRUPA | C46: vecākais inspektors | D46: 1235 | E46: 7.396 | F46: 5 | G46: 36.98 | H46: =ROUND(G46*0.2359,2) -> 8.72 | I46: =G46+H46 -> 45.7
A47: 40 | B47: VP LATGALES RP ZIEMEĻLATGALES IECIRKŅA REAĢĒŠANAS NODAĻAS 7.GRUPA | C47: vecākais inspektors | D47: 1255 | E47: 7.545 | F47: 14 | G47: 105.63 | H47: =ROUND(G47*0.2359,2) -> 24.92 | I47: =G47+H47 -> 130.55
A48: 41 | B48: VP LATGALES RP DIENVIDLATGALES IECIRKŅA IZMEKLĒŠANAS NODAĻAS 8.GRUPA | C48: vecākais inspektors | D48: 1255 | E48: 7.515 | F48: 10 | G48: 75.15 | H48: =ROUND(G48*0.2359,2) -> 17.73 | I48: =G48+H48 -> 92.88
A49: 42 | B49: VP LATGALES RP KĀRTPB RESURSU UN KRĪZES VADĪBAS NODAĻA | C49: jaunākais inspektors | D49: 1123 | E49: 6.726 | F49: 5 | G49: 33.63 | H49: =ROUND(G49*0.2359,2) -> 7.93 | I49: =G49+H49 -> 41.56
A50: 43 | B50: VP LATGALES RP DIENVIDLATGALES IECIRKŅA REAĢĒŠANAS NODAĻAS 9.GRUPA | C50: vecākais inspektors | D50: 1279 | E50: 7.659 | F50: 13 | G50: 99.57 | H50: =ROUND(G50*0.2359,2) -> 23.49 | I50: =G50+H50 -> 123.06
A51: 44 | B51: VP LATGALES RP DIENVIDLATGALES IECIRKŅA REAĢĒŠANAS NODAĻAS 5.GRUPA | C51: vecākais inspektors | D51: 1235 | E51: 7.395 | F51: 4 | G51: 29.58 | H51: =ROUND(G51*0.2359,2) -> 6.98 | I51: =G51+H51 -> 36.56
A52: 45 | B52: VP LATGALES RP KRIMPB EKONOMISKO NOZIEGUMU APKAROŠANAS NODAĻA | C52: vecākais inspektors | D52: 1488 | E52: 8.91 | F52: 15 | G52: 133.65 | H52: =ROUND(G52*0.2359,2) -> 31.53 | I52: =G52+H52 -> 165.18
A53: 46 | B53: VP LATGALES RP DIENVIDLATGALES IECIRKŅA PREVENCIJAS GRUPA | C53: vecākais inspektors | D53: 1239 | E53: 7.45 | F53: 5 | G53: 37.25 | H53: =ROUND(G53*0.2359,2) -> 8.79 | I53: =G53+H53 -> 46.04
A54: 47 | B54: VP LATGALES RP ZIEMEĻLATGALES IECIRKŅA REAĢĒŠANAS NODAĻAS 4.GRUPA | C54: jaunākais inspektors | D54: 1063 | E54: 6.365 | F54: 14 | G54: 89.11 | H54: =ROUND(G54*0.2359,2) -> 21.02 | I54: =G54+H54 -> 110.13
... A65: 58 | B65: VP LATGALES RP DIENVIDLATGALES IECIRKŅA REAĢĒŠANAS NODAĻAS 5.GRUPA | C65: inspektors | D65: 1220 | E65: 7.305 | F65: 13 | G65: 94.97 | H65: =ROUND(G65*0.2359,2) -> 22.4 | I65: =G65+H65 -> 117.37
A66: 59 | B66: VP LATGALES RP DIENVIDLATGALES IECIRKŅA IZMEKLĒŠANAS NODAĻAS 5.GRUPA | C66: inspektors | D66: 1392 | E66: 8.335 | F66: 15 | G66: 125.03 | H66: =ROUND(G66*0.2359,2)+0.01 -> 29.5 | I66: =G66+H66 -> 154.53
A67: 60 | B67: VP LATGALES RP DIENVIDLATGALES IECIRKŅA IZMEKLĒŠANAS NODAĻAS 5.GRUPA | C67: galvenais inspektors | D67: 1762 | E67: 10.551 | F67: 9 | G67: 94.96 | H67: =ROUND(G67*0.2359,2) -> 22.4 | I67: =G67+H67 -> 117.36
A68: 61 | B68: VP LATGALES RP ZIEMEĻLATGALES IECIRKŅA IZMEKLĒŠANAS NODAĻAS 1.GRUPA | C68: vecākais inspektors | D68: 1438 | E68: 8.611 | F68: 4.75 | G68: 40.9 | H68: =ROUND(G68*0.2359,2) -> 9.65 | I68: =G68+H68 -> 50.55
A69: 62 | B69: VP LATGALES RP ZIEMEĻLATGALES IECIRKŅA IZMEKLĒŠANAS NODAĻAS 1.GRUPA | C69: vecākais inspektors | D69: 1464 | E69: 8.765 | F69: 5.5 | G69: 48.21 | H69: =ROUND(G69*0.2359,2) -> 11.37 | I69: =G69+H69 -> 59.58
A70: 63 | B70: VP LATGALES RP ZIEMEĻLATGALES IECIRKŅA IZMEKLĒŠANAS NODAĻAS 7.GRUPA | C70: vecākais inspektors | D70: 1235 | E70: 7.395 | F70: 4 | G70: 29.58 | H70: =ROUND(G70*0.2359,2) -> 6.98 | I70: =G70+H70 -> 36.56
A71: 64 | B71: VP LATGALES RP DIENVIDLATGALES IECIRKŅA IZMEKLĒŠANAS NODAĻAS 6.GRUPA | C71: vecākais inspektors | D71: 1255 | E71: 7.515 | F71: 13 | G71: 97.7 | H71: =ROUND(G71*0.2359,2) -> 23.05 | I71: =G71+H71 -> 120.75
A72: 65 | B72: VP LATGALES RP DIENVIDLATGALES IECIRKŅA REAĢĒŠANAS NODAĻAS 8.GRUPA | C72: inspektors | D72: 1220 | E72: 7.328 | F72: 18 | G72: 131.91 | H72: =ROUND(G72*0.2359,2) -> 31.12 | I72: =G72+H72 -> 163.03
A73: 66 | B73: VP LATGALES RP KRIMPB ORGANIZĒTĀS NOZIEDZĪBAS SMAGO UN SĒRIJVEIDA NOZIEGUMU APKAROŠANAS NODAĻA | C73: inspektors | D73: 1367 | E73: 8.186 | F73: 10 | G73: 81.86 | H73: =ROUND(G73*0.2359,2) -> 19.31 | I73: =G73+H73 -> 101.17
A74: 67 | B74: VP LATGALES RP DIENVIDLATGALES IECIRKŅA REAĢĒŠANAS NODAĻAS 10.GRUPA | C74: vecākais inspektors | D74: 1255 | E74: 7.533 | F74: 23 | G74: 173.27 | H74: =ROUND(G74*0.2359,2) -> 40.87 | I74: =G74+H74 -> 214.14
A75: 68 | B75: VP LATGALES RP DIENVIDLATGALES IECIRKNIS | C75: iecirkņa priekšnieka vietnieks, Izmeklēšanas nodaļas priekšnieks | D75: 1937 | E75: 11.599 | F75: 27 | G75: 313.17 | H75: =ROUND(G75*0.2359,2) -> 73.88 | I75: =G75+H75 -> 387.05
A76: 69 | B76: VP LATGALES RP ZIEMEĻLATGALES IECIRKŅA IZMEKLĒŠANAS NODAĻAS 7.GRUPA | C76: inspektors | D76: 1263 | E76: 7.563 | F76: 14.75 | G76: 111.55 | H76: =ROUND(G76*0.2359,2) -> 26.31 | I76: =G76+H76 -> 137.86
A77: 70 | B77: VP LATGALES RP ZIEMEĻLATGALES IECIRKŅA PREVENCIJAS GRUPA | C77: inspektors | D77: 1243 | E77: 7.443 | F77: 11 | G77: 81.87 | H77: =ROUND(G77*0.2359,2) -> 19.31 | I77: =G77+H77 -> 101.18
A78: 71 | B78: VP LATGALES RP ZIEMEĻLATGALES IECIRKŅA IZMEKLĒŠANAS NODAĻAS 2.GRUPA | C78: inspektors | D78: 1438 | E78: 8.631 | F78: 27 | G78: 233.04 | H78: =ROUND(G78*0.2359,2) -> 54.97 | I78: =G78+H78 -> 288.01
... A88: 81 | B88: VP LATGALES RP KRIMPB ORGANIZĒTĀS NOZIEDZĪBAS SMAGO UN SĒRIJVEIDA NOZIEGUMU APKAROŠANAS NODAĻA | C88: vecākais inspektors | D88: 1515 | E88: 9.072 | F88: 30 | G88: 272.16 | H88: =ROUND(G88*0.2359,2) -> 64.2 | I88: =G88+H88 -> 336.36
A89: 82 | B89: VP LATGALES RP DIENVIDLATGALES IECIRKŅA IZMEKLĒŠANAS NODAĻAS 5.GRUPA | C89: inspektors | D89: 1392 | E89: 8.335 | F89: 10 | G89: 83.35 | H89: =ROUND(G89*0.2359,2)+0.01 -> 19.67 | I89: =G89+H89 -> 103.02
A90: 83 | B90: VP LATGALES RP DIENVIDLATGALES IECIRKŅA REAĢĒŠANAS NODAĻAS 8.GRUPA | C90: vecākais inspektors | D90: 1375 | E90: 8.234 | F90: 13 | G90: 107.04 | H90: =ROUND(G90*0.2359,2) -> 25.25 | I90: =G90+H90 -> 132.29
A91: 84 | B91: VP LATGALES RP KĀRTPB ATĻAUJU SISTĒMAS GRUPA | C91: galvenais inspektors | D91: 1279 | E91: 7.68 | F91: 15 | G91: 115.2 | H91: =ROUND(G91*0.2359,2) -> 27.18 | I91: =G91+H91 -> 142.38
A92: 85 | B92: VP LATGALES RP DIENVIDLATGALES IECIRKŅA IZMEKLĒŠANAS NODAĻAS 4.GRUPA | C92: inspektors | D92: 1392 | E92: 8.358 | F92: 15 | G92: 125.37 | H92: =ROUND(G92*0.2359,2) -> 29.57 | I92: =G92+H92 -> 154.94
A93: 86 | B93: VP LATGALES RP ZIEMEĻLATGALES IECIRKŅA IZMEKLĒŠANAS NODAĻAS 8.GRUPA | C93: vecākais inspektors | D93: 1372 | E93: 8.233 | F93: 20 | G93: 164.65 | H93: =ROUND(G93*0.2359,2) -> 38.84 | I93: =G93+H93 -> 203.49
A94: 87 | B94: VP LATGALES RP ZIEMEĻLATGALES IECIRKŅA REAĢĒŠANAS NODAĻAS 8.GRUPA | C94: vecākais inspektors | D94: 1418 | E94: 8.491 | F94: 11 | G94: 93.4 | H94: =ROUND(G94*0.2359,2) -> 22.03 | I94: =G94+H94 -> 115.43
A95: 88 | B95: VP LATGALES RP DIENVIDLATGALES IECIRKŅA IZMEKLĒŠANAS NODAĻAS 6.GRUPA | C95: inspektors | D95: 1243 | E95: 7.443 | F95: 26 | G95: 193.52 | H95: =ROUND(G95*0.2359,2) -> 45.65 | I95: =G95+H95 -> 239.17
A96: 89 | B96: VP LATGALES RP DIENVIDLATGALES IECIRKŅA IZMEKLĒŠANAS NODAĻAS 4.GRUPA | C96: vecākais inspektors | D96: 1584 | E96: 9.486 | F96: 5 | G96: 47.43 | H96: 10.41 | I96: =G96+H96 -> 57.84 | J96: *
A97: 90 | B97: VP LATGALES RP ZIEMEĻLATGALES IECIRKŅA PREVENCIJAS GRUPA | C97: vecākais inspektors | D97: 1448 | E97: 8.671 | F97: 30 | G97: 260.13 | H97: =ROUND(G97*0.2359,2) -> 61.36 | I97: =G97+H97 -> 321.49
A98: 91 | B98: VP LATGALES RP KRIMPB EKONOMISKO NOZIEGUMU APKAROŠANAS NODAĻA | C98: vecākais inspektors | D98: 1488 | E98: 8.91 | F98: 10 | G98: 89.1 | H98: =ROUND(G98*0.2359,2) -> 21.02 | I98: =G98+H98 -> 110.12
A99: 92 | B99: VP LATGALES RP DIENVIDLATGALES IECIRKŅA IZMEKLĒŠANAS NODAĻAS 5.GRUPA | C99: vecākais inspektors | D99: 1464 | E99: 8.766 | F99: 9 | G99: 78.89 | H99: =ROUND(G99*0.2359,2) -> 18.61 | I99: =G99+H99 -> 97.5
A100: 93 | B100: VP LATGALES RP ZIEMEĻLATGALES IECIRKŅA REAĢĒŠANAS NODAĻAS 7.GRUPA | C100: jaunākais inspektors | D100: 1083 | E100: 6.511 | F100: 16 | G100: 104.18 | H100: =ROUND(G100*0.2359,2) -> 24.58 | I100: =G100+H100 -> 128.76
A101: 94 | B101: VP LATGALES RP DIENVIDLATGALES IECIRKŅA PREVENCIJAS GRUPA | C101: galvenais inspektors | D101: 1239 | E101: 7.449 | F101: 15 | G101: 111.74 | H101: =ROUND(G101*0.2359,2) -> 26.36 | I101: =G101+H101 -> 138.1
A102: 95 | B102: VP LATGALES RP ZIEMEĻLATGALES IECIRKŅA IZMEKLĒŠANAS NODAĻAS 6.GRUPA | C102: vecākais inspektors | D102: 1464 | E102: 8.802 | F102: 5 | G102: 44.01 | H102: =ROUND(G102*0.2359,2) -> 10.38 | I102: =G102+H102 -> 54.39
A103: 96 | B103: VP LATGALES RP DIENVIDLATGALES IECIRKŅA IZMEKLĒŠANAS NODAĻAS 6.GRUPA | C103: vecākais inspektors | D103: 1279 | E103: 7.659 | F103: 13 | G103: 99.57 | H103: =ROUND(G103*0.2359,2) -> 23.49 | I103: =G103+H103 -> 123.06
A104: 97 | B104: VP LATGALES RP DIENVIDLATGALES IECIRKŅA IZMEKLĒŠANAS NODAĻAS 2.GRUPA | C104: inspektors | D104: 1392 | E104: 8.335 | F104: 10 | G104: 83.35 | H104: =ROUND(G104*0.2359,2) -> 19.66 | I104: =G104+H104 -> 103.01
A105: 98 | B105: VP LATGALES RP ZIEMEĻLATGALES IECIRKŅA IZMEKLĒŠANAS NODAĻAS 4.GRUPA | C105: galvenais inspektors | D105: 1794 | E105: 10.766 | F105: 21 | G105: 226.08 | H105: =ROUND(G105*0.2359,2) -> 53.33 | I105: =G105+H105 -> 279.41
A106: 99 | B106: VP LATGALES RP KĀRTĪBAS POLICIJAS BIROJS (LRP KĀRTPB) | C106: biroja priekšnieka vietnieks | D106: 1701 | E106: 10.186 | F106: 10 | G106: 101.86 | H106: =ROUND(G106*0.2359,2) -> 24.03 | I106: =G106+H106 -> 125.89
A107: 100 | B107: VP LATGALES RP KĀRTPB PREVENCIJAS GRUPA | C107: vecākais inspektors | D107: 1259 | E107: 7.539 | F107: 30 | G107: 226.17 | H107: =ROUND(G107*0.2359,2) -> 53.35 | I107: =G107+H107 -> 279.52
A108: =A107+1 -> 101 | B108: VP LATGALES RP KRIMPB ORGANIZĒTĀS NOZIEDZĪBAS SMAGO UN SĒRIJVEIDA NOZIEGUMU APKAROŠANAS NODAĻA | C108: vecākais inspektors | D108: 1468 | E108: 8.79 | F108: 15 | G108: 131.85 | H108: =ROUND(G108*0.2359,2) -> 31.1 | I108: =G108+H108 -> 162.95
A109: =A108+1 -> 102 | B109: VP LATGALES RP DIENVIDLATGALES IECIRKŅA IZMEKLĒŠANAS NODAĻAS 8.GRUPA | C109: galvenais inspektors | D109: 1255 | E109: 7.515 | F109: 14.5 | G109: 108.97 | H109: =ROUND(G109*0.2359,2) -> 25.71 | I109: =G109+H109 -> 134.68
A110: =A109+1 -> 103 | B110: VP LATGALES RP DIENVIDLATGALES IECIRKŅA REAĢĒŠANAS NODAĻAS 10.GRUPA | C110: vecākais inspektors | D110: 1235 | E110: 7.426 | F110: 5 | G110: 37.13 | H110: =ROUND(G110*0.2359,2) -> 8.76 | I110: =G110+H110 -> 45.89
A111: =A110+1 -> 104 | B111: VP LATGALES RP DIENVIDLATGALES IECIRKŅA REAĢĒŠANAS NODAĻAS 1.GRUPA | C111: inspektors | D111: 1240 | E111: 7.425 | F111: 4 | G111: 29.7 | H111: =ROUND(G111*0.2359,2) -> 7.01 | I111: =G111+H111 -> 36.71
A112: =A111+1 -> 105 | B112: VP LATGALES RP KĀRTPB RESURSU UN KRĪZES VADĪBAS NODAĻA | C112: galvenais inspektors | D112: 1339 | E112: 8.018 | F112: 25 | G112: 200.45 | H112: =ROUND(G112*0.2359,2) -> 47.29 | I112: =G112+H112 -> 247.74
A113: =A112+1 -> 106 | B113: VP LATGALES REĢIONA PĀRVALDES DISCIPLINĀRĀS UZRAUDZĪBAS GRUPA | C113: vecākais inspektors | D113: 1410 | E113: 8.443 | F113: 30 | G113: 253.29 | H113: =ROUND(G113*0.2359,2) -> 59.75 | I113: =G113+H113 -> 313.04
A114: =A113+1 -> 107 | B114: VP LATGALES RP ZIEMEĻLATGALES IECIRKŅA IZMEKLĒŠANAS NODAĻAS 3.GRUPA | C114: inspektors | D114: 1392 | E114: 8.335 | F114: 4.75 | G114: 39.59 | H114: =ROUND(G114*0.2359,2) -> 9.34 | I114: =G114+H114 -> 48.93
A115: =A114+1 -> 108 | B115: VP LATGALES RP DIENVIDLATGALES IECIRKŅA IZMEKLĒŠANAS NODAĻAS 3.GRUPA | C115: vecākais inspektors | D115: 1464 | E115: 8.765 | F115: 4 | G115: 35.06 | H115: =ROUND(G115*0.2359,2) -> 8.27 | I115: =G115+H115 -> 43.33
A116: =A115+1 -> 109 | B116: VP LATGALES RP ZIEMEĻLATGALES IECIRKŅA IZMEKLĒŠANAS NODAĻAS 8.GRUPA | C116: inspektors | D116: 1464 | E116: 8.779 | F116: 31 | G116: 272.14 | H116: =ROUND(G116*0.2359,2) -> 64.2 | I116: =G116+H116 -> 336.34
A117: =A116+1 -> 110 | B117: VP LATGALES RP KĀRTPB ATĻAUJU SISTĒMAS GRUPA | C117: inspektors | D117: 1220 | E117: 7.325 | F117: 15 | G117: 109.88 | H117: =ROUND(G117*0.2359,2) -> 25.92 | I117: =G117+H117 -> 135.8
A118: =A117+1 -> 111 | B118: VP LATGALES RP ZIEMEĻLATGALES IECIRKŅA IZMEKLĒŠANAS NODAĻAS 10.GRUPA | C118: inspektors | D118: 1220 | E118: 7.305 | F118: 11.5 | G118: 84.01 | H118: =ROUND(G118*0.2359,2) -> 19.82 | I118: =G118+H118 -> 103.83
A119: =A118+1 -> 112 | B119: VP LATGALES RP KĀRTPB PREVENCIJAS GRUPA | C119: vecākais inspektors | D119: 1252 | E119: 7.497 | F119: 15 | G119: 112.46 | H119: =ROUND(G119*0.2359,2) -> 26.53 | I119: =G119+H119 -> 138.99
... A173: =A172+1 -> 166 | B173: VP LATGALES RP ZIEMEĻLATGALES IECIRKŅA IZMEKLĒŠANAS NODAĻAS 10.GRUPA | C173: inspektors | D173: 1183 | E173: 7.084 | F173: 11.5 | G173: 81.47 | H173: =ROUND(G173*0.2359,2) -> 19.22 | I173: =G173+H173 -> 100.69
B174: RĪGAS REĢIONA PĀRVALDE
A175: 167 | B175: VP RĪGAS RP KĀRTPP PPP SUB 4.ROTA (LATGALES REĢIONA) | C175: jaunākais inspektors | D175: 1225 | E175: 7.365 | F175: 16 | G175: 117.84 | H175: =ROUND(G175*0.2359,2) -> 27.8 | I175: =G175+H175 -> 145.64
A176: =A175+1 -> 168 | B176: VP RĪGAS RP KĀRTPP PPP SUB 4.ROTA (LATGALES REĢIONA) | C176: jaunākais inspektors | D176: 1225 | E176: 7.347 | F176: 27 | G176: 198.38 | H176: =ROUND(G176*0.2359,2) -> 46.8 | I176: =G176+H176 -> 245.18
A177: =A176+1 -> 169 | B177: VP RĪGAS RP KĀRTPP PPP SUB 4.ROTA (LATGALES REĢIONA) | C177: rotas komandiera vietnieks | D177: 1475 | E177: 8.847 | F177: 27 | G177: 238.86 | H177: =ROUND(G177*0.2359,2) -> 56.35 | I177: =G177+H177 -> 295.21
A178: =A177+1 -> 170 | B178: VP RĪGAS RP KĀRTPP PPP SUB 4.ROTA (LATGALES REĢIONA) | C178: jaunākais inspektors | D178: 1245 | E178: 7.485 | F178: 16 | G178: 119.76 | H178: =ROUND(G178*0.2359,2) -> 28.25 | I178: =G178+H178 -> 148.01
A179: =A178+1 -> 171 | B179: VP RĪGAS RP KĀRTPP PPP SUB 4.ROTA (LATGALES REĢIONA) | C179: jaunākais inspektors | D179: 1245 | E179: 7.485 | F179: 16 | G179: 119.76 | H179: =ROUND(G179*0.2359,2) -> 28.25 | I179: =G179+H179 -> 148.01
A180: =A179+1 -> 172 | B180: VP RĪGAS RP KĀRTPP PPP SUB 4.ROTA (LATGALES REĢIONA) | C180: jaunākais inspektors | D180: 1205 | E180: 7.228 | F180: 27 | G180: 195.16 | H180: =ROUND(G180*0.2359,2) -> 46.04 | I180: =G180+H180 -> 241.2
...

Sheet 5.tabula
J1: 2.pielikuma 5.tabula
A2: Valsts policija
A3: Piemaksa par darbu paaugstināta riska un slodzes apstākļos amatpersonām ar speciālajām dienesta pakāpēm, kuras laika periodā no 2023.gada 1.maija līdz 31.maijam tika iesaistītas atbalsta sniegšanā Valsts robežsardzei Latvijas Republikas-Baltkrievijas Republikas valsts robežas robežuzraudzības nodrošināšanā
F4: 167
A5: Nr. p.k. | B5: Struktūrvienība | C5: Amats | D5: Mēnešalga amatpersonām ar speciālajām pakāpēm | E5: Piemaksas apmērs % | F5: Stundas likme | G5: Stundu skaits | H5: Piemaksa par darbu īpašos apstākļos | I5: DD VSAOI | J5: Atlīdzība
A6: kopā | G6: =SUM(G8:G472) -> 12823.5 | H6: =SUM(H8:H472) -> 21264.45 | I6: =SUM(I8:I472) -> 5010.13 | J6: =SUM(J8:J472) -> 26274.58
B7: LATGALES REĢIONA PĀRVALDE
A8: 1 | B8: VP LATGALES RP ZIEMEĻLATGALES IECIRKŅA IZMEKLĒŠANAS NODAĻAS 2.GRUPA | C8: inspektors | D8: 1387 | E8: 0.2 | F8: 8.305 | G8: 32 | H8: 53.15 | I8: =ROUND(H8*23.59%,2) -> 12.54 | J8: =H8+I8 -> 65.69
A9: 2 | B9: VP LATGALES RP DIENVIDLATGALES IECIRKŅA REAĢĒŠANAS NODAĻAS 3.GRUPA | C9: vecākais inspektors | D9: 1412 | E9: 0.2 | F9: 8.455 | G9: 37.5 | H9: 63.41 | I9: =ROUND(H9*23.59%,2) -> 14.96 | J9: =H9+I9 -> 78.37
A10: 3 | B10: VP LATGALES RP DIENVIDLATGALES IECIRKŅA REAĢĒŠANAS NODAĻAS 3.GRUPA | C10: vecākais inspektors | D10: 1412 | E10: 50% | F10: 8.453 | G10: 1.5 | H10: 6.34 | I10: =ROUND(H10*23.59%,2) -> 1.5 | J10: =H10+I10 -> 7.84
A11: 4 | B11: VP LATGALES RP ZIEMEĻLATGALES IECIRKŅA IZMEKLĒŠANAS NODAĻAS 5.GRUPA | C11: galvenais inspektors | D11: 1774 | E11: 20% | F11: 10.623 | G11: 48 | H11: 101.98 | I11: =ROUND(H11*23.59%,2) -> 24.06 | J11: =H11+I11 -> 126.04
A12: 5 | B12: VP LATGALES RP DIENVIDLATGALES IECIRKŅA REAĢĒŠANAS NODAĻAS 7.GRUPA | C12: inspektors | D12: 1220 | E12: 20% | F12: 7.306 | G12: 26 | H12: 37.99 | I12: =ROUND(H12*23.59%,2) -> 8.96 | J12: =H12+I12 -> 46.95
A13: 6 | B13: VP LATGALES RP DIENVIDLATGALES IECIRKŅA REAĢĒŠANAS NODAĻAS 7.GRUPA | C13: jaunākais inspektors | D13: 1083 | E13: 20% | F13: 6.492 | G13: 52 | H13: 67.52 | I13: =ROUND(H13*23.59%,2) -> 15.93 | J13: =H13+I13 -> 83.45
A14: 7 | B14: VP LATGALES RP DIENVIDLATGALES IECIRKŅA IZMEKLĒŠANAS NODAĻAS 5.GRUPA | C14: inspektors | D14: 1387 | E14: 20% | F14: 8.311 | G14: 31 | H14: 51.53 | I14: =ROUND(H14*23.59%,2) -> 12.16 | J14: =H14+I14 -> 63.69
A15: 8 | B15: VP LATGALES RP DIENVIDLATGALES IECIRKŅA REAĢĒŠANAS NODAĻAS 1.GRUPA | C15: inspektors | D15: 1220 | E15: 20% | F15: 7.305 | G15: 39 | H15: 56.98 | I15: =ROUND(H15*23.59%,2) -> 13.44 | J15: =H15+I15 -> 70.42
A16: 9 | B16: VP LATGALES RP ZIEMEĻLATGALES IECIRKŅA PREVENCIJAS GRUPA | C16: vecākais inspektors | D16: 1279 | E16: 20% | F16: 7.658 | G16: 24 | H16: 36.76 | I16: =ROUND(H16*23.59%,2) -> 8.67 | J16: =H16+I16 -> 45.43
A17: 10 | B17: VP LATGALES RP DIENVIDLATGALES IECIRKŅA REAĢĒŠANAS NODAĻAS 4.GRUPA | C17: vecākais inspektors | D17: 1279 | E17: 20% | F17: 7.66 | G17: 25 | H17: 38.3 | I17: =ROUND(H17*23.59%,2) -> 9.03 | J17: =H17+I17 -> 47.33
A18: 11 | B18: VP LATGALES RP ZIEMEĻLATGALES IECIRKŅA REAĢĒŠANAS NODAĻAS 9.GRUPA | C18: inspektors | D18: 1220 | E18: 20% | F18: 7.304 | G18: 23 | H18: 33.6 | I18: =ROUND(H18*23.59%,2) -> 7.93 | J18: =H18+I18 -> 41.53
A19: 12 | B19: VP LATGALES RP DIENVIDLATGALES IECIRKŅA PREVENCIJAS GRUPA | C19: inspektors | D19: 1240 | E19: 20% | F19: 7.425 | G19: 40.5 | H19: 60.14 | I19: =ROUND(H19*23.59%,2) -> 14.19 | J19: =H19+I19 -> 74.33
A20: 13 | B20: VP LATGALES RP KRIMPB KRIMINĀLIZLŪKOŠANAS INFORMĀCIJAS ANALĪZES GRUPA | C20: vecākais inspektors | D20: 1468 | E20: 20% | F20: 8.79 | G20: 20 | H20: 35.16 | I20: =ROUND(H20*23.59%,2) -> 8.29 | J20: =H20+I20 -> 43.45
A21: 14 | B21: VP LATGALES RP DIENVIDLATGALES IECIRKŅA IZMEKLĒŠANAS NODAĻAS 7.GRUPA | C21: vecākais inspektors | D21: 1255 | E21: 20% | F21: 7.516 | G21: 38.5 | H21: 57.87 | I21: =ROUND(H21*23.59%,2) -> 13.65 | J21: =H21+I21 -> 71.52
... A30: 23 | B30: VP LATGALES RP DIENVIDLATGALES IECIRKŅA IZMEKLĒŠANAS NODAĻAS 2.GRUPA | C30: galvenais inspektors | D30: 1468 | E30: 20% | F30: 8.799 | G30: 47 | H30: 82.71 | I30: =ROUND(H30*23.59%,2) -> 19.51 | J30: =H30+I30 -> 102.22
A31: 24 | B31: VP LATGALES RP DIENVIDLATGALES IECIRKŅA IZMEKLĒŠANAS NODAĻAS 2.GRUPA | C31: galvenais inspektors | D31: 1468 | E31: 50% | F31: 8.8 | G31: 0.5 | H31: 2.2 | I31: =ROUNDUP(H31*23.59%,2) -> 0.52 | J31: =H31+I31 -> 2.72
A32: 25 | B32: VP LATGALES RP ZIEMEĻLATGALES IECIRKŅA REAĢĒŠANAS NODAĻAS 10.GRUPA | C32: inspektors | D32: 1240 | E32: 20% | F32: 7.425 | G32: 22 | H32: 32.67 | I32: =ROUND(H32*23.59%,2) -> 7.71 | J32: =H32+I32 -> 40.38
A33: 26 | B33: VP LATGALES RP DIENVIDLATGALES IECIRKŅA REAĢĒŠANAS NODAĻAS 2.GRUPA | C33: vecākais inspektors | D33: 1255 | E33: 20% | F33: 7.517 | G33: 68.5 | H33: 102.98 | I33: =ROUND(H33*23.59%,2) -> 24.29 | J33: =H33+I33 -> 127.27
A34: 27 | B34: VP LATGALES RP DIENVIDLATGALES IECIRKŅA REAĢĒŠANAS NODAĻAS 2.GRUPA | C34: vecākais inspektors | D34: 1255 | E34: 50% | F34: 7.52 | G34: 0.5 | H34: 1.88 | I34: =ROUNDDOWN(H34*23.59%,2) -> 0.44 | J34: =H34+I34 -> 2.32
A35: 28 | B35: VP LATGALES RP DIENVIDLATGALES IECIRKŅA IZMEKLĒŠANAS NODAĻAS 1.GRUPA | C35: galvenais inspektors | D35: 1872 | E35: 20% | F35: 11.212 | G35: 13 | H35: 29.15 | I35: =ROUND(H35*23.59%,2) -> 6.88 | J35: =H35+I35 -> 36.03
A36: 29 | B36: VP LATGALES RP DIENVIDLATGALES IECIRKŅA IZMEKLĒŠANAS NODAĻAS 6.GRUPA | C36: vecākais inspektors | D36: 1259 | E36: 20% | F36: 7.54 | G36: 24 | H36: 36.19 | I36: =ROUND(H36*23.59%,2) -> 8.54 | J36: =H36+I36 -> 44.73
A37: 30 | B37: VP LATGALES RP ZIEMEĻLATGALES IECIRKŅA IZMEKLĒŠANAS NODAĻAS 8.GRUPA | C37: inspektors | D37: 1903 | E37: 20% | F37: 11.396 | G37: 34 | H37: 77.49 | I37: =ROUND(H37*23.59%,2) -> 18.28 | J37: =H37+I37 -> 95.77
A38: 31 | B38: VP LATGALES RP ZIEMEĻLATGALES IECIRKŅA IZMEKLĒŠANAS NODAĻAS 4.GRUPA | C38: inspektors | D38: 1532 | E38: 20% | F38: 9.174 | G38: 21.5 | H38: 39.45 | I38: =ROUND(H38*23.59%,2) -> 9.31 | J38: =H38+I38 -> 48.76
A39: 32 | B39: VP LATGALES RP ZIEMEĻLATGALES IECIRKŅA IZMEKLĒŠANAS NODAĻAS 4.GRUPA | C39: inspektors | D39: 1532 | E39: 50% | F39: 9.16 | G39: 0.5 | H39: 2.29 | I39: =ROUND(H39*23.59%,2) -> 0.54 | J39: =H39+I39 -> 2.83
A40: 33 | B40: VP LATGALES RP ZIEMEĻLATGALES IECIRKŅA REAĢĒŠANAS NODAĻAS 3.GRUPA | C40: inspektors | D40: 1296 | E40: 20% | F40: 7.76 | G40: 37.5 | H40: 58.2 | I40: =ROUND(H40*23.59%,2) -> 13.73 | J40: =H40+I40 -> 71.93
A41: 34 | B41: VP LATGALES RP KĀRTPB ATĻAUJU SISTĒMAS GRUPA | C41: vecākais inspektors | D41: 1240 | E41: 20% | F41: 7.431 | G41: 52 | H41: 77.28 | I41: =ROUND(H41*23.59%,2)+0.01 -> 18.24 | J41: =H41+I41 -> 95.52
A42: 35 | B42: VP LATGALES RP DIENVIDLATGALES IECIRKŅA REAĢĒŠANAS NODAĻAS 1.GRUPA | C42: inspektors | D42: 1240 | E42: 20% | F42: 7.425 | G42: 12 | H42: 17.82 | I42: =ROUND(H42*23.59%,2) -> 4.2 | J42: =H42+I42 -> 22.02
A43: 36 | B43: VP LATGALES RP ZIEMEĻLATGALES IECIRKŅA IZMEKLĒŠANAS NODAĻAS 3.GRUPA | C43: inspektors | D43: 1392 | E43: 20% | F43: 8.335 | G43: 37.5 | H43: 62.51 | I43: =ROUND(H43*23.59%,2) -> 14.75 | J43: =H43+I43 -> 77.26
A44: 37 | B44: VP LATGALES REĢIONA PĀRVALDES DISCIPLINĀRĀS UZRAUDZĪBAS GRUPA | C44: galvenais inspektors | D44: 1486 | E44: 20% | F44: 8.899 | G44: 34 | H44: 60.51 | I44: =ROUND(H44*23.59%,2) -> 14.27 | J44: =H44+I44 -> 74.78
A45: 38 | B45: VP LATGALES REĢIONA PĀRVALDES DISCIPLINĀRĀS UZRAUDZĪBAS GRUPA | C45: galvenais inspektors | D45: 1486 | E45: 50% | F45: 8.88 | G45: 0.5 | H45: 2.22 | I45: =ROUND(H45*23.59%,2) -> 0.52 | J45: =H45+I45 -> 2.74
A46: 39 | B46: VP LATGALES RP KĀRTPB RESURSU UN KRĪZES VADĪBAS NODAĻA | C46: nodaļas priekšnieks | D46: 1474 | E46: 20% | F46: 8.827 | G46: 26 | H46: 45.9 | I46: =ROUND(H46*23.59%,2) -> 10.83 | J46: =H46+I46 -> 56.73
A47: 40 | B47: VP LATGALES RP KĀRTPB ATĻAUJU SISTĒMAS GRUPA | C47: inspektors | D47: 1176 | E47: 20% | F47: 7.042 | G47: 36 | H47: 50.7 | I47: =ROUND(H47*23.59%,2)+0.01 -> 11.97 | J47: =H47+I47 -> 62.67
A48: 41 | B48: VP LATGALES RP DIENVIDLATGALES IECIRKŅA REAĢĒŠANAS NODAĻAS 4.GRUPA | C48: jaunākais inspektors | D48: 1083 | E48: 20% | F48: 6.485 | G48: 26 | H48: 33.72 | I48: =ROUND(H48*23.59%,2) -> 7.95 | J48: =H48+I48 -> 41.67
A49: 42 | B49: VP LATGALES RP ZIEMEĻLATGALES IECIRKŅA IZMEKLĒŠANAS NODAĻAS 5.GRUPA | C49: vecākais inspektors | D49: 1464 | E49: 20% | F49: 8.767 | G49: 24 | H49: 42.08 | I49: =ROUND(H49*23.59%,2) -> 9.93 | J49: =H49+I49 -> 52.01
A50: 43 | B50: VP LATGALES RP DIENVIDLATGALES IECIRKŅA IZMEKLĒŠANAS NODAĻAS 8.GRUPA | C50: inspektors | D50: 1240 | E50: 20% | F50: 7.425 | G50: 12 | H50: 17.82 | I50: =ROUND(H50*23.59%,2) -> 4.2 | J50: =H50+I50 -> 22.02
A51: 44 | B51: VP LATGALES RP DIENVIDLATGALES IECIRKŅA REAĢĒŠANAS NODAĻAS 10.GRUPA | C51: inspektors | D51: 1220 | E51: 20% | F51: 7.304 | G51: 24 | H51: 35.06 | I51: =ROUND(H51*23.59%,2) -> 8.27 | J51: =H51+I51 -> 43.33
A52: 45 | B52: VP LATGALES RP KRIMPB ORGANIZĒTĀS NOZIEDZĪBAS SMAGO UN SĒRIJVEIDA NOZIEGUMU APKAROŠANAS NODAĻA | C52: vecākais inspektors | D52: 1488 | E52: 20% | F52: 8.911 | G52: 23.5 | H52: 41.88 | I52: =ROUND(H52*23.59%,2) -> 9.88 | J52: =H52+I52 -> 51.76
A53: 46 | B53: VP LATGALES RP KRIMPB ORGANIZĒTĀS NOZIEDZĪBAS SMAGO UN SĒRIJVEIDA NOZIEGUMU APKAROŠANAS NODAĻA | C53: vecākais inspektors | D53: 1488 | E53: 50% | F53: 8.92 | G53: 0.5 | H53: 2.23 | I53: =ROUNDUP(H53*23.59%,2) -> 0.53 | J53: =H53+I53 -> 2.76
A54: 47 | B54: VP LATGALES RP ZIEMEĻLATGALES IECIRKŅA REAĢĒŠANAS NODAĻAS 6.GRUPA | C54: vecākais inspektors | D54: 1279 | E54: 20% | F54: 7.659 | G54: 37 | H54: 56.68 | I54: =ROUND(H54*23.59%,2) -> 13.37 | J54: =H54+I54 -> 70.05
A55: 48 | B55: VP LATGALES RP ZIEMEĻLATGALES IECIRKŅA IZMEKLĒŠANAS NODAĻAS 8.GRUPA | C55: vecākais inspektors | D55: 1255 | E55: 20% | F55: 7.515 | G55: 48 | H55: 72.14 | I55: =ROUND(H55*23.59%,2) -> 17.02 | J55: =H55+I55 -> 89.16
A56: 49 | B56: VP LATGALES RP ZIEMEĻLATGALES IECIRKŅA REAĢĒŠANAS NODAĻAS 5.GRUPA | C56: inspektors | D56: 1220 | E56: 20% | F56: 7.311 | G56: 62 | H56: 90.66 | I56: =ROUND(H56*23.59%,2) -> 21.39 | J56: =H56+I56 -> 112.05
A57: 50 | B57: VP LATGALES RP ZIEMEĻLATGALES IECIRKŅA REAĢĒŠANAS NODAĻAS 6.GRUPA | C57: galvenais inspektors | D57: 1448 | E57: 20% | F57: 8.671 | G57: 12 | H57: 20.81 | I57: =ROUND(H57*23.59%,2) -> 4.91 | J57: =H57+I57 -> 25.72
A58: 51 | B58: VP LATGALES RP ZIEMEĻLATGALES IECIRKŅA REAĢĒŠANAS NODAĻAS 8.GRUPA | C58: inspektors | D58: 1240 | E58: 20% | F58: 7.425 | G58: 48 | H58: 71.28 | I58: =ROUND(H58*23.59%,2) -> 16.81 | J58: =H58+I58 -> 88.09
A59: 52 | B59: VP LATGALES RP ZIEMEĻLATGALES IECIRKŅA REAĢĒŠANAS NODAĻAS 8.GRUPA | C59: inspektors | D59: 1240 | E59: 50% | F59: 7.427 | G59: 1.5 | H59: 5.57 | I59: =ROUND(H59*23.59%,2) -> 1.31 | J59: =H59+I59 -> 6.88
A60: 53 | B60: VP LATGALES RP ZIEMEĻLATGALES IECIRKŅA REAĢĒŠANAS NODAĻAS 4.GRUPA | C60: jaunākais inspektors | D60: 1203 | E60: 20% | F60: 7.21 | G60: 62 | H60: 89.4 | I60: =ROUND(H60*23.59%,2) -> 21.09 | J60: =H60+I60 -> 110.49
A61: 54 | B61: VP LATGALES RP ZIEMEĻLATGALES IECIRKŅA REAĢĒŠANAS NODAĻAS 6.GRUPA | C61: jaunākais inspektors | D61: 1083 | E61: 20% | F61: 6.485 | G61: 49.5 | H61: 64.2 | I61: =ROUND(H61*23.59%,2) -> 15.14 | J61: =H61+I61 -> 79.34
A62: 55 | B62: VP LATGALES RP ZIEMEĻLATGALES IECIRKŅA IZMEKLĒŠANAS NODAĻAS 6.GRUPA | C62: inspektors | D62: 1412 | E62: 20% | F62: 8.455 | G62: 10 | H62: 16.91 | I62: =ROUND(H62*23.59%,2) -> 3.99 | J62: =H62+I62 -> 20.9
A63: 56 | B63: VP LATGALES RP DIENVIDLATGALES IECIRKŅA PREVENCIJAS GRUPA | C63: vecākais inspektors | D63: 1279 | E63: 20% | F63: 7.659 | G63: 40.5 | H63: 62.04 | I63: =ROUND(H63*23.59%,2) -> 14.64 | J63: =H63+I63 -> 76.68
A64: 57 | B64: VP LATGALES RP KĀRTPB PREVENCIJAS GRUPA | C64: galvenais inspektors | D64: 1313 | E64: 20% | F64: 7.871 | G64: 39 | H64: 61.39 | I64: =ROUND(H64*23.59%,2) -> 14.48 | J64: =H64+I64 -> 75.87
A65: 58 | B65: VP LATGALES RP DIENVIDLATGALES IECIRKŅA PREVENCIJAS GRUPA | C65: vecākais inspektors | D65: 1255 | E65: 20% | F65: 7.525 | G65: 80 | H65: 120.4 | I65: =ROUND(H65*23.59%,2) -> 28.4 | J65: =H65+I65 -> 148.8
... A100: 93 | B100: VP LATGALES RP DIENVIDLATGALES IECIRKŅA IZMEKLĒŠANAS NODAĻAS 6.GRUPA | C100: inspektors | D100: 1273 | E100: 20% | F100: 7.442 | G100: 12 | H100: 17.86 | I100: =ROUND(H100*23.59%,2) -> 4.21 | J100: =H100+I100 -> 22.07
A101: 94 | B101: VP LATGALES RP DIENVIDLATGALES IECIRKŅA REAĢĒŠANAS NODAĻAS 4.GRUPA | C101: vecākais inspektors | D101: 1375 | E101: 20% | F101: 8.233 | G101: 27 | H101: 44.46 | I101: =ROUND(H101*23.59%,2)-0.74 -> 9.75 | J101: =H101+I101 -> 54.21
A102: 95 | B102: VP LATGALES RP ZIEMEĻLATGALES IECIRKŅA REAĢĒŠANAS NODAĻAS 2.GRUPA | C102: galvenais inspektors | D102: 1396 | E102: 20% | F102: 8.373 | G102: 27.5 | H102: 46.05 | I102: =ROUND(H102*23.59%,2) -> 10.86 | J102: =H102+I102 -> 56.91
A103: 96 | B103: VP LATGALES RP DIENVIDLATGALES IECIRKŅA PREVENCIJAS GRUPA | C103: vecākais inspektors | D103: 1239 | E103: 20% | F103: 7.428 | G103: 40.5 | H103: 60.17 | I103: =ROUND(H103*23.59%,2) -> 14.19 | J103: =H103+I103 -> 74.36
A104: 97 | B104: VP LATGALES RP ZIEMEĻLATGALES IECIRKŅA REAĢĒŠANAS NODAĻAS 4.GRUPA | C104: jaunākais inspektors | D104: 1063 | E104: 20% | F104: 6.367 | G104: 12 | H104: 15.28 | I104: =ROUND(H104*23.59%,2) -> 3.6 | J104: =H104+I104 -> 18.88
A105: 98 | B105: VP LATGALES RP KĀRTPB ATĻAUJU SISTĒMAS GRUPA | C105: inspektors | D105: 1176 | E105: 20% | F105: 7.041 | G105: 11 | H105: 15.49 | I105: =ROUND(H105*23.59%,2) -> 3.65 | J105: =H105+I105 -> 19.14
A106: 99 | B106: VP LATGALES RP KĀRTPB ATĻAUJU SISTĒMAS GRUPA | C106: inspektors | D106: 1176 | E106: 50% | F106: 7.04 | G106: 2 | H106: 7.04 | I106: =ROUND(H106*23.59%,2) -> 1.66 | J106: =H106+I106 -> 8.7
A107: 100 | B107: VP LATGALES RP ZIEMEĻLATGALES IECIRKŅA REAĢĒŠANAS NODAĻAS 4.GRUPA | C107: inspektors | D107: 1347 | E107: 20% | F107: 8.066 | G107: 49.5 | H107: 79.85 | I107: =ROUND(H107*23.59%,2) -> 18.84 | J107: =H107+I107 -> 98.69
A108: 101 | B108: VP LATGALES RP DIENVIDLATGALES IECIRKŅA REAĢĒŠANAS NODAĻAS 10.GRUPA | C108: inspektors | D108: 1263 | E108: 20% | F108: 7.563 | G108: 24 | H108: 36.3 | I108: =ROUND(H108*23.59%,2) -> 8.56 | J108: =H108+I108 -> 44.86
A109: 102 | B109: VP LATGALES RP ZIEMEĻLATGALES IECIRKŅA IZMEKLĒŠANAS NODAĻAS 3.GRUPA | C109: galvenais inspektors | D109: 1655 | E109: 20% | F109: 9.91 | G109: 24.5 | H109: 48.56 | I109: =ROUND(H109*23.59%,2) -> 11.46 | J109: =H109+I109 -> 60.02
A110: 103 | B110: VP LATGALES RP ZIEMEĻLATGALES IECIRKŅA IZMEKLĒŠANAS NODAĻAS 3.GRUPA | C110: galvenais inspektors | D110: 1655 | E110: 50% | F110: 9.92 | G110: 0.5 | H110: 2.48 | I110: =ROUND(H110*23.59%,2) -> 0.59 | J110: =H110+I110 -> 3.07
A111: 104 | B111: VP LATGALES RP DIENVIDLATGALES IECIRKŅA IZMEKLĒŠANAS NODAĻAS 1.GRUPA | C111: inspektors | D111: 1392 | E111: 20% | F111: 8.345 | G111: 42.5 | H111: 70.93 | I111: =ROUND(H111*23.59%,2) -> 16.73 | J111: =H111+I111 -> 87.66
A112: 105 | B112: VP LATGALES RP KĀRTPB RESURSU UN KRĪZES VADĪBAS NODAĻA | C112: operatīvais dežurants | D112: 1415 | E112: 20% | F112: 8.488 | G112: 65 | H112: 110.35 | I112: =ROUND(H112*23.59%,2) -> 26.03 | J112: =H112+I112 -> 136.38
A113: 106 | B113: VP LATGALES RP DIENVIDLATGALES IECIRKŅA IZMEKLĒŠANAS NODAĻAS 1.GRUPA | C113: inspektors | D113: 1367 | E113: 20% | F113: 8.187 | G113: 11.5 | H113: 18.83 | I113: =ROUND(H113*23.59%,2) -> 4.44 | J113: =H113+I113 -> 23.27
... A149: 142 | B149: VP LATGALES RP ZIEMEĻLATGALES IECIRKŅA IZMEKLĒŠANAS NODAĻAS 7.GRUPA | C149: vecākais inspektors | D149: 1235 | E149: 20% | F149: 7.397 | G149: 64 | H149: 94.68 | I149: =ROUND(H149*23.59%,2) -> 22.34 | J149: =H149+I149 -> 117.02
A150: 143 | B150: VP LATGALES RP DIENVIDLATGALES IECIRKŅA IZMEKLĒŠANAS NODAĻAS 6.GRUPA | C150: vecākais inspektors | D150: 1255 | E150: 20% | F150: 7.515 | G150: 24 | H150: 36.07 | I150: =ROUND(H150*23.59%,2)+0.02 -> 8.53 | J150: =H150+I150 -> 44.6
A151: 144 | B151: VP LATGALES RP DIENVIDLATGALES IECIRKŅA IZMEKLĒŠANAS NODAĻAS 9.GRUPA | C151: inspektors | D151: 1243 | E151: 20% | F151: 7.443 | G151: 27 | H151: 40.19 | I151: =ROUND(H151*23.59%,2) -> 9.48 | J151: =H151+I151 -> 49.67
A152: 145 | B152: VP LATGALES RP KĀRTPB ATĻAUJU SISTĒMAS GRUPA | C152: vecākais inspektors | D152: 1360 | E152: 20% | F152: 8.144 | G152: 26 | H152: 42.35 | I152: =ROUND(H152*23.59%,2) -> 9.99 | J152: =H152+I152 -> 52.34
A153: 146 | B153: VP LATGALES RP ZIEMEĻLATGALES IECIRKŅA IZMEKLĒŠANAS NODAĻAS 1.GRUPA | C153: inspektors | D153: 1412 | E153: 20% | F153: 8.46 | G153: 28.5 | H153: 48.22 | I153: =ROUND(H153*23.59%,2) -> 11.38 | J153: =H153+I153 -> 59.6
A154: 147 | B154: VP LATGALES RP DIENVIDLATGALES IECIRKŅA REAĢĒŠANAS NODAĻAS 8.GRUPA | C154: inspektors | D154: 1220 | E154: 20% | F154: 7.315 | G154: 36.5 | H154: 53.4 | I154: =ROUND(H154*23.59%,2) -> 12.6 | J154: =H154+I154 -> 66
A155: 148 | B155: VP LATGALES RP DIENVIDLATGALES IECIRKŅA IZMEKLĒŠANAS NODAĻAS 5.GRUPA | C155: vecākais inspektors | D155: 1444 | E155: 20% | F155: 8.647 | G155: 38 | H155: 65.72 | I155: =ROUND(H155*23.59%,2) -> 15.5 | J155: =H155+I155 -> 81.22
A156: 149 | B156: VP LATGALES RP KRIMPB ORGANIZĒTĀS NOZIEDZĪBAS SMAGO UN SĒRIJVEIDA NOZIEGUMU APKAROŠANAS NODAĻA | C156: inspektors | D156: 1367 | E156: 20% | F156: 8.185 | G156: 24 | H156: 39.29 | I156: =ROUND(H156*23.59%,2) -> 9.27 | J156: =H156+I156 -> 48.56
A157: 150 | B157: VP LATGALES RP DIENVIDLATGALES IECIRKŅA REAĢĒŠANAS NODAĻAS 10.GRUPA | C157: vecākais inspektors | D157: 1255 | E157: 20% | F157: 7.528 | G157: 36 | H157: 54.2 | I157: =ROUND(H157*23.59%,2) -> 12.79 | J157: =H157+I157 -> 66.99
A158: 151 | B158: VP LATGALES RP DIENVIDLATGALES IECIRKNIS | C158: iecirkņa priekšnieka vietnieks, Izmeklēšanas nodaļas priekšnieks | D158: 1937 | E158: 20% | F158: 11.598 | G158: 32 | H158: 74.23 | I158: =ROUND(H158*23.59%,2) -> 17.51 | J158: =H158+I158 -> 91.74
A159: 152 | B159: VP LATGALES RP ZIEMEĻLATGALES IECIRKŅA IZMEKLĒŠANAS NODAĻAS 7.GRUPA | C159: inspektors | D159: 1263 | E159: 20% | F159: 7.567 | G159: 73.5 | H159: 111.24 | I159: =ROUND(H159*23.59%,2) -> 26.24 | J159: =H159+I159 -> 137.48
A160: 153 | B160: VP LATGALES RP ZIEMEĻLATGALES IECIRKŅA PREVENCIJAS GRUPA | C160: inspektors | D160: 1243 | E160: 20% | F160: 7.444 | G160: 25 | H160: 37.22 | I160: =ROUND(H160*23.59%,2) -> 8.78 | J160: =H160+I160 -> 46
A161: 154 | B161: VP LATGALES RP ZIEMEĻLATGALES IECIRKŅA IZMEKLĒŠANAS NODAĻAS 2.GRUPA | C161: inspektors | D161: 1438 | E161: 20% | F161: 8.618 | G161: 62 | H161: 106.86 | I161: =ROUND(H161*23.59%,2) -> 25.21 | J161: =H161+I161 -> 132.07
A162: 155 | B162: VP LATGALES RP DIENVIDLATGALES IECIRKŅA PREVENCIJAS GRUPA | C162: inspektors | D162: 1240 | E162: 20% | F162: 7.436 | G162: 40.5 | H162: 60.23 | I162: =ROUND(H162*23.59%,2) -> 14.21 | J162: =H162+I162 -> 74.44
... A196: 189 | B196: VP LATGALES RP DIENVIDLATGALES IECIRKŅA REAĢĒŠANAS NODAĻAS 7.GRUPA | C196: jaunākais inspektors | D196: 1384 | E196: 20% | F196: 8.287 | G196: 26 | H196: 43.09 | I196: =ROUND(H196*23.59%,2) -> 10.16 | J196: =H196+I196 -> 53.25
A197: 190 | B197: VP LATGALES RP KĀRTPB ATĻAUJU SISTĒMAS GRUPA | C197: galvenais inspektors | D197: 1279 | E197: 20% | F197: 7.666 | G197: 49.5 | H197: 75.89 | I197: =ROUND(H197*23.59%,2)+0.01 -> 17.91 | J197: =H197+I197 -> 93.8
A198: 191 | B198: VP LATGALES RP KĀRTPB ATĻAUJU SISTĒMAS GRUPA | C198: galvenais inspektors | D198: 1279 | E198: 50% | F198: 7.64 | G198: 0.5 | H198: 1.91 | I198: =ROUND(H198*23.59%,2) -> 0.45 | J198: =H198+I198 -> 2.36
A199: 192 | B199: VP LATGALES RP DIENVIDLATGALES IECIRKŅA IZMEKLĒŠANAS NODAĻAS 9.GRUPA | C199: inspektors | D199: 1220 | E199: 20% | F199: 7.306 | G199: 26 | H199: 37.99 | I199: =ROUND(H199*23.59%,2) -> 8.96 | J199: =H199+I199 -> 46.95
A200: 193 | B200: VP LATGALES RP ZIEMEĻLATGALES IECIRKŅA REAĢĒŠANAS NODAĻAS 1.GRUPA | C200: inspektors | D200: 1240 | E200: 20% | F200: 7.435 | G200: 40 | H200: 59.48 | I200: =ROUND(H200*23.59%,2) -> 14.03 | J200: =H200+I200 -> 73.51
A201: 194 | B201: VP LATGALES RP ZIEMEĻLATGALES IECIRKŅA REAĢĒŠANAS NODAĻAS 1.GRUPA | C201: inspektors | D201: 1240 | E201: 50% | F201: 7.44 | G201: 1 | H201: 3.72 | I201: =ROUND(H201*23.59%,2) -> 0.88 | J201: =H201+I201 -> 4.6
A202: 195 | B202: VP LATGALES RP DIENVIDLATGALES IECIRKŅA IZMEKLĒŠANAS NODAĻAS 4.GRUPA | C202: inspektors | D202: 1392 | E202: 20% | F202: 8.344 | G202: 39 | H202: 65.08 | I202: =ROUND(H202*23.59%,2) -> 15.35 | J202: =H202+I202 -> 80.43
A203: 196 | B203: VP LATGALES RP ZIEMEĻLATGALES IECIRKŅA REAĢĒŠANAS NODAĻAS 4.GRUPA | C203: vecākais inspektors | D203: 1215 | E203: 20% | F203: 7.276 | G203: 25 | H203: 36.38 | I203: =ROUND(H203*23.59%,2) -> 8.58 | J203: =H203+I203 -> 44.96
A204: 197 | B204: VP LATGALES RP ZIEMEĻLATGALES IECIRKNIS | C204: iecirkņa priekšnieks | D204: 2107 | E204: 20% | F204: 12.617 | G204: 12 | H204: 30.28 | I204: =ROUND(H204*23.59%,2) -> 7.14 | J204: =H204+I204 -> 37.42
A205: 198 | B205: VP LATGALES RP ZIEMEĻLATGALES IECIRKŅA IZMEKLĒŠANAS NODAĻAS 8.GRUPA | C205: vecākais inspektors | D205: 1372 | E205: 20% | F205: 8.216 | G205: 60 | H205: 98.59 | I205: =ROUND(H205*23.59%,2) -> 23.26 | J205: =H205+I205 -> 121.85
A206: 199 | B206: VP LATGALES RP ZIEMEĻLATGALES IECIRKŅA REAĢĒŠANAS NODAĻAS 8.GRUPA | C206: vecākais inspektors | D206: 1418 | E206: 20% | F206: 8.491 | G206: 48 | H206: 81.51 | I206: =ROUND(H206*23.59%,2) -> 19.23 | J206: =H206+I206 -> 100.74
A207: 200 | B207: VP LATGALES RP DIENVIDLATGALES IECIRKŅA IZMEKLĒŠANAS NODAĻAS 6.GRUPA | C207: inspektors | D207: 1243 | E207: 20% | F207: 7.443 | G207: 36 | H207: 53.59 | I207: =ROUND(H207*23.59%,2) -> 12.64 | J207: =H207+I207 -> 66.23
A208: 201 | B208: VP LATGALES RP ZIEMEĻLATGALES IECIRKŅA IZMEKLĒŠANAS NODAĻAS 1.GRUPA | C208: galvenais inspektors | D208: 1838 | E208: 20% | F208: 11.006 | G208: 24.5 | H208: 53.93 | I208: =ROUND(H208*23.59%,2) -> 12.72 | J208: =H208+I208 -> 66.65
A209: 202 | B209: VP LATGALES RP DIENVIDLATGALES IECIRKŅA IZMEKLĒŠANAS NODAĻAS 4.GRUPA | C209: vecākais inspektors | D209: 1584 | E209: 20% | F209: 9.485 | G209: 39 | H209: 73.98 | I209: =ROUND(H209*23.59%,2)-1.21 -> 16.24 | J209: =H209+I209 -> 90.22
A210: 203 | B210: VP LATGALES RP DIENVIDLATGALES IECIRKŅA IZMEKLĒŠANAS NODAĻAS 7.GRUPA | C210: vecākais inspektors | D210: 1235 | E210: 20% | F210: 7.396 | G210: 22.5 | H210: 33.28 | I210: =ROUND(H210*23.59%,2) -> 7.85 | J210: =H210+I210 -> 41.13
...

Sheet 6.tabula
G1: 2.pielikuma 6.tabula
A2: Valsts policija
A3: Detalizēts aprēķins dienas naudas samaksai amatpersonām ar speciālajām dienesta pakāpēm, sniedzot atbalstu Valsts robežsardzei Latvijas Republikas-Baltkrievijas Republikas valsts robežas robežuzraudzības nodrošināšanā par laika periodu no 2023.gada 15.aprīļa līdz 30.aprīlim
A5: Nr. p.k. | B5: Struktūrvienība | C5: Amats | D5: Laika periods | E5: Dienu skaits | F5: Likme | G5: Dienas nauda (kopsumma)
A6: kopā: | G6: =SUM(G7:G33) -> 644.8
B7: Rīgas reģiona pārvalde
A8: 1 | B8: Kārtības policijas pārvaldes Patruļpolicijas pārvaldes Speciālo uzdevumu bataljona 2.rota | C8: vada komandieris | D8: 15.04.2023.-30.04.2023. | E8: 2 | F8: 8 | G8: =ROUND(E8*F8,2) -> 16
E9: 14 | F9: 2.4 | G9: =ROUND(E9*F9,2) -> 33.6
A10: 2 | B10: Kārtības policijas pārvaldes Patruļpolicijas pārvaldes Speciālo uzdevumu bataljona 2.rota | C10: jaunākais inspektors | D10: 15.04.2023.-30.04.2023. | E10: 2 | F10: 8 | G10: =ROUND(E10*F10,2) -> 16
E11: 14 | F11: 2.4 | G11: =ROUND(E11*F11,2) -> 33.6
A12: 3 | B12: Kārtības policijas pārvaldes Patruļpolicijas pārvaldes Speciālo uzdevumu bataljona 2.rota | C12: jaunākais inspektors | D12: 15.04.2023.-30.04.2023. | E12: 2 | F12: 8 | G12: =ROUND(E12*F12,2) -> 16
E13: 14 | F13: 2.4 | G13: =ROUND(E13*F13,2) -> 33.6
A14: 4 | B14: Kārtības policijas pārvaldes Patruļpolicijas pārvaldes Speciālo uzdevumu bataljona 2.rota | C14: jaunākais inspektors | D14: 15.04.2023.-30.04.2023. | E14: 2 | F14: 8 | G14: =ROUND(E14*F14,2) -> 16
E15: 14 | F15: 2.4 | G15: =ROUND(E15*F15,2) -> 33.6
A16: 5 | B16: Kārtības policijas pārvaldes Patruļpolicijas pārvaldes Speciālo uzdevumu bataljona 2.rota | C16: jaunākais inspektors | D16: 15.04.2023.-30.04.2023. | E16: 2 | F16: 8 | G16: =ROUND(E16*F16,2) -> 16
E17: 14 | F17: 2.4 | G17: =ROUND(E17*F17,2) -> 33.6
A18: 6 | B18: Kārtības policijas pārvaldes Patruļpolicijas pārvaldes Speciālo uzdevumu bataljona 2.rota | C18: jaunākais inspektors | D18: 15.04.2023.-30.04.2023. | E18: 2 | F18: 8 | G18: =ROUND(E18*F18,2) -> 16
E19: 14 | F19: 2.4 | G19: =ROUND(E19*F19,2) -> 33.6
A20: 7 | B20: Kārtības policijas pārvaldes Patruļpolicijas pārvaldes Speciālo uzdevumu bataljona 2.rota | C20: vada komandieris | D20: 15.04.2023.-30.04.2023. | E20: 2 | F20: 8 | G20: =ROUND(E20*F20,2) -> 16
E21: 14 | F21: 2.4 | G21: =ROUND(E21*F21,2) -> 33.6
A22: 8 | B22: Kārtības policijas pārvaldes Patruļpolicijas pārvaldes Speciālo uzdevumu bataljona 2.rota | C22: jaunākais inspektors | D22: 15.04.2023.-30.04.2023. | E22: 2 | F22: 8 | G22: =ROUND(E22*F22,2) -> 16
E23: 14 | F23: 2.4 | G23: =ROUND(E23*F23,2) -> 33.6
A24: 9 | B24: Kārtības policijas pārvaldes Patruļpolicijas pārvaldes Speciālo uzdevumu bataljona 2.rota | C24: jaunākais inspektors | D24: 15.04.2023.-30.04.2023. | E24: 2 | F24: 8 | G24: =ROUND(E24*F24,2) -> 16
E25: 14 | F25: 2.4 | G25: =ROUND(E25*F25,2) -> 33.6
A26: 10 | B26: Kārtības policijas pārvaldes Patruļpolicijas pārvaldes Speciālo uzdevumu bataljona 2.rota | C26: jaunākais inspektors | D26: 15.04.2023.-30.04.2023. | E26: 2 | F26: 8 | G26: =ROUND(E26*F26,2) -> 16
E27: 14 | F27: 2.4 | G27: =ROUND(E27*F27,2) -> 33.6
A28: 11 | B28: Kārtības policijas pārvaldes Patruļpolicijas pārvaldes Speciālo uzdevumu bataljona 2.rota | C28: jaunākais inspektors | D28: 15.04.2023.-30.04.2023. | E28: 2 | F28: 8 | G28: =ROUND(E28*F28,2) -> 16
E29: 14 | F29: 2.4 | G29: =ROUND(E29*F29,2) -> 33.6
A30: 12 | B30: Kārtības policijas pārvaldes Patruļpolicijas pārvaldes Speciālo uzdevumu bataljona 2.rota | C30: jaunākais inspektors | D30: 15.04.2023.-30.04.2023. | E30: 2 | F30: 8 | G30: =ROUND(E30*F30,2) -> 16
E31: 14 | F31: 2.4 | G31: =ROUND(E31*F31,2) -> 33.6
A32: 13 | B32: Kārtības policijas pārvaldes Patruļpolicijas pārvaldes Speciālo uzdevumu bataljona 2.rota | C32: jaunākais inspektors | D32: 15.04.2023.-30.04.2023. | E32: 2 | F32: 8 | G32: =ROUND(E32*F32,2) -> 16
E33: 14 | F33: 2.4 | G33: =ROUND(E33*F33,2) -> 33.6

Sheet 7.tabula
F1: 2.pielikuma 7.tabula
A2: Valsts policija
A3: Degvielas izmaksu aprēķins degvielas izdevumiem, sniedzot atbalstu Valsts robežsardzei Latvijas Republikas-Baltkrievijas Republikas valsts robežas nelikumīgas šķērsošanas nodrošināšanā par laika periodu no 2023.gada 1.maija līdz 31.maijam
A5: Nr.p.k. | B5: Transportlīdzekļa marka | C5: Iesaistīto transportlīdzekļu skaits | D5: Faktiskais nobraukums pasākumā (km) | E5: Pasākuma laikā patērētā degviela (l) | F5: Summa euro
A6: Kopā: | C6: =ROUNDUP(SUM(C8:C29),2) -> 82 | D6: =ROUNDUP(SUM(D8:D29),2) -> 77201 | E6: =ROUNDUP(SUM(E8:E29),2) -> 5680.74 | F6: =ROUNDUP(SUM(F8:F29),2) -> 7344.26
A7: Rīgas reģiona pārvalde
A11: Latgales reģiona pārvalde
A12: 1 | B12: Hyundai Santa Fe | C12: 1 | D12: 259 | E12: 26.16 | F12: 33.48
A13: =A12+1 -> 2 | B13: Fiat 500xCross | C13: 1 | D13: 433 | E13: 30.31 | F13: 38.8
A14: =A13+1 -> 3 | B14: KIA Ceed | C14: 8 | D14: 2859 | E14: 164.97 | F14: 220.72
A15: =A14+1 -> 4 | B15: Opel Mokka | C15: 39 | D15: 38485 | E15: 2651.74 | F15: 3394.17
A16: =A15+1 -> 5 | B16: Opel Insignia | C16: 2 | D16: 995 | E16: 63.62 | F16: 81.44
A17: =A16+1 -> 6 | B17: Opel Insignia Limousine | C17: 5 | D17: 1457 | E17: 97.37 | F17: 124.64
A18: =A17+1 -> 7 | B18: Opel Combo | C18: 2 | D18: 3882 | E18: 219.14 | F18: 280.5
A19: =A18+1 -> 8 | B19: Peugeot Boxer | C19: 2 | D19: 1842 | E19: 174.99 | F19: 223.99
A20: =A19+1 -> 9 | B20: Renault Kangoo | C20: 4 | D20: 8812 | E20: 660.31 | F20: 845.2
A21: =A20+1 -> 10 | B21: Renault Laguna | C21: 3 | D21: 3564 | E21: 240.7 | F21: 308.1
A22: =A21+1 -> 11 | B22: Renault Trafic | C22: 4 | D22: 4579 | E22: 402.82 | F22: 515.61
A23: =A22+1 -> 12 | B23: Škoda Octavia | C23: 1 | D23: 201 | E23: 10.65 | F23: 13.63
A24: =A23+1 -> 13 | B24: Toyota CAMRY | C24: 3 | D24: 575 | E24: 34.63 | F24: 49.87
... A29: =A28+1 -> 18 | B29: Volvo S60 | C29: 1 | D29: 2016 | E29: 246.75 | F29: 355.32
