Workbook

Sheet VP maijs
D1: 2.pielikums
D2: Ministru kabineta rīkojuma projekta
D3: “Par finanšu līdzekļu piešķiršanu no valsts budžeta programmas
D4: “Līdzekļi neparedzētiem gadījumiem”” sākotnējās ietekmes novērtējuma ziņojumam (anotācijai)
A6: Valsts policijai papildu nepieciešamais finansējums laikposmam no 2023. gada 1. maija līdz 31. maijam saistībā ar situāciju uz Latvijas Republikas - Baltkrievijas Republikas valsts robežas
A7: Kopasavilkums
A9: Kods | B9: Koda nosaukums | C9: Detalizēts izdevumu aprēķins | D9: Izdevumi, euro
A10: Izdevumi kopā ar vidējās izpeļņas pieauguma kompensēšanu | D10: =D11+D14 -> 110257
A11: 1000 | B11: Atlīdzība | C11: × | D11: =ROUNDUP(D12+D13,0) -> 77467
A12: 1100 | B12: Atalgojums | C12: × | D12: =D45+D19 -> 62691.64
A13: 1210 | B13: Darba devēja valsts sociālās apdrošināšanas obligātās iemaksas | C13: × | D13: =D47+D29 -> 14774.6
A14: 2000 | B14: Preces un pakalpojumi | C14: × | D14: =D48+D30 -> 32790
A15: 2271 | B15: Izdevumi, kas saistīti ar operatīvo darbību | C15: × | D15: =D33+D49 -> 10522
A17: 1) Izdevumi saistībā ar rīkojuma Nr. 518 izpildei nepieciešamo pasākumu īstenošanu | D17: =D18+D30+D40 -> 103647
A18: 1000 | B18: Atlīdzība | C18: × | D18: =ROUNDUP(D19+D29,0) -> 71509
A19: 1100 | B19: Atalgojums | C19: × | D19: =SUM(D20:D28) -> 57870.64
A20: 1116 | B20: Mēnešalga amatpersonām ar speciālajām dienesta pakāpēm
A21: 1141 | B21: Piemaksa par nakts darbu
C22: 1) Detalizēts aprēķins par laika periodu no 2023.gada 1.maija līdz 31.maijam 1.tabulā. Iesaistītas 259 personas, kopējais iesaistes laiks 4 120 stundas. | D22: ='1.tabula'!G6 -> 16311.26
C23: 2) Precizējums_detalizēts aprēķins par laika periodu no 2023.gada 1.aprīļa līdz 30.aprīlim 2.tabulā. Korekcija 1 personai par aprīli: kopējais korekcijas laiks 73,50 stundas. Bija jāveic samaksas par virsstundu darbu aprēķins par laika periodu 01.01.-30.04., bet tika aprēķināta piemaksa par nakts darbu. | D23: ='2.tabula'!G6 -> -337.14
A24: 1142 | B24: Samaksa par virsstundu darbu un darbu svētku dienās | C24: 1) Samaksa par virsstundu darbu Precizējums_detalizēts aprēķins par laika periodu no 2023.gada 1.aprīļa līdz 30.aprīlim 3.tabulā. Iesaistītas 2 personas, kopējais iesaistes laiks 87,50 stundas. Vienai no personām bija jāveic samaksas par virsstundu darbu aprēķins par laika periodu 01.01.-30.04., bet tika aprēķināta piemaksa par nakts darbu, otra persona nebija iekļauta finansējuma pieprasījumā par 2023.gada janvāri - aprīli. Izdevumi segti 2023.gada maijā. | D24: =' 3.tabula'!G6 -> 1546.43
C25: 2) Piemaksa par darbu svētku dienās (01.05., 04.05., 14.05., 28.05. un 29.05.) Detalizēts aprēķins par laika periodu no 2023.gada 1.maija līdz 31.maijam 4.tabulā. Iesaistītas 177 personas, kopējais iesaistes laiks 2385,75 stundas. | D25: ='4.tabula'!G6 -> 19085.64
A26: 1145 | B26: Piemaksa par darbu īpašos apstākļos, speciālās piemaksas | C26: Detalizēts aprēķins par laika periodu no 2023.gada 1.maija līdz 31.maijam 7.tabulā. Iesaistītas 464 personas, kopējais iesaistes laiks 12 823,50 stundas. | D26: ='5.tabula'!H6 -> 21264.45
A28: 1146 | B28: Piemaksa par personisko darba ieguldījumu un darba kvalitāti
A29: 1210 | B29: Darba devēja valsts sociālās apdrošināšanas obligātās iemaksas | C29: 23,59% no aprēķinātā atalgojuma * izņemot trīs personas, kurām tiek piemērota nodokļu likme 21,94% (izdienas pensionārs) | D29: ='1.tabula'!H6+'2.tabula'!H6+' 3.tabula'!H6+'4.tabula'!H6+'5.tabula'!I6 -> 13637.42
A30: 2000 | B30: Preces un pakalpojumi | C30: × | D30: =ROUNDUP(SUM(D31:D39),0) -> 32138
A31: 2111 | B31: Dienas nauda | C31: Detalizēts aprēķins 5.tabulā. Dienas nauda par periodu no 2023.gada 15.aprīļa līdz 30.aprīlim izmaksāta 13 personām; Valsts policijas pavēle Nr. 1707 “Par komandējumu uz Daugavpili un Dagdu (Latvijā)” dienas nauda: 100% (8,00 euro) pirmā un pēdējā diena, 30% (2,40 euro) pārējās dienas *Valsts policija iekšzemes komandējumiem nemaksā dienas naudu avansā, bet gan izmaksā tad, kad no komandējuma amatpersonas ir atgriezušās. Komandējuma laika ietvars saskaņā ar Valsts policijas pavēli par komandējumu, ir tāds, ka uz mēnesi tiek sūtīta komandējumā viena amatpersonu grupa, pēc tam – uz mēnesi tika nosūtīta cita amatpersonu grupa. | D31: 644.8
A32: 2112 | B32: Pārējie komandējumu un darba braucienu izdevumi | C32: Dienesta viesnīcas pakalpojumi (naktsmītne) Naktsmītnes izdevumi: 29 nakts × 13 gultasvietas × 15,00 euro = 5 655,00 euro; Aprēķins veikts par dienesta viesnīcas pakalpojumiem (naktsmītni), kas tika nodrošināti no 2023.gada 1.aprīļa līdz 30.aprīlim, izdevumi pakalpojuma sniedzējam tika apmaksāti 2023.gada maijā. | D32: 5655
A33: 2271 | B33: Izdevumi, kas saistīti ar operatīvo darbību | C33: Izdevumi, kas saistīti ar operatīvo darbību 2023.gada maijā (ar precizējumu par aprīli) | D33: 9870
A34: 2312 | B34: Inventārs
A35: 2322 | B35: Degviela | C35: Detalizēts aprēķins par laika periodu no 2023.gada 1.maija līdz 31.maijam 6.tabulā. Pasākuma nodrošināšanai tika iesaistīti 82 transportlīdzekļi; Vidēji viena transportlīdzekļa nobraukums 941,48 km; Vidējā degvielas cena 1,2928 euro/l; Vidējais degvielas patēriņš 7,3586 l/km uz 100 km. 82 t-ldz. x 941,48 km x 1,2928 euro/l x 7,3586 l/km ÷ 100 km = 7 344,26 euro | D35: ='7.tabula'!F6 -> 7344.26
A36: 2350 | B36: Kārtējā remonta un iestāžu uzturēšanas materiāli | C36: Veļas mazgāšanas līdzekļi / 4 gab.× 13,4975 euro = 53,99 euro; Odu un ērču atbaidīšanas līdzekļi / 25 gab. x 2,7704 euro = 69,26 euro | D36: =53.99+69.26 -> 123.25
A37: 2363 | B37: Ēdināšanas izdevumi | C37: Aprēķins veikts par ēdināšanas pakalpojumiem, kas tika nodrošināti no 2023.gada 1.aprīļa līdz 30.aprīlim, izdevumi pakalpojuma sniedzējam tika apmaksāti 2023.gada maijā. Ēdināšanas pakalpojumi: brokastis 268 porcijas × 6,00 euro = 1 608,00 euro; pusdienas 246 porcijas × 8,00 euro = 1 968,00 euro; vakariņas 259 porcijas × 8,00 euro = 2 072,00 euro; launags (sausā uztura paka) 118 pakas × 22,00 euro = 2 596 euro. Saskaņā ar līgumu par izmitināšanu un ēdināšanu Daugavpilī ir noteikts, ka ēdināšana 3 reizes dienā nedrīkst pārsniegt 22 euro: Ēdināšanas izmaksas sastāda: Brokastis 6 euro /1 pers Pusdienas un vakariņas 8 euro /1 pers Par 14 euro tiek ēdinātas amatpersonas, kuras atrodas viesnīcā, jo amatpersonas strādā maiņās. Savukārt tām amatpersonām, kuras ir maiņā uz robežas un tām nav iespējams atgriezties uz pusdienām un vakariņām, tad, lai nodrošinātu ēdināšanu amatpersonām dod līdzi pārtikas paku un kopā tas sastāda 22 euro (brokastis ir 6 euro - tās paēd izmitināšanas vietā). Pārtikas pakas tiek dotas arī Latgales reģiona pārvaldes amatpersonām, kuras arī tiek norīkotas uz robežu, augstākminēto iemeslu dēļ, komandējama izdevumi un dienas nauda viņām nav. Papildus jāatzīmē, ka dienas nauda dienās, kad nodrošināta 3 reižu ēdināšana sastāda 30% no Ministru kabineta noteikumos par komandējumu paredzētā limita. | D37: =1608+1968+2072+2596 -> 8244
A38: 2389 | B38: Pārējie specifiskas lietošanas materiāli un inventārs
A39: 2390 | B39: Pārējās preces | C39: Maisi atkritumiem 150 L / 50 gab. x 2,1176 euro = 105,88 euro; Negāzēts dzeramais ūdens 5 L / 204 gab. x 0,7381 euro = 150,57 euro; | D39: 256.45
A40: 5000 | B40: Pamatkapitāla veidošana | D40: =ROUNDUP(SUM(D41),0) -> 0
A41: 5239 | B41: Pārējie iepriekš neklasificētie pamatlīdzekļi un ieguldījuma īpašumi
A43: 2) Vidējās izpeļņas pieauguma kompensēšanai | D43: =D44+D48 -> 6610
A44: 1000 | B44: Atlīdzība | C44: × | D44: =ROUND(D45+D47,0) -> 5958
A45: 1100 | B45: Atalgojums | C45: × | D45: =ROUND(SUM(D46:D46),0) -> 4821
...

Sheet 1.tabula
I1: 2.pielikuma 1.tabula
A2: Valsts policija
A3: Piemaksa par nakts darbu amatpersonām ar speciālajām dienesta pakāpēm, kuras laika periodā no 2023.gada 1.maija līdz 31.maijam tika iesaistītas atbalsta sniegšanā Valsts robežsardzei Latvijas Republikas-Baltkrievijas Republikas valsts robežas robežuzraudzības nodrošināšanā
E4: 167
A5: Nr. p.k. | B5: Struktūrvienība | C5: Amats | D5: Mēnešalga amatpersonām ar speciālajām pakāpēm | E5: Stundas likme | F5: Stundu skaits | G5: Piemaksa par nakts darbu | H5: DD VSAOI | I5: Atlīdzība
A6: kopā | F6: =SUM(F8:F267) -> 4120 | G6: =SUM(G8:G267) -> 16311.26 | H6: =SUM(H8:H267) -> 3842.42 | I6: =SUM(I8:I267) -> 20153.68
B7: LATGALES REĢIONA PĀRVALDE
A8: 1 | B8: VP LATGALES REĢIONA PĀRVALDES DISCIPLINĀRĀS UZRAUDZĪBAS GRUPA | C8: galvenais inspektors | D8: 1486 | E8: 8.898 | F8: 8 | G8: 35.59 | H8: =ROUND(G8*0.2359,2) -> 8.4 | I8: =G8+H8 -> 43.99
A9: =A8+1 -> 2 | B9: VP LATGALES RP DIENVIDLATGALES IECIRKNIS | C9: iecirkņa priekšnieka vietnieks, Izmeklēšanas nodaļas priekšnieks | D9: 1937 | E9: 11.599 | F9: 22 | G9: 127.59 | H9: =ROUND(G9*0.2359,2) -> 30.1 | I9: =G9+H9 -> 157.69
A10: =A9+1 -> 3 | B10: VP LATGALES RP DIENVIDLATGALES IECIRKNIS | C10: iecirkņa priekšnieka vietnieks, Reaģēšanas nodaļas priekšnieks | D10: 1883 | E10: 11.275 | F10: 16 | G10: 90.2 | H10: =ROUND(G10*0.2359,2) -> 21.28 | I10: =G10+H10 -> 111.48
A11: =A10+1 -> 4 | B11: VP LATGALES RP DIENVIDLATGALES IECIRKNIS | C11: iecirkņa priekšnieks | D11: 2107 | E11: 12.618 | F11: 16 | G11: 100.94 | H11: =ROUND(G11*0.2359,2) -> 23.81 | I11: =G11+H11 -> 124.75
A12: =A11+1 -> 5 | B12: VP LATGALES RP DIENVIDLATGALES IECIRKŅA IZMEKLĒŠANAS NODAĻAS 1.GRUPA | C12: galvenais inspektors | D12: 1872 | E12: 11.21 | F12: 8 | G12: 44.84 | H12: =ROUND(G12*0.2359,2) -> 10.58 | I12: =G12+H12 -> 55.42
A13: =A12+1 -> 6 | B13: VP LATGALES RP DIENVIDLATGALES IECIRKŅA IZMEKLĒŠANAS NODAĻAS 1.GRUPA | C13: inspektors | D13: 1392 | E13: 8.353 | F13: 16 | G13: 66.82 | H13: =ROUND(G13*0.2359,2) -> 15.76 | I13: =G13+H13 -> 82.58
A14: =A13+1 -> 7 | B14: VP LATGALES RP DIENVIDLATGALES IECIRKŅA IZMEKLĒŠANAS NODAĻAS 1.GRUPA | C14: inspektors | D14: 1392 | E14: 8.336 | F14: 14 | G14: 58.35 | H14: =ROUND(G14*0.2359,2) -> 13.76 | I14: =G14+H14 -> 72.11
A15: =A14+1 -> 8 | B15: VP LATGALES RP DIENVIDLATGALES IECIRKŅA IZMEKLĒŠANAS NODAĻAS 1.GRUPA | C15: inspektors | D15: 1332 | E15: 7.975 | F15: 8 | G15: 31.9 | H15: =ROUND(G15*0.2359,2) -> 7.53 | I15: =G15+H15 -> 39.43
A16: =A15+1 -> 9 | B16: VP LATGALES RP DIENVIDLATGALES IECIRKŅA IZMEKLĒŠANAS NODAĻAS 2.GRUPA | C16: galvenais inspektors | D16: 1468 | E16: 8.825 | F16: 8 | G16: 35.3 | H16: =ROUND(G16*0.2359,2) -> 8.33 | I16: =G16+H16 -> 43.63
A17: =A16+1 -> 10 | B17: VP LATGALES RP DIENVIDLATGALES IECIRKŅA IZMEKLĒŠANAS NODAĻAS 2.GRUPA | C17: inspektors | D17: 1412 | E17: 8.455 | F17: 8 | G17: 33.82 | H17: =ROUND(G17*0.2359,2) -> 7.98 | I17: =G17+H17 -> 41.8
A18: =A17+1 -> 11 | B18: VP LATGALES RP DIENVIDLATGALES IECIRKŅA IZMEKLĒŠANAS NODAĻAS 2.GRUPA | C18: inspektors | D18: 1392 | E18: 8.335 | F18: 24 | G18: 100.02 | H18: =ROUND(G18*0.2359,2) -> 23.59 | I18: =G18+H18 -> 123.61
A19: =A18+1 -> 12 | B19: VP LATGALES RP DIENVIDLATGALES IECIRKŅA IZMEKLĒŠANAS NODAĻAS 2.GRUPA | C19: inspektors | D19: 1367 | E19: 8.185 | F19: 8 | G19: 32.74 | H19: =ROUND(G19*0.2359,2) -> 7.72 | I19: =G19+H19 -> 40.46
A20: =A19+1 -> 13 | B20: VP LATGALES RP DIENVIDLATGALES IECIRKŅA IZMEKLĒŠANAS NODAĻAS 2.GRUPA | C20: vecākais inspektors | D20: 1444 | E20: 8.648 | F20: 8 | G20: 34.59 | H20: =ROUND(G20*0.2359,2) -> 8.16 | I20: =G20+H20 -> 42.75
... A28: =A27+1 -> 21 | B28: VP LATGALES RP DIENVIDLATGALES IECIRKŅA IZMEKLĒŠANAS NODAĻAS 3.GRUPA | C28: inspektors | D28: 1332 | E28: 7.976 | F28: 32 | G28: 127.62 | H28: =ROUND(G28*0.2359,2) -> 30.11 | I28: =G28+H28 -> 157.73
A29: =A28+1 -> 22 | B29: VP LATGALES RP DIENVIDLATGALES IECIRKŅA IZMEKLĒŠANAS NODAĻAS 4.GRUPA | C29: inspektors | D29: 1392 | E29: 8.363 | F29: 8 | G29: 33.45 | H29: =ROUNDDOWN(G29*0.2359,2) -> 7.89 | I29: =G29+H29 -> 41.34
A30: =A29+1 -> 23 | B30: VP LATGALES RP DIENVIDLATGALES IECIRKŅA IZMEKLĒŠANAS NODAĻAS 4.GRUPA | C30: vecākais inspektors | D30: 1584 | E30: 9.485 | F30: 24 | G30: 113.82 | H30: 24.97 | I30: =G30+H30 -> 138.79 | J30: *
A31: =A30+1 -> 24 | B31: VP LATGALES RP DIENVIDLATGALES IECIRKŅA IZMEKLĒŠANAS NODAĻAS 4.GRUPA | C31: vecākais inspektors | D31: 1418 | E31: 8.491 | F31: 16 | G31: 67.93 | H31: =ROUND(G31*0.2359,2) -> 16.02 | I31: =G31+H31 -> 83.95
A32: =A31+1 -> 25 | B32: VP LATGALES RP DIENVIDLATGALES IECIRKŅA IZMEKLĒŠANAS NODAĻAS 4.GRUPA | C32: inspektors | D32: 1387 | E32: 8.314 | F32: 24 | G32: 99.77 | H32: =ROUND(G32*0.2359,2) -> 23.54 | I32: =G32+H32 -> 123.31
A33: =A32+1 -> 26 | B33: VP LATGALES RP DIENVIDLATGALES IECIRKŅA IZMEKLĒŠANAS NODAĻAS 4.GRUPA | C33: inspektors | D33: 1372 | E33: 8.216 | F33: 16 | G33: 65.73 | H33: =ROUND(G33*0.2359,2) -> 15.51 | I33: =G33+H33 -> 81.24
A34: =A33+1 -> 27 | B34: VP LATGALES RP DIENVIDLATGALES IECIRKŅA IZMEKLĒŠANAS NODAĻAS 4.GRUPA | C34: inspektors | D34: 1352 | E34: 8.095 | F34: 8 | G34: 32.38 | H34: =ROUND(G34*0.2359,2) -> 7.64 | I34: =G34+H34 -> 40.02
A35: =A34+1 -> 28 | B35: VP LATGALES RP DIENVIDLATGALES IECIRKŅA IZMEKLĒŠANAS NODAĻAS 5.GRUPA | C35: inspektors | D35: 1387 | E35: 8.309 | F35: 18 | G35: 74.78 | H35: =ROUND(G35*0.2359,2) -> 17.64 | I35: =G35+H35 -> 92.42
A36: =A35+1 -> 29 | B36: VP LATGALES RP DIENVIDLATGALES IECIRKŅA IZMEKLĒŠANAS NODAĻAS 5.GRUPA | C36: inspektors | D36: 1392 | E36: 8.335 | F36: 8 | G36: 33.34 | H36: =ROUNDUP(G36*0.2359,2) -> 7.87 | I36: =G36+H36 -> 41.21
A37: =A36+1 -> 30 | B37: VP LATGALES RP DIENVIDLATGALES IECIRKŅA IZMEKLĒŠANAS NODAĻAS 5.GRUPA | C37: galvenais inspektors | D37: 1762 | E37: 10.55 | F37: 8 | G37: 42.2 | H37: =ROUNDDOWN(G37*0.2359,2) -> 9.95 | I37: =G37+H37 -> 52.15
A38: =A37+1 -> 31 | B38: VP LATGALES RP DIENVIDLATGALES IECIRKŅA IZMEKLĒŠANAS NODAĻAS 5.GRUPA | C38: vecākais inspektors | D38: 1444 | E38: 8.648 | F38: 16 | G38: 69.18 | H38: =ROUND(G38*0.2359,2) -> 16.32 | I38: =G38+H38 -> 85.5
A39: =A38+1 -> 32 | B39: VP LATGALES RP DIENVIDLATGALES IECIRKŅA IZMEKLĒŠANAS NODAĻAS 5.GRUPA | C39: inspektors | D39: 1392 | E39: 8.342 | F39: 10 | G39: 41.71 | H39: =ROUND(G39*0.2359,2) -> 9.84 | I39: =G39+H39 -> 51.55
A40: =A39+1 -> 33 | B40: VP LATGALES RP DIENVIDLATGALES IECIRKŅA IZMEKLĒŠANAS NODAĻAS 5.GRUPA | C40: vecākais inspektors | D40: 1464 | E40: 8.784 | F40: 16 | G40: 70.27 | H40: =ROUND(G40*0.2359,2) -> 16.58 | I40: =G40+H40 -> 86.85
A41: =A40+1 -> 34 | B41: VP LATGALES RP DIENVIDLATGALES IECIRKŅA IZMEKLĒŠANAS NODAĻAS 5.GRUPA | C41: vecākais inspektors | D41: 1398 | E41: 8.37 | F41: 8 | G41: 33.48 | H41: =ROUND(G41*0.2359,2) -> 7.9 | I41: =G41+H41 -> 41.38
A42: =A41+1 -> 35 | B42: VP LATGALES RP DIENVIDLATGALES IECIRKŅA IZMEKLĒŠANAS NODAĻAS 5.GRUPA | C42: inspektors | D42: 1352 | E42: 8.096 | F42: 16 | G42: 64.77 | H42: =ROUND(G42*0.2359,2) -> 15.28 | I42: =G42+H42 -> 80.05
A43: =A42+1 -> 36 | B43: VP LATGALES RP DIENVIDLATGALES IECIRKŅA IZMEKLĒŠANAS NODAĻAS 5.GRUPA | C43: inspektors | D43: 1352 | E43: 8.13 | F43: 2 | G43: 8.13 | H43: =ROUND(G43*0.2359,2) -> 1.92 | I43: =G43+H43 -> 10.05
A44: =A43+1 -> 37 | B44: VP LATGALES RP DIENVIDLATGALES IECIRKŅA IZMEKLĒŠANAS NODAĻAS 5.GRUPA | C44: inspektors | D44: 1312 | E44: 7.855 | F44: 8 | G44: 31.42 | H44: =ROUND(G44*0.2359,2) -> 7.41 | I44: =G44+H44 -> 38.83
A45: =A44+1 -> 38 | B45: VP LATGALES RP DIENVIDLATGALES IECIRKŅA IZMEKLĒŠANAS NODAĻAS 6.GRUPA | C45: galvenais inspektors | D45: 1448 | E45: 8.671 | F45: 22 | G45: 95.38 | H45: =ROUND(G45*0.2359,2) -> 22.5 | I45: =G45+H45 -> 117.88
A46: =A45+1 -> 39 | B46: VP LATGALES RP DIENVIDLATGALES IECIRKŅA IZMEKLĒŠANAS NODAĻAS 6.GRUPA | C46: vecākais inspektors | D46: 1259 | E46: 7.54 | F46: 8 | G46: 30.16 | H46: =ROUND(G46*0.2359,2) -> 7.11 | I46: =G46+H46 -> 37.27
A47: =A46+1 -> 40 | B47: VP LATGALES RP DIENVIDLATGALES IECIRKŅA IZMEKLĒŠANAS NODAĻAS 6.GRUPA | C47: inspektors | D47: 1243 | E47: 7.443 | F47: 8 | G47: 29.77 | H47: =ROUND(G47*0.2359,2) -> 7.02 | I47: =G47+H47 -> 36.79
...

Sheet 2.tabula
I1: 2.pielikuma 2.tabula
A2: Valsts policija
A3: Precizējums_Piemaksa par nakts darbu amatpersonām ar speciālajām dienesta pakāpēm, kuras laika periodā no 2023.gada 1.aprīļa līdz 30.aprīlim tika iesaistītas atbalsta sniegšanā Valsts robežsardzei Latvijas Republikas-Baltkrievijas Republikas valsts robežas robežuzraudzības nodrošināšanā
E4: 167
A5: Nr. p.k. | B5: Struktūrvienība | C5: Amats | D5: Mēnešalga amatpersonām ar speciālajām pakāpēm | E5: Stundas likme | F5: Stundu skaits | G5: Piemaksa par nakts darbu | H5: DD VSAOI | I5: Atlīdzība
A6: kopā | F6: =SUM(F8:F8) -> -73.5 | G6: =SUM(G8:G8) -> -337.14 | H6: =SUM(H8:H8) -> -79.53 | I6: =SUM(I8:I8) -> -416.67
B7: LATGALES REĢIONA PĀRVALDE
A8: 1 | B8: VP LATGALES RP ZIEMEĻLATGALES IECIRKŅA IZMEKLĒŠANAS NODAĻAS 4.GRUPA | C8: inspektors* | D8: 1532 | E8: =ROUND(D8/$E$4,2) -> 9.17 | F8: -73.5 | G8: -337.14 | H8: =ROUND(G8*0.2359,2) -> -79.53 | I8: =G8+H8 -> -416.67
B9: *bija jāveic samaksas par virsstundu darbu aprēķins par laika periodu 01.01.-30.04., bet kļūdaini tika aprēķināta piemaksa par nakts darbu

Sheet  3.tabula
I1: 2.pielikuma 3.tabula
A2: Valsts policija
A3: Precizējums_Detalizēts aprēķins samaksai par virsstundu darbu amatpersonām ar speciālo dienesta pakāpi, sniedzot atbalstu Valsts robežsardzei Latvijas Republikas-Baltkrievijas Republikas valsts robežas nelikumīgas šķērsošanas nodrošināšanā, par laika periodu no 2023.gada 01.aprīļa līdz 30.aprīlim
E4: 167
A5: Nr. p.k. | B5: Struktūrvienība | C5: Amats | D5: Mēnešalga amatpersonām ar speciālajām pakāpēm | E5: Stundas likme | F5: Stundu skaits | G5: Samaksa par virsstundu darbu | H5: DD VSAOI | I5: Atlīdzība
A6: kopā | F6: =SUM(F7:F9) -> 87.5 | G6: =SUM(G7:G9) -> 1546.43 | H6: =SUM(H7:H9) -> 364.8 | I6: =SUM(I7:I9) -> 1911.23
B7: LATGALES REĢIONA PĀRVALDE
A8: 1 | B8: VP LATGALES RP ZIEMEĻLATGALES IECIRKŅA IZMEKLĒŠANAS NODAĻAS 4.GRUPA | C8: inspektors* | D8: 1532 | E8: =ROUND(D8/$E$4,3) -> 9.174 | F8: 73.5 | G8: 1348.58 | H8: =ROUNDDOWN(G8*0.2359,2) -> 318.13 | I8: =G8+H8 -> 1666.71
A9: 2 | B9: VP LATGALES RP DIENVIDLATGALES IECIRKŅA REAĢĒŠANAS NODAĻAS 9.GRUPA | C9: inspektors | D9: 1180 | E9: =ROUND(D9/$E$4,3) -> 7.066 | F9: 14 | G9: 197.85 | H9: =ROUND(G9*0.2359,2) -> 46.67 | I9: =G9+H9 -> 244.52
B10: *bija jāveic samaksas par virsstundu darbu aprēķins par laika periodu 01.01.-30.04., bet kļūdaini tika aprēķināta piemaksa par nakts darbu

Sheet 4.tabula
I1: 2.pielikuma 4.tabula
A2: Valsts policija
A3: Detalizēts aprēķins piemaksai par darbu svētku dienās amatpersonām ar speciālo dienesta pakāpi, sniedzot atbalstu Valsts robežsardzei Latvijas Republikas-Baltkrievijas Republikas valsts robežas nelikumīgas šķērsošanas nodrošināšanā, par laika periodu no 2023.gada 1.maija līdz 31.maijam (par 01.05., 04.05., 14.05., 28.05. un 29.05.)
E4: 167
A5: Nr. p.k. | B5: Struktūrvienība | C5: Amats | D5: Mēnešalga amatpersonām ar speciālajām pakāpēm | E5: Stundas likme | F5: Stundu skaits | G5: Piemaksa par darbu svētku dienās | H5: DD VSAOI | I5: Atlīdzība
A6: kopā | F6: =SUM(F7:F185) -> 2385.75 | G6: =SUM(G7:G185) -> 19085.64 | H6: =SUM(H7:H185) -> 4499.6 | I6: =SUM(I7:I185) -> 23585.24
B7: LATGALES REĢIONA PĀRVALDE
A8: 1 | B8: VP LATGALES RP ZIEMEĻLATGALES IECIRKŅA IZMEKLĒŠANAS NODAĻAS 2.GRUPA | C8: inspektors | D8: 1387 | E8: 8.305 | F8: 10.5 | G8: 87.2 | H8: =ROUND(G8*0.2359,2) -> 20.57 | I8: =G8+H8 -> 107.77
A9: 2 | B9: VP LATGALES RP DIENVIDLATGALES IECIRKŅA REAĢĒŠANAS NODAĻAS 3.GRUPA | C9: vecākais inspektors | D9: 1412 | E9: 8.456 | F9: 9 | G9: 76.1 | H9: =ROUND(G9*0.2359,2) -> 17.95 | I9: =G9+H9 -> 94.05
A10: 3 | B10: VP LATGALES RP DIENVIDLATGALES IECIRKŅA REAĢĒŠANAS NODAĻAS 7.GRUPA | C10: inspektors | D10: 1220 | E10: 7.306 | F10: 5 | G10: 36.53 | H10: =ROUND(G10*0.2359,2) -> 8.62 | I10: =G10+H10 -> 45.15
A11: 4 | B11: VP LATGALES RP DIENVIDLATGALES IECIRKŅA REAĢĒŠANAS NODAĻAS 1.GRUPA | C11: inspektors | D11: 1220 | E11: 7.305 | F11: 11 | G11: 80.36 | H11: =ROUND(G11*0.2359,2) -> 18.96 | I11: =G11+H11 -> 99.32
A12: 5 | B12: VP LATGALES RP ZIEMEĻLATGALES IECIRKŅA PREVENCIJAS GRUPA | C12: vecākais inspektors | D12: 1279 | E12: 7.659 | F12: 30 | G12: 229.77 | H12: =ROUND(G12*0.2359,2) -> 54.2 | I12: =G12+H12 -> 283.97
A13: 6 | B13: VP LATGALES RP KRIMPB KRIMINĀLIZLŪKOŠANAS INFORMĀCIJAS ANALĪZES GRUPA | C13: vecākais inspektors | D13: 1468 | E13: 8.79 | F13: 20 | G13: 175.8 | H13: =ROUND(G13*0.2359,2) -> 41.47 | I13: =G13+H13 -> 217.27
A14: 7 | B14: VP LATGALES RP DIENVIDLATGALES IECIRKŅA IZMEKLĒŠANAS NODAĻAS 7.GRUPA | C14: vecākais inspektors | D14: 1255 | E14: 7.516 | F14: 5 | G14: 37.58 | H14: =ROUND(G14*0.2359,2) -> 8.87 | I14: =G14+H14 -> 46.45
A15: 8 | B15: VP LATGALES RP ZIEMEĻLATGALES IECIRKŅA IZMEKLĒŠANAS NODAĻAS 3.GRUPA | C15: vecākais inspektors | D15: 1438 | E15: 8.611 | F15: 10.75 | G15: 92.57 | H15: =ROUND(G15*0.2359,2) -> 21.84 | I15: =G15+H15 -> 114.41
A16: 9 | B16: VP LATGALES RP ZIEMEĻLATGALES IECIRKŅA REAĢĒŠANAS NODAĻAS 7.GRUPA | C16: vecākais inspektors | D16: 1255 | E16: 7.545 | F16: 16 | G16: 120.72 | H16: =ROUND(G16*0.2359,2)+0.01 -> 28.49 | I16: =G16+H16 -> 149.21
A17: 10 | B17: VP LATGALES RP DIENVIDLATGALES IECIRKŅA REAĢĒŠANAS NODAĻAS 6.GRUPA | C17: jaunākais inspektors | D17: 1083 | E17: 6.486 | F17: 5 | G17: 32.43 | H17: =ROUND(G17*0.2359,2) -> 7.65 | I17: =G17+H17 -> 40.08
A18: 11 | B18: VP LATGALES RP DIENVIDLATGALES IECIRKŅA IZMEKLĒŠANAS NODAĻAS 2.GRUPA | C18: galvenais inspektors | D18: 1468 | E18: 8.825 | F18: 4 | G18: 35.3 | H18: =ROUND(G18*0.2359,2) -> 8.33 | I18: =G18+H18 -> 43.63
A19: 12 | B19: VP LATGALES RP DIENVIDLATGALES IECIRKŅA IZMEKLĒŠANAS NODAĻAS 6.GRUPA | C19: galvenais inspektors | D19: 1448 | E19: 8.671 | F19: 9 | G19: 78.04 | H19: =ROUND(G19*0.2359,2) -> 18.41 | I19: =G19+H19 -> 96.45
A20: 13 | B20: VP LATGALES RP ZIEMEĻLATGALES IECIRKŅA IZMEKLĒŠANAS NODAĻAS 8.GRUPA | C20: inspektors | D20: 1903 | E20: 11.396 | F20: 5 | G20: 56.98 | H20: =ROUND(G20*0.2359,2) -> 13.44 | I20: =G20+H20 -> 70.42
A21: 14 | B21: VP LATGALES RP ZIEMEĻLATGALES IECIRKŅA IZMEKLĒŠANAS NODAĻAS 4.GRUPA | C21: inspektors | D21: 1532 | E21: 9.174 | F21: 15 | G21: 137.61 | H21: =ROUND(G21*0.2359,2) -> 32.46 | I21: =G21+H21 -> 170.07
A22: 15 | B22: VP LATGALES RP ZIEMEĻLATGALES IECIRKŅA REAĢĒŠANAS NODAĻAS 3.GRUPA | C22: inspektors | D22: 1296 | E22: 7.76 | F22: 15.5 | G22: 120.28 | H22: =ROUND(G22*0.2359,2) -> 28.37 | I22: =G22+H22 -> 148.65
A23: 16 | B23: VP LATGALES RP KĀRTPB ATĻAUJU SISTĒMAS GRUPA | C23: vecākais inspektors | D23: 1240 | E23: 7.445 | F23: 15 | G23: 111.68 | H23: =ROUND(G23*0.2359,2) -> 26.35 | I23: =G23+H23 -> 138.03
A24: 17 | B24: VP LATGALES RP DIENVIDLATGALES IECIRKŅA REAĢĒŠANAS NODAĻAS 1.GRUPA | C24: inspektors | D24: 1240 | E24: 7.426 | F24: 9 | G24: 66.83 | H24: =ROUND(G24*0.2359,2) -> 15.77 | I24: =G24+H24 -> 82.6
A25: 18 | B25: VP LATGALES RP ZIEMEĻLATGALES IECIRKŅA IZMEKLĒŠANAS NODAĻAS 3.GRUPA | C25: inspektors | D25: 1392 | E25: 8.335 | F25: 4.75 | G25: 39.59 | H25: =ROUND(G25*0.2359,2) -> 9.34 | I25: =G25+H25 -> 48.93
A26: 19 | B26: VP LATGALES REĢIONA PĀRVALDES DISCIPLINĀRĀS UZRAUDZĪBAS GRUPA | C26: galvenais inspektors | D26: 1486 | E26: 8.898 | F26: 30 | G26: 266.94 | H26: =ROUND(G26*0.2359,2) -> 62.97 | I26: =G26+H26 -> 329.91
A27: 20 | B27: VP LATGALES RP KĀRTPB RESURSU UN KRĪZES VADĪBAS NODAĻA | C27: nodaļas priekšnieks | D27: 1474 | E27: 8.826 | F27: 30 | G27: 264.78 | H27: =ROUND(G27*0.2359,2) -> 62.46 | I27: =G27+H27 -> 327.24
A28: 21 | B28: VP LATGALES RP KĀRTPB ATĻAUJU SISTĒMAS GRUPA | C28: inspektors | D28: 1176 | E28: 7.042 | F28: 11 | G28: 77.46 | H28: =ROUND(G28*0.2359,2) -> 18.27 | I28: =G28+H28 -> 95.73
... A37: 30 | B37: VP LATGALES RP KRIMPB ORGANIZĒTĀS NOZIEDZĪBAS SMAGO UN SĒRIJVEIDA NOZIEGUMU APKAROŠANAS NODAĻA | C37: vecākais inspektors | D37: 1488 | E37: 8.91 | F37: 20 | G37: 178.2 | H37: =ROUND(G37*0.2359,2) -> 42.04 | I37: =G37+H37 -> 220.24
A38: 31 | B38: VP LATGALES RP ZIEMEĻLATGALES IECIRKNIS | C38: iecirkņa priekšnieka vietnieks, Izmeklēšanas nodaļas priekšnieks | D38: 1903 | E38: 11.395 | F38: 10 | G38: 113.95 | H38: =ROUND(G38*0.2359,2)+0.01 -> 26.89 | I38: =G38+H38 -> 140.84
A39: 32 | B39: VP LATGALES RP ZIEMEĻLATGALES IECIRKŅA REAĢĒŠANAS NODAĻAS 8.GRUPA | C39: vecākais inspektors | D39: 1279 | E39: 7.659 | F39: 11 | G39: 84.25 | H39: =ROUND(G39*0.2359,2) -> 19.87 | I39: =G39+H39 -> 104.12
A40: 33 | B40: VP LATGALES RP ZIEMEĻLATGALES IECIRKŅA REAĢĒŠANAS NODAĻAS 5.GRUPA | C40: vecākais inspektors | D40: 1464 | E40: 8.766 | F40: 15.5 | G40: 135.87 | H40: =ROUND(G40*0.2359,2) -> 32.05 | I40: =G40+H40 -> 167.92
A41: 34 | B41: VP LATGALES RP ZIEMEĻLATGALES IECIRKŅA REAĢĒŠANAS NODAĻAS 1.GRUPA | C41: vecākais inspektors | D41: 1235 | E41: 7.395 | F41: 14 | G41: 103.53 | H41: =ROUND(G41*0.2359,2) -> 24.42 | I41: =G41+H41 -> 127.95
A42: 35 | B42: VP LATGALES RP ZIEMEĻLATGALES IECIRKŅA IZMEKLĒŠANAS NODAĻAS 9.GRUPA | C42: galvenais inspektors | D42: 1412 | E42: 8.49 | F42: 4 | G42: 33.96 | H42: =ROUND(G42*0.2359,2)+0.01 -> 8.02 | I42: =G42+H42 -> 41.98
A43: 36 | B43: VP LATGALES RP ZIEMEĻLATGALES IECIRKŅA REAĢĒŠANAS NODAĻAS 6.GRUPA | C43: vecākais inspektors | D43: 1279 | E43: 7.659 | F43: 15.5 | G43: 118.71 | H43: =ROUND(G43*0.2359,2) -> 28 | I43: =G43+H43 -> 146.71
A44: 37 | B44: VP LATGALES RP DIENVIDLATGALES IECIRKŅA REAĢĒŠANAS NODAĻAS 10.GRUPA | C44: inspektors | D44: 1200 | E44: 7.215 | F44: 14 | G44: 101.01 | H44: =ROUND(G44*0.2359,2) -> 23.83 | I44: =G44+H44 -> 124.84
A45: 38 | B45: VP LATGALES RP ZIEMEĻLATGALES IECIRKŅA IZMEKLĒŠANAS NODAĻAS 1.GRUPA | C45: inspektors | D45: 1412 | E45: 8.455 | F45: 15 | G45: 126.83 | H45: =ROUND(G45*0.2359,2) -> 29.92 | I45: =G45+H45 -> 156.75
A46: 39 | B46: VP LATGALES RP ZIEMEĻLATGALES IECIRKŅA REAĢĒŠANAS NODAĻAS 4.GRUPA | C46: vecākais inspektors | D46: 1235 | E46: 7.396 | F46: 5 | G46: 36.98 | H46: =ROUND(G46*0.2359,2) -> 8.72 | I46: =G46+H46 -> 45.7
A47: 40 | B47: VP LATGALES RP ZIEMEĻLATGALES IECIRKŅA REAĢĒŠANAS NODAĻAS 7.GRUPA | C47: vecākais inspektors | D47: 1255 | E47: 7.545 | F47: 14 | G47: 105.63 | H47: =ROUND(G47*0.2359,2) -> 24.92 | I47: =G47+H47 -> 130.55
A48: 41 | B48: VP LATGALES RP DIENVIDLATGALES IECIRKŅA IZMEKLĒŠANAS NODAĻAS 8.GRUPA | C48: vecākais inspektors | D48: 1255 | E48: 7.515 | F48: 10 | G48: 75.15 | H48: =ROUND(G48*0.2359,2) -> 17.73 | I48: =G48+H48 -> 92.88
...

Sheet 5.tabula
J1: 2.pielikuma 5.tabula
A2: Valsts policija
A3: Piemaksa par darbu paaugstināta riska un slodzes apstākļos amatpersonām ar speciālajām dienesta pakāpēm, kuras laika periodā no 2023.gada 1.maija līdz 31.maijam tika iesaistītas atbalsta sniegšanā Valsts robežsardzei Latvijas Republikas-Baltkrievijas Republikas valsts robežas robežuzraudzības nodrošināšanā
F4: 167
A5: Nr. p.k. | B5: Struktūrvienība | C5: Amats | D5: Mēnešalga amatpersonām ar speciālajām pakāpēm | E5: Piemaksas apmērs % | F5: Stundas likme | G5: Stundu skaits | H5: Piemaksa par darbu īpašos apstākļos | I5: DD VSAOI | J5: Atlīdzība
A6: kopā | G6: =SUM(G8:G472) -> 12823.5 | H6: =SUM(H8:H472) -> 21264.45 | I6: =SUM(I8:I472) -> 5010.13 | J6: =SUM(J8:J472) -> 26274.58
B7: LATGALES REĢIONA PĀRVALDE
A8: 1 | B8: VP LATGALES RP ZIEMEĻLATGALES IECIRKŅA IZMEKLĒŠANAS NODAĻAS 2.GRUPA | C8: inspektors | D8: 1387 | E8: 0.2 | F8: 8.305 | G8: 32 | H8: 53.15 | I8: =ROUND(H8*23.59%,2) -> 12.54 | J8: =H8+I8 -> 65.69
A9: 2 | B9: VP LATGALES RP DIENVIDLATGALES IECIRKŅA REAĢĒŠANAS NODAĻAS 3.GRUPA | C9: vecākais inspektors | D9: 1412 | E9: 0.2 | F9: 8.455 | G9: 37.5 | H9: 63.41 | I9: =ROUND(H9*23.59%,2) -> 14.96 | J9: =H9+I9 -> 78.37
A10: 3 | B10: VP LATGALES RP DIENVIDLATGALES IECIRKŅA REAĢĒŠANAS NODAĻAS 3.GRUPA | C10: vecākais inspektors | D10: 1412 | E10: 50% | F10: 8.453 | G10: 1.5 | H10: 6.34 | I10: =ROUND(H10*23.59%,2) -> 1.5 | J10: =H10+I10 -> 7.84
A11: 4 | B11: VP LATGALES RP ZIEMEĻLATGALES IECIRKŅA IZMEKLĒŠANAS NODAĻAS 5.GRUPA | C11: galvenais inspektors | D11: 1774 | E11: 20% | F11: 10.623 | G11: 48 | H11: 101.98 | I11: =ROUND(H11*23.59%,2) -> 24.06 | J11: =H11+I11 -> 126.04
A12: 5 | B12: VP LATGALES RP DIENVIDLATGALES IECIRKŅA REAĢĒŠANAS NODAĻAS 7.GRUPA | C12: inspektors | D12: 1220 | E12: 20% | F12: 7.306 | G12: 26 | H12: 37.99 | I12: =ROUND(H12*23.59%,2) -> 8.96 | J12: =H12+I12 -> 46.95
A13: 6 | B13: VP LATGALES RP DIENVIDLATGALES IECIRKŅA REAĢĒŠANAS NODAĻAS 7.GRUPA | C13: jaunākais inspektors | D13: 1083 | E13: 20% | F13: 6.492 | G13: 52 | H13: 67.52 | I13: =ROUND(H13*23.59%,2) -> 15.93 | J13: =H13+I13 -> 83.45
A14: 7 | B14: VP LATGALES RP DIENVIDLATGALES IECIRKŅA IZMEKLĒŠANAS NODAĻAS 5.GRUPA | C14: inspektors | D14: 1387 | E14: 20% | F14: 8.311 | G14: 31 | H14: 51.53 | I14: =ROUND(H14*23.59%,2) -> 12.16 | J14: =H14+I14 -> 63.69
A15: 8 | B15: VP LATGALES RP DIENVIDLATGALES IECIRKŅA REAĢĒŠANAS NODAĻAS 1.GRUPA | C15: inspektors | D15: 1220 | E15: 20% | F15: 7.305 | G15: 39 | H15: 56.98 | I15: =ROUND(H15*23.59%,2) -> 13.44 | J15: =H15+I15 -> 70.42
A16: 9 | B16: VP LATGALES RP ZIEMEĻLATGALES IECIRKŅA PREVENCIJAS GRUPA | C16: vecākais inspektors | D16: 1279 | E16: 20% | F16: 7.658 | G16: 24 | H16: 36.76 | I16: =ROUND(H16*23.59%,2) -> 8.67 | J16: =H16+I16 -> 45.43
A17: 10 | B17: VP LATGALES RP DIENVIDLATGALES IECIRKŅA REAĢĒŠANAS NODAĻAS 4.GRUPA | C17: vecākais inspektors | D17: 1279 | E17: 20% | F17: 7.66 | G17: 25 | H17: 38.3 | I17: =ROUND(H17*23.59%,2) -> 9.03 | J17: =H17+I17 -> 47.33
A18: 11 | B18: VP LATGALES RP ZIEMEĻLATGALES IECIRKŅA REAĢĒŠANAS NODAĻAS 9.GRUPA | C18: inspektors | D18: 1220 | E18: 20% | F18: 7.304 | G18: 23 | H18: 33.6 | I18: =ROUND(H18*23.59%,2) -> 7.93 | J18: =H18+I18 -> 41.53
A19: 12 | B19: VP LATGALES RP DIENVIDLATGALES IECIRKŅA PREVENCIJAS GRUPA | C19: inspektors | D19: 1240 | E19: 20% | F19: 7.425 | G19: 40.5 | H19: 60.14 | I19: =ROUND(H19*23.59%,2) -> 14.19 | J19: =H19+I19 -> 74.33
A20: 13 | B20: VP LATGALES RP KRIMPB KRIMINĀLIZLŪKOŠANAS INFORMĀCIJAS ANALĪZES GRUPA | C20: vecākais inspektors | D20: 1468 | E20: 20% | F20: 8.79 | G20: 20 | H20: 35.16 | I20: =ROUND(H20*23.59%,2) -> 8.29 | J20: =H20+I20 -> 43.45
A21: 14 | B21: VP LATGALES RP DIENVIDLATGALES IECIRKŅA IZMEKLĒŠANAS NODAĻAS 7.GRUPA | C21: vecākais inspektors | D21: 1255 | E21: 20% | F21: 7.516 | G21: 38.5 | H21: 57.87 | I21: =ROUND(H21*23.59%,2) -> 13.65 | J21: =H21+I21 -> 71.52
... A30: 23 | B30: VP LATGALES RP DIENVIDLATGALES IECIRKŅA IZMEKLĒŠANAS NODAĻAS 2.GRUPA | C30: galvenais inspektors | D30: 1468 | E30: 20% | F30: 8.799 | G30: 47 | H30: 82.71 | I30: =ROUND(H30*23.59%,2) -> 19.51 | J30: =H30+I30 -> 102.22
A31: 24 | B31: VP LATGALES RP DIENVIDLATGALES IECIRKŅA IZMEKLĒŠANAS NODAĻAS 2.GRUPA | C31: galvenais inspektors | D31: 1468 | E31: 50% | F31: 8.8 | G31: 0.5 | H31: 2.2 | I31: =ROUNDUP(H31*23.59%,2) -> 0.52 | J31: =H31+I31 -> 2.72
A32: 25 | B32: VP LATGALES RP ZIEMEĻLATGALES IECIRKŅA REAĢĒŠANAS NODAĻAS 10.GRUPA | C32: inspektors | D32: 1240 | E32: 20% | F32: 7.425 | G32: 22 | H32: 32.67 | I32: =ROUND(H32*23.59%,2) -> 7.71 | J32: =H32+I32 -> 40.38
A33: 26 | B33: VP LATGALES RP DIENVIDLATGALES IECIRKŅA REAĢĒŠANAS NODAĻAS 2.GRUPA | C33: vecākais inspektors | D33: 1255 | E33: 20% | F33: 7.517 | G33: 68.5 | H33: 102.98 | I33: =ROUND(H33*23.59%,2) -> 24.29 | J33: =H33+I33 -> 127.27
A34: 27 | B34: VP LATGALES RP DIENVIDLATGALES IECIRKŅA REAĢĒŠANAS NODAĻAS 2.GRUPA | C34: vecākais inspektors | D34: 1255 | E34: 50% | F34: 7.52 | G34: 0.5 | H34: 1.88 | I34: =ROUNDDOWN(H34*23.59%,2) -> 0.44 | J34: =H34+I34 -> 2.32
A35: 28 | B35: VP LATGALES RP DIENVIDLATGALES IECIRKŅA IZMEKLĒŠANAS NODAĻAS 1.GRUPA | C35: galvenais inspektors | D35: 1872 | E35: 20% | F35: 11.212 | G35: 13 | H35: 29.15 | I35: =ROUND(H35*23.59%,2) -> 6.88 | J35: =H35+I35 -> 36.03
A36: 29 | B36: VP LATGALES RP DIENVIDLATGALES IECIRKŅA IZMEKLĒŠANAS NODAĻAS 6.GRUPA | C36: vecākais inspektors | D36: 1259 | E36: 20% | F36: 7.54 | G36: 24 | H36: 36.19 | I36: =ROUND(H36*23.59%,2) -> 8.54 | J36: =H36+I36 -> 44.73
A37: 30 | B37: VP LATGALES RP ZIEMEĻLATGALES IECIRKŅA IZMEKLĒŠANAS NODAĻAS 8.GRUPA | C37: inspektors | D37: 1903 | E37: 20% | F37: 11.396 | G37: 34 | H37: 77.49 | I37: =ROUND(H37*23.59%,2) -> 18.28 | J37: =H37+I37 -> 95.77
A38: 31 | B38: VP LATGALES RP ZIEMEĻLATGALES IECIRKŅA IZMEKLĒŠANAS NODAĻAS 4.GRUPA | C38: inspektors | D38: 1532 | E38: 20% | F38: 9.174 | G38: 21.5 | H38: 39.45 | I38: =ROUND(H38*23.59%,2) -> 9.31 | J38: =H38+I38 -> 48.76
A39: 32 | B39: VP LATGALES RP ZIEMEĻLATGALES IECIRKŅA IZMEKLĒŠANAS NODAĻAS 4.GRUPA | C39: inspektors | D39: 1532 | E39: 50% | F39: 9.16 | G39: 0.5 | H39: 2.29 | I39: =ROUND(H39*23.59%,2) -> 0.54 | J39: =H39+I39 -> 2.83
A40: 33 | B40: VP LATGALES RP ZIEMEĻLATGALES IECIRKŅA REAĢĒŠANAS NODAĻAS 3.GRUPA | C40: inspektors | D40: 1296 | E40: 20% | F40: 7.76 | G40: 37.5 | H40: 58.2 | I40: =ROUND(H40*23.59%,2) -> 13.73 | J40: =H40+I40 -> 71.93
A41: 34 | B41: VP LATGALES RP KĀRTPB ATĻAUJU SISTĒMAS GRUPA | C41: vecākais inspektors | D41: 1240 | E41: 20% | F41: 7.431 | G41: 52 | H41: 77.28 | I41: =ROUND(H41*23.59%,2)+0.01 -> 18.24 | J41: =H41+I41 -> 95.52
A42: 35 | B42: VP LATGALES RP DIENVIDLATGALES IECIRKŅA REAĢĒŠANAS NODAĻAS 1.GRUPA | C42: inspektors | D42: 1240 | E42: 20% | F42: 7.425 | G42: 12 | H42: 17.82 | I42: =ROUND(H42*23.59%,2) -> 4.2 | J42: =H42+I42 -> 22.02
A43: 36 | B43: VP LATGALES RP ZIEMEĻLATGALES IECIRKŅA IZMEKLĒŠANAS NODAĻAS 3.GRUPA | C43: inspektors | D43: 1392 | E43: 20% | F43: 8.335 | G43: 37.5 | H43: 62.51 | I43: =ROUND(H43*23.59%,2) -> 14.75 | J43: =H43+I43 -> 77.26
A44: 37 | B44: VP LATGALES REĢIONA PĀRVALDES DISCIPLINĀRĀS UZRAUDZĪBAS GRUPA | C44: galvenais inspektors | D44: 1486 | E44: 20% | F44: 8.899 | G44: 34 | H44: 60.51 | I44: =ROUND(H44*23.59%,2) -> 14.27 | J44: =H44+I44 -> 74.78
A45: 38 | B45: VP LATGALES REĢIONA PĀRVALDES DISCIPLINĀRĀS UZRAUDZĪBAS GRUPA | C45: galvenais inspektors | D45: 1486 | E45: 50% | F45: 8.88 | G45: 0.5 | H45: 2.22 | I45: =ROUND(H45*23.59%,2) -> 0.52 | J45: =H45+I45 -> 2.74
A46: 39 | B46: VP LATGALES RP KĀRTPB RESURSU UN KRĪZES VADĪBAS NODAĻA | C46: nodaļas priekšnieks | D46: 1474 | E46: 20% | F46: 8.827 | G46: 26 | H46: 45.9 | I46: =ROUND(H46*23.59%,2) -> 10.83 | J46: =H46+I46 -> 56.73
A47: 40 | B47: VP LATGALES RP KĀRTPB ATĻAUJU SISTĒMAS GRUPA | C47: inspektors | D47: 1176 | E47: 20% | F47: 7.042 | G47: 36 | H47: 50.7 | I47: =ROUND(H47*23.59%,2)+0.01 -> 11.97 | J47: =H47+I47 -> 62.67
A48: 41 | B48: VP LATGALES RP DIENVIDLATGALES IECIRKŅA REAĢĒŠANAS NODAĻAS 4.GRUPA | C48: jaunākais inspektors | D48: 1083 | E48: 20% | F48: 6.485 | G48: 26 | H48: 33.72 | I48: =ROUND(H48*23.59%,2) -> 7.95 | J48: =H48+I48 -> 41.67
...

Sheet 6.tabula
G1: 2.pielikuma 6.tabula
A2: Valsts policija
A3: Detalizēts aprēķins dienas naudas samaksai amatpersonām ar speciālajām dienesta pakāpēm, sniedzot atbalstu Valsts robežsardzei Latvijas Republikas-Baltkrievijas Republikas valsts robežas robežuzraudzības nodrošināšanā par laika periodu no 2023.gada 15.aprīļa līdz 30.aprīlim
A5: Nr. p.k. | B5: Struktūrvienība | C5: Amats | D5: Laika periods | E5: Dienu skaits | F5: Likme | G5: Dienas nauda (kopsumma)
A6: kopā: | G6: =SUM(G7:G33) -> 644.8
B7: Rīgas reģiona pārvalde
A8: 1 | B8: Kārtības policijas pārvaldes Patruļpolicijas pārvaldes Speciālo uzdevumu bataljona 2.rota | C8: vada komandieris | D8: 15.04.2023.-30.04.2023. | E8: 2 | F8: 8 | G8: =ROUND(E8*F8,2) -> 16
E9: 14 | F9: 2.4 | G9: =ROUND(E9*F9,2) -> 33.6
A10: 2 | B10: Kārtības policijas pārvaldes Patruļpolicijas pārvaldes Speciālo uzdevumu bataljona 2.rota | C10: jaunākais inspektors | D10: 15.04.2023.-30.04.2023. | E10: 2 | F10: 8 | G10: =ROUND(E10*F10,2) -> 16
E11: 14 | F11: 2.4 | G11: =ROUND(E11*F11,2) -> 33.6
A12: 3 | B12: Kārtības policijas pārvaldes Patruļpolicijas pārvaldes Speciālo uzdevumu bataljona 2.rota | C12: jaunākais inspektors | D12: 15.04.2023.-30.04.2023. | E12: 2 | F12: 8 | G12: =ROUND(E12*F12,2) -> 16
E13: 14 | F13: 2.4 | G13: =ROUND(E13*F13,2) -> 33.6
A14: 4 | B14: Kārtības policijas pārvaldes Patruļpolicijas pārvaldes Speciālo uzdevumu bataljona 2.rota | C14: jaunākais inspektors | D14: 15.04.2023.-30.04.2023. | E14: 2 | F14: 8 | G14: =ROUND(E14*F14,2) -> 16
E15: 14 | F15: 2.4 | G15: =ROUND(E15*F15,2) -> 33.6
A16: 5 | B16: Kārtības policijas pārvaldes Patruļpolicijas pārvaldes Speciālo uzdevumu bataljona 2.rota | C16: jaunākais inspektors | D16: 15.04.2023.-30.04.2023. | E16: 2 | F16: 8 | G16: =ROUND(E16*F16,2) -> 16
E17: 14 | F17: 2.4 | G17: =ROUND(E17*F17,2) -> 33.6
A18: 6 | B18: Kārtības policijas pārvaldes Patruļpolicijas pārvaldes Speciālo uzdevumu bataljona 2.rota | C18: jaunākais inspektors | D18: 15.04.2023.-30.04.2023. | E18: 2 | F18: 8 | G18: =ROUND(E18*F18,2) -> 16
E19: 14 | F19: 2.4 | G19: =ROUND(E19*F19,2) -> 33.6
A20: 7 | B20: Kārtības policijas pārvaldes Patruļpolicijas pārvaldes Speciālo uzdevumu bataljona 2.rota | C20: vada komandieris | D20: 15.04.2023.-30.04.2023. | E20: 2 | F20: 8 | G20: =ROUND(E20*F20,2) -> 16
E21: 14 | F21: 2.4 | G21: =ROUND(E21*F21,2) -> 33.6
A22: 8 | B22: Kārtības policijas pārvaldes Patruļpolicijas pārvaldes Speciālo uzdevumu bataljona 2.rota | C22: jaunākais inspektors | D22: 15.04.2023.-30.04.2023. | E22: 2 | F22: 8 | G22: =ROUND(E22*F22,2) -> 16
E23: 14 | F23: 2.4 | G23: =ROUND(E23*F23,2) -> 33.6
A24: 9 | B24: Kārtības policijas pārvaldes Patruļpolicijas pārvaldes Speciālo uzdevumu bataljona 2.rota | C24: jaunākais inspektors | D24: 15.04.2023.-30.04.2023. | E24: 2 | F24: 8 | G24: =ROUND(E24*F24,2) -> 16
E25: 14 | F25: 2.4 | G25: =ROUND(E25*F25,2) -> 33.6
A26: 10 | B26: Kārtības policijas pārvaldes Patruļpolicijas pārvaldes Speciālo uzdevumu bataljona 2.rota | C26: jaunākais inspektors | D26: 15.04.2023.-30.04.2023. | E26: 2 | F26: 8 | G26: =ROUND(E26*F26,2) -> 16
E27: 14 | F27: 2.4 | G27: =ROUND(E27*F27,2) -> 33.6
A28: 11 | B28: Kārtības policijas pārvaldes Patruļpolicijas pārvaldes Speciālo uzdevumu bataljona 2.rota | C28: jaunākais inspektors | D28: 15.04.2023.-30.04.2023. | E28: 2 | F28: 8 | G28: =ROUND(E28*F28,2) -> 16
E29: 14 | F29: 2.4 | G29: =ROUND(E29*F29,2) -> 33.6
A30: 12 | B30: Kārtības policijas pārvaldes Patruļpolicijas pārvaldes Speciālo uzdevumu bataljona 2.rota | C30: jaunākais inspektors | D30: 15.04.2023.-30.04.2023. | E30: 2 | F30: 8 | G30: =ROUND(E30*F30,2) -> 16
E31: 14 | F31: 2.4 | G31: =ROUND(E31*F31,2) -> 33.6
A32: 13 | B32: Kārtības policijas pārvaldes Patruļpolicijas pārvaldes Speciālo uzdevumu bataljona 2.rota | C32: jaunākais inspektors | D32: 15.04.2023.-30.04.2023. | E32: 2 | F32: 8 | G32: =ROUND(E32*F32,2) -> 16
E33: 14 | F33: 2.4 | G33: =ROUND(E33*F33,2) -> 33.6

Sheet 7.tabula
F1: 2.pielikuma 7.tabula
A2: Valsts policija
A3: Degvielas izmaksu aprēķins degvielas izdevumiem, sniedzot atbalstu Valsts robežsardzei Latvijas Republikas-Baltkrievijas Republikas valsts robežas nelikumīgas šķērsošanas nodrošināšanā par laika periodu no 2023.gada 1.maija līdz 31.maijam
A5: Nr.p.k. | B5: Transportlīdzekļa marka | C5: Iesaistīto transportlīdzekļu skaits | D5: Faktiskais nobraukums pasākumā (km) | E5: Pasākuma laikā patērētā degviela (l) | F5: Summa euro
A6: Kopā: | C6: =ROUNDUP(SUM(C8:C29),2) -> 82 | D6: =ROUNDUP(SUM(D8:D29),2) -> 77201 | E6: =ROUNDUP(SUM(E8:E29),2) -> 5680.74 | F6: =ROUNDUP(SUM(F8:F29),2) -> 7344.26
A7: Rīgas reģiona pārvalde
A11: Latgales reģiona pārvalde
A12: 1 | B12: Hyundai Santa Fe | C12: 1 | D12: 259 | E12: 26.16 | F12: 33.48
A13: =A12+1 -> 2 | B13: Fiat 500xCross | C13: 1 | D13: 433 | E13: 30.31 | F13: 38.8
A14: =A13+1 -> 3 | B14: KIA Ceed | C14: 8 | D14: 2859 | E14: 164.97 | F14: 220.72
A15: =A14+1 -> 4 | B15: Opel Mokka | C15: 39 | D15: 38485 | E15: 2651.74 | F15: 3394.17
A16: =A15+1 -> 5 | B16: Opel Insignia | C16: 2 | D16: 995 | E16: 63.62 | F16: 81.44
A17: =A16+1 -> 6 | B17: Opel Insignia Limousine | C17: 5 | D17: 1457 | E17: 97.37 | F17: 124.64
A18: =A17+1 -> 7 | B18: Opel Combo | C18: 2 | D18: 3882 | E18: 219.14 | F18: 280.5
A19: =A18+1 -> 8 | B19: Peugeot Boxer | C19: 2 | D19: 1842 | E19: 174.99 | F19: 223.99
A20: =A19+1 -> 9 | B20: Renault Kangoo | C20: 4 | D20: 8812 | E20: 660.31 | F20: 845.2
A21: =A20+1 -> 10 | B21: Renault Laguna | C21: 3 | D21: 3564 | E21: 240.7 | F21: 308.1
A22: =A21+1 -> 11 | B22: Renault Trafic | C22: 4 | D22: 4579 | E22: 402.82 | F22: 515.61
A23: =A22+1 -> 12 | B23: Škoda Octavia | C23: 1 | D23: 201 | E23: 10.65 | F23: 13.63
A24: =A23+1 -> 13 | B24: Toyota CAMRY | C24: 3 | D24: 575 | E24: 34.63 | F24: 49.87
... A29: =A28+1 -> 18 | B29: Volvo S60 | C29: 1 | D29: 2016 | E29: 246.75 | F29: 355.32
