Workbook

Sheet Kopsavilkums
C1: Pielikums Nr.1 MK rīkojuma projekta “Par Zāļu valsts aģentūras 2023. gada budžeta apstiprināšanu” anotācijai
A3: Papildus nepieciešamais finansējums 2023.gadam
A4: Nr.p.k. | B4: Pozīcijas nosaukums | C4: EUR
A5: 1 | B5: Energoresursu cenu kāpuma ietekme | C5: =C6+C8+C7 -> 24221.39
A6: 1.1. | B6: Komunālo izmaksu pieaugums siltumenerģijai | C6: =Izdevumi_pfjas_nodrošināšanai!T18 -> 20207.07
A7: 1.2. | B7: Komunālo izmaksu pieaugums atkritumu izvešanas pakalpojumiem | C7: =Izdevumi_pfjas_nodrošināšanai!T35 -> 1318.32
A8: 1.3. | B8: Komunālo izmaksu pieaugums elektroenerģijai | C8: =Izdevumi_pfjas_nodrošināšanai!T29 -> 2696
A9: 2 | B9: Telpu nomas izmaksu pieaugums | C9: =Izdevumi_pfjas_nodrošināšanai!T97 -> 964.92
A10: 3 | B10: Izmeklējuma veikšana mirušo nāves cēloņu diferenciāla diagnozes noteikšana (zīdaiņi līdz 1 gada vecumam) (RAKUS pakalpojumu izdevumu segšana) | C10: =Izdevumi_pfjas_nodrošināšanai!T60 -> 396.28
A11: 4 | B11: Pamatfunkcijas uzturēšanai - reaģentu iegādes ekspertīžu un izpēšu nodrošināšanai | C11: =Izdevumi_pfjas_nodrošināšanai!T121 -> 10191.35
A12: 5 | B12: Neatliekami pasākumi VTMEC pamatfunkciju izpildei - kritiski nepieciešamie pasākumi pamatfunkcijas uzturēšanai esošajā līmenī | C12: =Neatliekami_pasākumi_pfjas_izp.!E25 -> 121764.77
A13: Kopā | C13: =C5+C9+C10+C11+C12 -> 157538.71
B14: t.sk. EKK 2000 | C14: =Neatliekami_pasākumi_pfjas_izp.!E26+Kopsavilkums!C5+Kopsavilkums!C9+Kopsavilkums!C10+Kopsavilkums!C11 -> 53056.45
B15: t.sk. EKK 5000 | C15: =Neatliekami_pasākumi_pfjas_izp.!E27 -> 104482.26

Sheet Neatliekami_pasākumi_pfjas_izp.
H1: Pielikums Nr.2 MK rīkojuma projekta “Par Zāļu valsts aģentūras 2023. gada budžeta apstiprināšanu” anotācijai
A2: Neatliekami pasākumi VTMEC pamatfunkciju izpildei - kritiski nepieciešamie pasākumi pamatfunkcijas uzturēšanai esošajā līmenī
A3: 1. Laboratoriju un nodaļu tehnoloģiju uzturēšanai un atjaunošanai, kapacitātes stirpināšanai, lai nodrošinātu pamatfunkciju nepārtrauktību un ilgtspēju
A4: Nr.p.k. | B4: Nepieciešamība/aktivitāte | C4: Izmaksas bez PVN | D4: PVN (21%) | E4: Izmaksas ar PVN | F4: Pamatojums iegādes nepieciešamībai
A6: 1 | B6: Fotoaparāts JRN Bauskā | C6: 413.22 | D6: =ROUND(C6*0.21,2) -> 86.78 | E6: =C6+D6 -> 500 | F6: nepieciešama miesas bojājumu fiksācijai fotoattēlu veidā dzīvo un mirušo personu ekspertīzēs un objektīvāka eksperta atzinuma sniegšanai
A7: 2 | B7: Elektriska nažu asināmā iekārta ar dimanta slīpripām, pareizu asināšanas leņķi, šablonu | C7: 400 | D7: =ROUND(C7*0.21,2) -> 84 | E7: =C7+D7 -> 484 | F7: Autopsijas veikšanai VaRN
A8: 3 | B8: Ledusskapis | C8: 410 | D8: =ROUND(C8*0.21,2) -> 86.1 | E8: =C8+D8 -> 496.1 | F8: Paraugu uzglabāšanaiVaRN
A9: 4 | B9: Divi elektriskie kaulu zāģi | C9: 2352 | D9: =ROUND(C9*0.21,2) -> 493.92 | E9: =C9+D9 -> 2845.92 | F9: Autopsijas veikšanai DRN
A10: 5 | B10: Kamera binokulārajam gaismas mikroskopam | C10: 2400 | D10: =ROUND(C10*0.21,2) -> 504 | E10: =C10+D10 -> 2904 | F10: Mikroskopisko pierādījumu apstiprinājumu fiksēšanai TMĢSL
A11: 6 | B11: 3 speciālās brilles zilajai lampai | C11: 90 | D11: =ROUND(C11*0.21,2) -> 18.9 | E11: =C11+D11 -> 108.9 | F11: Esošajam komplektam brilles salūzušas, efektīvu darbu var nodrošināt, ja vienlaikus traipus redz gan eksperts, gan laborants. Laboratorijas darba nodrošināšanai. TMĢSL
A12: 7 | B12: Kasešu grozs ar nodalījumiem audu apstrādes aparātā | C12: 250 | D12: =ROUND(C12*0.21,2) -> 52.5 | E12: =C12+D12 -> 302.5 | F12: 2gab., lai uzlabotu darba efektivitāti, produktivitāti, izsekojamību mikropreparātu sagatavošanas procesā THL
A13: 8 | B13: Krēsls pie stereomikroskopa telpā Nr. 150 | C13: 100 | D13: =ROUND(C13*0.21,2) -> 21 | E13: =C13+D13 -> 121 | F13: 1x krēsls - pie viena stereomikroskopa nav atbilstoša krēsla, kuram varētu mainīt augstumu un muguras leņķi, ko būtu svarīgi nodrošināt pie ilga sēdoša darba
A14: Kopā: | C14: =SUM(C6:C13) -> 6415.22 | D14: =SUM(D6:D13) -> 1347.2 | E14: =SUM(E6:E13) -> 7762.42
A15: 2. Informācijas tehnoloģiju pakalpojumiem, sekmējot ekspertīžu izpildes operativitāti un uzlabojot darba efektivitāti, kā arī Centra informācijas tehnoloģijas uzlabošanai
A16: Nr.p.k. | B16: Nepieciešamība/aktivitāte | C16: Izmaksas bez PVN | D16: PVN (21%) | E16: Izmaksas ar PVN | F16: Pamatojums iegādes nepieciešamībai
A18: 1 | B18: Rezerves kopēšanas risinājums | C18: 3305.79 | D18: =ROUND(C18*0.21,2) -> 694.22 | E18: =C18+D18 -> 4000.01 | F18: Programmatūra tiek abonēta uz gadu(pārsvarā visi tažotāji nepiedāvā iegādāties beztermiņa licences). Lai nodrošinātu MS Office 365 e-pasta un Centra datu ātru, vienkāršu, uzticamu un elastīgu datu rezerves kopēšanas risinājumu.
A19: 2 | B19: Drošības audits TMEIS | C19: 7000 | D19: =ROUND(C19*0.21,2) -> 1470 | E19: =C19+D19 -> 8470 | F19: Paaugstinātas drošības sistēmām nepieciešams katru gadu veikt drošības auditu - MK 442 ITK noteikumi.
A20: 3 | B20: Mācības | C20: 1652.89 | D20: =ROUND(C20*0.21,2) -> 347.11 | E20: =C20+D20 -> 2000 | F20: IT personāla apmācība (Microsoft Azzur infrastruktūrta)
A21: 4 | B21: Teamviewer | C21: 661.16 | D21: =ROUND(C21*0.21,2) -> 138.84 | E21: =C21+D21 -> 800 | F21: Attālinātā atbalsta sniegšana
A22: 5 | B22: Checkpoint 1600 Base apliance un 1535 Base apliance | C22: 63698.39 | D22: =ROUND(C22*0.21,2) -> 13376.66 | E22: =C22+D22 -> 77075.05 | F22: VTMEC Ugunsmūris Sophos SG230 pārtrauks darboties 2024. gada 6. jūnijā (beidzas uzturēšana un licence – turpmāka pagarināšana nav iespējama), tai skaitā arī Sophos RED15, kuri nodrošina VTMEC reģionālo nodaļu pieslēgumu centram. VTMEC pašlaik darbojas un visu nodrošina divi 2016. gadā iegādāti HP 360 G9 serveri bez garantijas.
A23: 6 | B23: 2 serveri, 1 disku masīvs, programmatūra | C23: 17898.59 | D23: =ROUND(C23*0.21,2) -> 3758.7 | E23: =C23+D23 -> 21657.29
A24: Kopā: | C24: =SUM(C18:C23) -> 94216.82 | D24: =SUM(D18:D23) -> 19785.53 | E24: =SUM(E18:E23) -> 114002.35
A25: Pavisam kopā: | C25: =C14+C24 -> 100632.04 | D25: =D14+D24 -> 21132.73 | E25: =E14+E24 -> 121764.77
B26: t.sk. EKK 2000 | C26: =C6+C7+C8+C11+C12+C13+C18+C19+C20+C21 -> 14283.06 | D26: =D6+D7+D8+D11+D12+D13+D18+D19+D20+D21 -> 2999.45 | E26: =E6+E7+E8+E11+E12+E13+E18+E19+E20+E21 -> 17282.51
B27: t.sk. EKK 5000 | C27: =C9+C10+C22+C23 -> 86348.98 | D27: =D9+D10+D22+D23 -> 18133.28 | E27: =E9+E10+E22+E23 -> 104482.26

Sheet Izdevumi_pfjas_nodrošināšanai
Q1: Pielikums Nr.3 MK rīkojuma projekta “Par Zāļu valsts aģentūras 2023. gada budžeta apstiprināšanu” anotācijai
A2: Valts tiesu medicīnas ekspertīzes centra kopsavilkums par budžeta apakšprogrammas 39.06. plānotu budžetu un faktiskajiem izdevumiem 2023.gadā
A3: Kods | B3: Nosaukums | C3: Likums par budžetu 2023.gadam | D3: Izdevumu pieauguma energoresursu kompensēšanai (MK 13.01.2023. sēdes prot. Nr.2 1.§ 6.punkts) | E3: Papildus finansējums TMEIS uzturēšanai | F3: BUDŽETS 2023 | G3: Fakts 2023 | M3: Plāns 2026 | S3: Izpildes prognoze 2023 | T3: Deficīts
G4: Janvāris | H4: Februāris | I4: Marts | J4: Aprīlis | K4: Maijs | L4: Jūnijs | M4: Jūlijs | N4: Augusts | O4: Septembris | P4: Oktobris | Q4: Novembris | R4: Decembris
A5: 1 | B5: 2 | C5: 3 | D5: 4 | E5: 5 | F5: 6=3+4+5 | G5: 7 | H5: 8 | J5: 10 | K5: 11 | L5: 12 | M5: 13 | N5: 14 | O5: 15 | P5: 16 | Q5: 17 | R5: 18 | S5: 19=7+8+9+10+11+12+13+14+15+16+17+18 | T5: 20=19-6
A6: B000 | B6: Izdevumi – kopā | C6: =+C7+C133 -> 229895 | D6: =+D7+D133 -> 60605 | E6: =+E7+E133 -> 18000 | F6: =C6+D6+E6 -> 308500 | G6: =+G7+G133 -> 24641.41 | H6: =+H7+H133 -> 33329.95 | I6: =+I7+I133 -> 31428.18 | J6: =+J7+J133 -> 26300.24 | K6: =+K7+K133 -> 23491.75 | L6: =+L7+L133 -> 22924.03 | M6: =+M7+M133 -> 20699.25 | N6: =+N7+N133 -> 30237.46 | ... R6: =+R7+R133 -> 57047.07 | S6: =SUM(G6:R6) -> 344273.94 | T6: =S6-F6 -> 35773.94
A7: 2000 | B7: Preces un pakalpojumi | C7: =C8+C9+C109+C128 -> 210835 | D7: =D8+D9+D109+D128 -> 60605 | E7: =E8+E9+E109+E128 -> 18000 | F7: =C7+D7+E7 -> 289440 | G7: =G8+G9+G109+G128 -> 24641.41 | H7: =H8+H9+H109+H128 -> 31668.62 | I7: =I8+I9+I109+I128 -> 31428.18 | J7: =J8+J9+J109+J128 -> 26300.24 | K7: =K8+K9+K109+K128 -> 20670.49 | L7: =L8+L9+L109+L128 -> 20396.41 | M7: =M8+M9+M109+M128 -> 17920.67 | N7: =N8+N9+N109+N128 -> 23178.79 | ... R7: =R8+R9+R109+R128 -> 57047.07 | S7: =SUM(G7:R7) -> 325213.94 | T7: =S7-F7 -> 35773.94
A8: 2100 | B8: Mācību, darba un dienesta komandējumi, darba braucieni | C8: 479 | F8: =C8+D8+E8 -> 479 | P8: 479 | S8: =SUM(G8:R8) -> 479 | T8: =S8-F8 -> 0
A9: 2200 | B9: Pakalpojumi | C9: =C10+C17+C44+C62+C86+C96 -> 160516.39 | D9: =D10+D17+D44+D62+D86+D96 -> 60605 | E9: =E10+E17+E44+E62+E86+E96 -> 18000 | F9: =C9+D9+E9 -> 239121.39 | G9: =G10+G17+G44+G62+G86+G96 -> 24271.49 | H9: =H10+H17+H44+H62+H86+H96 -> 28886.8 | I9: =I10+I17+I44+I62+I86+I96 -> 27477.45 | J9: =J10+J17+J44+J62+J86+J96 -> 25337.84 | K9: =K10+K17+K44+K62+K86+K96 -> 18288.26 | L9: =L10+L17+L44+L62+L86+L96 -> 16289.51 | M9: =M10+M17+M44+M62+M86+M96 -> 11568.67 | N9: =N10+N17+N44+N62+N86+N96 -> 16804.79 | ... R9: =R10+R17+R44+R62+R86+R96 -> 44727.94 | S9: =SUM(G9:R9) -> 264703.98 | T9: =S9-F9 -> 25582.59
A10: 2210 | B10: Izdevumi par sakaru pakalpojumiem | C10: =SUM(C11:C16) -> 6726 | D10: =SUM(D11:D16) -> 0 | E10: =SUM(E11:E16) -> 0 | F10: =C10+D10+E10 -> 6726 | G10: =SUM(G11:G16) -> 557.7 | H10: =SUM(H11:H16) -> 569.87 | I10: =SUM(I11:I16) -> 559.77 | J10: =SUM(J11:J16) -> 557.58 | K10: =SUM(K11:K16) -> 562.13 | L10: =SUM(L11:L16) -> 503.59 | M10: =SUM(M11:M16) -> 616 | N10: =SUM(N11:N16) -> 560 | ... R10: =SUM(R11:R16) -> 564.36 | S10: =SUM(G10:R10) -> 6726 | T10: =S10-F10 -> 0
B11: Tet SIA | C11: 3413 | F11: =C11+D11+E11 -> 3413 | G11: 284.35 | H11: 284.35 | I11: 284.35 | J11: 284.35 | K11: 284.35 | L11: 284.35 | M11: 284 | N11: 285 | O11: 284 | P11: 284 | Q11: 285 | R11: 284.9 | S11: =SUM(G11:R11) -> 3413 | T11: =S11-F11 -> 0
B12: Latvijas mobilais telefons SIA | C12: 1875 | F12: =C12+D12+E12 -> 1875 | G12: 156.09 | H12: 157.26 | I12: 156.09 | J12: 156.09 | K12: 156.09 | L12: 157.36 | M12: 156 | N12: 157 | O12: 156 | P12: 156 | Q12: 156 | R12: 155.02 | S12: =SUM(G12:R12) -> 1875 | T12: =S12-F12 -> 0
B13: Latvijas mobilais telefons SIA (mob.sak.) | C13: 1158 | F13: =C13+D13+E13 -> 1158 | G13: 99.22 | H13: =112.22-13 -> 99.22 | I13: 103.49 | J13: =96.51-1.56 -> 94.95 | K13: 99.22 | L13: 61.88 | M13: 100 | N13: 100 | O13: 100 | P13: 100 | Q13: 100 | R13: 100.02 | S13: =SUM(G13:R13) -> 1158 | T13: =S13-F13 -> 0
B14: Latvijas Pasts VAS (pasta sūtījumi), Latvijas pasta izdevumi | C14: 112 | F14: =C14+D14+E14 -> 112 | G14: 7.55 | H14: 13.88 | I14: 15.84 | J14: 12.21 | K14: 2.51 | M14: 10 | N14: 10 | O14: 10 | P14: 10 | Q14: 10 | R14: 10.01 | S14: =SUM(G14:R14) -> 112 | T14: =S14-F14 -> 0
B15: Posttech SIA (Frankēšanas iekārtas FP Optimail tehniskā apkope) | C15: 58 | F15: =C15+D15+E15 -> 58 | M15: 58 | S15: =SUM(G15:R15) -> 58 | T15: =S15-F15 -> 0
B16: iLazo SIA, Ovaho SIA (pasta pakalpojumi), Bestsender | C16: 110 | F16: =C16+D16+E16 -> 110 | G16: 10.49 | H16: 15.16 | J16: 9.98 | K16: 19.96 | M16: 8 | N16: 8 | O16: 8 | P16: 8 | Q16: 8 | R16: 14.41 | S16: =SUM(G16:R16) -> 110 | T16: =S16-F16 -> 0
A17: 2220 | B17: Izdevumi par komunālajiem pakalpojumiem | C17: =C18+C23+C29+C35+C42 -> 84217.48 | D17: =D18+D23+D29+D35+D42 -> 60605 | E17: =E18+E23+E29+E35+E42 -> 0 | F17: =C17+D17+E17 -> 144822.48 | G17: =G18+G23+G29+G35+G42 -> 22201.08 | H17: =H18+H23+H29+H35+H42 -> 22305.63 | I17: =I18+I23+I29+I35+I42 -> 20475.42 | J17: =J18+J23+J29+J35+J42 -> 19295.21 | K17: =K18+K23+K29+K35+K42 -> 12208.17 | L17: =L18+L23+L29+L35+L42 -> 9290.47 | M17: =M18+M23+M29+M35+M42 -> 5277.51 | N17: =N18+N23+N29+N35+N42 -> 5387.23 | ... R17: =R18+R23+R29+R35+R42 -> 22420.58 | S17: =SUM(G17:R17) -> 169043.87 | T17: =S17-F17 -> 24221.39
A18: 2221 | B18: Izdevumi par siltumenerģiju | C18: =SUM(C19:C22) -> 43163.48 | D18: =SUM(D19:D22) -> 42507 | E18: =SUM(E19:E22) -> 0 | F18: =C18+D18+E18 -> 85670.48 | G18: =SUM(G19:G22) -> 17520.27 | H18: =SUM(H19:H22) -> 17753.96 | I18: =SUM(I19:I22) -> 15449.12 | J18: =SUM(J19:J22) -> 14906.93 | K18: =SUM(K19:K22) -> 7899.69 | L18: =SUM(L19:L22) -> 2135.7 | M18: =SUM(M19:M22) -> 20 | N18: =SUM(N19:N22) -> 20 | ... R18: =SUM(R19:R22) -> 16451.88 | S18: =SUM(G18:R18) -> 105877.55 | T18: =S18-F18 -> 20207.07
B19: Vidzemes slimnīca, SIA | C19: 4652 | D19: 2798 | F19: =C19+D19+E19 -> 7450 | G19: 935.71 | H19: 2489.69 | I19: 2143.52 | J19: 1929.58 | K19: 1342.38 | L19: 516.06 | P19: 400 | Q19: 1000 | R19: 2500 | S19: =SUM(G19:R19) -> 13256.94 | T19: =S19-F19 -> 5806.94
B20: Latvijas Gāze, AS | C20: 9616.72 | D20: 3173.64 | F20: =C20+D20+E20 -> 12790.36 | G20: =2712.78+3.27 -> 2716.05 | H20: =2421.96+3.99 -> 2425.95 | I20: =1384.86+3.99 -> 1388.85 | J20: =1196.81+3.99 -> 1200.8 | K20: =402.01+3.99 -> 406 | L20: =11+3.99 -> 14.99 | M20: 20 | N20: 20 | O20: 20 | P20: 500 | Q20: 2000 | R20: 2701 | S20: =SUM(G20:R20) -> 13413.64 | T20: =S20-F20 -> 623.28
B21: RĪGAS SILTUMS, AS | C21: 26297 | D21: 34380.36 | F21: =C21+D21+E21 -> 60677.36 | G21: =3957.75+8685.25 -> 12643 | H21: =3617.37+7919.96 -> 11537.33 | I21: =3348.18+7374.9 -> 10723.08 | J21: =2921.04+7779.79 -> 10700.83 | K21: =1364.25+3976.74 -> 5340.99 | L21: =279.2+1325.45 -> 1604.65 | P21: 1500 | Q21: 7000 | R21: 10150.88 | S21: =SUM(G21:R21) -> 71200.76 | T21: =S21-F21 -> 10523.4
B22: Pļaviņu Komunālie pakalpojumi, SIA | C22: 2597.76 | D22: 2155 | F22: =C22+D22+E22 -> 4752.76 | G22: 1225.51 | H22: 1300.99 | I22: 1193.67 | J22: 1075.72 | K22: 810.32 | P22: 500 | Q22: 800 | R22: 1100 | S22: =SUM(G22:R22) -> 8006.21 | T22: =S22-F22 -> 3253.45
A23: 2222 | B23: Izdevumi par ūdensapgādi un kanalizāciju | C23: =SUM(C24:C28) -> 6504 | D23: =SUM(D24:D28) -> 456 | E23: =SUM(E24:E28) -> 0 | F23: =C23+D23+E23 -> 6960 | G23: =SUM(G24:G28) -> 468.64 | H23: =SUM(H24:H28) -> 528.2 | I23: =SUM(I24:I28) -> 592.63 | J23: =SUM(J24:J28) -> 494.98 | K23: =SUM(K24:K28) -> 677.95 | L23: =SUM(L24:L28) -> 623.83 | M23: =SUM(M24:M28) -> 606.96 | N23: =SUM(N24:N28) -> 606.68 | ... R23: =SUM(R24:R28) -> 545.21 | S23: =SUM(G23:R23) -> 6960 | T23: =S23-F23 -> 0
B24: Daugavpils pilsētas dome | C24: 182 | F24: =C24+D24+E24 -> 182 | G24: 12.68 | H24: 12.68 | I24: 15.85 | J24: 9.78 | K24: 14.67 | L24: 20.13 | M24: 25 | N24: 12.68 | O24: 12.68 | P24: 15 | Q24: 15.24 | R24: 15.61 | S24: =SUM(G24:R24) -> 182 | T24: =S24-F24 -> 0
B25: Rēzeknes slimnīca SIA | C25: 244 | D25: 37.74 | F25: =C25+D25+E25 -> 281.74 | H25: 17.42 | I25: 7.74 | J25: 7.74 | K25: 7.74 | L25: 126.34 | M25: 19 | N25: 19 | O25: 19 | P25: 19 | Q25: 19 | R25: 19.76 | S25: =SUM(G25:R25) -> 281.74 | T25: =S25-F25 -> 0
B26: Vidzemes slimnīca, SIA | C26: 650 | D26: 67.3 | F26: =C26+D26+E26 -> 717.3 | G26: 68.69 | H26: 58.35 | I26: 52.3 | J26: 47.34 | K26: 47.52 | L26: 45.18 | M26: 57.96 | N26: 70 | O26: 70 | P26: 60 | Q26: 70 | R26: 69.96 | S26: =SUM(G26:R26) -> 717.3 | T26: =S26-F26 -> 0
B27: Rīgas Austrumu klīniskā universitātes slimnīca SIA | C27: 5300 | D27: 260.04 | F27: =C27+D27+E27 -> 5560.04 | G27: =86.61+275.85 -> 362.46 | H27: =131.51+298.32 -> 429.83 | I27: =137.93+368.89 -> 506.82 | J27: =134.73+285.47 -> 420.2 | K27: =336.82+266.23 -> 603.05 | L27: =170+253.42 -> 423.42 | M27: 480 | N27: 480 | O27: 480 | P27: 480 | Q27: 480 | R27: 414.26 | S27: =SUM(G27:R27) -> 5560.04 | T27: =S27-F27 -> 0
B28: Pļaviņu Komunālie pakalpojumi, SIA | C28: 128 | D28: 90.92 | F28: =C28+D28+E28 -> 218.92 | G28: 24.81 | H28: 9.92 | I28: 9.92 | J28: 9.92 | K28: 4.97 | L28: 8.76 | M28: 25 | N28: 25 | O28: 25 | P28: 25 | Q28: 25 | R28: 25.62 | S28: =SUM(G28:R28) -> 218.92 | T28: =S28-F28 -> 0
A29: 2223 | B29: Izdevumi par elektroenerģiju | C29: =SUM(C30:C34) -> 28187 | D29: =SUM(D30:D34) -> 15132 | E29: =SUM(E30:E34) -> 0 | F29: =C29+D29+E29 -> 43319 | G29: =SUM(G30:G34) -> 3276.07 | H29: =SUM(H30:H34) -> 3645.24 | I29: =SUM(I30:I34) -> 3216.09 | J29: =SUM(J30:J34) -> 3357.09 | K29: =SUM(K30:K34) -> 3363.77 | L29: =SUM(L30:L34) -> 3930.35 | M29: =SUM(M30:M34) -> 4282.45 | N29: =SUM(N30:N34) -> 4282.45 | ... R29: =SUM(R30:R34) -> 4188.14 | S29: =SUM(G29:R29) -> 46015 | T29: =S29-F29 -> 2696
B30: Rēzeknes slimnīca SIA | C30: 1800 | D30: 3323 | F30: =C30+D30+E30 -> 5123 | G30: 473.36 | H30: 436.82 | I30: 450.5 | J30: 414.5 | K30: 147.98 | L30: 102.78 | M30: 500 | N30: 500 | O30: 500 | P30: 500 | Q30: 500 | R30: 597.06 | S30: =SUM(G30:R30) -> 5123 | T30: =S30-F30 -> 0
B31: Vidzemes slimnīca, SIA | C31: 1264 | F31: =C31+D31+E31 -> 1264 | G31: 55.71 | H31: 7.71 | I31: =101.68+6.81 -> 108.49 | J31: 53.41 | K31: 78.19 | L31: 169.01 | M31: 132.45 | N31: 132.45 | O31: 132.45 | P31: 132.45 | Q31: 132.45 | R31: 129.23 | S31: =SUM(G31:R31) -> 1264 | T31: =S31-F31 -> 0
B32: Sadales tīkls, AS | C32: 2528 | F32: =C32+D32+E32 -> 2528 | G32: =54.14+103.79 -> 157.93 | H32: =52.37+109.71 -> 162.08 | I32: =48.35+106.47 -> 154.82 | J32: =108.4+55.19 -> 163.59 | K32: =65.65+124.19 -> 189.84 | L32: =79.45+119.81 -> 199.26 | M32: 250 | N32: 250 | O32: 250 | P32: 250 | Q32: 250 | R32: 250.48 | S32: =SUM(G32:R32) -> 2528 | T32: =S32-F32 -> 0
B33: Enefit, SIA | C33: 2547 | F33: =C33+D33+E33 -> 2547 | G33: =40.67+99.28 -> 139.95 | H33: =118.01+39.02 -> 157.03 | I33: =39.98+129.81 -> 169.79 | J33: 130.68 | K33: =101.97+46.33 -> 148.3 | L33: =181.68+119.72 -> 301.4 | M33: 250 | N33: 250 | O33: 250 | P33: 250 | Q33: 250 | R33: 249.85 | S33: =SUM(G33:R33) -> 2547 | T33: =S33-F33 -> 0
B34: Rīgas Austrumu klīniskā universitātes slimnīca SIA | C34: 20048 | D34: 11809 | F34: =C34+D34+E34 -> 31857 | G34: =340.16+2108.96 -> 2449.12 | H34: =388.75+2492.85 -> 2881.6 | I34: =301.28+2031.21 -> 2332.49 | J34: =281.85+2313.06 -> 2594.91 | K34: =256.62+2542.84 -> 2799.46 | L34: =279.81+2878.09 -> 3157.9 | M34: 3150 | N34: 3150 | O34: 3150 | P34: 2963 | Q34: 2963 | R34: 2961.52 | S34: =SUM(G34:R34) -> 34553 | T34: =S34-F34 -> 2696
A35: 2224 | B35: Izdevumi par atkritumu savākšanu, izvešanu no apdzīvotām vietām un teritorijām ārpus apdzīvotām vietām un atkritumu utilizāciju | C35: =SUM(C36:C41) -> 6218 | D35: =SUM(D36:D41) -> 2510 | E35: =SUM(E36:E41) -> 0 | F35: =C35+D35+E35 -> 8728 | G35: =SUM(G36:G41) -> 924 | H35: =SUM(H36:H41) -> 366.13 | I35: =SUM(I36:I41) -> 1205.48 | J35: =SUM(J36:J41) -> 524.11 | K35: =SUM(K36:K41) -> 254.66 | L35: =SUM(L36:L41) -> 2588.49 | M35: =SUM(M36:M41) -> 356 | N35: =SUM(N36:N41) -> 466 | ... R35: =SUM(R36:R41) -> 1223.45 | S35: =SUM(G35:R35) -> 10046.32 | T35: =S35-F35 -> 1318.32
B36: ALAAS SIA (Rēzekne) | C36: 234 | D36: 90 | F36: =C36+D36+E36 -> 324 | G36: 22.87 | H36: 44.34 | I36: 29.56 | J36: 29.56 | K36: 29.56 | L36: 34.17 | M36: 24 | N36: 24 | O36: 24 | P36: 24 | Q36: 24 | R36: 13.94 | S36: =SUM(G36:R36) -> 324 | T36: =S36-F36 -> 0
B37: Eco Baltia vide SIA | C37: 1551 | D37: 400 | F37: =C37+D37+E37 -> 1951 | G37: =27.67+110.69 -> 138.36 | H37: =2.94+43.68+116.49 -> 163.11 | I37: =29.12+116.49 -> 145.61 | J37: =29.12+116.49 -> 145.61 | K37: =29.12+116.49 -> 145.61 | L37: =29.12+174.74 -> 203.86 | M37: 168 | N37: 168 | O37: 168 | P37: 168 | Q37: 168 | R37: 168.84 | S37: =SUM(G37:R37) -> 1951 | T37: =S37-F37 -> 0
B38: Ragn Sell/Lautus SIA | C38: 3699 | D38: 1888 | F38: =C38+D38+E38 -> 5587 | G38: 704.98 | H38: 94.16 | I38: 969.23 | J38: =197.15+90.71 -> 287.86 | K38: 21.85 | L38: =2217.51+71.87 -> 2289.38 | M38: 100 | N38: 150 | O38: 1000 | P38: 160 | Q38: 150 | R38: 977.86 | S38: =SUM(G38:R38) -> 6905.32 | T38: =S38-F38 -> 1318.32
B39: Vidzemes slimnīca SIA | C39: 480 | D39: 100 | F39: =C39+D39+E39 -> 580 | G39: =26.35+18.63 -> 44.98 | H39: 47.29 | I39: =28.66+18.63 -> 47.29 | J39: =28.66+18.63 -> 47.29 | K39: =28.66+18.63 -> 47.29 | L39: =28.66+18.63 -> 47.29 | M39: 50 | N39: 50 | O39: 50 | P39: 50 | Q39: 50 | R39: 48.57 | S39: =SUM(G39:R39) -> 580 | T39: =S39-F39 -> 0
B40: Atkritumu apsaimniekošanas Dienvidlatgales starppašvaldību organizācija SIA | C40: 134 | D40: 32 | F40: =C40+D40+E40 -> 166 | G40: 12.81 | H40: 17.23 | I40: 13.79 | J40: 13.79 | K40: 10.35 | L40: 13.79 | M40: 14 | N40: 14 | O40: 14 | P40: 14 | Q40: 14 | R40: 14.24 | S40: =SUM(G40:R40) -> 166 | T40: =S40-F40 -> 0
...

Sheet PSMVM_Izmaksu pozicijas
G1: Pielikums Nr.4 MK rīkojuma projekta “Par Zāļu valsts aģentūras 2023. gada budžeta apstiprināšanu” anotācijai
A3: Nr. | B3: Pozīciju nosaukums | C3: Mērvienība | D3: Vienības | E3: Cena par vienību | F3: Kopā | G3: Izstāžu/pasākumu skaits | H3: Kopsumma
A4: 1 | B4: Telpu iekārtojuma arhitektūra/scenogrāfija izstādēm un publsikās programmas pasākumiem | H4: =H5+H6+H7+H8 -> 20000
A5: 1.1 | B5: Izstāžu dizaina izstrāde t.sk. tehniskie zīmējumi | C5: gab | D5: 1 | E5: 2410 | F5: =D5*E5 -> 2410 | G5: 2 | H5: =F5*G5 -> 4820
A6: 1.2 | B6: Izstāžu iekārtojuma (vitrīnu, stendu, podestu) ražošana/uzbūve | C6: m2 | D6: 188 | E6: 30 | F6: =D6*E6 -> 5640 | G6: 2 | H6: =F6*G6 -> 11280
A7: 1.3 | B7: Telpu scenogrāfijas izstrāde publiskās programmas pasākumiem | C7: gab | D7: 1 | E7: 100 | F7: =D7*E7 -> 100 | G7: 4 | H7: =F7*G7 -> 400
A8: 1.4 | B8: Telpu iekārtošana publiskās programmas pasākumiem (skatuve, radošās darbnīcas iekārtošana) | C8: m2 | D8: 70 | E8: 10 | F8: =D8*E8 -> 700 | G8: 5 | H8: =F8*G8 -> 3500
A10: 2 | B10: Vizuālās komunikācijas dizains un ražošana | F10: =D10*E10 -> 0 | H10: =H11+H12+H13+H14+H15+H16+H17+H18+H19+H20+H21+H22 -> 14999
A11: 2.1 | B11: Izstādes grafiskās identitātes izstrāde | C11: gab | D11: 1 | E11: 1250 | F11: =ROUNDUP(D11*E11,0) -> 1250 | G11: 2 | H11: =ROUNDUP(F11*G11,0) -> 2500
A12: 2.2.1. | B12: plakāti | C12: gab | D12: 300 | E12: 3 | F12: =ROUNDUP(D12*E12,0) -> 900 | G12: 2 | H12: =ROUNDUP(F12*G12,0) -> 1800
A13: 2.2.2. | B13: flajeri | C13: gab | D13: 500 | E13: 0.35 | F13: =ROUNDUP(D13*E13,0) -> 175 | G13: 2 | H13: =ROUNDUP(F13*G13,0) -> 350
A14: 2.2.3. | B14: sociālo tīklu reklāmas | C14: gab | D14: 10 | E14: 21 | F14: =ROUNDUP(D14*E14,0) -> 210 | G14: 2 | H14: =ROUNDUP(F14*G14,0) -> 420
A15: 2.2.4. | B15: pilsētvidē | C15: gab | D15: 95 | E15: 10 | F15: =ROUNDUP(D15*E15,0) -> 950 | G15: 2 | H15: =ROUNDUP(F15*G15,0) -> 1900
A16: 2.3 | B16: Baneru ražošana un izvietošana uz muzeja fasādes | C16: gab | D16: 1 | E16: 200 | F16: =ROUNDUP(D16*E16,0) -> 200 | G16: 2 | H16: =ROUNDUP(F16*G16,0) -> 400
A17: 2.4 | B17: Izstādes pavadošo tekstu korektūra, tulkošana | C17: zīmes | D17: 25000 | E17: 0.012 | F17: =ROUNDUP(D17*E17,0) -> 300 | G17: 2 | H17: =ROUNDUP(F17*G17,0) -> 600
A18: 2.5 | B18: Izstādes pavadošo tekstu maketēšana, ploterēšana un izvietošana izstādē | C18: m2 | D18: 60 | E18: 12 | F18: =ROUNDUP(D18*E18,0) -> 720 | G18: 2 | H18: =ROUNDUP(F18*G18,0) -> 1440
A19: 2.6 | B19: Video un audiomateriālu filmēšana, pēcapstrāde, montāža un izvietošana izstādē | C19: minūtes | D19: 35 | E19: 70 | F19: =ROUNDUP(D19*E19,0) -> 2450 | G19: 2 | H19: =ROUNDUP(F19*G19,0) -> 4900
A20: 2.7.1. | B20: lielformāta plakāti | C20: gab | D20: 15 | E20: 3 | F20: =ROUNDUP(D20*E20,0) -> 45 | G20: 8 | H20: =ROUNDUP(F20*G20,0) -> 360
A21: 2.7.2. | B21: flajeri | C21: gab | D21: 100 | E21: 0.35 | F21: =ROUNDUP(D21*E21,0) -> 35 | G21: 5 | H21: =ROUNDUP(F21*G21,0) -> 175
A22: 2.7.3. | B22: sociālo tīklu publicitātes materiāli un to maksas reklāma ("būstošana") | C22: gab | D22: 1 | E22: 22 | F22: =ROUNDUP(D22*E22,0) -> 22 | G22: 7 | H22: =ROUNDUP(F22*G22,0) -> 154
A23: 3 | B23: Tehniskais nodrošinājums | F23: =D23*E23 -> 0 | H23: =H24+H25+H26+H27+H28 -> 10001
A24: 3.1 | B24: Video un audio atskaņotāju, projektoru, ekrānu noma un apkalpošana izstādēs | C24: vienības | D24: 15 | E24: 148 | F24: =D24*E24 -> 2220 | G24: 2 | H24: =F24*G24 -> 4440
A25: 3.2 | B25: Izstāžu apgaismojuma dizains un realizācija | C25: gab | D25: 1 | E25: 600 | F25: =D25*E25 -> 600 | G25: 2 | H25: =F25*G25 -> 1200
A26: 3.3 | B26: Izstāžu audiogidi | C26: projekts | D26: 1 | E26: 961 | F26: =D26*E26 -> 961 | G26: 1 | H26: =F26*G26 -> 961
A27: 3.4 | B27: Publisko programmu pasākumiem- tiešraidēm nepieciešamie pakalpojumi | C27: stundas | D27: 3 | E27: 200 | F27: =D27*E27 -> 600 | G27: 4 | H27: =F27*G27 -> 2400
A28: 3.5 | B28: Publisko programmu audio apskaņošana - skandas, mikrofoni | C28: gab | D28: 1 | E28: 100 | F28: =D28*E28 -> 100 | G28: 10 | H28: =F28*G28 -> 1000
A30: 4 | B30: Eksponātu deponēšana, transportēšana, apdrošināšana; autortiesību licences; izstādēm nepieciešamo jaundarbu radīšana | F30: =D30*E30 -> 0 | H30: =H31+H32+H33+H34 -> 10000
A31: 4.1 | B31: Eksponātu deponēšana, apdrošināšana | C31: Skaits | D31: 5 | E31: 150 | F31: =D31*E31 -> 750 | G31: 2 | H31: =F31*G31 -> 1500
A32: 4.2 | B32: Eksponātu transportēšana | C32: Skaits | D32: 10 | E32: 100 | F32: =D32*E32 -> 1000 | G32: 2 | H32: =F32*G32 -> 2000
A33: 4.3 | B33: Autortiesību licences | C33: Skaits | D33: 10 | E33: 25 | F33: =D33*E33 -> 250 | G33: 2 | H33: =F33*G33 -> 500
A34: 4.4 | B34: Jaundarbu radīšana | C34: Skaits | D34: 4 | E34: 750 | F34: =D34*E34 -> 3000 | G34: 2 | H34: =F34*G34 -> 6000
A35: 5 | B35: Ar pasākumu norisi saistītais materiāli tehniskais nodrošinājums | H35: =H36+H37 -> 5000
A36: 5.1 | B36: Radošo darbnīcu materiāli (plastelīns, aplikāciju papīrs, karstā līme un citi materiāli atbilstoši pasākumu programmai); | C36: pasākumu skaits, katrā 20 dalībnieki | D36: 60 | E36: 20 | F36: =D36*E36 -> 1200 | G36: 2 | H36: =F36*G36 -> 2400
A37: 5.2 | B37: Laboratorijas piederumi muzejpedagoģiskajām nodarbībām (mikroskopu aprīkojums, petri trauciņi, testeri, mēģenes, aizsargapģērbs); datorprogrammu licences interaktivajam saturam digitālajā klasē | C37: pasākumu skaits, katrā 20 dalībnieki | D37: 130 | E37: 20 | F37: =D37*E37 -> 2600 | G37: 1 | H37: =F37*G37 -> 2600
B38: KOPĀ: | H38: =H35+H30+H23+H10+H4 -> 60000
B39: t.sk. EKK 2000 | H39: 55000
B40: t.sk. EKK 5000 | H40: 5000
