Workbook

Sheet Kopsavilkums
C1: Pielikums Nr.1 MK rīkojuma projekta “Par Zāļu valsts aģentūras 2023. gada budžeta apstiprināšanu” anotācijai
A3: Papildus nepieciešamais finansējums 2023.gadam
A4: Nr.p.k. | B4: Pozīcijas nosaukums | C4: EUR
A5: 1 | B5: Energoresursu cenu kāpuma ietekme | C5: =C6+C8+C7 -> 24221.39
A6: 1.1. | B6: Komunālo izmaksu pieaugums siltumenerģijai | C6: =Izdevumi_pfjas_nodrošināšanai!T18 -> 20207.07
A7: 1.2. | B7: Komunālo izmaksu pieaugums atkritumu izvešanas pakalpojumiem | C7: =Izdevumi_pfjas_nodrošināšanai!T35 -> 1318.32
A8: 1.3. | B8: Komunālo izmaksu pieaugums elektroenerģijai | C8: =Izdevumi_pfjas_nodrošināšanai!T29 -> 2696
A9: 2 | B9: Telpu nomas izmaksu pieaugums | C9: =Izdevumi_pfjas_nodrošināšanai!T97 -> 964.92
A10: 3 | B10: Izmeklējuma veikšana mirušo nāves cēloņu diferenciāla diagnozes noteikšana (zīdaiņi līdz 1 gada vecumam) (RAKUS pakalpojumu izdevumu segšana) | C10: =Izdevumi_pfjas_nodrošināšanai!T60 -> 396.28
A11: 4 | B11: Pamatfunkcijas uzturēšanai - reaģentu iegādes ekspertīžu un izpēšu nodrošināšanai | C11: =Izdevumi_pfjas_nodrošināšanai!T121 -> 10191.35
A12: 5 | B12: Neatliekami pasākumi VTMEC pamatfunkciju izpildei - kritiski nepieciešamie pasākumi pamatfunkcijas uzturēšanai esošajā līmenī | C12: =Neatliekami_pasākumi_pfjas_izp.!E25 -> 121764.77
A13: Kopā | C13: =C5+C9+C10+C11+C12 -> 157538.71
B14: t.sk. EKK 2000 | C14: =Neatliekami_pasākumi_pfjas_izp.!E26+Kopsavilkums!C5+Kopsavilkums!C9+Kopsavilkums!C10+Kopsavilkums!C11 -> 53056.45
B15: t.sk. EKK 5000 | C15: =Neatliekami_pasākumi_pfjas_izp.!E27 -> 104482.26

Sheet Neatliekami_pasākumi_pfjas_izp.
H1: Pielikums Nr.2 MK rīkojuma projekta “Par Zāļu valsts aģentūras 2023. gada budžeta apstiprināšanu” anotācijai
A2: Neatliekami pasākumi VTMEC pamatfunkciju izpildei - kritiski nepieciešamie pasākumi pamatfunkcijas uzturēšanai esošajā līmenī
A3: 1. Laboratoriju un nodaļu tehnoloģiju uzturēšanai un atjaunošanai, kapacitātes stirpināšanai, lai nodrošinātu pamatfunkciju nepārtrauktību un ilgtspēju
A4: Nr.p.k. | B4: Nepieciešamība/aktivitāte | C4: Izmaksas bez PVN | D4: PVN (21%) | E4: Izmaksas ar PVN | F4: Pamatojums iegādes nepieciešamībai
A6: 1 | B6: Fotoaparāts JRN Bauskā | C6: 413.22 | D6: =ROUND(C6*0.21,2) -> 86.78 | E6: =C6+D6 -> 500 | F6: nepieciešama miesas bojājumu fiksācijai fotoattēlu veidā dzīvo un mirušo personu ekspertīzēs un objektīvāka eksperta atzinuma sniegšanai
A7: 2 | B7: Elektriska nažu asināmā iekārta ar dimanta slīpripām, pareizu asināšanas leņķi, šablonu | C7: 400 | D7: =ROUND(C7*0.21,2) -> 84 | E7: =C7+D7 -> 484 | F7: Autopsijas veikšanai VaRN
A8: 3 | B8: Ledusskapis | C8: 410 | D8: =ROUND(C8*0.21,2) -> 86.1 | E8: =C8+D8 -> 496.1 | F8: Paraugu uzglabāšanaiVaRN
A9: 4 | B9: Divi elektriskie kaulu zāģi | C9: 2352 | D9: =ROUND(C9*0.21,2) -> 493.92 | E9: =C9+D9 -> 2845.92 | F9: Autopsijas veikšanai DRN
A10: 5 | B10: Kamera binokulārajam gaismas mikroskopam | C10: 2400 | D10: =ROUND(C10*0.21,2) -> 504 | E10: =C10+D10 -> 2904 | F10: Mikroskopisko pierādījumu apstiprinājumu fiksēšanai TMĢSL
A11: 6 | B11: 3 speciālās brilles zilajai lampai | C11: 90 | D11: =ROUND(C11*0.21,2) -> 18.9 | E11: =C11+D11 -> 108.9 | F11: Esošajam komplektam brilles salūzušas, efektīvu darbu var nodrošināt, ja vienlaikus traipus redz gan eksperts, gan laborants. Laboratorijas darba nodrošināšanai. TMĢSL
A12: 7 | B12: Kasešu grozs ar nodalījumiem audu apstrādes aparātā | C12: 250 | D12: =ROUND(C12*0.21,2) -> 52.5 | E12: =C12+D12 -> 302.5 | F12: 2gab., lai uzlabotu darba efektivitāti, produktivitāti, izsekojamību mikropreparātu sagatavošanas procesā THL
A13: 8 | B13: Krēsls pie stereomikroskopa telpā Nr. 150 | C13: 100 | D13: =ROUND(C13*0.21,2) -> 21 | E13: =C13+D13 -> 121 | F13: 1x krēsls - pie viena stereomikroskopa nav atbilstoša krēsla, kuram varētu mainīt augstumu un muguras leņķi, ko būtu svarīgi nodrošināt pie ilga sēdoša darba
A14: Kopā: | C14: =SUM(C6:C13) -> 6415.22 | D14: =SUM(D6:D13) -> 1347.2 | E14: =SUM(E6:E13) -> 7762.42
A15: 2. Informācijas tehnoloģiju pakalpojumiem, sekmējot ekspertīžu izpildes operativitāti un uzlabojot darba efektivitāti, kā arī Centra informācijas tehnoloģijas uzlabošanai
A16: Nr.p.k. | B16: Nepieciešamība/aktivitāte | C16: Izmaksas bez PVN | D16: PVN (21%) | E16: Izmaksas ar PVN | F16: Pamatojums iegādes nepieciešamībai
A18: 1 | B18: Rezerves kopēšanas risinājums | C18: 3305.79 | D18: =ROUND(C18*0.21,2) -> 694.22 | E18: =C18+D18 -> 4000.01 | F18: Programmatūra tiek abonēta uz gadu(pārsvarā visi tažotāji nepiedāvā iegādāties beztermiņa licences). Lai nodrošinātu MS Office 365 e-pasta un Centra datu ātru, vienkāršu, uzticamu un elastīgu datu rezerves kopēšanas risinājumu.
A19: 2 | B19: Drošības audits TMEIS | C19: 7000 | D19: =ROUND(C19*0.21,2) -> 1470 | E19: =C19+D19 -> 8470 | F19: Paaugstinātas drošības sistēmām nepieciešams katru gadu veikt drošības auditu - MK 442 ITK noteikumi.
A20: 3 | B20: Mācības | C20: 1652.89 | D20: =ROUND(C20*0.21,2) -> 347.11 | E20: =C20+D20 -> 2000 | F20: IT personāla apmācība (Microsoft Azzur infrastruktūrta)
A21: 4 | B21: Teamviewer | C21: 661.16 | D21: =ROUND(C21*0.21,2) -> 138.84 | E21: =C21+D21 -> 800 | F21: Attālinātā atbalsta sniegšana
A22: 5 | B22: Checkpoint 1600 Base apliance un 1535 Base apliance | C22: 63698.39 | D22: =ROUND(C22*0.21,2) -> 13376.66 | E22: =C22+D22 -> 77075.05 | F22: VTMEC Ugunsmūris Sophos SG230 pārtrauks darboties 2024. gada 6. jūnijā (beidzas uzturēšana un licence – turpmāka pagarināšana nav iespējama), tai skaitā arī Sophos RED15, kuri nodrošina VTMEC reģionālo nodaļu pieslēgumu centram. VTMEC pašlaik darbojas un visu nodrošina divi 2016. gadā iegādāti HP 360 G9 serveri bez garantijas.
A23: 6 | B23: 2 serveri, 1 disku masīvs, programmatūra | C23: 17898.59 | D23: =ROUND(C23*0.21,2) -> 3758.7 | E23: =C23+D23 -> 21657.29
A24: Kopā: | C24: =SUM(C18:C23) -> 94216.82 | D24: =SUM(D18:D23) -> 19785.53 | E24: =SUM(E18:E23) -> 114002.35
A25: Pavisam kopā: | C25: =C14+C24 -> 100632.04 | D25: =D14+D24 -> 21132.73 | E25: =E14+E24 -> 121764.77
B26: t.sk. EKK 2000 | C26: =C6+C7+C8+C11+C12+C13+C18+C19+C20+C21 -> 14283.06 | D26: =D6+D7+D8+D11+D12+D13+D18+D19+D20+D21 -> 2999.45 | E26: =E6+E7+E8+E11+E12+E13+E18+E19+E20+E21 -> 17282.51
B27: t.sk. EKK 5000 | C27: =C9+C10+C22+C23 -> 86348.98 | D27: =D9+D10+D22+D23 -> 18133.28 | E27: =E9+E10+E22+E23 -> 104482.26

Sheet Izdevumi_pfjas_nodrošināšanai
Q1: Pielikums Nr.3 MK rīkojuma projekta “Par Zāļu valsts aģentūras 2023. gada budžeta apstiprināšanu” anotācijai
A2: Valts tiesu medicīnas ekspertīzes centra kopsavilkums par budžeta apakšprogrammas 39.06. plānotu budžetu un faktiskajiem izdevumiem 2023.gadā
A3: Kods | B3: Nosaukums | C3: Likums par budžetu 2023.gadam | D3: Izdevumu pieauguma energoresursu kompensēšanai (MK 13.01.2023. sēdes prot. Nr.2 1.§ 6.punkts) | E3: Papildus finansējums TMEIS uzturēšanai | F3: BUDŽETS 2023 | G3: Fakts 2023 | M3: Plāns 2026 | S3: Izpildes prognoze 2023 | T3: Deficīts
G4: Janvāris | H4: Februāris | I4: Marts | J4: Aprīlis | K4: Maijs | L4: Jūnijs | M4: Jūlijs | N4: Augusts | O4: Septembris | P4: Oktobris | Q4: Novembris | R4: Decembris
A5: 1 | B5: 2 | C5: 3 | D5: 4 | E5: 5 | F5: 6=3+4+5 | G5: 7 | H5: 8 | J5: 10 | K5: 11 | L5: 12 | M5: 13 | N5: 14 | O5: 15 | P5: 16 | Q5: 17 | R5: 18 | S5: 19=7+8+9+10+11+12+13+14+15+16+17+18 | T5: 20=19-6
A6: B000 | B6: Izdevumi – kopā | C6: =+C7+C133 -> 229895 | D6: =+D7+D133 -> 60605 | E6: =+E7+E133 -> 18000 | F6: =C6+D6+E6 -> 308500 | G6: =+G7+G133 -> 24641.41 | H6: =+H7+H133 -> 33329.95 | I6: =+I7+I133 -> 31428.18 | J6: =+J7+J133 -> 26300.24 | K6: =+K7+K133 -> 23491.75 | L6: =+L7+L133 -> 22924.03 | M6: =+M7+M133 -> 20699.25 | N6: =+N7+N133 -> 30237.46 | ... R6: =+R7+R133 -> 57047.07 | S6: =SUM(G6:R6) -> 344273.94 | T6: =S6-F6 -> 35773.94
A7: 2000 | B7: Preces un pakalpojumi | C7: =C8+C9+C109+C128 -> 210835 | D7: =D8+D9+D109+D128 -> 60605 | E7: =E8+E9+E109+E128 -> 18000 | F7: =C7+D7+E7 -> 289440 | G7: =G8+G9+G109+G128 -> 24641.41 | H7: =H8+H9+H109+H128 -> 31668.62 | I7: =I8+I9+I109+I128 -> 31428.18 | J7: =J8+J9+J109+J128 -> 26300.24 | K7: =K8+K9+K109+K128 -> 20670.49 | L7: =L8+L9+L109+L128 -> 20396.41 | M7: =M8+M9+M109+M128 -> 17920.67 | N7: =N8+N9+N109+N128 -> 23178.79 | ... R7: =R8+R9+R109+R128 -> 57047.07 | S7: =SUM(G7:R7) -> 325213.94 | T7: =S7-F7 -> 35773.94
A8: 2100 | B8: Mācību, darba un dienesta komandējumi, darba braucieni | C8: 479 | F8: =C8+D8+E8 -> 479 | P8: 479 | S8: =SUM(G8:R8) -> 479 | T8: =S8-F8 -> 0
A9: 2200 | B9: Pakalpojumi | C9: =C10+C17+C44+C62+C86+C96 -> 160516.39 | D9: =D10+D17+D44+D62+D86+D96 -> 60605 | E9: =E10+E17+E44+E62+E86+E96 -> 18000 | F9: =C9+D9+E9 -> 239121.39 | G9: =G10+G17+G44+G62+G86+G96 -> 24271.49 | H9: =H10+H17+H44+H62+H86+H96 -> 28886.8 | I9: =I10+I17+I44+I62+I86+I96 -> 27477.45 | J9: =J10+J17+J44+J62+J86+J96 -> 25337.84 | K9: =K10+K17+K44+K62+K86+K96 -> 18288.26 | L9: =L10+L17+L44+L62+L86+L96 -> 16289.51 | M9: =M10+M17+M44+M62+M86+M96 -> 11568.67 | N9: =N10+N17+N44+N62+N86+N96 -> 16804.79 | ... R9: =R10+R17+R44+R62+R86+R96 -> 44727.94 | S9: =SUM(G9:R9) -> 264703.98 | T9: =S9-F9 -> 25582.59
A10: 2210 | B10: Izdevumi par sakaru pakalpojumiem | C10: =SUM(C11:C16) -> 6726 | D10: =SUM(D11:D16) -> 0 | E10: =SUM(E11:E16) -> 0 | F10: =C10+D10+E10 -> 6726 | G10: =SUM(G11:G16) -> 557.7 | H10: =SUM(H11:H16) -> 569.87 | I10: =SUM(I11:I16) -> 559.77 | J10: =SUM(J11:J16) -> 557.58 | K10: =SUM(K11:K16) -> 562.13 | L10: =SUM(L11:L16) -> 503.59 | M10: =SUM(M11:M16) -> 616 | N10: =SUM(N11:N16) -> 560 | ... R10: =SUM(R11:R16) -> 564.36 | S10: =SUM(G10:R10) -> 6726 | T10: =S10-F10 -> 0
B11: Tet SIA | C11: 3413 | F11: =C11+D11+E11 -> 3413 | G11: 284.35 | H11: 284.35 | I11: 284.35 | J11: 284.35 | K11: 284.35 | L11: 284.35 | M11: 284 | N11: 285 | O11: 284 | P11: 284 | Q11: 285 | R11: 284.9 | S11: =SUM(G11:R11) -> 3413 | T11: =S11-F11 -> 0
B12: Latvijas mobilais telefons SIA | C12: 1875 | F12: =C12+D12+E12 -> 1875 | G12: 156.09 | H12: 157.26 | I12: 156.09 | J12: 156.09 | K12: 156.09 | L12: 157.36 | M12: 156 | N12: 157 | O12: 156 | P12: 156 | Q12: 156 | R12: 155.02 | S12: =SUM(G12:R12) -> 1875 | T12: =S12-F12 -> 0
B13: Latvijas mobilais telefons SIA (mob.sak.) | C13: 1158 | F13: =C13+D13+E13 -> 1158 | G13: 99.22 | H13: =112.22-13 -> 99.22 | I13: 103.49 | J13: =96.51-1.56 -> 94.95 | K13: 99.22 | L13: 61.88 | M13: 100 | N13: 100 | O13: 100 | P13: 100 | Q13: 100 | R13: 100.02 | S13: =SUM(G13:R13) -> 1158 | T13: =S13-F13 -> 0
B14: Latvijas Pasts VAS (pasta sūtījumi), Latvijas pasta izdevumi | C14: 112 | F14: =C14+D14+E14 -> 112 | G14: 7.55 | H14: 13.88 | I14: 15.84 | J14: 12.21 | K14: 2.51 | M14: 10 | N14: 10 | O14: 10 | P14: 10 | Q14: 10 | R14: 10.01 | S14: =SUM(G14:R14) -> 112 | T14: =S14-F14 -> 0
B15: Posttech SIA (Frankēšanas iekārtas FP Optimail tehniskā apkope) | C15: 58 | F15: =C15+D15+E15 -> 58 | M15: 58 | S15: =SUM(G15:R15) -> 58 | T15: =S15-F15 -> 0
B16: iLazo SIA, Ovaho SIA (pasta pakalpojumi), Bestsender | C16: 110 | F16: =C16+D16+E16 -> 110 | G16: 10.49 | H16: 15.16 | J16: 9.98 | K16: 19.96 | M16: 8 | N16: 8 | O16: 8 | P16: 8 | Q16: 8 | R16: 14.41 | S16: =SUM(G16:R16) -> 110 | T16: =S16-F16 -> 0
A17: 2220 | B17: Izdevumi par komunālajiem pakalpojumiem | C17: =C18+C23+C29+C35+C42 -> 84217.48 | D17: =D18+D23+D29+D35+D42 -> 60605 | E17: =E18+E23+E29+E35+E42 -> 0 | F17: =C17+D17+E17 -> 144822.48 | G17: =G18+G23+G29+G35+G42 -> 22201.08 | H17: =H18+H23+H29+H35+H42 -> 22305.63 | I17: =I18+I23+I29+I35+I42 -> 20475.42 | J17: =J18+J23+J29+J35+J42 -> 19295.21 | K17: =K18+K23+K29+K35+K42 -> 12208.17 | L17: =L18+L23+L29+L35+L42 -> 9290.47 | M17: =M18+M23+M29+M35+M42 -> 5277.51 | N17: =N18+N23+N29+N35+N42 -> 5387.23 | ... R17: =R18+R23+R29+R35+R42 -> 22420.58 | S17: =SUM(G17:R17) -> 169043.87 | T17: =S17-F17 -> 24221.39
A18: 2221 | B18: Izdevumi par siltumenerģiju | C18: =SUM(C19:C22) -> 43163.48 | D18: =SUM(D19:D22) -> 42507 | E18: =SUM(E19:E22) -> 0 | F18: =C18+D18+E18 -> 85670.48 | G18: =SUM(G19:G22) -> 17520.27 | H18: =SUM(H19:H22) -> 17753.96 | I18: =SUM(I19:I22) -> 15449.12 | J18: =SUM(J19:J22) -> 14906.93 | K18: =SUM(K19:K22) -> 7899.69 | L18: =SUM(L19:L22) -> 2135.7 | M18: =SUM(M19:M22) -> 20 | N18: =SUM(N19:N22) -> 20 | ... R18: =SUM(R19:R22) -> 16451.88 | S18: =SUM(G18:R18) -> 105877.55 | T18: =S18-F18 -> 20207.07
B19: Vidzemes slimnīca, SIA | C19: 4652 | D19: 2798 | F19: =C19+D19+E19 -> 7450 | G19: 935.71 | H19: 2489.69 | I19: 2143.52 | J19: 1929.58 | K19: 1342.38 | L19: 516.06 | P19: 400 | Q19: 1000 | R19: 2500 | S19: =SUM(G19:R19) -> 13256.94 | T19: =S19-F19 -> 5806.94
B20: Latvijas Gāze, AS | C20: 9616.72 | D20: 3173.64 | F20: =C20+D20+E20 -> 12790.36 | G20: =2712.78+3.27 -> 2716.05 | H20: =2421.96+3.99 -> 2425.95 | I20: =1384.86+3.99 -> 1388.85 | J20: =1196.81+3.99 -> 1200.8 | K20: =402.01+3.99 -> 406 | L20: =11+3.99 -> 14.99 | M20: 20 | N20: 20 | O20: 20 | P20: 500 | Q20: 2000 | R20: 2701 | S20: =SUM(G20:R20) -> 13413.64 | T20: =S20-F20 -> 623.28
B21: RĪGAS SILTUMS, AS | C21: 26297 | D21: 34380.36 | F21: =C21+D21+E21 -> 60677.36 | G21: =3957.75+8685.25 -> 12643 | H21: =3617.37+7919.96 -> 11537.33 | I21: =3348.18+7374.9 -> 10723.08 | J21: =2921.04+7779.79 -> 10700.83 | K21: =1364.25+3976.74 -> 5340.99 | L21: =279.2+1325.45 -> 1604.65 | P21: 1500 | Q21: 7000 | R21: 10150.88 | S21: =SUM(G21:R21) -> 71200.76 | T21: =S21-F21 -> 10523.4
B22: Pļaviņu Komunālie pakalpojumi, SIA | C22: 2597.76 | D22: 2155 | F22: =C22+D22+E22 -> 4752.76 | G22: 1225.51 | H22: 1300.99 | I22: 1193.67 | J22: 1075.72 | K22: 810.32 | P22: 500 | Q22: 800 | R22: 1100 | S22: =SUM(G22:R22) -> 8006.21 | T22: =S22-F22 -> 3253.45
A23: 2222 | B23: Izdevumi par ūdensapgādi un kanalizāciju | C23: =SUM(C24:C28) -> 6504 | D23: =SUM(D24:D28) -> 456 | E23: =SUM(E24:E28) -> 0 | F23: =C23+D23+E23 -> 6960 | G23: =SUM(G24:G28) -> 468.64 | H23: =SUM(H24:H28) -> 528.2 | I23: =SUM(I24:I28) -> 592.63 | J23: =SUM(J24:J28) -> 494.98 | K23: =SUM(K24:K28) -> 677.95 | L23: =SUM(L24:L28) -> 623.83 | M23: =SUM(M24:M28) -> 606.96 | N23: =SUM(N24:N28) -> 606.68 | ... R23: =SUM(R24:R28) -> 545.21 | S23: =SUM(G23:R23) -> 6960 | T23: =S23-F23 -> 0
B24: Daugavpils pilsētas dome | C24: 182 | F24: =C24+D24+E24 -> 182 | G24: 12.68 | H24: 12.68 | I24: 15.85 | J24: 9.78 | K24: 14.67 | L24: 20.13 | M24: 25 | N24: 12.68 | O24: 12.68 | P24: 15 | Q24: 15.24 | R24: 15.61 | S24: =SUM(G24:R24) -> 182 | T24: =S24-F24 -> 0
B25: Rēzeknes slimnīca SIA | C25: 244 | D25: 37.74 | F25: =C25+D25+E25 -> 281.74 | H25: 17.42 | I25: 7.74 | J25: 7.74 | K25: 7.74 | L25: 126.34 | M25: 19 | N25: 19 | O25: 19 | P25: 19 | Q25: 19 | R25: 19.76 | S25: =SUM(G25:R25) -> 281.74 | T25: =S25-F25 -> 0
B26: Vidzemes slimnīca, SIA | C26: 650 | D26: 67.3 | F26: =C26+D26+E26 -> 717.3 | G26: 68.69 | H26: 58.35 | I26: 52.3 | J26: 47.34 | K26: 47.52 | L26: 45.18 | M26: 57.96 | N26: 70 | O26: 70 | P26: 60 | Q26: 70 | R26: 69.96 | S26: =SUM(G26:R26) -> 717.3 | T26: =S26-F26 -> 0
B27: Rīgas Austrumu klīniskā universitātes slimnīca SIA | C27: 5300 | D27: 260.04 | F27: =C27+D27+E27 -> 5560.04 | G27: =86.61+275.85 -> 362.46 | H27: =131.51+298.32 -> 429.83 | I27: =137.93+368.89 -> 506.82 | J27: =134.73+285.47 -> 420.2 | K27: =336.82+266.23 -> 603.05 | L27: =170+253.42 -> 423.42 | M27: 480 | N27: 480 | O27: 480 | P27: 480 | Q27: 480 | R27: 414.26 | S27: =SUM(G27:R27) -> 5560.04 | T27: =S27-F27 -> 0
B28: Pļaviņu Komunālie pakalpojumi, SIA | C28: 128 | D28: 90.92 | F28: =C28+D28+E28 -> 218.92 | G28: 24.81 | H28: 9.92 | I28: 9.92 | J28: 9.92 | K28: 4.97 | L28: 8.76 | M28: 25 | N28: 25 | O28: 25 | P28: 25 | Q28: 25 | R28: 25.62 | S28: =SUM(G28:R28) -> 218.92 | T28: =S28-F28 -> 0
A29: 2223 | B29: Izdevumi par elektroenerģiju | C29: =SUM(C30:C34) -> 28187 | D29: =SUM(D30:D34) -> 15132 | E29: =SUM(E30:E34) -> 0 | F29: =C29+D29+E29 -> 43319 | G29: =SUM(G30:G34) -> 3276.07 | H29: =SUM(H30:H34) -> 3645.24 | I29: =SUM(I30:I34) -> 3216.09 | J29: =SUM(J30:J34) -> 3357.09 | K29: =SUM(K30:K34) -> 3363.77 | L29: =SUM(L30:L34) -> 3930.35 | M29: =SUM(M30:M34) -> 4282.45 | N29: =SUM(N30:N34) -> 4282.45 | ... R29: =SUM(R30:R34) -> 4188.14 | S29: =SUM(G29:R29) -> 46015 | T29: =S29-F29 -> 2696
B30: Rēzeknes slimnīca SIA | C30: 1800 | D30: 3323 | F30: =C30+D30+E30 -> 5123 | G30: 473.36 | H30: 436.82 | I30: 450.5 | J30: 414.5 | K30: 147.98 | L30: 102.78 | M30: 500 | N30: 500 | O30: 500 | P30: 500 | Q30: 500 | R30: 597.06 | S30: =SUM(G30:R30) -> 5123 | T30: =S30-F30 -> 0
B31: Vidzemes slimnīca, SIA | C31: 1264 | F31: =C31+D31+E31 -> 1264 | G31: 55.71 | H31: 7.71 | I31: =101.68+6.81 -> 108.49 | J31: 53.41 | K31: 78.19 | L31: 169.01 | M31: 132.45 | N31: 132.45 | O31: 132.45 | P31: 132.45 | Q31: 132.45 | R31: 129.23 | S31: =SUM(G31:R31) -> 1264 | T31: =S31-F31 -> 0
B32: Sadales tīkls, AS | C32: 2528 | F32: =C32+D32+E32 -> 2528 | G32: =54.14+103.79 -> 157.93 | H32: =52.37+109.71 -> 162.08 | I32: =48.35+106.47 -> 154.82 | J32: =108.4+55.19 -> 163.59 | K32: =65.65+124.19 -> 189.84 | L32: =79.45+119.81 -> 199.26 | M32: 250 | N32: 250 | O32: 250 | P32: 250 | Q32: 250 | R32: 250.48 | S32: =SUM(G32:R32) -> 2528 | T32: =S32-F32 -> 0
B33: Enefit, SIA | C33: 2547 | F33: =C33+D33+E33 -> 2547 | G33: =40.67+99.28 -> 139.95 | H33: =118.01+39.02 -> 157.03 | I33: =39.98+129.81 -> 169.79 | J33: 130.68 | K33: =101.97+46.33 -> 148.3 | L33: =181.68+119.72 -> 301.4 | M33: 250 | N33: 250 | O33: 250 | P33: 250 | Q33: 250 | R33: 249.85 | S33: =SUM(G33:R33) -> 2547 | T33: =S33-F33 -> 0
B34: Rīgas Austrumu klīniskā universitātes slimnīca SIA | C34: 20048 | D34: 11809 | F34: =C34+D34+E34 -> 31857 | G34: =340.16+2108.96 -> 2449.12 | H34: =388.75+2492.85 -> 2881.6 | I34: =301.28+2031.21 -> 2332.49 | J34: =281.85+2313.06 -> 2594.91 | K34: =256.62+2542.84 -> 2799.46 | L34: =279.81+2878.09 -> 3157.9 | M34: 3150 | N34: 3150 | O34: 3150 | P34: 2963 | Q34: 2963 | R34: 2961.52 | S34: =SUM(G34:R34) -> 34553 | T34: =S34-F34 -> 2696
A35: 2224 | B35: Izdevumi par atkritumu savākšanu, izvešanu no apdzīvotām vietām un teritorijām ārpus apdzīvotām vietām un atkritumu utilizāciju | C35: =SUM(C36:C41) -> 6218 | D35: =SUM(D36:D41) -> 2510 | E35: =SUM(E36:E41) -> 0 | F35: =C35+D35+E35 -> 8728 | G35: =SUM(G36:G41) -> 924 | H35: =SUM(H36:H41) -> 366.13 | I35: =SUM(I36:I41) -> 1205.48 | J35: =SUM(J36:J41) -> 524.11 | K35: =SUM(K36:K41) -> 254.66 | L35: =SUM(L36:L41) -> 2588.49 | M35: =SUM(M36:M41) -> 356 | N35: =SUM(N36:N41) -> 466 | ... R35: =SUM(R36:R41) -> 1223.45 | S35: =SUM(G35:R35) -> 10046.32 | T35: =S35-F35 -> 1318.32
B36: ALAAS SIA (Rēzekne) | C36: 234 | D36: 90 | F36: =C36+D36+E36 -> 324 | G36: 22.87 | H36: 44.34 | I36: 29.56 | J36: 29.56 | K36: 29.56 | L36: 34.17 | M36: 24 | N36: 24 | O36: 24 | P36: 24 | Q36: 24 | R36: 13.94 | S36: =SUM(G36:R36) -> 324 | T36: =S36-F36 -> 0
B37: Eco Baltia vide SIA | C37: 1551 | D37: 400 | F37: =C37+D37+E37 -> 1951 | G37: =27.67+110.69 -> 138.36 | H37: =2.94+43.68+116.49 -> 163.11 | I37: =29.12+116.49 -> 145.61 | J37: =29.12+116.49 -> 145.61 | K37: =29.12+116.49 -> 145.61 | L37: =29.12+174.74 -> 203.86 | M37: 168 | N37: 168 | O37: 168 | P37: 168 | Q37: 168 | R37: 168.84 | S37: =SUM(G37:R37) -> 1951 | T37: =S37-F37 -> 0
B38: Ragn Sell/Lautus SIA | C38: 3699 | D38: 1888 | F38: =C38+D38+E38 -> 5587 | G38: 704.98 | H38: 94.16 | I38: 969.23 | J38: =197.15+90.71 -> 287.86 | K38: 21.85 | L38: =2217.51+71.87 -> 2289.38 | M38: 100 | N38: 150 | O38: 1000 | P38: 160 | Q38: 150 | R38: 977.86 | S38: =SUM(G38:R38) -> 6905.32 | T38: =S38-F38 -> 1318.32
B39: Vidzemes slimnīca SIA | C39: 480 | D39: 100 | F39: =C39+D39+E39 -> 580 | G39: =26.35+18.63 -> 44.98 | H39: 47.29 | I39: =28.66+18.63 -> 47.29 | J39: =28.66+18.63 -> 47.29 | K39: =28.66+18.63 -> 47.29 | L39: =28.66+18.63 -> 47.29 | M39: 50 | N39: 50 | O39: 50 | P39: 50 | Q39: 50 | R39: 48.57 | S39: =SUM(G39:R39) -> 580 | T39: =S39-F39 -> 0
B40: Atkritumu apsaimniekošanas Dienvidlatgales starppašvaldību organizācija SIA | C40: 134 | D40: 32 | F40: =C40+D40+E40 -> 166 | G40: 12.81 | H40: 17.23 | I40: 13.79 | J40: 13.79 | K40: 10.35 | L40: 13.79 | M40: 14 | N40: 14 | O40: 14 | P40: 14 | Q40: 14 | R40: 14.24 | S40: =SUM(G40:R40) -> 166 | T40: =S40-F40 -> 0
B41: Pļaviņu Komunālie pakalpojumi SIA | C41: 120 | F41: =C41+D41+E41 -> 120 | N41: 60 | Q41: 60 | S41: =SUM(G41:R41) -> 120 | T41: =S41-F41 -> 0
A42: 2229 | B42: Izdevumi par pārējiem komunālajiem pakalpojumiem | C42: 145 | D42: =SUM(D43) -> 0 | E42: =SUM(E43) -> 0 | F42: =C42+D42+E42 -> 145 | G42: =SUM(G43) -> 12.1 | H42: =SUM(H43) -> 12.1 | I42: =SUM(I43) -> 12.1 | J42: =SUM(J43) -> 12.1 | K42: =SUM(K43) -> 12.1 | L42: =SUM(L43) -> 12.1 | M42: =SUM(M43) -> 12.1 | N42: =SUM(N43) -> 12.1 | ... R42: =SUM(R43) -> 11.9 | S42: =SUM(G42:R42) -> 145 | T42: =S42-F42 -> 0
B43: infrastrukt.izmant.Vidzemes slimnīca/Vidzemes slimnīca | C43: 145 | F43: =C43+D43+E43 -> 145 | G43: 12.1 | H43: 12.1 | I43: 12.1 | J43: 12.1 | K43: 12.1 | L43: 12.1 | M43: 12.1 | N43: 12.1 | O43: 12.1 | P43: 12.1 | Q43: 12.1 | R43: 11.9 | S43: =SUM(G43:R43) -> 145 | T43: =S43-F43 -> 0
A44: 2230 | B44: Dažādi pakalpojumi | C44: =C45+C47+C49+C51+C55+C53 -> 6842.7 | D44: =D45+D47+D49+D51+D55+D53 -> 0 | E44: =E45+E47+E49+E51+E55+E53 -> 0 | F44: =C44+D44+E44 -> 6842.7 | G44: =G45+G47+G49+G51+G55+G53 -> 30.6 | H44: =H45+H47+H49+H51+H55+H53 -> 75.87 | I44: =I45+I47+I49+I51+I55+I53 -> 237.4 | J44: =J45+J47+J49+J51+J55+J53 -> 5.42 | K44: =K45+K47+K49+K51+K55+K53 -> 84.89 | L44: =L45+L47+L49+L51+L55+L53 -> 742.05 | M44: =M45+M47+M49+M51+M55+M53 -> 112 | N44: =N45+N47+N49+N51+N55+N53 -> 5349.08 | ... R44: =R45+R47+R49+R51+R55+R53 -> 242.36 | S44: =SUM(G44:R44) -> 7238.98 | T44: =S44-F44 -> 396.28
A45: 2232 | B45: Izdevumi par profesionālās darbības pakalpojumiem | C45: =C46 -> 105 | D45: =D46 -> 0 | E45: =E46 -> 0 | F45: =C45+D45+E45 -> 105 | G45: =G46 -> 0 | H45: =H46 -> 0 | I45: =I46 -> 0 | J45: =J46 -> 0 | K45: =K46 -> 0 | L45: =L46 -> 74.04 | M45: =M46 -> 0 | N45: =N46 -> 0 | ... R45: =R46 -> 0 | S45: =SUM(G45:R45) -> 105 | T45: =S45-F45 -> 0
B46: Pieaicinātie eksperti | C46: 105 | F46: =C46+D46+E46 -> 105 | L46: =45+29.04 -> 74.04 | P46: 30.96 | S46: =SUM(G46:R46) -> 105 | T46: =S46-F46 -> 0
A47: 2233 | B47: Izdevumi par transporta pakalpojumiem | C47: =C48 -> 470 | D47: =D48 -> 0 | E47: =E48 -> 0 | F47: =C47+D47+E47 -> 470 | G47: =G48 -> 0.6 | H47: =H48 -> 0 | I47: =I48 -> 2.42 | J47: =J48 -> 5.42 | K47: =K48 -> 9.02 | L47: =L48 -> 2.42 | M47: =M48 -> 50 | N47: =N48 -> 50 | ... R47: =R48 -> 200.12 | S47: =SUM(G47:R47) -> 470 | T47: =S47-F47 -> 0
B48: Izdevumi transporta pakalpojumiem (dokumentu nogādāšana) | C48: 470 | F48: =C48+D48+E48 -> 470 | G48: 0.6 | H48: 0 | I48: 2.42 | J48: 5.42 | K48: 9.02 | L48: 2.42 | M48: 50 | N48: 50 | O48: 50 | P48: 50 | Q48: 50 | R48: 200.12 | S48: =SUM(G48:R48) -> 470 | T48: =S48-F48 -> 0
A49: 2234 | B49: Normatīvajos aktos noteiktie veselības un fiziskās sagatavotības pārbaudes izdevumi | C49: =C50 -> 700 | D49: =D50 -> 0 | E49: =E50 -> 0 | F49: =C49+D49+E49 -> 700 | G49: =G50 -> 0 | H49: =H50 -> 75.87 | I49: =I50 -> 135.78 | J49: =J50 -> 0 | K49: =K50 -> 75.87 | L49: =L50 -> 67.89 | M49: =M50 -> 62 | N49: =N50 -> 62 | ... R49: =R50 -> 42.24 | S49: =SUM(G49:R49) -> 700 | T49: =S49-F49 -> 0
B50: VIGO SIA/Zaķumuiža | C50: 700 | F50: =C50+D50+E50 -> 700 | G50: 0 | H50: 75.87 | I50: 135.78 | K50: 75.87 | L50: 67.89 | M50: 62 | N50: 62 | O50: 62 | P50: 62 | Q50: 54.35 | R50: 42.24 | S50: =SUM(G50:R50) -> 700 | T50: =S50-F50 -> 0
A51: 2235 | B51: Izdevumi par saņemtajiem mācību pakalpojumiem | C51: 0 | D51: =D52 -> 0 | E51: =E52 -> 0 | F51: =C51+D51+E51 -> 0 | G51: =G52 -> 0 | H51: =H52 -> 0 | I51: =I52 -> 0 | J51: =J52 -> 0 | K51: =K52 -> 0 | L51: =L52 -> 0 | M51: =M52 -> 0 | N51: =N52 -> 0 | ... R51: =R52 -> 0 | S51: =SUM(G51:R51) -> 0 | T51: =S51-F51 -> 0
B52: Mācības kursi semināri | C52: 0 | D52: 0 | E52: 0 | F52: =C52+D52+E52 -> 0 | G52: 0 | H52: 0 | I52: 0 | J52: 0 | K52: 0 | L52: 0 | M52: 0 | N52: 0 | O52: 0 | P52: 0 | Q52: 0 | R52: 0 | S52: =SUM(G52:R52) -> 0 | T52: =S52-F52 -> 0
A53: 2236 | B53: Maksājumu pakalpojumi un komisijas | C53: =C54 -> 30 | D53: =D54 -> 0 | E53: =E54 -> 0 | F53: =C53+D53+E53 -> 30 | G53: =G54 -> 30 | H53: =H54 -> 0 | I53: =I54 -> 0 | J53: =J54 -> 0 | K53: =K54 -> 0 | L53: =L54 -> 0 | M53: =M54 -> 0 | N53: =N54 -> 0 | ... R53: =R54 -> 0 | S53: =SUM(G53:R53) -> 30 | T53: =S53-F53 -> 0
B54: Komisija | C54: 30 | D54: 0 | E54: 0 | F54: =C54+D54+E54 -> 30 | G54: 30 | H54: 0 | I54: 0 | J54: 0 | K54: 0 | L54: 0 | M54: 0 | N54: 0 | O54: 0 | P54: 0 | Q54: 0 | R54: 0 | S54: =SUM(G54:R54) -> 30 | T54: =S54-F54 -> 0
A55: 2239 | B55: Pārējie neklasificētie pakalpojumi | C55: =SUM(C56:C61) -> 5537.7 | D55: =SUM(D56:D61) -> 0 | E55: =SUM(E56:E61) -> 0 | F55: =C55+D55+E55 -> 5537.7 | G55: =SUM(G56:G61) -> 0 | H55: =SUM(H56:H61) -> 0 | I55: =SUM(I56:I61) -> 99.2 | J55: =SUM(J56:J61) -> 0 | K55: =SUM(K56:K61) -> 0 | L55: =SUM(L56:L61) -> 597.7 | M55: =SUM(M56:M61) -> 0 | N55: =SUM(N56:N61) -> 5237.08 | ... R55: =SUM(R56:R61) -> 0 | S55: =SUM(G55:R55) -> 5933.98 | T55: =S55-F55 -> 396.28
B56: Datu aizsardzība | C56: 0 | F56: =C56+D56+E56 -> 0 | S56: =SUM(G56:R56) -> 0 | T56: =S56-F56 -> 0
B57: Latvijas nacionālais akreditācijas birojs (uzturēšanas gada maksa, uzraudzības vizīte+apliecība) | C57: 4290.8 | F57: =C57+D57+E57 -> 4290.8 | N57: 4290.8 | S57: =SUM(G57:R57) -> 4290.8 | T57: =S57-F57 -> 0
B58: Dokumentu arhivēšana | C58: 0 | F58: =C58+D58+E58 -> 0 | S58: =SUM(G58:R58) -> 0 | T58: =S58-F58 -> 0
B59: Institute of Forensis Genetics GmbH (1 ikgadējais starptautiskais pārbaudes tests) | C59: 550 | F59: =C59+D59+E59 -> 550 | N59: 550 | S59: =SUM(G59:R59) -> 550 | T59: =S59-F59 -> 0
B60: RAKUS izmeklējumi, t.sk.radioloģiskie | C60: 0 | F60: =C60+D60+E60 -> 0 | N60: 396.28 | S60: =SUM(G60:R60) -> 396.28 | T60: =S60-F60 -> 396.28
B61: Citi pakalpojumi, t.sk. Latvijas audu bankas nodaļas atbilstības novērtēšana | C61: 696.9 | F61: =C61+D61+E61 -> 696.9 | I61: 99.2 | L61: =75+75+447.7 -> 597.7 | S61: =SUM(G61:R61) -> 696.9 | T61: =S61-F61 -> 0
A62: 2240 | B62: Remontdarbi un iestāžu uzturēšanas pakalpojumi (izņemot kapitālo remontu) | C62: =C63+C65+C68+C75+C82+C84 -> 19423.99 | D62: =D63+D65+D68+D75+D82+D84 -> 0 | E62: =E63+E65+E68+E75+E82+E84 -> 0 | F62: =C62+D62+E62 -> 19423.99 | G62: =G63+G65+G68+G75+G82+G84 -> 832.57 | H62: =H63+H65+H68+H75+H82+H84 -> 2006.28 | I62: =I63+I65+I68+I75+I82+I84 -> 2300.58 | J62: =J63+J65+J68+J75+J82+J84 -> 1550.86 | K62: =K63+K65+K68+K75+K82+K84 -> 1569.62 | L62: =L63+L65+L68+L75+L82+L84 -> 1049.07 | M62: =M63+M65+M68+M75+M82+M84 -> 1511.51 | N62: =N63+N65+N68+N75+N82+N84 -> 1562.4 | ... R62: =R63+R65+R68+R75+R82+R84 -> 1044.4 | S62: =SUM(G62:R62) -> 19423.99 | T62: =S62-F62 -> 0
A63: 2241 | B63: Ēku, būvju un telpu būvdarbi | C63: =SUM(C64:C64) -> 0 | D63: =SUM(D64:D64) -> 0 | E63: =SUM(E64:E64) -> 0 | F63: =C63+D63+E63 -> 0 | G63: =SUM(G64:G64) -> 0 | H63: =SUM(H64:H64) -> 0 | I63: =SUM(I64:I64) -> 0 | J63: =SUM(J64:J64) -> 0 | K63: =SUM(K64:K64) -> 0 | L63: =SUM(L64:L64) -> 0 | M63: =SUM(M64:M64) -> 0 | N63: =SUM(N64:N64) -> 0 | ... R63: =SUM(R64:R64) -> 0 | S63: =SUM(G63:R63) -> 0 | T63: =S63-F63 -> 0
C64: 0 | F64: =C64+D64+E64 -> 0 | S64: =SUM(G64:R64) -> 0 | T64: =S64-F64 -> 0
A65: 2242 | B65: Transportlīdzekļu uzturēšana un remonts | C65: =SUM(C66:C67) -> 1828 | D65: =SUM(D66:D67) -> 0 | E65: =SUM(E66:E67) -> 0 | F65: =C65+D65+E65 -> 1828 | G65: =SUM(G66:G67) -> 100 | H65: =SUM(H66:H67) -> 0 | I65: =SUM(I66:I67) -> 259.89 | J65: =SUM(J66:J67) -> 165 | K65: =SUM(K66:K67) -> 4.2 | L65: =SUM(L66:L67) -> 38.64 | M65: =SUM(M66:M67) -> 68.11 | N65: =SUM(N66:N67) -> 0 | ... R65: =SUM(R66:R67) -> 0 | S65: =SUM(G65:R65) -> 1828 | T65: =S65-F65 -> 0
B66: Automašīnu apdrošināšana (octa, kasko) | C66: 328 | F66: =C66+D66+E66 -> 328 | I66: 259.89 | M66: 68.11 | S66: =SUM(G66:R66) -> 328 | T66: =S66-F66 -> 0
B67: Remonta izdevumi, t.sk.auto mazgāšana | C67: 1500 | F67: =C67+D67+E67 -> 1500 | G67: 100 | J67: 165 | K67: 4.2 | L67: 38.64 | P67: 400 | Q67: 792.16 | S67: =SUM(G67:R67) -> 1500 | T67: =S67-F67 -> 0
A68: 2243 | B68: Iekārtas, inventāra un aparatūras remonts, tehniskā apkalpošana | C68: =SUM(C69:C74) -> 7972.61 | D68: =SUM(D69:D74) -> 0 | E68: =SUM(E69:E74) -> 0 | F68: =C68+D68+E68 -> 7972.61 | G68: =SUM(G69:G74) -> 282.78 | H68: =SUM(H69:H74) -> 972.59 | I68: =SUM(I69:I74) -> 706.46 | J68: =SUM(J69:J74) -> 1039.21 | K68: =SUM(K69:K74) -> 946.13 | L68: =SUM(L69:L74) -> 675.86 | M68: =SUM(M69:M74) -> 552.6 | N68: =SUM(N69:N74) -> 342.6 | ... R68: =SUM(R69:R74) -> 322.24 | S68: =SUM(G68:R68) -> 7972.61 | T68: =S68-F68 -> 0
B69: Aukstuma iekārtas apkope (Dayton Latgale SIA) | C69: 260 | F69: =C69+D69+E69 -> 260 | G69: 55.66 | M69: 100 | P69: 104.34 | S69: =SUM(G69:R69) -> 260 | T69: =S69-F69 -> 0
B70: Aukstuma iekārtas apkope (VEGA 1 Serviss SIA) | C70: 163.35 | F70: =C70+D70+E70 -> 163.35 | M70: 110 | R70: 53.35 | S70: =SUM(G70:R70) -> 163.35 | T70: =S70-F70 -> 0
B71: VESMANN MANAGEMENT,SIA (ugunsdrošības sistēmas apkalpošana) | C71: 1603 | F71: =C71+D71+E71 -> 1603 | H71: =142.6+34.61 -> 177.21 | I71: 142.6 | J71: 142.6 | K71: 142.6 | L71: 142.6 | M71: 142.6 | N71: 142.6 | O71: 142.6 | P71: 142.6 | Q71: 142.6 | R71: 142.39 | S71: =SUM(G71:R71) -> 1603 | T71: =S71-F71 -> 0
B72: Kalibrēšana, verificēšana | C72: 5522.17 | F72: =C72+D72+E72 -> 5522.17 | G72: 87.12 | H72: 795.38 | I72: 563.86 | J72: 896.61 | K72: =35.09+350.9+175.45 -> 561.44 | L72: 491.26 | M72: 200 | N72: 200 | O72: 800 | P72: 200 | Q72: 600 | R72: 126.5 | S72: =SUM(G72:R72) -> 5522.17 | T72: =S72-F72 -> 0
B73: Apapratūras remonts | C73: 424.09 | F73: =C73+D73+E73 -> 424.09 | G73: 140 | K73: =219+23.09 -> 242.09 | L73: 42 | S73: =SUM(G73:R73) -> 424.09 | T73: =S73-F73 -> 0
B74: Medicīnas ierīcū tehniskās drošības ekspertīzes | C74: 0 | F74: =C74+D74+E74 -> 0 | S74: =SUM(G74:R74) -> 0 | T74: =S74-F74 -> 0
A75: 2244 | B75: Nekustamā īpašuma uzturēšana | C75: =SUM(C76:C81) -> 7462.38 | D75: =SUM(D76:D81) -> 0 | E75: =SUM(E76:E81) -> 0 | F75: =C75+D75+E75 -> 7462.38 | G75: =SUM(G76:G81) -> 263.76 | H75: =SUM(H76:H81) -> 858.72 | I75: =SUM(I76:I81) -> 1125.84 | J75: =SUM(J76:J81) -> 120.67 | K75: =SUM(K76:K81) -> 422.64 | L75: =SUM(L76:L81) -> 261.36 | M75: =SUM(M76:M81) -> 710.8 | N75: =SUM(N76:N81) -> 1039.8 | ... R75: =SUM(R76:R81) -> 526.39 | S75: =SUM(G75:R75) -> 7462.38 | T75: =S75-F75 -> 0
B76: Neparedzēti izdevumi (vent.sist.apkope, kanalizācija caur.tīr.) | C76: 4403.19 | F76: =C76+D76+E76 -> 4403.19 | G76: =84.7+24.5 -> 109.2 | H76: =136.11+351.59+69.91+146.55 -> 704.16 | I76: =43.66+163.35 -> 207.01 | K76: =78.65+26.49+26.49 -> 131.63 | L76: 105.56 | M76: 555 | N76: 555 | O76: 555 | P76: 555 | Q76: 555 | R76: 370.63 | S76: =SUM(G76:R76) -> 4403.19 | T76: =S76-F76 -> 0
B77: EVORM Apsardzes serviss SIA/Apsardzes serviss SIA (Apsardzes pakalpojumi Siguldas iela 24, Daugavpils) | C77: 439.15 | F77: =C77+D77+E77 -> 439.15 | G77: 35.09 | H77: 35.09 | I77: 35.09 | J77: 35.09 | K77: =35.09+18.15 -> 53.24 | L77: 35.09 | M77: 35.09 | N77: 35.09 | O77: 35.09 | P77: 35.09 | Q77: 35.09 | R77: 35.01 | S77: =SUM(G77:R77) -> 439.15 | T77: =S77-F77 -> 0
B78: SIA Lindstrom (Paklāju maiņa) | C78: 330.24 | F78: =C78+D78+E78 -> 330.24 | G78: 24.64 | H78: 24.64 | I78: 24.64 | J78: =24.64+24.64 -> 49.28 | K78: 25.88 | L78: 25.88 | M78: 25.88 | N78: 25.88 | O78: 25.88 | P78: 25.88 | Q78: 25.88 | R78: 25.88 | S78: =SUM(G78:R78) -> 330.24 | T78: =S78-F78 -> 0
B79: Ēku apdrošināšana | C79: 329 | F79: =C79+D79+E79 -> 329 | N79: 329 | S79: =SUM(G79:R79) -> 329 | T79: =S79-F79 -> 0
B80: apsardzes pakalpojumi(Mega sargs/Baltic security solution SIA) | C80: 1138 | F80: =C80+D80+E80 -> 1138 | G80: =21.77+36.76+36.3 -> 94.83 | H80: =21.77+36.76+36.3 -> 94.83 | I80: =36.3 -> 36.3 | J80: 36.3 | K80: =36.76+21.77+21.77+36.76+36.76+21.77+36.3 -> 211.89 | L80: =21.77+36.76+36.3 -> 94.83 | M80: 94.83 | N80: 94.83 | O80: 94.83 | P80: 94.83 | Q80: 94.83 | R80: 94.87 | S80: =SUM(G80:R80) -> 1138 | T80: =S80-F80 -> 0
B81: Ieejas durvju nomaiņa un uzstādīšana 6. korpusa ēkai, Rīgā - Domofoni ārdurvīm, 3 ekrāni (Reģistratūra, Lietvedība, NZ) Hansab SIA | C81: 822.8 | F81: =C81+D81+E81 -> 822.8 | I81: 822.8 | S81: =SUM(G81:R81) -> 822.8 | T81: =S81-F81 -> 0
A82: 2247 | B82: Apdrošināšanas izdevumi | C82: =C83 -> 0 | D82: =D83 -> 0 | E82: =E83 -> 0 | F82: =C82+D82+E82 -> 0 | G82: =G83 -> 0 | H82: =H83 -> 0 | I82: =I83 -> 0 | J82: =J83 -> 0 | K82: =K83 -> 0 | L82: =L83 -> 0 | M82: =M83 -> 0 | N82: =N83 -> 0 | ... R82: =R83 -> 0 | S82: =SUM(G82:R82) -> 0 | T82: =S82-F82 -> 0
B83: Apdrošināšanas izdevumi | C83: 0 | F83: =C83+D83+E83 -> 0 | S83: =SUM(G83:R83) -> 0 | T83: =S83-F83 -> 0
A84: 2249 | B84: Pārējie remontdarbu un iestāžu uzturēšanas pakalpojumi | C84: =C85 -> 2161 | D84: =D85 -> 0 | E84: =E85 -> 0 | F84: =C84+D84+E84 -> 2161 | G84: =G85 -> 186.03 | H84: =H85 -> 174.97 | I84: =I85 -> 208.39 | J84: =J85 -> 225.98 | K84: =K85 -> 196.65 | L84: =L85 -> 73.21 | M84: =M85 -> 180 | N84: =N85 -> 180 | ... R84: =R85 -> 195.77 | S84: =SUM(G84:R84) -> 2161 | T84: =S84-F84 -> 0
B85: Iren Clean (veļas mazgāšana) | C85: 2161 | F85: =C85+D85+E85 -> 2161 | G85: 186.03 | H85: 174.97 | I85: 208.39 | J85: 225.98 | K85: 196.65 | L85: 73.21 | M85: 180 | N85: 180 | O85: 180 | P85: 180 | Q85: 180 | R85: 195.77 | S85: =SUM(G85:R85) -> 2161 | T85: =S85-F85 -> 0
A86: 2250 | B86: Informācijas tehnoloģiju pakalpojumi | C86: =SUM(C87:C95) -> 738.61 | D86: =SUM(D87:D95) -> 0 | E86: =SUM(E87:E95) -> 18000 | F86: =C86+D86+E86 -> 18738.61 | G86: =SUM(G87:G95) -> 68.23 | H86: =SUM(H87:H95) -> 150.31 | I86: =SUM(I87:I95) -> 150.31 | J86: =SUM(J87:J95) -> 150.31 | K86: =SUM(K87:K95) -> 150.31 | L86: =SUM(L87:L95) -> 604.92 | M86: =SUM(M87:M95) -> 220.31 | N86: =SUM(N87:N95) -> 150.31 | ... R86: =SUM(R87:R95) -> 16426.9 | S86: =SUM(G86:R86) -> 18738.61 | T86: =S86-F86 -> 0
B87: TMEIS izmitināšana | E87: 1804 | F87: =C87+D87+E87 -> 1804 | H87: 150.31 | I87: 150.31 | J87: 150.31 | K87: 150.31 | L87: 150.31 | M87: 150.31 | N87: 150.31 | O87: 150.31 | P87: 150.31 | Q87: 150.31 | R87: 300.9 | S87: =SUM(G87:R87) -> 1804 | T87: =S87-F87 -> 0
B88: Sophos ugunsmūra uzturēšana | C88: 0 | F88: =C88+D88+E88 -> 0 | S88: =SUM(G88:R88) -> 0 | T88: =S88-F88 -> 0
B89: ESET Endpoint Antivīruss, ESET Endpoint Proptection, Licence | C89: 0 | F89: =C89+D89+E89 -> 0 | S89: =SUM(G89:R89) -> 0 | T89: =S89-F89 -> 0
B90: Teamviewer u.c. | C90: 522.84 | F90: =C90+D90+E90 -> 522.84 | G90: 68.23 | L90: 454.61 | S90: =SUM(G90:R90) -> 522.84 | T90: =S90-F90 -> 0
B91: SFP (mini-GBIC) transceiver module - LC multi-mode | C91: 0 | F91: =C91+D91+E91 -> 0 | S91: =SUM(G91:R91) -> 0 | T91: =S91-F91 -> 0
B92: SSL sertifikāts | E92: 70 | F92: =C92+D92+E92 -> 70 | M92: 70 | S92: =SUM(G92:R92) -> 70 | T92: =S92-F92 -> 0
B93: MindManager | C93: 215.77 | F93: =C93+D93+E93 -> 215.77 | O93: 215.77 | S93: =SUM(G93:R93) -> 215.77 | T93: =S93-F93 -> 0
B94: VMware vSphere 6 Essentials Kit programmatūra, 08.08.2022.-07.08.2023. | F94: =C94+D94+E94 -> 0 | S94: =SUM(G94:R94) -> 0 | T94: =S94-F94 -> 0
B95: Tmeis uzturēšana | C95: 0 | E95: 16126 | F95: =C95+D95+E95 -> 16126 | R95: 16126 | S95: =SUM(G95:R95) -> 16126 | T95: =S95-F95 -> 0
A96: 2260 | B96: Īre un noma | C96: =C97+C102+C105 -> 42567.61 | D96: =D97+D102+D105 -> 0 | E96: =E97+E102+E105 -> 0 | F96: =C96+D96+E96 -> 42567.61 | G96: =G97+G102+G105 -> 581.31 | H96: =H97+H102+H105 -> 3778.84 | I96: =I97+I102+I105 -> 3753.97 | J96: =J97+J102+J105 -> 3778.46 | K96: =K97+K102+K105 -> 3713.14 | L96: =L97+L102+L105 -> 4099.41 | M96: =M97+M102+M105 -> 3831.34 | N96: =N97+N102+N105 -> 3795.77 | ... R96: =R97+R102+R105 -> 4029.34 | S96: =SUM(G96:R96) -> 43532.53 | T96: =S96-F96 -> 964.92
A97: 2261 | B97: Ēku, telpu īre un noma | C97: =SUM(C98:C101) -> 35687.61 | D97: =SUM(D98:D101) -> 0 | E97: =SUM(E98:E101) -> 0 | F97: =C97+D97+E97 -> 35687.61 | G97: =SUM(G98:G101) -> 519.55 | H97: =SUM(H98:H101) -> 3197.03 | I97: =SUM(I98:I101) -> 3197.03 | J97: =SUM(J98:J101) -> 3197.03 | K97: =SUM(K98:K101) -> 3197.03 | L97: =SUM(L98:L101) -> 3197.04 | M97: =SUM(M98:M101) -> 3197.03 | N97: =SUM(N98:N101) -> 3197.03 | ... R97: =SUM(R98:R101) -> 3438.68 | S97: =SUM(G97:R97) -> 36652.53 | T97: =S97-F97 -> 964.92
B98: Rēzeknes slimnīca SIA | C98: 8056 | F98: =C98+D98+E98 -> 8056 | H98: 732.38 | I98: 732.38 | J98: 732.38 | K98: 732.38 | L98: 732.38 | M98: 732.38 | N98: 732.38 | O98: 732.38 | P98: 732.38 | Q98: 732.38 | R98: 732.2 | S98: =SUM(G98:R98) -> 8056 | T98: =S98-F98 -> 0
B99: Vidzemes slimnīca, SIA | C99: 4626.01 | F99: =C99+D99+E99 -> 4626.01 | H99: 420.5 | I99: 420.5 | J99: 420.5 | K99: 420.5 | L99: 420.51 | M99: 420.5 | N99: 420.5 | O99: 420.5 | P99: 420.5 | Q99: 420.5 | R99: 421 | S99: =SUM(G99:R99) -> 4626.01 | T99: =S99-F99 -> 0
B100: Jelgavas pilsētas slimnīca | C100: 16771 | F100: =C100+D100+E100 -> 16771 | H100: 1524.6 | I100: 1524.6 | J100: 1524.6 | K100: 1524.6 | L100: 1524.6 | M100: 1524.6 | N100: 1524.6 | O100: 1765.93 | P100: 1765.93 | Q100: 1765.93 | R100: 1765.93 | S100: =SUM(G100:R100) -> 17735.92 | T100: =S100-F100 -> 964.92
...

Sheet PSMVM_Izmaksu pozicijas
G1: Pielikums Nr.4 MK rīkojuma projekta “Par Zāļu valsts aģentūras 2023. gada budžeta apstiprināšanu” anotācijai
A3: Nr. | B3: Pozīciju nosaukums | C3: Mērvienība | D3: Vienības | E3: Cena par vienību | F3: Kopā | G3: Izstāžu/pasākumu skaits | H3: Kopsumma
A4: 1 | B4: Telpu iekārtojuma arhitektūra/scenogrāfija izstādēm un publsikās programmas pasākumiem | H4: =H5+H6+H7+H8 -> 20000
A5: 1.1 | B5: Izstāžu dizaina izstrāde t.sk. tehniskie zīmējumi | C5: gab | D5: 1 | E5: 2410 | F5: =D5*E5 -> 2410 | G5: 2 | H5: =F5*G5 -> 4820
A6: 1.2 | B6: Izstāžu iekārtojuma (vitrīnu, stendu, podestu) ražošana/uzbūve | C6: m2 | D6: 188 | E6: 30 | F6: =D6*E6 -> 5640 | G6: 2 | H6: =F6*G6 -> 11280
A7: 1.3 | B7: Telpu scenogrāfijas izstrāde publiskās programmas pasākumiem | C7: gab | D7: 1 | E7: 100 | F7: =D7*E7 -> 100 | G7: 4 | H7: =F7*G7 -> 400
A8: 1.4 | B8: Telpu iekārtošana publiskās programmas pasākumiem (skatuve, radošās darbnīcas iekārtošana) | C8: m2 | D8: 70 | E8: 10 | F8: =D8*E8 -> 700 | G8: 5 | H8: =F8*G8 -> 3500
A10: 2 | B10: Vizuālās komunikācijas dizains un ražošana | F10: =D10*E10 -> 0 | H10: =H11+H12+H13+H14+H15+H16+H17+H18+H19+H20+H21+H22 -> 14999
A11: 2.1 | B11: Izstādes grafiskās identitātes izstrāde | C11: gab | D11: 1 | E11: 1250 | F11: =ROUNDUP(D11*E11,0) -> 1250 | G11: 2 | H11: =ROUNDUP(F11*G11,0) -> 2500
A12: 2.2.1. | B12: plakāti | C12: gab | D12: 300 | E12: 3 | F12: =ROUNDUP(D12*E12,0) -> 900 | G12: 2 | H12: =ROUNDUP(F12*G12,0) -> 1800
A13: 2.2.2. | B13: flajeri | C13: gab | D13: 500 | E13: 0.35 | F13: =ROUNDUP(D13*E13,0) -> 175 | G13: 2 | H13: =ROUNDUP(F13*G13,0) -> 350
A14: 2.2.3. | B14: sociālo tīklu reklāmas | C14: gab | D14: 10 | E14: 21 | F14: =ROUNDUP(D14*E14,0) -> 210 | G14: 2 | H14: =ROUNDUP(F14*G14,0) -> 420
A15: 2.2.4. | B15: pilsētvidē | C15: gab | D15: 95 | E15: 10 | F15: =ROUNDUP(D15*E15,0) -> 950 | G15: 2 | H15: =ROUNDUP(F15*G15,0) -> 1900
A16: 2.3 | B16: Baneru ražošana un izvietošana uz muzeja fasādes | C16: gab | D16: 1 | E16: 200 | F16: =ROUNDUP(D16*E16,0) -> 200 | G16: 2 | H16: =ROUNDUP(F16*G16,0) -> 400
A17: 2.4 | B17: Izstādes pavadošo tekstu korektūra, tulkošana | C17: zīmes | D17: 25000 | E17: 0.012 | F17: =ROUNDUP(D17*E17,0) -> 300 | G17: 2 | H17: =ROUNDUP(F17*G17,0) -> 600
A18: 2.5 | B18: Izstādes pavadošo tekstu maketēšana, ploterēšana un izvietošana izstādē | C18: m2 | D18: 60 | E18: 12 | F18: =ROUNDUP(D18*E18,0) -> 720 | G18: 2 | H18: =ROUNDUP(F18*G18,0) -> 1440
A19: 2.6 | B19: Video un audiomateriālu filmēšana, pēcapstrāde, montāža un izvietošana izstādē | C19: minūtes | D19: 35 | E19: 70 | F19: =ROUNDUP(D19*E19,0) -> 2450 | G19: 2 | H19: =ROUNDUP(F19*G19,0) -> 4900
A20: 2.7.1. | B20: lielformāta plakāti | C20: gab | D20: 15 | E20: 3 | F20: =ROUNDUP(D20*E20,0) -> 45 | G20: 8 | H20: =ROUNDUP(F20*G20,0) -> 360
A21: 2.7.2. | B21: flajeri | C21: gab | D21: 100 | E21: 0.35 | F21: =ROUNDUP(D21*E21,0) -> 35 | G21: 5 | H21: =ROUNDUP(F21*G21,0) -> 175
A22: 2.7.3. | B22: sociālo tīklu publicitātes materiāli un to maksas reklāma ("būstošana") | C22: gab | D22: 1 | E22: 22 | F22: =ROUNDUP(D22*E22,0) -> 22 | G22: 7 | H22: =ROUNDUP(F22*G22,0) -> 154
A23: 3 | B23: Tehniskais nodrošinājums | F23: =D23*E23 -> 0 | H23: =H24+H25+H26+H27+H28 -> 10001
A24: 3.1 | B24: Video un audio atskaņotāju, projektoru, ekrānu noma un apkalpošana izstādēs | C24: vienības | D24: 15 | E24: 148 | F24: =D24*E24 -> 2220 | G24: 2 | H24: =F24*G24 -> 4440
A25: 3.2 | B25: Izstāžu apgaismojuma dizains un realizācija | C25: gab | D25: 1 | E25: 600 | F25: =D25*E25 -> 600 | G25: 2 | H25: =F25*G25 -> 1200
A26: 3.3 | B26: Izstāžu audiogidi | C26: projekts | D26: 1 | E26: 961 | F26: =D26*E26 -> 961 | G26: 1 | H26: =F26*G26 -> 961
A27: 3.4 | B27: Publisko programmu pasākumiem- tiešraidēm nepieciešamie pakalpojumi | C27: stundas | D27: 3 | E27: 200 | F27: =D27*E27 -> 600 | G27: 4 | H27: =F27*G27 -> 2400
A28: 3.5 | B28: Publisko programmu audio apskaņošana - skandas, mikrofoni | C28: gab | D28: 1 | E28: 100 | F28: =D28*E28 -> 100 | G28: 10 | H28: =F28*G28 -> 1000
A30: 4 | B30: Eksponātu deponēšana, transportēšana, apdrošināšana; autortiesību licences; izstādēm nepieciešamo jaundarbu radīšana | F30: =D30*E30 -> 0 | H30: =H31+H32+H33+H34 -> 10000
A31: 4.1 | B31: Eksponātu deponēšana, apdrošināšana | C31: Skaits | D31: 5 | E31: 150 | F31: =D31*E31 -> 750 | G31: 2 | H31: =F31*G31 -> 1500
A32: 4.2 | B32: Eksponātu transportēšana | C32: Skaits | D32: 10 | E32: 100 | F32: =D32*E32 -> 1000 | G32: 2 | H32: =F32*G32 -> 2000
A33: 4.3 | B33: Autortiesību licences | C33: Skaits | D33: 10 | E33: 25 | F33: =D33*E33 -> 250 | G33: 2 | H33: =F33*G33 -> 500
A34: 4.4 | B34: Jaundarbu radīšana | C34: Skaits | D34: 4 | E34: 750 | F34: =D34*E34 -> 3000 | G34: 2 | H34: =F34*G34 -> 6000
A35: 5 | B35: Ar pasākumu norisi saistītais materiāli tehniskais nodrošinājums | H35: =H36+H37 -> 5000
A36: 5.1 | B36: Radošo darbnīcu materiāli (plastelīns, aplikāciju papīrs, karstā līme un citi materiāli atbilstoši pasākumu programmai); | C36: pasākumu skaits, katrā 20 dalībnieki | D36: 60 | E36: 20 | F36: =D36*E36 -> 1200 | G36: 2 | H36: =F36*G36 -> 2400
A37: 5.2 | B37: Laboratorijas piederumi muzejpedagoģiskajām nodarbībām (mikroskopu aprīkojums, petri trauciņi, testeri, mēģenes, aizsargapģērbs); datorprogrammu licences interaktivajam saturam digitālajā klasē | C37: pasākumu skaits, katrā 20 dalībnieki | D37: 130 | E37: 20 | F37: =D37*E37 -> 2600 | G37: 1 | H37: =F37*G37 -> 2600
B38: KOPĀ: | H38: =H35+H30+H23+H10+H4 -> 60000
B39: t.sk. EKK 2000 | H39: 55000
B40: t.sk. EKK 5000 | H40: 5000
