Workbook

Sheet Kopā
C2: Tiesību akta projekta "Par 1991. gada barikāžu 35 gadu atceres pasākumu plānu" (ID 25-TA-1528) sākotnējās ietekmes (ex-ante) novērtējuma ziņojuma (anotācija) pielikums
B4: Pasākums | D4: 2025.gads (EUR) | E4: 2026.gads (EUR)
B5: 1. Svētku lielkoncerts Doma laukumā | C5: TM | D5: ='1_Doma laukums'!H22 -> 0 | E5: ='1_Doma laukums'!I22 -> 82000
B6: 2. Kantāte "Vēstules uz bruģa" BT1 izstāžu hallē | C6: TM | D6: ='2_Kantāte BT1'!H43 -> 24236.3 | E6: ='2_Kantāte BT1'!I43 -> 73763.693
B7: 3. Fotoizstāde "Mēs nosargājām Latviju" Brīvības laukumā | C7: TM | D7: ='3_Izst. "Mēs nosargājām Latvij"'!H14 -> 15000 | E7: ='3_Izst. "Mēs nosargājām Latvij"'!I14 -> 5000
B8: 4. 1991. gada barikāžu muzeja jaunieguvumu izstāde | C8: TM | D8: ='4_Jaunieguvumu izstāde'!H12 -> 0 | E8: ='4_Jaunieguvumu izstāde'!I12 -> 12000
B9: 5. Vienlaicīga mācību stunda visās Latvijas skolās | C9: TM | D9: ='5_Mācību stunda'!H14 -> 9127.72 | E9: ='5_Mācību stunda'!I14 -> 0
B10: 6. Atceres pasākumu organizatoriskie un administratīvie izdevumi | C10: TM | D10: ='6_Admin. izmaksas'!H16 -> 39999.95 | E10: ='6_Admin. izmaksas'!I16 -> 7999.99
B11: Kopā pa gadiem | D11: =SUM(D5:D10) -> 88363.97 | E11: =SUM(E5:E10) -> 180763.68
B12: KOPĀ | D12: =SUM(D11:E11) -> 269127.65

Sheet 1_Doma laukums
A2: Pasākuma īstenotājs | D2: 1991. gada barikāžu dalībnieku biedrība
A3: Finansējuma saņēmējs | D3: 1991. gada barikāžu dalībnieku biedrība
A4: Ministrija, kuras budžetā tiek plānots finansējums | D4: Tieslietu ministrija
A5: TĀME "Svētku lielkoncerts Doma laukumā"
A6: Pozīcija | H6: 2025.gads (EUR) | I6: 2026.gads (EUR)
A7: 1. Skaņas, gaismas, skatuves nodrošinājums un apkalpošana | H7: 0 | I7: 43923
A8: 2. Sildītāji skatuves | H8: 0 | I8: 968
A9: 3. Elektrības pieslēgums | H9: 0 | I9: 732
A10: 4. Auto tehniskas noma barikādēm | H10: 0 | I10: 4235
A11: 5. Programmas izpildītāji | H11: 0 | I11: 4840
A12: 6. Scenogrāfijas elementi, rekvizīti | H12: 0 | I12: 7998
A13: 7. Ugunskuru pannas ar piegādi un uzstādīšanu | H13: 0 | I13: 2178
A14: 8. Sanitārie mezgli | H14: 0 | I14: 1996
A15: 9. Aizskatuves nodrošinājums | H15: 0 | I15: 1089
A16: 10. Tehniskā nodrošinājuma darbinieki | H16: 0 | I16: 1694
A17: 11. AKKA/LAA | H17: 0 | I17: 800
A18: 12. NMPD dežūra | H18: 0 | I18: 847
... A21: 15. Producēšana | H21: 0 | I21: 6690
A22: Kopā | H22: =SUM(H7:H21) -> 0 | I22: =SUM(I7:I21) -> 82000

Sheet 2_Kantāte BT1
A2: Pasākuma īstenotājs | D2: 1991. gada barikāžu dalībnieku biedrība
A3: Finansējuma saņēmējs | D3: 1991. gada barikāžu dalībnieku biedrība
A4: Ministrija, kuras budžetā tiek plānots finansējums | D4: Tieslietu ministrija
A5: TĀME "Kantāte "Vēstules uz bruģa" BT1 izstāžu hallē"
A6: Pozīcija | H6: 2025.gads (EUR) | I6: 2026.gads (EUR)
A7: 1. Mākslinieciskie izdevumi | H7: 1000 | I7: 22000
A8: 1.1. NBS štāba orķestris | H8: 0 | I8: 0
A9: 1.2. Zemessardzes 51. Kājnieku bataljons | H9: 0 | I9: 0
A10: 1.3. Rīgas kamerkoris "Ave Sol" 30 dziedātāji | H10: 0 | I10: 3000
A11: 1.4. Dūdu un bungu mūzikas grupa "Auļi" | H11: 0 | I11: 6000
A12: 1.5. Solisti | H12: 0 | I12: 5400
A13: Ieva Akurātere | H13: 0 | I13: 1000
A14: Zane Šmite | H14: 0 | I14: 1000
A15: Raimonds Bartašēvičs | H15: 0 | I15: 1000
A16: Nauris Puntulis | H16: 0 | I16: 1000
A17: Solo | H17: 0 | I17: 400
A18: Mežraga solo | H18: 0 | I18: 1000
... A27: Grimma mākslinieks | H27: 0 | I27: 800
A28: 2. Tehniskie izdevumi | H28: 15000 | I28: 33422.31 | XFD28: =SUM(H28:XFC28) -> 48422.31
A29: 2.1. Telpu īre (BT1 izstāžu zāles noma) | H29: 15000 | I29: 13099.17 | XFD29: =SUM(H29:XFC29) -> 28099.17
A30: 2.2. Skaņa, gaisma, u.c. | H30: 0 | I30: 20323.14
A31: Skaņas aparatūras īre un apkalpošana | H31: 0 | I31: 13223.14
A32: Apgaismojums papildus | H32: 0 | I32: 4100
A33: Projektoru īre | H33: 0 | I33: 3000
A34: 3. Citi izdevumi | H34: 1030 | I34: 600
A35: 3.1. Publiskā izpildījuma licence | H35: 0 | I35: 600
A36: 3.2. Plakātu druka | H36: 400 | I36: 0
A37: 3.3. Ielūgumu druka, izplatīšana | H37: 630 | I37: 0
A38: 4. Organizatoriskie izdevumi | H38: 3000 | I38: 4939.42
A39: 4.1. Administratīvā darba grupa, projekta vadītājs | H39: 2000 | I39: 2940
A40: 4.2. Administratīvie, komunikāciju, transporta izdevumi, apdrošināšana, u.c. | H40: 1000 | I40: 1999.42
A41: Summa | H41: =H7+H28+H34+H38 -> 20030 | I41: =I7+I28+I34+I38 -> 60961.73
A42: PVN | H42: =H41*0.21 -> 4206.3 | I42: =I41*0.21 -> 12801.963
A43: Kopā ar PNV | H43: =SUM(H41:H42) -> 24236.3 | I43: =SUM(I41:I42) -> 73763.693

Sheet 3_Izst. "Mēs nosargājām Latvij"
A2: Pasākuma īstenotājs | D2: 1991. gada barikāžu dalībnieku biedrība
A3: Finansējuma saņēmējs | D3: 1991. gada barikāžu dalībnieku biedrība
A4: Ministrija, kuras budžetā tiek plānots finansējums | D4: Tieslietu ministrija
A5: TĀME "Fotoizstāde "Mēs nosargājām Latviju" Brīvības laukumā"
A6: Pozīcija | H6: 2025.gads (EUR) | I6: 2026.gads (EUR)
A7: 1. Izstādes kurators | H7: 2000 | I7: 0
A8: 2. Izstādes dizainers | H8: 1500 | I8: 0
A9: 3.Izstādes lielformāta izdruku izgatavošana (Neobound) | H9: 5000 | I9: 0
A10: 4. Stendu uzstādīšana un tehniskais aprīkojums | H10: 4500 | I10: 0
A11: 5. Izstādes dizaina un informācijas materiālu izstrāde (teksti, anotācijas) | H11: 1000 | I11: 0
A12: 6. Tehniskais nodrošinājums (elektrība, u.c.) | H12: 1000 | I12: 1000
A13: 7. Administratīvie un loģistikas izdevumi (atļaujas, drošības pasākumi, producēšana) | H13: 0 | I13: 4000
A14: Kopā | H14: =SUM(H7:H13) -> 15000 | I14: =SUM(I8:I13) -> 5000

Sheet 4_Jaunieguvumu izstāde
A2: Pasākuma īstenotājs | D2: 1991. gada barikāžu dalībnieku biedrība
A3: Finansējuma saņēmējs | D3: 1991. gada barikāžu dalībnieku biedrība
A4: Ministrija, kuras budžetā tiek plānots finansējums | D4: Tieslietu ministrija
A5: TĀME "1991. gada barikāžu muzeja jaunieguvumu izstāde""
A6: Pozīcija | H6: 2025.gads (EUR) | I6: 2026.gads (EUR)
A7: 1. Izstādes kurators | H7: 0 | I7: 2000
A8: 2. Eksponātu sagatavošana un konservācija (ja nepieciešams restaurēt) | H8: 0 | I8: 1000
A9: 3. Izstādes koncepcijas izstrāde (scenogrāfija, dizains) | H9: 0 | I9: 3000
A10: 4. Stendu, vitrīnu, informatīvo materiālu izgatavošana | H10: 0 | I10: 5000
A11: 5. Izstādes uzstādīšana un demontāža | H11: 0 | I11: 1000
A12: Kopā | H12: =SUM(H7:H11) -> 0 | I12: =SUM(I7:I11) -> 12000

Sheet 5_Mācību stunda
A2: Pasākuma īstenotājs | D2: 1991. gada barikāžu dalībnieku biedrība
A3: Finansējuma saņēmējs | D3: 1991. gada barikāžu dalībnieku biedrība
A4: Ministrija, kuras budžetā tiek plānots finansējums | D4: Tieslietu ministrija
A5: TĀME "Vienlaicīga mācību stunda visās Latvijas skolās"
A6: Pozīcija | H6: 2025.gads (EUR) | I6: 2026.gads (EUR)
A7: 1. Scenārija autors, prezentācija | H7: 1200 | I7: 0
A8: 2. Prezentācijas lasījums | H8: 600 | I8: 0
A9: 3. Vēsturisko materiālu vākšana un atlase | H9: 800 | I9: 0
A10: 4. Darba devēja soc. nodoklis | H10: 192.72 | I10: 0
A11: 5. Video producēšana un montāža | H11: 4235 | I11: 0
A12: 6. Papildu mācību materiālu izstrāde | H12: 1200 | I12: 0
A13: 7. Video un materiālu izplatīšanas nodrošinājums | H13: 900 | I13: 0
A14: Kopā | H14: =SUM(H7:H13) -> 9127.72 | I14: =SUM(I7:I13) -> 0

Sheet 6_Admin. izmaksas
A2: Pasākuma īstenotājs | D2: 1991. gada barikāžu dalībnieku biedrība
A3: Finansējuma saņēmējs | D3: 1991. gada barikāžu dalībnieku biedrība
A4: Ministrija, kuras budžetā tiek plānots finansējums | D4: Tieslietu ministrija
A5: TĀME "Atceres pasākumu organizatoriskie un administratīvie izdevumi"
A6: Pozīcija | F6: Summa mēnesī | G6: Darba devēja soc. nodoklis 23,59% | H6: 2025.gads, 5 mēneši (EUR) | I6: 2026.gads, 1 mēnesis (EUR)
A7: 1. Muzeja speciāliste | F7: 600 | G7: =F7*0.2359 -> 141.54 | H7: =(F7+G7)*5 -> 3707.7 | I7: =(F7+G7) -> 741.54
A8: 2. Muzeja speciāliste | F8: 600 | G8: =F8*0.2359 -> 141.54 | H8: =(F8+G8)*5 -> 3707.7 | I8: =(F8+G8) -> 741.54
A9: 3. Muzeja speciāliste | F9: 600 | G9: =F9*0.2359 -> 141.54 | H9: =(F9+G9)*5 -> 3707.7 | I9: =(F9+G9) -> 741.54
A10: 4. Projekta vadītājs | F10: 1000 | G10: =F10*0.2359 -> 235.9 | H10: =(F10+G10)*5 -> 6179.5 | I10: =(F10+G10) -> 1235.9
A11: 5. Projekta vadītāja asistents | F11: 800 | G11: =F11*0.2359 -> 188.72 | H11: =(F11+G11)*5 -> 4943.6 | I11: =(F11+G11) -> 988.72
A12: 6. Komunikācijas vadītājs | F12: 1000 | G12: =F12*0.2359 -> 235.9 | H12: =(F12+G12)*5 -> 6179.5 | I12: =(F12+G12) -> 1235.9
A13: 7. Komunikācijas speciālists | F13: 800 | G13: =F13*0.2359 -> 188.72 | H13: =(F13+G13)*5 -> 4943.6 | I13: =(F13+G13) -> 988.72
A14: 8. Administratore | F14: 700 | G14: =F14*0.2359 -> 165.13 | H14: =(F14+G14)*5 -> 4325.65 | I14: =(F14+G14) -> 865.13
A15: 9. Grāmatvedība | F15: 461 | G15: 0 | H15: =(F15+G15)*5 -> 2305 | I15: =(F15+G15) -> 461
A16: Kopā | H16: =SUM(H7:H15) -> 39999.95 | I16: =SUM(I7:I15) -> 7999.99
