Workbook
Name _Hlk128041223: APV_1.1!#REF!
Name Excel_BuiltIn__FilterDatabase: APV_1.1!$A$36:$P$40
Name Excel_BuiltIn__FilterDatabase: #REF!
Name Excel_BuiltIn__FilterDatabase: #REF!
Name Excel_BuiltIn_Print_Area: RSMT_apdare!$A$1:$P$55
Name Excel_BuiltIn_Print_Area: RSMT_elektrība!$A$1:$P$56
Name Excel_BuiltIn_Print_Titles: RSMT_elektrība!$12:$15

Sheet Kopsavilkums
B2: Profesionālās izglītības iestāžu izdevumu kompensēšanai, kas radušies vētras un lietavu radīto postījumu rezultātā, nepieciešamais finansējums, EUR
B4: Nr.p.k. | C4: Izglītības iestāde | D4: Postījumi (īss apraksts) | E4: Indikatīvās tāmes izmaksas, EUR | F4: Nepieciešamais finansējums, euro
B5: 1 | C5: Aizkraukles Profesionālā vidusskola | D5: Mācību korpusa ēkas jumta bojājumi, nepieciešams veikt jumta atjaunošanu | E5: 49820.22 | F5: =ROUNDUP(E5,0) -> 49821
B6: 2 | C6: Rīgas Stila un modes tehnikums | D6: Dienesta viesnīcas un administrācijas ēkas jumta bojājumi, nepieciešams veikt jumta atjaunošanu dienesta viesnīcas ēkai (t.sk. ventilācijas nomaiņa) un applūdušo dienesta viesnīcas ēkas telpu remontu | E6: 190099.17 | F6: =ROUNDUP(E6,0) -> 190100
D7: Kopā: | E7: =SUM(E5:E6) -> 239919.39 | F7: =F5+F6 -> 239921

Sheet APV_koptāme
C2: Apstiprinu:
C5: (pasūtītāja paraksts un tā atšifrējums)
C6: Z.v.
C7: _______.gada ____.____________
A11: BŪVNIECĪBAS KOPTĀME
A13: Būves nosaukums: Aizkraukles profesionālās vidusskolas renovācija
A14: Objekta nosaukums: Aizkraukles profesionālās vidusskolas renovācija
A15: Objekta adrese: Aizkraukle, Jaunceltnes iela 21
A16: Iepirkuma identifikācijas Nr.
A19: Nr. p.k. | B19: Objekta nosaukums | C19: Objekta izmaksas (euro)
A21: 1 | B21: Jumta darbi | C21: =APV_kopsavilkums!D23 -> 41173.73
B23: Kopā bez PVN | C23: =SUM(C21:C22) -> 41173.73
B25: PVN (21%) | C25: =ROUND(C23*0.21,2) -> 8646.48
C26: =SUM(C23:C25) -> 49820.21
A28: Sastādīja | B28: Jefims Šapiro 20.01.2025.
B29: (paraksts un tā atšifrējums, datums)
A30: Sertifikāta nr. | B30: 4-03164
A33: Pārbaudīja
B34: (paraksts un tā atšifrējums, datums)
A35: Sertifikāta nr.
A37: Tāme sastādīta : 2025.gada 20. janvāris
A40: DOKUMENTS PARAKSTĪTS AR DROŠU ELEKTRONISKO PARAKSTU UN SATUR LAIKA ZĪMOGU

Sheet APV_kopsavilkums
A1: Kopsavilkums Nr. 1
A2: Jumta darbi
A6: =APV_koptāme!A13 -> Būves nosaukums: Aizkraukles profesionālās vidusskolas renovācija
A7: =APV_koptāme!A14 -> Objekta nosaukums: Aizkraukles profesionālās vidusskolas renovācija
A8: =APV_koptāme!A15 -> Objekta adrese: Aizkraukle, Jaunceltnes iela 21
A9: =APV_koptāme!A16 -> Iepirkuma identifikācijas Nr.
B11: Par kopējo summu, EUR | E11: =D23 -> 41173.73
B12: Kopējā darbietilpība, c/h | E12: =H19 -> 771.26
A14: Nr. p.k. | B14: Kods, tāmes Nr. | C14: Darba veids vai konstruktīvā elementa nosaukums | D14: Tāmes izmaksas | E14: Tai skaitā | H14: Darb- ietilpība (c/h)
E15: darba alga | F15: būvizstrādājumi | G15: mehā- nismi
A17: 1 | B17: 1-1 | C17: Jumta darbi | D17: =SUM(E17:G17) -> 35233.99 | E17: =APV_1.1!M37 -> 16968.18 | F17: =APV_1.1!N37 -> 16411.66 | G17: =APV_1.1!O37 -> 1854.15 | H17: =APV_1.1!L37 -> 771.26
C19: Kopā: | D19: =SUM(D16:D18) -> 35233.99 | E19: =SUM(E16:E18) -> 16968.18 | F19: =SUM(F16:F18) -> 16411.66 | G19: =SUM(G16:G18) -> 1854.15 | H19: =SUM(H16:H18) -> 771.26
C20: Virsizdevumi (11%) | D20: =ROUND(D19*0.10857995,2) -> 3825.7
C21: t.sk. darba aizsardzība 5% | D21: =ROUND(D20*0.05,2) -> 191.29
C22: Peļņa (6%) | D22: =ROUND(D19*0.06,2) -> 2114.04
C23: Kopā bez PVN: | D23: =D19+D20+D22 -> 41173.73
C25: Sastādīja | D25: Jefims Šapiro 20.01.2025.
D26: (paraksts un tā atšifrējums, datums)
C28: =APV_koptāme!A37 -> Tāme sastādīta : 2025.gada 20. janvāris
C31: Pārbaudīja
D32: (paraksts un tā atšifrējums, datums)
C33: Sertifikāta nr.
A36: DOKUMENTS PARAKSTĪTS AR DROŠU ELEKTRONISKO PARAKSTU UN SATUR LAIKA ZĪMOGU

Sheet APV_1.1
A1: Lokālā tāme Nr. 1-1
A2: =APV_kopsavilkums!C17 -> Jumta darbi
E3: (būvdarbu veids vai konstruktīvā elementa nosaukums)
A5: =APV_kopsavilkums!$A$6 -> Būves nosaukums: Aizkraukles profesionālās vidusskolas renovācija
A6: =APV_kopsavilkums!$A$7 -> Objekta nosaukums: Aizkraukles profesionālās vidusskolas renovācija
A7: =APV_kopsavilkums!$A$8 -> Objekta adrese: Aizkraukle, Jaunceltnes iela 21
A8: =APV_kopsavilkums!$A$9 -> Iepirkuma identifikācijas Nr. | L8: Tāmes izmaksa | M8: =P37 -> 35233.99 | P8: euro
L9: Tāme sastādīta : | M9: 2025.gada 20. janvāris
A11: Nr.p.k. | B11: Kods* | C11: Būvdarbarbu nosaukums | D11: Mērvienība | E11: Daudzums | F11: Vienības izmaksas | L11: Kopā uz visu apjomu
F12: Laika norma (c/h) | G12: darba samaksas likme * (euro/h) | H12: darba alga (euro) | I12: būvizstrādājumi | J12: mehānismi | K12: Kopā | L12: darbietilpība (c/h) | M12: darba alga | N12: būvizstrādājumi | O12: mehānismi | P12: summa (euro)
A13: 1 | B13: =A13+1 -> 2 | C13: =B13+1 -> 3 | D13: =C13+1 -> 4 | E13: =D13+1 -> 5 | F13: 6 | G13: =F13+1 -> 7 | H13: =G13+1 -> 8 | I13: 9 | J13: 10 | K13: =J13+1 -> 11 | L13: =K13+1 -> 12 | M13: =L13+1 -> 13 | N13: =M13+1 -> 14 | O13: =N13+1 -> 15 | P13: =O13+1 -> 16
C14: Sagaatvošanas darbi
A15: 1 | B15: līg.c. | C15: Esošā jumta seguma demontāža | D15: m2 | E15: 434.5 | F15: 0.25 | G15: 22 | H15: =G15*F15 -> 5.5 | I15: 0 | J15: 0.8 | K15: =ROUND(H15+I15+J15,2) -> 6.3 | L15: =ROUND(F15*E15,1) -> 108.6 | M15: =ROUND(H15*E15,2) -> 2389.75 | N15: =ROUND(I15*E15,2) -> 0 | O15: =ROUND(J15*E15,2) -> 347.6 | P15: =ROUND(M15+N15+O15,2) -> 2737.35
A16: =A15+1 -> 2 | B16: līg.c. | C16: Parapetu apšuvuma un apdares demontāža | D16: m | E16: 37.76 | F16: 0.7 | G16: 22 | H16: =G16*F16 -> 15.4 | I16: 0 | J16: 2.3 | K16: =ROUND(H16+I16+J16,2) -> 17.7 | L16: =ROUND(F16*E16,1) -> 26.4 | M16: =ROUND(H16*E16,2) -> 581.5 | N16: =ROUND(I16*E16,2) -> 0 | O16: =ROUND(J16*E16,2) -> 86.85 | P16: =ROUND(M16+N16+O16,2) -> 668.35
A17: =A16+1 -> 3 | B17: līg.c. | C17: Būvgružu savākšana un iekraušana konteinerī | D17: gb | E17: 0.056 | F17: 10 | G17: =G15 -> 22 | H17: =G17*F17 -> 220 | I17: 0 | J17: 0.5 | K17: =SUM(H17:J17) -> 220.5 | L17: =ROUND(F17*E17,2) -> 0.56 | M17: =ROUND(E17*H17,2) -> 12.32 | N17: =ROUND(E17*I17,2) -> 0 | O17: =ROUND(E17*J17,2) -> 0.03 | P17: =SUM(M17:O17) -> 12.35
C18: būvgružu konteineru noma | D18: gb | E18: 0.206 | F18: 0 | H18: =G18*F18 -> 0 | I18: 0 | J18: 548 | K18: =SUM(H18:J18) -> 548 | L18: =ROUND(F18*E18,2) -> 0 | M18: =ROUND(E18*H18,2) -> 0 | N18: =ROUND(E18*I18,2) -> 0 | O18: =ROUND(E18*J18,2) -> 112.89 | P18: =SUM(M18:O18) -> 112.89
H19: =G19*F19 -> 0 | I19: 0 | J19: 0
C20: Jumta izbūve | H20: =G20*F20 -> 0 | I20: 0 | J20: 0 | K20: =ROUND(H20+I20+J20,2) -> 0 | L20: =ROUND(F20*E20,1) -> 0 | M20: =ROUND(H20*E20,2) -> 0 | N20: =ROUND(I20*E20,2) -> 0 | O20: =ROUND(J20*E20,2) -> 0 | P20: =ROUND(M20+N20+O20,2) -> 0
C21: Jumts J-1 | D21: m2 | E21: 700 | H21: =G21*F21 -> 0 | I21: 0 | J21: 0 | K21: =ROUND(H21+I21+J21,2) -> 0 | L21: =ROUND(F21*E21,1) -> 0 | M21: =ROUND(H21*E21,2) -> 0 | N21: =ROUND(I21*E21,2) -> 0 | O21: =ROUND(J21*E21,2) -> 0 | P21: =ROUND(M21+N21+O21,2) -> 0
A22: =A17+1 -> 4 | B22: līg.c. | C22: Jumta hidroizolācijas apakšklāja ieklāšana (piemēram Icopal Baltbit PF 3.5mm) | D22: m2 | E22: =E21 -> 700 | F22: 0.38 | G22: =22 -> 22 | H22: =G22*F22 -> 8.36 | I22: 10.86 | J22: 0.92 | K22: =ROUND(H22+I22+J22,2) -> 20.14 | L22: =ROUND(F22*E22,1) -> 266 | M22: =ROUND(H22*E22,2) -> 5852 | N22: =ROUND(I22*E22,2) -> 7602 | O22: =ROUND(J22*E22,2) -> 644 | P22: =ROUND(M22+N22+O22,2) -> 14098
A23: =A22+1 -> 5 | B23: līg.c. | C23: Jumta hidroizolācijas virsklāja ieklāšana (piemēram Icopal Baltbit WF 4.2mm) | D23: m2 | E23: 595.2 | F23: 0.38 | G23: =22 -> 22 | H23: =G23*F23 -> 8.36 | I23: 12.26 | J23: 0.92 | K23: =ROUND(H23+I23+J23,2) -> 21.54 | L23: =ROUND(F23*E23,1) -> 226.2 | M23: =ROUND(H23*E23,2) -> 4975.87 | N23: =ROUND(I23*E23,2) -> 7297.15 | O23: =ROUND(J23*E23,2) -> 547.58 | P23: =ROUND(M23+N23+O23,2) -> 12820.6
I24: 0 | J24: 0
C25: Dažādi darbi | I25: 0 | J25: 0 | K25: =ROUND(H25+I25+J25,2) -> 0 | L25: =ROUND(F25*E25,1) -> 0 | M25: =ROUND(H25*E25,2) -> 0 | N25: =ROUND(I25*E25,2) -> 0 | O25: =ROUND(J25*E25,2) -> 0 | P25: =ROUND(M25+N25+O25,2) -> 0
A26: =A23+1 -> 6 | B26: līg.c. | C26: Parapetu vertikālā hidroizolācija | D26: m | E26: 23.16 | F26: 0.72 | G26: =22 -> 22 | H26: =G26*F26 -> 15.84 | I26: 19.16 | J26: 0.78 | K26: =ROUND(H26+I26+J26,2) -> 35.78 | L26: =ROUND(F26*E26,1) -> 16.7 | M26: =ROUND(H26*E26,2) -> 366.85 | N26: =ROUND(I26*E26,2) -> 443.75 | O26: =ROUND(J26*E26,2) -> 18.06 | P26: =ROUND(M26+N26+O26,2) -> 828.66
A27: =A26+1 -> 7 | B27: līg.c. | C27: Parapetu apšuvums ar skārdu | D27: m | E27: 28.1 | F27: 1 | G27: =22 -> 22 | H27: =G27*F27 -> 22 | I27: 18.88 | J27: 0.44 | K27: =ROUND(H27+I27+J27,2) -> 41.32 | L27: =ROUND(F27*E27,1) -> 28.1 | M27: =ROUND(H27*E27,2) -> 618.2 | N27: =ROUND(I27*E27,2) -> 530.53 | O27: =ROUND(J27*E27,2) -> 12.36 | P27: =ROUND(M27+N27+O27,2) -> 1161.09
A28: =A27+1 -> 8 | B28: līg.c. | C28: Savācējnotekas | D28: gb | E28: 8 | F28: 4.5 | G28: =22 -> 22 | H28: =G28*F28 -> 99 | I28: 38.52 | J28: 8 | K28: =ROUND(H28+I28+J28,2) -> 145.52 | L28: =ROUND(F28*E28,1) -> 36 | M28: =ROUND(H28*E28,2) -> 792 | N28: =ROUND(I28*E28,2) -> 308.16 | O28: =ROUND(J28*E28,2) -> 64 | P28: =ROUND(M28+N28+O28,2) -> 1164.16
A29: =A28+1 -> 9 | B29: līg.c. | C29: Pieslēgumu izveide pie jumta lūkām | D29: gb | E29: 8.959 | F29: 7 | G29: =22 -> 22 | H29: =G29*F29 -> 154 | I29: 25.68 | J29: 2.32 | K29: =ROUND(H29+I29+J29,2) -> 182 | L29: =ROUND(F29*E29,1) -> 62.7 | M29: =ROUND(H29*E29,2) -> 1379.69 | N29: =ROUND(I29*E29,2) -> 230.07 | O29: =ROUND(J29*E29,2) -> 20.78 | P29: =ROUND(M29+N29+O29,2) -> 1630.54
H30: =G30*F30 -> 0 | I30: 0 | J30: 0
F31: 0 | H31: =G31*F31 -> 0 | I31: 0 | J31: 0 | K31: =SUM(H31:J31) -> 0 | L31: =ROUND(F31*E31,2) -> 0 | M31: =ROUND(E31*H31,2) -> 0 | N31: =ROUND(E31*I31,2) -> 0 | O31: =ROUND(E31*J31,2) -> 0 | P31: =SUM(M31:O31) -> 0
F32: 0 | H32: =G32*F32 -> 0 | I32: 0 | J32: 0 | K32: =SUM(H32:J32) -> 0 | L32: =ROUND(F32*E32,2) -> 0 | M32: =ROUND(E32*H32,2) -> 0 | N32: =ROUND(E32*I32,2) -> 0 | O32: =ROUND(E32*J32,2) -> 0 | P32: =SUM(M32:O32) -> 0
C33: Būvlaukuma uzturēšanas izmaksas | F33: 0 | H33: =G33*F33 -> 0 | I33: 0 | J33: 0 | K33: =SUM(H33:J33) -> 0 | L33: =ROUND(F33*E33,2) -> 0 | M33: =ROUND(E33*H33,2) -> 0 | N33: =ROUND(E33*I33,2) -> 0 | O33: =ROUND(E33*J33,2) -> 0 | P33: =SUM(M33:O33) -> 0
A34: =A29+1 -> 10 | B34: līg.c. | C34: Autoceltņa noma | D34: st | E34: 0 | F34: 0 | H34: =G34*F34 -> 0 | I34: 0 | J34: 75 | K34: =SUM(H34:J34) -> 75 | L34: =ROUND(F34*E34,2) -> 0 | M34: =ROUND(E34*H34,2) -> 0 | N34: =ROUND(E34*I34,2) -> 0 | O34: =ROUND(E34*J34,2) -> 0 | P34: =SUM(M34:O34) -> 0
F35: 0 | H35: =G35*F35 -> 0 | I35: 0 | J35: 0 | K35: =SUM(H35:J35) -> 0 | L35: =ROUND(F35*E35,2) -> 0 | M35: =ROUND(E35*H35,2) -> 0 | N35: =ROUND(E35*I35,2) -> 0 | O35: =ROUND(E35*J35,2) -> 0 | P35: =SUM(M35:O35) -> 0
K37: Tiešās izmaksas kopā, t.sk.darba devēja sociālais nodoklis (23.59%): | L37: =SUM(L14:L36) -> 771.26 | M37: =SUM(M14:M36) -> 16968.18 | N37: =SUM(N14:N36) -> 16411.66 | O37: =SUM(O14:O36) -> 1854.15 | P37: =SUM(P14:P36) -> 35233.99 | Q37: =50740.16-'[1]1.1'!$P$47 -> 35233.99
P38: =Q37-P37 -> 0
A40: Sastādīja | C40: Jefims Šapiro 20.01.2025.
B41: (paraksts un tā atšifrējums, datums)
A43: =APV_kopsavilkums!$C$28 -> Tāme sastādīta : 2025.gada 20. janvāris
A45: Pārbaudīja
B46: (paraksts un tā atšifrējums, datums)
...

Sheet RSMT_ventil
C3: Jumta ventilācijas nomaiņa
A4: Būvniecības ierosinātājs: Rīgas Stila un modes tehnikums, reģistrācijas Nr. 90000039361
A5: Objekta nosaukums: Rīgas Stila un modes tehnikuma remonta darbi vērtas un applūšanas seku novēršanai
A6: Būves adrese: Ūdeļu iela 24, Rīga
A7: Būvdarbu līgums:
C10: Tāme par kopējo summu: | D10: =P28 -> 32203.65
A11: Ventilācija
A12: Nr.p.k. | B12: Tāmes pozīcija | C12: Darba nosaukums | D12: Mervienība | E12: Daudzums | F12: Vienības izmaksas | L12: Kopā uz visu apjomu
F13: Laika norma | G13: Stundas likme | H13: Darba alga | I13: Materiāli | J13: Mehānismi | K13: Kopā | L13: Darbietilpība | M13: Darba alga | N13: Materiāli | O13: Mehānismi | P13: Summa
C14: Ieslēgtie darbi (Jumta ventilācijas iekšējo un ārējo bloku pārbūve)
A15: 1 | B15: Jauna | C15: LG Electronics Therma V Split HU143MA.U33 + HN1616M.NK5 (ārējais un iekšējais bloks) montāža (ieskaitot freona uzpildi) | D15: kompl. | E15: 3 | F15: 33.5 | G15: 19 | H15: 636.5 | I15: 5928.48 | J15: 29.64 | K15: =ROUND(H15+I15+J15,2) -> 6594.62 | L15: =ROUND(F15*E15,2) -> 100.5 | M15: =ROUND(H15*E15,2) -> 1909.5 | N15: =ROUND(I15*E15,2) -> 17785.44 | O15: =ROUND(J15*E15,2) -> 88.92 | P15: =ROUND(M15+N15+O15,2) -> 19783.86
A16: 2 | B16: Jauna | C16: Esošās iekārtas demontāža un utilizācija | D16: kompl. | E16: 3 | F16: 13.9 | G16: 19 | H16: 264.1 | I16: 0 | J16: 0 | K16: =ROUND(H16+I16+J16,2) -> 264.1 | L16: =ROUND(F16*E16,2) -> 41.7 | M16: =ROUND(H16*E16,2) -> 792.3 | N16: =ROUND(I16*E16,2) -> 0 | O16: =ROUND(J16*E16,2) -> 0 | P16: =ROUND(M16+N16+O16,2) -> 792.3
A17: 3 | B17: Jauna | C17: Iekšējā – ārējā bloka komunikācijas vadu nomaiņa | D17: kompl. | E17: 3 | F17: 5.6 | G17: 19 | H17: 106.4 | I17: 218.28 | J17: 6.55 | K17: =ROUND(H17+I17+J17,2) -> 331.23 | L17: =ROUND(F17*E17,2) -> 16.8 | M17: =ROUND(H17*E17,2) -> 319.2 | N17: =ROUND(I17*E17,2) -> 654.84 | O17: =ROUND(J17*E17,2) -> 19.65 | P17: =ROUND(M17+N17+O17,2) -> 993.69
A18: 4 | B18: Jauna | C18: Iekšējā bloka esošo cauruļu pieslēguma pārbūve (ieskaitot izolācijas atjaunošanu) | D18: kompl. | E18: 3 | F18: 10.4 | G18: 19 | H18: 197.6 | I18: 163.71 | J18: 4.91 | K18: =ROUND(H18+I18+J18,2) -> 366.22 | L18: =ROUND(F18*E18,2) -> 31.2 | M18: =ROUND(H18*E18,2) -> 592.8 | N18: =ROUND(I18*E18,2) -> 491.13 | O18: =ROUND(J18*E18,2) -> 14.73 | P18: =ROUND(M18+N18+O18,2) -> 1098.66
A19: 5 | B19: Jauna | C19: Esošo gaisa vadu pieslēguma vietu pie ārējiem blokiem pārbūve, izveidojot izolētas sadales kārbas nosūces ventilatoriem | D19: kompl. | E19: 3 | F19: 12.6 | G19: 19 | H19: 239.4 | I19: 371.07 | J19: 11.13 | K19: =ROUND(H19+I19+J19,2) -> 621.6 | L19: =ROUND(F19*E19,2) -> 37.8 | M19: =ROUND(H19*E19,2) -> 718.2 | N19: =ROUND(I19*E19,2) -> 1113.21 | O19: =ROUND(J19*E19,2) -> 33.39 | P19: =ROUND(M19+N19+O19,2) -> 1864.8
A20: 6 | B20: Jauna | C20: Nosūces ventilatora Systemair prio 315 EC montāža. | D20: gab | E20: 2 | F20: 8.4 | G20: 19 | H20: 159.6 | I20: 1082.07 | J20: 32.46 | K20: =ROUND(H20+I20+J20,2) -> 1274.13 | L20: =ROUND(F20*E20,2) -> 16.8 | M20: =ROUND(H20*E20,2) -> 319.2 | N20: =ROUND(I20*E20,2) -> 2164.14 | O20: =ROUND(J20*E20,2) -> 64.92 | P20: =ROUND(M20+N20+O20,2) -> 2548.26
A21: 7 | B21: Jauna | C21: Nosūces ventilatora Systemair prio 355 EC montāža. | D21: gab | E21: 1 | F21: 8.4 | G21: 19 | H21: 159.6 | I21: 1316.17 | J21: 39.49 | K21: =ROUND(H21+I21+J21,2) -> 1515.26 | L21: =ROUND(F21*E21,2) -> 8.4 | M21: =ROUND(H21*E21,2) -> 159.6 | N21: =ROUND(I21*E21,2) -> 1316.17 | O21: =ROUND(J21*E21,2) -> 39.49 | P21: =ROUND(M21+N21+O21,2) -> 1515.26
A22: 8 | B22: Jauna | C22: Spiediena kontroliera PCA 1000D2 montāža nosūces ventilatoriem | D22: gab | E22: 3 | F22: 10.5 | G22: 19 | H22: 199.5 | I22: 383.65 | J22: 11.51 | K22: =ROUND(H22+I22+J22,2) -> 594.66 | L22: =ROUND(F22*E22,2) -> 31.5 | M22: =ROUND(H22*E22,2) -> 598.5 | N22: =ROUND(I22*E22,2) -> 1150.95 | O22: =ROUND(J22*E22,2) -> 34.53 | P22: =ROUND(M22+N22+O22,2) -> 1783.98
C24: Kopā | L24: =SUM(L15:L23) -> 284.7 | M24: =SUM(M15:M23) -> 5409.3 | N24: =SUM(N15:N23) -> 24675.88 | O24: =SUM(O15:O23) -> 295.63 | P24: =SUM(P15:P23) -> 30380.81
C25: Virsizdevumi 3% | P25: =ROUND(P24*0.03,2) -> 911.42
C26: Peļņa 3% | P26: =ROUND(P24*0.03,2) -> 911.42
C27: Pavisam kopā | P27: =SUM(P24:P26) -> 32203.65
P28: =P27 -> 32203.65
O29: Summa ar PVN | P29: =P28*1.21 -> 38966.416
C48: Būvniecības ierosinātājs:
C49: Rīgas Stila un modes tehnikuma direktore
C50: Ulrika Naumova
C52: datums skatāms laika zīmogā
C55: Būvuzraugs :

Sheet RSMT_jumta remonts
A2: Lokālā tāme Nr.
A3: Jumta remonts- applūšanas un vētras seku novēršana
A6: Objekta nosaukums: | C6: Rīgas Stila un modes tehnikuma dienesta viesnīcas applūšanas un vētras seku novēršana Ūdeļu ielā 24, Rīgā
A7: Būves nosaukums: | C7: Dienesta viesnīca
A8: Objekta adrese: | C8: Ūdeļu ielā 24, Rīgā
A9: Pasūtījuma nr.:
M11: Tāmes izmaksas: | O11: =P34 -> 89056.1 | P11: EUR
A14: Nr.p.k. | B14: Kods | C14: Būvdarbu nosaukums | D14: Mērvienība | E14: Daudzums | F14: Vienības izmaksas | L14: Kopā uz visu apjomu
F15: Laika norma (c/h) | G15: Darba samaksas likme (euro/h) | H15: Darba alga | I15: Būvizstrādājumi | J15: Mehānismi | K15: KOPĀ | L15: Darbietilpība (c/h) | M15: Darba alga | N15: Būvizstrādājumi | O15: Mehānismi | P15: Summa
F17: 0 | H17: =ROUND(F17*G17,2) -> 0 | I17: 0 | J17: 0 | K17: =SUM(H17:J17) -> 0 | L17: =ROUND(E17*F17,2) -> 0 | M17: =ROUND(E17*H17,2) -> 0 | N17: =ROUND(E17*I17,2) -> 0 | O17: =ROUND(E17*J17,2) -> 0 | P17: =SUM(M17:O17) -> 0
A18: 1 | C18: Jumta seguma demontāža | D18: m2 | E18: 847 | F18: 0.49 | G18: 19 | H18: =ROUND(F18*G18,2) -> 9.31 | I18: 0.42 | J18: 6.9 | K18: =SUM(H18:J18) -> 16.63 | L18: =ROUND(E18*F18,2) -> 415.03 | M18: =ROUND(E18*H18,2) -> 7885.57 | N18: =ROUND(E18*I18,2) -> 355.74 | O18: =ROUND(E18*J18,2) -> 5844.3 | P18: =SUM(M18:O18) -> 14085.61
A19: 2 | C19: Cietās vates demontāža | D19: m2 | E19: 847 | F19: 0.1 | G19: 19 | H19: =ROUND(F19*G19,2) -> 1.9 | I19: 0 | J19: 1.95 | K19: =SUM(H19:J19) -> 3.85 | L19: =ROUND(E19*F19,2) -> 84.7 | M19: =ROUND(E19*H19,2) -> 1609.3 | N19: =ROUND(E19*I19,2) -> 0 | O19: =ROUND(E19*J19,2) -> 1651.65 | P19: =SUM(M19:O19) -> 3260.95
A20: 3 | C20: Jaunās cietas vates montāža, ieskaitot esošā jumta izolācijas slāņa piestiprināšanu pie pārseguma | D20: m2 | E20: 847 | F20: 0.35 | G20: 19 | H20: =ROUND(F20*G20,2) -> 6.65 | I20: 8.86 | J20: 2.05 | K20: =SUM(H20:J20) -> 17.56 | L20: =ROUND(E20*F20,2) -> 296.45 | M20: =ROUND(E20*H20,2) -> 5632.55 | N20: =ROUND(E20*I20,2) -> 7504.42 | O20: =ROUND(E20*J20,2) -> 1736.35 | P20: =SUM(M20:O20) -> 14873.32
A21: 4 | C21: PVC membrānas montāža | D21: m2 | E21: 847 | F21: 0.8 | G21: 19 | H21: =ROUND(F21*G21,2) -> 15.2 | I21: 13.13 | J21: 1.65 | K21: =SUM(H21:J21) -> 29.98 | L21: =ROUND(E21*F21,2) -> 677.6 | M21: =ROUND(E21*H21,2) -> 12874.4 | N21: =ROUND(E21*I21,2) -> 11121.11 | O21: =ROUND(E21*J21,2) -> 1397.55 | P21: =SUM(M21:O21) -> 25393.06
A22: 5 | C22: Ventilācijas izvadu apdare ar PVC segumu (vertikālā plaknē) | D22: t.m. | E22: 152 | F22: 2.05 | G22: 19 | H22: =ROUND(F22*G22,2) -> 38.95 | I22: 16.28 | J22: 2.05 | K22: =SUM(H22:J22) -> 57.28 | L22: =ROUND(E22*F22,2) -> 311.6 | M22: =ROUND(E22*H22,2) -> 5920.4 | N22: =ROUND(E22*I22,2) -> 2474.56 | O22: =ROUND(E22*J22,2) -> 311.6 | P22: =SUM(M22:O22) -> 8706.56
A23: 6 | C23: Parapetu skārda apdares demontāža | D23: t.m. | E23: 160 | F23: 0.08 | G23: 19 | H23: =ROUND(F23*G23,2) -> 1.52 | I23: 0.1 | J23: 0.9 | K23: =SUM(H23:J23) -> 2.52 | L23: =ROUND(E23*F23,2) -> 12.8 | M23: =ROUND(E23*H23,2) -> 243.2 | N23: =ROUND(E23*I23,2) -> 16 | O23: =ROUND(E23*J23,2) -> 144 | P23: =SUM(M23:O23) -> 403.2
A24: 7 | C24: Parapeta karkasa izbūve no koka brusām un finiera | D24: t.m. | E24: 160 | F24: 0.52 | G24: 19 | H24: =ROUND(F24*G24,2) -> 9.88 | I24: 11.87 | J24: 0.9 | K24: =SUM(H24:J24) -> 22.65 | L24: =ROUND(E24*F24,2) -> 83.2 | M24: =ROUND(E24*H24,2) -> 1580.8 | N24: =ROUND(E24*I24,2) -> 1899.2 | O24: =ROUND(E24*J24,2) -> 144 | P24: =SUM(M24:O24) -> 3624
A25: 8 | C25: PVC ieklāšana parapetu vertikālajā un horizontālajā plaknē | D25: t.m. | E25: 145 | F25: 0.84 | G25: 19 | H25: =ROUND(F25*G25,2) -> 15.96 | I25: 11.03 | J25: 1.65 | K25: =SUM(H25:J25) -> 28.64 | L25: =ROUND(E25*F25,2) -> 121.8 | M25: =ROUND(E25*H25,2) -> 2314.2 | N25: =ROUND(E25*I25,2) -> 1599.35 | O25: =ROUND(E25*J25,2) -> 239.25 | P25: =SUM(M25:O25) -> 4152.8
A26: 9 | C26: Parapetu skārda apdares montāža | D26: t.m. | E26: 160 | F26: 0.66 | G26: 19 | H26: =ROUND(F26*G26,2) -> 12.54 | I26: 14.91 | J26: 1.3 | K26: =SUM(H26:J26) -> 28.75 | L26: =ROUND(E26*F26,2) -> 105.6 | M26: =ROUND(E26*H26,2) -> 2006.4 | N26: =ROUND(E26*I26,2) -> 2385.6 | O26: =ROUND(E26*J26,2) -> 208 | P26: =SUM(M26:O26) -> 4600
A27: 10 | C27: Jumta lūkas hidroizolēšana | D27: gb. | E27: 2 | F27: 7.3 | G27: 19 | H27: =ROUND(F27*G27,2) -> 138.7 | I27: 15.75 | J27: 8.95 | K27: =SUM(H27:J27) -> 163.4 | L27: =ROUND(E27*F27,2) -> 14.6 | M27: =ROUND(E27*H27,2) -> 277.4 | N27: =ROUND(E27*I27,2) -> 31.5 | O27: =ROUND(E27*J27,2) -> 17.9 | P27: =SUM(M27:O27) -> 326.8
A28: 11 | C28: Kanalizācijas ventilācijas izvadu uzstādīšana, hidroizolēšana | D28: gb. | E28: 28 | F28: 0.64 | G28: 19 | H28: =ROUND(F28*G28,2) -> 12.16 | I28: 26.25 | J28: 4.1 | K28: =SUM(H28:J28) -> 42.51 | L28: =ROUND(E28*F28,2) -> 17.92 | M28: =ROUND(E28*H28,2) -> 340.48 | N28: =ROUND(E28*I28,2) -> 735 | O28: =ROUND(E28*J28,2) -> 114.8 | P28: =SUM(M28:O28) -> 1190.28
A29: 12 | C29: Lietus kanalizācijas trapu iestrāde PVC segumā | D29: gb. | E29: 4 | F29: 4.97 | G29: 19 | H29: =ROUND(F29*G29,2) -> 94.43 | I29: 0 | J29: 15.75 | K29: =SUM(H29:J29) -> 110.18 | L29: =ROUND(E29*F29,2) -> 19.88 | M29: =ROUND(E29*H29,2) -> 377.72 | N29: =ROUND(E29*I29,2) -> 0 | O29: =ROUND(E29*J29,2) -> 63 | P29: =SUM(M29:O29) -> 440.72
... A31: 14 | C31: Materiālu pacelšana uz jumta | D31: k-ts | E31: 1 | F31: 15.2 | G31: 19 | H31: =ROUND(F31*G31,2) -> 288.8 | I31: 0 | J31: 1260 | K31: =SUM(H31:J31) -> 1548.8 | L31: =ROUND(E31*F31,2) -> 15.2 | M31: =ROUND(E31*H31,2) -> 288.8 | N31: =ROUND(E31*I31,2) -> 0 | O31: =ROUND(E31*J31,2) -> 1260 | P31: =SUM(M31:O31) -> 1548.8
K32: =SUM(H32:J32) -> 0 | L32: =ROUND(E32*F32,2) -> 0 | M32: =ROUND(E32*H32,2) -> 0 | N32: =ROUND(E32*I32,2) -> 0 | O32: =ROUND(E32*J32,2) -> 0 | P32: =SUM(M32:O32) -> 0
A34: Tiešās izmaksas kopā, t.sk. Darba dēvēja sociālais nodoklis (23,59%) | L34: =SUM(L17:L33) -> 2288.88 | M34: =ROUND(SUM(M17:M32),2) -> 43488.72 | N34: =ROUND(SUM(N17:N32),2) -> 28122.48 | O34: =ROUND(SUM(O17:O32),2) -> 17444.9 | P34: =ROUND(SUM(P17:P32),2) -> 89056.1
E35: Virsizdevumi | F35: 0.03 | P35: =P34*0.03 -> 2671.683
E36: Peļņa | F36: 0.03 | P36: =P34*0.03 -> 2671.683
B37: Sastādīja:Raitis Stuklis | E37: Pavisam kopā | P37: =P34+P35+P36 -> 94399.466
B38: Sertifikāta Nr.:4-02746 | E38: Summa ar PVN | P38: =P37*1.21 -> 114223.35

Sheet RSMT_līgumcenas koptāme
C1: APSTIPRINU
A2: __________________________________
A3: (pasūtītāja paraksts un tā atšifrējums)
C4: Z.V.
A5: gada ___. ________________
A7: Paredzamās līgumcenas koptāme
A10: ='RSMT_Būvniecības koptāme'!A9 -> Pasūtītājs: Rīgas stila un modes tehnikums
A11: ='RSMT_Būvniecības koptāme'!A10 -> Objekta nosaukums: Telpu remonts Ūdeļu 24, Rīga
A12: ='RSMT_Būvniecības koptāme'!A11 -> Būves nosaukums: Rīgas Stila un modes tehnikums
A13: ='RSMT_Būvniecības koptāme'!A12 -> Objekta adrese: Rīga, Ūdeļu iela 24, LV-1064
A14: ='RSMT_Būvniecības koptāme'!A13 -> 0
A15: ='RSMT_Būvniecības koptāme'!A14 -> 0
A17: ='RSMT_Būvniecības koptāme'!A16 -> 0 | C17: Աստված մեզ հետ է
A18: Nr.p.k. | B18: Objekta nosaukums | C18: Objekta izmaksas (euro)
A19: 1 | B19: =A11 -> Objekta nosaukums: Telpu remonts Ūdeļu 24, Rīga | C19: =RSMT_kopsavilkums!D23 -> 30503.64
B20: Kopā | C20: =C19 -> 30503.64
A22: Pavisam būvniecības izmaksas | C22: =ROUND(SUM(C20),2) -> 30503.64
A23: Pavisam kopā bez PVN | C23: =RSMT_kopsavilkums!D24 -> 30503.64
A24: PVN 21% | C24: =RSMT_kopsavilkums!D25 -> 6405.7644
A25: Kopā ar PVN | C25: =RSMT_kopsavilkums!D26 -> 36909.404
A27: Sastādīja un pārbaudīja:
A28: Būvdarbu speciālists / Timurs Davilovs
A29: (paraksts un tā atšifrējums, datums)
A30: Sert. Nr.4-03278
B32: =A17 -> 0

Sheet RSMT_Būvniecības koptāme
C1: APSTIPRINU
A2: __________________________________
A3: (pasūtītāja paraksts un tā atšifrējums)
C4: Z.V.
A5: gada ___. ________________
A7: Būvniecības koptāme
A9: =RSMT_kopsavilkums!A4 -> Pasūtītājs: Rīgas stila un modes tehnikums
A10: =RSMT_kopsavilkums!A5 -> Objekta nosaukums: Telpu remonts Ūdeļu 24, Rīga
A11: =RSMT_kopsavilkums!A6 -> Būves nosaukums: Rīgas Stila un modes tehnikums
A12: =RSMT_kopsavilkums!A7 -> Objekta adrese: Rīga, Ūdeļu iela 24, LV-1064
A13: =RSMT_kopsavilkums!A8 -> 0
A14: =RSMT_kopsavilkums!A9 -> 0
A16: =RSMT_kopsavilkums!A12 -> 0 | C16: Աստված մեզ հետ է
A17: Nr.p.k. | B17: Objekta nosaukums | C17: Objekta izmaksas (euro)
A19: 1 | B19: =A10 -> Objekta nosaukums: Telpu remonts Ūdeļu 24, Rīga | C19: =RSMT_kopsavilkums!D23 -> 30503.64
B21: Kopā bez PVN | C21: =C19 -> 30503.64
A24: Sastādīja un pārbaudīja:
A25: Būvdarbu speciālists / Timurs Davilovs
A26: (paraksts un tā atšifrējums, datums)
A27: Sert. Nr.4-03278
B29: =A16 -> 0

Sheet RSMT_kopsavilkums
A1: Kopsavilkuma aprēķins Nr.1
A2: =RSMT_apdare!A2 -> Telpu remonts, iekšējie apdares darbi
A3: (būvdarbu veids vai konstruktīvā elementa nosaukums)
A4: =RSMT_apdare!A4 -> Pasūtītājs: Rīgas stila un modes tehnikums
A5: =RSMT_apdare!A5 -> Objekta nosaukums: Telpu remonts Ūdeļu 24, Rīga
A6: =RSMT_apdare!A6 -> Būves nosaukums: Rīgas Stila un modes tehnikums
A7: =RSMT_apdare!A7 -> Objekta adrese: Rīga, Ūdeļu iela 24, LV-1064
A8: =RSMT_apdare!A8 -> 0
A9: =RSMT_apdare!A9 -> 0
A10: Par kopējo summu (euro) | D10: =D23 -> 30503.64
A11: Kopējā darbietilpība (c/h) | D11: =H19 -> 1157.37
A12: =RSMT_apdare!A11 -> 0 | H12: Աստված մեզ հետ է
A13: Nr. p.k. | B13: Kods, tāmes Nr. | C13: Būvdarbu veids vai konstruktīvā elementa nosaukums | D13: Tāmes izmaksas | E13: Tai skaitā | H13: Darb- ietilpība (c/h)
E14: darba alga | F14: būvizstrādājumi | G14: mehānismi
C15: I Vispārējie būvdarbi
A16: 1 | B16: LK-1 | C16: =RSMT_apdare!A2 -> Telpu remonts, iekšējie apdares darbi | D16: =RSMT_apdare!P48 -> 21994.74 | E16: =RSMT_apdare!M48 -> 8074.16 | F16: =RSMT_apdare!N48 -> 13309.65 | G16: =RSMT_apdare!O48 -> 610.93 | H16: =RSMT_apdare!L48 -> 1009.27
A17: 2 | B17: LK-2 | C17: =RSMT_elektrība!A2 -> Elektroinstalācijas un UATS | D17: =RSMT_elektrība!P48 -> 3855.8 | E17: =RSMT_elektrība!M48 -> 1109.1 | F17: =RSMT_elektrība!N48 -> 2705.8 | G17: =RSMT_elektrība!O48 -> 40.9 | H17: =RSMT_elektrība!L48 -> 148.1
A18: 3 | B18: LK-3 | C18: ='[2]Jumta remontdarbi'!A2 -> 0 | D18: ='[2]Jumta remontdarbi'!P25 -> 0 | E18: ='[2]Jumta remontdarbi'!M25 -> 0 | F18: ='[2]Jumta remontdarbi'!N25 -> 0 | G18: ='[2]Jumta remontdarbi'!O25 -> 0 | H18: ='[2]Jumta remontdarbi'!L25 -> 0
A19: Kopā | D19: =SUM(D16:D18) -> 25850.54 | E19: =SUM(E16:E18) -> 9183.26 | F19: =SUM(F16:F18) -> 16015.45 | G19: =SUM(G16:G18) -> 651.83 | H19: =SUM(H16:H18) -> 1157.37
A20: Virsizdevumi ( 11% ) | D20: =ROUND(D19*0.11,2) -> 2843.56
A21: t.sk.darba aizsardzība
A22: Peļņa ( 7% ) | D22: =ROUND(D19*0.07,2) -> 1809.54
A23: Pavisam kopā | D23: =SUM(D19:D22) -> 30503.64
A24: Pavisam kopā bez PVN | D24: =SUM(D23:D23) -> 30503.64
A25: PVN 21% | D25: =D24*0.21 -> 6405.7644
A26: Kopā ar PVN | D26: =SUM(D24:D25) -> 36909.404
A28: Sastādīja un pārbaudīja:
A29: Būvdarbu speciālists /
A30: (paraksts un tā atšifrējums, datums)
B33: =A12 -> 0

Sheet RSMT_apdare
A1: Lokālā tāme Nr. 1
A2: Telpu remonts, iekšējie apdares darbi
A3: (būvdarbu veids vai konstruktīvā elementa nosaukums)
A4: Pasūtītājs: Rīgas stila un modes tehnikums
A5: Objekta nosaukums: Telpu remonts Ūdeļu 24, Rīga
A6: Būves nosaukums: Rīgas Stila un modes tehnikums
A7: Objekta adrese: Rīga, Ūdeļu iela 24, LV-1064
A10: Tāme sastādīta 2024.gada tirgus cenās, pamatojoties uz apsekojumu | L10: Tāmes izmaksas | O10: =P48 -> 21994.74 | P10: euro
O11: Աստված մեզ հետ է
A12: Nr.p.k. | B12: Kods* | C12: Būvdarbu nosaukums | D12: Mērvienība | E12: Daudzums | F12: Vienības izmaksas | L12: Kopā uz visu apjomu
F13: laika norma (c/h) | G13: darba samaksas likme (euro/h) | H13: darba alga | I13: būvizstrā-dājumi | J13: mehānismi | K13: kopā | L13: darbietilpība (c/h) | M13: darba alga | N13: būvizstrā-dājumi | O13: mehānismi | P13: summa
A15: 1 | B15: 2 | C15: 3 | D15: 4 | E15: 5 | F15: 6 | G15: 7 | H15: 8 | I15: 9 | J15: 10 | K15: 11 | L15: 12 | M15: 13 | N15: 14 | O15: 15 | P15: 16
A16: 1 | C16: 1.Telpu remonts
A17: 2 | C17: Telpu remonts, iekšējie apdares darbi | H17: =ROUND(F17*G17,2) -> 0 | K17: =ROUND(J17+I17+H17,2) -> 0 | L17: =ROUND(E17*F17,2) -> 0 | M17: =ROUND(E17*H17,2) -> 0 | N17: =ROUND(E17*I17,2) -> 0 | O17: =ROUND(E17*J17,2) -> 0 | P17: =ROUND(O17+N17+M17,2) -> 0
A18: 3 | B18: 02-00000 | C18: Demontāžas darbi | H18: =ROUND(F18*G18,2) -> 0 | K18: =ROUND(J18+I18+H18,2) -> 0 | L18: =ROUND(E18*F18,2) -> 0 | M18: =ROUND(E18*H18,2) -> 0 | N18: =ROUND(E18*I18,2) -> 0 | O18: =ROUND(E18*J18,2) -> 0 | P18: =ROUND(O18+N18+M18,2) -> 0
A19: 4 | C19: Durvju konstrukcijas demontāža | D19: gab. | E19: 6 | F19: 1 | G19: 8 | H19: =ROUND(F19*G19,2) -> 8 | J19: 0.1 | K19: =ROUND(J19+I19+H19,2) -> 8.1 | L19: =ROUND(E19*F19,2) -> 6 | M19: =ROUND(E19*H19,2) -> 48 | N19: =ROUND(E19*I19,2) -> 0 | O19: =ROUND(E19*J19,2) -> 0.6 | P19: =ROUND(O19+N19+M19,2) -> 48.6
A20: 5 | C20: Grīdas seguma un grīdlīstu demontāža telpās | D20: m² | E20: 147 | F20: 0.1 | G20: 8 | H20: =ROUND(F20*G20,2) -> 0.8 | J20: 0.1 | K20: =ROUND(J20+I20+H20,2) -> 0.9 | L20: =ROUND(E20*F20,2) -> 14.7 | M20: =ROUND(E20*H20,2) -> 117.6 | N20: =ROUND(E20*I20,2) -> 0 | O20: =ROUND(E20*J20,2) -> 14.7 | P20: =ROUND(O20+N20+M20,2) -> 132.3
A21: 6 | C21: Sienas apdares demontāža | D21: m² | E21: 312 | F21: 0.01 | G21: 8 | H21: =ROUND(F21*G21,2) -> 0.08 | J21: 0.1 | K21: =ROUND(J21+I21+H21,2) -> 0.18 | L21: =ROUND(E21*F21,2) -> 3.12 | M21: =ROUND(E21*H21,2) -> 24.96 | N21: =ROUND(E21*I21,2) -> 0 | O21: =ROUND(E21*J21,2) -> 31.2 | P21: =ROUND(O21+N21+M21,2) -> 56.16
A22: 7 | C22: Vecā krīta krāsojuma noņemšana no griestiem un sienām | D22: m² | E22: 180 | F22: 0.1 | G22: 8 | H22: =ROUND(F22*G22,2) -> 0.8 | J22: 0.1 | K22: =ROUND(J22+I22+H22,2) -> 0.9 | L22: =ROUND(E22*F22,2) -> 18 | M22: =ROUND(E22*H22,2) -> 144 | N22: =ROUND(E22*I22,2) -> 0 | O22: =ROUND(E22*J22,2) -> 18 | P22: =ROUND(O22+N22+M22,2) -> 162
A23: 8 | C23: Būvgružu savākšana un utilizēšana | D23: m³ | E23: 8 | F23: 0.1 | G23: 8 | H23: =ROUND(F23*G23,2) -> 0.8 | J23: 23 | K23: =ROUND(J23+I23+H23,2) -> 23.8 | L23: =ROUND(E23*F23,2) -> 0.8 | M23: =ROUND(E23*H23,2) -> 6.4 | N23: =ROUND(E23*I23,2) -> 0 | O23: =ROUND(E23*J23,2) -> 184 | P23: =ROUND(O23+N23+M23,2) -> 190.4
A24: 10 | B24: 10-00000 | C24: Apdare | G24: 8 | H24: =ROUND(F24*G24,2) -> 0 | K24: =ROUND(J24+I24+H24,2) -> 0 | L24: =ROUND(E24*F24,2) -> 0 | M24: =ROUND(E24*H24,2) -> 0 | N24: =ROUND(E24*I24,2) -> 0 | O24: =ROUND(E24*J24,2) -> 0 | P24: =ROUND(O24+N24+M24,2) -> 0
A25: 11 | C25: Grīdu slīpēšana vecās krāsas, bojātā seguma noņemšana | D25: m² | E25: 147 | F25: 0.05 | G25: 8 | H25: =ROUND(F25*G25,2) -> 0.4 | J25: 0.1 | K25: =ROUND(J25+I25+H25,2) -> 0.5 | L25: =ROUND(E25*F25,2) -> 7.35 | M25: =ROUND(E25*H25,2) -> 58.8 | N25: =ROUND(E25*I25,2) -> 0 | O25: =ROUND(E25*J25,2) -> 14.7 | P25: =ROUND(O25+N25+M25,2) -> 73.5
A26: 12 | C26: Palīgmateriāli slīpēšanai, palīgmateriāli | D26: m² | E26: 147 | G26: 8 | H26: =ROUND(F26*G26,2) -> 0 | I26: 2.5 | K26: =ROUND(J26+I26+H26,2) -> 2.5 | L26: =ROUND(E26*F26,2) -> 0 | M26: =ROUND(E26*H26,2) -> 0 | N26: =ROUND(E26*I26,2) -> 367.5 | O26: =ROUND(E26*J26,2) -> 0 | P26: =ROUND(O26+N26+M26,2) -> 367.5
A27: 13 | C27: Durelis spundēts 12 mm | D27: m² | E27: 147 | F27: 0.3 | G27: 8 | H27: =ROUND(F27*G27,2) -> 2.4 | I27: 12 | J27: 0.1 | K27: =ROUND(J27+I27+H27,2) -> 14.5 | L27: =ROUND(E27*F27,2) -> 44.1 | M27: =ROUND(E27*H27,2) -> 352.8 | N27: =ROUND(E27*I27,2) -> 1764 | O27: =ROUND(E27*J27,2) -> 14.7 | P27: =ROUND(O27+N27+M27,2) -> 2131.5
A28: 14 | C28: linolejs | D28: m² | E28: 147 | F28: 0.2 | G28: 8 | H28: =ROUND(F28*G28,2) -> 1.6 | I28: 19.2 | J28: 0 | K28: =ROUND(J28+I28+H28,2) -> 20.8 | L28: =ROUND(E28*F28,2) -> 29.4 | M28: =ROUND(E28*H28,2) -> 235.2 | N28: =ROUND(E28*I28,2) -> 2822.4 | O28: =ROUND(E28*J28,2) -> 0 | P28: =ROUND(O28+N28+M28,2) -> 3057.6
A29: 15 | C29: Metāla sliekšņi | D29: m | F29: 0.5 | G29: 8 | H29: =ROUND(F29*G29,2) -> 4 | I29: 4 | K29: =ROUND(J29+I29+H29,2) -> 8 | L29: =ROUND(E29*F29,2) -> 0 | M29: =ROUND(E29*H29,2) -> 0 | N29: =ROUND(E29*I29,2) -> 0 | O29: =ROUND(E29*J29,2) -> 0 | P29: =ROUND(O29+N29+M29,2) -> 0
A30: 16 | C30: Grīdlīstu MDF h-100 mm uzstādīšana, stiprinājumi | D30: m | E30: 104 | F30: 0.45 | G30: 8 | H30: =ROUND(F30*G30,2) -> 3.6 | I30: 3.1 | J30: 0.11 | K30: =ROUND(J30+I30+H30,2) -> 6.81 | L30: =ROUND(E30*F30,2) -> 46.8 | M30: =ROUND(E30*H30,2) -> 374.4 | N30: =ROUND(E30*I30,2) -> 322.4 | O30: =ROUND(E30*J30,2) -> 11.44 | P30: =ROUND(O30+N30+M30,2) -> 708.24
A31: 17 | C31: Lokālu plaisu izšuvošana aizdare | D31: kpl. | E31: 1 | F31: 1 | G31: 8 | H31: =ROUND(F31*G31,2) -> 8 | I31: 3 | J31: 0.16 | K31: =ROUND(J31+I31+H31,2) -> 11.16 | L31: =ROUND(E31*F31,2) -> 1 | M31: =ROUND(E31*H31,2) -> 8 | N31: =ROUND(E31*I31,2) -> 3 | O31: =ROUND(E31*J31,2) -> 0.16 | P31: =ROUND(O31+N31+M31,2) -> 11.16
A32: 18 | C32: Sienas špaktelēšana, slīpēšana, gruntēšana | D32: m² | E32: 312 | F32: 1.1 | G32: 8 | H32: =ROUND(F32*G32,2) -> 8.8 | J32: 0.5 | K32: =ROUND(J32+I32+H32,2) -> 9.3 | L32: =ROUND(E32*F32,2) -> 343.2 | M32: =ROUND(E32*H32,2) -> 2745.6 | N32: =ROUND(E32*I32,2) -> 0 | O32: =ROUND(E32*J32,2) -> 156 | P32: =ROUND(O32+N32+M32,2) -> 2901.6
A33: 19 | C33: Grunts, palīgmateriāli | D33: l | E33: 20 | H33: =ROUND(F33*G33,2) -> 0 | I33: 1 | K33: =ROUND(J33+I33+H33,2) -> 1 | L33: =ROUND(E33*F33,2) -> 0 | M33: =ROUND(E33*H33,2) -> 0 | N33: =ROUND(E33*I33,2) -> 20 | O33: =ROUND(E33*J33,2) -> 0 | P33: =ROUND(O33+N33+M33,2) -> 20
A34: 20 | C34: Smalkā špaktele Gyproc ProMix Finish, palīgmateriāli | D34: m² | E34: 312 | H34: =ROUND(F34*G34,2) -> 0 | I34: 4 | K34: =ROUND(J34+I34+H34,2) -> 4 | L34: =ROUND(E34*F34,2) -> 0 | M34: =ROUND(E34*H34,2) -> 0 | N34: =ROUND(E34*I34,2) -> 1248 | O34: =ROUND(E34*J34,2) -> 0 | P34: =ROUND(O34+N34+M34,2) -> 1248
A35: 21 | C35: Sienu krāsošana ar faktūrkrāsu | D35: m² | E35: 312 | F35: 0.5 | G35: 8 | H35: =ROUND(F35*G35,2) -> 4 | J35: 0.1 | K35: =ROUND(J35+I35+H35,2) -> 4.1 | L35: =ROUND(E35*F35,2) -> 156 | M35: =ROUND(E35*H35,2) -> 1248 | N35: =ROUND(E35*I35,2) -> 0 | O35: =ROUND(E35*J35,2) -> 31.2 | P35: =ROUND(O35+N35+M35,2) -> 1279.2
A36: 22 | C36: Grunts, palīgmateriāli | D36: l | E36: 20 | H36: =ROUND(F36*G36,2) -> 0 | I36: 0.3 | K36: =ROUND(J36+I36+H36,2) -> 0.3 | L36: =ROUND(E36*F36,2) -> 0 | M36: =ROUND(E36*H36,2) -> 0 | N36: =ROUND(E36*I36,2) -> 6 | O36: =ROUND(E36*J36,2) -> 0 | P36: =ROUND(O36+N36+M36,2) -> 6
A37: 23 | C37: Krāsa, palīgmateriāli | D37: l | E37: 125 | H37: =ROUND(F37*G37,2) -> 0 | I37: 8 | K37: =ROUND(J37+I37+H37,2) -> 8 | L37: =ROUND(E37*F37,2) -> 0 | M37: =ROUND(E37*H37,2) -> 0 | N37: =ROUND(E37*I37,2) -> 1000 | O37: =ROUND(E37*J37,2) -> 0 | P37: =ROUND(O37+N37+M37,2) -> 1000
A38: 24 | C38: Griestu špaktelēšana, slīpēšana, gruntēšana | D38: m² | E38: 147 | F38: 1.1 | G38: 8 | H38: =ROUND(F38*G38,2) -> 8.8 | J38: 0.5 | K38: =ROUND(J38+I38+H38,2) -> 9.3 | L38: =ROUND(E38*F38,2) -> 161.7 | M38: =ROUND(E38*H38,2) -> 1293.6 | N38: =ROUND(E38*I38,2) -> 0 | O38: =ROUND(E38*J38,2) -> 73.5 | P38: =ROUND(O38+N38+M38,2) -> 1367.1
A39: 25 | C39: Grunts, palīgmateriāli | D39: l | E39: =E38*0.15 -> 22.05 | H39: =ROUND(F39*G39,2) -> 0 | I39: 1 | K39: =ROUND(J39+I39+H39,2) -> 1 | L39: =ROUND(E39*F39,2) -> 0 | M39: =ROUND(E39*H39,2) -> 0 | N39: =ROUND(E39*I39,2) -> 22.05 | O39: =ROUND(E39*J39,2) -> 0 | P39: =ROUND(O39+N39+M39,2) -> 22.05
A40: 26 | C40: Smalkā špaktele Gyproc ProMix Finish, palīgmateriāli | D40: m² | E40: 147 | H40: =ROUND(F40*G40,2) -> 0 | I40: 4 | K40: =ROUND(J40+I40+H40,2) -> 4 | L40: =ROUND(E40*F40,2) -> 0 | M40: =ROUND(E40*H40,2) -> 0 | N40: =ROUND(E40*I40,2) -> 588 | O40: =ROUND(E40*J40,2) -> 0 | P40: =ROUND(O40+N40+M40,2) -> 588
A41: 27 | C41: Griestu krāsošana | D41: m² | E41: 161 | F41: 0.5 | G41: 8 | H41: =ROUND(F41*G41,2) -> 4 | J41: 0.1 | K41: =ROUND(J41+I41+H41,2) -> 4.1 | L41: =ROUND(E41*F41,2) -> 80.5 | M41: =ROUND(E41*H41,2) -> 644 | N41: =ROUND(E41*I41,2) -> 0 | O41: =ROUND(E41*J41,2) -> 16.1 | P41: =ROUND(O41+N41+M41,2) -> 660.1
A42: 28 | C42: Balta krāsa | D42: l | E42: 40 | H42: =ROUND(F42*G42,2) -> 0 | I42: 7 | K42: =ROUND(J42+I42+H42,2) -> 7 | L42: =ROUND(E42*F42,2) -> 0 | M42: =ROUND(E42*H42,2) -> 0 | N42: =ROUND(E42*I42,2) -> 280 | O42: =ROUND(E42*J42,2) -> 0 | P42: =ROUND(O42+N42+M42,2) -> 280
A43: 29 | C43: Durvju konstrukcijas 207x128cm furnitūra, ar atduri uzstādīšana, apdare, palīgmateriāli, aplodas. | D43: gb | E43: 6 | F43: 7 | G43: 8 | H43: =ROUND(F43*G43,2) -> 56 | I43: 400 | J43: 3 | K43: =ROUND(J43+I43+H43,2) -> 459 | L43: =ROUND(E43*F43,2) -> 42 | M43: =ROUND(E43*H43,2) -> 336 | N43: =ROUND(E43*I43,2) -> 2400 | O43: =ROUND(E43*J43,2) -> 18 | P43: =ROUND(O43+N43+M43,2) -> 2754
...

Sheet RSMT_elektrība
A1: Lokālā tāme Nr. 2
A2: Elektroinstalācijas un UATS
A3: (būvdarbu veids vai konstruktīvā elementa nosaukums)
A4: Pasūtītājs: Rīgas stila un modes tehnikums
A5: Objekta nosaukums: Telpu remonts
A6: Būves nosaukums: Rīgas Stila un modes tehnikums
A7: Objekta adrese: Rīga, Ūdeļu iela 24, LV-1064
A8: Iepirkuma/ pasūtījuma ID Nr. RSMT 2022/7
A9: Izpildītājs: PS”VAAB”, Reģ. Nr.40103874946, Jur., adrese: Rīga, Dzērvju iela 1 – 2
A10: Tāme sastādīta 2024.gada tirgus cenās, pamatojoties uz apsekojumu | L10: Tāmes izmaksas | O10: =P48 -> 3855.8 | P10: euro
O11: Աստված մեզ հետ է
A12: Nr.p.k. | B12: Kods* | C12: Būvdarbu nosaukums | D12: Mērvienība | E12: Daudzums | F12: Vienības izmaksas | L12: Kopā uz visu apjomu
F13: laika norma (c/h) | G13: darba samaksas likme (euro/h) | H13: darba alga | I13: būvizstrā-dājumi | J13: mehānismi | K13: kopā | L13: darbietilpība (c/h) | M13: darba alga | N13: būvizstrā-dājumi | O13: mehānismi | P13: summa
A15: 1 | B15: 2 | C15: 3 | D15: 4 | E15: 5 | F15: 6 | G15: 7 | H15: 8 | I15: 9 | J15: 10 | K15: 11 | L15: 12 | M15: 13 | N15: 14 | O15: 15 | P15: 16
A16: 1 | C16: Pēc pieprasījuma
A17: 2 | B17: 18-00000 | C17: UATS_ESS | H17: =ROUND(F17*G17,2) -> 0 | K17: =ROUND(J17+I17+H17,2) -> 0 | L17: =ROUND(E17*F17,2) -> 0 | M17: =ROUND(E17*H17,2) -> 0 | N17: =ROUND(E17*I17,2) -> 0 | O17: =ROUND(E17*J17,2) -> 0 | P17: =ROUND(O17+N17+M17,2) -> 0
A18: 3 | C18: UATS tīkli | H18: =ROUND(F18*G18,2) -> 0 | K18: =ROUND(J18+I18+H18,2) -> 0 | L18: =ROUND(E18*F18,2) -> 0 | M18: =ROUND(E18*H18,2) -> 0 | N18: =ROUND(E18*I18,2) -> 0 | O18: =ROUND(E18*J18,2) -> 0 | P18: =ROUND(O18+N18+M18,2) -> 0
A19: 4 | C19: Esošo adrešu dūmu detektoru ar bāzi (demontāža) | D19: gb | E19: 7 | F19: 0.1 | G19: 8 | H19: =ROUND(F19*G19,2) -> 0.8 | I19: 0.1 | J19: 0.1 | K19: =ROUND(J19+I19+H19,2) -> 1 | L19: =ROUND(E19*F19,2) -> 0.7 | M19: =ROUND(E19*H19,2) -> 5.6 | N19: =ROUND(E19*I19,2) -> 0.7 | O19: =ROUND(E19*J19,2) -> 0.7 | P19: =ROUND(O19+N19+M19,2) -> 7
A20: 5 | C20: Esošo adrešu dūmu detektoru ar bāzi (atpakaļmontāža) | D20: gb | E20: 7 | F20: 0.1 | G20: 8 | H20: =ROUND(F20*G20,2) -> 0.8 | I20: 0.1 | J20: 0.1 | K20: =ROUND(J20+I20+H20,2) -> 1 | L20: =ROUND(E20*F20,2) -> 0.7 | M20: =ROUND(E20*H20,2) -> 5.6 | N20: =ROUND(E20*I20,2) -> 0.7 | O20: =ROUND(E20*J20,2) -> 0.7 | P20: =ROUND(O20+N20+M20,2) -> 7
A21: 6 | C21: Esošo videokameru demontāža un atpakaļmontāža | D21: gb | E21: 1 | F21: 1 | G21: 8 | H21: =ROUND(F21*G21,2) -> 8 | I21: 0.1 | J21: 0.1 | K21: =ROUND(J21+I21+H21,2) -> 8.2 | L21: =ROUND(E21*F21,2) -> 1 | M21: =ROUND(E21*H21,2) -> 8 | N21: =ROUND(E21*I21,2) -> 0.1 | O21: =ROUND(E21*J21,2) -> 0.1 | P21: =ROUND(O21+N21+M21,2) -> 8.2
A22: 7 | C22: Elektroinstalācijas | H22: =ROUND(F22*G22,2) -> 0 | K22: =ROUND(J22+I22+H22,2) -> 0 | L22: =ROUND(E22*F22,2) -> 0 | M22: =ROUND(E22*H22,2) -> 0 | N22: =ROUND(E22*I22,2) -> 0 | O22: =ROUND(E22*J22,2) -> 0 | P22: =ROUND(O22+N22+M22,2) -> 0
A23: 8 | C23: Sadalnes un komponenti | H23: =ROUND(F23*G23,2) -> 0 | K23: =ROUND(J23+I23+H23,2) -> 0 | L23: =ROUND(E23*F23,2) -> 0 | M23: =ROUND(E23*H23,2) -> 0 | N23: =ROUND(E23*I23,2) -> 0 | O23: =ROUND(E23*J23,2) -> 0 | P23: =ROUND(O23+N23+M23,2) -> 0
A24: 9 | C24: S1 (Klases sadalne) Modulāra sadalne ar montāžas profiliem plastmasas zem apmetuma izpildījumā IP30 Slēdži, automāti, drošinātāji, kopnes un pārējie elementi kompl. | D24: kpl. | E24: 2 | F24: 16 | G24: 8 | H24: =ROUND(F24*G24,2) -> 128 | I24: 912 | K24: =ROUND(J24+I24+H24,2) -> 1040 | L24: =ROUND(E24*F24,2) -> 32 | M24: =ROUND(E24*H24,2) -> 256 | N24: =ROUND(E24*I24,2) -> 1824 | O24: =ROUND(E24*J24,2) -> 0 | P24: =ROUND(O24+N24+M24,2) -> 2080
A25: 10 | C25: Slēdži | H25: =ROUND(F25*G25,2) -> 0 | K25: =ROUND(J25+I25+H25,2) -> 0 | L25: =ROUND(E25*F25,2) -> 0 | M25: =ROUND(E25*H25,2) -> 0 | N25: =ROUND(E25*I25,2) -> 0 | O25: =ROUND(E25*J25,2) -> 0 | P25: =ROUND(O25+N25+M25,2) -> 0
A26: 11 | C26: Divnpola zemapmetuma slēdzis 220V; 10A; IP20 | D26: gb | E26: 8 | F26: 1 | G26: 8 | H26: =ROUND(F26*G26,2) -> 8 | I26: 7 | J26: 0.1 | K26: =ROUND(J26+I26+H26,2) -> 15.1 | L26: =ROUND(E26*F26,2) -> 8 | M26: =ROUND(E26*H26,2) -> 64 | N26: =ROUND(E26*I26,2) -> 56 | O26: =ROUND(E26*J26,2) -> 0.8 | P26: =ROUND(O26+N26+M26,2) -> 120.8
A27: 12 | C27: Kontaktligzdas | H27: =ROUND(F27*G27,2) -> 0 | K27: =ROUND(J27+I27+H27,2) -> 0 | L27: =ROUND(E27*F27,2) -> 0 | M27: =ROUND(E27*H27,2) -> 0 | N27: =ROUND(E27*I27,2) -> 0 | O27: =ROUND(E27*J27,2) -> 0 | P27: =ROUND(O27+N27+M27,2) -> 0
A28: 13 | C28: 1vietīga sienas zemapmetuma kontaktligzda 220V, 16A, IP20 | D28: gb | E28: 10 | F28: 1 | G28: 8 | H28: =ROUND(F28*G28,2) -> 8 | I28: 7 | J28: 0.1 | K28: =ROUND(J28+I28+H28,2) -> 15.1 | L28: =ROUND(E28*F28,2) -> 10 | M28: =ROUND(E28*H28,2) -> 80 | N28: =ROUND(E28*I28,2) -> 70 | O28: =ROUND(E28*J28,2) -> 1 | P28: =ROUND(O28+N28+M28,2) -> 151
A29: 14 | C29: 2-vietīga sienas zemapmetuma kontaktligzda 220V, 16A, IP20 | D29: gb | E29: 10 | F29: 1 | G29: 8 | H29: =ROUND(F29*G29,2) -> 8 | I29: 10 | J29: 0.1 | K29: =ROUND(J29+I29+H29,2) -> 18.1 | L29: =ROUND(E29*F29,2) -> 10 | M29: =ROUND(E29*H29,2) -> 80 | N29: =ROUND(E29*I29,2) -> 100 | O29: =ROUND(E29*J29,2) -> 1 | P29: =ROUND(O29+N29+M29,2) -> 181
A30: 15 | C30: 3-vietīga sienas zemapmetuma kontaktligzda 220V, 16A, IP20 | D30: gb | E30: 10 | F30: 1 | G30: 8 | H30: =ROUND(F30*G30,2) -> 8 | I30: 15 | J30: 0.1 | K30: =ROUND(J30+I30+H30,2) -> 23.1 | L30: =ROUND(E30*F30,2) -> 10 | M30: =ROUND(E30*H30,2) -> 80 | N30: =ROUND(E30*I30,2) -> 150 | O30: =ROUND(E30*J30,2) -> 1 | P30: =ROUND(O30+N30+M30,2) -> 231
A31: 16 | C31: Gaismekļi | H31: =ROUND(F31*G31,2) -> 0 | K31: =ROUND(J31+I31+H31,2) -> 0 | L31: =ROUND(E31*F31,2) -> 0 | M31: =ROUND(E31*H31,2) -> 0 | N31: =ROUND(E31*I31,2) -> 0 | O31: =ROUND(E31*J31,2) -> 0 | P31: =ROUND(O31+N31+M31,2) -> 0
A32: 17 | C32: Esošo gaismekļu nomaiņa uz LED paneļiem 40W 600x600mm | D32: gab. | F32: 1 | G32: 8 | H32: =ROUND(F32*G32,2) -> 8 | I32: 45 | J32: 0.1 | K32: =ROUND(J32+I32+H32,2) -> 53.1 | L32: =ROUND(E32*F32,2) -> 0 | M32: =ROUND(E32*H32,2) -> 0 | N32: =ROUND(E32*I32,2) -> 0 | O32: =ROUND(E32*J32,2) -> 0 | P32: =ROUND(O32+N32+M32,2) -> 0
A33: 18 | C33: Kabeļi | H33: =ROUND(F33*G33,2) -> 0 | K33: =ROUND(J33+I33+H33,2) -> 0 | L33: =ROUND(E33*F33,2) -> 0 | M33: =ROUND(E33*H33,2) -> 0 | N33: =ROUND(E33*I33,2) -> 0 | O33: =ROUND(E33*J33,2) -> 0 | P33: =ROUND(O33+N33+M33,2) -> 0
A34: 19 | C34: Kabelis šķ. 3x1.5mm2 | D34: m | E34: 100 | F34: 0.2 | G34: 7 | H34: =ROUND(F34*G34,2) -> 1.4 | I34: 1.2 | J34: 0.1 | K34: =ROUND(J34+I34+H34,2) -> 2.7 | L34: =ROUND(E34*F34,2) -> 20 | M34: =ROUND(E34*H34,2) -> 140 | N34: =ROUND(E34*I34,2) -> 120 | O34: =ROUND(E34*J34,2) -> 10 | P34: =ROUND(O34+N34+M34,2) -> 270
A35: 20 | C35: Kabelis šķ. 3x2.5mm2 | D35: m | E35: 100 | F35: 0.2 | G35: 7 | H35: =ROUND(F35*G35,2) -> 1.4 | I35: 1.4 | J35: 0.1 | K35: =ROUND(J35+I35+H35,2) -> 2.9 | L35: =ROUND(E35*F35,2) -> 20 | M35: =ROUND(E35*H35,2) -> 140 | N35: =ROUND(E35*I35,2) -> 140 | O35: =ROUND(E35*J35,2) -> 10 | P35: =ROUND(O35+N35+M35,2) -> 290
A36: 21 | C36: Kabelis šķ. 3xmm2 | D36: m | E36: 100 | F36: 0.2 | G36: 7 | H36: =ROUND(F36*G36,2) -> 1.4 | I36: 1.6 | J36: 0.1 | K36: =ROUND(J36+I36+H36,2) -> 3.1 | L36: =ROUND(E36*F36,2) -> 20 | M36: =ROUND(E36*H36,2) -> 140 | N36: =ROUND(E36*I36,2) -> 160 | O36: =ROUND(E36*J36,2) -> 10 | P36: =ROUND(O36+N36+M36,2) -> 310
A37: 22 | C37: Stiprinājumi, montāžas materiāli | D37: kpl. | E37: 1 | F37: 0.1 | G37: 7 | H37: =ROUND(F37*G37,2) -> 0.7 | I37: 10 | J37: 0.1 | K37: =ROUND(J37+I37+H37,2) -> 10.8 | L37: =ROUND(E37*F37,2) -> 0.1 | M37: =ROUND(E37*H37,2) -> 0.7 | N37: =ROUND(E37*I37,2) -> 10 | O37: =ROUND(E37*J37,2) -> 0.1 | P37: =ROUND(O37+N37+M37,2) -> 10.8
A38: 23 | C38: S1 (Klases sadalne) Modulāra sadalne ar montāžas profiliem plastmasas zem apmetuma izpildījumā IP30 Slēdži, automāti, drošinātāji, kopnes un pārējie elementi kompl. | D38: kpl. | E38: 1 | F38: 10 | G38: 7 | H38: =ROUND(F38*G38,2) -> 70 | I38: 60 | J38: 3.1 | K38: =ROUND(J38+I38+H38,2) -> 133.1 | L38: =ROUND(E38*F38,2) -> 10 | M38: =ROUND(E38*H38,2) -> 70 | N38: =ROUND(E38*I38,2) -> 60 | O38: =ROUND(E38*J38,2) -> 3.1 | P38: =ROUND(O38+N38+M38,2) -> 133.1
A39: 24 | C39: Esošo elektroinstalācijas kabeļu demontāža | D39: kpl. | E39: 1 | F39: 0.1 | G39: 7 | H39: =ROUND(F39*G39,2) -> 0.7 | I39: 0.1 | J39: 0.1 | K39: =ROUND(J39+I39+H39,2) -> 0.9 | L39: =ROUND(E39*F39,2) -> 0.1 | M39: =ROUND(E39*H39,2) -> 0.7 | N39: =ROUND(E39*I39,2) -> 0.1 | O39: =ROUND(E39*J39,2) -> 0.1 | P39: =ROUND(O39+N39+M39,2) -> 0.9
A40: 25 | C40: Kabeļu kanāli | H40: =ROUND(F40*G40,2) -> 0 | K40: =ROUND(J40+I40+H40,2) -> 0 | L40: =ROUND(E40*F40,2) -> 0 | M40: =ROUND(E40*H40,2) -> 0 | N40: =ROUND(E40*I40,2) -> 0 | O40: =ROUND(E40*J40,2) -> 0 | P40: =ROUND(O40+N40+M40,2) -> 0
A41: 26 | C41: Kabeļu rene | D41: m | E41: 10 | F41: 0.1 | G41: 7 | H41: =ROUND(F41*G41,2) -> 0.7 | I41: 1 | J41: 0.1 | K41: =ROUND(J41+I41+H41,2) -> 1.8 | L41: =ROUND(E41*F41,2) -> 1 | M41: =ROUND(E41*H41,2) -> 7 | N41: =ROUND(E41*I41,2) -> 10 | O41: =ROUND(E41*J41,2) -> 1 | P41: =ROUND(O41+N41+M41,2) -> 18
...
