Workbook

Sheet Kopsavilkums_2026.gadam
A1: Pielikums tiesību akta 26-TA-935 anotācijai
A2: Apkopojums nepieciešamajam finansējumam
A4: Pasākumi atbilstoši jomām | B4: Ar MK 24.02.2026. rīkojumu Nr. 85 atbalstītais finansējums (no 2025. gada decembra līdz 2026. gada jūnijam), euro | C4: Faktiskā izpilde no 2025. gada decembra līdz 2026. gada aprīlim, euro | D4: No MK 24.02.2026. rīkojumā Nr.85 atbalstītā finansējuma pieejamais atlikums, euro | E4: Saskaņā ar MK rīkojumu Nr. 896, plānotais finansējums 2026. gadam, euro | F4: Pieejamais finansējums 2026. gadam (līdz novembrim), ņemot vērā ar MK rīkojumu Nr. 896 atbalstīto finansējumu, euro | G4: Komentāri
A5: 1 | B5: 2 | C5: 3 | D5: 4 | E5: 5 | F5: 6 | G5: 7
A6: Par palīdzību sociālā atbalsta jomā kopā (LM) [1] 4. "Sociālā palīdzība, finansiālais atbalsts, pakalpojumi" un 5. "Nepilngadīgie" | B6: 6050888 | C6: ='LM_2.pielikums'!B169 -> 5427116.9 | D6: =B6-C6 -> 623771.13 | E6: 10372951 | F6: =E6-B6 -> 4322063
A7: Par palīdzību izglītības jomā (IzM) [1] 6. "Izglītība" | B7: 1218670 | C7: =IzM_3.pielikums!B14 -> 513476.2 | D7: =B7-C7 -> 705193.8 | E7: =4520887+112050+316624-3344738 -> 1604823 | F7: =E7-B7 -> 386153 | G7: Saskaņā ar MK rīkojumu Nr. 896, plānotais finansējums 2026. gadam pasākumam “Par palīdzību izglītības jomā (IZM)” ir 1 604 823 euro (uz šo pasākumu attiecas tikai MK rīkojuma Nr. 896 4.pielikuma 6.1 un 6.2 pasākumu 3) un 4) apakšpasākumiem plānotais finansējums (4 520 887 euro + 112 050 euro+ 316 624 euro = 4 949 561 euro, kuriem piemērojot 1.pielikumā norādīto samazinājumu -3 344 738 euro apmērā arī veidojas minētā summa). Attiecīgi summa par visām atbalsta jomām ir 14 319 300 euro. Tādējādi papildus pieejamais finansējums 2026. gadam (līdz novembrim), ņemot vērā ar MK rīkojumu Nr. 896 atbalstīto finansējumu, izglītības jomā - 386 153 euro. Attiecīgi papildus pieejamais finansējums 2026. gadam (līdz novembrim) kopā - 5 878 998 euro.
A8: Par palīdzību ēdināšanas jomā (EM) [1] 2. "Personu izmitināšana un ēdināšana" | B8: 102450 | C8: ='EM_1.pielikums'!B10 -> 88978.93 | D8: =B8-C8 -> 13471.07 | E8: 2341526 | F8: =E8-B8-B9 -> 1170876
A9: Par palīdzību izmitināšanas jomā (EM) [1] 2. "Personu izmitināšana un ēdināšana" | B9: 1068200 | C9: ='EM_1.pielikums'!B9 -> 1499978.6 | D9: =B9-C9 -> -431778.63
A10: Par izlietoto finansējumu valsts pārvaldes pakalpojumu pieteikšanas un fizisko personu reģistrācijas pasākumiem (VARAM) [2] 1. "Personu uzņemšana un reģistrācija, informēšanas pasākumi" 1.7. apakšpunkts | B10: =VARAM_4.pielikums!C17 -> 94 | C10: =VARAM_4.pielikums!C17 -> 94 | D10: =B10-C10 -> 0 | E10: 0 | F10: =E10-B10 -> -94
A11: KOPĀ | B11: =SUM(B6:B10) -> 8440302 | C11: =SUM(C6:C10) -> 7529644.6 | D11: =SUM(D6:D10) -> 910657.37 | E11: =SUM(E6:E10) -> 14319300 | F11: =SUM(F6:F10) -> 5878998
A13: [1] Saskaņā ar Ministru kabineta 2025. gada 22. decembra rīkojumu Nr. 896 “Par Pasākumu plānu atbalsta sniegšanai Ukrainas civiliedzīvotājiem Latvijas Republikā 2026. gadam"
A15: [2] Saskaņā ar Ministru kabineta 2025. gada 22. jūlija rīkojumu Nr. 449 “Par Pasākumu plānu atbalsta sniegšanai Ukrainas civiliedzīvotājiem Latvijas Republikā 2025. gadam"

Sheet EM_1.pielikums
H1: 1. pielikums
A2: Ekonomikas ministrijas atbildība primāri sniedzamā atbalsta nodrošināšanas jomai
A4: Gads | B4: 2025/2026 | C4: 2025 | D4: 2026 | E4: 2026 | F4: 2026 | G4: 2026 | H4: komentāri
A5: Pārskata periods | B5: 2025.g. decembris - 2026.g. aprīlis | C5: decembris | D5: janvāris | E5: februāris | F5: marts | G5: aprīlis
B6: (euro,centi) | C6: (euro,centi) | D6: (euro,centi) | E6: (euro,centi) | F6: (euro,centi) | G6: (euro,centi)
A7: Rādītāja nosaukums | B7: Faktiskie izdevumi 2025. gada daecembris - 2026. gada marts | C7: Faktiskie izdevumi pārskata periodā | D7: Faktiskie izdevumi pārskata periodā | E7: Faktiskie izdevumi pārskata periodā | F7: Faktiskie izdevumi pārskata periodā | G7: Faktiskie izdevumi pārskata periodā
A8: 1 | B8: 2 | C8: 3 | D8: 4 | E8: 5 | F8: 6 | G8: 6 | H8: 7
A9: Izmitināšana | B9: =SUM(C9:G9) -> 1499978.6 | C9: 388576.29 | D9: 266851.41 | E9: 216143.86 | F9: 364179.52 | G9: 264227.55
A10: Ēdināšana | B10: =SUM(C10:G10) -> 88978.93 | C10: 34809.9 | D10: 18666 | E10: 7885.32 | F10: 17416.39 | G10: 10201.32
A11: KOPĀ: | B11: =SUM(C11:G11) -> 1588957.6 | C11: =SUM(C9:C10) -> 423386.19 | D11: =SUM(D9:D10) -> 285517.41 | E11: =SUM(E9:E10) -> 224029.18 | F11: =SUM(F9:F10) -> 381595.91 | G11: =SUM(G9:G10) -> 274428.87

Sheet LM_2.pielikums
A1: 2. pielikums
A2: Labklājības ministrijas atbildība sociālā atbalsta nodrošināšanas jomai
A3: Gads | B3: 2025/2026 | C3: 2025 | E3: 2026 | G3: 2026 | I3: 2026 | K3: 2026 | M3: komentāri
A4: Pārskata periods | B4: 2025.g. decembris - 2026.g. aprīlis | C4: Decembris | E4: Janvāris | G4: Februāris | I4: Marts | K4: Aprīlis
B5: (euro, centi) | D5: (euro, centi) | F5: (euro, centi) | H5: (euro, centi) | J5: (euro, centi) | L5: (euro, centi)
A6: Rādītāja nosaukums | B6: Faktiskie izdevumi pārskata periodā | C6: Faktiskais saņēmēju skaits | D6: Faktiskie izdevumi pārskata periodā | E6: Faktiskais saņēmēju skaits | F6: Faktiskie izdevumi pārskata periodā | G6: Faktiskais saņēmēju skaits | H6: Faktiskie izdevumi pārskata periodā | I6: Faktiskais saņēmēju skaits | J6: Faktiskie izdevumi pārskata periodā | K6: Faktiskais saņēmēju skaits | L6: Faktiskie izdevumi pārskata periodā
A7: 1 | B7: 2 | C7: 3 | D7: 4 | E7: 5 | F7: 6 | G7: 7 | H7: 8 | I7: 9 | J7: 10 | K7: 9 | M7: 11
A8: Atlīdzība par ārkārtas aizbildņa pienākumu pildīšanu (UCAL 19.panta pirmā un otrā daļa) | B8: =D8+F8+H8+J8+L8 -> 118312.06 | C8: 172 | D8: 24596.05 | E8: 164 | F8: 24000.12 | G8: 168 | H8: 24575.34 | I8: 155 | J8: 22309 | K8: 155 | L8: 22831.55 | P8: \
A9: Pabalsts nepavadīta bērna uzturam (UCAL 19.panta pirmā, trešā un septītā daļa) | B9: =D9+F9+H9+J9+L9 -> 293492.39 | C9: 228 | D9: 61893.55 | E9: 217 | F9: 59519.97 | G9: 220 | H9: 59808.16 | I9: 208 | J9: 54935.55 | K9: 208 | L9: 57335.16
A10: Pabalsts apģērba un mīkstā inventāra iegādei (UCAL 19.panta pirmā un piektā daļa) | B10: =D10+F10+H10+J10+L10 -> 19641.29 | C10: 41 | D10: 4175.5 | E10: 37 | F10: 3297.63 | G10: 51 | H10: 5864.13 | I10: 34 | J10: 3080.61 | K10: 32 | L10: 3223.42
A11: Garantētā minimālā ienākuma (GMI) pabalsts (UCAL 7.panta trešā daļa) | B11: =D11+F11+H11+J11+L11 -> 1305926.2 | C11: 2316 | D11: 283735.78 | E11: 2012 | F11: 271745.06 | G11: 1982 | H11: 275371.71 | I11: 1806 | J11: 236447.19 | K11: 1778 | L11: 238626.44
A12: Pabalsts krīzes situācijā (UCAL 7.panta trešā daļa un 3 prim daļa) | B12: =D12+F12+H12+J12+L12 -> 453507.19 | C12: 293 | D12: 103756 | E12: 229 | F12: 87850 | G12: 275 | H12: 104896.33 | I12: 171 | J12: 70548.86 | K12: 210 | L12: 86456
A13: Mājokļa pabalsts mājsaimniecībai no Ukrainas ar īres līgumu (UCAL 7.panta trešā daļa) | B13: =D13+F13+H13+J13+L13 -> 1718457.7 | C13: 1913 | D13: 284729.52 | E13: 1764 | F13: 292464.41 | G13: 1867 | H13: 362639.69 | I13: 1803 | J13: 353597.8 | K13: 1987 | L13: 425026.27
A14: Pabalsts atsevišķu izdevumu apmaksai (UCAL 7.panta trešā daļa) | B14: =D14+F14+H14+J14+L14 -> 136629.06 | C14: 480 | D14: 76729.57 | E14: 229 | F14: 13658.78 | G14: 287 | H14: 15863.08 | I14: 321 | J14: 16666.78 | K14: 293 | L14: 13710.85
A15: Asistenta pakalpojumi (UCAL 13. panta pirmās daļas 1.punkts) | B15: =D15+F15+H15+J15+L15 -> 253581.68 | C15: 122 | D15: 50851.97 | E15: 122 | F15: 49791.52 | G15: 76 | H15: 31277.44 | I15: 122 | J15: 69120.5 | K15: 127 | L15: 52540.25
A16: Pakalpojums pārvietošanās atbalstam (UCAL 13.panta pirmās daļas 1.punkts) | B16: =D16+F16+H16+J16+L16 -> 35 | C16: 0 | D16: 0 | G16: 1 | H16: 35
A17: Sociālās rehabilitācijas pakalpojums vardarbībā cietušiem bērniem (UCAL 7.panta pirmā prim un trešā daļa) | B17: =D17+F17+H17+J17+L17 -> 167.12 | C17: 0 | D17: 0 | E17: 2 | F17: 167.12
A18: Sociālās rehabilitācijas pakalpojums vardarbībā cietušām pilngadīgām personām (UCAL 7.panta pirmā prim un trešā daļa) | B18: =D18+F18+H18+J18+L18 -> 1834.48 | C18: 1 | D18: 81.58 | G18: 4 | H18: 1346.32 | I18: 1 | J18: 133.92 | K18: 1 | L18: 272.66
A19: Ilgstošas sociālās aprūpes un sociālās rehabilitācijas pakalpojumi bērniem (UCAL 7.panta pirmā prim un trešā daļa un 18.panta deviņpadsmitā daļa) | B19: =D19+F19+H19+J19+L19 -> 0 | C19: 0 | D19: 0
A20: Ilgstošas sociālās aprūpes un sociālās rehabilitācijas pakalpojumi pilngadīgām personām (UCAL 7.panta pirmā prim un trešā daļa) | B20: =D20+F20+H20+J20+L20 -> 183036.59 | C20: 27 | D20: 42902.62 | E20: 26 | F20: 42248.15 | G20: 26 | H20: 37859.59 | I20: 23 | J20: 34267.77 | K20: 15 | L20: 25758.46
A21: Piemaksa pie mēnešalgas un virsstundu darbs bāriņtiesu darbiniekiem, kuri iesaistīti atbalsta sniegšanā Ukrainas civiliedzīvotājiem (UCAL 13.panta pirmā prim daļa un pirmā divi prim daļa.) | B21: =D21+F21+H21+J21+L21 -> 8976.65 | C21: =C22+C23 -> 21 | D21: =D22+D23 -> 7730.13 | E21: =E22+E23 -> 6 | F21: =F22+F23 -> 1246.52 | G21: =G22+G23 -> 0 | H21: =H22+H23 -> 0 | I21: =I22+I23 -> 0 | J21: =J22+J23 -> 0 | ... L21: =L22+L23 -> 0
A22: Piemaksa pie mēnešalgas | B22: =D22+F22+H22+J22+L22 -> 8976.65 | C22: 21 | D22: 7730.13 | E22: 6 | F22: 1246.52 | G22: 0 | H22: 0 | I22: 0 | J22: 0 | K22: 0 | L22: 0
A23: Virsstundu darbs | B23: =D23+F23+H23+J23+L23 -> 0 | C23: 0 | D23: 0 | E23: 0 | F23: 0 | G23: 0 | H23: 0 | I23: 0 | J23: 0 | K23: 0 | L23: 0
A24: Piemaksa pie mēnešalgas un virsstundu darbs pašvaldības sociālo dienestu darbiniekiem, kuri iesaistīti atbalsta sniegšanā Ukrainas civiliedzīvotājiem (UCAL 13.panta pirmā prim daļa un pirmā divi prim daļa.) | B24: =D24+F24+H24+J24+L24 -> 90922.45 | C24: =C25+C26 -> 251 | D24: =D25+D26 -> 87821.76 | E24: =E25+E26 -> 26 | F24: =F25+F26 -> 3100.69 | G24: =G25+G26 -> 0 | H24: =H25+H26 -> 0 | I24: =I25+I26 -> 0 | J24: =J25+J26 -> 0 | ... L24: =L25+L26 -> 0
A25: Piemaksa pie mēnešalgas | B25: =D25+F25+H25+J25+L25 -> 88207.14 | C25: 247 | D25: 85106.45 | E25: 26 | F25: 3100.69 | G25: 0 | H25: 0 | I25: 0 | J25: 0 | K25: 0 | L25: 0
A26: Virsstundu darbs | B26: =D26+F26+H26+J26+L26 -> 2715.31 | C26: 4 | D26: 2715.31 | E26: 0 | F26: 0 | G26: 0 | H26: 0 | I26: 0 | J26: 0 | K26: 0 | L26: 0
A27: Citi pašvaldības piešķirtie sociālā atbalsta pasākumi (UCAL 7.panta trešā daļa, un pirmā prim daļa un 19.panta sestā daļa): | B27: =D27+F27+H27+J27+L27 -> 842597.04 | C27: 1359 | D27: 158659.25 | E27: 961 | F27: 154052.83 | G27: 962 | H27: 155461.61 | I27: 1242 | J27: 200895.47 | K27: 860 | L27: 173527.88
A28: Apbedīšanas pabalsts | B28: =D28+F28+H28+J28+#REF!+#REF!+#REF! -> #REF! | D28: =(#REF!+#REF!+#REF!)/3 -> #REF! | E28: =C28 -> 0
A29: bērnudārza apmaksa | B29: =D29+F29+H29+J29+#REF!+#REF!+#REF! -> #REF! | D29: =(#REF!+#REF!+#REF!)/3 -> #REF! | E29: =C29 -> 0
A30: Apbedīšanas pabalsts t.i., atsevišķu izdevumu apmaksai (UCAL 7.panta pirmā prim daļa) | B30: =D30+F30+H30+J30+#REF!+#REF!+#REF! -> #REF! | D30: =(#REF!+#REF!+#REF!)/3 -> #REF! | E30: =C30 -> 0
A31: Aprūpe mājā pakalpojums | B31: =D31+F31+H31+J31+#REF!+#REF!+#REF! -> #REF! | D31: =(#REF!+#REF!+#REF!)/3 -> #REF! | E31: =C31 -> 0
A32: Asistenta pakalpojums personām ar invaliditāti | B32: =D32+F32+H32+J32+#REF!+#REF!+#REF! -> #REF! | D32: =(#REF!+#REF!+#REF!)/3 -> #REF! | E32: =C32 -> 0
A33: Asistenta pakalpojums personām ar īpašām vajadzībām | B33: =D33+F33+H33+J33+#REF!+#REF!+#REF! -> #REF! | D33: =(#REF!+#REF!+#REF!)/3 -> #REF! | E33: =C33 -> 0
A34: Atbalsts profesionālās ievirzes izglītības apmaksai | B34: =D34+F34+H34+J34+#REF!+#REF!+#REF! -> #REF! | D34: =(#REF!+#REF!+#REF!)/3 -> #REF! | E34: =C34 -> 0
A35: Asistenta pakalpojums | B35: =D35+F35+H35+J35+#REF!+#REF!+#REF! -> #REF! | D35: =(#REF!+#REF!+#REF!)/3 -> #REF! | E35: =C35 -> 0
A36: Bērna piedzimšanas pabalsts | B36: =D36+F36+H36+J36+#REF!+#REF!+#REF! -> #REF! | D36: =(#REF!+#REF!+#REF!)/3 -> #REF! | E36: =C36 -> 0
A37: Bērna piedzimšanas pabalsts UK pilsonei | B37: =D37+F37+H37+J37+#REF!+#REF!+#REF! -> #REF! | D37: =(#REF!+#REF!+#REF!)/3 -> #REF! | E37: =C37 -> 0
A38: bērnudārza apmaksa (netestēts) | B38: =D38+F38+H38+J38+#REF!+#REF!+#REF! -> #REF! | D38: =(#REF!+#REF!+#REF!)/3 -> #REF! | E38: =C38 -> 0
A39: Citi pašvaldības piešķirtie sociālā atbalsta pasākumi | B39: =D39+F39+H39+J39+#REF!+#REF!+#REF! -> #REF! | D39: =(#REF!+#REF!+#REF!)/3 -> #REF! | E39: =C39 -> 0
... A162: Vienreizējs bērna piedzimšanas pabalsts | B162: =D162+F162+H162+J162+#REF!+#REF!+#REF! -> #REF! | D162: =(#REF!+#REF!+#REF!)/3 -> #REF! | E162: =C162 -> 0
B163: =D163+F163+H163+J163+#REF!+#REF!+#REF! -> #REF! | D163: =(#REF!+#REF!+#REF!)/3 -> #REF! | E163: =C163 -> 0
A164: Vienreizējs pabalsts ģimenei sakarā ar bērna piedzimšanu | B164: =D164+F164+H164+J164+#REF!+#REF!+#REF! -> #REF! | D164: =(#REF!+#REF!+#REF!)/3 -> #REF! | E164: =C164 -> 0
A165: Vienreizējs piedzimšanas pabalsts | B165: =D165+F165+H165+J165+#REF!+#REF!+#REF! -> #REF! | D165: =(#REF!+#REF!+#REF!)/3 -> #REF! | E165: =C165 -> 0
A166: Ziemassvētku paciņas | B166: =D166+F166+H166+J166+#REF!+#REF!+#REF! -> #REF! | D166: =(#REF!+#REF!+#REF!)/3 -> #REF! | E166: =C166 -> 0
A167: Ziemassvētku pabalsts | B167: =D167+F167+H167+J167+#REF!+#REF!+#REF! -> #REF! | D167: =(#REF!+#REF!+#REF!)/3 -> #REF! | E167: =C167 -> 0
A168: Zupas virtuves pakalpojums | B168: =D168+F168+H168+J168+#REF!+#REF!+#REF! -> #REF! | D168: =(#REF!+#REF!+#REF!)/3 -> #REF! | E168: =C168 -> 0
A169: KOPĀ | B169: =B27+B24+B21+B20+B19+B18+B17+B16+B15+B14+B13+B12+B11+B10+B9+B8 -> 5427116.9 | C169: =C27+C24+C21+C20+C19+C18+C17+C16+C14+C15+C13+C12+C11+C10+C9+C8 -> 7224 | D169: =D27+D24+D21+D20+D19+D18+D17+D16+D14+D15+D13+D12+D11+D10+D9+D8 -> 1187663.3 | E169: =E27+E24+E21+E20+E19+E18+E17+E16+E14+E15+E13+E12+E11+E10+E9+E8 -> 5795 | F169: =F27+F24+F21+F20+F19+F18+F17+F16+F14+F15+F13+F12+F11+F10+F9+F8 -> 1003142.8 | G169: =G27+G24+G21+G20+G19+G18+G17+G16+G14+G15+G13+G12+G11+G10+G9+G8 -> 5919 | H169: =H27+H24+H21+H20+H19+H18+H17+H16+H14+H15+H13+H12+H11+H10+H9+H8 -> 1074998.4 | I169: =I27+I24+I21+I20+I19+I18+I17+I16+I14+I15+I13+I12+I11+I10+I9+I8 -> 5886 | J169: =J27+J24+J21+J20+J19+J18+J17+J16+J14+J15+J13+J12+J11+J10+J9+J8 -> 1062003.5 | ... L169: =L27+L24+L21+L20+L19+L18+L17+L16+L14+L15+L13+L12+L11+L10+L9+L8 -> 1099308.9 | M169: x

Sheet IzM_3.pielikums
A1: 3. pielikums
A2: Izglītības un zinātnes ministrijas atbildības joma izglītības atbalsta pjomai
A4: Gads | B4: 2025/2026 | C4: 2025 | E4: 2026 | G4: 2026 | I4: 2026 | K4: 2026 | M4: komentāri
A5: Pārskata periods | B5: 2025.g.decembris - 2026.g. aprīlis | C5: Decembris | E5: Janvāris | G5: Februāris | I5: Marts | K5: Aprīlis
B6: (euro,centi) | D6: (euro,centi) | F6: (euro,centi) | H6: (euro,centi) | J6: (euro,centi) | L6: (euro,centi)
A7: Rādītāja nosaukums | B7: Faktiskie izdevumi pārskata periodā | C7: Faktiskais izglītojamo skaits | D7: Faktiskie izdevumi pārskata periodā | E7: Faktiskais izglītojamo skaits | F7: Faktiskie izdevumi pārskata periodā | G7: Faktiskais izglītojamo skaits | H7: Faktiskie izdevumi pārskata periodā | I7: Faktiskais izglītojamo skaits | J7: Faktiskie izdevumi pārskata periodā | K7: Faktiskais izglītojamo skaits | L7: Faktiskie izdevumi pārskata periodā
A8: 1 | B8: 2 | C8: 3 | D8: 4 | E8: 5 | F8: 6 | G8: 7 | H8: 8 | I8: 9 | J8: 10 | K8: 9 | L8: 10 | M8: 11
A9: Pedagogu darba samaksa izglītības ieguves nodrošināšanai (UCAL 131.pants) | B9: =D9+F9+H9+J9+L9 -> 510536.04 | C9: 700 | D9: 112402.58 | E9: 720 | F9: 94528.26 | G9: 711 | H9: 104146.93 | I9: 709 | J9: 90613.14 | K9: 723 | L9: 108845.13 | M9: Atbilstoši apstiprinātajam pasākumu plānam atbalsta sniegšanai Ukrainas civiliedzīvotājiem Latvijas Republikā 2026. gadam (25-TA-2725), nepieciešamības gadījumā pašvaldības izdevumu kompensēšanai pasākumam "Nepilngadīgo Ukrainas civiliedzīvotāju, kuri izglītības iestādēs klātienē apgūst pamatizglītības programmas 1., 2., 3. un 4. klasē, ēdināšana" nepieciešamo finansējumu (10 768,00 euro) IZM piešķirs VARAM, saskaņojot starpministriju transferta pārskaitījumu no IZM apakšprogrammas 01.07.00 “Dotācija brīvpusdienu nodrošināšanai 1., 2., 3. un 4. klases izglītojamiem”.
A10: Vienreizēja palīdzība mācību līdzekļu nodrošināšanai (UCAL 131.pants) | B10: =D10+F10+H10+J10+L10 -> 2940.16 | C10: 35 | D10: 1747.89 | E10: 24 | F10: 349.98 | G10: 10 | H10: 246.73 | I10: 10 | J10: 295.57 | K10: 17 | L10: 299.99
A11: Papildus izmaksas pašvaldību profesionālajām izglītības iestādēm profesionālās izglītības ieguves nodrošināšanai (stipendija, uzturēšanas izmaksas) (UCAL 131.pants) | B11: =D11+F11+H11+J11+L11 -> 0
A12: Nepilngadīgo Ukrainas civiliedzīvotāju, kuri izglītības iestādēs klātienē apgūst pamatizglītības programmas 1., 2., 3. un 4. klasē, ēdināšana. (UCAL 131.pants) | B12: =D12+F12+H12+J12+L12 -> 3702.32 | C12: 21 | D12: 700.94 | E12: 23 | F12: 892.61 | G12: 22 | H12: 633.77 | I12: 19 | J12: 675.93 | K12: =19+8 -> 27 | L12: =573.87+225.2 -> 799.07
A13: KOPĀ | B13: =D13+F13+H13+J13+L13 -> 517178.52 | C13: x | D13: =SUM(D9:D12) -> 114851.41 | E13: x | F13: =SUM(F9:F12) -> 95770.85 | G13: x | H13: =SUM(H9:H12) -> 105027.43 | I13: x | J13: =SUM(J9:J12) -> 91584.64 | K13: x | L13: =SUM(L9:L12) -> 109944.19
A14: Kopā bez nepilngadīgo Ukrainas civiliedzīvotāju, kuri izglītības iestādēs klātienē apgūst pamatizglītības programmas 1., 2., 3. un 4. klasē, ēdināšana. (UCAL 131.pants) | B14: =B13-B12 -> 513476.2 | D14: =D13-D12 -> 114150.47 | F14: =F13-F12 -> 94878.24 | H14: =H13-H12 -> 104393.66 | J14: =J13-J12 -> 90908.71 | L14: =L13-L12 -> 109145.12

Sheet VARAM_4.pielikums
D1: 4.pielikums
A2: Vides aizsardzības un reģionālās attīstības ministrijas atbildība valsts pārvaldes pakalpojumu pieteikšanas atbalsta jomai
A3: Gads | B3: 2025 | D3: komentāri
A4: Pārskata periods | B4: Decembris
C5: (euro,centi)
A6: Rādītāja nosaukums (pēc izmaiņām 2023. maijā) | B6: Faktiskais saņēmēju skaits | C6: Faktiskie izdevumi pārskata periodā
A7: E-paklapojuma “Vīzas pieteikums” aizpildīšana un iesniegšana | D7: 2026. gadā atbalsts nav paredzēts
A8: Uzturēšanās atļaujas pieprasīšana un reģistrācija; Ielūguma vai izsaukuma apstiprināšanas vīzas vai uzturēšanās atļaujas pieprasīšanai Latvijas Republikā | B8: 32 | C8: 64
A9: Ziņu iekļaušana un aktualizēšana Fizisko personu reģistrā | B9: 9 | C9: 18
A10: Ukrainas civiliedzīvotāju reģistrācija UCANIR | B10: 5 | C10: 10
A11: Izziņa no fizisko personu reģistra
A12: Bērna piedzimšanas pabalsts
A13: Bērna kopšanas pabalsts
A14: Ģimenes valsts pabalsts | B14: 1 | C14: 2
A15: Nepilsoņa statusa zaudēšana
A16: 160 stundu mācību programma ugunsdrošībā un aizsardzībā
B17: =SUM(B7:B16) -> 47 | C17: =SUM(C7:C16) -> 94
