Workbook

Sheet Kopsavilkums
A1: Sagatavots saskaņā ar Ukrainas civiliedzīvotāju atbalsta likumu | C1: PROF Kopsavilkums Janvāris-Jūnijs
C2: Pārskats par finansējuma pieprasījumu Ukrainas civiliedzīvotāju izglītības nodrošināšanai
A5: Nr.p.k. | B5: Rādītāja nosaukums | C5: Maksimālais iespējamais izdevumu kompensācijas apmērs, euro | D5: Pedagogu darba samaksas un papildus profesionālo izglītības iestāžu izmaksas uz vienu izglītojamo pārskata mēneša vienai dienai* | E5: Faktiskie izdevumi pārskata mēnesī**, euro
E6: Pavisam kopā | F6: Dibinātājs - Izglītības un zinātnes ministrija (IZM) | Y6: Dibinātājs - Kultūras ministrija (KM)
F7: Kopā IZM | G7: Daugavpis tehnoloģiju un tūrisma tehnikums | H7: Jelgavas tehnikums | I7: Kandavas Lauksaimniecības tehnikums | J7: Kuldīgas Tehnoloģiju un tūrisma tehnikums | K7: Latgales industriālais tehnikums | L7: RTU Latvijas Jūras akadēmijas Jūrskola | M7: Ogres tehnikums | N7: Liepājas Valsts tehnikums | O7: Rīgas Valsts tehnikums | P7: Rīgas Tehniskā koledža | Q7: Rīgas Celtniecības koledža | R7: Rīgas Mākslas un mediju tehnikums | S7: RTU aģentūra "Rīgas Tehniskās universitātes Olaines Tehnoloģiju koledža" | T7: Rīgas Tirdzniecības profesionālā vidusskola | U7: Saldus tehnikums | V7: VSIA "Rīgas Tūrisma un radošās industrijas tehnikums" | W7: Ventspils Tehnikums | X7: Vidzemes Tehnoloģiju un dizaina tehnikums | Y7: Kopā KM | Z7: Jāzepa Mediņa Rīgas Mūzikas vidusskola | AA7: MIKC "Nacionālā Mākslu vidusskola" | AB7: MIKC "Rīgas Dizaina un mākslas vidusskola" | AC7: MIKC "Ventspils Mūzikas vidusskola" | AD7: Alfrēda Kalniņa Cēsu Mūzikas vidusskola
A8: Ukrainas civiliedzīvotāji, kuri uz 2022. gada 1. septembri (t.sk. citā izglītības iestādē) ir reģistrēti Valsts izglītības informācijas sistēmā ar apakšstatusu "Ukrainas civiliedzīvotājs"
A9: 1. | B9: Unikālais izglītojamo skaits pārskata mēnesī ar VIIS reģistrēto apakšstatusu "Ukrainas civiliedzīvotājs" | C9: x | D9: x | E9: =F9+Y9 -> 382 | F9: =SUM(G9:X9) -> 344 | G9: =Janvaris!G11+Februaris!G11+Marts!G11+Aprilis!G11+Maijs!G11+Junijs!G11 -> 6 | H9: =Janvaris!H11+Februaris!H11+Marts!H11+Aprilis!H11+Maijs!H11+Junijs!H11 -> 12 | I9: =Janvaris!I11+Februaris!I11+Marts!I11+Aprilis!I11+Maijs!I11+Junijs!I11 -> 6 | J9: =Janvaris!J11+Februaris!J11+Marts!J11+Aprilis!J11+Maijs!J11+Junijs!J11 -> 26 | K9: =Janvaris!K11+Februaris!K11+Marts!K11+Aprilis!K11+Maijs!K11+Junijs!K11 -> 6 | L9: =Janvaris!L11+Februaris!L11+Marts!L11+Aprilis!L11+Maijs!L11+Junijs!L11 -> 6 | M9: =Janvaris!M11+Februaris!M11+Marts!M11+Aprilis!M11+Maijs!M11+Junijs!M11 -> 37 | N9: =Janvaris!N11+Februaris!N11+Marts!N11+Aprilis!N11+Maijs!N11+Junijs!N11 -> 6 | ... X9: =Janvaris!X11+Februaris!X11+Marts!X11+Aprilis!X11+Maijs!X11+Junijs!X11 -> 6 | Y9: =SUM(Z9:AD9) -> 38 | Z9: =Janvaris!Z11+Februaris!Z11+Marts!Z11+Aprilis!Z11+Maijs!Z11+Junijs!Z11 -> 6 | AA9: =Janvaris!AA11+Februaris!AA11+Marts!AA11+Aprilis!AA11+Maijs!AA11+Junijs!AA11 -> 12 | AB9: =Janvaris!AB11+Februaris!AB11+Marts!AB11+Aprilis!AB11+Maijs!AB11+Junijs!AB11 -> 12 | AC9: =Janvaris!AC11+Februaris!AC11+Marts!AC11+Aprilis!AC11+Maijs!AC11+Junijs!AC11 -> 6 | AD9: =Janvaris!AD11+Februaris!AD11+Marts!AD11+Aprilis!AD11+Maijs!AD11+Junijs!AD11 -> 2
A10: 2. | B10: Kopējais summētais darba dienu skaits pārskata mēnesī | C10: x | D10: x | E10: =F10+Y10 -> 7442 | F10: =SUM(G10:X10) -> 6960 | G10: =Janvaris!G12+Februaris!G12+Marts!G12+Aprilis!G12+Maijs!G12+Junijs!G12 -> 124 | H10: =Janvaris!H12+Februaris!H12+Marts!H12+Aprilis!H12+Maijs!H12+Junijs!H12 -> 248 | I10: =Janvaris!I12+Februaris!I12+Marts!I12+Aprilis!I12+Maijs!I12+Junijs!I12 -> 124 | J10: =Janvaris!J12+Februaris!J12+Marts!J12+Aprilis!J12+Maijs!J12+Junijs!J12 -> 519 | K10: =Janvaris!K12+Februaris!K12+Marts!K12+Aprilis!K12+Maijs!K12+Junijs!K12 -> 124 | L10: =Janvaris!L12+Februaris!L12+Marts!L12+Aprilis!L12+Maijs!L12+Junijs!L12 -> 124 | M10: =Janvaris!M12+Februaris!M12+Marts!M12+Aprilis!M12+Maijs!M12+Junijs!M12 -> 748 | N10: =Janvaris!N12+Februaris!N12+Marts!N12+Aprilis!N12+Maijs!N12+Junijs!N12 -> 124 | ... X10: =Janvaris!X12+Februaris!X12+Marts!X12+Aprilis!X12+Maijs!X12+Junijs!X12 -> 124 | Y10: =SUM(Z10:AD10) -> 482 | Z10: =Janvaris!Z12+Februaris!Z12+Marts!Z12+Aprilis!Z12+Maijs!Z12+Junijs!Z12 -> 126 | AA10: =Janvaris!AA12+Februaris!AA12+Marts!AA12+Aprilis!AA12+Maijs!AA12+Junijs!AA12 -> 252 | AB10: =Janvaris!AB12+Februaris!AB12+Marts!AB12+Aprilis!AB12+Maijs!AB12+Junijs!AB12 -> 0 | AC10: =Janvaris!AC12+Februaris!AC12+Marts!AC12+Aprilis!AC12+Maijs!AC12+Junijs!AC12 -> 104 | AD10: =Janvaris!AD12+Februaris!AD12+Marts!AD12+Aprilis!AD12+Maijs!AD12+Junijs!AD12 -> 0
A11: 3. | B11: Pedagogu darba samaksa profesionālās izglītības iestādes | C11: =257/2 -> 128.5 | D11: x | E11: =F11+Y11 -> 20905 | F11: =SUM(G11:X11) -> 17949 | G11: =ROUNDUP(Janvaris!G13+Februaris!G13+Marts!G13+Aprilis!G13+Maijs!G13+Junijs!G13,0) -> 0 | H11: =ROUNDUP(Janvaris!H13+Februaris!H13+Marts!H13+Aprilis!H13+Maijs!H13+Junijs!H13,0) -> 907 | I11: =ROUNDUP(Janvaris!I13+Februaris!I13+Marts!I13+Aprilis!I13+Maijs!I13+Junijs!I13,0) -> 771 | J11: =ROUNDUP(Janvaris!J13+Februaris!J13+Marts!J13+Aprilis!J13+Maijs!J13+Junijs!J13,0) -> 3219 | K11: =ROUNDUP(Janvaris!K13+Februaris!K13+Marts!K13+Aprilis!K13+Maijs!K13+Junijs!K13,0) -> 562 | L11: =ROUNDUP(Janvaris!L13+Februaris!L13+Marts!L13+Aprilis!L13+Maijs!L13+Junijs!L13,0) -> 0 | M11: =ROUNDUP(Janvaris!M13+Februaris!M13+Marts!M13+Aprilis!M13+Maijs!M13+Junijs!M13,0) -> 0 | N11: =ROUNDUP(Janvaris!N13+Februaris!N13+Marts!N13+Aprilis!N13+Maijs!N13+Junijs!N13,0) -> 738 | ... X11: =ROUNDUP(Janvaris!X13+Februaris!X13+Marts!X13+Aprilis!X13+Maijs!X13+Junijs!X13,0) -> 771 | Y11: =SUM(Z11:AD11) -> 2956 | Z11: =ROUNDUP(Janvaris!Z13+Februaris!Z13+Marts!Z13+Aprilis!Z13+Maijs!Z13+Junijs!Z13,0) -> 771 | AA11: =ROUNDUP(Janvaris!AA13+Februaris!AA13+Marts!AA13+Aprilis!AA13+Maijs!AA13+Junijs!AA13,0) -> 1542 | AB11: =ROUNDUP(Janvaris!AB13+Februaris!AB13+Marts!AB13+Aprilis!AB13+Maijs!AB13+Junijs!AB13,0) -> 0 | AC11: =ROUNDUP(Janvaris!AC13+Februaris!AC13+Marts!AC13+Aprilis!AC13+Maijs!AC13+Junijs!AC13,0) -> 643 | AD11: =ROUNDUP(Janvaris!AD13+Februaris!AD13+Marts!AD13+Aprilis!AD13+Maijs!AD13+Junijs!AD13,0) -> 0
A12: Ukrainas civiliedzīvotāji septembrī, kuri pēc 2022. gada 1. septembra ir reģistrēti Valsts izglītības informācijas sistēmā ar apakšstatusu "Ukrainas civiliedzīvotājs"
A13: 4. | B13: Unikālais izglītojamo skaits pārskata mēnesī ar VIIS reģistrēto apakšstatusu "Ukrainas civiliedzīvotājs" | C13: x | D13: x | E13: =F13+Y13 -> 24 | F13: =SUM(G13:X13) -> 24 | G13: =Janvaris!G15+Februaris!G15+Marts!G15+Aprilis!G15+Maijs!G15+Junijs!G15 -> 0 | H13: =Janvaris!H15+Februaris!H15+Marts!H15+Aprilis!H15+Maijs!H15+Junijs!H15 -> 0 | I13: =Janvaris!I15+Februaris!I15+Marts!I15+Aprilis!I15+Maijs!I15+Junijs!I15 -> 0 | J13: =Janvaris!J15+Februaris!J15+Marts!J15+Aprilis!J15+Maijs!J15+Junijs!J15 -> 6 | K13: =Janvaris!K15+Februaris!K15+Marts!K15+Aprilis!K15+Maijs!K15+Junijs!K15 -> 0 | L13: =Janvaris!L15+Februaris!L15+Marts!L15+Aprilis!L15+Maijs!L15+Junijs!L15 -> 0 | M13: =Janvaris!M15+Februaris!M15+Marts!M15+Aprilis!M15+Maijs!M15+Junijs!M15 -> 0 | N13: =Janvaris!N15+Februaris!N15+Marts!N15+Aprilis!N15+Maijs!N15+Junijs!N15 -> 0 | ... X13: =Janvaris!X15+Februaris!X15+Marts!X15+Aprilis!X15+Maijs!X15+Junijs!X15 -> 0 | Y13: =SUM(Z13:AD13) -> 0 | Z13: =Janvaris!Z15+Februaris!Z15+Marts!Z15+Aprilis!Z15+Maijs!Z15+Junijs!Z15 -> 0 | AA13: =Janvaris!AA15+Februaris!AA15+Marts!AA15+Aprilis!AA15+Maijs!AA15+Junijs!AA15 -> 0 | AB13: =Janvaris!AB15+Februaris!AB15+Marts!AB15+Aprilis!AB15+Maijs!AB15+Junijs!AB15 -> 0 | AC13: =Janvaris!AC15+Februaris!AC15+Marts!AC15+Aprilis!AC15+Maijs!AC15+Junijs!AC15 -> 0 | AD13: =Janvaris!AD15+Februaris!AD15+Marts!AD15+Aprilis!AD15+Maijs!AD15+Junijs!AD15 -> 0
A14: 5. | B14: Pirmreizēji VIIS reģistrēto izglītojamo skaits pārskata mēnesī ar apakšstatusu "Ukrainas civiliedzīvotājs" | C14: x | D14: x | E14: =F14+Y14 -> 1 | F14: =SUM(G14:X14) -> 1 | G14: =Janvaris!G16+Februaris!G16+Marts!G16+Aprilis!G16+Maijs!G16+Junijs!G16 -> 0 | H14: =Janvaris!H16+Februaris!H16+Marts!H16+Aprilis!H16+Maijs!H16+Junijs!H16 -> 0 | I14: =Janvaris!I16+Februaris!I16+Marts!I16+Aprilis!I16+Maijs!I16+Junijs!I16 -> 0 | J14: =Janvaris!J16+Februaris!J16+Marts!J16+Aprilis!J16+Maijs!J16+Junijs!J16 -> 0 | K14: =Janvaris!K16+Februaris!K16+Marts!K16+Aprilis!K16+Maijs!K16+Junijs!K16 -> 0 | L14: =Janvaris!L16+Februaris!L16+Marts!L16+Aprilis!L16+Maijs!L16+Junijs!L16 -> 0 | M14: =Janvaris!M16+Februaris!M16+Marts!M16+Aprilis!M16+Maijs!M16+Junijs!M16 -> 0 | N14: =Janvaris!N16+Februaris!N16+Marts!N16+Aprilis!N16+Maijs!N16+Junijs!N16 -> 0 | ... X14: =Janvaris!X16+Februaris!X16+Marts!X16+Aprilis!X16+Maijs!X16+Junijs!X16 -> 0 | Y14: =SUM(Z14:AD14) -> 0 | Z14: =Janvaris!Z16+Februaris!Z16+Marts!Z16+Aprilis!Z16+Maijs!Z16+Junijs!Z16 -> 0 | AA14: =Janvaris!AA16+Februaris!AA16+Marts!AA16+Aprilis!AA16+Maijs!AA16+Junijs!AA16 -> 0 | AB14: =Janvaris!AB16+Februaris!AB16+Marts!AB16+Aprilis!AB16+Maijs!AB16+Junijs!AB16 -> 0 | AC14: =Janvaris!AC16+Februaris!AC16+Marts!AC16+Aprilis!AC16+Maijs!AC16+Junijs!AC16 -> 0 | AD14: =Janvaris!AD16+Februaris!AD16+Marts!AD16+Aprilis!AD16+Maijs!AD16+Junijs!AD16 -> 0
A15: 6. | B15: Kopējais summētais kalendāro dienu skaits pārskata mēnesī | C15: x | D15: x | E15: =F15+Y15 -> 701 | F15: =SUM(G15:X15) -> 701 | G15: =Janvaris!G17+Februaris!G17+Marts!G17+Aprilis!G17+Maijs!G17+Junijs!G17 -> 0 | H15: =Janvaris!H17+Februaris!H17+Marts!H17+Aprilis!H17+Maijs!H17+Junijs!H17 -> 0 | I15: =Janvaris!I17+Februaris!I17+Marts!I17+Aprilis!I17+Maijs!I17+Junijs!I17 -> 0 | J15: =Janvaris!J17+Februaris!J17+Marts!J17+Aprilis!J17+Maijs!J17+Junijs!J17 -> 181 | K15: =Janvaris!K17+Februaris!K17+Marts!K17+Aprilis!K17+Maijs!K17+Junijs!K17 -> 0 | L15: =Janvaris!L17+Februaris!L17+Marts!L17+Aprilis!L17+Maijs!L17+Junijs!L17 -> 0 | M15: =Janvaris!M17+Februaris!M17+Marts!M17+Aprilis!M17+Maijs!M17+Junijs!M17 -> 0 | N15: =Janvaris!N17+Februaris!N17+Marts!N17+Aprilis!N17+Maijs!N17+Junijs!N17 -> 0 | ... X15: =Janvaris!X17+Februaris!X17+Marts!X17+Aprilis!X17+Maijs!X17+Junijs!X17 -> 0 | Y15: =SUM(Z15:AD15) -> 0 | Z15: =Janvaris!Z17+Februaris!Z17+Marts!Z17+Aprilis!Z17+Maijs!Z17+Junijs!Z17 -> 0 | AA15: =Janvaris!AA17+Februaris!AA17+Marts!AA17+Aprilis!AA17+Maijs!AA17+Junijs!AA17 -> 0 | AB15: =Janvaris!AB17+Februaris!AB17+Marts!AB17+Aprilis!AB17+Maijs!AB17+Junijs!AB17 -> 0 | AC15: =Janvaris!AC17+Februaris!AC17+Marts!AC17+Aprilis!AC17+Maijs!AC17+Junijs!AC17 -> 0 | AD15: =Janvaris!AD17+Februaris!AD17+Marts!AD17+Aprilis!AD17+Maijs!AD17+Junijs!AD17 -> 0
A16: 7. | B16: Kopējais summētais darba dienu skaits pārskata mēnesī | C16: x | D16: x | E16: =F16+Y16 -> 480 | F16: =SUM(G16:X16) -> 480 | G16: =Janvaris!G18+Februaris!G18+Marts!G18+Aprilis!G18+Maijs!G18+Junijs!G18 -> 0 | H16: =Janvaris!H18+Februaris!H18+Marts!H18+Aprilis!H18+Maijs!H18+Junijs!H18 -> 0 | I16: =Janvaris!I18+Februaris!I18+Marts!I18+Aprilis!I18+Maijs!I18+Junijs!I18 -> 0 | J16: =Janvaris!J18+Februaris!J18+Marts!J18+Aprilis!J18+Maijs!J18+Junijs!J18 -> 124 | K16: =Janvaris!K18+Februaris!K18+Marts!K18+Aprilis!K18+Maijs!K18+Junijs!K18 -> 0 | L16: =Janvaris!L18+Februaris!L18+Marts!L18+Aprilis!L18+Maijs!L18+Junijs!L18 -> 0 | M16: =Janvaris!M18+Februaris!M18+Marts!M18+Aprilis!M18+Maijs!M18+Junijs!M18 -> 0 | N16: =Janvaris!N18+Februaris!N18+Marts!N18+Aprilis!N18+Maijs!N18+Junijs!N18 -> 0 | ... X16: =Janvaris!X18+Februaris!X18+Marts!X18+Aprilis!X18+Maijs!X18+Junijs!X18 -> 0 | Y16: =SUM(Z16:AD16) -> 0 | Z16: =Janvaris!Z18+Februaris!Z18+Marts!Z18+Aprilis!Z18+Maijs!Z18+Junijs!Z18 -> 0 | AA16: =Janvaris!AA18+Februaris!AA18+Marts!AA18+Aprilis!AA18+Maijs!AA18+Junijs!AA18 -> 0 | AB16: =Janvaris!AB18+Februaris!AB18+Marts!AB18+Aprilis!AB18+Maijs!AB18+Junijs!AB18 -> 0 | AC16: =Janvaris!AC18+Februaris!AC18+Marts!AC18+Aprilis!AC18+Maijs!AC18+Junijs!AC18 -> 0 | AD16: =Janvaris!AD18+Februaris!AD18+Marts!AD18+Aprilis!AD18+Maijs!AD18+Junijs!AD18 -> 0
A17: 8. | B17: Pedagogu darba samaksa profesionālās izglītības iestādes | C17: 257 | D17: x | E17: =F17+Y17 -> 2057 | F17: =SUM(G17:X17) -> 2057 | G17: =ROUNDUP(Janvaris!G19+Februaris!G19+Marts!G19+Aprilis!G19+Maijs!G19+Junijs!G19,0) -> 0 | H17: =ROUNDUP(Janvaris!H19+Februaris!H19+Marts!H19+Aprilis!H19+Maijs!H19+Junijs!H19,0) -> 0 | I17: =ROUNDUP(Janvaris!I19+Februaris!I19+Marts!I19+Aprilis!I19+Maijs!I19+Junijs!I19,0) -> 0 | J17: =ROUNDUP(Janvaris!J19+Februaris!J19+Marts!J19+Aprilis!J19+Maijs!J19+Junijs!J19,0) -> 1542 | K17: =ROUNDUP(Janvaris!K19+Februaris!K19+Marts!K19+Aprilis!K19+Maijs!K19+Junijs!K19,0) -> 0 | L17: =ROUNDUP(Janvaris!L19+Februaris!L19+Marts!L19+Aprilis!L19+Maijs!L19+Junijs!L19,0) -> 0 | M17: =ROUNDUP(Janvaris!M19+Februaris!M19+Marts!M19+Aprilis!M19+Maijs!M19+Junijs!M19,0) -> 0 | N17: =ROUNDUP(Janvaris!N19+Februaris!N19+Marts!N19+Aprilis!N19+Maijs!N19+Junijs!N19,0) -> 0 | ... X17: =ROUNDUP(Janvaris!X19+Februaris!X19+Marts!X19+Aprilis!X19+Maijs!X19+Junijs!X19,0) -> 0 | Y17: =SUM(Z17:AD17) -> 0 | Z17: =ROUNDUP(Janvaris!Z19+Februaris!Z19+Marts!Z19+Aprilis!Z19+Maijs!Z19+Junijs!Z19,0) -> 0 | AA17: =ROUNDUP(Janvaris!AA19+Februaris!AA19+Marts!AA19+Aprilis!AA19+Maijs!AA19+Junijs!AA19,0) -> 0 | AB17: =ROUNDUP(Janvaris!AB19+Februaris!AB19+Marts!AB19+Aprilis!AB19+Maijs!AB19+Junijs!AB19,0) -> 0 | AC17: =ROUNDUP(Janvaris!AC19+Februaris!AC19+Marts!AC19+Aprilis!AC19+Maijs!AC19+Junijs!AC19,0) -> 0 | AD17: =ROUNDUP(Janvaris!AD19+Februaris!AD19+Marts!AD19+Aprilis!AD19+Maijs!AD19+Junijs!AD19,0) -> 0
A18: 9. | B18: Vienreizēja palīdzība mācību līdzekļu nodrošināšanai VIIS unikāli pirmreizēji reģistrētam izglītojamajam | C18: 50 | D18: x | E18: =F18+Y18 -> 0 | F18: =SUM(G18:X18) -> 0 | G18: =ROUNDUP(Janvaris!G20+Februaris!G20+Marts!G20+Aprilis!G20+Maijs!G20+Junijs!G20,0) -> 0 | H18: =ROUNDUP(Janvaris!H20+Februaris!H20+Marts!H20+Aprilis!H20+Maijs!H20+Junijs!H20,0) -> 0 | I18: =ROUNDUP(Janvaris!I20+Februaris!I20+Marts!I20+Aprilis!I20+Maijs!I20+Junijs!I20,0) -> 0 | J18: =ROUNDUP(Janvaris!J20+Februaris!J20+Marts!J20+Aprilis!J20+Maijs!J20+Junijs!J20,0) -> 0 | K18: =ROUNDUP(Janvaris!K20+Februaris!K20+Marts!K20+Aprilis!K20+Maijs!K20+Junijs!K20,0) -> 0 | L18: =ROUNDUP(Janvaris!L20+Februaris!L20+Marts!L20+Aprilis!L20+Maijs!L20+Junijs!L20,0) -> 0 | M18: =ROUNDUP(Janvaris!M20+Februaris!M20+Marts!M20+Aprilis!M20+Maijs!M20+Junijs!M20,0) -> 0 | N18: =ROUNDUP(Janvaris!N20+Februaris!N20+Marts!N20+Aprilis!N20+Maijs!N20+Junijs!N20,0) -> 0 | ... X18: =ROUNDUP(Janvaris!X20+Februaris!X20+Marts!X20+Aprilis!X20+Maijs!X20+Junijs!X20,0) -> 0 | Y18: =SUM(Z18:AD18) -> 0 | Z18: =ROUNDUP(Janvaris!Z20+Februaris!Z20+Marts!Z20+Aprilis!Z20+Maijs!Z20+Junijs!Z20,0) -> 0 | AA18: =ROUNDUP(Janvaris!AA20+Februaris!AA20+Marts!AA20+Aprilis!AA20+Maijs!AA20+Junijs!AA20,0) -> 0 | AB18: =ROUNDUP(Janvaris!AB20+Februaris!AB20+Marts!AB20+Aprilis!AB20+Maijs!AB20+Junijs!AB20,0) -> 0 | AC18: =ROUNDUP(Janvaris!AC20+Februaris!AC20+Marts!AC20+Aprilis!AC20+Maijs!AC20+Junijs!AC20,0) -> 0 | AD18: =ROUNDUP(Janvaris!AD20+Februaris!AD20+Marts!AD20+Aprilis!AD20+Maijs!AD20+Junijs!AD20,0) -> 0
A19: 10. | B19: Stipendija (mēnesī) | C19: 15 | D19: x | E19: =F19+Y19 -> 255 | F19: =SUM(G19:X19) -> 255 | G19: =ROUNDUP(Janvaris!G21+Februaris!G21+Marts!G21+Aprilis!G21+Maijs!G21+Junijs!G21,0) -> 0 | H19: =ROUNDUP(Janvaris!H21+Februaris!H21+Marts!H21+Aprilis!H21+Maijs!H21+Junijs!H21,0) -> 0 | I19: =ROUNDUP(Janvaris!I21+Februaris!I21+Marts!I21+Aprilis!I21+Maijs!I21+Junijs!I21,0) -> 0 | J19: =ROUNDUP(Janvaris!J21+Februaris!J21+Marts!J21+Aprilis!J21+Maijs!J21+Junijs!J21,0) -> 120 | K19: =ROUNDUP(Janvaris!K21+Februaris!K21+Marts!K21+Aprilis!K21+Maijs!K21+Junijs!K21,0) -> 0 | L19: =ROUNDUP(Janvaris!L21+Februaris!L21+Marts!L21+Aprilis!L21+Maijs!L21+Junijs!L21,0) -> 0 | M19: =ROUNDUP(Janvaris!M21+Februaris!M21+Marts!M21+Aprilis!M21+Maijs!M21+Junijs!M21,0) -> 0 | N19: =ROUNDUP(Janvaris!N21+Februaris!N21+Marts!N21+Aprilis!N21+Maijs!N21+Junijs!N21,0) -> 0 | ... X19: =ROUNDUP(Janvaris!X21+Februaris!X21+Marts!X21+Aprilis!X21+Maijs!X21+Junijs!X21,0) -> 0 | Y19: =SUM(Z19:AD19) -> 0 | Z19: =ROUNDUP(Janvaris!Z21+Februaris!Z21+Marts!Z21+Aprilis!Z21+Maijs!Z21+Junijs!Z21,0) -> 0 | AA19: =ROUNDUP(Janvaris!AA21+Februaris!AA21+Marts!AA21+Aprilis!AA21+Maijs!AA21+Junijs!AA21,0) -> 0 | AB19: =ROUNDUP(Janvaris!AB21+Februaris!AB21+Marts!AB21+Aprilis!AB21+Maijs!AB21+Junijs!AB21,0) -> 0 | AC19: =ROUNDUP(Janvaris!AC21+Februaris!AC21+Marts!AC21+Aprilis!AC21+Maijs!AC21+Junijs!AC21,0) -> 0 | AD19: =ROUNDUP(Janvaris!AD21+Februaris!AD21+Marts!AD21+Aprilis!AD21+Maijs!AD21+Junijs!AD21,0) -> 0
A20: 11. | B20: Uzturēšanas izmaksas (vidējās izmaksas uz vienu izglītojamo): | C20: =SUM(C21:C22) -> 184.4 | D20: x | E20: =F20+Y20 -> 457 | F20: =SUM(G20:X20) -> 457 | G20: =G21+G22 -> 0 | H20: =H21+H22 -> 0 | I20: =I21+I22 -> 0 | J20: =J21+J22 -> 457 | K20: =K21+K22 -> 0 | L20: =L21+L22 -> 0 | M20: =M21+M22 -> 0 | N20: =N21+N22 -> 0 | ... X20: =X21+X22 -> 0 | Y20: =SUM(Z20:AD20) -> 0 | Z20: =Z21+Z22 -> 0 | AA20: =AA21+AA22 -> 0 | AB20: =AB21+AB22 -> 0 | AC20: =AC21+AC22 -> 0 | AD20: =AD21+AD22 -> 0
A21: 11.1. | B21: Profesionālās vidējās izglītības programmas īstenošanai | C21: 76.08 | D21: x | E21: =F21+Y21 -> 457 | F21: =SUM(G21:X21) -> 457 | G21: =ROUNDUP(Janvaris!G23+Februaris!G23+Marts!G23+Aprilis!G23+Maijs!G23+Junijs!G23,0) -> 0 | H21: =ROUNDUP(Janvaris!H23+Februaris!H23+Marts!H23+Aprilis!H23+Maijs!H23+Junijs!H23,0) -> 0 | I21: =ROUNDUP(Janvaris!I23+Februaris!I23+Marts!I23+Aprilis!I23+Maijs!I23+Junijs!I23,0) -> 0 | J21: =ROUNDUP(Janvaris!J23+Februaris!J23+Marts!J23+Aprilis!J23+Maijs!J23+Junijs!J23,0) -> 457 | K21: =ROUNDUP(Janvaris!K23+Februaris!K23+Marts!K23+Aprilis!K23+Maijs!K23+Junijs!K23,0) -> 0 | L21: =ROUNDUP(Janvaris!L23+Februaris!L23+Marts!L23+Aprilis!L23+Maijs!L23+Junijs!L23,0) -> 0 | M21: =ROUNDUP(Janvaris!M23+Februaris!M23+Marts!M23+Aprilis!M23+Maijs!M23+Junijs!M23,0) -> 0 | N21: =ROUNDUP(Janvaris!N23+Februaris!N23+Marts!N23+Aprilis!N23+Maijs!N23+Junijs!N23,0) -> 0 | ... X21: =ROUNDUP(Janvaris!X23+Februaris!X23+Marts!X23+Aprilis!X23+Maijs!X23+Junijs!X23,0) -> 0 | Y21: =SUM(Z21:AD21) -> 0 | Z21: =ROUNDUP(Janvaris!Z23+Februaris!Z23+Marts!Z23+Aprilis!Z23+Maijs!Z23+Junijs!Z23,0) -> 0 | AA21: =ROUNDUP(Janvaris!AA23+Februaris!AA23+Marts!AA23+Aprilis!AA23+Maijs!AA23+Junijs!AA23,0) -> 0 | AB21: =ROUNDUP(Janvaris!AB23+Februaris!AB23+Marts!AB23+Aprilis!AB23+Maijs!AB23+Junijs!AB23,0) -> 0 | AC21: =ROUNDUP(Janvaris!AC23+Februaris!AC23+Marts!AC23+Aprilis!AC23+Maijs!AC23+Junijs!AC23,0) -> 0 | AD21: =ROUNDUP(Janvaris!AD23+Februaris!AD23+Marts!AD23+Aprilis!AD23+Maijs!AD23+Junijs!AD23,0) -> 0
A22: 11.2. | B22: Izglītības tematiskā joma "Mākslas" | C22: 108.32 | D22: x | E22: =F22+Y22 -> 0 | F22: =SUM(G22:X22) -> 0 | G22: =ROUNDUP(Janvaris!G24+Februaris!G24+Marts!G24+Aprilis!G24+Maijs!G24+Junijs!G24,0) -> 0 | H22: =ROUNDUP(Janvaris!H24+Februaris!H24+Marts!H24+Aprilis!H24+Maijs!H24+Junijs!H24,0) -> 0 | I22: =ROUNDUP(Janvaris!I24+Februaris!I24+Marts!I24+Aprilis!I24+Maijs!I24+Junijs!I24,0) -> 0 | J22: =ROUNDUP(Janvaris!J24+Februaris!J24+Marts!J24+Aprilis!J24+Maijs!J24+Junijs!J24,0) -> 0 | K22: =ROUNDUP(Janvaris!K24+Februaris!K24+Marts!K24+Aprilis!K24+Maijs!K24+Junijs!K24,0) -> 0 | L22: =ROUNDUP(Janvaris!L24+Februaris!L24+Marts!L24+Aprilis!L24+Maijs!L24+Junijs!L24,0) -> 0 | M22: =ROUNDUP(Janvaris!M24+Februaris!M24+Marts!M24+Aprilis!M24+Maijs!M24+Junijs!M24,0) -> 0 | N22: =ROUNDUP(Janvaris!N24+Februaris!N24+Marts!N24+Aprilis!N24+Maijs!N24+Junijs!N24,0) -> 0 | ... X22: =ROUNDUP(Janvaris!X24+Februaris!X24+Marts!X24+Aprilis!X24+Maijs!X24+Junijs!X24,0) -> 0 | Y22: =SUM(Z22:AD22) -> 0 | Z22: =ROUNDUP(Janvaris!Z24+Februaris!Z24+Marts!Z24+Aprilis!Z24+Maijs!Z24+Junijs!Z24,0) -> 0 | AA22: =ROUNDUP(Janvaris!AA24+Februaris!AA24+Marts!AA24+Aprilis!AA24+Maijs!AA24+Junijs!AA24,0) -> 0 | AB22: =ROUNDUP(Janvaris!AB24+Februaris!AB24+Marts!AB24+Aprilis!AB24+Maijs!AB24+Junijs!AB24,0) -> 0 | AC22: =ROUNDUP(Janvaris!AC24+Februaris!AC24+Marts!AC24+Aprilis!AC24+Maijs!AC24+Junijs!AC24,0) -> 0 | AD22: =ROUNDUP(Janvaris!AD24+Februaris!AD24+Marts!AD24+Aprilis!AD24+Maijs!AD24+Junijs!AD24,0) -> 0
A23: Kopā | E23: =F23+Y23 -> 23674 | F23: =SUM(G23:X23) -> 20718 | G23: =G11+G17+G18+G19+G20 -> 0 | H23: =H11+H17+H18+H19+H20 -> 907 | I23: =I11+I17+I18+I19+I20 -> 771 | J23: =J11+J17+J18+J19+J20 -> 5338 | K23: =K11+K17+K18+K19+K20 -> 562 | L23: =L11+L17+L18+L19+L20 -> 0 | M23: =M11+M17+M18+M19+M20 -> 0 | N23: =N11+N17+N18+N19+N20 -> 738 | ... X23: =X11+X17+X18+X19+X20 -> 771 | Y23: =SUM(Z23:AD23) -> 2956 | Z23: =Z11+Z17+Z18+Z19+Z20 -> 771 | AA23: =AA11+AA17+AA18+AA19+AA20 -> 1542 | AB23: =AB11+AB17+AB18+AB19+AB20 -> 0 | AC23: =AC11+AC17+AC18+AC19+AC20 -> 643 | AD23: =AD11+AD17+AD18+AD19+AD20 -> 0

Sheet Janvaris
A1: Sagatavots saskaņā ar Ukrainas civiliedzīvotāju atbalsta likumu | C1: PROF Janvāris
C2: Pārskats par finansējuma pieprasījumu Ukrainas civiliedzīvotāju izglītības nodrošināšanai
B4: Kalendāro dienu skaits mēnesī | C4: 31
B5: Darba dienu skaits mēnesī | C5: 22
A7: Nr.p.k. | B7: Rādītāja nosaukums | C7: Maksimālais iespējamais izdevumu kompensācijas apmērs, euro | D7: Pedagogu darba samaksas un papildus profesionālo izglītības iestāžu izmaksas uz vienu izglītojamo pārskata mēneša vienai dienai* | E7: Faktiskie izdevumi pārskata mēnesī**, euro
E8: Kopā | F8: Dibinātājs - Izglītības un zinātnes ministrija | Y8: Dibinātājs - Kultūras ministrija
F9: Kopā IZM | G9: =Kopsavilkums!G7 -> Daugavpis tehnoloģiju un tūrisma tehnikums | H9: =Kopsavilkums!H7 -> Jelgavas tehnikums | I9: =Kopsavilkums!I7 -> Kandavas Lauksaimniecības tehnikums | J9: =Kopsavilkums!J7 -> Kuldīgas Tehnoloģiju un tūrisma tehnikums | K9: =Kopsavilkums!K7 -> Latgales industriālais tehnikums | L9: =Kopsavilkums!L7 -> RTU Latvijas Jūras akadēmijas Jūrskola | M9: =Kopsavilkums!M7 -> Ogres tehnikums | N9: =Kopsavilkums!N7 -> Liepājas Valsts tehnikums | ... AD9: =Kopsavilkums!AD7 -> Alfrēda Kalniņa Cēsu Mūzikas vidusskola
A10: Ukrainas civiliedzīvotāji, kuri uz 2022. gada 1. septembri (t.sk. citā izglītības iestādē) ir reģistrēti Valsts izglītības informācijas sistēmā ar apakšstatusu "Ukrainas civiliedzīvotājs"
A11: 1. | B11: Unikālais izglītojamo skaits pārskata mēnesī ar VIIS reģistrēto apakšstatusu "Ukrainas civiliedzīvotājs" | C11: x | D11: x | E11: =F11+Y11 -> 73 | F11: =SUM(G11:X11) -> 66 | G11: 1 | H11: 2 | I11: 1 | J11: 6 | K11: 1 | L11: 1 | M11: 7 | N11: 1 | O11: 5 | P11: 6 | Q11: 3 | R11: 12 | S11: 0 | T11: 1 | U11: 6 | V11: 10 | W11: 2 | X11: 1 | Y11: =SUM(Z11:AD11) -> 7 | Z11: 1 | AA11: 2 | AB11: 2 | AC11: 1 | AD11: 1
A12: 2. | B12: Kopējais summētais darba dienu skaits pārskata mēnesī | C12: x | D12: x | E12: =F12+Y12 -> 1468 | F12: =SUM(G12:X12) -> 1402 | G12: 22 | H12: 44 | I12: 22 | J12: 111 | K12: 22 | L12: 22 | M12: 153 | N12: 22 | O12: 110 | P12: 132 | Q12: 66 | R12: 264 | S12: 0 | T12: 22 | U12: 124 | V12: 200 | W12: 44 | X12: 22 | Y12: =SUM(Z12:AD12) -> 66 | Z12: 22 | AA12: 44 | AB12: 0 | AC12: 0 | AD12: 0
A13: 3. | B13: Pedagogu darba samaksa profesionālās izglītības iestādes | C13: =257/2 -> 128.5 | D13: =C13/C5 -> 5.8409091 | E13: =F13+Y13 -> 3571.5618 | F13: =SUM(G13:X13) -> 3186.0618 | G13: 0 | H13: 204.84 | I13: 128.5 | J13: 648.34 | K13: 75.93 | L13: 0 | M13: 0 | N13: 121.71 | O13: 242.56 | P13: 0 | Q13: 0 | R13: 0 | S13: 0 | T13: 128.5 | U13: 339 | V13: 1168.1818 | W13: 0 | X13: 128.5 | Y13: =SUM(Z13:AD13) -> 385.5 | Z13: 128.5 | AA13: 257 | AB13: 0 | AC13: 0 | AD13: 0
A14: Ukrainas civiliedzīvotāji septembrī, kuri pēc 2022. gada 1. septembra ir reģistrēti Valsts izglītības informācijas sistēmā ar apakšstatusu "Ukrainas civiliedzīvotājs"
A15: 4. | B15: Unikālais izglītojamo skaits pārskata mēnesī ar VIIS reģistrēto apakšstatusu "Ukrainas civiliedzīvotājs" | C15: x | D15: x | E15: =F15+Y15 -> 4 | F15: =SUM(G15:X15) -> 4 | G15: 0 | H15: 0 | I15: 0 | J15: 1 | K15: 0 | L15: 0 | M15: 0 | N15: 0 | O15: 1 | P15: 0 | Q15: 0 | R15: 0 | S15: 1 | T15: 0 | U15: 0 | V15: 0 | W15: 1 | X15: 0 | Y15: =SUM(Z15:AD15) -> 0 | Z15: 0 | AA15: 0 | AB15: 0 | AC15: 0 | AD15: 0
A16: 5. | B16: Pirmreizēji VIIS reģistrēto izglītojamo skaits pārskata mēnesī ar apakšstatusu "Ukrainas civiliedzīvotājs" | C16: x | D16: x | E16: =F16+Y16 -> 1 | F16: =SUM(G16:X16) -> 1 | G16: 0 | H16: 0 | I16: 0 | J16: 0 | K16: 0 | L16: 0 | M16: 0 | N16: 0 | O16: 1 | P16: 0 | Q16: 0 | R16: 0 | S16: 0 | T16: 0 | U16: 0 | V16: 0 | W16: 0 | X16: 0 | Y16: =SUM(Z16:AD16) -> 0 | Z16: 0 | AA16: 0 | AB16: 0 | AC16: 0 | AD16: 0
A17: 6. | B17: Kopējais summētais kalendāro dienu skaits pārskata mēnesī | C17: x | D17: x | E17: =F17+Y17 -> 101 | F17: =SUM(G17:X17) -> 101 | G17: 0 | H17: 0 | I17: 0 | J17: 31 | K17: 0 | L17: 0 | M17: 0 | N17: 0 | O17: 8 | P17: 0 | Q17: 0 | R17: 0 | S17: 31 | T17: 0 | U17: 0 | V17: 0 | W17: 31 | X17: 0 | Y17: =SUM(Z17:AD17) -> 0 | Z17: 0 | AA17: 0 | AB17: 0 | AC17: 0 | AD17: 0
A18: 7. | B18: Kopējais summētais darba dienu skaits pārskata mēnesī | C18: x | D18: x | E18: =F18+Y18 -> 72 | F18: =SUM(G18:X18) -> 72 | G18: 0 | H18: 0 | I18: 0 | J18: 22 | K18: 0 | L18: 0 | M18: 0 | N18: 0 | O18: 6 | P18: 0 | Q18: 0 | R18: 0 | S18: 22 | T18: 0 | U18: 0 | V18: 0 | W18: 22 | X18: 0 | Y18: =SUM(Z18:AD18) -> 0 | Z18: 0 | AA18: 0 | AB18: 0 | AC18: 0 | AD18: 0
A19: 8. | B19: Pedagogu darba samaksa profesionālās izglītības iestādes | C19: 257 | D19: =C19/C5 -> 11.681818 | E19: =F19+Y19 -> 292.6 | F19: =SUM(G19:X19) -> 292.6 | G19: 0 | H19: 0 | I19: 0 | J19: 257 | K19: 0 | L19: 0 | M19: 0 | N19: 0 | O19: 0 | P19: 0 | Q19: 0 | R19: 0 | S19: 35.6 | T19: 0 | U19: 0 | V19: 0 | W19: 0 | X19: 0 | Y19: =SUM(Z19:AD19) -> 0 | Z19: 0 | AA19: 0 | AB19: 0 | AC19: 0 | AD19: 0
A20: 9. | B20: Vienreizēja palīdzība mācību līdzekļu nodrošināšanai VIIS unikāli pirmreizēji reģistrētam izglītojamajam | C20: 50 | D20: x | E20: =F20+Y20 -> 0 | F20: =SUM(G20:X20) -> 0 | G20: 0 | H20: 0 | I20: 0 | J20: 0 | K20: 0 | L20: 0 | M20: 0 | N20: 0 | O20: 0 | P20: 0 | Q20: 0 | R20: 0 | S20: 0 | T20: 0 | U20: 0 | V20: 0 | W20: 0 | X20: 0 | Y20: =SUM(Z20:AD20) -> 0 | Z20: 0 | AA20: 0 | AB20: 0 | AC20: 0 | AD20: 0
A21: 10. | B21: Stipendija (mēnesī) | C21: 15 | D21: =C21/C4 -> 0.48387097 | E21: =F21+Y21 -> 30 | F21: =SUM(G21:X21) -> 30 | G21: 0 | H21: 0 | I21: 0 | J21: 15 | K21: 0 | L21: 0 | M21: 0 | N21: 0 | O21: 0 | P21: 0 | Q21: 0 | R21: 0 | S21: 15 | T21: 0 | U21: 0 | V21: 0 | W21: 0 | X21: 0 | Y21: =SUM(Z21:AD21) -> 0 | Z21: 0 | AA21: 0 | AB21: 0 | AC21: 0 | AD21: 0
A22: 11. | B22: Uzturēšanas izmaksas (vidējās izmaksas uz vienu izglītojamo): | C22: =SUM(C23:C24) -> 184.4 | D22: x | E22: =F22+Y22 -> 76.08 | F22: =SUM(G22:X22) -> 76.08 | G22: =G23+G24 -> 0 | H22: =H23+H24 -> 0 | I22: =I23+I24 -> 0 | J22: =J23+J24 -> 76.08 | K22: =K23+K24 -> 0 | L22: =L23+L24 -> 0 | M22: =M23+M24 -> 0 | N22: =N23+N24 -> 0 | ... X22: =X23+X24 -> 0 | Y22: =SUM(Z22:AD22) -> 0 | Z22: =Z23+Z24 -> 0 | AA22: =AA23+AA24 -> 0 | AB22: =AB23+AB24 -> 0 | AC22: =AC23+AC24 -> 0 | AD22: =AD23+AD24 -> 0
A23: 11.1. | B23: Profesionālās vidējās izglītības programmas īstenošanai | C23: 76.08 | D23: =C23/C4 -> 2.4541935 | E23: =F23+Y23 -> 76.08 | F23: =SUM(G23:X23) -> 76.08 | G23: 0 | H23: 0 | I23: 0 | J23: 76.08 | K23: 0 | L23: 0 | M23: 0 | N23: 0 | O23: 0 | P23: 0 | Q23: 0 | R23: 0 | S23: 0 | T23: 0 | U23: 0 | V23: 0 | W23: 0 | X23: 0 | Y23: =SUM(Z23:AD23) -> 0 | Z23: 0 | AA23: 0 | AB23: 0 | AC23: 0 | AD23: 0
A24: 11.2. | B24: Izglītības tematiskā joma "Mākslas" | C24: 108.32 | D24: =C24/C4 -> 3.4941935 | E24: =F24+Y24 -> 0 | F24: =SUM(G24:X24) -> 0 | G24: 0 | H24: 0 | I24: 0 | J24: 0 | K24: 0 | L24: 0 | M24: 0 | N24: 0 | O24: 0 | P24: 0 | Q24: 0 | R24: 0 | S24: 0 | T24: 0 | U24: 0 | V24: 0 | W24: 0 | X24: 0 | Y24: =SUM(Z24:AD24) -> 0 | Z24: 0 | AA24: 0 | AB24: 0 | AC24: 0 | AD24: 0
A25: Kopā | E25: =F25+Y25 -> 3970.2418 | F25: =SUM(G25:X25) -> 3584.7418 | G25: =G13+G19+G20+G21+G22 -> 0 | H25: =H13+H19+H20+H21+H22 -> 204.84 | I25: =I13+I19+I20+I21+I22 -> 128.5 | J25: =J13+J19+J20+J21+J22 -> 996.42 | K25: =K13+K19+K20+K21+K22 -> 75.93 | L25: =L13+L19+L20+L21+L22 -> 0 | M25: =M13+M19+M20+M21+M22 -> 0 | N25: =N13+N19+N20+N21+N22 -> 121.71 | ... X25: =X13+X19+X20+X21+X22 -> 128.5 | Y25: =SUM(Z25:AD25) -> 385.5 | Z25: =Z13+Z19+Z20+Z21+Z22 -> 128.5 | AA25: =AA13+AA19+AA20+AA21+AA22 -> 257 | AB25: =AB13+AB19+AB20+AB21+AB22 -> 0 | AC25: =AC13+AC19+AC20+AC21+AC22 -> 0 | AD25: =AD13+AD19+AD20+AD21+AD22 -> 0
A27: * Izdevumu pozīcijai "Pedagogu darba samaksa profesionālās izglītības iestādes" - vienas darba dienas izmaksa, izdevumu pozīcijām "Stipedijas" un "Uzturēšanas izmaksas"- vienas kalendārās dienas izmaksa.
A28: ** Ja izglītības iestādes norādītie faktiskie izdevumi pārsniedz maksimālo iespējamo izdevumu kompensācijas apmēru, norādīts maksimālais iespējamais izdevumu kompensācijas apmērs.

Sheet Februaris
A1: Sagatavots saskaņā ar Ukrainas civiliedzīvotāju atbalsta likumu | C1: PROF Februāŗis
C2: Pārskats par finansējuma pieprasījumu Ukrainas civiliedzīvotāju izglītības nodrošināšanai
B4: Kalendāro dienu skaits mēnesī | C4: 28
B5: Darba dienu skaits mēnesī | C5: 20
A7: Nr.p.k. | B7: Rādītāja nosaukums | C7: Maksimālais iespējamais izdevumu kompensācijas apmērs, euro | D7: Pedagogu darba samaksas un papildus profesionālo izglītības iestāžu izmaksas uz vienu izglītojamo pārskata mēneša vienai dienai* | E7: Faktiskie izdevumi pārskata mēnesī**, euro
E8: Kopā | F8: Dibinātājs - Izglītības un zinātnes ministrija | Y8: Dibinātājs - Kultūras ministrija
F9: Kopā IZM | G9: =Kopsavilkums!G7 -> Daugavpis tehnoloģiju un tūrisma tehnikums | H9: =Kopsavilkums!H7 -> Jelgavas tehnikums | I9: =Kopsavilkums!I7 -> Kandavas Lauksaimniecības tehnikums | J9: =Kopsavilkums!J7 -> Kuldīgas Tehnoloģiju un tūrisma tehnikums | K9: =Kopsavilkums!K7 -> Latgales industriālais tehnikums | L9: =Kopsavilkums!L7 -> RTU Latvijas Jūras akadēmijas Jūrskola | M9: =Kopsavilkums!M7 -> Ogres tehnikums | N9: =Kopsavilkums!N7 -> Liepājas Valsts tehnikums | ... AD9: =Kopsavilkums!AD7 -> Alfrēda Kalniņa Cēsu Mūzikas vidusskola
A10: Ukrainas civiliedzīvotāji, kuri uz 2022. gada 1. septembri (t.sk. citā izglītības iestādē) ir reģistrēti Valsts izglītības informācijas sistēmā ar apakšstatusu "Ukrainas civiliedzīvotājs"
A11: 1. | B11: Unikālais izglītojamo skaits pārskata mēnesī ar VIIS reģistrēto apakšstatusu "Ukrainas civiliedzīvotājs" | C11: x | D11: x | E11: =F11+Y11 -> 66 | F11: =SUM(G11:X11) -> 59 | G11: 1 | H11: 2 | I11: 1 | J11: 4 | K11: 1 | L11: 1 | M11: 6 | N11: 1 | O11: 4 | P11: 5 | Q11: 3 | R11: 12 | S11: 0 | T11: 1 | U11: 5 | V11: 9 | W11: 2 | X11: 1 | Y11: =SUM(Z11:AD11) -> 7 | Z11: 1 | AA11: 2 | AB11: 2 | AC11: 1 | AD11: 1
A12: 2. | B12: Kopējais summētais darba dienu skaits pārskata mēnesī | C12: x | D12: x | E12: =F12+Y12 -> 1229 | F12: =SUM(G12:X12) -> 1141 | G12: 20 | H12: 40 | I12: 20 | J12: 80 | K12: 20 | L12: 20 | M12: 120 | N12: 20 | O12: 80 | P12: 100 | Q12: 60 | R12: 230 | S12: 0 | T12: 20 | U12: 84 | V12: 167 | W12: 40 | X12: 20 | Y12: =SUM(Z12:AD12) -> 88 | Z12: 22 | AA12: 44 | AB12: 0 | AC12: 22 | AD12: 0
A13: 3. | B13: Pedagogu darba samaksa profesionālās izglītības iestādes | C13: =257/2 -> 128.5 | D13: =C13/C5 -> 6.425 | E13: =F13+Y13 -> 3634.785 | F13: =SUM(G13:X13) -> 3120.785 | G13: 0 | H13: 130.88 | I13: 128.5 | J13: 514 | K13: 102.8 | L13: 0 | M13: 0 | N13: 120.5 | O13: 267.13 | P13: 0 | Q13: 0 | R13: 0 | S13: 0 | T13: 128.5 | U13: 527 | V13: 1072.975 | W13: 0 | X13: 128.5 | Y13: =SUM(Z13:AD13) -> 514 | Z13: 128.5 | AA13: 257 | AB13: 0 | AC13: 128.5 | AD13: 0
A14: Ukrainas civiliedzīvotāji septembrī, kuri pēc 2022. gada 1. septembra ir reģistrēti Valsts izglītības informācijas sistēmā ar apakšstatusu "Ukrainas civiliedzīvotājs"
A15: 4. | B15: Unikālais izglītojamo skaits pārskata mēnesī ar VIIS reģistrēto apakšstatusu "Ukrainas civiliedzīvotājs" | C15: x | D15: x | E15: =F15+Y15 -> 4 | F15: =SUM(G15:X15) -> 4 | G15: 0 | H15: 0 | I15: 0 | J15: 1 | K15: 0 | L15: 0 | M15: 0 | N15: 0 | O15: 1 | P15: 0 | Q15: 0 | R15: 0 | S15: 1 | T15: 0 | U15: 0 | V15: 0 | W15: 1 | X15: 0 | Y15: =SUM(Z15:AD15) -> 0 | Z15: 0 | AA15: 0 | AB15: 0 | AC15: 0 | AD15: 0
A16: 5. | B16: Pirmreizēji VIIS reģistrēto izglītojamo skaits pārskata mēnesī ar apakšstatusu "Ukrainas civiliedzīvotājs" | C16: x | D16: x | E16: =F16+Y16 -> 0 | F16: =SUM(G16:X16) -> 0 | G16: 0 | H16: 0 | I16: 0 | J16: 0 | K16: 0 | L16: 0 | M16: 0 | N16: 0 | O16: 0 | P16: 0 | Q16: 0 | R16: 0 | S16: 0 | T16: 0 | U16: 0 | V16: 0 | W16: 0 | X16: 0 | Y16: =SUM(Z16:AD16) -> 0 | Z16: 0 | AA16: 0 | AB16: 0 | AC16: 0 | AD16: 0
A17: 6. | B17: Kopējais summētais kalendāro dienu skaits pārskata mēnesī | C17: x | D17: x | E17: =F17+Y17 -> 112 | F17: =SUM(G17:X17) -> 112 | G17: 0 | H17: 0 | I17: 0 | J17: 28 | K17: 0 | L17: 0 | M17: 0 | N17: 0 | O17: 28 | P17: 0 | Q17: 0 | R17: 0 | S17: 28 | T17: 0 | U17: 0 | V17: 0 | W17: 28 | X17: 0 | Y17: =SUM(Z17:AD17) -> 0 | Z17: 0 | AA17: 0 | AB17: 0 | AC17: 0 | AD17: 0
A18: 7. | B18: Kopējais summētais darba dienu skaits pārskata mēnesī | C18: x | D18: x | E18: =F18+Y18 -> 80 | F18: =SUM(G18:X18) -> 80 | G18: 0 | H18: 0 | I18: 0 | J18: 20 | K18: 0 | L18: 0 | M18: 0 | N18: 0 | O18: 20 | P18: 0 | Q18: 0 | R18: 0 | S18: 20 | T18: 0 | U18: 0 | V18: 0 | W18: 20 | X18: 0 | Y18: =SUM(Z18:AD18) -> 0 | Z18: 0 | AA18: 0 | AB18: 0 | AC18: 0 | AD18: 0
A19: 8. | B19: Pedagogu darba samaksa profesionālās izglītības iestādes | C19: 257 | D19: =C19/C5 -> 12.85 | E19: =F19+Y19 -> 398.84 | F19: =SUM(G19:X19) -> 398.84 | G19: 0 | H19: 0 | I19: 0 | J19: 257 | K19: 0 | L19: 0 | M19: 0 | N19: 0 | O19: 63.53 | P19: 0 | Q19: 0 | R19: 0 | S19: 78.31 | T19: 0 | U19: 0 | V19: 0 | W19: 0 | X19: 0 | Y19: =SUM(Z19:AD19) -> 0 | Z19: 0 | AA19: 0 | AB19: 0 | AC19: 0 | AD19: 0
A20: 9. | B20: Vienreizēja palīdzība mācību līdzekļu nodrošināšanai VIIS unikāli pirmreizēji reģistrētam izglītojamajam | C20: 50 | D20: x | E20: =F20+Y20 -> 0 | F20: =SUM(G20:X20) -> 0 | G20: 0 | H20: 0 | I20: 0 | J20: 0 | K20: 0 | L20: 0 | M20: 0 | N20: 0 | O20: 0 | P20: 0 | Q20: 0 | R20: 0 | S20: 0 | T20: 0 | U20: 0 | V20: 0 | W20: 0 | X20: 0 | Y20: =SUM(Z20:AD20) -> 0 | Z20: 0 | AA20: 0 | AB20: 0 | AC20: 0 | AD20: 0
A21: 10. | B21: Stipendija (mēnesī) | C21: 15 | D21: =C21/C4 -> 0.53571429 | E21: =F21+Y21 -> 45 | F21: =SUM(G21:X21) -> 45 | G21: 0 | H21: 0 | I21: 0 | J21: 15 | K21: 0 | L21: 0 | M21: 0 | N21: 0 | O21: 15 | P21: 0 | Q21: 0 | R21: 0 | S21: 15 | T21: 0 | U21: 0 | V21: 0 | W21: 0 | X21: 0 | Y21: =SUM(Z21:AD21) -> 0 | Z21: 0 | AA21: 0 | AB21: 0 | AC21: 0 | AD21: 0
A22: 11. | B22: Uzturēšanas izmaksas (vidējās izmaksas uz vienu izglītojamo): | C22: =SUM(C23:C24) -> 184.4 | D22: x | E22: =F22+Y22 -> 76.08 | F22: =SUM(G22:X22) -> 76.08 | G22: =G23+G24 -> 0 | H22: =H23+H24 -> 0 | I22: =I23+I24 -> 0 | J22: =J23+J24 -> 76.08 | K22: 0 | L22: =L23+L24 -> 0 | M22: 0 | N22: =N23+N24 -> 0 | O22: =O23+O24 -> 0 | P22: =P23+P24 -> 0 | Q22: 0 | R22: =R23+R24 -> 0 | S22: =S23+S24 -> 0 | T22: =T23+T24 -> 0 | U22: 0 | V22: =V23+V24 -> 0 | W22: =W23+W24 -> 0 | X22: =X23+X24 -> 0 | Y22: =SUM(Z22:AD22) -> 0 | Z22: =Z23+Z24 -> 0 | AA22: =AA23+AA24 -> 0 | AB22: =AB23+AB24 -> 0 | AC22: =AC23+AC24 -> 0 | AD22: =AD23+AD24 -> 0
A23: 11.1. | B23: Profesionālās vidējās izglītības programmas īstenošanai | C23: 76.08 | D23: =C23/C4 -> 2.7171429 | E23: =F23+Y23 -> 76.08 | F23: =SUM(G23:X23) -> 76.08 | G23: 0 | H23: 0 | I23: 0 | J23: 76.08 | K23: 0 | L23: 0 | M23: 0 | N23: 0 | O23: 0 | P23: 0 | Q23: 0 | R23: 0 | S23: 0 | T23: 0 | U23: 0 | V23: 0 | W23: 0 | X23: 0 | Y23: =SUM(Z23:AD23) -> 0 | Z23: 0 | AA23: 0 | AB23: 0 | AC23: 0 | AD23: 0
A24: 11.2. | B24: Izglītības tematiskā joma "Mākslas" | C24: 108.32 | D24: =C24/C4 -> 3.8685714 | E24: =F24+Y24 -> 0 | F24: =SUM(G24:X24) -> 0 | G24: 0 | H24: 0 | I24: 0 | J24: 0 | K24: 0 | L24: 0 | M24: 0 | N24: 0 | O24: 0 | P24: 0 | Q24: 0 | R24: 0 | S24: 0 | T24: 0 | U24: 0 | V24: 0 | W24: 0 | X24: 0 | Y24: =SUM(Z24:AD24) -> 0 | Z24: 0 | AA24: 0 | AB24: 0 | AC24: 0 | AD24: 0
A25: Kopā | E25: =F25+Y25 -> 4154.705 | F25: =SUM(G25:X25) -> 3640.705 | G25: =G13+G19+G20+G21+G22 -> 0 | H25: =H13+H19+H20+H21+H22 -> 130.88 | I25: =I13+I19+I20+I21+I22 -> 128.5 | J25: =J13+J19+J20+J21+J22 -> 862.08 | K25: =K13+K19+K20+K21+K22 -> 102.8 | L25: =L13+L19+L20+L21+L22 -> 0 | M25: =M13+M19+M20+M21+M22 -> 0 | N25: =N13+N19+N20+N21+N22 -> 120.5 | ... X25: =X13+X19+X20+X21+X22 -> 128.5 | Y25: =SUM(Z25:AD25) -> 514 | Z25: =Z13+Z19+Z20+Z21+Z22 -> 128.5 | AA25: =AA13+AA19+AA20+AA21+AA22 -> 257 | AB25: =AB13+AB19+AB20+AB21+AB22 -> 0 | AC25: =AC13+AC19+AC20+AC21+AC22 -> 128.5 | AD25: =AD13+AD19+AD20+AD21+AD22 -> 0
A27: * Izdevumu pozīcijai "Pedagogu darba samaksa profesionālās izglītības iestādes" - vienas darba dienas izmaksa, izdevumu pozīcijām "Stipedijas" un "Uzturēšanas izmaksas"- vienas kalendārās dienas izmaksa.
A28: ** Ja izglītības iestādes norādītie faktiskie izdevumi pārsniedz maksimālo iespējamo izdevumu kompensācijas apmēru, norādīts maksimālais iespējamais izdevumu kompensācijas apmērs.

Sheet Marts
A1: Sagatavots saskaņā ar Ukrainas civiliedzīvotāju atbalsta likumu | C1: PROF Marts
C2: Pārskats par finansējuma pieprasījumu Ukrainas civiliedzīvotāju izglītības nodrošināšanai
B4: Kalendāro dienu skaits mēnesī | C4: 31
B5: Darba dienu skaits mēnesī | C5: 23
A7: Nr.p.k. | B7: Rādītāja nosaukums | C7: Maksimālais iespējamais izdevumu kompensācijas apmērs, euro | D7: Pedagogu darba samaksas un papildus profesionālo izglītības iestāžu izmaksas uz vienu izglītojamo pārskata mēneša vienai dienai* | E7: Faktiskie izdevumi pārskata mēnesī**, euro
E8: Kopā | F8: Dibinātājs - Izglītības un zinātnes ministrija | Y8: Dibinātājs - Kultūras ministrija
F9: Kopā IZM | G9: =Kopsavilkums!G7 -> Daugavpis tehnoloģiju un tūrisma tehnikums | H9: =Kopsavilkums!H7 -> Jelgavas tehnikums | I9: =Kopsavilkums!I7 -> Kandavas Lauksaimniecības tehnikums | J9: =Kopsavilkums!J7 -> Kuldīgas Tehnoloģiju un tūrisma tehnikums | K9: =Kopsavilkums!K7 -> Latgales industriālais tehnikums | L9: =Kopsavilkums!L7 -> RTU Latvijas Jūras akadēmijas Jūrskola | M9: =Kopsavilkums!M7 -> Ogres tehnikums | N9: =Kopsavilkums!N7 -> Liepājas Valsts tehnikums | ... AD9: =Kopsavilkums!AD7 -> Alfrēda Kalniņa Cēsu Mūzikas vidusskola
A10: Ukrainas civiliedzīvotāji, kuri uz 2022. gada 1. septembri (t.sk. citā izglītības iestādē) ir reģistrēti Valsts izglītības informācijas sistēmā ar apakšstatusu "Ukrainas civiliedzīvotājs"
A11: 1. | B11: Unikālais izglītojamo skaits pārskata mēnesī ar VIIS reģistrēto apakšstatusu "Ukrainas civiliedzīvotājs" | C11: x | D11: x | E11: =F11+Y11 -> 63 | F11: =SUM(G11:X11) -> 57 | G11: 1 | H11: 2 | I11: 1 | J11: 4 | K11: 1 | L11: 1 | M11: 6 | N11: 1 | O11: 4 | P11: 5 | Q11: 3 | R11: 11 | S11: 0 | T11: 1 | U11: 4 | V11: 9 | W11: 2 | X11: 1 | Y11: =SUM(Z11:AD11) -> 6 | Z11: 1 | AA11: 2 | AB11: 2 | AC11: 1 | AD11: 0
A12: 2. | B12: Kopējais summētais darba dienu skaits pārskata mēnesī | C12: x | D12: x | E12: =F12+Y12 -> 1398 | F12: =SUM(G12:X12) -> 1306 | G12: 23 | H12: 46 | I12: 23 | J12: 92 | K12: 23 | L12: 23 | M12: 138 | N12: 23 | O12: 92 | P12: 115 | Q12: 69 | R12: 253 | S12: 0 | T12: 23 | U12: 92 | V12: 202 | W12: 46 | X12: 23 | Y12: =SUM(Z12:AD12) -> 92 | Z12: 23 | AA12: 46 | AB12: 0 | AC12: 23 | AD12: 0
A13: 3. | B13: Pedagogu darba samaksa profesionālās izglītības iestādes | C13: =257/2 -> 128.5 | D13: =C13/C5 -> 5.5869565 | E13: =F13+Y13 -> 3512.8552 | F13: =SUM(G13:X13) -> 2998.8552 | G13: 0 | H13: 135.05 | I13: 128.5 | J13: 514 | K13: 100.57 | L13: 0 | M13: 0 | N13: 128.06 | O13: 93.11 | Q13: 0 | R13: 0 | S13: 0 | T13: 128.5 | U13: 514 | V13: 1128.5652 | W13: 0 | X13: 128.5 | Y13: =SUM(Z13:AD13) -> 514 | Z13: 128.5 | AA13: 257 | AB13: 0 | AC13: 128.5 | AD13: 0
A14: Ukrainas civiliedzīvotāji septembrī, kuri pēc 2022. gada 1. septembra ir reģistrēti Valsts izglītības informācijas sistēmā ar apakšstatusu "Ukrainas civiliedzīvotājs"
A15: 4. | B15: Unikālais izglītojamo skaits pārskata mēnesī ar VIIS reģistrēto apakšstatusu "Ukrainas civiliedzīvotājs" | C15: x | D15: x | E15: =F15+Y15 -> 4 | F15: =SUM(G15:X15) -> 4 | G15: 0 | H15: 0 | I15: 0 | J15: 1 | K15: 0 | L15: 0 | M15: 0 | N15: 0 | O15: 1 | P15: 0 | Q15: 0 | R15: 0 | S15: 1 | T15: 0 | U15: 0 | V15: 0 | W15: 1 | X15: 0 | Y15: =SUM(Z15:AD15) -> 0 | Z15: 0 | AA15: 0 | AB15: 0 | AC15: 0 | AD15: 0
A16: 5. | B16: Pirmreizēji VIIS reģistrēto izglītojamo skaits pārskata mēnesī ar apakšstatusu "Ukrainas civiliedzīvotājs" | C16: x | D16: x | E16: =F16+Y16 -> 0 | F16: =SUM(G16:X16) -> 0 | G16: 0 | H16: 0 | I16: 0 | J16: 0 | K16: 0 | L16: 0 | M16: 0 | N16: 0 | O16: 0 | P16: 0 | Q16: 0 | R16: 0 | S16: 0 | T16: 0 | U16: 0 | V16: 0 | W16: 0 | X16: 0 | Y16: =SUM(Z16:AD16) -> 0 | Z16: 0 | AA16: 0 | AB16: 0 | AC16: 0 | AD16: 0
A17: 6. | B17: Kopējais summētais kalendāro dienu skaits pārskata mēnesī | C17: x | D17: x | E17: =F17+Y17 -> 124 | F17: =SUM(G17:X17) -> 124 | G17: 0 | H17: 0 | I17: 0 | J17: 31 | K17: 0 | L17: 0 | M17: 0 | N17: 0 | O17: 31 | P17: 0 | Q17: 0 | R17: 0 | S17: 31 | T17: 0 | U17: 0 | V17: 0 | W17: 31 | X17: 0 | Y17: =SUM(Z17:AD17) -> 0 | Z17: 0 | AA17: 0 | AB17: 0 | AC17: 0 | AD17: 0
A18: 7. | B18: Kopējais summētais darba dienu skaits pārskata mēnesī | C18: x | D18: x | E18: =F18+Y18 -> 92 | F18: =SUM(G18:X18) -> 92 | G18: 0 | H18: 0 | I18: 0 | J18: 23 | K18: 0 | L18: 0 | M18: 0 | N18: 0 | O18: 23 | P18: 0 | Q18: 0 | R18: 0 | S18: 23 | T18: 0 | U18: 0 | V18: 0 | W18: 23 | X18: 0 | Y18: =SUM(Z18:AD18) -> 0 | Z18: 0 | AA18: 0 | AB18: 0 | AC18: 0 | AD18: 0
A19: 8. | B19: Pedagogu darba samaksa profesionālās izglītības iestādes | C19: 257 | D19: =C19/C5 -> 11.173913 | E19: =F19+Y19 -> 325.02 | F19: =SUM(G19:X19) -> 325.02 | G19: 0 | H19: 0 | I19: 0 | J19: 257 | K19: 0 | L19: 0 | M19: 0 | N19: 0 | O19: 0 | P19: 0 | Q19: 0 | R19: 0 | S19: 68.02 | T19: 0 | U19: 0 | V19: 0 | W19: 0 | X19: 0 | Y19: =SUM(Z19:AD19) -> 0 | Z19: 0 | AA19: 0 | AB19: 0 | AC19: 0 | AD19: 0
A20: 9. | B20: Vienreizēja palīdzība mācību līdzekļu nodrošināšanai VIIS unikāli pirmreizēji reģistrētam izglītojamajam | C20: 50 | D20: x | E20: =F20+Y20 -> 0 | F20: =SUM(G20:X20) -> 0 | G20: 0 | H20: 0 | I20: 0 | J20: 0 | K20: 0 | L20: 0 | M20: 0 | N20: 0 | O20: 0 | P20: 0 | Q20: 0 | R20: 0 | S20: 0 | T20: 0 | U20: 0 | V20: 0 | W20: 0 | X20: 0 | Y20: =SUM(Z20:AD20) -> 0 | Z20: 0 | AA20: 0 | AB20: 0 | AC20: 0 | AD20: 0
A21: 10. | B21: Stipendija (mēnesī) | C21: 15 | D21: =C21/C4 -> 0.48387097 | E21: =F21+Y21 -> 30 | F21: =SUM(G21:X21) -> 30 | G21: 0 | H21: 0 | I21: 0 | J21: 15 | K21: 0 | L21: 0 | M21: 0 | N21: 0 | O21: 15 | P21: 0 | Q21: 0 | R21: 0 | S21: 0 | T21: 0 | U21: 0 | V21: 0 | W21: 0 | X21: 0 | Y21: =SUM(Z21:AD21) -> 0 | Z21: 0 | AA21: 0 | AB21: 0 | AC21: 0 | AD21: 0
A22: 11. | B22: Uzturēšanas izmaksas (vidējās izmaksas uz vienu izglītojamo): | C22: =SUM(C23:C24) -> 184.4 | D22: x | E22: =F22+Y22 -> 76.08 | F22: =SUM(G22:X22) -> 76.08 | G22: =G23+G24 -> 0 | H22: =H23+H24 -> 0 | I22: =I23+I24 -> 0 | J22: =J23+J24 -> 76.08 | K22: =K23+K24 -> 0 | L22: =L23+L24 -> 0 | M22: =M23+M24 -> 0 | N22: =N23+N24 -> 0 | ... X22: =X23+X24 -> 0 | Y22: =SUM(Z22:AD22) -> 0 | Z22: =Z23+Z24 -> 0 | AA22: =AA23+AA24 -> 0 | AB22: =AB23+AB24 -> 0 | AC22: =AC23+AC24 -> 0 | AD22: =AD23+AD24 -> 0
A23: 11.1. | B23: Profesionālās vidējās izglītības programmas īstenošanai | C23: 76.08 | D23: =C23/C4 -> 2.4541935 | E23: =F23+Y23 -> 76.08 | F23: =SUM(G23:X23) -> 76.08 | G23: 0 | H23: 0 | I23: 0 | J23: 76.08 | K23: 0 | L23: 0 | M23: 0 | N23: 0 | O23: 0 | P23: 0 | Q23: 0 | R23: 0 | S23: 0 | T23: 0 | U23: 0 | V23: 0 | W23: 0 | X23: 0 | Y23: =SUM(Z23:AD23) -> 0 | Z23: 0 | AA23: 0 | AB23: 0 | AC23: 0 | AD23: 0
A24: 11.2. | B24: Izglītības tematiskā joma "Mākslas" | C24: 108.32 | D24: =C24/C4 -> 3.4941935 | E24: =F24+Y24 -> 0 | F24: =SUM(G24:X24) -> 0 | G24: 0 | H24: 0 | I24: 0 | J24: 0 | K24: 0 | L24: 0 | M24: 0 | N24: 0 | O24: 0 | P24: 0 | Q24: 0 | R24: 0 | S24: 0 | T24: 0 | U24: 0 | V24: 0 | W24: 0 | X24: 0 | Y24: =SUM(Z24:AD24) -> 0 | Z24: 0 | AA24: 0 | AB24: 0 | AC24: 0 | AD24: 0
A25: Kopā | E25: =F25+Y25 -> 3943.9552 | F25: =SUM(G25:X25) -> 3429.9552 | G25: =G13+G19+G20+G21+G22 -> 0 | H25: =H13+H19+H20+H21+H22 -> 135.05 | I25: =I13+I19+I20+I21+I22 -> 128.5 | J25: =J13+J19+J20+J21+J22 -> 862.08 | K25: =K13+K19+K20+K21+K22 -> 100.57 | L25: =L13+L19+L20+L21+L22 -> 0 | M25: =M13+M19+M20+M21+M22 -> 0 | N25: =N13+N19+N20+N21+N22 -> 128.06 | ... X25: =X13+X19+X20+X21+X22 -> 128.5 | Y25: =SUM(Z25:AD25) -> 514 | Z25: =Z13+Z19+Z20+Z21+Z22 -> 128.5 | AA25: =AA13+AA19+AA20+AA21+AA22 -> 257 | AB25: =AB13+AB19+AB20+AB21+AB22 -> 0 | AC25: =AC13+AC19+AC20+AC21+AC22 -> 128.5 | AD25: =AD13+AD19+AD20+AD21+AD22 -> 0
A27: * Izdevumu pozīcijai "Pedagogu darba samaksa profesionālās izglītības iestādes" - vienas darba dienas izmaksa, izdevumu pozīcijām "Stipedijas" un "Uzturēšanas izmaksas"- vienas kalendārās dienas izmaksa.
A28: ** Ja izglītības iestādes norādītie faktiskie izdevumi pārsniedz maksimālo iespējamo izdevumu kompensācijas apmēru, norādīts maksimālais iespējamais izdevumu kompensācijas apmērs.

Sheet Aprilis
A1: Sagatavots saskaņā ar Ukrainas civiliedzīvotāju atbalsta likumu | C1: PROF Aprīlis
C2: Pārskats par finansējuma pieprasījumu Ukrainas civiliedzīvotāju izglītības nodrošināšanai
B4: Kalendāro dienu skaits mēnesī | C4: 30
B5: Darba dienu skaits mēnesī | C5: 18
A7: Nr.p.k. | B7: Rādītāja nosaukums | C7: Maksimālais iespējamais izdevumu kompensācijas apmērs, euro | D7: Pedagogu darba samaksas un papildus profesionālo izglītības iestāžu izmaksas uz vienu izglītojamo pārskata mēneša vienai dienai* | E7: Faktiskie izdevumi pārskata mēnesī**, euro
E8: Kopā | F8: Dibinātājs - Izglītības un zinātnes ministrija | Y8: Dibinātājs - Kultūras ministrija
F9: Kopā IZM | G9: =Kopsavilkums!G7 -> Daugavpis tehnoloģiju un tūrisma tehnikums | H9: =Kopsavilkums!H7 -> Jelgavas tehnikums | I9: =Kopsavilkums!I7 -> Kandavas Lauksaimniecības tehnikums | J9: =Kopsavilkums!J7 -> Kuldīgas Tehnoloģiju un tūrisma tehnikums | K9: =Kopsavilkums!K7 -> Latgales industriālais tehnikums | L9: =Kopsavilkums!L7 -> RTU Latvijas Jūras akadēmijas Jūrskola | M9: =Kopsavilkums!M7 -> Ogres tehnikums | N9: =Kopsavilkums!N7 -> Liepājas Valsts tehnikums | ... AD9: =Kopsavilkums!AD7 -> Alfrēda Kalniņa Cēsu Mūzikas vidusskola
A10: Ukrainas civiliedzīvotāji, kuri uz 2022. gada 1. septembri (t.sk. citā izglītības iestādē) ir reģistrēti Valsts izglītības informācijas sistēmā ar apakšstatusu "Ukrainas civiliedzīvotājs"
A11: 1. | B11: Unikālais izglītojamo skaits pārskata mēnesī ar VIIS reģistrēto apakšstatusu "Ukrainas civiliedzīvotājs" | C11: x | D11: x | E11: =F11+Y11 -> 62 | F11: =SUM(G11:X11) -> 56 | G11: 1 | H11: 2 | I11: 1 | J11: 4 | K11: 1 | L11: 1 | M11: 6 | N11: 1 | O11: 4 | P11: 5 | Q11: 3 | R11: 11 | S11: 0 | T11: 1 | U11: 4 | V11: 8 | W11: 2 | X11: 1 | Y11: =SUM(Z11:AD11) -> 6 | Z11: 1 | AA11: 2 | AB11: 2 | AC11: 1 | AD11: 0
A12: 2. | B12: Kopējais summētais darba dienu skaits pārskata mēnesī | C12: x | D12: x | E12: =F12+Y12 -> 1073 | F12: =SUM(G12:X12) -> 1001 | G12: 18 | H12: 36 | I12: 18 | J12: 72 | K12: 18 | L12: 18 | M12: 108 | N12: 18 | O12: 66 | P12: 90 | Q12: 54 | R12: 198 | S12: 0 | T12: 18 | U12: 72 | V12: 143 | W12: 36 | X12: 18 | Y12: =SUM(Z12:AD12) -> 72 | Z12: 18 | AA12: 36 | AB12: 0 | AC12: 18 | AD12: 0
A13: 3. | B13: Pedagogu darba samaksa profesionālās izglītības iestādes | C13: =257/2 -> 128.5 | D13: =C13/C5 -> 7.1388889 | E13: =F13+Y13 -> 3746.7711 | F13: =SUM(G13:X13) -> 3232.7711 | G13: 0 | H13: 209.73 | I13: 128.5 | J13: 514 | K13: 99.94 | L13: 0 | M13: 0 | N13: 119.01 | O13: 369.73 | P13: 0 | Q13: 0 | R13: 0 | S13: 0 | T13: 128.5 | U13: 514 | V13: 1020.8611 | W13: 0 | X13: 128.5 | Y13: =SUM(Z13:AD13) -> 514 | Z13: 128.5 | AA13: 257 | AB13: 0 | AC13: 128.5 | AD13: 0
A14: Ukrainas civiliedzīvotāji septembrī, kuri pēc 2022. gada 1. septembra ir reģistrēti Valsts izglītības informācijas sistēmā ar apakšstatusu "Ukrainas civiliedzīvotājs"
A15: 4. | B15: Unikālais izglītojamo skaits pārskata mēnesī ar VIIS reģistrēto apakšstatusu "Ukrainas civiliedzīvotājs" | C15: x | D15: x | E15: =F15+Y15 -> 4 | F15: =SUM(G15:X15) -> 4 | G15: 0 | H15: 0 | I15: 0 | J15: 1 | K15: 0 | L15: 0 | M15: 0 | N15: 0 | O15: 1 | P15: 0 | Q15: 0 | R15: 0 | S15: 1 | T15: 0 | U15: 0 | V15: 0 | W15: 1 | X15: 0 | Y15: =SUM(Z15:AD15) -> 0 | Z15: 0 | AA15: 0 | AB15: 0 | AC15: 0 | AD15: 0
A16: 5. | B16: Pirmreizēji VIIS reģistrēto izglītojamo skaits pārskata mēnesī ar apakšstatusu "Ukrainas civiliedzīvotājs" | C16: x | D16: x | E16: =F16+Y16 -> 0 | F16: =SUM(G16:X16) -> 0 | G16: 0 | H16: 0 | I16: 0 | J16: 0 | K16: 0 | L16: 0 | M16: 0 | N16: 0 | O16: 0 | P16: 0 | Q16: 0 | R16: 0 | S16: 0 | T16: 0 | U16: 0 | V16: 0 | W16: 0 | X16: 0 | Y16: =SUM(Z16:AD16) -> 0 | Z16: 0 | AA16: 0 | AB16: 0 | AC16: 0 | AD16: 0
A17: 6. | B17: Kopējais summētais kalendāro dienu skaits pārskata mēnesī | C17: x | D17: x | E17: =F17+Y17 -> 120 | F17: =SUM(G17:X17) -> 120 | G17: 0 | H17: 0 | I17: 0 | J17: 30 | K17: 0 | L17: 0 | M17: 0 | N17: 0 | O17: 30 | P17: 0 | Q17: 0 | R17: 0 | S17: 30 | T17: 0 | U17: 0 | V17: 0 | W17: 30 | X17: 0 | Y17: =SUM(Z17:AD17) -> 0 | Z17: 0 | AA17: 0 | AB17: 0 | AC17: 0 | AD17: 0
A18: 7. | B18: Kopējais summētais darba dienu skaits pārskata mēnesī | C18: x | D18: x | E18: =F18+Y18 -> 72 | F18: =SUM(G18:X18) -> 72 | G18: 0 | H18: 0 | I18: 0 | J18: 18 | K18: 0 | L18: 0 | M18: 0 | N18: 0 | O18: 18 | P18: 0 | Q18: 0 | R18: 0 | S18: 18 | T18: 0 | U18: 0 | V18: 0 | W18: 18 | X18: 0 | Y18: =SUM(Z18:AD18) -> 0 | Z18: 0 | AA18: 0 | AB18: 0 | AC18: 0 | AD18: 0
A19: 8. | B19: Pedagogu darba samaksa profesionālās izglītības iestādes | C19: 257 | D19: =C19/C5 -> 14.277778 | E19: =F19+Y19 -> 404.61 | F19: =SUM(G19:X19) -> 404.61 | G19: 0 | H19: 0 | I19: 0 | J19: 257 | K19: 0 | L19: 0 | M19: 0 | N19: 0 | O19: 82.35 | P19: 0 | Q19: 0 | R19: 0 | S19: 65.26 | T19: 0 | U19: 0 | V19: 0 | W19: 0 | X19: 0 | Y19: =SUM(Z19:AD19) -> 0 | Z19: 0 | AA19: 0 | AB19: 0 | AC19: 0 | AD19: 0
A20: 9. | B20: Vienreizēja palīdzība mācību līdzekļu nodrošināšanai VIIS unikāli pirmreizēji reģistrētam izglītojamajam | C20: 50 | D20: x | E20: =F20+Y20 -> 0 | F20: =SUM(G20:X20) -> 0 | G20: 0 | H20: 0 | I20: 0 | J20: 0 | K20: 0 | L20: 0 | M20: 0 | N20: 0 | O20: 0 | P20: 0 | Q20: 0 | R20: 0 | S20: 0 | T20: 0 | U20: 0 | V20: 0 | W20: 0 | X20: 0 | Y20: =SUM(Z20:AD20) -> 0 | Z20: 0 | AA20: 0 | AB20: 0 | AC20: 0 | AD20: 0
A21: 10. | B21: Stipendija (mēnesī) | C21: 15 | D21: =C21/C4 -> 0.5 | E21: =F21+Y21 -> 30 | F21: =SUM(G21:X21) -> 30 | G21: 0 | H21: 0 | I21: 0 | J21: 15 | K21: 0 | L21: 0 | M21: 0 | N21: 0 | O21: 15 | P21: 0 | Q21: 0 | R21: 0 | S21: 0 | T21: 0 | U21: 0 | V21: 0 | W21: 0 | X21: 0 | Y21: =SUM(Z21:AD21) -> 0 | Z21: 0 | AA21: 0 | AB21: 0 | AC21: 0 | AD21: 0
A22: 11. | B22: Uzturēšanas izmaksas (vidējās izmaksas uz vienu izglītojamo): | C22: =SUM(C23:C24) -> 184.4 | D22: x | E22: =F22+Y22 -> 76.08 | F22: =SUM(G22:X22) -> 76.08 | G22: =G23+G24 -> 0 | H22: =H23+H24 -> 0 | I22: =I23+I24 -> 0 | J22: =J23+J24 -> 76.08 | K22: =K23+K24 -> 0 | L22: =L23+L24 -> 0 | M22: =M23+M24 -> 0 | N22: =N23+N24 -> 0 | ... X22: =X23+X24 -> 0 | Y22: =SUM(Z22:AD22) -> 0 | Z22: =Z23+Z24 -> 0 | AA22: =AA23+AA24 -> 0 | AB22: =AB23+AB24 -> 0 | AC22: =AC23+AC24 -> 0 | AD22: =AD23+AD24 -> 0
A23: 11.1. | B23: Profesionālās vidējās izglītības programmas īstenošanai | C23: 76.08 | D23: =C23/C4 -> 2.536 | E23: =F23+Y23 -> 76.08 | F23: =SUM(G23:X23) -> 76.08 | G23: 0 | H23: 0 | I23: 0 | J23: 76.08 | K23: 0 | L23: 0 | M23: 0 | N23: 0 | O23: 0 | P23: 0 | Q23: 0 | R23: 0 | S23: 0 | T23: 0 | U23: 0 | V23: 0 | W23: 0 | X23: 0 | Y23: =SUM(Z23:AD23) -> 0 | Z23: 0 | AA23: 0 | AB23: 0 | AC23: 0 | AD23: 0
A24: 11.2. | B24: Izglītības tematiskā joma "Mākslas" | C24: 108.32 | D24: =C24/C4 -> 3.6106667 | E24: =F24+Y24 -> 0 | F24: =SUM(G24:X24) -> 0 | G24: 0 | H24: 0 | I24: 0 | J24: 0 | K24: 0 | L24: 0 | M24: 0 | N24: 0 | O24: 0 | P24: 0 | Q24: 0 | R24: 0 | S24: 0 | T24: 0 | U24: 0 | V24: 0 | W24: 0 | X24: 0 | Y24: =SUM(Z24:AD24) -> 0 | Z24: 0 | AA24: 0 | AB24: 0 | AC24: 0 | AD24: 0
A25: Kopā | E25: =F25+Y25 -> 4257.4611 | F25: =SUM(G25:X25) -> 3743.4611 | G25: =G13+G19+G20+G21+G22 -> 0 | H25: =H13+H19+H20+H21+H22 -> 209.73 | I25: =I13+I19+I20+I21+I22 -> 128.5 | J25: =J13+J19+J20+J21+J22 -> 862.08 | K25: =K13+K19+K20+K21+K22 -> 99.94 | L25: =L13+L19+L20+L21+L22 -> 0 | M25: =M13+M19+M20+M21+M22 -> 0 | N25: =N13+N19+N20+N21+N22 -> 119.01 | ... X25: =X13+X19+X20+X21+X22 -> 128.5 | Y25: =SUM(Z25:AD25) -> 514 | Z25: =Z13+Z19+Z20+Z21+Z22 -> 128.5 | AA25: =AA13+AA19+AA20+AA21+AA22 -> 257 | AB25: =AB13+AB19+AB20+AB21+AB22 -> 0 | AC25: =AC13+AC19+AC20+AC21+AC22 -> 128.5 | AD25: =AD13+AD19+AD20+AD21+AD22 -> 0
A27: * Izdevumu pozīcijai "Pedagogu darba samaksa profesionālās izglītības iestādes" - vienas darba dienas izmaksa, izdevumu pozīcijām "Stipedijas" un "Uzturēšanas izmaksas"- vienas kalendārās dienas izmaksa.
A28: ** Ja izglītības iestādes norādītie faktiskie izdevumi pārsniedz maksimālo iespējamo izdevumu kompensācijas apmēru, norādīts maksimālais iespējamais izdevumu kompensācijas apmērs.

Sheet Maijs
A1: Sagatavots saskaņā ar Ukrainas civiliedzīvotāju atbalsta likumu | C1: PROF Maijs
C2: Pārskats par finansējuma pieprasījumu Ukrainas civiliedzīvotāju izglītības nodrošināšanai
B4: Kalendāro dienu skaits mēnesī | C4: 31
B5: Darba dienu skaits mēnesī | C5: 20
A7: Nr.p.k. | B7: Rādītāja nosaukums | C7: Maksimālais iespējamais izdevumu kompensācijas apmērs, euro | D7: Pedagogu darba samaksas un papildus profesionālo izglītības iestāžu izmaksas uz vienu izglītojamo pārskata mēneša vienai dienai* | E7: Faktiskie izdevumi pārskata mēnesī**, euro
E8: Kopā | F8: Dibinātājs - Izglītības un zinātnes ministrija | Y8: Dibinātājs - Kultūras ministrija
F9: Kopā IZM | G9: =Kopsavilkums!G7 -> Daugavpis tehnoloģiju un tūrisma tehnikums | H9: =Kopsavilkums!H7 -> Jelgavas tehnikums | I9: =Kopsavilkums!I7 -> Kandavas Lauksaimniecības tehnikums | J9: =Kopsavilkums!J7 -> Kuldīgas Tehnoloģiju un tūrisma tehnikums | K9: =Kopsavilkums!K7 -> Latgales industriālais tehnikums | L9: =Kopsavilkums!L7 -> RTU Latvijas Jūras akadēmijas Jūrskola | M9: =Kopsavilkums!M7 -> Ogres tehnikums | N9: =Kopsavilkums!N7 -> Liepājas Valsts tehnikums | ... AD9: =Kopsavilkums!AD7 -> Alfrēda Kalniņa Cēsu Mūzikas vidusskola
A10: Ukrainas civiliedzīvotāji, kuri uz 2022. gada 1. septembri (t.sk. citā izglītības iestādē) ir reģistrēti Valsts izglītības informācijas sistēmā ar apakšstatusu "Ukrainas civiliedzīvotājs"
A11: 1. | B11: Unikālais izglītojamo skaits pārskata mēnesī ar VIIS reģistrēto apakšstatusu "Ukrainas civiliedzīvotājs" | C11: x | D11: x | E11: =F11+Y11 -> 60 | F11: =SUM(G11:X11) -> 54 | G11: 1 | H11: 2 | I11: 1 | J11: 4 | K11: 1 | L11: 1 | M11: 6 | N11: 1 | O11: 3 | P11: 5 | Q11: 3 | R11: 11 | S11: 0 | T11: 1 | U11: 4 | V11: 7 | W11: 2 | X11: 1 | Y11: =SUM(Z11:AD11) -> 6 | Z11: 1 | AA11: 2 | AB11: 2 | AC11: 1 | AD11: 0
A12: 2. | B12: Kopējais summētais darba dienu skaits pārskata mēnesī | C12: x | D12: x | E12: =F12+Y12 -> 1138 | F12: =SUM(G12:X12) -> 1058 | G12: 20 | H12: 40 | I12: 20 | J12: 80 | K12: 20 | L12: 20 | M12: 120 | N12: 20 | O12: 60 | P12: 100 | Q12: 60 | R12: 220 | S12: 0 | T12: 20 | U12: 74 | V12: 140 | W12: 24 | X12: 20 | Y12: =SUM(Z12:AD12) -> 80 | Z12: 20 | AA12: 40 | AB12: 0 | AC12: 20 | AD12: 0
A13: 3. | B13: Pedagogu darba samaksa profesionālās izglītības iestādes | C13: =257/2 -> 128.5 | D13: =C13/C5 -> 6.425 | E13: =F13+Y13 -> 3444.23 | F13: =SUM(G13:X13) -> 2930.23 | G13: 0 | H13: 115.68 | I13: 128.5 | J13: 514 | K13: 109.23 | L13: 0 | M13: 0 | N13: 120.5 | O13: 310.37 | P13: 0 | Q13: 0 | R13: 0 | S13: 0 | T13: 128.5 | U13: 475.45 | V13: 899.5 | W13: 0 | X13: 128.5 | Y13: =SUM(Z13:AD13) -> 514 | Z13: 128.5 | AA13: 257 | AB13: 0 | AC13: 128.5 | AD13: 0
A14: Ukrainas civiliedzīvotāji septembrī, kuri pēc 2022. gada 1. septembra ir reģistrēti Valsts izglītības informācijas sistēmā ar apakšstatusu "Ukrainas civiliedzīvotājs"
A15: 4. | B15: Unikālais izglītojamo skaits pārskata mēnesī ar VIIS reģistrēto apakšstatusu "Ukrainas civiliedzīvotājs" | C15: x | D15: x | E15: =F15+Y15 -> 4 | F15: =SUM(G15:X15) -> 4 | G15: 0 | H15: 0 | I15: 0 | J15: 1 | K15: 0 | L15: 0 | M15: 0 | N15: 0 | O15: 1 | P15: 0 | Q15: 0 | R15: 0 | S15: 1 | T15: 0 | U15: 0 | V15: 0 | W15: 1 | X15: 0 | Y15: =SUM(Z15:AD15) -> 0 | Z15: 0 | AA15: 0 | AB15: 0 | AC15: 0 | AD15: 0
A16: 5. | B16: Pirmreizēji VIIS reģistrēto izglītojamo skaits pārskata mēnesī ar apakšstatusu "Ukrainas civiliedzīvotājs" | C16: x | D16: x | E16: =F16+Y16 -> 0 | F16: =SUM(G16:X16) -> 0 | G16: 0 | H16: 0 | I16: 0 | J16: 0 | K16: 0 | L16: 0 | M16: 0 | N16: 0 | O16: 0 | P16: 0 | Q16: 0 | R16: 0 | S16: 0 | T16: 0 | U16: 0 | V16: 0 | W16: 0 | X16: 0 | Y16: =SUM(Z16:AD16) -> 0 | Z16: 0 | AA16: 0 | AB16: 0 | AC16: 0 | AD16: 0
A17: 6. | B17: Kopējais summētais kalendāro dienu skaits pārskata mēnesī | C17: x | D17: x | E17: =F17+Y17 -> 124 | F17: =SUM(G17:X17) -> 124 | G17: 0 | H17: 0 | I17: 0 | J17: 31 | K17: 0 | L17: 0 | M17: 0 | N17: 0 | O17: 31 | P17: 0 | Q17: 0 | R17: 0 | S17: 31 | T17: 0 | U17: 0 | V17: 0 | W17: 31 | X17: 0 | Y17: =SUM(Z17:AD17) -> 0 | Z17: 0 | AA17: 0 | AB17: 0 | AC17: 0 | AD17: 0
A18: 7. | B18: Kopējais summētais darba dienu skaits pārskata mēnesī | C18: x | D18: x | E18: =F18+Y18 -> 80 | F18: =SUM(G18:X18) -> 80 | G18: 0 | H18: 0 | I18: 0 | J18: 20 | K18: 0 | L18: 0 | M18: 0 | N18: 0 | O18: 20 | P18: 0 | Q18: 0 | R18: 0 | S18: 20 | T18: 0 | U18: 0 | V18: 0 | W18: 20 | X18: 0 | Y18: =SUM(Z18:AD18) -> 0 | Z18: 0 | AA18: 0 | AB18: 0 | AC18: 0 | AD18: 0
A19: 8. | B19: Pedagogu darba samaksa profesionālās izglītības iestādes | C19: 257 | D19: =C19/C5 -> 12.85 | E19: =F19+Y19 -> 359.68 | F19: =SUM(G19:X19) -> 359.68 | G19: 0 | H19: 0 | I19: 0 | J19: 257 | K19: 0 | L19: 0 | M19: 0 | N19: 0 | O19: 63.53 | P19: 0 | Q19: 0 | R19: 0 | S19: 39.15 | T19: 0 | U19: 0 | V19: 0 | W19: 0 | X19: 0 | Y19: =SUM(Z19:AD19) -> 0 | Z19: 0 | AA19: 0 | AB19: 0 | AC19: 0 | AD19: 0
A20: 9. | B20: Vienreizēja palīdzība mācību līdzekļu nodrošināšanai VIIS unikāli pirmreizēji reģistrētam izglītojamajam | C20: 50 | D20: x | E20: =F20+Y20 -> 0 | F20: =SUM(G20:X20) -> 0 | G20: 0 | H20: 0 | I20: 0 | J20: 0 | K20: 0 | L20: 0 | M20: 0 | N20: 0 | O20: 0 | P20: 0 | Q20: 0 | R20: 0 | S20: 0 | T20: 0 | U20: 0 | V20: 0 | W20: 0 | X20: 0 | Y20: =SUM(Z20:AD20) -> 0 | Z20: 0 | AA20: 0 | AB20: 0 | AC20: 0 | AD20: 0
A21: 10. | B21: Stipendija (mēnesī) | C21: 15 | D21: =C21/C4 -> 0.48387097 | E21: =F21+Y21 -> 15 | F21: =SUM(G21:X21) -> 15 | G21: 0 | H21: 0 | I21: 0 | J21: 15 | K21: 0 | L21: 0 | M21: 0 | N21: 0 | O21: 0 | P21: 0 | Q21: 0 | R21: 0 | S21: 0 | T21: 0 | U21: 0 | V21: 0 | W21: 0 | X21: 0 | Y21: =SUM(Z21:AD21) -> 0 | Z21: 0 | AA21: 0 | AB21: 0 | AC21: 0 | AD21: 0
A22: 11. | B22: Uzturēšanas izmaksas (vidējās izmaksas uz vienu izglītojamo): | C22: =SUM(C23:C24) -> 184.4 | D22: x | E22: =F22+Y22 -> 76.08 | F22: =SUM(G22:X22) -> 76.08 | G22: =G23+G24 -> 0 | H22: =H23+H24 -> 0 | I22: =I23+I24 -> 0 | J22: =J23+J24 -> 76.08 | K22: =K23+K24 -> 0 | L22: =L23+L24 -> 0 | M22: =M23+M24 -> 0 | N22: =N23+N24 -> 0 | ... X22: =X23+X24 -> 0 | Y22: =SUM(Z22:AD22) -> 0 | Z22: =Z23+Z24 -> 0 | AA22: =AA23+AA24 -> 0 | AB22: =AB23+AB24 -> 0 | AC22: =AC23+AC24 -> 0 | AD22: =AD23+AD24 -> 0
A23: 11.1. | B23: Profesionālās vidējās izglītības programmas īstenošanai | C23: 76.08 | D23: =C23/C4 -> 2.4541935 | E23: =F23+Y23 -> 76.08 | F23: =SUM(G23:X23) -> 76.08 | G23: 0 | H23: 0 | I23: 0 | J23: 76.08 | K23: 0 | L23: 0 | M23: 0 | N23: 0 | O23: 0 | P23: 0 | Q23: 0 | R23: 0 | S23: 0 | T23: 0 | U23: 0 | V23: 0 | W23: 0 | X23: 0 | Y23: =SUM(Z23:AD23) -> 0 | Z23: 0 | AA23: 0 | AB23: 0 | AC23: 0 | AD23: 0
A24: 11.2. | B24: Izglītības tematiskā joma "Mākslas" | C24: 108.32 | D24: =C24/C4 -> 3.4941935 | E24: =F24+Y24 -> 0 | F24: =SUM(G24:X24) -> 0 | G24: 0 | H24: 0 | I24: 0 | J24: 0 | K24: 0 | L24: 0 | M24: 0 | N24: 0 | O24: 0 | P24: 0 | Q24: 0 | R24: 0 | S24: 0 | T24: 0 | U24: 0 | V24: 0 | W24: 0 | X24: 0 | Y24: =SUM(Z24:AD24) -> 0 | Z24: 0 | AA24: 0 | AB24: 0 | AC24: 0 | AD24: 0
A25: Kopā | E25: =F25+Y25 -> 3894.99 | F25: =SUM(G25:X25) -> 3380.99 | G25: =G13+G19+G20+G21+G22 -> 0 | H25: =H13+H19+H20+H21+H22 -> 115.68 | I25: =I13+I19+I20+I21+I22 -> 128.5 | J25: =J13+J19+J20+J21+J22 -> 862.08 | K25: =K13+K19+K20+K21+K22 -> 109.23 | L25: =L13+L19+L20+L21+L22 -> 0 | M25: =M13+M19+M20+M21+M22 -> 0 | N25: =N13+N19+N20+N21+N22 -> 120.5 | ... X25: =X13+X19+X20+X21+X22 -> 128.5 | Y25: =SUM(Z25:AD25) -> 514 | Z25: =Z13+Z19+Z20+Z21+Z22 -> 128.5 | AA25: =AA13+AA19+AA20+AA21+AA22 -> 257 | AB25: =AB13+AB19+AB20+AB21+AB22 -> 0 | AC25: =AC13+AC19+AC20+AC21+AC22 -> 128.5 | AD25: =AD13+AD19+AD20+AD21+AD22 -> 0
A27: * Izdevumu pozīcijai "Pedagogu darba samaksa profesionālās izglītības iestādes" - vienas darba dienas izmaksa, izdevumu pozīcijām "Stipedijas" un "Uzturēšanas izmaksas"- vienas kalendārās dienas izmaksa.
A28: ** Ja izglītības iestādes norādītie faktiskie izdevumi pārsniedz maksimālo iespējamo izdevumu kompensācijas apmēru, norādīts maksimālais iespējamais izdevumu kompensācijas apmērs.

Sheet Junijs
A1: Sagatavots saskaņā ar Ukrainas civiliedzīvotāju atbalsta likumu | C1: PROF Jūnijs
C2: Pārskats par finansējuma pieprasījumu Ukrainas civiliedzīvotāju izglītības nodrošināšanai
B4: Kalendāro dienu skaits mēnesī | C4: 30
B5: Darba dienu skaits mēnesī | C5: 21
A7: Nr.p.k. | B7: Rādītāja nosaukums | C7: Maksimālais iespējamais izdevumu kompensācijas apmērs, euro | D7: Pedagogu darba samaksas un papildus profesionālo izglītības iestāžu izmaksas uz vienu izglītojamo pārskata mēneša vienai dienai* | E7: Faktiskie izdevumi pārskata mēnesī**, euro
E8: Kopā | F8: Dibinātājs - Izglītības un zinātnes ministrija | Y8: Dibinātājs - Kultūras ministrija
F9: Kopā IZM | G9: =Kopsavilkums!G7 -> Daugavpis tehnoloģiju un tūrisma tehnikums | H9: =Kopsavilkums!H7 -> Jelgavas tehnikums | I9: =Kopsavilkums!I7 -> Kandavas Lauksaimniecības tehnikums | J9: =Kopsavilkums!J7 -> Kuldīgas Tehnoloģiju un tūrisma tehnikums | K9: =Kopsavilkums!K7 -> Latgales industriālais tehnikums | L9: =Kopsavilkums!L7 -> RTU Latvijas Jūras akadēmijas Jūrskola | M9: =Kopsavilkums!M7 -> Ogres tehnikums | N9: =Kopsavilkums!N7 -> Liepājas Valsts tehnikums | ... AD9: =Kopsavilkums!AD7 -> Alfrēda Kalniņa Cēsu Mūzikas vidusskola
A10: Ukrainas civiliedzīvotāji, kuri uz 2022. gada 1. septembri (t.sk. citā izglītības iestādē) ir reģistrēti Valsts izglītības informācijas sistēmā ar apakšstatusu "Ukrainas civiliedzīvotājs"
A11: 1. | B11: Unikālais izglītojamo skaits pārskata mēnesī ar VIIS reģistrēto apakšstatusu "Ukrainas civiliedzīvotājs" | C11: x | D11: x | E11: =F11+Y11 -> 58 | F11: =SUM(G11:X11) -> 52 | G11: 1 | H11: 2 | I11: 1 | J11: 4 | K11: 1 | L11: 1 | M11: 6 | N11: 1 | O11: 3 | P11: 5 | Q11: 3 | R11: 11 | S11: 0 | T11: 1 | U11: 3 | V11: 7 | W11: 1 | X11: 1 | Y11: =SUM(Z11:AD11) -> 6 | Z11: 1 | AA11: 2 | AB11: 2 | AC11: 1 | AD11: 0
A12: 2. | B12: Kopējais summētais darba dienu skaits pārskata mēnesī | C12: x | D12: x | E12: =F12+Y12 -> 1136 | F12: =SUM(G12:X12) -> 1052 | G12: 21 | H12: 42 | I12: 21 | J12: 84 | K12: 21 | L12: 21 | M12: 109 | N12: 21 | O12: 63 | P12: 105 | Q12: 43 | R12: 231 | S12: 0 | T12: 21 | U12: 63 | V12: 144 | W12: 21 | X12: 21 | Y12: =SUM(Z12:AD12) -> 84 | Z12: 21 | AA12: 42 | AB12: 0 | AC12: 21 | AD12: 0
A13: 3. | B13: Pedagogu darba samaksa profesionālās izglītības iestādes | C13: =257/2 -> 128.5 | D13: =C13/C5 -> 6.1190476 | E13: =F13+Y13 -> 2991.3329 | F13: =SUM(G13:X13) -> 2477.3329 | G13: 0 | H13: 110.24 | I13: 128.5 | J13: 514 | K13: 73.43 | L13: 0 | M13: 0 | N13: 127.52 | O13: 0 | P13: 0 | Q13: 0 | R13: 0 | S13: 0 | T13: 128.5 | U13: 385.5 | V13: 881.14286 | W13: 0 | X13: 128.5 | Y13: =SUM(Z13:AD13) -> 514 | Z13: 128.5 | AA13: 257 | AB13: 0 | AC13: 128.5 | AD13: 0
A14: Ukrainas civiliedzīvotāji septembrī, kuri pēc 2022. gada 1. septembra ir reģistrēti Valsts izglītības informācijas sistēmā ar apakšstatusu "Ukrainas civiliedzīvotājs"
A15: 4. | B15: Unikālais izglītojamo skaits pārskata mēnesī ar VIIS reģistrēto apakšstatusu "Ukrainas civiliedzīvotājs" | C15: x | D15: x | E15: =F15+Y15 -> 4 | F15: =SUM(G15:X15) -> 4 | G15: 0 | H15: 0 | I15: 0 | J15: 1 | K15: 0 | L15: 0 | M15: 0 | N15: 0 | O15: 1 | P15: 0 | Q15: 0 | R15: 0 | S15: 1 | T15: 0 | U15: 0 | V15: 0 | W15: 1 | X15: 0 | Y15: =SUM(Z15:AD15) -> 0 | Z15: 0 | AA15: 0 | AB15: 0 | AC15: 0 | AD15: 0
A16: 5. | B16: Pirmreizēji VIIS reģistrēto izglītojamo skaits pārskata mēnesī ar apakšstatusu "Ukrainas civiliedzīvotājs" | C16: x | D16: x | E16: =F16+Y16 -> 0 | F16: =SUM(G16:X16) -> 0 | G16: 0 | H16: 0 | I16: 0 | J16: 0 | K16: 0 | L16: 0 | M16: 0 | N16: 0 | O16: 0 | P16: 0 | Q16: 0 | R16: 0 | S16: 0 | T16: 0 | U16: 0 | V16: 0 | W16: 0 | X16: 0 | Y16: =SUM(Z16:AD16) -> 0 | Z16: 0 | AA16: 0 | AB16: 0 | AC16: 0 | AD16: 0
A17: 6. | B17: Kopējais summētais kalendāro dienu skaits pārskata mēnesī | C17: x | D17: x | E17: =F17+Y17 -> 120 | F17: =SUM(G17:X17) -> 120 | G17: 0 | H17: 0 | I17: 0 | J17: 30 | K17: 0 | L17: 0 | M17: 0 | N17: 0 | O17: 30 | P17: 0 | Q17: 0 | R17: 0 | S17: 30 | T17: 0 | U17: 0 | V17: 0 | W17: 30 | X17: 0 | Y17: =SUM(Z17:AD17) -> 0 | Z17: 0 | AA17: 0 | AB17: 0 | AC17: 0 | AD17: 0
A18: 7. | B18: Kopējais summētais darba dienu skaits pārskata mēnesī | C18: x | D18: x | E18: =F18+Y18 -> 84 | F18: =SUM(G18:X18) -> 84 | G18: 0 | H18: 0 | I18: 0 | J18: 21 | K18: 0 | L18: 0 | M18: 0 | N18: 0 | O18: 21 | P18: 0 | Q18: 0 | R18: 0 | S18: 21 | T18: 0 | U18: 0 | V18: 0 | W18: 21 | X18: 0 | Y18: =SUM(Z18:AD18) -> 0 | Z18: 0 | AA18: 0 | AB18: 0 | AC18: 0 | AD18: 0
A19: 8. | B19: Pedagogu darba samaksa profesionālās izglītības iestādes | C19: 257 | D19: =C19/C5 -> 12.238095 | E19: =F19+Y19 -> 275.64 | F19: =SUM(G19:X19) -> 275.64 | G19: 0 | H19: 0 | I19: 0 | J19: 257 | K19: 0 | L19: 0 | M19: 0 | N19: 0 | O19: 0 | P19: 0 | Q19: 0 | R19: 0 | S19: 18.64 | T19: 0 | U19: 0 | V19: 0 | W19: 0 | X19: 0 | Y19: =SUM(Z19:AD19) -> 0 | Z19: 0 | AA19: 0 | AB19: 0 | AC19: 0 | AD19: 0
A20: 9. | B20: Vienreizēja palīdzība mācību līdzekļu nodrošināšanai VIIS unikāli pirmreizēji reģistrētam izglītojamajam | C20: 50 | D20: x | E20: =F20+Y20 -> 0 | F20: =SUM(G20:X20) -> 0 | G20: 0 | H20: 0 | I20: 0 | J20: 0 | K20: 0 | L20: 0 | M20: 0 | N20: 0 | O20: 0 | P20: 0 | Q20: 0 | R20: 0 | S20: 0 | T20: 0 | U20: 0 | V20: 0 | W20: 0 | X20: 0 | Y20: =SUM(Z20:AD20) -> 0 | Z20: 0 | AA20: 0 | AB20: 0 | AC20: 0 | AD20: 0
A21: 10. | B21: Stipendija (mēnesī)*** | C21: 15 | D21: =C21/C4 -> 0.5 | E21: =F21+Y21 -> 105 | F21: =SUM(G21:X21) -> 105 | G21: 0 | H21: 0 | I21: 0 | J21: 45 | K21: 0 | L21: 0 | M21: 0 | N21: 0 | O21: 45 | P21: 0 | Q21: 0 | R21: 0 | S21: 15 | T21: 0 | U21: 0 | V21: 0 | W21: 0 | X21: 0 | Y21: =SUM(Z21:AD21) -> 0 | Z21: 0 | AA21: 0 | AB21: 0 | AC21: 0 | AD21: 0
A22: 11. | B22: Uzturēšanas izmaksas (vidējās izmaksas uz vienu izglītojamo): | C22: =SUM(C23:C24) -> 184.4 | D22: x | E22: =F22+Y22 -> 76.08 | F22: =SUM(G22:X22) -> 76.08 | G22: =G23+G24 -> 0 | H22: =H23+H24 -> 0 | I22: =I23+I24 -> 0 | J22: =J23+J24 -> 76.08 | K22: =K23+K24 -> 0 | L22: =L23+L24 -> 0 | M22: =M23+M24 -> 0 | N22: =N23+N24 -> 0 | ... X22: =X23+X24 -> 0 | Y22: =SUM(Z22:AD22) -> 0 | Z22: =Z23+Z24 -> 0 | AA22: =AA23+AA24 -> 0 | AB22: =AB23+AB24 -> 0 | AC22: =AC23+AC24 -> 0 | AD22: =AD23+AD24 -> 0
A23: 11.1. | B23: Profesionālās vidējās izglītības programmas īstenošanai | C23: 76.08 | D23: =C23/C4 -> 2.536 | E23: =F23+Y23 -> 76.08 | F23: =SUM(G23:X23) -> 76.08 | G23: 0 | H23: 0 | I23: 0 | J23: 76.08 | K23: 0 | L23: 0 | M23: 0 | N23: 0 | O23: 0 | P23: 0 | Q23: 0 | R23: 0 | S23: 0 | T23: 0 | U23: 0 | V23: 0 | W23: 0 | X23: 0 | Y23: =SUM(Z23:AD23) -> 0 | Z23: 0 | AA23: 0 | AB23: 0 | AC23: 0 | AD23: 0
A24: 11.2. | B24: Izglītības tematiskā joma "Mākslas" | C24: 108.32 | D24: =C24/C4 -> 3.6106667 | E24: =F24+Y24 -> 0 | F24: =SUM(G24:X24) -> 0 | G24: 0 | H24: 0 | I24: 0 | J24: 0 | K24: 0 | L24: 0 | M24: 0 | N24: 0 | O24: 0 | P24: 0 | Q24: 0 | R24: 0 | S24: 0 | T24: 0 | U24: 0 | V24: 0 | W24: 0 | X24: 0 | Y24: =SUM(Z24:AD24) -> 0 | Z24: 0 | AA24: 0 | AB24: 0 | AC24: 0 | AD24: 0
A25: Kopā | E25: =F25+Y25 -> 3448.0529 | F25: =SUM(G25:X25) -> 2934.0529 | G25: =G13+G19+G20+G21+G22 -> 0 | H25: =H13+H19+H20+H21+H22 -> 110.24 | I25: =I13+I19+I20+I21+I22 -> 128.5 | J25: =J13+J19+J20+J21+J22 -> 892.08 | K25: =K13+K19+K20+K21+K22 -> 73.43 | L25: =L13+L19+L20+L21+L22 -> 0 | M25: =M13+M19+M20+M21+M22 -> 0 | N25: =N13+N19+N20+N21+N22 -> 127.52 | ... X25: =X13+X19+X20+X21+X22 -> 128.5 | Y25: =SUM(Z25:AD25) -> 514 | Z25: =Z13+Z19+Z20+Z21+Z22 -> 128.5 | AA25: =AA13+AA19+AA20+AA21+AA22 -> 257 | AB25: =AB13+AB19+AB20+AB21+AB22 -> 0 | AC25: =AC13+AC19+AC20+AC21+AC22 -> 128.5 | AD25: =AD13+AD19+AD20+AD21+AD22 -> 0
A27: * Izdevumu pozīcijai "Pedagogu darba samaksa profesionālās izglītības iestādes" - vienas darba dienas izmaksa, izdevumu pozīcijām "Stipedijas" un "Uzturēšanas izmaksas"- vienas kalendārās dienas izmaksa.
A28: ** Ja izglītības iestādes norādītie faktiskie izdevumi pārsniedz maksimālo iespējamo izdevumu kompensācijas apmēru, norādīts maksimālais iespējamais izdevumu kompensācijas apmērs.
A29: ***Ņemot vērā, ka par jūliju un augustu aprēķinātās un izmaksātās stipendijas jūnijā jānorāda izdevumos par jūnija mēnesi, maksimālais iespējamais izdevumu kompensācijas apmērs = 15 * 3=45 EUR. Savukārt, ailē "Kopējais summētais kalendāro dienu skaits pārskata mēnesī" kalendāro dienu skaits par jūliju un augustu nav iekļauts.
