Workbook

Sheet KOPĀ janvāris
E1: 4.pielikums
A2: Līdzekļu izlietojums par Ukrainas civiliedzīvotājiem sniegtajiem veselības aprūpes pakalpojumiem 2023.gada janvārī, euro
A3: Pakalpojumi | B3: Izdevumi 2023.gada janvārī | C3: EKK 3000 | D3: EKK 7460 | E3: Budžeta apakšprogramma
A4: Līdzekļu izlietojums ambulatorajai ārstēšanai paredzēto zāļu un medicīnisko ierīču iegādes izdevumu kompensācijai diagnožu grupu un diagnožu griezumā 135.pacientu grupai | B4: =C4 -> 13427.82 | C4: =MED!D19 -> 13427.82 | E4: 33.03.00
A5: Parenterālo C saraksta zāļu izlietojums | B5: =C5 -> 10866.946 | C5: ='Parent C saraksts'!F9+'Parent C saraksts'!N9 -> 10866.946 | E5: 33.03.00
A6: Centralizēta medikamentu un materiālu iegāde Ukrainas civiliedzīvotājiem (Fenilketonūrija,peritoneālā dialīze, redzes korekcija | B6: =C6 -> 5683.89 | C6: ='Centr.med'!D10 -> 5683.89 | E6: 33.04.00
A7: Centralizēti iepērkamo parenterāli ievadāmo zāļu onkoloģisko saslimšanu ārstēšanai izlietojums Ukrainas civiliedzīvotājiem | B7: =C7 -> 289.27 | C7: ='CM-parent.ONKO'!C8 -> 289.27 | E7: 33.04.00
A8: Insulīna ievadīšanas ierīču (insulīna sūkņu) un to piederumu (katetru un rezervuāru) izlietojums | B8: =C8 -> 868.56 | C8: =insul.!G6 -> 868.56 | E8: 33.18.00
A9: Medicīniskās palīdzības nodrošināšana stacionārās ārstniecības iestādēs | B9: =C9 -> 422664.94 | C9: =STAC!H183 -> 422664.94 | E9: 33.17.00
A10: Ukrainā cietušo transports | B10: =C10 -> 33.615745 | C10: =transports!G6 -> 33.615745 | E10: 33.18.00
A11: Līdzekļu izlietojums par Ukrainas civiliedzīvotājiem sniegtajiem ambulatorās veselības aprūpes pakalpojumiem | B11: =SUM(B12:B15) -> 195119.79 | C11: =SUM(C12:C15) -> 194559.6 | D11: =SUM(D12:D15) -> 560.19
A12: Primārās ambulatorās veselības aprūpes nodrošināšana | B12: =SUM(C12:D12) -> 50236.78 | C12: =PVA!K4 -> 49955.3 | D12: =PVA!L4 -> 281.48 | E12: 33.16.00
A13: Zobārstniecība | B13: =C13 -> 10083.29 | C13: =ZOB!I6 -> 10083.29 | E13: 33.14.00
A14: Laboratorisko izmeklējumu nodrošināšana ambulatorajā aprūpē | B14: =C14 -> 17095.09 | C14: =LAB!J3 -> 17095.09 | E14: 33.16.00
A15: Sekundāro ambulatoro veselības aprūpes pakalpojumu nodrošināšana | B15: =SUM(C15:D15) -> 117704.63 | C15: =SAVA!K5 -> 117425.92 | D15: =SAVA!L5 -> 278.71 | E15: 33.16.00
A16: KOPĀ | B16: =SUM(B4:B11) -> 648954.83 | C16: =SUM(C4:C11) -> 648394.64 | D16: =SUM(D4:D11) -> 560.19
A27: Primārās veselības aprūpes patēriņa koeficients
A28: Vecuma grupa
A31: Vecumā līdz 1 gadam
A32: 1 līdz 7 gadi
A33: 7 līdz 18 gadi
A34: 18 līdz 45 gadi
A35: 45 līdz 65 gadi
A36: 65 gadi un vecākas
A37: Vidējais
C40: =C4+C5 -> 24294.766 | D40: =C3 -> EKK 3000 | E40: 33.03.00
C41: =C6+C7 -> 5973.16 | D41: EKK 3000 | E41: 33.04.00
C42: =C13 -> 10083.29 | D42: EKK 3000 | E42: 33.14.00
C43: =C15+C12+C14 -> 184476.31 | D43: EKK 3000 | E43: 33.16.00
C44: =D15+D12 -> 560.19 | D44: EKK 7460
C45: =C9 -> 422664.94 | D45: EKK 3000 | E45: 33.17.00
C46: =C10+C8 -> 902.17575 | D46: EKK 3000 | E46: 33.18.00
C49: =C44 -> 560.19 | D49: =D44 -> EKK 7460
C50: =C46+C45+C43+C42+C41+C40 -> 648394.64 | D50: =D45 -> EKK 3000
C51: =C50+C49 -> 648954.83 | D51: pavisam kopā

Sheet MED
A1: Līdzekļu izlietojums ambulatorajai ārstēšanai paredzēto zāļu un medicīnisko ierīču iegādes izdevumu kompensācijai diagnožu grupu un diagnožu griezumā 135.pacientu grupai
A2: Periods - 2023.gada JANVĀRIS
A3: "135 - Ukrainas iedzīvotājs, kurš izceļo no Ukrainas saistībā ar Krievijas Federācijas izraisīto militāro konfliktu tajā, vai kurš atrodas Latvijas Republikā un nevar atgriezties Ukrainā minētā konflikta laikā."
A4: RINDAS_NUM | B4: RINDAS_NOSAUKUMS | C4: DIAGNOZES | D4: SUMMA
A5: 1. | B5: Acu un to palīgorgānu slimības | C5: H10; H40; | D5: 29.87
A6: 2. | B6: Ausu un aizauss paugura slimības | C6: H65; | D6: 4.96
A7: 4. | B7: Asinsrites sistēmas slimības | C7: I00; I01; I02; I05; I06-I10; I11-I13; I15; I20-I21; I25; I27; I42; I47-I48; I50; I60; I61; I63; I67; I70 | D7: 943.22
A8: 5. | B8: Audzēji | C8: C00-C14; C15-C26; C30-C39; C40-C41; C43-C44; C45-C49; C50; C51-C58; C60-C63; C64-C68; C69-C72; C73-C75; C76-C80; C81-C96; C97; D37-D48; | D8: 5180.66
A9: 6. | B9: Ādas un zemādas audu slimības | C9: L10; L13; L20; L27; L40; L50.8 | D9: 14.84
A10: 7. | B10: Elpošanas sistēmas slimības | C10: J00; J02; J04; J06; J11; J15; J16; J18; J20; J44; J45; J47; J67; J84; J99; | D10: 184.04
A11: 8. | B11: Endokrīnās, uztures un vielmaiņas slimības | C11: E03; E05; E10; E11; E13; E20; E22; E23; E25; E27; E30; E34; E55; E78; E83; E84; E89;E28.3 | D11: 1727.92
A12: 9. | B12: Gremošanas sistēmas slimības | C12: K25; K26; K27; K28; K50; K51; K71; K73; K74; K91; K86.1; | D12: 219.89
A13: 10. | B13: Infekcijas un parazitāras slimības | C13: A51; B17.1; B18; B02.2; B20.0-B20.9; B21.0-B21.3; B21.7-B21.9; B22.0-B22.2; B22.7; B23.0-B23.2; B23.8; B24; B67; B69 | D13: 1559.19
A14: 11. | B14: Skeleta, muskuļu un saistaudu slimības | C14: M02.3; M02.8; M05.0; M05.1; M05.2; M05.3; M05.8; M06.0; M06.4; M06.8; M07.0; M07.1; M07.2; M07.3; M08.0; M08.1; M08.2; M08.3; M08.4; M08.8; M08.9; M30.0; M30.1; M30.2; M30.3; M31.3; M31.4; M31.5; M32.0; M32.1; M32.8; M33.0; M33.1; M33.2; M34.0; M34.1; M34.2; M34.8; M35.0; M35.1; M35.3; M35.6; M45; M46.1; M47.0; M47.1; M80.0; M80.1; M80.2; M80.3; M80.4; M80.5; M80.8; M80.9; M81.0; M81.1; M81.2; M81.3; M81.4; M81.5; M81.6; M81.8; M81.9; M82.0; M82.1; M82.8 | D14: 15.7
A15: 14. | B15: Nervu sistēmas slimības | C15: G20;G21;G22;G35; G40.0; G40.1; G40.2; G40.3; G40.4; G40.5; G40.6; G40.7; G40.8; G45.0; G45.1; G45.2; G45.3; G45.4; G45.8; G45.9; G70.0; G70.1; G70.2; G70.8; G71.2; G80.0; G80.1; G80.2; G80.3; G80.4; G80.8; G10; G11.0; G11.1; G11.2; G11.3; G11.4; G11.8; G11.9; G12.2; G24.0; G24.1; G24.2; G24.3; G24.4; G24.5; G24.8; G24.9; G30.0; G30.1; G30.8; G30.9; G50.0; G50.1; G50.8; G50.9; G54.0; G54.1; G54.5; G54.6; G56.4; G60.0; G60.1; G60.2; G60.3; G60.8; G60.9; G61.0; G61.1; G61.8; G61.9; G62.0; G62.2; G62.8; G63.0; G63.3; G63.5; G90.6; G95.0; G95.1; G95.2; G95.8; G95.9 | D15: 82.81
A16: 15. | B16: Psihiski un uzvedības traucējumi | C16: F00;F00.2; F00.9; F02.0; F02.2; F02.8; F06.0; F06.2; F07.0; F07.8; F20.0; F20.1; F20.2; F20.3; F20.4; F20.5; F20.6; F20.8; F21; F22.0; F22.8; F22.9; F23.0; F23.1; F23.2; F23.3; F23.8; F23.80; F23.9; F25.0; F25.1; F25.2; F25.8; F25.9; F31.0; F31.9; F32.1; F32.2; F32.3; F33.0; F33.1; F33.2; F33.3; F33.4; F33.8; F33.9; F70.0; F70.1; F70.8; F70.9; F71.0; F71.1; F71.8; F71.9; F72.0; F72.1; F72.8; F72.9; F73.0; F73.1; F73.8; F73.9; F84.0; F84.1; F84.2; F84.3; F84.4; F84.5; F84.8; F90.0; F90.1; F90.8; F90.9; F98.0; F10.1; F10.2; F11.1; F11.2; F12.1; F12.2; F13.1; F13.2; F14.1; F14.2; F15.1; F15.2; F16.1; F16.2; F17.1; F17.2; F18.1; F18.2; F19.1; F19.2 | D16: 82.07
... A18: 17. | B18: Uroģenitālās sistēmas slimības | C18: N04; N11; N18; N40; N80; N92.0-N92.6; N95.3; N46;N97.0-N97.9 | D18: 172.66
A19: KOPĀ | D19: =SUM(D5:D18) -> 13427.82

Sheet Parent C saraksts
A2: Parenterālo C saraksta zāļu izlietojums UA iedzīvotājiem (bēgļiem) janvāris 2023.gada janvāris PSKUS | I2: Parenterālo C saraksta zāļu izlietojums UA iedzīvotājiem (bēgļiem) janvāris 2023.gada janvāris RAKUS
A3: N.p.k. | B3: Atprečoto zāļu nosaukums | C3: Zāļu viena iepakojuma cena | D3: Atprečoto zāļu daudzums (iepak.) | E3: Unikālo pacientu skaits | F3: Kopējās zāļu izmaksas (euro) | I3: N.p.k. | J3: Atprečoto zāļu nosaukums | K3: Zāļu viena iepakojuma cena | L3: Atprečoto zāļu daudzums (iepak.) | M3: Unikālo pacientu skaits | N3: Kopējās zāļu izmaksas (euro)
A4: 1 | B4: Phesgo 600mg/600mg inj.šķīd. 10ml; N1 (oriģ/1) - ONKO. | C4: 3622.3152 | D4: 2 | E4: 1 | F4: =D4*C4 -> 7244.6304 | I4: 1 | J4: Phesgo 600mg/600mg inj.šķīd. 10ml; N1 (oriģ/1) - ONKO. | K4: 3622.3152 | L4: 1 | M4: 1 | N4: =L4*K4 -> 3622.3152
C9: PAVISAM KOPĀ | F9: =SUM(F4:F8) -> 7244.6304 | K9: PAVISAM KOPĀ | N9: =SUM(N4:N8) -> 3622.3152
G12: =F9+N9 -> 10866.946

Sheet Centr.med
A1: Centralizēta medikamentu un materiālu iegāde Ukrainas civiliedzīvotājiem
A3: Periods : 2023.gada janvāris
A5: Pasākums | B5: Piegādātājs | C5: Pacientu skaits | D5: Pavadzīmju summa, EUR | E5: Pavadzīmju Nr.
A6: Fenilketonūrijas un citu iedzimto vielmaiņas slimību korekcijas produkti | B6: SIA "Oribalt Rīga" | C6: 1 | D6: 1666.88 | E6: 1001739
A7: Fenilketonūrijas un citu iedzimto vielmaiņas slimību korekcijas produkti | B7: SIA "Tamro" | C7: 1 | D7: 2226.86 | E7: 11280950
A8: Peritoneālās dialīzes nodrošinājuma ārstniecības līdzekļi | B8: A.Medical | C8: 1 | D8: =831.6*2 -> 1663.2 | E8: 230100198; 230100465
A9: Redzes korekcijas līdzekļi bērniem | B9: OC Vision | C9: 1 | D9: 126.95 | E9: 39283WVG
A10: KOPĀ | D10: =SUM(D6:D9) -> 5683.89

Sheet CM-parent.ONKO
A1: Centralizēti iepērkamo parenterāli ievadāmo zāļu onkoloģisko saslimšanu ārstēšanai izlietojums Ukrainas civiliedzīvotājiem
A3: Periods : 2023.gada janvāris
A5: Ārstniecības iestāde | B5: Pacientu skaits | C5: Izdevumi ar PVN, EUR
A6: Paula Stradiņa klīniskā universitātes slimnīca | B6: 3 | C6: 227.81
A7: Liepājas reģionālā slimnīca | B7: 2 | C7: 61.46
A8: KOPĀ : | B8: =B6+B7 -> 5 | C8: =C6+C7 -> 289.27

Sheet insul.
A2: Pārskats par insulīna ievadīšanas ierīču (insulīna sūkņu) un to piederumu (katetru un rezervuāru) izlietojumu (janvāris)
A4: Pacients | B4: Pap.Informācija | C4: Dok. datums | D4: Nom.Nosaukums | E4: Gala cena | F4: Daudzums | G4: Sum of Uzskaites summa, EUR
A5: Myron Kalenskyi | B5: 326064-28316 | C5: 44942 | D5: Rezervuārs sūknim Medtrum A7 | E5: 23.5 | F5: 33 | G5: 868.56
A6: Myron Kalenskyi Kopsumma | G6: 868.56

Sheet STAC
A1: Pakalpojumi Ukrainas iedzīvotājiem saistībā ar KF militāro konfliktu 2023.gada janvāris
A3: Ārsniecības iestādes nosaukums | B3: Uzskaites dokumenta Nr. | C3: Pielikuma Nr. | D3: Mēnesis | E3: Apmaksāto gultas dienu skaits | F3: Kartes summa, EUR | G3: Valsts kompensētais pacienta līdzmaksājums, EUR | H3: Kopsumma, EUR
A4: Alūksnes slimnīca | B4: 000952023 | C4: 0 | D4: 01 | E4: 3 | F4: 264.75 | G4: 0 | H4: =F4+G4 -> 264.75
A5: Alūksnes slimnīca | B5: 000972023 | C5: 0 | D5: 01 | E5: 4 | F5: 353 | G5: 40 | H5: =F5+G5 -> 393
A6: Balvu un Gulbenes slimnīcu apvienība | B6: 000312023 | C6: 0 | D6: 01 | E6: 2 | F6: 834.26 | G6: 20 | H6: =F6+G6 -> 854.26
A7: Balvu un Gulbenes slimnīcu apvienība | B7: 000532023 | C7: 0 | D7: 01 | E7: 6 | F7: 602.65 | G7: 74 | H7: =F7+G7 -> 676.65
A8: Balvu un Gulbenes slimnīcu apvienība | B8: 002312023 | C8: 0 | D8: 01 | E8: 3 | F8: 961.92 | G8: 30 | H8: =F8+G8 -> 991.92
A9: Bauskas slimnīca | B9: 008112022 | C9: 0 | D9: 01 | E9: 12 | F9: 585.12 | G9: 120 | H9: =F9+G9 -> 705.12
A10: Bērnu klīniskā universitātes slimnīca | B10: 001152023 | C10: 0 | D10: 01 | E10: 3 | F10: 702.21 | G10: 30 | H10: =F10+G10 -> 732.21
A11: Bērnu klīniskā universitātes slimnīca | B11: 001452023 | C11: 0 | D11: 01 | E11: 1 | F11: 840.81 | G11: 10 | H11: =F11+G11 -> 850.81
A12: Bērnu klīniskā universitātes slimnīca | B12: 005082023 | C12: 0 | D12: 01 | E12: 1 | F12: 353.28 | G12: 10 | H12: =F12+G12 -> 363.28
A13: Bērnu klīniskā universitātes slimnīca | B13: 005482023 | C13: 0 | D13: 01 | E13: 3 | F13: 768.05 | G13: 30 | H13: =F13+G13 -> 798.05
A14: Bērnu klīniskā universitātes slimnīca | B14: 005572023 | C14: 0 | D14: 01 | E14: 3 | F14: 702.21 | G14: 30 | H14: =F14+G14 -> 732.21
A15: Bērnu klīniskā universitātes slimnīca | B15: 005872023 | C15: 0 | D15: 01 | E15: 2 | F15: 468.14 | G15: 20 | H15: =F15+G15 -> 488.14
... A182: Ziemeļkurzemes reģionālā slimnīca | B182: 066702022 | C182: 0 | D182: 01 | E182: 2 | F182: 235.32 | G182: 20 | H182: =F182+G182 -> 255.32
A183: Kopā: | E183: =SUM(E4:E182) -> 1849 | F183: =SUM(F4:F182) -> 404037.94 | G183: =SUM(G4:G182) -> 18627 | H183: =SUM(H4:H182) -> 422664.94
A185: Dati atlasīti no VIS, pēc 56*., 135., 145., un 137. pacientu grupas
A186: *56 atlasīts, jo vēl aizvien visas Ārstniecības iestādes nav pareizi nokodējušas Ukraiņus
A189: Ārsniecības iestādes nosaukums | B189: Kartes summa, EUR | C189: Valsts kompensētais pacienta līdzmaksājums, EUR | D189: Kopsumma, EUR
A190: Alūksnes slimnīca | B190: 617.75 | C190: 40 | D190: 657.75
A191: Balvu un Gulbenes slimnīcu apvienība | B191: 2398.83 | C191: 124 | D191: 2522.83
A192: Bauskas slimnīca | B192: 585.12 | C192: 120 | D192: 705.12
A193: Bērnu klīniskā universitātes slimnīca | B193: 20187.97 | C193: 690 | D193: 20877.97
A194: Cēsu klīnika | B194: 1265.83 | C194: 110 | D194: 1375.83
A195: Daugavpils psihoneiroloģiskā slimnīca | B195: 3636.3 | C195: 0 | D195: 3636.3
A196: Daugavpils reģionālā slimnīca | B196: 10104.28 | C196: 780 | D196: 10884.28
A197: Dobeles un apkārtnes slimnīca | B197: 1359.94 | C197: 0 | D197: 1359.94
A198: Jelgavas pilsētas slimnīca | B198: 3673.19 | C198: 302 | D198: 3975.19
A199: Jēkabpils reģionālā slimnīca | B199: 2187 | C199: 174 | D199: 2361
A200: Jūrmalas slimnīca | B200: 579.81 | C200: 30 | D200: 609.81
A201: Kuldīgas slimnīca | B201: 2242.44 | C201: 264 | D201: 2506.44
... A218: Ziemeļkurzemes reģionālā slimnīca | B218: 541.18 | C218: 68 | D218: 609.18
A219: Kopā: | B219: =SUM(B190:B218) -> 404037.94 | C219: =SUM(C190:C218) -> 18627 | D219: =SUM(D190:D218) -> 422664.94

Sheet transports
G1: 4.pielikums
A2: Pacientu transportēšana uz zemāka līmeņa ārstniecības iestādi, izmaksas (karadarbībā Ukrainā cietušo personu pārvešana ārstēšanas nolūkos)
A4: Nr.p.k. | B4: Periods | C4: Ārstniecības iestāde | D4: Nobraukto kilometru skaits | E4: Nogādāto pacientu skaits | F4: Viena kilometra cena, EUR | G4: Plānotā apmaksa par periodu līdz 31.10. EUR
A5: 1 | B5: 01.01.2023.-31.12.2023. | C5: Rīgas Austrumu klīniskā universitātes slimnīca | D5: 89 | E5: 1 | F5: 0.377705 | G5: =F5*D5 -> 33.615745 | H5: =D5*F5 -> 33.615745
A6: Kopā | D6: =SUM(D5:D5) -> 89 | E6: =SUM(E5:E5) -> 1 | F6: =AVERAGE(F5:F5) -> 0.377705 | G6: =SUM(G5:G5) -> 33.615745
G8: =ROUNDUP(G6,0) -> 34

Sheet PVA
A1: Veikto pakalpojumu summa pacientu grupām 135 - "Ukrainas iedzīvotājs, kurš izceļo no Ukrainas saistībā ar Krievijas Federācijas izraisīto militāro konfliktu tajā, vai kurš atrodas Latvijas Republikā un nevar atgriezties Ukrainā minētā konflikta laikā" un 137 - "Latvijā sociāli apdrošināts (nodarbināts, ieslodzīts u.c.) Ukrainas iedzīvotājs, kurš atrodas Latvijas Republikā un nevar atgriezties Ukrainā saistībā ar militāro konfliktu" par 2023.gada janvāra rēķinos iekļautiem ambulatorajiem taloniem - PVA
A3: NVD TN | B3: ĀI kods | C3: ĀI nosaukums | D3: Transakcijas veida (2.līm.) kods | E3: Manipulācijas kods | F3: Manipulācijas nosaukums | G3: Skaits | H3: Pakalpojumu summa SUM | I3: Valsts pacienta iemaksas kompensācija SUM | J3: Valsts izmaksas SUM | K3: EKK 3000 | L3: EKK 7460
G4: =SUM(G5:G1130) -> 5962 | H4: =SUM(H5:H1130) -> 44322.28 | I4: =SUM(I5:I1130) -> 5914.5 | J4: =SUM(J5:J1130) -> 50236.78 | K4: =SUM(K5:K1130) -> 49955.3 | L4: =SUM(L5:L1130) -> 281.48
A5: NVD Kurzemes nodaļa | B5: 027000001 | C5: Dr.Katerynas prakse, SIA | D5: EP | E5: - | G5: 2 | H5: 15.22 | I5: 4 | J5: 19.22 | K5: =J5 -> 19.22
A6: NVD Kurzemes nodaļa | B6: 051000001 | C6: Kociņa Ginta - ģimenes ārsta prakse | D6: EP | E6: - | G6: 2 | H6: 15.22 | I6: 4 | J6: 19.22 | K6: =J6 -> 19.22
A7: NVD Kurzemes nodaļa | B7: 170000017 | C7: Kosova Tatjana - ģimenes ārsta prakse | D7: EP | E7: - | G7: 10 | H7: 76.1 | I7: 17 | J7: 93.1 | K7: =J7 -> 93.1
A8: NVD Kurzemes nodaļa | B8: 170000017 | C8: Kosova Tatjana - ģimenes ārsta prakse | D8: MP | E8: 01061 | F8: Bērnu profilaktiskās apskates, ko veic ģimenes ārsts | G8: 1 | H8: 10.13 | I8: 0 | J8: 10.13 | K8: =J8 -> 10.13
A9: NVD Kurzemes nodaļa | B9: 170000017 | C9: Kosova Tatjana - ģimenes ārsta prakse | D9: MP | E9: 01068 | F9: Piemaksa ģimenes ārstam par katru patvēruma meklētāja vai ārzemnieka, kurš izceļo no Ukrainas militāro konfliktu dēļ, apmeklējumu | G9: 5 | H9: 41 | I9: 0 | J9: 41 | K9: =J9 -> 41
A10: NVD Kurzemes nodaļa | B10: 170000017 | C10: Kosova Tatjana - ģimenes ārsta prakse | D10: MP | E10: 02401 | F10: Papildus profilaktiskā medicīniskā pārbaude | G10: 1 | H10: 9.83 | I10: 4 | J10: 13.83 | K10: =J10 -> 13.83
A11: NVD Kurzemes nodaļa | B11: 170000017 | C11: Kosova Tatjana - ģimenes ārsta prakse | D11: MP | E11: 03081 | F11: Vakcīnas ievadīšana ādā, zemādā un muskulī | G11: 2 | H11: 2.2 | I11: 0 | J11: 2.2 | K11: =J11 -> 2.2
A12: NVD Kurzemes nodaļa | B12: 170000017 | C12: Kosova Tatjana - ģimenes ārsta prakse | D12: MP | E12: 03082 | F12: Vakcīnas ievadīšana perorāli | G12: 1 | H12: 0.44 | I12: 0 | J12: 0.44 | K12: =J12 -> 0.44
A13: NVD Kurzemes nodaļa | B13: 170000017 | C13: Kosova Tatjana - ģimenes ārsta prakse | D13: MP | E13: 06085 | F13: Digitālo artēriju pulsa pierakstīšana vai spiediena mērīšana | G13: 13 | H13: 46.54 | I13: 52 | J13: 98.54 | K13: =J13 -> 98.54
A14: NVD Kurzemes nodaļa | B14: 170000116 | C14: Rutkovska Diana - ģimenes ārsta prakse | D14: EP | E14: - | G14: 1 | H14: 7.61 | I14: 2 | J14: 9.61 | K14: =J14 -> 9.61
A15: NVD Kurzemes nodaļa | B15: 170000170 | C15: Ribakova Tatjana - ģimenes ārsta prakse | D15: EP | E15: - | G15: 3 | H15: 22.83 | I15: 0 | J15: 22.83 | K15: =J15 -> 22.83
A16: NVD Kurzemes nodaļa | B16: 170000170 | C16: Ribakova Tatjana - ģimenes ārsta prakse | D16: EP | E16: - | G16: 5 | H16: 38.05 | I16: 2 | J16: 40.05 | K16: =J16 -> 40.05
A17: NVD Kurzemes nodaļa | B17: 170000170 | C17: Ribakova Tatjana - ģimenes ārsta prakse | D17: MP | E17: 01018 | F17: Ārsta konsultācija pirms vakcinācijas. Nenorāda kopā ar manipulāciju 01061, 60443 un 60444 | G17: 2 | H17: 7.08 | I17: 0 | J17: 7.08 | K17: =J17 -> 7.08
A18: NVD Kurzemes nodaļa | B18: 170000170 | C18: Ribakova Tatjana - ģimenes ārsta prakse | D18: MP | E18: 01061 | F18: Bērnu profilaktiskās apskates, ko veic ģimenes ārsts | G18: 1 | H18: 10.13 | I18: 0 | J18: 10.13 | K18: =J18 -> 10.13
A19: NVD Kurzemes nodaļa | B19: 170000170 | C19: Ribakova Tatjana - ģimenes ārsta prakse | D19: MP | E19: 01068 | F19: Piemaksa ģimenes ārstam par katru patvēruma meklētāja vai ārzemnieka, kurš izceļo no Ukrainas militāro konfliktu dēļ, apmeklējumu | G19: 5 | H19: 41 | I19: 0 | J19: 41 | K19: =J19 -> 41
A20: NVD Kurzemes nodaļa | B20: 170000170 | C20: Ribakova Tatjana - ģimenes ārsta prakse | D20: MP | E20: 03081 | F20: Vakcīnas ievadīšana ādā, zemādā un muskulī | G20: 2 | H20: 2.2 | I20: 0 | J20: 2.2 | K20: =J20 -> 2.2
A21: NVD Kurzemes nodaļa | B21: 170000170 | C21: Ribakova Tatjana - ģimenes ārsta prakse | D21: MP | E21: 01068 | F21: Piemaksa ģimenes ārstam par katru patvēruma meklētāja vai ārzemnieka, kurš izceļo no Ukrainas militāro konfliktu dēļ, apmeklējumu | G21: 6 | H21: 49.2 | I21: 0 | J21: 49.2 | K21: =J21 -> 49.2
A22: NVD Kurzemes nodaļa | B22: 170000171 | C22: Baranovs Aleksejs - ģimenes ārsta un internista prakse | D22: EP | E22: - | G22: 14 | H22: 106.54 | I22: 41 | J22: 147.54 | K22: =J22 -> 147.54
A23: NVD Kurzemes nodaļa | B23: 170000171 | C23: Baranovs Aleksejs - ģimenes ārsta un internista prakse | D23: MP | E23: 01018 | F23: Ārsta konsultācija pirms vakcinācijas. Nenorāda kopā ar manipulāciju 01061, 60443 un 60444 | G23: 1 | H23: 3.54 | I23: 0 | J23: 3.54 | K23: =J23 -> 3.54
A24: NVD Kurzemes nodaļa | B24: 170000171 | C24: Baranovs Aleksejs - ģimenes ārsta un internista prakse | D24: MP | E24: 01068 | F24: Piemaksa ģimenes ārstam par katru patvēruma meklētāja vai ārzemnieka, kurš izceļo no Ukrainas militāro konfliktu dēļ, apmeklējumu | G24: 22 | H24: 180.4 | I24: 0 | J24: 180.4 | K24: =J24 -> 180.4
A25: NVD Kurzemes nodaļa | B25: 170000171 | C25: Baranovs Aleksejs - ģimenes ārsta un internista prakse | D25: MP | E25: 03081 | F25: Vakcīnas ievadīšana ādā, zemādā un muskulī | G25: 1 | H25: 1.1 | I25: 0 | J25: 1.1 | K25: =J25 -> 1.1
A26: NVD Kurzemes nodaļa | B26: 170000183 | C26: Stabulnieks Uldis - ģimenes ārsta prakse | D26: EP | E26: - | G26: 3 | H26: 22.83 | I26: 6 | J26: 28.83 | K26: =J26 -> 28.83
A27: NVD Kurzemes nodaļa | B27: 170000183 | C27: Stabulnieks Uldis - ģimenes ārsta prakse | D27: EP | E27: - | G27: 1 | H27: 7.61 | I27: 0 | J27: 7.61 | K27: =J27 -> 7.61
A28: NVD Kurzemes nodaļa | B28: 170000183 | C28: Stabulnieks Uldis - ģimenes ārsta prakse | D28: MP | E28: 01068 | F28: Piemaksa ģimenes ārstam par katru patvēruma meklētāja vai ārzemnieka, kurš izceļo no Ukrainas militāro konfliktu dēļ, apmeklējumu | G28: 3 | H28: 24.6 | I28: 0 | J28: 24.6 | K28: =J28 -> 24.6
A29: NVD Kurzemes nodaļa | B29: 170000183 | C29: Stabulnieks Uldis - ģimenes ārsta prakse | D29: MP | E29: 01068 | F29: Piemaksa ģimenes ārstam par katru patvēruma meklētāja vai ārzemnieka, kurš izceļo no Ukrainas militāro konfliktu dēļ, apmeklējumu | G29: 4 | H29: 32.8 | I29: 0 | J29: 32.8 | K29: =J29 -> 32.8
A30: NVD Kurzemes nodaļa | B30: 170000188 | C30: Anaņjeva Aleksandra - ģimenes ārsta prakse | D30: EP | E30: - | G30: 1 | H30: 7.61 | I30: 1 | J30: 8.61 | K30: =J30 -> 8.61
A31: NVD Kurzemes nodaļa | B31: 170000190 | C31: Liepājas ģimenes veselības centrs, SIA | D31: EP | E31: - | G31: 14 | H31: 106.54 | I31: 20 | J31: 126.54 | K31: =J31 -> 126.54
A32: NVD Kurzemes nodaļa | B32: 170000190 | C32: Liepājas ģimenes veselības centrs, SIA | D32: MP | E32: 01068 | F32: Piemaksa ģimenes ārstam par katru patvēruma meklētāja vai ārzemnieka, kurš izceļo no Ukrainas militāro konfliktu dēļ, apmeklējumu | G32: 13 | H32: 106.6 | I32: 0 | J32: 106.6 | K32: =J32 -> 106.6
A33: NVD Kurzemes nodaļa | B33: 170000190 | C33: Liepājas ģimenes veselības centrs, SIA | D33: MP | E33: 41095 | F33: Glikoze asinīs | G33: 1 | H33: 1.62 | I33: 0 | J33: 1.62 | K33: =J33 -> 1.62
A34: NVD Kurzemes nodaļa | B34: 170024104 | C34: JAUNLIEPĀJAS PRIMĀRĀS VESELĪBAS APRŪPES CENTRS, Sabiedrība ar ierobežotu atbildību | D34: EP | E34: - | G34: 95 | H34: 0 | I34: 181 | J34: 181 | K34: =J34 -> 181
A35: NVD Kurzemes nodaļa | B35: 170064003 | C35: HILTESTS, SIA | D35: EP | E35: - | G35: 12 | H35: 0 | I35: 24 | J35: 24 | K35: =J35 -> 24
A36: NVD Kurzemes nodaļa | B36: 170075408 | C36: Sorokina Tatjana - ģimenes ārsta un arodveselības un arodslimību ārsta prakse | D36: EP | E36: - | G36: 1 | H36: 7.61 | I36: 1 | J36: 8.61 | K36: =J36 -> 8.61
A37: NVD Kurzemes nodaļa | B37: 170075408 | C37: Sorokina Tatjana - ģimenes ārsta un arodveselības un arodslimību ārsta prakse | D37: MP | E37: 01068 | F37: Piemaksa ģimenes ārstam par katru patvēruma meklētāja vai ārzemnieka, kurš izceļo no Ukrainas militāro konfliktu dēļ, apmeklējumu | G37: 1 | H37: 8.2 | I37: 0 | J37: 8.2 | K37: =J37 -> 8.2
A38: NVD Kurzemes nodaļa | B38: 170075410 | C38: RASO prakse, Sabiedrība ar ierobežotu atbildību | D38: EP | E38: - | G38: 10 | H38: 76.1 | I38: 18 | J38: 94.1 | K38: =J38 -> 94.1
A39: NVD Kurzemes nodaļa | B39: 170075410 | C39: RASO prakse, Sabiedrība ar ierobežotu atbildību | D39: EP | E39: - | G39: 1 | H39: 7.61 | I39: 0 | J39: 7.61 | K39: =J39 -> 7.61
A40: NVD Kurzemes nodaļa | B40: 170075426 | C40: Krētaine Dace - ģimenes ārsta prakse | D40: EP | E40: - | G40: 5 | H40: 38.05 | I40: 10 | J40: 48.05 | K40: =J40 -> 48.05
A41: NVD Kurzemes nodaļa | B41: 170075435 | C41: Ašmane Solveiga - ģimenes ārsta un arodveselības un arodslimību ārsta prakse | D41: EP | E41: - | G41: 1 | H41: 7.61 | I41: 1 | J41: 8.61 | K41: =J41 -> 8.61
A42: NVD Kurzemes nodaļa | B42: 170075435 | C42: Ašmane Solveiga - ģimenes ārsta un arodveselības un arodslimību ārsta prakse | D42: EP | E42: - | G42: 1 | H42: 7.61 | I42: 0 | J42: 7.61 | K42: =J42 -> 7.61
A43: NVD Kurzemes nodaļa | B43: 170075437 | C43: MANS DOKTORĀTS, SIA | D43: EP | E43: - | G43: 9 | H43: 68.49 | I43: 36.85 | J43: 105.34 | K43: =J43 -> 105.34
A44: NVD Kurzemes nodaļa | B44: 170075437 | C44: MANS DOKTORĀTS, SIA | D44: MP | E44: 01068 | F44: Piemaksa ģimenes ārstam par katru patvēruma meklētāja vai ārzemnieka, kurš izceļo no Ukrainas militāro konfliktu dēļ, apmeklējumu | G44: 17 | H44: 139.4 | I44: 0 | J44: 139.4 | K44: =J44 -> 139.4
A45: NVD Kurzemes nodaļa | B45: 170075437 | C45: MANS DOKTORĀTS, SIA | D45: MP | E45: 60086 | F45: Ģimenes ārsta vizīte pie personas, kura atrodas ilgstošas sociālās aprūpes un sociālās rehabilitācijas institūcijā, vai mājas vizīte, ja ģimenes ārsts apmeklē personu, kurai tiek veikta paliatīvā aprūpe un mājas aprūpe, vai kura slimo ar gripu gripas epidēmijas laikā vai slimo ar Covid-19, vai kurai ir psihiski traucējumi, vai pie kuras neatliekamās medicīniskās palīdzības brigāde veikusi izbraukumu un ģimenes ārsts vienojies ar pacientu par mājas vizīti | G45: 1 | H45: 19.19 | I45: 0 | J45: 19.19 | K45: =J45 -> 19.19
A46: NVD Kurzemes nodaļa | B46: 170075442 | C46: Jakovļeva Alla - ģimenes ārsta prakse | D46: EP | E46: - | G46: 2 | H46: 15.22 | I46: 3 | J46: 18.22 | K46: =J46 -> 18.22
A47: NVD Kurzemes nodaļa | B47: 170075442 | C47: Jakovļeva Alla - ģimenes ārsta prakse | D47: MP | E47: 01068 | F47: Piemaksa ģimenes ārstam par katru patvēruma meklētāja vai ārzemnieka, kurš izceļo no Ukrainas militāro konfliktu dēļ, apmeklējumu | G47: 2 | H47: 16.4 | I47: 0 | J47: 16.4 | K47: =J47 -> 16.4
A48: NVD Kurzemes nodaļa | B48: 170077439 | C48: Popova Alla - ģimenes ārsta, internista, imunologa un arodveselības un arodslimību ārsta prakse | D48: EP | E48: - | G48: 7 | H48: 53.27 | I48: 3 | J48: 56.27 | K48: =J48 -> 56.27
A49: NVD Kurzemes nodaļa | B49: 170077439 | C49: Popova Alla - ģimenes ārsta, internista, imunologa un arodveselības un arodslimību ārsta prakse | D49: MP | E49: 01068 | F49: Piemaksa ģimenes ārstam par katru patvēruma meklētāja vai ārzemnieka, kurš izceļo no Ukrainas militāro konfliktu dēļ, apmeklējumu | G49: 4 | H49: 32.8 | I49: 0 | J49: 32.8 | K49: =J49 -> 32.8
A50: NVD Kurzemes nodaļa | B50: 170077439 | C50: Popova Alla - ģimenes ārsta, internista, imunologa un arodveselības un arodslimību ārsta prakse | D50: MP | E50: 03081 | F50: Vakcīnas ievadīšana ādā, zemādā un muskulī | G50: 1 | H50: 1.1 | I50: 0 | J50: 1.1 | K50: =J50 -> 1.1
A51: NVD Kurzemes nodaļa | B51: 170077439 | C51: Popova Alla - ģimenes ārsta, internista, imunologa un arodveselības un arodslimību ārsta prakse | D51: MP | E51: 06003 | F51: Elektrokardiogrammas ar 12 novadījumiem pieraksts | G51: 1 | H51: 1.63 | I51: 2 | J51: 3.63 | K51: =J51 -> 3.63
A52: NVD Kurzemes nodaļa | B52: 170077439 | C52: Popova Alla - ģimenes ārsta, internista, imunologa un arodveselības un arodslimību ārsta prakse | D52: MP | E52: 06004 | F52: Elektrokardiogrammas ar 12 novadījumiem apraksts | G52: 1 | H52: 5.28 | I52: 0 | J52: 5.28 | K52: =J52 -> 5.28
A53: NVD Kurzemes nodaļa | B53: 170077439 | C53: Popova Alla - ģimenes ārsta, internista, imunologa un arodveselības un arodslimību ārsta prakse | D53: MP | E53: 07002 | F53: Izelpas maksimumplūsmas (IMP) noteikšana (PEF-metrija) | G53: 1 | H53: 2.19 | I53: 0 | J53: 2.19 | K53: =J53 -> 2.19
A54: NVD Kurzemes nodaļa | B54: 170077441 | C54: A.Lucenko ārsta prakse, SIA | D54: EP | E54: - | G54: 2 | H54: 15.22 | I54: 2 | J54: 17.22 | K54: =J54 -> 17.22
A55: NVD Kurzemes nodaļa | B55: 170077441 | C55: A.Lucenko ārsta prakse, SIA | D55: EP | E55: - | G55: 2 | H55: 15.22 | I55: 0 | J55: 15.22 | K55: =J55 -> 15.22
A56: NVD Kurzemes nodaļa | B56: 170077441 | C56: A.Lucenko ārsta prakse, SIA | D56: MP | E56: 41095 | F56: Glikoze asinīs | G56: 1 | H56: 1.62 | I56: 0 | J56: 1.62 | K56: =J56 -> 1.62
A57: NVD Kurzemes nodaļa | B57: 170077458 | C57: Mockus Aļģirds - ģimenes ārsta prakse | D57: EP | E57: - | G57: 1 | H57: 7.61 | I57: 2 | J57: 9.61 | K57: =J57 -> 9.61
A58: NVD Kurzemes nodaļa | B58: 270000031 | C58: Kuklis Gundars - ģimenes ārsta un pediatra prakse | D58: EP | E58: - | G58: 4 | H58: 30.44 | I58: 10 | J58: 40.44 | K58: =J58 -> 40.44
A59: NVD Kurzemes nodaļa | B59: 270000031 | C59: Kuklis Gundars - ģimenes ārsta un pediatra prakse | D59: MP | E59: 01018 | F59: Ārsta konsultācija pirms vakcinācijas. Nenorāda kopā ar manipulāciju 01061, 60443 un 60444 | G59: 1 | H59: 3.54 | I59: 0 | J59: 3.54 | K59: =J59 -> 3.54
A60: NVD Kurzemes nodaļa | B60: 270000031 | C60: Kuklis Gundars - ģimenes ārsta un pediatra prakse | D60: MP | E60: 03081 | F60: Vakcīnas ievadīšana ādā, zemādā un muskulī | G60: 1 | H60: 1.1 | I60: 0 | J60: 1.1 | K60: =J60 -> 1.1
A61: NVD Kurzemes nodaļa | B61: 270000032 | C61: Grospiņš Andis - ģimenes ārsta un arodveselības un arodslimību ārsta prakse | D61: EP | E61: - | G61: 3 | H61: 22.83 | I61: 0 | J61: 22.83 | K61: =J61 -> 22.83
A62: NVD Kurzemes nodaļa | B62: 270020302 | C62: Ziemeļkurzemes reģionālā slimnīca, SIA | D62: EP | E62: - | G62: 1 | H62: 0 | I62: 4 | J62: 4 | K62: =J62 -> 4
A63: NVD Kurzemes nodaļa | B63: 270020302 | C63: Ziemeļkurzemes reģionālā slimnīca, SIA | D63: MP | E63: 06085 | F63: Digitālo artēriju pulsa pierakstīšana vai spiediena mērīšana | G63: 1 | H63: 0 | I63: 4 | J63: 4 | K63: =J63 -> 4
A64: NVD Kurzemes nodaļa | B64: 270020302 | C64: Ziemeļkurzemes reģionālā slimnīca, SIA | D64: MP | E64: 60260 | F64: Ārsta palīga (feldšera) vai māsas, kā arī funkcionālā speciālista, kas sniedz rehabilitācijas pakalpojumus, veikta viena pacienta otrā aprūpes līmeņa veselības aprūpe mājās. Samaksa tiek veikta ne vairāk kā vienu reizi par diennakti. Nenorādīt kopā ar manipulā | G64: 3 | H64: 82.83 | I64: 0 | J64: 82.83 | K64: =J64 -> 82.83
A65: NVD Kurzemes nodaļa | B65: 270024101 | C65: Ventspils poliklīnika, Pašvaldības SIA | D65: EP | E65: - | G65: 29 | H65: 220.69 | I65: 42 | J65: 262.69 | K65: =J65 -> 262.69
A66: NVD Kurzemes nodaļa | B66: 270024101 | C66: Ventspils poliklīnika, Pašvaldības SIA | D66: MP | E66: 01068 | F66: Piemaksa ģimenes ārstam par katru patvēruma meklētāja vai ārzemnieka, kurš izceļo no Ukrainas militāro konfliktu dēļ, apmeklējumu | G66: 22 | H66: 180.4 | I66: 0 | J66: 180.4 | K66: =J66 -> 180.4
A67: NVD Kurzemes nodaļa | B67: 270064101 | C67: Kronoss, Sabiedrība ar ierobežotu atbildību | D67: EP | E67: - | G67: 14 | H67: 106.54 | I67: 16 | J67: 122.54 | K67: =J67 -> 122.54
A68: NVD Kurzemes nodaļa | B68: 270064101 | C68: Kronoss, Sabiedrība ar ierobežotu atbildību | D68: EP | E68: - | G68: 1 | H68: 7.61 | I68: 0 | J68: 7.61 | K68: =J68 -> 7.61
A69: NVD Kurzemes nodaļa | B69: 270064101 | C69: Kronoss, Sabiedrība ar ierobežotu atbildību | D69: MP | E69: 01068 | F69: Piemaksa ģimenes ārstam par katru patvēruma meklētāja vai ārzemnieka, kurš izceļo no Ukrainas militāro konfliktu dēļ, apmeklējumu | G69: 5 | H69: 41 | I69: 0 | J69: 41 | K69: =J69 -> 41
A70: NVD Kurzemes nodaļa | B70: 270065201 | C70: DOKTORĀTS ELITE, Medicīnas sabiedrība ar ierobežotu atbildību | D70: EP | E70: - | G70: 20 | H70: 152.2 | I70: 28 | J70: 180.2 | K70: =J70 -> 180.2
A71: NVD Kurzemes nodaļa | B71: 270065201 | C71: DOKTORĀTS ELITE, Medicīnas sabiedrība ar ierobežotu atbildību | D71: MP | E71: 01068 | F71: Piemaksa ģimenes ārstam par katru patvēruma meklētāja vai ārzemnieka, kurš izceļo no Ukrainas militāro konfliktu dēļ, apmeklējumu | G71: 17 | H71: 139.4 | I71: 0 | J71: 139.4 | K71: =J71 -> 139.4
A72: NVD Kurzemes nodaļa | B72: 270065201 | C72: DOKTORĀTS ELITE, Medicīnas sabiedrība ar ierobežotu atbildību | D72: MP | E72: 03081 | F72: Vakcīnas ievadīšana ādā, zemādā un muskulī | G72: 1 | H72: 1.1 | I72: 0 | J72: 1.1 | K72: =J72 -> 1.1
A73: NVD Kurzemes nodaļa | B73: 270065201 | C73: DOKTORĀTS ELITE, Medicīnas sabiedrība ar ierobežotu atbildību | D73: MP | E73: 03082 | F73: Vakcīnas ievadīšana perorāli | G73: 1 | H73: 0.44 | I73: 0 | J73: 0.44 | K73: =J73 -> 0.44
A74: NVD Kurzemes nodaļa | B74: 270075405 | C74: Inas Zemtures ģimenes ārsta-pediatra prakse, SIA | D74: EP | E74: - | G74: 1 | H74: 7.61 | I74: 2 | J74: 9.61 | K74: =J74 -> 9.61
A75: NVD Kurzemes nodaļa | B75: 270075405 | C75: Inas Zemtures ģimenes ārsta-pediatra prakse, SIA | D75: EP | E75: - | G75: 2 | H75: 15.22 | I75: 2 | J75: 17.22 | K75: =J75 -> 17.22
A76: NVD Kurzemes nodaļa | B76: 270075405 | C76: Inas Zemtures ģimenes ārsta-pediatra prakse, SIA | D76: MP | E76: 01068 | F76: Piemaksa ģimenes ārstam par katru patvēruma meklētāja vai ārzemnieka, kurš izceļo no Ukrainas militāro konfliktu dēļ, apmeklējumu | G76: 1 | H76: 8.2 | I76: 0 | J76: 8.2 | K76: =J76 -> 8.2
A77: NVD Kurzemes nodaļa | B77: 270075405 | C77: Inas Zemtures ģimenes ārsta-pediatra prakse, SIA | D77: MP | E77: 01068 | F77: Piemaksa ģimenes ārstam par katru patvēruma meklētāja vai ārzemnieka, kurš izceļo no Ukrainas militāro konfliktu dēļ, apmeklējumu | G77: 2 | H77: 16.4 | I77: 0 | J77: 16.4 | K77: =J77 -> 16.4
A78: NVD Kurzemes nodaļa | B78: 270075405 | C78: Inas Zemtures ģimenes ārsta-pediatra prakse, SIA | D78: MP | E78: 03081 | F78: Vakcīnas ievadīšana ādā, zemādā un muskulī | G78: 1 | H78: 1.1 | I78: 0 | J78: 1.1 | K78: =J78 -> 1.1
A79: NVD Kurzemes nodaļa | B79: 270075406 | C79: Princis Pauls - ģimenes ārsta prakse | D79: EP | E79: - | G79: 1 | H79: 7.61 | I79: 2 | J79: 9.61 | K79: =J79 -> 9.61
A80: NVD Kurzemes nodaļa | B80: 270077408 | C80: Dreimane Maruta - ģimenes ārsta un pediatra prakse | D80: EP | E80: - | G80: 2 | H80: 15.22 | I80: 2 | J80: 17.22 | K80: =J80 -> 17.22
A81: NVD Kurzemes nodaļa | B81: 270077408 | C81: Dreimane Maruta - ģimenes ārsta un pediatra prakse | D81: MP | E81: 01068 | F81: Piemaksa ģimenes ārstam par katru patvēruma meklētāja vai ārzemnieka, kurš izceļo no Ukrainas militāro konfliktu dēļ, apmeklējumu | G81: 2 | H81: 16.4 | I81: 0 | J81: 16.4 | K81: =J81 -> 16.4
A82: NVD Kurzemes nodaļa | B82: 620200001 | C82: Pūpols Aigars - ģimenes ārsta prakse | D82: EP | E82: - | G82: 11 | H82: 83.71 | I82: 38 | J82: 121.71 | K82: =J82 -> 121.71
A83: NVD Kurzemes nodaļa | B83: 620200001 | C83: Pūpols Aigars - ģimenes ārsta prakse | D83: MP | E83: 01068 | F83: Piemaksa ģimenes ārstam par katru patvēruma meklētāja vai ārzemnieka, kurš izceļo no Ukrainas militāro konfliktu dēļ, apmeklējumu | G83: 17 | H83: 139.4 | I83: 0 | J83: 139.4 | K83: =J83 -> 139.4
A84: NVD Kurzemes nodaļa | B84: 620200003 | C84: Pūpola Linda - ģimenes ārsta un pediatra prakse | D84: EP | E84: - | G84: 8 | H84: 60.88 | I84: 18 | J84: 78.88 | K84: =J84 -> 78.88
A85: NVD Kurzemes nodaļa | B85: 620200003 | C85: Pūpola Linda - ģimenes ārsta un pediatra prakse | D85: MP | E85: 01068 | F85: Piemaksa ģimenes ārstam par katru patvēruma meklētāja vai ārzemnieka, kurš izceļo no Ukrainas militāro konfliktu dēļ, apmeklējumu | G85: 9 | H85: 73.8 | I85: 0 | J85: 73.8 | K85: =J85 -> 73.8
A86: NVD Kurzemes nodaļa | B86: 620200013 | C86: RŪTAS EGLĪTES ĢIMENES ĀRSTA PRAKSE, SIA | D86: EP | E86: - | G86: 10 | H86: 76.1 | I86: 18 | J86: 94.1 | K86: =J86 -> 94.1
A87: NVD Kurzemes nodaļa | B87: 620200013 | C87: RŪTAS EGLĪTES ĢIMENES ĀRSTA PRAKSE, SIA | D87: EP | E87: - | G87: 1 | H87: 7.61 | I87: 0 | J87: 7.61 | K87: =J87 -> 7.61
A88: NVD Kurzemes nodaļa | B88: 620200046 | C88: Ineses Zīles ārsta prakse, Sabiedrība ar ierobežotu atbildību | D88: EP | E88: - | G88: 14 | H88: 106.54 | I88: 23 | J88: 129.54 | K88: =J88 -> 129.54
A89: NVD Kurzemes nodaļa | B89: 620200046 | C89: Ineses Zīles ārsta prakse, Sabiedrība ar ierobežotu atbildību | D89: MP | E89: 01068 | F89: Piemaksa ģimenes ārstam par katru patvēruma meklētāja vai ārzemnieka, kurš izceļo no Ukrainas militāro konfliktu dēļ, apmeklējumu | G89: 13 | H89: 106.6 | I89: 0 | J89: 106.6 | K89: =J89 -> 106.6
A90: NVD Kurzemes nodaļa | B90: 620200057 | C90: Sarmītes Opmanes ģimenes ārsta prakse, SIA | D90: EP | E90: - | G90: 1 | H90: 7.61 | I90: 2 | J90: 9.61 | K90: =J90 -> 9.61
A91: NVD Kurzemes nodaļa | B91: 620200057 | C91: Sarmītes Opmanes ģimenes ārsta prakse, SIA | D91: MP | E91: 01068 | F91: Piemaksa ģimenes ārstam par katru patvēruma meklētāja vai ārzemnieka, kurš izceļo no Ukrainas militāro konfliktu dēļ, apmeklējumu | G91: 1 | H91: 8.2 | I91: 0 | J91: 8.2 | K91: =J91 -> 8.2
A92: NVD Kurzemes nodaļa | B92: 640600006 | C92: DAKTERIS IMANTS, SIA | D92: EP | E92: - | G92: 2 | H92: 15.22 | I92: 4 | J92: 19.22 | K92: =J92 -> 19.22
A93: NVD Kurzemes nodaļa | B93: 640600006 | C93: DAKTERIS IMANTS, SIA | D93: MP | E93: 01068 | F93: Piemaksa ģimenes ārstam par katru patvēruma meklētāja vai ārzemnieka, kurš izceļo no Ukrainas militāro konfliktu dēļ, apmeklējumu | G93: 2 | H93: 16.4 | I93: 0 | J93: 16.4 | K93: =J93 -> 16.4
A94: NVD Kurzemes nodaļa | B94: 641000016 | C94: Kalna Astrīda - ģimenes ārsta prakse | D94: EP | E94: - | G94: 4 | H94: 30.44 | I94: 4 | J94: 34.44 | K94: =J94 -> 34.44
A95: NVD Kurzemes nodaļa | B95: 641000016 | C95: Kalna Astrīda - ģimenes ārsta prakse | D95: MP | E95: 01018 | F95: Ārsta konsultācija pirms vakcinācijas. Nenorāda kopā ar manipulāciju 01061, 60443 un 60444 | G95: 15 | H95: 53.1 | I95: 0 | J95: 53.1 | K95: =J95 -> 53.1
A96: NVD Kurzemes nodaļa | B96: 641000016 | C96: Kalna Astrīda - ģimenes ārsta prakse | D96: MP | E96: 01068 | F96: Piemaksa ģimenes ārstam par katru patvēruma meklētāja vai ārzemnieka, kurš izceļo no Ukrainas militāro konfliktu dēļ, apmeklējumu | G96: 19 | H96: 155.8 | I96: 0 | J96: 155.8 | K96: =J96 -> 155.8
A97: NVD Kurzemes nodaļa | B97: 641000016 | C97: Kalna Astrīda - ģimenes ārsta prakse | D97: MP | E97: 03081 | F97: Vakcīnas ievadīšana ādā, zemādā un muskulī | G97: 15 | H97: 16.5 | I97: 0 | J97: 16.5 | K97: =J97 -> 16.5
A98: NVD Kurzemes nodaļa | B98: 647900003 | C98: Birzniece Daiga - ģimenes ārsta un arodveselības un arodslimību ārsta prakse | D98: EP | E98: - | G98: 1 | H98: 7.61 | I98: 2 | J98: 9.61 | K98: =J98 -> 9.61
A99: NVD Kurzemes nodaļa | B99: 647900003 | C99: Birzniece Daiga - ģimenes ārsta un arodveselības un arodslimību ārsta prakse | D99: MP | E99: 01068 | F99: Piemaksa ģimenes ārstam par katru patvēruma meklētāja vai ārzemnieka, kurš izceļo no Ukrainas militāro konfliktu dēļ, apmeklējumu | G99: 1 | H99: 8.2 | I99: 0 | J99: 8.2 | K99: =J99 -> 8.2
A100: NVD Kurzemes nodaļa | B100: 648500001 | C100: Medeor, SIA | D100: EP | E100: - | G100: 16 | H100: 121.76 | I100: 40 | J100: 161.76 | K100: =J100 -> 161.76
A101: NVD Kurzemes nodaļa | B101: 648500001 | C101: Medeor, SIA | D101: MP | E101: 01068 | F101: Piemaksa ģimenes ārstam par katru patvēruma meklētāja vai ārzemnieka, kurš izceļo no Ukrainas militāro konfliktu dēļ, apmeklējumu | G101: 17 | H101: 139.4 | I101: 0 | J101: 139.4 | K101: =J101 -> 139.4
...

Sheet ZOB
B2: Veikto pakalpojumu* summa zobārstniecībā 135. grupai par 2023.gada janvāra ievadītiem taloniem
C3: "135 - Ukrainas iedzīvotājs, kurš izceļo no Ukrainas saistībā ar Krievijas Federācijas izraisīto militāro konfliktu tajā, vai kurš atrodas Latvijas Republikā un nevar atgriezties Ukrainā minētā konflikta laikā." Zobārstniecības pakalpojumi sniegti bērniem vecumā līdz 18 gadiem
B5: NVD TN | C5: Rēķina nr. | D5: Ārstniecības iestādes kods | E5: Ārstniecības iestādes nosaukums | F5: Manipulāciju kods | G5: Manipulāciju skaits | H5: Tarifs | I5: Pakalpojumu summa, EUR
B6: KOPĀ | G6: =SUM(G7:G402) -> 1298 | H6: =SUM(H7:H402) -> 3987.56 | I6: =SUM(I7:I402) -> 10083.29
B7: NVD Kurzemes nodaļa | C7: 1023ZP010012 | D7: 170020401 | E7: LIEPĀJAS REĢIONĀLĀ SLIMNĪCA, Sabiedrība ar ierobežotu atbildību | F7: 70001 | G7: 9 | H7: =I7/G7 -> 4.2 | I7: 37.8 | J7: =G7*H7 -> 37.8
B8: NVD Kurzemes nodaļa | C8: 1023ZP010016 | D8: 170000154 | E8: Grusa Inga - ārsta prakse zobārstniecībā | F8: 70001 | G8: 7 | H8: =I8/G8 -> 4.2 | I8: 29.4 | J8: =G8*H8 -> 29.4
B9: NVD Kurzemes nodaļa | C9: 1023ZP010020 | D9: 270064503 | E9: Klīnika ZINTA, SIA | F9: 70001 | G9: 7 | H9: =I9/G9 -> 4.2 | I9: 29.4 | J9: =G9*H9 -> 29.4
B10: NVD Kurzemes nodaļa | C10: 1023ZP010027 | D10: 900200088 | E10: Stulberga Anita - ārsta prakse zobārstniecībā | F10: 70001 | G10: 1 | H10: =I10/G10 -> 4.2 | I10: 4.2 | J10: =G10*H10 -> 4.2
B11: NVD Kurzemes nodaļa | C11: 1023ZP010047 | D11: 900200089 | E11: Medinteks, SIA | F11: 70001 | G11: 6 | H11: =I11/G11 -> 4.2 | I11: 25.2 | J11: =G11*H11 -> 25.2
B12: NVD Latgales nodaļa | C12: 1523ZP010011 | D12: 50024301 | E12: Daugavpils zobārstniecības poliklīnika, Sabiedrība ar ierobežotu atbildību | F12: 70001 | G12: 5 | H12: =I12/G12 -> 4.2 | I12: 21 | J12: =G12*H12 -> 21
B13: NVD Latgales nodaļa | C13: 1523ZP010024 | D13: 210000043 | E13: Medical plus, Sabiedrība ar ierobežotu atbildību | F13: 70001 | G13: 1 | H13: =I13/G13 -> 4.2 | I13: 4.2 | J13: =G13*H13 -> 4.2
B14: NVD Rīgas nodaļa | C14: 0023ZP010001 | D14: 19164502 | E14: SANADENTS ZA, Sabiedrība ar ierobežotu atbildību | F14: 70001 | G14: 3 | H14: =I14/G14 -> 4.2 | I14: 12.6 | J14: =G14*H14 -> 12.6
B15: NVD Rīgas nodaļa | C15: 0023ZP010003 | D15: 10064120 | E15: Veselības centru apvienība, AS | F15: 70001 | G15: 31 | H15: =I15/G15 -> 4.2 | I15: 130.2 | J15: =G15*H15 -> 130.2
B16: NVD Rīgas nodaļa | C16: 0023ZP010005 | D16: 10001818 | E16: Patello Kids, SIA | F16: 70001 | G16: 13 | H16: =I16/G16 -> 4.2 | I16: 54.6 | J16: =G16*H16 -> 54.6
B17: NVD Rīgas nodaļa | C17: 0023ZP010009 | D17: 10000427 | E17: MENTAMED, Sabiedrība ar ierobežotu atbildību | F17: 70001 | G17: 2 | H17: =I17/G17 -> 4.2 | I17: 8.4 | J17: =G17*H17 -> 8.4
B18: NVD Rīgas nodaļa | C18: 0023ZP010012 | D18: 10020301 | E18: Rīgas 1. slimnīca, SIA | F18: 70001 | G18: 6 | H18: =I18/G18 -> 4.2 | I18: 25.2 | J18: =G18*H18 -> 25.2
... B402: NVD Zemgales nodaļa | C402: 1323ZP010012 | D402: 740200008 | E402: Ogres rajona slimnīca, Sabiedrība ar ierobežotu atbildību | F402: 73050 | G402: 1 | H402: =I402/G402 -> 15.28 | I402: 15.28 | J402: =G402*H402 -> 15.28

Sheet LAB
A1: Veikto pakalpojumu summa pacientu grupām 135 - "Ukrainas iedzīvotājs, kurš izceļo no Ukrainas saistībā ar Krievijas Federācijas izraisīto militāro konfliktu tajā, vai kurš atrodas Latvijas Republikā un nevar atgriezties Ukrainā minētā konflikta laikā" un 137 - "Latvijā sociāli apdrošināts (nodarbināts, ieslodzīts u.c.) Ukrainas iedzīvotājs, kurš atrodas Latvijas Republikā un nevar atgriezties Ukrainā saistībā ar militāro konfliktu" par 2023.gada janvāra rēķinos iekļautiem ambulatorajiem taloniem - laboratoriskie pakalpojumi
A2: NVD TN | B2: ĀI kods | C2: ĀI nosaukums | D2: Transakcijas veida (2.līm.) kods | E2: Manipulācijas kods | F2: Manipulācijas nosaukums | G2: Skaits | H2: Pakalpojumu summa SUM | I2: Valsts pacienta iemaksas kompensācija SUM | J2: Valsts izmaksas SUM
G3: =SUM(G4:G774) -> 5354 | H3: =SUM(H4:H774) -> 17095.09 | I3: =SUM(I4:I774) -> 0 | J3: =SUM(J4:J774) -> 17095.09
A4: NVD Kurzemes nodaļa | B4: 270020302 | C4: Ziemeļkurzemes reģionālā slimnīca, SIA | D4: MP | E4: 40002 | F4: Seruma (plazmas) iegūšana | G4: 2 | H4: 0.98 | I4: 0 | J4: 0.98
A5: NVD Kurzemes nodaļa | B5: 270020302 | C5: Ziemeļkurzemes reģionālā slimnīca, SIA | D5: MP | E5: 40003 | F5: Asins ņemšana ar slēgtu sistēmu vienā stobriņā | G5: 7 | H5: 9.59 | I5: 0 | J5: 9.59
A6: NVD Kurzemes nodaļa | B6: 270020302 | C6: Ziemeļkurzemes reģionālā slimnīca, SIA | D6: MP | E6: 40042 | F6: Pilna asins aina (hemoglobīns, eritrocīti, leikocīti, trombocīti, hematokrīts, leikocītu formula (vismaz neitrofīli, eozinofīli, bazofīli, limfocīti, monocīti)). Papildus nenorādīt manipulācijas 40010, 40014 | G6: 2 | H6: 8.76 | I6: 0 | J6: 8.76
A7: NVD Kurzemes nodaļa | B7: 270020302 | C7: Ziemeļkurzemes reģionālā slimnīca, SIA | D7: MP | E7: 40043 | F7: Nepilna asins aina (hemoglobīns, eritrocīti, leikocīti, trombocīti, hematokrīts). Papildus nenorādīt manipulāciju 40010 | G7: 2 | H7: 3.8 | I7: 0 | J7: 3.8
A8: NVD Kurzemes nodaļa | B8: 270020302 | C8: Ziemeļkurzemes reģionālā slimnīca, SIA | D8: MP | E8: 40148 | F8: Urīna analīze ar teststrēmeli (9?10 parametri) | G8: 1 | H8: 1.52 | I8: 0 | J8: 1.52
A9: NVD Kurzemes nodaļa | B9: 270020302 | C9: Ziemeļkurzemes reģionālā slimnīca, SIA | D9: MP | E9: 40150 | F9: Urīna sedimenta standartizēta mikroskopija | G9: 1 | H9: 2.06 | I9: 0 | J9: 2.06
A10: NVD Kurzemes nodaļa | B10: 270020302 | C10: Ziemeļkurzemes reģionālā slimnīca, SIA | D10: MP | E10: 41004 | F10: Urīnviela | G10: 2 | H10: 3.94 | I10: 0 | J10: 3.94
A11: NVD Kurzemes nodaļa | B11: 270020302 | C11: Ziemeļkurzemes reģionālā slimnīca, SIA | D11: MP | E11: 41006 | F11: Kreatinīns | G11: 2 | H11: 2.84 | I11: 0 | J11: 2.84
A12: NVD Kurzemes nodaļa | B12: 270020302 | C12: Ziemeļkurzemes reģionālā slimnīca, SIA | D12: MP | E12: 41095 | F12: Glikoze asinīs | G12: 1 | H12: 1.62 | I12: 0 | J12: 1.62
A13: NVD Kurzemes nodaļa | B13: 270020302 | C13: Ziemeļkurzemes reģionālā slimnīca, SIA | D13: MP | E13: 41101 | F13: Mikroalbumīnūrijas noteikšana | G13: 1 | H13: 4.29 | I13: 0 | J13: 4.29
A14: NVD Kurzemes nodaļa | B14: 270020302 | C14: Ziemeļkurzemes reģionālā slimnīca, SIA | D14: MP | E14: 41103 | F14: Glikohemoglobīns. Izmeklējuma rezultāts ? HbA1C līmenis 6,4 % un zemāks | G14: 1 | H14: 5.74 | I14: 0 | J14: 5.74
A15: NVD Kurzemes nodaļa | B15: 270020302 | C15: Ziemeļkurzemes reģionālā slimnīca, SIA | D15: MP | E15: 41127 | F15: CRO (kvantitatīvi) | G15: 3 | H15: 7.98 | I15: 0 | J15: 7.98
... A774: NVD Rīgas nodaļa | B774: 010000234 | C774: Rīgas Austrumu klīniskā universitātes slimnīca, SIA | D774: MP | E774: 54009 | F774: Operāciju un biopsiju materiāla primāra apstrāde, ieguldīšana parafīna blokos, preparātu izgatavošana, ielikšana arhīvā un mikroskopiskā izmeklēšana, no 2?20 preparātiem, kā arī endoskopiju laikā iegūtais materiāls un ļaundabīgo audzēju biopsijas neatkarīgi no preparātu skaita, ja izmantotas papildu krāsošanas metodes (sarežģīts izmeklējums ar diferenciāldiagnostiskām grūtībām). Mikroskopiska izmeklēšana, ielikšana blokos, preparātu izgatavošana un histoloģiskā diagnostika, ielikšana arhīvā (pēc objektiem, virs 10 preparātiem, tai skaitā histotopogrammas, intraoperācijas materiāls un endobiopsija, bronhobiopsija, trepanobiopsijas, nieru, aknu, sēklinieku, priekšdziedzera, limfmezglu biopsijas, visu veidu ļaundabīgie audzēji neatkarīgi no preparātu skaita, ja izmantotas papildu krāsošanas | G774: 1 | H774: 39.44 | I774: 0 | J774: 39.44

Sheet SAVA
A2: Veikto pakalpojumu summa pacientu grupām 135 - "Ukrainas iedzīvotājs, kurš izceļo no Ukrainas saistībā ar Krievijas Federācijas izraisīto militāro konfliktu tajā, vai kurš atrodas Latvijas Republikā un nevar atgriezties Ukrainā minētā konflikta laikā" un 137 - "Latvijā sociāli apdrošināts (nodarbināts, ieslodzīts u.c.) Ukrainas iedzīvotājs, kurš atrodas Latvijas Republikā un nevar atgriezties Ukrainā saistībā ar militāro konfliktu" par 2023.gada janvāra rēķinos iekļautiem ambulatorajiem taloniem
A4: NVD TN | B4: ĀI kods | C4: ĀI nosaukums | D4: Transakcijas veida (2.līm.) kods | E4: Manipulācijas kods | F4: Manipulācijas nosaukums | G4: Skaits | H4: Pakalpojumu summa SUM | I4: Valsts pacienta iemaksas kompensācija SUM | J4: Valsts izmaksas SUM | K4: EKK 3000 | L4: EKK 7460
G5: =SUM(G6:G2235) -> 7709 | H5: =SUM(H6:H2235) -> 106963.63 | I5: =SUM(I6:I2235) -> 10741 | J5: =SUM(J6:J2235) -> 117704.63 | K5: =SUM(K6:K2235) -> 117425.92 | L5: =SUM(L6:L2235) -> 278.71
A6: NVD Kurzemes nodaļa | B6: 170000020 | C6: Lībiņa Agrita - acu ārsta prakse | D6: EP | E6: - | G6: 1 | H6: 13.08 | I6: 4 | J6: 17.08 | K6: =J6 -> 17.08
A7: NVD Kurzemes nodaļa | B7: 170000020 | C7: Lībiņa Agrita - acu ārsta prakse | D7: MP | E7: 17017 | F7: Redzes asuma noteikšana tuvumā vai tālumā | G7: 1 | H7: 2.25 | I7: 0 | J7: 2.25 | K7: =J7 -> 2.25
A8: NVD Kurzemes nodaļa | B8: 170000020 | C8: Lībiņa Agrita - acu ārsta prakse | D8: MP | E8: 17018 | F8: Redzes asuma korekcija tuvumā vai tālumā | G8: 1 | H8: 2.25 | I8: 0 | J8: 2.25 | K8: =J8 -> 2.25
A9: NVD Kurzemes nodaļa | B9: 170000020 | C9: Lībiņa Agrita - acu ārsta prakse | D9: MP | E9: 17030 | F9: Autorefraktometrija | G9: 1 | H9: 5.03 | I9: 0 | J9: 5.03 | K9: =J9 -> 5.03
A10: NVD Kurzemes nodaļa | B10: 170000020 | C10: Lībiņa Agrita - acu ārsta prakse | D10: MP | E10: 17040 | F10: Slēptās šķielēšanas un šķielēšanas kvalitatīva pārbaude | G10: 1 | H10: 3.99 | I10: 0 | J10: 3.99 | K10: =J10 -> 3.99
A11: NVD Kurzemes nodaļa | B11: 170000020 | C11: Lībiņa Agrita - acu ārsta prakse | D11: MP | E11: 17085 | F11: Tiešā oftalmoskopija abām acīm | G11: 1 | H11: 3.02 | I11: 0 | J11: 3.02 | K11: =J11 -> 3.02
A12: NVD Kurzemes nodaļa | B12: 170000192 | C12: Ilzes Lagzdiņas ārsta prakse ENDO, SIA | D12: EP | E12: - | G12: 2 | H12: 46.48 | I12: 8 | J12: 54.48 | K12: =J12 -> 54.48
A13: NVD Kurzemes nodaļa | B13: 170010601 | C13: Piejūras slimnīca, Valsts sabiedrība ar ierobežotu atbildību | D13: EP | E13: - | G13: 4 | H13: 75.22 | I13: 16 | J13: 91.22 | K13: =J13 -> 91.22
A14: NVD Kurzemes nodaļa | B14: 170020401 | C14: LIEPĀJAS REĢIONĀLĀ SLIMNĪCA, Sabiedrība ar ierobežotu atbildību | D14: MP | E14: 50013 | F14: Rentgenogrāfijas izmeklējumi (tai skaitā amortizācijas izmaksas) divās projekcijās | G14: 3 | H14: 37.74 | I14: 0 | J14: 37.74 | K14: =J14 -> 37.74
A15: NVD Kurzemes nodaļa | B15: 170020401 | C15: LIEPĀJAS REĢIONĀLĀ SLIMNĪCA, Sabiedrība ar ierobežotu atbildību | D15: MP | E15: 50014 | F15: Rentgenogrāfijas izmeklējumi (tai skaitā amortizācijas izmaksas) 3?4 projekcijās | G15: 1 | H15: 20.8 | I15: 0 | J15: 20.8 | K15: =J15 -> 20.8
A16: NVD Kurzemes nodaļa | B16: 170020401 | C16: LIEPĀJAS REĢIONĀLĀ SLIMNĪCA, Sabiedrība ar ierobežotu atbildību | D16: MP | E16: 50178 | F16: Piemaksa par radioloģisko izmeklējumu attēlu glabāšanu | G16: 4 | H16: 4.4 | I16: 0 | J16: 4.4 | K16: =J16 -> 4.4
A17: NVD Kurzemes nodaļa | B17: 170020401 | C17: LIEPĀJAS REĢIONĀLĀ SLIMNĪCA, Sabiedrība ar ierobežotu atbildību | D17: MP | E17: 50700 | F17: Vēdera dobuma un retroperitoneālās telpas orgānu ultrasonogrāfija | G17: 1 | H17: 8.99 | I17: 0 | J17: 8.99 | K17: =J17 -> 8.99
A18: NVD Kurzemes nodaļa | B18: 170020401 | C18: LIEPĀJAS REĢIONĀLĀ SLIMNĪCA, Sabiedrība ar ierobežotu atbildību | D18: MP | E18: 50744 | F18: Piemaksa manipulācijām 50696, 50697, 50700, 50709, 50713, 50714, 50716?50724, 50734, 50738, 17120 un 18045 par izmeklējuma veikšanu ar US aparātiem vērtībā virs 70 000 euro | G18: 1 | H18: 5.2 | I18: 0 | J18: 5.2 | K18: =J18 -> 5.2
A19: NVD Kurzemes nodaļa | B19: 170020401 | C19: LIEPĀJAS REĢIONĀLĀ SLIMNĪCA, Sabiedrība ar ierobežotu atbildību | D19: EP | E19: - | G19: 1 | H19: 15.33 | I19: 4 | J19: 19.33 | K19: =J19 -> 19.33
A20: NVD Kurzemes nodaļa | B20: 170020401 | C20: LIEPĀJAS REĢIONĀLĀ SLIMNĪCA, Sabiedrība ar ierobežotu atbildību | D20: EP | E20: - | G20: 27 | H20: 262.66 | I20: 108 | J20: 370.66 | K20: =J20 -> 370.66
A21: NVD Kurzemes nodaļa | B21: 170020401 | C21: LIEPĀJAS REĢIONĀLĀ SLIMNĪCA, Sabiedrība ar ierobežotu atbildību | D21: EP | E21: - | G21: 3 | H21: 39.24 | I21: 0 | J21: 39.24 | K21: =J21 -> 39.24
A22: NVD Kurzemes nodaļa | B22: 170020401 | C22: LIEPĀJAS REĢIONĀLĀ SLIMNĪCA, Sabiedrība ar ierobežotu atbildību | D22: MP | E22: 01070 | F22: Ginekologa, dzemdību speciālista veikta pirmreizēja vai atkārtota grūtnieces apskate (atbilstoši Ministru kabineta 2006. gada 25. jūlija noteikumiem Nr. 611 "Dzemdību palīdzības nodrošināšanas kārtība") | G22: 2 | H22: 53.64 | I22: 8 | J22: 61.64 | K22: =J22 -> 61.64
A23: NVD Kurzemes nodaļa | B23: 170020401 | C23: LIEPĀJAS REĢIONĀLĀ SLIMNĪCA, Sabiedrība ar ierobežotu atbildību | D23: MP | E23: 01078 | F23: Iztriepes paņemšana seksuāli transmisīvo slimību diagnostikai | G23: 3 | H23: 6.27 | I23: 0 | J23: 6.27 | K23: =J23 -> 6.27
A24: NVD Kurzemes nodaļa | B24: 170020401 | C24: LIEPĀJAS REĢIONĀLĀ SLIMNĪCA, Sabiedrība ar ierobežotu atbildību | D24: MP | E24: 01095 | F24: Dzemdes kakla materiāla paņemšana šķidruma citoloģijai vai CPV noteikšanai | G24: 1 | H24: 2.78 | I24: 0 | J24: 2.78 | K24: =J24 -> 2.78
A25: NVD Kurzemes nodaļa | B25: 170020401 | C25: LIEPĀJAS REĢIONĀLĀ SLIMNĪCA, Sabiedrība ar ierobežotu atbildību | D25: MP | E25: 17017 | F25: Redzes asuma noteikšana tuvumā vai tālumā | G25: 1 | H25: 2.25 | I25: 0 | J25: 2.25 | K25: =J25 -> 2.25
A26: NVD Kurzemes nodaļa | B26: 170020401 | C26: LIEPĀJAS REĢIONĀLĀ SLIMNĪCA, Sabiedrība ar ierobežotu atbildību | D26: MP | E26: 17018 | F26: Redzes asuma korekcija tuvumā vai tālumā | G26: 1 | H26: 2.25 | I26: 0 | J26: 2.25 | K26: =J26 -> 2.25
A27: NVD Kurzemes nodaļa | B27: 170020401 | C27: LIEPĀJAS REĢIONĀLĀ SLIMNĪCA, Sabiedrība ar ierobežotu atbildību | D27: MP | E27: 17065 | F27: Plaksta spraugas un kustību novērtējums | G27: 2 | H27: 10.68 | I27: 0 | J27: 10.68 | K27: =J27 -> 10.68
A28: NVD Kurzemes nodaļa | B28: 170020401 | C28: LIEPĀJAS REĢIONĀLĀ SLIMNĪCA, Sabiedrība ar ierobežotu atbildību | D28: MP | E28: 17080 | F28: Acs biomikroskopija abām acīm | G28: 1 | H28: 2.87 | I28: 0 | J28: 2.87 | K28: =J28 -> 2.87
A29: NVD Kurzemes nodaļa | B29: 170020401 | C29: LIEPĀJAS REĢIONĀLĀ SLIMNĪCA, Sabiedrība ar ierobežotu atbildību | D29: MP | E29: 17082 | F29: Biomikrooftalmoskopija (ar Goldmaņa lēcu) abām acīm un rezultātu salīdzinoša izvērtēšana | G29: 1 | H29: 6.73 | I29: 0 | J29: 6.73 | K29: =J29 -> 6.73
A30: NVD Kurzemes nodaļa | B30: 170020401 | C30: LIEPĀJAS REĢIONĀLĀ SLIMNĪCA, Sabiedrība ar ierobežotu atbildību | D30: MP | E30: 17101 | F30: Tonometrija abām acīm | G30: 1 | H30: 2.08 | I30: 0 | J30: 2.08 | K30: =J30 -> 2.08
A31: NVD Kurzemes nodaļa | B31: 170020401 | C31: LIEPĀJAS REĢIONĀLĀ SLIMNĪCA, Sabiedrība ar ierobežotu atbildību | D31: MP | E31: 18115 | F31: Sēra korķu izņemšana, arī abpusēja | G31: 1 | H31: 6.42 | I31: 0 | J31: 6.42 | K31: =J31 -> 6.42
A32: NVD Kurzemes nodaļa | B32: 170020401 | C32: LIEPĀJAS REĢIONĀLĀ SLIMNĪCA, Sabiedrība ar ierobežotu atbildību | D32: MP | E32: 18280 | F32: Audiometrija ? dzirdes sliekšņa pārbaude | G32: 1 | H32: 10.66 | I32: 0 | J32: 10.66 | K32: =J32 -> 10.66
A33: NVD Kurzemes nodaļa | B33: 170020401 | C33: LIEPĀJAS REĢIONĀLĀ SLIMNĪCA, Sabiedrība ar ierobežotu atbildību | D33: MP | E33: 20014 | F33: Brūču primārā ķirurģiskā apdare, ieskaitot izgriešanu un noslēgšanu | G33: 1 | H33: 0 | I33: 4 | J33: 4 | K33: =J33 -> 4
... A48: NVD Kurzemes nodaļa | B48: 170020401 | C48: LIEPĀJAS REĢIONĀLĀ SLIMNĪCA, Sabiedrība ar ierobežotu atbildību | D48: MP | E48: 50744 | F48: Piemaksa manipulācijām 50696, 50697, 50700, 50709, 50713, 50714, 50716?50724, 50734, 50738, 17120 un 18045 par izmeklējuma veikšanu ar US aparātiem vērtībā virs 70 000 euro | G48: 10 | H48: 52 | I48: 0 | J48: 52 | K48: =J48 -> 52
A49: NVD Kurzemes nodaļa | B49: 170020401 | C49: LIEPĀJAS REĢIONĀLĀ SLIMNĪCA, Sabiedrība ar ierobežotu atbildību | D49: EP | E49: - | G49: 2 | H49: 0 | I49: 12 | J49: 12 | K49: =J49 -> 12
A50: NVD Kurzemes nodaļa | B50: 170020401 | C50: LIEPĀJAS REĢIONĀLĀ SLIMNĪCA, Sabiedrība ar ierobežotu atbildību | D50: MP | E50: 06003 | F50: Elektrokardiogrammas ar 12 novadījumiem pieraksts | G50: 1 | H50: 1.63 | I50: 2 | J50: 3.63 | K50: =J50 -> 3.63
A51: NVD Kurzemes nodaļa | B51: 170020401 | C51: LIEPĀJAS REĢIONĀLĀ SLIMNĪCA, Sabiedrība ar ierobežotu atbildību | D51: MP | E51: 06004 | F51: Elektrokardiogrammas ar 12 novadījumiem apraksts | G51: 1 | H51: 5.28 | I51: 0 | J51: 5.28 | K51: =J51 -> 5.28
A52: NVD Kurzemes nodaļa | B52: 170024101 | C52: VECLIEPĀJAS PRIMĀRĀS VESELĪBAS APRŪPES CENTRS, Pašvaldības Sabiedrība ar ierobežotu atbildību | D52: EP | E52: - | G52: 1 | H52: 13.08 | I52: 0 | J52: 13.08 | K52: =J52 -> 13.08
A53: NVD Kurzemes nodaļa | B53: 170024104 | C53: JAUNLIEPĀJAS PRIMĀRĀS VESELĪBAS APRŪPES CENTRS, Sabiedrība ar ierobežotu atbildību | D53: EP | E53: - | G53: 12 | H53: 167.04 | I53: 56 | J53: 223.04 | K53: =J53 -> 223.04
A54: NVD Kurzemes nodaļa | B54: 170024104 | C54: JAUNLIEPĀJAS PRIMĀRĀS VESELĪBAS APRŪPES CENTRS, Sabiedrība ar ierobežotu atbildību | D54: EP | E54: - | G54: 7 | H54: 111.72 | I54: 0 | J54: 111.72 | K54: =J54 -> 111.72
A55: NVD Kurzemes nodaļa | B55: 170024104 | C55: JAUNLIEPĀJAS PRIMĀRĀS VESELĪBAS APRŪPES CENTRS, Sabiedrība ar ierobežotu atbildību | D55: MP | E55: 01078 | F55: Iztriepes paņemšana seksuāli transmisīvo slimību diagnostikai | G55: 4 | H55: 8.36 | I55: 0 | J55: 8.36 | K55: =J55 -> 8.36
A56: NVD Kurzemes nodaļa | B56: 170024104 | C56: JAUNLIEPĀJAS PRIMĀRĀS VESELĪBAS APRŪPES CENTRS, Sabiedrība ar ierobežotu atbildību | D56: MP | E56: 03180 | F56: Locītavas punkcija | G56: 1 | H56: 12.38 | I56: 4 | J56: 16.38 | K56: =J56 -> 16.38
A57: NVD Kurzemes nodaļa | B57: 170024104 | C57: JAUNLIEPĀJAS PRIMĀRĀS VESELĪBAS APRŪPES CENTRS, Sabiedrība ar ierobežotu atbildību | D57: MP | E57: 04103 | F57: Infiltrācijas anestēzija ar vietējo anestēzijas līdzekli, vada anestēzija kājas vai rokas pirkstam | G57: 3 | H57: 28.17 | I57: 0 | J57: 28.17 | K57: =J57 -> 28.17
A58: NVD Kurzemes nodaļa | B58: 170024104 | C58: JAUNLIEPĀJAS PRIMĀRĀS VESELĪBAS APRŪPES CENTRS, Sabiedrība ar ierobežotu atbildību | D58: MP | E58: 06003 | F58: Elektrokardiogrammas ar 12 novadījumiem pieraksts | G58: 1 | H58: 1.63 | I58: 2 | J58: 3.63 | K58: =J58 -> 3.63
A59: NVD Kurzemes nodaļa | B59: 170024104 | C59: JAUNLIEPĀJAS PRIMĀRĀS VESELĪBAS APRŪPES CENTRS, Sabiedrība ar ierobežotu atbildību | D59: MP | E59: 06004 | F59: Elektrokardiogrammas ar 12 novadījumiem apraksts | G59: 1 | H59: 5.28 | I59: 0 | J59: 5.28 | K59: =J59 -> 5.28
A60: NVD Kurzemes nodaļa | B60: 170024104 | C60: JAUNLIEPĀJAS PRIMĀRĀS VESELĪBAS APRŪPES CENTRS, Sabiedrība ar ierobežotu atbildību | D60: MP | E60: 20010 | F60: Mazas brūces primārā apdare, tualete. Nedzīstošu un dzīstošu brūču pārsiešana (brūces garums mazāks par 5 cm, virsma mazāka par 10 cm2, tilpums mazāks par 3 cm3) | G60: 1 | H60: 9.85 | I60: 0 | J60: 9.85 | K60: =J60 -> 9.85
A61: NVD Kurzemes nodaļa | B61: 170024104 | C61: JAUNLIEPĀJAS PRIMĀRĀS VESELĪBAS APRŪPES CENTRS, Sabiedrība ar ierobežotu atbildību | D61: MP | E61: 20030 | F61: Zāļu ievadīšana, dobumu skalošana abscesa un strutojošu brūču gadījumā, drenas maiņa | G61: 3 | H61: 28.56 | I61: 0 | J61: 28.56 | K61: =J61 -> 28.56
A62: NVD Kurzemes nodaļa | B62: 170024104 | C62: JAUNLIEPĀJAS PRIMĀRĀS VESELĪBAS APRŪPES CENTRS, Sabiedrība ar ierobežotu atbildību | D62: MP | E62: 20044 | F62: Virspusēja incīzija ar drenāžu/bez drenāžas (furunkuls, karbunkuls, panarīcijs, abscess, flegmona, mastīti) | G62: 1 | H62: 33.62 | I62: 4 | J62: 37.62 | K62: =J62 -> 37.62
A63: NVD Kurzemes nodaļa | B63: 170024104 | C63: JAUNLIEPĀJAS PRIMĀRĀS VESELĪBAS APRŪPES CENTRS, Sabiedrība ar ierobežotu atbildību | D63: MP | E63: 60484 | F63: SAVA speciālista atkārtota konsultācija klātienē, t.sk. dokumentācijas aizpildīšana | G63: 3 | H63: 40.14 | I63: 0 | J63: 40.14 | K63: =J63 -> 40.14
A64: NVD Kurzemes nodaļa | B64: 170024104 | C64: JAUNLIEPĀJAS PRIMĀRĀS VESELĪBAS APRŪPES CENTRS, Sabiedrība ar ierobežotu atbildību | D64: MP | E64: 01078 | F64: Iztriepes paņemšana seksuāli transmisīvo slimību diagnostikai | G64: 2 | H64: 4.18 | I64: 0 | J64: 4.18 | K64: =J64 -> 4.18
A65: NVD Kurzemes nodaļa | B65: 170024104 | C65: JAUNLIEPĀJAS PRIMĀRĀS VESELĪBAS APRŪPES CENTRS, Sabiedrība ar ierobežotu atbildību | D65: MP | E65: 03006 | F65: Locītavu stabilizācijas pārsēju uzlikšana | G65: 1 | H65: 1.52 | I65: 0 | J65: 1.52 | K65: =J65 -> 1.52
A66: NVD Kurzemes nodaļa | B66: 170024104 | C66: JAUNLIEPĀJAS PRIMĀRĀS VESELĪBAS APRŪPES CENTRS, Sabiedrība ar ierobežotu atbildību | D66: MP | E66: 06003 | F66: Elektrokardiogrammas ar 12 novadījumiem pieraksts | G66: 2 | H66: 3.26 | I66: 0 | J66: 3.26 | K66: =J66 -> 3.26
... A77: NVD Kurzemes nodaļa | B77: 170077420 | C77: I.Žarikova ārsta prakse, SIA | D77: MP | E77: 11057 | F77: Datorizēta encefalogrāfija ar biopotenciālu kartēšanu ar krāsainajiem attēliem | G77: 1 | H77: 64 | I77: 4 | J77: 68 | K77: =J77 -> 68
A78: NVD Kurzemes nodaļa | B78: 170077421 | C78: K.Balodes ārstes prakse, SIA | D78: EP | E78: - | G78: 2 | H78: 28 | I78: 4 | J78: 32 | K78: =J78 -> 32
A79: NVD Kurzemes nodaļa | B79: 170077434 | C79: Treimanis Armands - ārsta prakse ginekoloģijā, dzemdniecībā | D79: MP | E79: 01070 | F79: Ginekologa, dzemdību speciālista veikta pirmreizēja vai atkārtota grūtnieces apskate (atbilstoši Ministru kabineta 2006. gada 25. jūlija noteikumiem Nr. 611 "Dzemdību palīdzības nodrošināšanas kārtība") | G79: 1 | H79: 26.82 | I79: 4 | J79: 30.82 | K79: =J79 -> 30.82
A80: NVD Kurzemes nodaļa | B80: 170077434 | C80: Treimanis Armands - ārsta prakse ginekoloģijā, dzemdniecībā | D80: MP | E80: 01078 | F80: Iztriepes paņemšana seksuāli transmisīvo slimību diagnostikai | G80: 1 | H80: 2.09 | I80: 0 | J80: 2.09 | K80: =J80 -> 2.09
A81: NVD Kurzemes nodaļa | B81: 170077434 | C81: Treimanis Armands - ārsta prakse ginekoloģijā, dzemdniecībā | D81: MP | E81: 01095 | F81: Dzemdes kakla materiāla paņemšana šķidruma citoloģijai vai CPV noteikšanai | G81: 1 | H81: 2.78 | I81: 0 | J81: 2.78 | K81: =J81 -> 2.78
A82: NVD Kurzemes nodaļa | B82: 170077441 | C82: A.Lucenko ārsta prakse, SIA | D82: EP | E82: - | G82: 1 | H82: 23.24 | I82: 4 | J82: 27.24 | K82: =J82 -> 27.24
A83: NVD Kurzemes nodaļa | B83: 270000002 | C83: Renātes Krūkles privātprakse, SIA | D83: EP | E83: - | G83: 1 | H83: 13.08 | I83: 4 | J83: 17.08 | K83: =J83 -> 17.08
A84: NVD Kurzemes nodaļa | B84: 270000007 | C84: Zirne Ineta - ārsta prakse dermatoloģijā, veneroloģijā | D84: EP | E84: - | G84: 1 | H84: 15.33 | I84: 4 | J84: 19.33 | K84: =J84 -> 19.33
A85: NVD Kurzemes nodaļa | B85: 270000088 | C85: SN GURU, SIA | D85: EP | E85: - | G85: 1 | H85: 13.08 | I85: 0 | J85: 13.08 | K85: =J85 -> 13.08
A86: NVD Kurzemes nodaļa | B86: 270000088 | C86: SN GURU, SIA | D86: MP | E86: 16015 | F86: Spirāles ievadīšana | G86: 1 | H86: 8.59 | I86: 0 | J86: 8.59 | K86: =J86 -> 8.59
A87: NVD Kurzemes nodaļa | B87: 270000088 | C87: SN GURU, SIA | D87: MP | E87: 50695 | F87: Ultrasonogrāfijas izmeklējums dzemdniecībā, tai skaitā amortizācija ultrasonogrāfijas aparātam. Nenorādīt kopā ar manipulācijām 50694, 50743, 50744 | G87: 1 | H87: 28 | I87: 4 | J87: 32 | K87: =J87 -> 32
A88: NVD Kurzemes nodaļa | B88: 270020302 | C88: Ziemeļkurzemes reģionālā slimnīca, SIA | D88: EP | E88: - | G88: 13 | H88: 133.9 | I88: 52 | J88: 185.9 | K88: =J88 -> 185.9
A89: NVD Kurzemes nodaļa | B89: 270020302 | C89: Ziemeļkurzemes reģionālā slimnīca, SIA | D89: MP | E89: 04101 | F89: Virsmas anestēzija rīkles, balsenes, bronhu rajonam, dziļākiem deguna rajoniem, bungādiņai, bungu dobumam vai urīnvadam un urīnpūslim | G89: 4 | H89: 33.6 | I89: 0 | J89: 33.6 | K89: =J89 -> 33.6
A90: NVD Kurzemes nodaļa | B90: 270020302 | C90: Ziemeļkurzemes reģionālā slimnīca, SIA | D90: MP | E90: 06085 | F90: Digitālo artēriju pulsa pierakstīšana vai spiediena mērīšana | G90: 3 | H90: 0 | I90: 12 | J90: 12 | K90: =J90 -> 12
A91: NVD Kurzemes nodaļa | B91: 270020302 | C91: Ziemeļkurzemes reģionālā slimnīca, SIA | D91: MP | E91: 11037 | F91: Vibrācijas sajūtas pārbaude ar kamertoņiem | G91: 1 | H91: 6.59 | I91: 0 | J91: 6.59 | K91: =J91 -> 6.59
A92: NVD Kurzemes nodaļa | B92: 270020302 | C92: Ziemeļkurzemes reģionālā slimnīca, SIA | D92: MP | E92: 17001 | F92: Subjektīva refrakcijas noteikšana | G92: 1 | H92: 1.92 | I92: 0 | J92: 1.92 | K92: =J92 -> 1.92
A93: NVD Kurzemes nodaļa | B93: 270020302 | C93: Ziemeļkurzemes reģionālā slimnīca, SIA | D93: MP | E93: 17017 | F93: Redzes asuma noteikšana tuvumā vai tālumā | G93: 3 | H93: 6.75 | I93: 0 | J93: 6.75 | K93: =J93 -> 6.75
A94: NVD Kurzemes nodaļa | B94: 270020302 | C94: Ziemeļkurzemes reģionālā slimnīca, SIA | D94: MP | E94: 17018 | F94: Redzes asuma korekcija tuvumā vai tālumā | G94: 3 | H94: 6.75 | I94: 0 | J94: 6.75 | K94: =J94 -> 6.75
A95: NVD Kurzemes nodaļa | B95: 270020302 | C95: Ziemeļkurzemes reģionālā slimnīca, SIA | D95: MP | E95: 17028 | F95: Asaru izdalīšanās daudzuma un/vai pārtraukuma laika (break-up-time) noteikšana | G95: 2 | H95: 6.54 | I95: 0 | J95: 6.54 | K95: =J95 -> 6.54
A96: NVD Kurzemes nodaļa | B96: 270020302 | C96: Ziemeļkurzemes reģionālā slimnīca, SIA | D96: MP | E96: 17030 | F96: Autorefraktometrija | G96: 2 | H96: 10.06 | I96: 0 | J96: 10.06 | K96: =J96 -> 10.06
A97: NVD Kurzemes nodaļa | B97: 270020302 | C97: Ziemeļkurzemes reģionālā slimnīca, SIA | D97: MP | E97: 17052 | F97: Abu acu kustības diferenciālanalīze | G97: 1 | H97: 5.14 | I97: 0 | J97: 5.14 | K97: =J97 -> 5.14
A98: NVD Kurzemes nodaļa | B98: 270020302 | C98: Ziemeļkurzemes reģionālā slimnīca, SIA | D98: MP | E98: 17065 | F98: Plaksta spraugas un kustību novērtējums | G98: 1 | H98: 5.34 | I98: 0 | J98: 5.34 | K98: =J98 -> 5.34
A99: NVD Kurzemes nodaļa | B99: 270020302 | C99: Ziemeļkurzemes reģionālā slimnīca, SIA | D99: MP | E99: 17080 | F99: Acs biomikroskopija abām acīm | G99: 2 | H99: 5.74 | I99: 0 | J99: 5.74 | K99: =J99 -> 5.74
A100: NVD Kurzemes nodaļa | B100: 270020302 | C100: Ziemeļkurzemes reģionālā slimnīca, SIA | D100: MP | E100: 17088 | F100: Binokulārā netiešā oftalmoskopija | G100: 2 | H100: 10.9 | I100: 0 | J100: 10.9 | K100: =J100 -> 10.9
... A132: NVD Kurzemes nodaļa | B132: 270024101 | C132: Ventspils poliklīnika, Pašvaldības SIA | D132: MP | E132: 50744 | F132: Piemaksa manipulācijām 50696, 50697, 50700, 50709, 50713, 50714, 50716?50724, 50734, 50738, 17120 un 18045 par izmeklējuma veikšanu ar US aparātiem vērtībā virs 70 000 euro | G132: 3 | H132: 15.6 | I132: 0 | J132: 15.6 | K132: =J132 -> 15.6
A133: NVD Kurzemes nodaļa | B133: 270024101 | C133: Ventspils poliklīnika, Pašvaldības SIA | D133: EP | E133: - | G133: 16 | H133: 269.72 | I133: 72 | J133: 341.72 | K133: =J133 -> 341.72
A134: NVD Kurzemes nodaļa | B134: 270024101 | C134: Ventspils poliklīnika, Pašvaldības SIA | D134: MP | E134: 04103 | F134: Infiltrācijas anestēzija ar vietējo anestēzijas līdzekli, vada anestēzija kājas vai rokas pirkstam | G134: 1 | H134: 9.39 | I134: 0 | J134: 9.39 | K134: =J134 -> 9.39
A135: NVD Kurzemes nodaļa | B135: 270024101 | C135: Ventspils poliklīnika, Pašvaldības SIA | D135: MP | E135: 14025 | F135: Ādas, gļotādu un ādas derivātu dermatoskopija | G135: 3 | H135: 5.07 | I135: 0 | J135: 5.07 | K135: =J135 -> 5.07
A136: NVD Kurzemes nodaļa | B136: 270024101 | C136: Ventspils poliklīnika, Pašvaldības SIA | D136: MP | E136: 17017 | F136: Redzes asuma noteikšana tuvumā vai tālumā | G136: 1 | H136: 2.25 | I136: 0 | J136: 2.25 | K136: =J136 -> 2.25
A137: NVD Kurzemes nodaļa | B137: 270024101 | C137: Ventspils poliklīnika, Pašvaldības SIA | D137: MP | E137: 17018 | F137: Redzes asuma korekcija tuvumā vai tālumā | G137: 1 | H137: 2.25 | I137: 0 | J137: 2.25 | K137: =J137 -> 2.25
A138: NVD Kurzemes nodaļa | B138: 270024101 | C138: Ventspils poliklīnika, Pašvaldības SIA | D138: MP | E138: 17030 | F138: Autorefraktometrija | G138: 1 | H138: 5.03 | I138: 0 | J138: 5.03 | K138: =J138 -> 5.03
A139: NVD Kurzemes nodaļa | B139: 270024101 | C139: Ventspils poliklīnika, Pašvaldības SIA | D139: MP | E139: 17097 | F139: Fundus oculi fotografēšana bez kontrastvielas abām acīm | G139: 1 | H139: 11.58 | I139: 0 | J139: 11.58 | K139: =J139 -> 11.58
A140: NVD Kurzemes nodaļa | B140: 270024101 | C140: Ventspils poliklīnika, Pašvaldības SIA | D140: MP | E140: 18021 | F140: Deguna galveno dobumu un/vai deguna?rīkles dobuma endoskopiska izmeklēšana, ieskaitot balss saišu izmeklēšanu | G140: 3 | H140: 37.2 | I140: 21 | J140: 58.2 | K140: =J140 -> 58.2
A141: NVD Kurzemes nodaļa | B141: 270024101 | C141: Ventspils poliklīnika, Pašvaldības SIA | D141: MP | E141: 18115 | F141: Sēra korķu izņemšana, arī abpusēja | G141: 3 | H141: 19.26 | I141: 0 | J141: 19.26 | K141: =J141 -> 19.26
A142: NVD Kurzemes nodaļa | B142: 270024101 | C142: Ventspils poliklīnika, Pašvaldības SIA | D142: MP | E142: 18135 | F142: Bungādiņas un/vai bungu dobuma izmeklēšana ar binokulārmikroskopiju. Norāda vienu reizi apmeklējuma laikā | G142: 3 | H142: 24.84 | I142: 0 | J142: 24.84 | K142: =J142 -> 24.84
A143: NVD Kurzemes nodaļa | B143: 270024101 | C143: Ventspils poliklīnika, Pašvaldības SIA | D143: MP | E143: 18280 | F143: Audiometrija ? dzirdes sliekšņa pārbaude | G143: 1 | H143: 10.66 | I143: 0 | J143: 10.66 | K143: =J143 -> 10.66
A144: NVD Kurzemes nodaļa | B144: 270024101 | C144: Ventspils poliklīnika, Pašvaldības SIA | D144: MP | E144: 18284 | F144: Timpanometrija ar impedances mērīšanu, bungādiņas dzirdes skriemeļu aparāta kustīguma noteikšana ar grafisku līknes ceļa attēlošanu (vienpusēji vai abpusēji) | G144: 1 | H144: 14.4 | I144: 0 | J144: 14.4 | K144: =J144 -> 14.4
A145: NVD Kurzemes nodaļa | B145: 270024101 | C145: Ventspils poliklīnika, Pašvaldības SIA | D145: MP | E145: 18285 | F145: Refleksu noteikšana iekšējās auss muskuļiem ar impedances mērīšanu, vismaz ar četrām pārbaudes frekvencēm, ar kontralaterāliem novadījumiem, nosakot arī refleksa izzušanas brīdi (vienpusēji vai abpusēji) | G145: 1 | H145: 14.26 | I145: 0 | J145: 14.26 | K145: =J145 -> 14.26
... A163: NVD Kurzemes nodaļa | B163: 270024101 | C163: Ventspils poliklīnika, Pašvaldības SIA | D163: MP | E163: 50743 | F163: Piemaksa manipulācijām 50696, 50697, 50713, 50714, 50716, 50717, 50718, 50719, 50723, 50734, 50738, 50700, 50709, 50720?50724, 17120 un 18045 par izmeklējuma veikšanu ar US aparātiem vērtībā līdz 69 999 euro. Manipulāciju nenorāda, ja US aparāta iegādes vērtība ir zem 15 000 euro | G163: 2 | H163: 6.12 | I163: 0 | J163: 6.12 | K163: =J163 -> 6.12
A164: NVD Kurzemes nodaļa | B164: 270024101 | C164: Ventspils poliklīnika, Pašvaldības SIA | D164: EP | E164: - | G164: 1 | H164: 13.08 | I164: 4 | J164: 17.08 | K164: =J164 -> 17.08
A165: NVD Kurzemes nodaļa | B165: 270024101 | C165: Ventspils poliklīnika, Pašvaldības SIA | D165: EP | E165: - | G165: 1 | H165: 15.33 | I165: 4 | J165: 19.33 | K165: =J165 -> 19.33
A166: NVD Kurzemes nodaļa | B166: 270024101 | C166: Ventspils poliklīnika, Pašvaldības SIA | D166: MP | E166: 06003 | F166: Elektrokardiogrammas ar 12 novadījumiem pieraksts | G166: 1 | H166: 1.63 | I166: 2 | J166: 3.63 | K166: =J166 -> 3.63
A167: NVD Kurzemes nodaļa | B167: 270024101 | C167: Ventspils poliklīnika, Pašvaldības SIA | D167: MP | E167: 06004 | F167: Elektrokardiogrammas ar 12 novadījumiem apraksts | G167: 1 | H167: 5.28 | I167: 0 | J167: 5.28 | K167: =J167 -> 5.28
A168: NVD Kurzemes nodaļa | B168: 270064101 | C168: Kronoss, Sabiedrība ar ierobežotu atbildību | D168: MP | E168: 50013 | F168: Rentgenogrāfijas izmeklējumi (tai skaitā amortizācijas izmaksas) divās projekcijās | G168: 8 | H168: 100.64 | I168: 24 | J168: 124.64 | K168: =J168 -> 124.64
A169: NVD Kurzemes nodaļa | B169: 270064101 | C169: Kronoss, Sabiedrība ar ierobežotu atbildību | D169: MP | E169: 50178 | F169: Piemaksa par radioloģisko izmeklējumu attēlu glabāšanu | G169: 4 | H169: 4.4 | I169: 0 | J169: 4.4 | K169: =J169 -> 4.4
A170: NVD Kurzemes nodaļa | B170: 270064101 | C170: Kronoss, Sabiedrība ar ierobežotu atbildību | D170: MP | E170: 50713 | F170: Kakla un citu virspusējo audu (t.sk. vairogdziedzera, epitēlijķermenīšu, limfmezglu) ultrasonogrāfija | G170: 1 | H170: 10.86 | I170: 4 | J170: 14.86 | K170: =J170 -> 14.86
A171: NVD Kurzemes nodaļa | B171: 270064101 | C171: Kronoss, Sabiedrība ar ierobežotu atbildību | D171: MP | E171: 50744 | F171: Piemaksa manipulācijām 50696, 50697, 50700, 50709, 50713, 50714, 50716?50724, 50734, 50738, 17120 un 18045 par izmeklējuma veikšanu ar US aparātiem vērtībā virs 70 000 euro | G171: 1 | H171: 5.2 | I171: 0 | J171: 5.2 | K171: =J171 -> 5.2
A172: NVD Kurzemes nodaļa | B172: 270064101 | C172: Kronoss, Sabiedrība ar ierobežotu atbildību | D172: MP | E172: 50700 | F172: Vēdera dobuma un retroperitoneālās telpas orgānu ultrasonogrāfija | G172: 1 | H172: 8.99 | I172: 0 | J172: 8.99 | K172: =J172 -> 8.99
A173: NVD Kurzemes nodaļa | B173: 270064101 | C173: Kronoss, Sabiedrība ar ierobežotu atbildību | D173: MP | E173: 50744 | F173: Piemaksa manipulācijām 50696, 50697, 50700, 50709, 50713, 50714, 50716?50724, 50734, 50738, 17120 un 18045 par izmeklējuma veikšanu ar US aparātiem vērtībā virs 70 000 euro | G173: 1 | H173: 5.2 | I173: 0 | J173: 5.2 | K173: =J173 -> 5.2
A174: NVD Kurzemes nodaļa | B174: 270064101 | C174: Kronoss, Sabiedrība ar ierobežotu atbildību | D174: EP | E174: - | G174: 2 | H174: 36.96 | I174: 8 | J174: 44.96 | K174: =J174 -> 44.96
...
