Workbook

Sheet 2026 gada min. h tarifa likme
B4: Minimālās stundas tarifa likmes apmērs darbiniekiem, kuri strādā 5 darba dienu nedēļu un 40 stundas nedēļā* / 2026. gads
B5: (saskaņā ar Darba likuma (DL) 131.panta pirmo daļu un 133.panta pirmo daļu)
B6: Mēnesis | C6: Nostrādāto stundu skaits | D6: Apmaksātās atlīdzības attaisnojošu iemeslu dēļ | H6: Kopā apmaksājamo stundu skaits | I6: Aprēķinātā minimālā mēneša darba alga, EUR | J6: Aprēķinātā apmaksājamā atlīdzība, EUR | K6: Kopā aprēķinātā minimālā mēneša darba alga un apmaksājamā atlīdzība, EUR | L6: Valstī noteiktā minimālā mēneša darba alga, EUR | M6: Minimālā stundas tarifa likme, EUR | N6: 23,59% DD VSAOI | O6: Atlīdzības izmaksas kopā/h
D7: svētku dienu | F7: pirmssvētku dienu
D8: stundu skaits (saskaņā ar DL 74.panta pirmās daļas 8.punktu) | E8: kalendarā diena | F8: stundu skaits (saskaņā ar DL 135.pantu) | G8: kalendarā diena
B9: A | C9: 1 | D9: 2 | E9: 3 | F9: 4 | G9: 5 | H9: 6=(1 + 2 + 4) | I9: 7=(1 x 11) | J9: 8=(2 + 4) x 11 | K9: 9=(7+ 8) | L9: 10 | M9: 11=(10 / 6) | N9: 12=11*23,59% | O9: 13=11+12
B10: Janvāris | C10: 168 | D10: 8 | E10: 01.01.2026. | F10: 0 | H10: =C10+D10+F10 -> 176 | I10: 744.5455 | J10: 35.4545 | K10: 780 | L10: 780 | M10: =L10/H10 -> 4.4318 | N10: =M10*23.59 % -> 1.05 | O10: =SUM(M10:N10) -> 5.48
B11: Februāris | C11: 160 | D11: 0 | F11: 0 | H11: =C11+D11+F11 -> 160 | I11: 780 | J11: 0 | K11: 780 | L11: 780 | M11: =L11/H11 -> 4.875 | N11: =M11*23.59 % -> 1.15 | O11: =SUM(M11:N11) -> 6.03
B12: Marts | C12: 176 | D12: 0 | F12: 0 | H12: =C12+D12+F12 -> 176 | I12: 780 | J12: 0 | K12: 780 | L12: 780 | M12: =L12/H12 -> 4.4318 | N12: =M12*23.59 % -> 1.05 | O12: =SUM(M12:N12) -> 5.48
B13: Aprīlis | C13: 158 | D13: 16 | E13: 03.04.2026.; 06.04.2026. | F13: 2 | G13: 02.04.2026.; 30.04.2026. | H13: =C13+D13+F13 -> 176 | I13: 700.2273 | J13: 79.7727 | K13: 780 | L13: 780 | M13: =L13/H13 -> 4.4318 | N13: =M13*23.59 % -> 1.05 | O13: =SUM(M13:N13) -> 5.48
B14: Maijs | C14: 152 | D14: 16 | E14: 01.05.2026.; 04.05.2026. | F14: 0 | H14: =C14+D14+F14 -> 168 | I14: 705.7143 | J14: 74.2857 | K14: 780 | L14: 780 | M14: =L14/H14 -> 4.6429 | N14: =M14*23.59 % -> 1.1 | O14: =SUM(M14:N14) -> 5.74
B15: Jūnijs | C15: 159 | D15: 16 | E15: 23.06.2026.; 24.06.2026. | F15: 1 | G15: 27.06.2026. | H15: =C15+D15+F15 -> 176 | I15: 704.6591 | J15: 75.3409 | K15: 780 | L15: 780 | M15: =L15/H15 -> 4.4318 | N15: =M15*23.59 % -> 1.05 | O15: =SUM(M15:N15) -> 5.48
B16: Jūlijs | C16: 184 | D16: 0 | F16: 0 | H16: =C16+D16+F16 -> 184 | I16: 780 | J16: =(D16+F16)*M16 -> 0 | K16: =I16+J16 -> 780 | L16: 780 | M16: =L16/H16 -> 4.2391 | N16: =M16*23.59 % -> 1 | O16: =SUM(M16:N16) -> 5.24
B17: Augusts | C17: 168 | D17: 0 | F17: 0 | H17: =C17+D17+F17 -> 168 | I17: 780 | J17: =(D17+F17)*M17 -> 0 | K17: =I17+J17 -> 780 | L17: 780 | M17: =L17/H17 -> 4.6429 | N17: =M17*23.59 % -> 1.1 | O17: =SUM(M17:N17) -> 5.74
B18: Septembris | C18: 176 | D18: 0 | F18: 0 | H18: =C18+D18+F18 -> 176 | I18: 780 | J18: =(D18+F18)*M18 -> 0 | K18: =I18+J18 -> 780 | L18: 780 | M18: =L18/H18 -> 4.4318 | N18: =M18*23.59 % -> 1.05 | O18: =SUM(M18:N18) -> 5.48
B19: Oktobris | C19: 176 | D19: 0 | F19: 0 | H19: =C19+D19+F19 -> 176 | I19: 780 | J19: =(D19+F19)*M19 -> 0 | K19: =I19+J19 -> 780 | L19: 780 | M19: =L19/H19 -> 4.4318 | N19: =M19*23.59 % -> 1.05 | O19: =SUM(M19:N19) -> 5.48
B20: Novembris | C20: 159 | D20: 8 | E20: 18.11.2026. | F20: 1 | G20: 17.11.2026. | H20: =C20+D20+F20 -> 168 | I20: 738.2143 | J20: 41.7857 | K20: 780 | L20: 780 | M20: =L20/H20 -> 4.6429 | N20: =M20*23.59 % -> 1.1 | O20: =SUM(M20:N20) -> 5.74
B21: Decembris | C21: 158 | D21: 24 | E21: 24.12.2026; 25.12.2026.; 31.12.2026. | F21: 2 | G21: 23.12.2026.; 30.12.2026. | H21: =C21+D21+F21 -> 184 | I21: 669.7826 | J21: 110.2174 | K21: 780 | L21: 780 | M21: =L21/H21 -> 4.2391 | N21: =M21*23.59 % -> 1 | O21: =SUM(M21:N21) -> 5.24
B23: * | C23: https://www.lm.gov.lv/lv/minimala-darba-alga

Sheet 2026 budžeta aprēķins
A1: Asistenta pakalpojuma budžeta aprēķins par 2026.gadu
A2: Programma- 12.00.00 “Finansējums asistenta pakalpojuma nodrošināšanai personai ar invaliditāti pārvietošanas atbalstam un pašaprūpes veikšanai”
A4: Izglītojamo skaita aprēķins
A6: EKK | B6: Izglītības pakāpe | C6: Planotais izglītojamo skaits | D6: 5 % pieaugums | E6: KOPĀ
A7: A | B7: B | C7: 1 | D7: 2=1*5% | E7: 3
A8: Pašvaldības
A9: 7460 | B9: Pirmsk. izgl.iest.* | C9: =239 -> 239 | D9: 11 | E9: =C9+D9 -> 250 | F9: =SUM(E9:E13) -> 599
B10: 1.klase | C10: 54 | D10: 3 | E10: =C10+D10 -> 57
B11: 2.-8.; 10.-11. | C11: 240 | D11: 11 | E11: =C11+D11 -> 251
B12: 9.klase | C12: 38 | D12: 2 | E12: =C12+D12 -> 40
B13: 12.klase | C13: 1 | E13: =C13+D13 -> 1
A14: Profesionālās izglītības iestādes
A15: 1000 | B15: Prof.sk | C15: 2 | E15: =C15+D15 -> 2 | F15: =E15+E16 -> 3
A16: 7471 | B16: Prof.sk | D16: 1 | E16: =C16+D16 -> 1
A17: Priv sk.
A18: 3000 | B18: Pirmsk. izgl.iest. | C18: =26 -> 26 | D18: 1 | E18: =C18+D18 -> 27 | F18: =SUM(E18:E22) -> 81
B19: 1.klase | C19: 12 | D19: 1 | E19: =C19+D19 -> 13
B20: 2.-8.; 10.-11. | C20: 34 | D20: 2 | E20: =C20+D20 -> 36
B21: 9.klase | C21: 3 | E21: =C21+D21 -> 3
B22: 12.klase | C22: 1 | D22: 1 | E22: =C22+D22 -> 2
C23: =SUM(C9:C22) -> 650 | D23: =SUM(D9:D22) -> 33 | E23: =SUM(E9:E22) -> 683 | F23: =F9+F15+F18 -> 683
A25: Izglītojamo skaita 5% apmērā pieaugums | D25: =C23*0.05 -> 33
A28: Minimālā alga 2026.gadā | M28: 780
A29: Mēnesis | B29: Darba dienu un mācību dienu skaits 2026.gada menešos | G29: Cilvēkstundu skaits mēnesī | L29: 2025.gadā Valsts nodrošinātā atlīdzība par vienu asistenta pakalpojuma stundu | M29: Aprēķinātā stundas tarifa likme atbilstoši 2026.gadā planotajai minimālajai algai | N29: DD VSAOI | O29: Atlīdzības izmaksas kopā par vienu asistenta pakalpojuma stundu | P29: MK noteikumos 2026.gadā plānotā valsts nodrošinātā atlīdzība par vienu asistenta pakalpojuma stundu | Q29: Izglītojamo skaits Prof izgl. iestādēs (EKK-1000) | R29: Izglītojamo skaits Prof izgl. iestādēs (EKK-7471) | S29: Izglītojamo skaits pašvaldībās (EKK-7460) | X29: Izglītojamo skaits privātajās izglītības iestādēs (EKK-3000) | AC29: KOPĀ | AD29: Finansējuma aprēķins Prof izgl. iestādēs (EKK-1000) | AE29: Finansējuma aprēķins Prof izgl. iestādēs (EKK-7471) | AF29: Finansējuma aprēķins pašvaldībās (EKK-7460) | AL29: Finansējuma aprēķins privātajās izglītības iestādēs (EKK-3000) | AR29: KOPĀ
B30: Pirmsk. Izgl. Iest., prof.sk. | C30: 1.klase | D30: 2-8.; 10-11. klase | E30: 9.klase | F30: 12.klase | G30: Pirmsk. Izgl. Iest., prof.sk. | H30: 1.klase | I30: 2-8.; 10-11. klase | J30: 9.klase | K30: 12.klase | N30: 0.2359 | S30: Pirmsk. Izgl. Iest. | T30: 1.klase | U30: 2-8.; 10-11. klase | V30: 9.klase | W30: 12.klase | X30: Pirmsk. Izgl. Iest. | Y30: 1.klase | Z30: 2-8.; 10-11. klase | AA30: 9.klase | AB30: 12.klase | AF30: Pirmsk. Izgl. Iest. | AG30: 1.klase | AH30: 2-8.; 10-11. klase | AI30: 9.klase | AJ30: 12.klase | AK30: Kopā | AL30: Pirmsk. Izgl. Iest. | AM30: 1.klase | AN30: 2-8.; 10-11. klase | AO30: 9.klase | AP30: 12.klase | AQ30: Kopā
A31: A | B31: 1 | C31: 2 | D31: 3 | E31: 4 | F31: 5 | G31: 6 | H31: 7 | I31: 8 | J31: 9 | K31: 10 | L31: 11 | M31: 12 | N31: 13=12*DD VSAOI | O31: 14=12+13 | P31: 15=12 vai, ja 14<11, tad 15=11 | Q31: 16 | R31: 17 | S31: 18 | T31: 19 | U31: 20 | V31: 21 | W31: 22 | X31: 23 | Y31: 24 | Z31: 25 | AA31: 26 | AB31: 27 | AC31: 28=SUM(16:27) | AD31: 29=6*15*16 | AE31: 30=6*15*17 | AF31: 31=6*15*18 | AG31: 32=7*15*19 | AH31: 33=8*15*20 | AI31: 34=9*15*21 | AJ31: 35=10*15*22 | AK31: 36=31+32+33+34+35 | AL31: 37=6*15*23 | AM31: 38=7*15*24 | AN31: 39=8*15*25 | AO31: 40=9*15*26 | AP31: 41=10*15*27 | AQ31: 42=37+38+39+40+41 | AR31: 43=29+30+36+42
A32: janvāris | B32: 21 | C32: 20 | D32: 20 | E32: 20 | F32: 20 | G32: =B32*8 -> 168 | H32: =C32*8 -> 160 | I32: =D32*8 -> 160 | J32: =E32*8 -> 160 | K32: =F32*8 -> 160 | L32: 5.72 | M32: ='2026 gada min. h tarifa likme'!M10 -> 4.4318 | N32: =M32*$N$30 -> 1.05 | O32: =M32+N32 -> 5.48 | P32: 5.72 | Q32: =$E$15 -> 2 | R32: =$E$16 -> 1 | S32: =$E$9 -> 250 | T32: =$E$10 -> 57 | U32: =$E$11 -> 251 | V32: =$E$12 -> 40 | W32: =$E$13 -> 1 | X32: =$E$18 -> 27 | Y32: =$E$19 -> 13 | Z32: =$E$20 -> 36 | AA32: =$E$21 -> 3 | AB32: =$E$22 -> 2 | AC32: =SUM(Q32:AB32) -> 683 | AD32: =G32*P32*Q32 -> 1921.92 | AE32: =G32*P32*R32 -> 960.96 | AF32: =G32*P32*S32 -> 240240 | AG32: =H32*P32*T32 -> 52166.4 | AH32: =I32*P32*U32 -> 229715.2 | AI32: =J32*P32*V32 -> 36608 | AJ32: =K32*P32*W32 -> 915.2 | AK32: =SUM(AF32:AJ32) -> 559644.8 | AL32: =G32*P32*X32 -> 25945.92 | AM32: =H32*P32*Y32 -> 11897.6 | AN32: =I32*P32*Z32 -> 32947.2 | AO32: =J32*P32*AA32 -> 2745.6 | AP32: =K32*P32*AB32 -> 1830.4 | AQ32: =SUM(AL32:AP32) -> 75366.72 | AR32: =AD32+AE32+AK32+AQ32 -> 637894.4
A33: februāris | B33: 20 | C33: 15 | D33: 20 | E33: 20 | F33: 20 | G33: =B33*8 -> 160 | H33: =C33*8 -> 120 | I33: =D33*8 -> 160 | J33: =E33*8 -> 160 | K33: =F33*8 -> 160 | L33: 5.72 | M33: ='2026 gada min. h tarifa likme'!M11 -> 4.875 | N33: =M33*$N$30 -> 1.15 | O33: =M33+N33 -> 6.03 | P33: =M33+N33 -> 6.03 | Q33: =$E$15 -> 2 | R33: =$E$16 -> 1 | S33: =S32 -> 250 | T33: =$E$10 -> 57 | U33: =$E$11 -> 251 | V33: =$E$12 -> 40 | W33: =$E$13 -> 1 | X33: =$E$18 -> 27 | Y33: =$E$19 -> 13 | Z33: =$E$20 -> 36 | AA33: =$E$21 -> 3 | AB33: =$E$22 -> 2 | AC33: =SUM(Q33:AB33) -> 683 | AD33: =G33*P33*Q33 -> 1929.6 | AE33: =G33*P33*R33 -> 964.8 | AF33: =G33*P33*S33 -> 241200 | AG33: =H33*P33*T33 -> 41245.2 | AH33: =I33*P33*U33 -> 242164.8 | AI33: =J33*P33*V33 -> 38592 | AJ33: =K33*P33*W33 -> 964.8 | AK33: =SUM(AF33:AJ33) -> 564166.8 | AL33: =G33*P33*X33 -> 26049.6 | AM33: =H33*P33*Y33 -> 9406.8 | AN33: =I33*P33*Z33 -> 34732.8 | AO33: =J33*P33*AA33 -> 2894.4 | AP33: =K33*P33*AB33 -> 1929.6 | AQ33: =SUM(AL33:AP33) -> 75013.2 | AR33: =AD33+AE33+AK33+AQ33 -> 642074.4
A34: marts | B34: 22 | C34: 17 | D34: 17 | E34: 17 | F34: 17 | G34: =(B34*8) -> 176 | H34: =(C34*8) -> 136 | I34: =(D34*8) -> 136 | J34: =(E34*8) -> 136 | K34: =(F34*8) -> 136 | L34: 5.72 | M34: ='2026 gada min. h tarifa likme'!M12 -> 4.4318 | N34: =M34*$N$30 -> 1.05 | O34: =M34+N34 -> 5.48 | P34: 5.72 | Q34: =$E$15 -> 2 | R34: =$E$16 -> 1 | S34: =S33 -> 250 | T34: =$E$10 -> 57 | U34: =$E$11 -> 251 | V34: =$E$12 -> 40 | W34: =$E$13 -> 1 | X34: =$E$18 -> 27 | Y34: =$E$19 -> 13 | Z34: =$E$20 -> 36 | AA34: =$E$21 -> 3 | AB34: =$E$22 -> 2 | AC34: =SUM(Q34:AB34) -> 683 | AD34: =G34*P34*Q34 -> 2013.44 | AE34: =G34*P34*R34 -> 1006.72 | AF34: =G34*P34*S34 -> 251680 | AG34: =H34*P34*T34 -> 44341.44 | AH34: =I34*P34*U34 -> 195257.92 | AI34: =J34*P34*V34 -> 31116.8 | AJ34: =K34*P34*W34 -> 777.92 | AK34: =SUM(AF34:AJ34) -> 523174.08 | AL34: =G34*P34*X34 -> 27181.44 | AM34: =H34*P34*Y34 -> 10112.96 | AN34: =I34*P34*Z34 -> 28005.12 | AO34: =J34*P34*AA34 -> 2333.76 | AP34: =K34*P34*AB34 -> 1555.84 | AQ34: =SUM(AL34:AP34) -> 69189.12 | AR34: =AD34+AE34+AK34+AQ34 -> 595383.36
A35: aprīlis | B35: 20 | C35: 20 | D35: 20 | E35: 20 | F35: 20 | G35: =(B35*8)-2 -> 158 | H35: =(C35*8)-2 -> 158 | I35: =(D35*8)-2 -> 158 | J35: =(E35*8)-2 -> 158 | K35: =(F35*8)-2 -> 158 | L35: 5.72 | M35: ='2026 gada min. h tarifa likme'!M13 -> 4.4318 | N35: =M35*$N$30 -> 1.05 | O35: =M35+N35 -> 5.48 | P35: 5.72 | Q35: =$E$15 -> 2 | R35: =$E$16 -> 1 | S35: =S34 -> 250 | T35: =$E$10 -> 57 | U35: =$E$11 -> 251 | V35: =$E$12 -> 40 | W35: =$E$13 -> 1 | X35: =$E$18 -> 27 | Y35: =$E$19 -> 13 | Z35: =$E$20 -> 36 | AA35: =$E$21 -> 3 | AB35: =$E$22 -> 2 | AC35: =SUM(Q35:AB35) -> 683 | AD35: =G35*P35*Q35 -> 1807.52 | AE35: =G35*P35*R35 -> 903.76 | AF35: =G35*P35*S35 -> 225940 | AG35: =H35*P35*T35 -> 51514.32 | AH35: =I35*P35*U35 -> 226843.76 | AI35: =J35*P35*V35 -> 36150.4 | AJ35: =K35*P35*W35 -> 903.76 | AK35: =SUM(AF35:AJ35) -> 541352.24 | AL35: =G35*P35*X35 -> 24401.52 | AM35: =H35*P35*Y35 -> 11748.88 | AN35: =I35*P35*Z35 -> 32535.36 | AO35: =J35*P35*AA35 -> 2711.28 | AP35: =K35*P35*AB35 -> 1807.52 | AQ35: =SUM(AL35:AP35) -> 73204.56 | AR35: =AD35+AE35+AK35+AQ35 -> 617268.08
A36: maijs | B36: 19 | C36: 19 | D36: 19 | E36: 19 | F36: 19 | G36: =(B36*8) -> 152 | H36: =(C36*8) -> 152 | I36: =(D36*8) -> 152 | J36: =(E36*8) -> 152 | K36: =(F36*8) -> 152 | L36: 5.72 | M36: ='2026 gada min. h tarifa likme'!M14 -> 4.6429 | N36: =M36*$N$30 -> 1.1 | O36: =M36+N36 -> 5.74 | P36: =M36+N36 -> 5.74 | Q36: =$E$15 -> 2 | R36: =$E$16 -> 1 | S36: =S35 -> 250 | T36: =$E$10 -> 57 | U36: =$E$11 -> 251 | V36: =$E$12 -> 40 | W36: =$E$13 -> 1 | X36: =$E$18 -> 27 | Y36: =$E$19 -> 13 | Z36: =$E$20 -> 36 | AA36: =$E$21 -> 3 | AB36: =$E$22 -> 2 | AC36: =SUM(Q36:AB36) -> 683 | AD36: =G36*P36*Q36 -> 1744.96 | AE36: =G36*P36*R36 -> 872.48 | AF36: =G36*P36*S36 -> 218120 | AG36: =H36*P36*T36 -> 49731.36 | AH36: =I36*P36*U36 -> 218992.48 | AI36: =J36*P36*V36 -> 34899.2 | AJ36: =K36*P36*W36 -> 872.48 | AK36: =SUM(AF36:AJ36) -> 522615.52 | AL36: =G36*P36*X36 -> 23556.96 | AM36: =H36*P36*Y36 -> 11342.24 | AN36: =I36*P36*Z36 -> 31409.28 | AO36: =J36*P36*AA36 -> 2617.44 | AP36: =K36*P36*AB36 -> 1744.96 | AQ36: =SUM(AL36:AP36) -> 70670.88 | AR36: =AD36+AE36+AK36+AQ36 -> 595903.84
A37: jūnijs | B37: 20 | E37: 10 | F37: 15 | G37: =(B37*8)-1 -> 159 | H37: =C37*8 -> 0 | I37: =D37*8 -> 0 | J37: =E37*8 -> 80 | K37: =F37*8 -> 120 | L37: 5.72 | M37: ='2026 gada min. h tarifa likme'!M15 -> 4.4318 | N37: =M37*$N$30 -> 1.05 | O37: =M37+N37 -> 5.48 | P37: 5.72 | Q37: =$E$15 -> 2 | R37: =$E$16 -> 1 | S37: =S36 -> 250 | T37: =$E$10 -> 57 | U37: =$E$11 -> 251 | V37: =$E$12 -> 40 | W37: =$E$13 -> 1 | X37: =$E$18 -> 27 | Y37: =$E$19 -> 13 | Z37: =$E$20 -> 36 | AA37: =$E$21 -> 3 | AB37: =$E$22 -> 2 | AC37: =SUM(Q37:AB37) -> 683 | AD37: =G37*P37*Q37 -> 1818.96 | AE37: =G37*P37*R37 -> 909.48 | AF37: =G37*P37*S37 -> 227370 | AG37: =H37*P37*T37 -> 0 | AH37: =I37*P37*U37 -> 0 | AI37: =J37*P37*V37 -> 18304 | AJ37: =K37*P37*W37 -> 686.4 | AK37: =SUM(AF37:AJ37) -> 246360.4 | AL37: =G37*P37*X37 -> 24555.96 | AM37: =H37*P37*Y37 -> 0 | AN37: =I37*P37*Z37 -> 0 | AO37: =J37*P37*AA37 -> 1372.8 | AP37: =K37*P37*AB37 -> 1372.8 | AQ37: =SUM(AL37:AP37) -> 27301.56 | AR37: =AD37+AE37+AK37+AQ37 -> 276390.4
A38: jūlijs | B38: 23 | G38: =B38*8 -> 184 | H38: =C38*8 -> 0 | I38: =D38*8 -> 0 | J38: =E38*8 -> 0 | K38: =F38*8 -> 0 | L38: 5.72 | M38: ='2026 gada min. h tarifa likme'!M16 -> 4.2391 | N38: =M38*$N$30 -> 1 | O38: =M38+N38 -> 5.24 | P38: 5.72 | Q38: =$E$15 -> 2 | R38: =$E$16 -> 1 | S38: =S37 -> 250 | T38: =$E$10 -> 57 | U38: =$E$11 -> 251 | V38: =$E$12 -> 40 | W38: =$E$13 -> 1 | X38: =$E$18 -> 27 | Y38: =$E$19 -> 13 | Z38: =$E$20 -> 36 | AA38: =$E$21 -> 3 | AB38: =$E$22 -> 2 | AC38: =SUM(Q38:AB38) -> 683 | AD38: =G38*P38*Q38 -> 2104.96 | AE38: =G38*P38*R38 -> 1052.48 | AF38: =G38*P38*S38 -> 263120 | AG38: =H38*P38*T38 -> 0 | AH38: =I38*P38*U38 -> 0 | AI38: =J38*P38*V38 -> 0 | AJ38: =K38*P38*W38 -> 0 | AK38: =SUM(AF38:AJ38) -> 263120 | AL38: =G38*P38*X38 -> 28416.96 | AM38: =H38*P38*Y38 -> 0 | AN38: =I38*P38*Z38 -> 0 | AO38: =J38*P38*AA38 -> 0 | AP38: =K38*P38*AB38 -> 0 | AQ38: =SUM(AL38:AP38) -> 28416.96 | AR38: =AD38+AE38+AK38+AQ38 -> 294694.4
A39: augusts | B39: 21 | G39: =B39*8 -> 168 | H39: =C39*8 -> 0 | I39: =D39*8 -> 0 | J39: =E39*8 -> 0 | K39: =F39*8 -> 0 | L39: 5.72 | M39: ='2026 gada min. h tarifa likme'!M17 -> 4.6429 | N39: =M39*$N$30 -> 1.1 | O39: =M39+N39 -> 5.74 | P39: =M39+N39 -> 5.74 | Q39: =$E$15 -> 2 | R39: =$E$16 -> 1 | S39: =S38 -> 250 | T39: =$E$10 -> 57 | U39: =$E$11 -> 251 | V39: =$E$12 -> 40 | W39: =$E$13 -> 1 | X39: =$E$18 -> 27 | Y39: =$E$19 -> 13 | Z39: =$E$20 -> 36 | AA39: =$E$21 -> 3 | AB39: =$E$22 -> 2 | AC39: =SUM(Q39:AB39) -> 683 | AD39: =G39*P39*Q39 -> 1928.64 | AE39: =G39*P39*R39 -> 964.32 | AF39: =G39*P39*S39 -> 241080 | AG39: =H39*P39*T39 -> 0 | AH39: =I39*P39*U39 -> 0 | AI39: =J39*P39*V39 -> 0 | AJ39: =K39*P39*W39 -> 0 | AK39: =SUM(AF39:AJ39) -> 241080 | AL39: =G39*P39*X39 -> 26036.64 | AM39: =H39*P39*Y39 -> 0 | AN39: =I39*P39*Z39 -> 0 | AO39: =J39*P39*AA39 -> 0 | AP39: =K39*P39*AB39 -> 0 | AQ39: =SUM(AL39:AP39) -> 26036.64 | AR39: =AD39+AE39+AK39+AQ39 -> 270009.6
B40: =SUM(B32:B39) -> 166 | C40: =SUM(C32:C39) -> 91 | D40: =SUM(D32:D39) -> 96 | E40: =SUM(E32:E39) -> 106 | F40: =SUM(F32:F39) -> 111 | G40: =SUM(G32:G39) -> 1325 | H40: =SUM(H32:H39) -> 726 | I40: =SUM(I32:I39) -> 766 | ... K40: =SUM(K32:K39) -> 886 | AD40: =SUM(AD32:AD39) -> 15270 | AE40: =SUM(AE32:AE39) -> 7635 | AF40: =SUM(AF32:AF39) -> 1908750 | AG40: =SUM(AG32:AG39) -> 238998.72 | AH40: =SUM(AH32:AH39) -> 1112974.2 | AI40: =SUM(AI32:AI39) -> 195670.4 | AJ40: =SUM(AJ32:AJ39) -> 5120.56 | AK40: =SUM(AK32:AK39) -> 3461513.8 | ... AR40: =SUM(AR32:AR39) -> 3929618.5
A42: septembris | B42: 22 | C42: 22 | D42: 22 | E42: 22 | F42: 22 | G42: =B42*8 -> 176 | H42: =C42*8 -> 176 | I42: =D42*8 -> 176 | J42: =E42*8 -> 176 | K42: =F42*8 -> 176 | L42: 5.72 | M42: ='2026 gada min. h tarifa likme'!M18 -> 4.4318 | N42: =M42*$N$30 -> 1.05 | O42: =M42+N42 -> 5.48 | P42: 5.72 | Q42: =$E$15 -> 2 | R42: =$E$16 -> 1 | S42: =$E$9 -> 250 | T42: =$E$10 -> 57 | U42: =$E$11 -> 251 | V42: =$E$12 -> 40 | W42: =$E$13 -> 1 | X42: =$E$18 -> 27 | Y42: =$E$19 -> 13 | Z42: =$E$20 -> 36 | AA42: =$E$21 -> 3 | AB42: =$E$22 -> 2 | AC42: =SUM(Q42:AB42) -> 683 | AD42: =G42*P42*Q42 -> 2013.44 | AE42: =G42*P42*R42 -> 1006.72 | AF42: =G42*P42*S42 -> 251680 | AG42: =H42*P42*T42 -> 57383.04 | AH42: =I42*P42*U42 -> 252686.72 | AI42: =J42*P42*V42 -> 40268.8 | AJ42: =K42*P42*W42 -> 1006.72 | AK42: =SUM(AF42:AJ42) -> 603025.28 | AL42: =G42*P42*X42 -> 27181.44 | AM42: =H42*P42*Y42 -> 13087.36 | AN42: =I42*P42*Z42 -> 36241.92 | AO42: =J42*P42*AA42 -> 3020.16 | AP42: =K42*P42*AB42 -> 2013.44 | AQ42: =SUM(AL42:AP42) -> 81544.32 | AR42: =AD42+AE42+AK42+AQ42 -> 687589.76
A43: oktobris | B43: 22 | C43: 17 | D43: 17 | E43: 17 | F43: 17 | G43: =B43*8 -> 176 | H43: =C43*8 -> 136 | I43: =D43*8 -> 136 | J43: =E43*8 -> 136 | K43: =F43*8 -> 136 | L43: 5.72 | M43: ='2026 gada min. h tarifa likme'!M19 -> 4.4318 | N43: =M43*$N$30 -> 1.05 | O43: =M43+N43 -> 5.48 | P43: 5.72 | Q43: =$E$15 -> 2 | R43: =$E$16 -> 1 | S43: =$E$9 -> 250 | T43: =$E$10 -> 57 | U43: =$E$11 -> 251 | V43: =$E$12 -> 40 | W43: =$E$13 -> 1 | X43: =$E$18 -> 27 | Y43: =$E$19 -> 13 | Z43: =$E$20 -> 36 | AA43: =$E$21 -> 3 | AB43: =$E$22 -> 2 | AC43: =SUM(Q43:AB43) -> 683 | AD43: =G43*P43*Q43 -> 2013.44 | AE43: =G43*P43*R43 -> 1006.72 | AF43: =G43*P43*S43 -> 251680 | AG43: =H43*P43*T43 -> 44341.44 | AH43: =I43*P43*U43 -> 195257.92 | AI43: =J43*P43*V43 -> 31116.8 | AJ43: =K43*P43*W43 -> 777.92 | AK43: =SUM(AF43:AJ43) -> 523174.08 | AL43: =G43*P43*X43 -> 27181.44 | AM43: =H43*P43*Y43 -> 10112.96 | AN43: =I43*P43*Z43 -> 28005.12 | AO43: =J43*P43*AA43 -> 2333.76 | AP43: =K43*P43*AB43 -> 1555.84 | AQ43: =SUM(AL43:AP43) -> 69189.12 | AR43: =AD43+AE43+AK43+AQ43 -> 595383.36
A44: novembris | B44: 20 | C44: 20 | D44: 20 | E44: 20 | F44: 20 | G44: =(B44*8)-1 -> 159 | H44: =(C44*8)-1 -> 159 | I44: =(D44*8)-1 -> 159 | J44: =(E44*8)-1 -> 159 | K44: =(F44*8)-1 -> 159 | L44: 5.72 | M44: ='2026 gada min. h tarifa likme'!M20 -> 4.6429 | N44: =M44*$N$30 -> 1.1 | O44: =M44+N44 -> 5.74 | P44: =M44+N44 -> 5.74 | Q44: =$E$15 -> 2 | R44: =$E$16 -> 1 | S44: =$E$9 -> 250 | T44: =$E$10 -> 57 | U44: =$E$11 -> 251 | V44: =$E$12 -> 40 | W44: =$E$13 -> 1 | X44: =$E$18 -> 27 | Y44: =$E$19 -> 13 | Z44: =$E$20 -> 36 | AA44: =$E$21 -> 3 | AB44: =$E$22 -> 2 | AC44: =SUM(Q44:AB44) -> 683 | AD44: =G44*P44*Q44 -> 1825.32 | AE44: =G44*P44*R44 -> 912.66 | AF44: =G44*P44*S44 -> 228165 | AG44: =H44*P44*T44 -> 52021.62 | AH44: =I44*P44*U44 -> 229077.66 | AI44: =J44*P44*V44 -> 36506.4 | AJ44: =K44*P44*W44 -> 912.66 | AK44: =SUM(AF44:AJ44) -> 546683.34 | AL44: =G44*P44*X44 -> 24641.82 | AM44: =H44*P44*Y44 -> 11864.58 | AN44: =I44*P44*Z44 -> 32855.76 | AO44: =J44*P44*AA44 -> 2737.98 | AP44: =K44*P44*AB44 -> 1825.32 | AQ44: =SUM(AL44:AP44) -> 73925.46 | AR44: =AD44+AE44+AK44+AQ44 -> 623346.78
A45: decembris | B45: 20 | C45: 14 | D45: 14 | E45: 14 | F45: 14 | G45: =(B45*8)-2 -> 158 | H45: =C45*8 -> 112 | I45: =D45*8 -> 112 | J45: =E45*8 -> 112 | K45: =F45*8 -> 112 | L45: 5.72 | M45: ='2026 gada min. h tarifa likme'!M21 -> 4.2391 | N45: =M45*$N$30 -> 1 | O45: =M45+N45 -> 5.24 | P45: 5.72 | Q45: =$E$15 -> 2 | R45: =$E$16 -> 1 | S45: =$E$9 -> 250 | T45: =$E$10 -> 57 | U45: =$E$11 -> 251 | V45: =$E$12 -> 40 | W45: =$E$13 -> 1 | X45: =$E$18 -> 27 | Y45: =$E$19 -> 13 | Z45: =$E$20 -> 36 | AA45: =$E$21 -> 3 | AB45: =$E$22 -> 2 | AC45: =SUM(Q45:AB45) -> 683 | AD45: =G45*P45*Q45 -> 1807.52 | AE45: =G45*P45*R45 -> 903.76 | AF45: =G45*P45*S45 -> 225940 | AG45: =H45*P45*T45 -> 36516.48 | AH45: =I45*P45*U45 -> 160800.64 | AI45: =J45*P45*V45 -> 25625.6 | AJ45: =K45*P45*W45 -> 640.64 | AK45: =SUM(AF45:AJ45) -> 449523.36 | AL45: =G45*P45*X45 -> 24401.52 | AM45: =H45*P45*Y45 -> 8328.32 | AN45: =I45*P45*Z45 -> 23063.04 | AO45: =J45*P45*AA45 -> 1921.92 | AP45: =K45*P45*AB45 -> 1281.28 | AQ45: =SUM(AL45:AP45) -> 58996.08 | AR45: =AD45+AE45+AK45+AQ45 -> 511230.72
B46: =SUM(B42:B45) -> 84 | C46: =SUM(C42:C45) -> 73 | D46: =SUM(D42:D45) -> 73 | E46: =SUM(E42:E45) -> 73 | F46: =SUM(F42:F45) -> 73 | G46: =SUM(G42:G45) -> 669 | H46: =SUM(H42:H45) -> 583 | I46: =SUM(I42:I45) -> 583 | ... K46: =SUM(K42:K45) -> 583 | AD46: =SUM(AD42:AD45) -> 7659.72 | AE46: =SUM(AE42:AE45) -> 3829.86 | AF46: =SUM(AF42:AF45) -> 957465 | AG46: =SUM(AG42:AG45) -> 190262.58 | AH46: =SUM(AH42:AH45) -> 837822.94 | AI46: =SUM(AI42:AI45) -> 133517.6 | AJ46: =SUM(AJ42:AJ45) -> 3337.94 | AK46: =SUM(AK42:AK45) -> 2122406.1 | ... AR46: =SUM(AR42:AR45) -> 2417550.6
A48: KOPĀ | B48: =B40+B46 -> 250 | C48: =C40+C46 -> 164 | D48: =D40+D46 -> 169 | E48: =E40+E46 -> 179 | F48: =F40+F46 -> 184 | G48: =G40+G46 -> 1994 | H48: =H40+H46 -> 1309 | I48: =I40+I46 -> 1349 | ... K48: =K40+K46 -> 1469 | AD48: =AD40+AD46 -> 22929.72 | AE48: =AE40+AE46 -> 11464.86 | AF48: =AF40+AF46 -> 2866215 | AG48: =AG40+AG46 -> 429261.3 | AH48: =AH40+AH46 -> 1950797.1 | AI48: =AI40+AI46 -> 329188 | AJ48: =AJ40+AJ46 -> 8458.5 | AK48: =AK40+AK46 -> 5583919.9 | ... AR48: =AR40+AR46 -> 6347169.1
AL52: Maksimāli pieļaujamais valsts pamatbudžeta izdevumu apjoms | AM52: Nepieciešamā finansējuma apmērs | AN52: Nepieciešamā finansējuma apmēra Iztrūkums(-) / Ekonomija(+) | AO52: Potenciālais ietaupījums, pieņemot, ka faktiskā izpilde ir 80 % apmērā | AP52: Finansējuma aprēķins ņemot vērā potenciālo ietaupījumu | AQ52: Plānotais Iztrūkums (-) / Ekonomija (+)
AO53: 0.8
AL54: 1 | AM54: 2 | AN54: 3=1-2 | AO54: 4 | AP54: 5=2-4 | AQ54: 6=1-5
AH55: 2026.gada prognoze | AL55: 5047223 | AM55: =AR48 -> 6347169 | AN55: =AL55-AM55 -> -1299946 | AO55: =(100%-AO53)*AM55 -> 1269434 | AP55: =AM55-AO55 -> 5077735 | AQ55: =AL55-AP55 -> -30512
AH56: Nepieciešamais bāzes finansējums neņemot vērā noteikumu projekta grozījumus | AM56: =AN98 -> 6305053
AH57: Izglītojamo skaita izmaiņu ietekme | AN57: =-(AM56-AL55) -> -1257830 | AQ57: =AN57-AN57 -> 0
AH58: Valsts nodrošinātās atlīdzības par vienu asistenta pakalpojuma stundu izmaiņu ietekme | AN58: =-(AM55-AM56) -> -42116 | AQ58: =AO55+AN57+AN58 -> -30512
AK60: EKK | AL60: =AL52 -> Maksimāli pieļaujamais valsts pamatbudžeta izdevumu apjoms | AM60: =AP52 -> Finansējuma aprēķins ņemot vērā potenciālo ietaupījumu | AN60: =AQ52 -> Plānotais Iztrūkums (-) / Ekonomija (+)
AK61: 1000 | AL61: 18249 | AM61: =AD48*AO53 -> 18344 | AN61: =AL61-AM61 -> -95
AK62: 3000 | AL62: 588694 | AM62: =AQ48*AO53 -> 583084 | AN62: =AL62-AM62 -> 5610
AK63: 7460 | AL63: 4440280 | AM63: =AK48*AO53 -> 4467136 | AN63: =AL63-AM63+1 -> -26855
AK64: 7471 | AL64: 0 | AM64: =AE48*AO53 -> 9172 | AN64: =AL64-AM64 -> -9172
AL65: =SUM(AL61:AL64) -> 5047223 | AM65: =SUM(AM61:AM64) -> 5077736 | AN65: =SUM(AN61:AN64) -> -30512
AK68: EKK | AL68: I ceturksnis | AM68: II ceturksnis | AN68: III ceturksnis | AO68: IV ceturksnis | AP68: KOPĀ
AK69: 1000 | AL69: =SUM(AD32:AD34)*AO53 -> 4692 | AM69: =SUM(AD35:AD37)*AO53 -> 4297 | AN69: =(SUM(AD38:AD39)+AD42)*AO53 -> 4838 | AO69: =SUM(AD43:AD45)*AO53 -> 4517 | AP69: =SUM(AL69:AO69) -> 18344
AK70: 3000 | AL70: =SUM(AQ32:AQ34)*AO53 -> 175655 | AM70: =SUM(AQ35:AQ37)*AO53 -> 136942 | AN70: =(SUM(AQ38:AQ39)+AQ42)*AO53 -> 108798 | AO70: =SUM(AQ43:AQ45)*AO53 -> 161689 | AP70: =SUM(AL70:AO70) -> 583084
AK71: 7460 | AL71: =SUM(AK32:AK34)*AO53 -> 1317589 | AM71: =SUM(AK35:AK37)*AO53 -> 1048263 | AN71: =(SUM(AK38:AK39)+AK42)*AO53 -> 885780 | AO71: =SUM(AK43:AK45)*AO53-1 -> 1215504 | AP71: =SUM(AL71:AO71) -> 4467136
AK72: 7471 | AL72: =SUM(AE32:AE34)*AO53 -> 2346 | AM72: =SUM(AE35:AE37)*AO53 -> 2149 | AN72: =(SUM(AE38:AE39)+AE42)*AO53 -> 2419 | AO72: =SUM(AE43:AE45)*AO53-1 -> 2258 | AP72: =SUM(AL72:AO72) -> 9172
AL73: =SUM(AL69:AL72) -> 1500282 | AM73: =SUM(AM69:AM72) -> 1191651 | AN73: =SUM(AN69:AN72) -> 1001835 | AO73: =SUM(AO69:AO72) -> 1383968 | AP73: =SUM(AP69:AP72) -> 5077736
A77: Nepieciešamā bāzes finansējuma aprēķins neņemot vērā noteikumu projekta grozījumus
A79: Mēnesis | B79: Darba dienu un mācību dienu skaits 2026.gada menešos | G79: Cilvēkstundu skaits mēnesī | L79: Valsts nodrošinātā atlīdzību par vienu asistenta pakalpojuma stundu līdz 31.12.2025. | M79: Izglītojamo skaits Prof izgl. iestādēs (EKK-1000) | N79: Izglītojamo skaits Prof izgl. iestādēs (EKK-7471) | O79: Izglītojamo skaits pašvaldībās (EKK-7460) | T79: Izglītojamo skaits privātajās izglītības iestādēs (EKK-3000) | Y79: KOPĀ | Z79: Finansējuma aprēķins Prof izgl. iestādēs (EKK-1000) | AA79: Finansējuma aprēķins Prof izgl. iestādēs (EKK-7471) | AB79: Finansējuma aprēķins pašvaldībās (EKK-7460) | AH79: Finansējuma aprēķins privātajās izglītības iestādēs (EKK-3000) | AN79: KOPĀ
B80: Pirmsk. Izgl. Iest., prof.sk. | C80: 1.klase | D80: 2-8.; 10-11. klase | E80: 9.klase | F80: 12.klase | G80: Pirmsk. Izgl. Iest., prof.sk. | H80: 1.klase | I80: 2-8.; 10-11. klase | J80: 9.klase | K80: 12.klase | O80: Pirmsk. Izgl. Iest. | P80: 1.klase | Q80: 2-8.; 10-11. klase | R80: 9.klase | S80: 12.klase | T80: Pirmsk. Izgl. Iest. | U80: 1.klase | V80: 2-8.; 10-11. klase | W80: 9.klase | X80: 12.klase | AB80: Pirmsk. Izgl. Iest. | AC80: 1.klase | AD80: 2-8.; 10-11. klase | AE80: 9.klase | AF80: 12.klase | AG80: Kopā | AH80: Pirmsk. Izgl. Iest. | AI80: 1.klase | AJ80: 2-8.; 10-11. klase | AK80: 9.klase | AL80: 12.klase | AM80: Kopā
A81: A | B81: 1 | C81: 2 | D81: 3 | E81: 4 | F81: 5 | G81: 6 | H81: 7 | I81: 8 | J81: 9 | K81: 10 | L81: 11 | M81: 12 | N81: 13 | O81: 14 | P81: 15 | Q81: 16 | R81: 17 | S81: 18 | T81: 19 | U81: 20 | V81: 21 | W81: 22 | X81: 23 | Y81: 24=SUM(12:23) | Z81: 25=6*11*12 | AA81: 26=6*11*13 | AB81: 27=6*11*14 | AC81: 28=7*11*15 | AD81: 29=8*11*16 | AE81: 30=9*11*17 | AF81: 31=10*11*18 | AG81: 32=27+28+29+30+31 | AH81: 33=6*11*19 | AI81: 34=7*11*20 | AJ81: 35=8*11*21 | AK81: 36=9*11*22 | AL81: 37=10*11*23 | AM81: 38=33+34+35+36+37 | AN81: 39=25+26+32+38
A82: janvāris | B82: 21 | C82: 20 | D82: 20 | E82: 20 | F82: 20 | G82: =B82*8 -> 168 | H82: =C82*8 -> 160 | I82: =D82*8 -> 160 | J82: =E82*8 -> 160 | K82: =F82*8 -> 160 | L82: 5.72 | M82: =$E$15 -> 2 | N82: =$E$16 -> 1 | O82: =$E$9 -> 250 | P82: =$E$10 -> 57 | Q82: =$E$11 -> 251 | R82: =$E$12 -> 40 | S82: =$E$13 -> 1 | T82: =$E$18 -> 27 | U82: =$E$19 -> 13 | V82: =$E$20 -> 36 | W82: =$E$21 -> 3 | X82: =$E$22 -> 2 | Y82: =SUM(M82:X82) -> 683 | Z82: =G82*L82*M82 -> 1921.92 | AA82: =H82*L82*N82 -> 915.2 | AB82: =G82*$L82*O82 -> 240240 | AC82: =H82*$L82*P82 -> 52166.4 | AD82: =I82*$L82*Q82 -> 229715.2 | AE82: =J82*$L82*R82 -> 36608 | AF82: =K82*$L82*S82 -> 915.2 | AG82: =SUM(AB82:AF82) -> 559644.8 | AH82: =G82*$L82*T82 -> 25945.92 | AI82: =H82*$L82*U82 -> 11897.6 | AJ82: =I82*$L82*V82 -> 32947.2 | AK82: =J82*$L82*W82 -> 2745.6 | AL82: =K82*$L82*X82 -> 1830.4 | AM82: =SUM(AH82:AL82) -> 75366.72 | AN82: =Z82+AA82+AG82+AM82 -> 637848.64
A83: februāris | B83: 20 | C83: 15 | D83: 20 | E83: 20 | F83: 20 | G83: =B83*8 -> 160 | H83: =C83*8 -> 120 | I83: =D83*8 -> 160 | J83: =E83*8 -> 160 | K83: =F83*8 -> 160 | L83: 5.72 | M83: =$E$15 -> 2 | N83: =$E$16 -> 1 | O83: =O82 -> 250 | P83: =$E$10 -> 57 | Q83: =$E$11 -> 251 | R83: =$E$12 -> 40 | S83: =$E$13 -> 1 | T83: =$E$18 -> 27 | U83: =$E$19 -> 13 | V83: =$E$20 -> 36 | W83: =$E$21 -> 3 | X83: =$E$22 -> 2 | Y83: =SUM(M83:X83) -> 683 | Z83: =G83*L83*M83 -> 1830.4 | AA83: =H83*L83*N83 -> 686.4 | AB83: =G83*$L83*O83 -> 228800 | AC83: =H83*$L83*P83 -> 39124.8 | AD83: =I83*$L83*Q83 -> 229715.2 | AE83: =J83*$L83*R83 -> 36608 | AF83: =K83*$L83*S83 -> 915.2 | AG83: =SUM(AB83:AF83) -> 535163.2 | AH83: =G83*$L83*T83 -> 24710.4 | AI83: =H83*$L83*U83 -> 8923.2 | AJ83: =I83*$L83*V83 -> 32947.2 | AK83: =J83*$L83*W83 -> 2745.6 | AL83: =K83*$L83*X83 -> 1830.4 | AM83: =SUM(AH83:AL83) -> 71156.8 | AN83: =Z83+AA83+AG83+AM83 -> 608836.8
A84: marts | B84: 22 | C84: 17 | D84: 17 | E84: 17 | F84: 17 | G84: =(B84*8) -> 176 | H84: =(C84*8) -> 136 | I84: =(D84*8) -> 136 | J84: =(E84*8) -> 136 | K84: =(F84*8) -> 136 | L84: 5.72 | M84: =$E$15 -> 2 | N84: =$E$16 -> 1 | O84: =O83 -> 250 | P84: =$E$10 -> 57 | Q84: =$E$11 -> 251 | R84: =$E$12 -> 40 | S84: =$E$13 -> 1 | T84: =$E$18 -> 27 | U84: =$E$19 -> 13 | V84: =$E$20 -> 36 | W84: =$E$21 -> 3 | X84: =$E$22 -> 2 | Y84: =SUM(M84:X84) -> 683 | Z84: =G84*L84*M84 -> 2013.44 | AA84: =H84*L84*N84 -> 777.92 | AB84: =G84*$L84*O84 -> 251680 | AC84: =H84*$L84*P84 -> 44341.44 | AD84: =I84*$L84*Q84 -> 195257.92 | AE84: =J84*$L84*R84 -> 31116.8 | AF84: =K84*$L84*S84 -> 777.92 | AG84: =SUM(AB84:AF84) -> 523174.08 | AH84: =G84*$L84*T84 -> 27181.44 | AI84: =H84*$L84*U84 -> 10112.96 | AJ84: =I84*$L84*V84 -> 28005.12 | AK84: =J84*$L84*W84 -> 2333.76 | AL84: =K84*$L84*X84 -> 1555.84 | AM84: =SUM(AH84:AL84) -> 69189.12 | AN84: =Z84+AA84+AG84+AM84 -> 595154.56
A85: aprīlis | B85: 20 | C85: 20 | D85: 20 | E85: 20 | F85: 20 | G85: =(B85*8)-2 -> 158 | H85: =(C85*8)-2 -> 158 | I85: =(D85*8)-2 -> 158 | J85: =(E85*8)-2 -> 158 | K85: =(F85*8)-2 -> 158 | L85: 5.72 | M85: =$E$15 -> 2 | N85: =$E$16 -> 1 | O85: =O84 -> 250 | P85: =$E$10 -> 57 | Q85: =$E$11 -> 251 | R85: =$E$12 -> 40 | S85: =$E$13 -> 1 | T85: =$E$18 -> 27 | U85: =$E$19 -> 13 | V85: =$E$20 -> 36 | W85: =$E$21 -> 3 | X85: =$E$22 -> 2 | Y85: =SUM(M85:X85) -> 683 | Z85: =G85*L85*M85 -> 1807.52 | AA85: =H85*L85*N85 -> 903.76 | AB85: =G85*$L85*O85 -> 225940 | AC85: =H85*$L85*P85 -> 51514.32 | AD85: =I85*$L85*Q85 -> 226843.76 | AE85: =J85*$L85*R85 -> 36150.4 | AF85: =K85*$L85*S85 -> 903.76 | AG85: =SUM(AB85:AF85) -> 541352.24 | AH85: =G85*$L85*T85 -> 24401.52 | AI85: =H85*$L85*U85 -> 11748.88 | AJ85: =I85*$L85*V85 -> 32535.36 | AK85: =J85*$L85*W85 -> 2711.28 | AL85: =K85*$L85*X85 -> 1807.52 | AM85: =SUM(AH85:AL85) -> 73204.56 | AN85: =Z85+AA85+AG85+AM85 -> 617268.08
A86: maijs | B86: 19 | C86: 19 | D86: 19 | E86: 19 | F86: 19 | G86: =(B86*8) -> 152 | H86: =(C86*8) -> 152 | I86: =(D86*8) -> 152 | J86: =(E86*8) -> 152 | K86: =(F86*8) -> 152 | L86: 5.72 | M86: =$E$15 -> 2 | N86: =$E$16 -> 1 | O86: =O85 -> 250 | P86: =$E$10 -> 57 | Q86: =$E$11 -> 251 | R86: =$E$12 -> 40 | S86: =$E$13 -> 1 | T86: =$E$18 -> 27 | U86: =$E$19 -> 13 | V86: =$E$20 -> 36 | W86: =$E$21 -> 3 | X86: =$E$22 -> 2 | Y86: =SUM(M86:X86) -> 683 | Z86: =G86*L86*M86 -> 1738.88 | AA86: =H86*L86*N86 -> 869.44 | AB86: =G86*$L86*O86 -> 217360 | AC86: =H86*$L86*P86 -> 49558.08 | AD86: =I86*$L86*Q86 -> 218229.44 | AE86: =J86*$L86*R86 -> 34777.6 | AF86: =K86*$L86*S86 -> 869.44 | AG86: =SUM(AB86:AF86) -> 520794.56 | AH86: =G86*$L86*T86 -> 23474.88 | AI86: =H86*$L86*U86 -> 11302.72 | AJ86: =I86*$L86*V86 -> 31299.84 | AK86: =J86*$L86*W86 -> 2608.32 | AL86: =K86*$L86*X86 -> 1738.88 | AM86: =SUM(AH86:AL86) -> 70424.64 | AN86: =Z86+AA86+AG86+AM86 -> 593827.52
A87: jūnijs | B87: 20 | E87: 10 | F87: 15 | G87: =(B87*8)-1 -> 159 | H87: =C87*8 -> 0 | I87: =D87*8 -> 0 | J87: =E87*8 -> 80 | K87: =F87*8 -> 120 | L87: 5.72 | M87: =$E$15 -> 2 | N87: =$E$16 -> 1 | O87: =O86 -> 250 | P87: =$E$10 -> 57 | Q87: =$E$11 -> 251 | R87: =$E$12 -> 40 | S87: =$E$13 -> 1 | T87: =$E$18 -> 27 | U87: =$E$19 -> 13 | V87: =$E$20 -> 36 | W87: =$E$21 -> 3 | X87: =$E$22 -> 2 | Y87: =SUM(M87:X87) -> 683 | Z87: =G87*L87*M87 -> 1818.96 | AA87: =H87*L87*N87 -> 0 | AB87: =G87*$L87*O87 -> 227370 | AC87: =H87*$L87*P87 -> 0 | AD87: =I87*$L87*Q87 -> 0 | AE87: =J87*$L87*R87 -> 18304 | AF87: =K87*$L87*S87 -> 686.4 | AG87: =SUM(AB87:AF87) -> 246360.4 | AH87: =G87*$L87*T87 -> 24555.96 | AI87: =H87*$L87*U87 -> 0 | AJ87: =I87*$L87*V87 -> 0 | AK87: =J87*$L87*W87 -> 1372.8 | AL87: =K87*$L87*X87 -> 1372.8 | AM87: =SUM(AH87:AL87) -> 27301.56 | AN87: =Z87+AA87+AG87+AM87 -> 275480.92
A88: jūlijs | B88: 23 | G88: =B88*8 -> 184 | H88: =C88*8 -> 0 | I88: =D88*8 -> 0 | J88: =E88*8 -> 0 | K88: =F88*8 -> 0 | L88: 5.72 | M88: =$E$15 -> 2 | N88: =$E$16 -> 1 | O88: =O87 -> 250 | P88: =$E$10 -> 57 | Q88: =$E$11 -> 251 | R88: =$E$12 -> 40 | S88: =$E$13 -> 1 | T88: =$E$18 -> 27 | U88: =$E$19 -> 13 | V88: =$E$20 -> 36 | W88: =$E$21 -> 3 | X88: =$E$22 -> 2 | Y88: =SUM(M88:X88) -> 683 | Z88: =G88*L88*M88 -> 2104.96 | AA88: =H88*L88*N88 -> 0 | AB88: =G88*$L88*O88 -> 263120 | AC88: =H88*$L88*P88 -> 0 | AD88: =I88*$L88*Q88 -> 0 | AE88: =J88*$L88*R88 -> 0 | AF88: =K88*$L88*S88 -> 0 | AG88: =SUM(AB88:AF88) -> 263120 | AH88: =G88*$L88*T88 -> 28416.96 | AI88: =H88*$L88*U88 -> 0 | AJ88: =I88*$L88*V88 -> 0 | AK88: =J88*$L88*W88 -> 0 | AL88: =K88*$L88*X88 -> 0 | AM88: =SUM(AH88:AL88) -> 28416.96 | AN88: =Z88+AA88+AG88+AM88 -> 293641.92
A89: augusts | B89: 21 | G89: =B89*8 -> 168 | H89: =C89*8 -> 0 | I89: =D89*8 -> 0 | J89: =E89*8 -> 0 | K89: =F89*8 -> 0 | L89: 5.72 | M89: =$E$15 -> 2 | N89: =$E$16 -> 1 | O89: =O88 -> 250 | P89: =$E$10 -> 57 | Q89: =$E$11 -> 251 | R89: =$E$12 -> 40 | S89: =$E$13 -> 1 | T89: =$E$18 -> 27 | U89: =$E$19 -> 13 | V89: =$E$20 -> 36 | W89: =$E$21 -> 3 | X89: =$E$22 -> 2 | Y89: =SUM(M89:X89) -> 683 | Z89: =G89*L89*M89 -> 1921.92 | AA89: =H89*L89*N89 -> 0 | AB89: =G89*$L89*O89 -> 240240 | AC89: =H89*$L89*P89 -> 0 | AD89: =I89*$L89*Q89 -> 0 | AE89: =J89*$L89*R89 -> 0 | AF89: =K89*$L89*S89 -> 0 | AG89: =SUM(AB89:AF89) -> 240240 | AH89: =G89*$L89*T89 -> 25945.92 | AI89: =H89*$L89*U89 -> 0 | AJ89: =I89*$L89*V89 -> 0 | AK89: =J89*$L89*W89 -> 0 | AL89: =K89*$L89*X89 -> 0 | AM89: =SUM(AH89:AL89) -> 25945.92 | AN89: =Z89+AA89+AG89+AM89 -> 268107.84
B90: =SUM(B82:B89) -> 166 | C90: =SUM(C82:C89) -> 91 | D90: =SUM(D82:D89) -> 96 | E90: =SUM(E82:E89) -> 106 | F90: =SUM(F82:F89) -> 111 | G90: =SUM(G82:G89) -> 1325 | H90: =SUM(H82:H89) -> 726 | I90: =SUM(I82:I89) -> 766 | ... K90: =SUM(K82:K89) -> 886 | Z90: =SUM(Z82:Z89) -> 15158 | AA90: =SUM(AA82:AA89) -> 4152.72 | AB90: =SUM(AB82:AB89) -> 1894750 | AC90: =SUM(AC82:AC89) -> 236705.04 | AD90: =SUM(AD82:AD89) -> 1099761.5 | AE90: =SUM(AE82:AE89) -> 193564.8 | AF90: =SUM(AF82:AF89) -> 5067.92 | AG90: =SUM(AG82:AG89) -> 3429849.3 | ... AN90: =SUM(AN82:AN89) -> 3890166.3
A92: septembris | B92: 22 | C92: 22 | D92: 22 | E92: 22 | F92: 22 | G92: =B92*8 -> 176 | H92: =C92*8 -> 176 | I92: =D92*8 -> 176 | J92: =E92*8 -> 176 | K92: =F92*8 -> 176 | L92: 5.72 | M92: =$E$15 -> 2 | N92: =$E$16 -> 1 | O92: =$E$9 -> 250 | P92: =$E$10 -> 57 | Q92: =$E$11 -> 251 | R92: =$E$12 -> 40 | S92: =$E$13 -> 1 | T92: =$E$18 -> 27 | U92: =$E$19 -> 13 | V92: =$E$20 -> 36 | W92: =$E$21 -> 3 | X92: =$E$22 -> 2 | Y92: =SUM(M92:X92) -> 683 | Z92: =G92*L92*M92 -> 2013.44 | AA92: =H92*L92*N92 -> 1006.72 | AB92: =G92*$L92*O92 -> 251680 | AC92: =H92*$L92*P92 -> 57383.04 | AD92: =I92*$L92*Q92 -> 252686.72 | AE92: =J92*$L92*R92 -> 40268.8 | AF92: =K92*$L92*S92 -> 1006.72 | AG92: =SUM(AB92:AF92) -> 603025.28 | AH92: =G92*$L92*T92 -> 27181.44 | AI92: =H92*$L92*U92 -> 13087.36 | AJ92: =I92*$L92*V92 -> 36241.92 | AK92: =J92*$L92*W92 -> 3020.16 | AL92: =K92*$L92*X92 -> 2013.44 | AM92: =SUM(AH92:AL92) -> 81544.32 | AN92: =Z92+AA92+AG92+AM92 -> 687589.76
A93: oktobris | B93: 22 | C93: 17 | D93: 17 | E93: 17 | F93: 17 | G93: =B93*8 -> 176 | H93: =C93*8 -> 136 | I93: =D93*8 -> 136 | J93: =E93*8 -> 136 | K93: =F93*8 -> 136 | L93: 5.72 | M93: =$E$15 -> 2 | N93: =$E$16 -> 1 | O93: =$E$9 -> 250 | P93: =$E$10 -> 57 | Q93: =$E$11 -> 251 | R93: =$E$12 -> 40 | S93: =$E$13 -> 1 | T93: =$E$18 -> 27 | U93: =$E$19 -> 13 | V93: =$E$20 -> 36 | W93: =$E$21 -> 3 | X93: =$E$22 -> 2 | Y93: =SUM(M93:X93) -> 683 | Z93: =G93*L93*M93 -> 2013.44 | AA93: =H93*L93*N93 -> 777.92 | AB93: =G93*$L93*O93 -> 251680 | AC93: =H93*$L93*P93 -> 44341.44 | AD93: =I93*$L93*Q93 -> 195257.92 | AE93: =J93*$L93*R93 -> 31116.8 | AF93: =K93*$L93*S93 -> 777.92 | AG93: =SUM(AB93:AF93) -> 523174.08 | AH93: =G93*$L93*T93 -> 27181.44 | AI93: =H93*$L93*U93 -> 10112.96 | AJ93: =I93*$L93*V93 -> 28005.12 | AK93: =J93*$L93*W93 -> 2333.76 | AL93: =K93*$L93*X93 -> 1555.84 | AM93: =SUM(AH93:AL93) -> 69189.12 | AN93: =Z93+AA93+AG93+AM93 -> 595154.56
A94: novembris | B94: 20 | C94: 20 | D94: 20 | E94: 20 | F94: 20 | G94: =(B94*8)-1 -> 159 | H94: =(C94*8)-1 -> 159 | I94: =(D94*8)-1 -> 159 | J94: =(E94*8)-1 -> 159 | K94: =(F94*8)-1 -> 159 | L94: 5.72 | M94: =$E$15 -> 2 | N94: =$E$16 -> 1 | O94: =$E$9 -> 250 | P94: =$E$10 -> 57 | Q94: =$E$11 -> 251 | R94: =$E$12 -> 40 | S94: =$E$13 -> 1 | T94: =$E$18 -> 27 | U94: =$E$19 -> 13 | V94: =$E$20 -> 36 | W94: =$E$21 -> 3 | X94: =$E$22 -> 2 | Y94: =SUM(M94:X94) -> 683 | Z94: =G94*L94*M94 -> 1818.96 | AA94: =H94*L94*N94 -> 909.48 | AB94: =G94*$L94*O94 -> 227370 | AC94: =H94*$L94*P94 -> 51840.36 | AD94: =I94*$L94*Q94 -> 228279.48 | AE94: =J94*$L94*R94 -> 36379.2 | AF94: =K94*$L94*S94 -> 909.48 | AG94: =SUM(AB94:AF94) -> 544778.52 | AH94: =G94*$L94*T94 -> 24555.96 | AI94: =H94*$L94*U94 -> 11823.24 | AJ94: =I94*$L94*V94 -> 32741.28 | AK94: =J94*$L94*W94 -> 2728.44 | AL94: =K94*$L94*X94 -> 1818.96 | AM94: =SUM(AH94:AL94) -> 73667.88 | AN94: =Z94+AA94+AG94+AM94 -> 621174.84
A95: decembris | B95: 20 | C95: 14 | D95: 14 | E95: 14 | F95: 14 | G95: =(B95*8)-2 -> 158 | H95: =C95*8 -> 112 | I95: =D95*8 -> 112 | J95: =E95*8 -> 112 | K95: =F95*8 -> 112 | L95: 5.72 | M95: =$E$15 -> 2 | N95: =$E$16 -> 1 | O95: =$E$9 -> 250 | P95: =$E$10 -> 57 | Q95: =$E$11 -> 251 | R95: =$E$12 -> 40 | S95: =$E$13 -> 1 | T95: =$E$18 -> 27 | U95: =$E$19 -> 13 | V95: =$E$20 -> 36 | W95: =$E$21 -> 3 | X95: =$E$22 -> 2 | Y95: =SUM(M95:X95) -> 683 | Z95: =G95*L95*M95 -> 1807.52 | AA95: =H95*L95*N95 -> 640.64 | AB95: =G95*$L95*O95 -> 225940 | AC95: =H95*$L95*P95 -> 36516.48 | AD95: =I95*$L95*Q95 -> 160800.64 | AE95: =J95*$L95*R95 -> 25625.6 | AF95: =K95*$L95*S95 -> 640.64 | AG95: =SUM(AB95:AF95) -> 449523.36 | AH95: =G95*$L95*T95 -> 24401.52 | AI95: =H95*$L95*U95 -> 8328.32 | AJ95: =I95*$L95*V95 -> 23063.04 | AK95: =J95*$L95*W95 -> 1921.92 | AL95: =K95*$L95*X95 -> 1281.28 | AM95: =SUM(AH95:AL95) -> 58996.08 | AN95: =Z95+AA95+AG95+AM95 -> 510967.6
B96: =SUM(B92:B95) -> 84 | C96: =SUM(C92:C95) -> 73 | D96: =SUM(D92:D95) -> 73 | E96: =SUM(E92:E95) -> 73 | F96: =SUM(F92:F95) -> 73 | G96: =SUM(G92:G95) -> 669 | H96: =SUM(H92:H95) -> 583 | I96: =SUM(I92:I95) -> 583 | ... K96: =SUM(K92:K95) -> 583 | Z96: =SUM(Z92:Z95) -> 7653.36 | AA96: =SUM(AA92:AA95) -> 3334.76 | AB96: =SUM(AB92:AB95) -> 956670 | AC96: =SUM(AC92:AC95) -> 190081.32 | AD96: =SUM(AD92:AD95) -> 837024.76 | AE96: =SUM(AE92:AE95) -> 133390.4 | AF96: =SUM(AF92:AF95) -> 3334.76 | AG96: =SUM(AG92:AG95) -> 2120501.2 | ... AN96: =SUM(AN92:AN95) -> 2414886.8
A98: KOPĀ | B98: =B90+B96 -> 250 | C98: =C90+C96 -> 164 | D98: =D90+D96 -> 169 | E98: =E90+E96 -> 179 | F98: =F90+F96 -> 184 | G98: =G90+G96 -> 1994 | H98: =H90+H96 -> 1309 | I98: =I90+I96 -> 1349 | ... K98: =K90+K96 -> 1469 | Z98: =Z90+Z96 -> 22811.36 | AA98: =AA90+AA96 -> 7487.48 | AB98: =AB90+AB96 -> 2851420 | AC98: =AC90+AC96 -> 426786.36 | AD98: =AD90+AD96 -> 1936786.3 | AE98: =AE90+AE96 -> 326955.2 | AF98: =AF90+AF96 -> 8402.68 | AG98: =AG90+AG96 -> 5550350.5 | ... AN98: =AN90+AN96 -> 6305053

Sheet 2027 budžeta aprēķins
A1: Asistenta pakalpojuma izdevumu aprēķins par 2027.gadu
A2: Programma- 12.00.00 “Finansējums asistenta pakalpojuma nodrošināšanai personai ar invaliditāti pārvietošanas atbalstam un pašaprūpes veikšanai”
A4: Izglītojamo skaita aprēķins
A6: EKK | B6: Izglītības pakāpe | C6: Planotais izglītojamo skaits 2026.gadā | D6: 7,69 % pieaugums | E6: KOPĀ
A7: A | B7: B | C7: 1 | D7: 2=1*7,69% | E7: 3
A8: Pašvaldības
A9: 7460 | B9: Pirmsk. izgl.iest.* | C9: ='2026 budžeta aprēķins'!E9 -> 250 | D9: 19 | E9: =C9+D9 -> 269 | F9: =SUM(E9:E13) -> 645
B10: 1.klase | C10: ='2026 budžeta aprēķins'!E10 -> 57 | D10: 4 | E10: =C10+D10 -> 61
B11: 2.-8.; 10.-11. | C11: ='2026 budžeta aprēķins'!E11 -> 251 | D11: 19 | E11: =C11+D11 -> 270
B12: 9.klase | C12: ='2026 budžeta aprēķins'!E12 -> 40 | D12: 3 | E12: =C12+D12 -> 43
B13: 12.klase | C13: ='2026 budžeta aprēķins'!E13 -> 1 | D13: 1 | E13: =C13+D13 -> 2
A14: Profesionālās izglītības iestādes
A15: 1000 | B15: Prof.sk | C15: ='2026 budžeta aprēķins'!C15 -> 2 | D15: 1 | E15: =C15+D15 -> 3 | F15: =E15+E16 -> 4
A16: 7471 | B16: Prof.sk | C16: 1 | E16: =C16+D16 -> 1
A17: Priv sk.
A18: 3000 | B18: Pirmsk. izgl.iest. | C18: ='2026 budžeta aprēķins'!E18 -> 27 | D18: 2 | E18: =C18+D18 -> 29 | F18: =SUM(E18:E22) -> 87
B19: 1.klase | C19: ='2026 budžeta aprēķins'!E19 -> 13 | D19: 1 | E19: =C19+D19 -> 14
B20: 2.-8.; 10.-11. | C20: ='2026 budžeta aprēķins'!E20 -> 36 | D20: 3 | E20: =C20+D20 -> 39
B21: 9.klase | C21: ='2026 budžeta aprēķins'!E21 -> 3 | E21: =C21+D21 -> 3
B22: 12.klase | C22: ='2026 budžeta aprēķins'!E22 -> 2 | E22: =C22+D22 -> 2
C23: =SUM(C9:C22) -> 683 | D23: =SUM(D9:D22) -> 53 | E23: =SUM(E9:E22) -> 736 | F23: =F9+F15+F18 -> 736
A25: Izglītojamo skaita pieauguma 7,69% apmēra pieaugumā | D25: =C23*0.0769 -> 52.52
A27: Mēnesis | B27: Darba dienu un mācību dienu skaits 2027.gada menešos | G27: Cilvēkstundu skaits mēnesī | L27: 2026.gadā valsts plānotā atlīdzība par vienu asistenta pakalpojuma stundu | M27: Izglītojamo skaits Prof izgl. iestādēs (EKK-1000) | N27: Izglītojamo skaits Prof izgl. iestādēs (EKK-7471) | O27: Izglītojamo skaits pašvaldībās (EKK-7460) | T27: Izglītojamo skaits privātajās izglītības iestādēs (EKK-3000) | Y27: KOPĀ | Z27: Finansējuma aprēķins Prof izgl. iestādēs (EKK-1000) | AA27: Finansējuma aprēķins Prof izgl. iestādēs (EKK-7471) | AB27: Finansējuma aprēķins pašvaldībās (EKK-7460) | AH27: Finansējuma aprēķins privātajās izglītības iestādēs (EKK-3000) | AN27: KOPĀ
B28: Pirmsk. Izgl. Iest., prof.sk. | C28: 1.klase | D28: 2-8.; 10-11. klase | E28: 9.klase | F28: 12.klase | G28: Pirmsk. Izgl. Iest., prof.sk. | H28: 1.klase | I28: 2-8.; 10-11. klase | J28: 9.klase | K28: 12.klase | O28: Pirmsk. Izgl. Iest. | P28: 1.klase | Q28: 2-8.; 10-11. klase | R28: 9.klase | S28: 12.klase | T28: Pirmsk. Izgl. Iest. | U28: 1.klase | V28: 2-8.; 10-11. klase | W28: 9.klase | X28: 12.klase | AB28: Pirmsk. Izgl. Iest. | AC28: 1.klase | AD28: 2-8.; 10-11. klase | AE28: 9.klase | AF28: 12.klase | AG28: Kopā | AH28: Pirmsk. Izgl. Iest. | AI28: 1.klase | AJ28: 2-8.; 10-11. klase | AK28: 9.klase | AL28: 12.klase | AM28: Kopā
A29: A | B29: 1 | C29: 2 | D29: 3 | E29: 4 | F29: 5 | G29: 6 | H29: 7 | I29: 8 | J29: 9 | K29: 10 | L29: 11 | M29: 12 | N29: 13 | O29: 14 | P29: 15 | Q29: 16 | R29: 17 | S29: 18 | T29: 19 | U29: 20 | V29: 21 | W29: 22 | X29: 23 | Y29: 24=SUM(12:23) | Z29: 25=6*11*12 | AA29: 26=6*11*13 | AB29: 27=6*11*14 | AC29: 28=7*11*15 | AD29: 29=8*11*16 | AE29: 30=9*11*17 | AF29: 31=10*11*18 | AG29: 32=27+28+29+30+31 | AH29: 33=6*11*19 | AI29: 34=7*11*20 | AJ29: 35=8*11*21 | AK29: 36=9*11*22 | AL29: 37=10*11*23 | AM29: 38=33+34+35+36+37 | AN29: 39=25+26+32+38
A30: janvāris | B30: 20 | C30: 20 | D30: 20 | E30: 20 | F30: 20 | G30: =B30*8 -> 160 | H30: =C30*8 -> 160 | I30: =D30*8 -> 160 | J30: =E30*8 -> 160 | K30: =F30*8 -> 160 | L30: ='2026 budžeta aprēķins'!P32 -> 5.72 | M30: =$E$15 -> 3 | N30: =$E$16 -> 1 | O30: =$E$9 -> 269 | P30: =$E$10 -> 61 | Q30: =$E$11 -> 270 | R30: =$E$12 -> 43 | S30: =$E$13 -> 2 | T30: =$E$18 -> 29 | U30: =$E$19 -> 14 | V30: =$E$20 -> 39 | W30: =$E$21 -> 3 | X30: =$E$22 -> 2 | Y30: =SUM(M30:X30) -> 736 | Z30: =G30*L30*M30 -> 2745.6 | AA30: =G30*L30*N30 -> 915.2 | AB30: =G30*L30*O30 -> 246188.8 | AC30: =H30*L30*P30 -> 55827.2 | AD30: =I30*L30*Q30 -> 247104 | AE30: =J30*L30*R30 -> 39353.6 | AF30: =K30*L30*S30 -> 1830.4 | AG30: =SUM(AB30:AF30) -> 590304 | AH30: =G30*L30*T30 -> 26540.8 | AI30: =H30*L30*U30 -> 12812.8 | AJ30: =I30*L30*V30 -> 35692.8 | AK30: =J30*L30*W30 -> 2745.6 | AL30: =K30*L30*X30 -> 1830.4 | AM30: =SUM(AH30:AL30) -> 79622.4 | AN30: =Z30+AA30+AG30+AM30 -> 673587.2
A31: februāris | B31: 20 | C31: 15 | D31: 20 | E31: 20 | F31: 20 | G31: =B31*8 -> 160 | H31: =C31*8 -> 120 | I31: =D31*8 -> 160 | J31: =E31*8 -> 160 | K31: =F31*8 -> 160 | L31: ='2026 budžeta aprēķins'!P33 -> 6.03 | M31: =$E$15 -> 3 | N31: =$E$16 -> 1 | O31: =O30 -> 269 | P31: =$E$10 -> 61 | Q31: =$E$11 -> 270 | R31: =$E$12 -> 43 | S31: =$E$13 -> 2 | T31: =$E$18 -> 29 | U31: =$E$19 -> 14 | V31: =$E$20 -> 39 | W31: =$E$21 -> 3 | X31: =$E$22 -> 2 | Y31: =SUM(M31:X31) -> 736 | Z31: =G31*L31*M31 -> 2894.4 | AA31: =G31*L31*N31 -> 964.8 | AB31: =G31*L31*O31 -> 259531.2 | AC31: =H31*L31*P31 -> 44139.6 | AD31: =I31*L31*Q31 -> 260496 | AE31: =J31*L31*R31 -> 41486.4 | AF31: =K31*L31*S31 -> 1929.6 | AG31: =SUM(AB31:AF31) -> 607582.8 | AH31: =G31*L31*T31 -> 27979.2 | AI31: =H31*L31*U31 -> 10130.4 | AJ31: =I31*L31*V31 -> 37627.2 | AK31: =J31*L31*W31 -> 2894.4 | AL31: =K31*L31*X31 -> 1929.6 | AM31: =SUM(AH31:AL31) -> 80560.8 | AN31: =Z31+AA31+AG31+AM31 -> 692002.8
A32: marts | B32: 21 | C32: 16 | D32: 16 | E32: 16 | F32: 16 | G32: =(B32*8)-1 -> 167 | H32: =(C32*8)-1 -> 127 | I32: =(D32*8)-1 -> 127 | J32: =(E32*8)-1 -> 127 | K32: =(F32*8)-1 -> 127 | L32: ='2026 budžeta aprēķins'!P34 -> 5.72 | M32: =$E$15 -> 3 | N32: =$E$16 -> 1 | O32: =O31 -> 269 | P32: =$E$10 -> 61 | Q32: =$E$11 -> 270 | R32: =$E$12 -> 43 | S32: =$E$13 -> 2 | T32: =$E$18 -> 29 | U32: =$E$19 -> 14 | V32: =$E$20 -> 39 | W32: =$E$21 -> 3 | X32: =$E$22 -> 2 | Y32: =SUM(M32:X32) -> 736 | Z32: =G32*L32*M32 -> 2865.72 | AA32: =G32*L32*N32 -> 955.24 | AB32: =G32*L32*O32 -> 256959.56 | AC32: =H32*L32*P32 -> 44312.84 | AD32: =I32*L32*Q32 -> 196138.8 | AE32: =J32*L32*R32 -> 31236.92 | AF32: =K32*L32*S32 -> 1452.88 | AG32: =SUM(AB32:AF32) -> 530101 | AH32: =G32*L32*T32 -> 27701.96 | AI32: =H32*L32*U32 -> 10170.16 | AJ32: =I32*L32*V32 -> 28331.16 | AK32: =J32*L32*W32 -> 2179.32 | AL32: =K32*L32*X32 -> 1452.88 | AM32: =SUM(AH32:AL32) -> 69835.48 | AN32: =Z32+AA32+AG32+AM32 -> 603757.44
A33: aprīlis | B33: 22 | C33: 22 | D33: 22 | E33: 22 | F33: 22 | G33: =(B33*8)-1 -> 175 | H33: =(C33*8)-1 -> 175 | I33: =(D33*8)-1 -> 175 | J33: =(E33*8)-1 -> 175 | K33: =(F33*8)-1 -> 175 | L33: ='2026 budžeta aprēķins'!P35 -> 5.72 | M33: =$E$15 -> 3 | N33: =$E$16 -> 1 | O33: =O32 -> 269 | P33: =$E$10 -> 61 | Q33: =$E$11 -> 270 | R33: =$E$12 -> 43 | S33: =$E$13 -> 2 | T33: =$E$18 -> 29 | U33: =$E$19 -> 14 | V33: =$E$20 -> 39 | W33: =$E$21 -> 3 | X33: =$E$22 -> 2 | Y33: =SUM(M33:X33) -> 736 | Z33: =G33*L33*M33 -> 3003 | AA33: =G33*L33*N33 -> 1001 | AB33: =G33*L33*O33 -> 269269 | AC33: =H33*L33*P33 -> 61061 | AD33: =I33*L33*Q33 -> 270270 | AE33: =J33*L33*R33 -> 43043 | AF33: =K33*L33*S33 -> 2002 | AG33: =SUM(AB33:AF33) -> 645645 | AH33: =G33*L33*T33 -> 29029 | AI33: =H33*L33*U33 -> 14014 | AJ33: =I33*L33*V33 -> 39039 | AK33: =J33*L33*W33 -> 3003 | AL33: =K33*L33*X33 -> 2002 | AM33: =SUM(AH33:AL33) -> 87087 | AN33: =Z33+AA33+AG33+AM33 -> 736736
A34: maijs | B34: 20 | C34: 20 | D34: 20 | E34: 20 | F34: 20 | G34: =(B34*8)-1 -> 159 | H34: =(C34*8)-1 -> 159 | I34: =(D34*8)-1 -> 159 | J34: =(E34*8)-1 -> 159 | K34: =(F34*8)-1 -> 159 | L34: ='2026 budžeta aprēķins'!P36 -> 5.74 | M34: =$E$15 -> 3 | N34: =$E$16 -> 1 | O34: =O33 -> 269 | P34: =$E$10 -> 61 | Q34: =$E$11 -> 270 | R34: =$E$12 -> 43 | S34: =$E$13 -> 2 | T34: =$E$18 -> 29 | U34: =$E$19 -> 14 | V34: =$E$20 -> 39 | W34: =$E$21 -> 3 | X34: =$E$22 -> 2 | Y34: =SUM(M34:X34) -> 736 | Z34: =G34*L34*M34 -> 2737.98 | AA34: =G34*L34*N34 -> 912.66 | AB34: =G34*L34*O34 -> 245505.54 | AC34: =H34*L34*P34 -> 55672.26 | AD34: =I34*L34*Q34 -> 246418.2 | AE34: =J34*L34*R34 -> 39244.38 | AF34: =K34*L34*S34 -> 1825.32 | AG34: =SUM(AB34:AF34) -> 588665.7 | AH34: =G34*L34*T34 -> 26467.14 | AI34: =H34*L34*U34 -> 12777.24 | AJ34: =I34*L34*V34 -> 35593.74 | AK34: =J34*L34*W34 -> 2737.98 | AL34: =K34*L34*X34 -> 1825.32 | AM34: =SUM(AH34:AL34) -> 79401.42 | AN34: =Z34+AA34+AG34+AM34 -> 671717.76
A35: jūnijs | B35: 20 | E35: 9 | F35: 14 | G35: =(B35*8)-1 -> 159 | H35: =C35*8 -> 0 | I35: =D35*8 -> 0 | J35: =E35*8 -> 72 | K35: =F35*8 -> 112 | L35: ='2026 budžeta aprēķins'!P37 -> 5.72 | M35: =$E$15 -> 3 | N35: =$E$16 -> 1 | O35: =O34 -> 269 | P35: =$E$10 -> 61 | Q35: =$E$11 -> 270 | R35: =$E$12 -> 43 | S35: =$E$13 -> 2 | T35: =$E$18 -> 29 | U35: =$E$19 -> 14 | V35: =$E$20 -> 39 | W35: =$E$21 -> 3 | X35: =$E$22 -> 2 | Y35: =SUM(M35:X35) -> 736 | Z35: =G35*L35*M35 -> 2728.44 | AA35: =G35*L35*N35 -> 909.48 | AB35: =G35*L35*O35 -> 244650.12 | AC35: =H35*L35*P35 -> 0 | AD35: =I35*L35*Q35 -> 0 | AE35: =J35*L35*R35 -> 17709.12 | AF35: =K35*L35*S35 -> 1281.28 | AG35: =SUM(AB35:AF35) -> 263640.52 | AH35: =G35*L35*T35 -> 26374.92 | AI35: =H35*L35*U35 -> 0 | AJ35: =I35*L35*V35 -> 0 | AK35: =J35*L35*W35 -> 1235.52 | AL35: =K35*L35*X35 -> 1281.28 | AM35: =SUM(AH35:AL35) -> 28891.72 | AN35: =Z35+AA35+AG35+AM35 -> 296170.16
A36: jūlijs | B36: 22 | G36: =B36*8 -> 176 | H36: =C36*8 -> 0 | I36: =D36*8 -> 0 | J36: =E36*8 -> 0 | K36: =F36*8 -> 0 | L36: ='2026 budžeta aprēķins'!P38 -> 5.72 | M36: =$E$15 -> 3 | N36: =$E$16 -> 1 | O36: =O35 -> 269 | P36: =$E$10 -> 61 | Q36: =$E$11 -> 270 | R36: =$E$12 -> 43 | S36: =$E$13 -> 2 | T36: =$E$18 -> 29 | U36: =$E$19 -> 14 | V36: =$E$20 -> 39 | W36: =$E$21 -> 3 | X36: =$E$22 -> 2 | Y36: =SUM(M36:X36) -> 736 | Z36: =G36*L36*M36 -> 3020.16 | AA36: =G36*L36*N36 -> 1006.72 | AB36: =G36*L36*O36 -> 270807.68 | AC36: =H36*L36*P36 -> 0 | AD36: =I36*L36*Q36 -> 0 | AE36: =J36*L36*R36 -> 0 | AF36: =K36*L36*S36 -> 0 | AG36: =SUM(AB36:AF36) -> 270807.68 | AH36: =G36*L36*T36 -> 29194.88 | AI36: =H36*L36*U36 -> 0 | AJ36: =I36*L36*V36 -> 0 | AK36: =J36*L36*W36 -> 0 | AL36: =K36*L36*X36 -> 0 | AM36: =SUM(AH36:AL36) -> 29194.88 | AN36: =Z36+AA36+AG36+AM36 -> 304029.44
A37: augusts | B37: 22 | G37: =B37*8 -> 176 | H37: =C37*8 -> 0 | I37: =D37*8 -> 0 | J37: =E37*8 -> 0 | K37: =F37*8 -> 0 | L37: ='2026 budžeta aprēķins'!P39 -> 5.74 | M37: =$E$15 -> 3 | N37: =$E$16 -> 1 | O37: =O36 -> 269 | P37: =$E$10 -> 61 | Q37: =$E$11 -> 270 | R37: =$E$12 -> 43 | S37: =$E$13 -> 2 | T37: =$E$18 -> 29 | U37: =$E$19 -> 14 | V37: =$E$20 -> 39 | W37: =$E$21 -> 3 | X37: =$E$22 -> 2 | Y37: =SUM(M37:X37) -> 736 | Z37: =G37*L37*M37 -> 3030.72 | AA37: =G37*L37*N37 -> 1010.24 | AB37: =G37*L37*O37 -> 271754.56 | AC37: =H37*L37*P37 -> 0 | AD37: =I37*L37*Q37 -> 0 | AE37: =J37*L37*R37 -> 0 | AF37: =K37*L37*S37 -> 0 | AG37: =SUM(AB37:AF37) -> 271754.56 | AH37: =G37*L37*T37 -> 29296.96 | AI37: =H37*L37*U37 -> 0 | AJ37: =I37*L37*V37 -> 0 | AK37: =J37*L37*W37 -> 0 | AL37: =K37*L37*X37 -> 0 | AM37: =SUM(AH37:AL37) -> 29296.96 | AN37: =Z37+AA37+AG37+AM37 -> 305092.48
B38: =SUM(B30:B37) -> 167 | C38: =SUM(C30:C37) -> 93 | D38: =SUM(D30:D37) -> 98 | E38: =SUM(E30:E37) -> 107 | F38: =SUM(F30:F37) -> 112 | G38: =SUM(G30:G37) -> 1332 | H38: =SUM(H30:H37) -> 741 | I38: =SUM(I30:I37) -> 781 | ... K38: =SUM(K30:K37) -> 893 | Z38: =SUM(Z30:Z37) -> 23026.02 | AA38: =SUM(AA30:AA37) -> 7675.34 | AB38: =SUM(AB30:AB37) -> 2064666.5 | AC38: =SUM(AC30:AC37) -> 261012.9 | AD38: =SUM(AD30:AD37) -> 1220427 | AE38: =SUM(AE30:AE37) -> 212073.42 | AF38: =SUM(AF30:AF37) -> 10321.48 | AG38: =SUM(AG30:AG37) -> 3768501.3 | ... AN38: =SUM(AN30:AN37) -> 4283093.3
A40: septembris | B40: 22 | C40: 22 | D40: 22 | E40: 22 | F40: 22 | G40: =B40*8 -> 176 | H40: =C40*8 -> 176 | I40: =D40*8 -> 176 | J40: =E40*8 -> 176 | K40: =F40*8 -> 176 | L40: ='2026 budžeta aprēķins'!P42 -> 5.72 | M40: =$E$15 -> 3 | N40: =$E$16 -> 1 | O40: =$E$9 -> 269 | P40: =$E$10 -> 61 | Q40: =$E$11 -> 270 | R40: =$E$12 -> 43 | S40: =$E$13 -> 2 | T40: =$E$18 -> 29 | U40: =$E$19 -> 14 | V40: =$E$20 -> 39 | W40: =$E$21 -> 3 | X40: =$E$22 -> 2 | Y40: =SUM(M40:X40) -> 736 | Z40: =G40*L40*M40 -> 3020.16 | AA40: =G40*L40*N40 -> 1006.72 | AB40: =G40*L40*O40 -> 270807.68 | AC40: =H40*L40*P40 -> 61409.92 | AD40: =I40*L40*Q40 -> 271814.4 | AE40: =J40*L40*R40 -> 43288.96 | AF40: =K40*L40*S40 -> 2013.44 | AG40: =SUM(AB40:AF40) -> 649334.4 | AH40: =G40*L40*T40 -> 29194.88 | AI40: =H40*L40*U40 -> 14094.08 | AJ40: =I40*L40*V40 -> 39262.08 | AK40: =J40*L40*W40 -> 3020.16 | AL40: =K40*L40*X40 -> 2013.44 | AM40: =SUM(AH40:AL40) -> 87584.64 | AN40: =Z40+AA40+AG40+AM40 -> 740945.92
A41: oktobris | B41: 21 | C41: 16 | D41: 16 | E41: 16 | F41: 16 | G41: =B41*8 -> 168 | H41: =C41*8 -> 128 | I41: =D41*8 -> 128 | J41: =E41*8 -> 128 | K41: =F41*8 -> 128 | L41: ='2026 budžeta aprēķins'!P43 -> 5.72 | M41: =$E$15 -> 3 | N41: =$E$16 -> 1 | O41: =$E$9 -> 269 | P41: =$E$10 -> 61 | Q41: =$E$11 -> 270 | R41: =$E$12 -> 43 | S41: =$E$13 -> 2 | T41: =$E$18 -> 29 | U41: =$E$19 -> 14 | V41: =$E$20 -> 39 | W41: =$E$21 -> 3 | X41: =$E$22 -> 2 | Y41: =SUM(M41:X41) -> 736 | Z41: =G41*L41*M41 -> 2882.88 | AA41: =G41*L41*N41 -> 960.96 | AB41: =G41*L41*O41 -> 258498.24 | AC41: =H41*L41*P41 -> 44661.76 | AD41: =I41*L41*Q41 -> 197683.2 | AE41: =J41*L41*R41 -> 31482.88 | AF41: =K41*L41*S41 -> 1464.32 | AG41: =SUM(AB41:AF41) -> 533790.4 | AH41: =G41*L41*T41 -> 27867.84 | AI41: =H41*L41*U41 -> 10250.24 | AJ41: =I41*L41*V41 -> 28554.24 | AK41: =J41*L41*W41 -> 2196.48 | AL41: =K41*L41*X41 -> 1464.32 | AM41: =SUM(AH41:AL41) -> 70333.12 | AN41: =Z41+AA41+AG41+AM41 -> 607967.36
A42: novembris | B42: 21 | C42: 21 | D42: 21 | E42: 21 | F42: 21 | G42: =(B42*8)-1 -> 167 | H42: =(C42*8)-1 -> 167 | I42: =(D42*8)-1 -> 167 | J42: =(E42*8)-1 -> 167 | K42: =(F42*8)-1 -> 167 | L42: ='2026 budžeta aprēķins'!P44 -> 5.74 | M42: =$E$15 -> 3 | N42: =$E$16 -> 1 | O42: =$E$9 -> 269 | P42: =$E$10 -> 61 | Q42: =$E$11 -> 270 | R42: =$E$12 -> 43 | S42: =$E$13 -> 2 | T42: =$E$18 -> 29 | U42: =$E$19 -> 14 | V42: =$E$20 -> 39 | W42: =$E$21 -> 3 | X42: =$E$22 -> 2 | Y42: =SUM(M42:X42) -> 736 | Z42: =G42*L42*M42 -> 2875.74 | AA42: =G42*L42*N42 -> 958.58 | AB42: =G42*L42*O42 -> 257858.02 | AC42: =H42*L42*P42 -> 58473.38 | AD42: =I42*L42*Q42 -> 258816.6 | AE42: =J42*L42*R42 -> 41218.94 | AF42: =K42*L42*S42 -> 1917.16 | AG42: =SUM(AB42:AF42) -> 618284.1 | AH42: =G42*L42*T42 -> 27798.82 | AI42: =H42*L42*U42 -> 13420.12 | AJ42: =I42*L42*V42 -> 37384.62 | AK42: =J42*L42*W42 -> 2875.74 | AL42: =K42*L42*X42 -> 1917.16 | AM42: =SUM(AH42:AL42) -> 83396.46 | AN42: =Z42+AA42+AG42+AM42 -> 705514.88
A43: decembris | B43: 21 | C43: 13 | D43: 13 | E43: 13 | F43: 13 | G43: =(B43*8)-2 -> 166 | H43: =C43*8 -> 104 | I43: =D43*8 -> 104 | J43: =E43*8 -> 104 | K43: =F43*8 -> 104 | L43: ='2026 budžeta aprēķins'!P45 -> 5.72 | M43: =$E$15 -> 3 | N43: =$E$16 -> 1 | O43: =$E$9 -> 269 | P43: =$E$10 -> 61 | Q43: =$E$11 -> 270 | R43: =$E$12 -> 43 | S43: =$E$13 -> 2 | T43: =$E$18 -> 29 | U43: =$E$19 -> 14 | V43: =$E$20 -> 39 | W43: =$E$21 -> 3 | X43: =$E$22 -> 2 | Y43: =SUM(M43:X43) -> 736 | Z43: =G43*L43*M43 -> 2848.56 | AA43: =G43*L43*N43 -> 949.52 | AB43: =G43*L43*O43 -> 255420.88 | AC43: =H43*L43*P43 -> 36287.68 | AD43: =I43*L43*Q43 -> 160617.6 | AE43: =J43*L43*R43 -> 25579.84 | AF43: =K43*L43*S43 -> 1189.76 | AG43: =SUM(AB43:AF43) -> 479095.76 | AH43: =G43*L43*T43 -> 27536.08 | AI43: =H43*L43*U43 -> 8328.32 | AJ43: =I43*L43*V43 -> 23200.32 | AK43: =J43*L43*W43 -> 1784.64 | AL43: =K43*L43*X43 -> 1189.76 | AM43: =SUM(AH43:AL43) -> 62039.12 | AN43: =Z43+AA43+AG43+AM43 -> 544932.96
B44: =SUM(B40:B43) -> 85 | C44: =SUM(C40:C43) -> 72 | D44: =SUM(D40:D43) -> 72 | E44: =SUM(E40:E43) -> 72 | F44: =SUM(F40:F43) -> 72 | G44: =SUM(G40:G43) -> 677 | H44: =SUM(H40:H43) -> 575 | I44: =SUM(I40:I43) -> 575 | ... K44: =SUM(K40:K43) -> 575 | Z44: =SUM(Z40:Z43) -> 11627.34 | AA44: =SUM(AA40:AA43) -> 3875.78 | AB44: =SUM(AB40:AB43) -> 1042584.8 | AC44: =SUM(AC40:AC43) -> 200832.74 | AD44: =SUM(AD40:AD43) -> 888931.8 | AE44: =SUM(AE40:AE43) -> 141570.62 | AF44: =SUM(AF40:AF43) -> 6584.68 | AG44: =SUM(AG40:AG43) -> 2280504.7 | ... AN44: =SUM(AN40:AN43) -> 2599361.1
A46: KOPĀ | B46: =B38+B44 -> 252 | C46: =C38+C44 -> 165 | D46: =D38+D44 -> 170 | E46: =E38+E44 -> 179 | F46: =F38+F44 -> 184 | G46: =G38+G44 -> 2009 | H46: =H38+H44 -> 1316 | I46: =I38+I44 -> 1356 | ... K46: =K38+K44 -> 1468 | Z46: =Z38+Z44 -> 34653.36 | AA46: =AA38+AA44 -> 11551.12 | AB46: =AB38+AB44 -> 3107251.3 | AC46: =AC38+AC44 -> 461845.64 | AD46: =AD38+AD44 -> 2109358.8 | AE46: =AE38+AE44 -> 353644.04 | AF46: =AF38+AF44 -> 16906.16 | AG46: =AG38+AG44 -> 6049005.9 | ... AN46: =AN38+AN44 -> 6882454.4
AI50: Maksimāli pieļaujamais valsts pamatbudžeta izdevumu apjoms | AJ50: Nepieciešamā finansējuma apmērs | AK50: Nepieciešamā finansējuma apmēra Iztrūkums(-) / Ekonomija(+) | AL50: Potenciālais ietaupījums, pieņemot, ka faktiskā izpilde ir 85 % apmērā | AM50: Finansējuma aprēķins ņemot vērā potenciālo ietaupījumu | AN50: Plānotais Iztrūkums (-) / Ekonomija (+)
AL51: 0.85
AI52: 1 | AJ52: 2 | AK52: 3=1-2 | AL52: 4 | AM52: 5=2-4 | AN52: 6=1-5
AE53: 2027.gada prognoze | AI53: 5068087 | AJ53: =AN46 -> 6882454 | AK53: =AI53-AJ53 -> -1814367 | AL53: =(100%-AL51)*AJ53 -> 1032368 | AM53: =AJ53-AL53 -> 5850086 | AN53: =AI53-AM53 -> -781999
AE54: Nepieciešamais bāzes finansējums neņemot vērā noteikumu projekta grozījumus | AJ54: =AN97 -> 6841017
AE55: Izglītojamo skaita izmaiņu ietekme | AK55: =-(AJ54-AI53) -> -1772930 | AN55: =AL53+AK55+AK56 -> -781999
AE56: Valsts nodrošinātās atlīdzības par vienu asistenta pakalpojuma stundu izmaiņu ietekme | AK56: =-(AJ53-AJ54) -> -41437 | AN56: 0
AH58: EKK | AI58: =AI50 -> Maksimāli pieļaujamais valsts pamatbudžeta izdevumu apjoms | AJ58: =AM50 -> Finansējuma aprēķins ņemot vērā potenciālo ietaupījumu | AK58: =AN50 -> Plānotais Iztrūkums (-) / Ekonomija (+)
AH59: 1000 | AI59: 18379 | AJ59: =Z46*AL51 -> 29455 | AK59: =AI59-AJ59 -> -11076
AH60: 3000 | AI60: 596061 | AJ60: =AM46*AL51 -> 669157 | AK60: =AI60-AJ60 -> -73096
AH61: 7460 | AI61: 4453647 | AJ61: =AG46*AL51+1 -> 5141656 | AK61: =AI61-AJ61 -> -688009
AH62: 7471 | AI62: 0 | AJ62: =AA46*AL51 -> 9818 | AK62: =AI62-AJ62 -> -9818
AI63: =SUM(AI59:AI62) -> 5068087 | AJ63: =SUM(AJ59:AJ62) -> 5850086 | AK63: =SUM(AK59:AK62) -> -781999
AH66: EKK | AI66: I ceturksnis | AJ66: II ceturksnis | AK66: III ceturksnis | AL66: IV ceturksnis | AM66: KOPĀ
AH67: 1000 | AI67: =SUM(Z30:Z32)*AL51 -> 7230 | AJ67: =SUM(Z33:Z35)*AL51 -> 7199 | AK67: =(SUM(Z36:Z37)+Z40)*AL51 -> 7710 | AL67: =SUM(Z41:Z43)*AL51 -> 7316 | AM67: =SUM(AI67:AL67) -> 29455
AH68: 3000 | AI68: =SUM(AM30:AM32)*AL51 -> 195516 | AJ68: =SUM(AM33:AM35)*AL51 -> 166073 | AK68: =(SUM(AM36:AM37)+AM40)*AL51 -> 124165 | AL68: =SUM(AM41:AM43)*AL51 -> 183403 | AM68: =SUM(AI68:AL68) -> 669157
AH69: 7460 | AI69: =SUM(AG30:AG32)*AL51 -> 1468790 | AJ69: =SUM(AG33:AG35)*AL51 -> 1273259 | AK69: =(SUM(AG36:AG37)+AG40)*AL51 -> 1013112 | AL69: =SUM(AG41:AG43)*AL51 -> 1386495 | AM69: =SUM(AI69:AL69) -> 5141656
AH70: 7471 | AI70: =SUM(AA30:AA32)*AL51 -> 2410 | AJ70: =SUM(AA33:AA35)*AL51 -> 2400 | AK70: =(SUM(AA36:AA37)+AA40)*AL51 -> 2570 | AL70: =SUM(AA41:AA43)*AL51-1 -> 2438 | AM70: =SUM(AI70:AL70) -> 9818
AI71: =SUM(AI67:AI70) -> 1673946 | AJ71: =SUM(AJ67:AJ70) -> 1448931 | AK71: =SUM(AK67:AK70) -> 1147557 | AL71: =SUM(AL67:AL70) -> 1579652 | AM71: =SUM(AM67:AM70) -> 5850086
A76: Nepieciešamā bāzes finansējuma aprēķins neņemot vērā noteikumu projekta grozījumus
A78: Mēnesis | B78: Darba dienu un mācību dienu skaits 2027.gada menešos | G78: Cilvēkstundu skaits mēnesī | L78: Valsts nodrošinātā atlīdzību par vienu asistenta pakalpojuma stundu līdz 31.12.2025. | M78: Izglītojamo skaits Prof izgl. iestādēs (EKK-1000) | N78: Izglītojamo skaits Prof izgl. iestādēs (EKK-7471) | O78: Izglītojamo skaits pašvaldībās (EKK-7460) | T78: Izglītojamo skaits privātajās izglītības iestādēs (EKK-3000) | Y78: KOPĀ | Z78: Finansējuma aprēķins Prof izgl. iestādēs (EKK-1000) | AA78: Finansējuma aprēķins Prof izgl. iestādēs (EKK-7471) | AB78: Finansējuma aprēķins pašvaldībās (EKK-7460) | AH78: Finansējuma aprēķins privātajās izglītības iestādēs (EKK-3000) | AN78: KOPĀ
B79: Pirmsk. Izgl. Iest., prof.sk. | C79: 1.klase | D79: 2-8.; 10-11. klase | E79: 9.klase | F79: 12.klase | G79: Pirmsk. Izgl. Iest., prof.sk. | H79: 1.klase | I79: 2-8.; 10-11. klase | J79: 9.klase | K79: 12.klase | O79: Pirmsk. Izgl. Iest. | P79: 1.klase | Q79: 2-8.; 10-11. klase | R79: 9.klase | S79: 12.klase | T79: Pirmsk. Izgl. Iest. | U79: 1.klase | V79: 2-8.; 10-11. klase | W79: 9.klase | X79: 12.klase | AB79: Pirmsk. Izgl. Iest. | AC79: 1.klase | AD79: 2-8.; 10-11. klase | AE79: 9.klase | AF79: 12.klase | AG79: Kopā | AH79: Pirmsk. Izgl. Iest. | AI79: 1.klase | AJ79: 2-8.; 10-11. klase | AK79: 9.klase | AL79: 12.klase | AM79: Kopā
A80: A | B80: 1 | C80: 2 | D80: 3 | E80: 4 | F80: 5 | G80: 6 | H80: 7 | I80: 8 | J80: 9 | K80: 10 | L80: 11 | M80: 12 | N80: 13 | O80: 14 | P80: 15 | Q80: 16 | R80: 17 | S80: 18 | T80: 19 | U80: 20 | V80: 21 | W80: 22 | X80: 23 | Y80: 24=SUM(12:23) | Z80: 25=6*11*12 | AA80: 26=6*11*13 | AB80: 27=6*11*14 | AC80: 28=7*11*15 | AD80: 29=8*11*16 | AE80: 30=9*11*17 | AF80: 31=10*11*18 | AG80: 32=27+28+29+30+31 | AH80: 33=6*11*19 | AI80: 34=7*11*20 | AJ80: 35=8*11*21 | AK80: 36=9*11*22 | AL80: 37=10*11*23 | AM80: 38=33+34+35+36+37 | AN80: 39=25+26+32+38
A81: janvāris | B81: 20 | C81: 20 | D81: 20 | E81: 20 | F81: 20 | G81: =B81*8 -> 160 | H81: =C81*8 -> 160 | I81: =D81*8 -> 160 | J81: =E81*8 -> 160 | K81: =F81*8 -> 160 | L81: 5.72 | M81: =$E$15 -> 3 | N81: =$E$16 -> 1 | O81: =$E$9 -> 269 | P81: =$E$10 -> 61 | Q81: =$E$11 -> 270 | R81: =$E$12 -> 43 | S81: =$E$13 -> 2 | T81: =$E$18 -> 29 | U81: =$E$19 -> 14 | V81: =$E$20 -> 39 | W81: =$E$21 -> 3 | X81: =$E$22 -> 2 | Y81: =SUM(M81:X81) -> 736 | Z81: =G81*L81*M81 -> 2745.6 | AA81: =G81*L81*N81 -> 915.2 | AB81: =G81*L81*O81 -> 246188.8 | AC81: =H81*$L81*P81 -> 55827.2 | AD81: =I81*$L81*Q81 -> 247104 | AE81: =J81*$L81*R81 -> 39353.6 | AF81: =K81*$L81*S81 -> 1830.4 | AG81: =SUM(AB81:AF81) -> 590304 | AH81: =G81*$L81*T81 -> 26540.8 | AI81: =H81*$L81*U81 -> 12812.8 | AJ81: =I81*$L81*V81 -> 35692.8 | AK81: =J81*$L81*W81 -> 2745.6 | AL81: =K81*$L81*X81 -> 1830.4 | AM81: =SUM(AH81:AL81) -> 79622.4 | AN81: =Z81+AA81+AG81+AM81 -> 673587.2
A82: februāris | B82: 20 | C82: 15 | D82: 20 | E82: 20 | F82: 20 | G82: =B82*8 -> 160 | H82: =C82*8 -> 120 | I82: =D82*8 -> 160 | J82: =E82*8 -> 160 | K82: =F82*8 -> 160 | L82: 5.72 | M82: =$E$15 -> 3 | N82: =$E$16 -> 1 | O82: =O81 -> 269 | P82: =$E$10 -> 61 | Q82: =$E$11 -> 270 | R82: =$E$12 -> 43 | S82: =$E$13 -> 2 | T82: =$E$18 -> 29 | U82: =$E$19 -> 14 | V82: =$E$20 -> 39 | W82: =$E$21 -> 3 | X82: =$E$22 -> 2 | Y82: =SUM(M82:X82) -> 736 | Z82: =G82*L82*M82 -> 2745.6 | AA82: =G82*L82*N82 -> 915.2 | AB82: =G82*L82*O82 -> 246188.8 | AC82: =H82*$L82*P82 -> 41870.4 | AD82: =I82*$L82*Q82 -> 247104 | AE82: =J82*$L82*R82 -> 39353.6 | AF82: =K82*$L82*S82 -> 1830.4 | AG82: =SUM(AB82:AF82) -> 576347.2 | AH82: =G82*$L82*T82 -> 26540.8 | AI82: =H82*$L82*U82 -> 9609.6 | AJ82: =I82*$L82*V82 -> 35692.8 | AK82: =J82*$L82*W82 -> 2745.6 | AL82: =K82*$L82*X82 -> 1830.4 | AM82: =SUM(AH82:AL82) -> 76419.2 | AN82: =Z82+AA82+AG82+AM82 -> 656427.2
A83: marts | B83: 21 | C83: 16 | D83: 16 | E83: 16 | F83: 16 | G83: =(B83*8)-1 -> 167 | H83: =(C83*8)-1 -> 127 | I83: =(D83*8)-1 -> 127 | J83: =(E83*8)-1 -> 127 | K83: =(F83*8)-1 -> 127 | L83: 5.72 | M83: =$E$15 -> 3 | N83: =$E$16 -> 1 | O83: =O82 -> 269 | P83: =$E$10 -> 61 | Q83: =$E$11 -> 270 | R83: =$E$12 -> 43 | S83: =$E$13 -> 2 | T83: =$E$18 -> 29 | U83: =$E$19 -> 14 | V83: =$E$20 -> 39 | W83: =$E$21 -> 3 | X83: =$E$22 -> 2 | Y83: =SUM(M83:X83) -> 736 | Z83: =G83*L83*M83 -> 2865.72 | AA83: =G83*L83*N83 -> 955.24 | AB83: =G83*L83*O83 -> 256959.56 | AC83: =H83*$L83*P83 -> 44312.84 | AD83: =I83*$L83*Q83 -> 196138.8 | AE83: =J83*$L83*R83 -> 31236.92 | AF83: =K83*$L83*S83 -> 1452.88 | AG83: =SUM(AB83:AF83) -> 530101 | AH83: =G83*$L83*T83 -> 27701.96 | AI83: =H83*$L83*U83 -> 10170.16 | AJ83: =I83*$L83*V83 -> 28331.16 | AK83: =J83*$L83*W83 -> 2179.32 | AL83: =K83*$L83*X83 -> 1452.88 | AM83: =SUM(AH83:AL83) -> 69835.48 | AN83: =Z83+AA83+AG83+AM83 -> 603757.44
A84: aprīlis | B84: 22 | C84: 22 | D84: 22 | E84: 22 | F84: 22 | G84: =(B84*8)-1 -> 175 | H84: =(C84*8)-1 -> 175 | I84: =(D84*8)-1 -> 175 | J84: =(E84*8)-1 -> 175 | K84: =(F84*8)-1 -> 175 | L84: 5.72 | M84: =$E$15 -> 3 | N84: =$E$16 -> 1 | O84: =O83 -> 269 | P84: =$E$10 -> 61 | Q84: =$E$11 -> 270 | R84: =$E$12 -> 43 | S84: =$E$13 -> 2 | T84: =$E$18 -> 29 | U84: =$E$19 -> 14 | V84: =$E$20 -> 39 | W84: =$E$21 -> 3 | X84: =$E$22 -> 2 | Y84: =SUM(M84:X84) -> 736 | Z84: =G84*L84*M84 -> 3003 | AA84: =G84*L84*N84 -> 1001 | AB84: =G84*L84*O84 -> 269269 | AC84: =H84*$L84*P84 -> 61061 | AD84: =I84*$L84*Q84 -> 270270 | AE84: =J84*$L84*R84 -> 43043 | AF84: =K84*$L84*S84 -> 2002 | AG84: =SUM(AB84:AF84) -> 645645 | AH84: =G84*$L84*T84 -> 29029 | AI84: =H84*$L84*U84 -> 14014 | AJ84: =I84*$L84*V84 -> 39039 | AK84: =J84*$L84*W84 -> 3003 | AL84: =K84*$L84*X84 -> 2002 | AM84: =SUM(AH84:AL84) -> 87087 | AN84: =Z84+AA84+AG84+AM84 -> 736736
A85: maijs | B85: 20 | C85: 20 | D85: 20 | E85: 20 | F85: 20 | G85: =(B85*8)-1 -> 159 | H85: =(C85*8)-1 -> 159 | I85: =(D85*8)-1 -> 159 | J85: =(E85*8)-1 -> 159 | K85: =(F85*8)-1 -> 159 | L85: 5.72 | M85: =$E$15 -> 3 | N85: =$E$16 -> 1 | O85: =O84 -> 269 | P85: =$E$10 -> 61 | Q85: =$E$11 -> 270 | R85: =$E$12 -> 43 | S85: =$E$13 -> 2 | T85: =$E$18 -> 29 | U85: =$E$19 -> 14 | V85: =$E$20 -> 39 | W85: =$E$21 -> 3 | X85: =$E$22 -> 2 | Y85: =SUM(M85:X85) -> 736 | Z85: =G85*L85*M85 -> 2728.44 | AA85: =G85*L85*N85 -> 909.48 | AB85: =G85*L85*O85 -> 244650.12 | AC85: =H85*$L85*P85 -> 55478.28 | AD85: =I85*$L85*Q85 -> 245559.6 | AE85: =J85*$L85*R85 -> 39107.64 | AF85: =K85*$L85*S85 -> 1818.96 | AG85: =SUM(AB85:AF85) -> 586614.6 | AH85: =G85*$L85*T85 -> 26374.92 | AI85: =H85*$L85*U85 -> 12732.72 | AJ85: =I85*$L85*V85 -> 35469.72 | AK85: =J85*$L85*W85 -> 2728.44 | AL85: =K85*$L85*X85 -> 1818.96 | AM85: =SUM(AH85:AL85) -> 79124.76 | AN85: =Z85+AA85+AG85+AM85 -> 669377.28
A86: jūnijs | B86: 20 | E86: 9 | F86: 14 | G86: =(B86*8)-1 -> 159 | H86: =C86*8 -> 0 | I86: =D86*8 -> 0 | J86: =E86*8 -> 72 | K86: =F86*8 -> 112 | L86: 5.72 | M86: =$E$15 -> 3 | N86: =$E$16 -> 1 | O86: =O85 -> 269 | P86: =$E$10 -> 61 | Q86: =$E$11 -> 270 | R86: =$E$12 -> 43 | S86: =$E$13 -> 2 | T86: =$E$18 -> 29 | U86: =$E$19 -> 14 | V86: =$E$20 -> 39 | W86: =$E$21 -> 3 | X86: =$E$22 -> 2 | Y86: =SUM(M86:X86) -> 736 | Z86: =G86*L86*M86 -> 2728.44 | AA86: =G86*L86*N86 -> 909.48 | AB86: =G86*L86*O86 -> 244650.12 | AC86: =H86*$L86*P86 -> 0 | AD86: =I86*$L86*Q86 -> 0 | AE86: =J86*$L86*R86 -> 17709.12 | AF86: =K86*$L86*S86 -> 1281.28 | AG86: =SUM(AB86:AF86) -> 263640.52 | AH86: =G86*$L86*T86 -> 26374.92 | AI86: =H86*$L86*U86 -> 0 | AJ86: =I86*$L86*V86 -> 0 | AK86: =J86*$L86*W86 -> 1235.52 | AL86: =K86*$L86*X86 -> 1281.28 | AM86: =SUM(AH86:AL86) -> 28891.72 | AN86: =Z86+AA86+AG86+AM86 -> 296170.16
A87: jūlijs | B87: 22 | G87: =B87*8 -> 176 | H87: =C87*8 -> 0 | I87: =D87*8 -> 0 | J87: =E87*8 -> 0 | K87: =F87*8 -> 0 | L87: 5.72 | M87: =$E$15 -> 3 | N87: =$E$16 -> 1 | O87: =O86 -> 269 | P87: =$E$10 -> 61 | Q87: =$E$11 -> 270 | R87: =$E$12 -> 43 | S87: =$E$13 -> 2 | T87: =$E$18 -> 29 | U87: =$E$19 -> 14 | V87: =$E$20 -> 39 | W87: =$E$21 -> 3 | X87: =$E$22 -> 2 | Y87: =SUM(M87:X87) -> 736 | Z87: =G87*L87*M87 -> 3020.16 | AA87: =G87*L87*N87 -> 1006.72 | AB87: =G87*L87*O87 -> 270807.68 | AC87: =H87*$L87*P87 -> 0 | AD87: =I87*$L87*Q87 -> 0 | AE87: =J87*$L87*R87 -> 0 | AF87: =K87*$L87*S87 -> 0 | AG87: =SUM(AB87:AF87) -> 270807.68 | AH87: =G87*$L87*T87 -> 29194.88 | AI87: =H87*$L87*U87 -> 0 | AJ87: =I87*$L87*V87 -> 0 | AK87: =J87*$L87*W87 -> 0 | AL87: =K87*$L87*X87 -> 0 | AM87: =SUM(AH87:AL87) -> 29194.88 | AN87: =Z87+AA87+AG87+AM87 -> 304029.44
A88: augusts | B88: 22 | G88: =B88*8 -> 176 | H88: =C88*8 -> 0 | I88: =D88*8 -> 0 | J88: =E88*8 -> 0 | K88: =F88*8 -> 0 | L88: 5.72 | M88: =$E$15 -> 3 | N88: =$E$16 -> 1 | O88: =O87 -> 269 | P88: =$E$10 -> 61 | Q88: =$E$11 -> 270 | R88: =$E$12 -> 43 | S88: =$E$13 -> 2 | T88: =$E$18 -> 29 | U88: =$E$19 -> 14 | V88: =$E$20 -> 39 | W88: =$E$21 -> 3 | X88: =$E$22 -> 2 | Y88: =SUM(M88:X88) -> 736 | Z88: =G88*L88*M88 -> 3020.16 | AA88: =G88*L88*N88 -> 1006.72 | AB88: =G88*L88*O88 -> 270807.68 | AC88: =H88*$L88*P88 -> 0 | AD88: =I88*$L88*Q88 -> 0 | AE88: =J88*$L88*R88 -> 0 | AF88: =K88*$L88*S88 -> 0 | AG88: =SUM(AB88:AF88) -> 270807.68 | AH88: =G88*$L88*T88 -> 29194.88 | AI88: =H88*$L88*U88 -> 0 | AJ88: =I88*$L88*V88 -> 0 | AK88: =J88*$L88*W88 -> 0 | AL88: =K88*$L88*X88 -> 0 | AM88: =SUM(AH88:AL88) -> 29194.88 | AN88: =Z88+AA88+AG88+AM88 -> 304029.44
B89: =SUM(B81:B88) -> 167 | C89: =SUM(C81:C88) -> 93 | D89: =SUM(D81:D88) -> 98 | E89: =SUM(E81:E88) -> 107 | F89: =SUM(F81:F88) -> 112 | G89: =SUM(G81:G88) -> 1332 | H89: =SUM(H81:H88) -> 741 | I89: =SUM(I81:I88) -> 781 | ... K89: =SUM(K81:K88) -> 893 | Z89: =SUM(Z81:Z88) -> 22857.12 | AA89: =SUM(AA81:AA88) -> 7619.04 | AB89: =SUM(AB81:AB88) -> 2049521.8 | AC89: =SUM(AC81:AC88) -> 258549.72 | AD89: =SUM(AD81:AD88) -> 1206176.4 | AE89: =SUM(AE81:AE88) -> 209803.88 | AF89: =SUM(AF81:AF88) -> 10215.92 | AG89: =SUM(AG81:AG88) -> 3734267.7 | ... AN89: =SUM(AN81:AN88) -> 4244114.2
A91: septembris | B91: 22 | C91: 22 | D91: 22 | E91: 22 | F91: 22 | G91: =B91*8 -> 176 | H91: =C91*8 -> 176 | I91: =D91*8 -> 176 | J91: =E91*8 -> 176 | K91: =F91*8 -> 176 | L91: 5.72 | M91: =$E$15 -> 3 | N91: =$E$16 -> 1 | O91: =$E$9 -> 269 | P91: =$E$10 -> 61 | Q91: =$E$11 -> 270 | R91: =$E$12 -> 43 | S91: =$E$13 -> 2 | T91: =$E$18 -> 29 | U91: =$E$19 -> 14 | V91: =$E$20 -> 39 | W91: =$E$21 -> 3 | X91: =$E$22 -> 2 | Y91: =SUM(M91:X91) -> 736 | Z91: =G91*L91*M91 -> 3020.16 | AA91: =G91*L91*N91 -> 1006.72 | AB91: =G91*$L91*O91 -> 270807.68 | AC91: =H91*$L91*P91 -> 61409.92 | AD91: =I91*$L91*Q91 -> 271814.4 | AE91: =J91*$L91*R91 -> 43288.96 | AF91: =K91*$L91*S91 -> 2013.44 | AG91: =SUM(AB91:AF91) -> 649334.4 | AH91: =G91*$L91*T91 -> 29194.88 | AI91: =H91*$L91*U91 -> 14094.08 | AJ91: =I91*$L91*V91 -> 39262.08 | AK91: =J91*$L91*W91 -> 3020.16 | AL91: =K91*$L91*X91 -> 2013.44 | AM91: =SUM(AH91:AL91) -> 87584.64 | AN91: =Z91+AA91+AG91+AM91 -> 740945.92
A92: oktobris | B92: 21 | C92: 16 | D92: 16 | E92: 16 | F92: 16 | G92: =B92*8 -> 168 | H92: =C92*8 -> 128 | I92: =D92*8 -> 128 | J92: =E92*8 -> 128 | K92: =F92*8 -> 128 | L92: 5.72 | M92: =$E$15 -> 3 | N92: =$E$16 -> 1 | O92: =$E$9 -> 269 | P92: =$E$10 -> 61 | Q92: =$E$11 -> 270 | R92: =$E$12 -> 43 | S92: =$E$13 -> 2 | T92: =$E$18 -> 29 | U92: =$E$19 -> 14 | V92: =$E$20 -> 39 | W92: =$E$21 -> 3 | X92: =$E$22 -> 2 | Y92: =SUM(M92:X92) -> 736 | Z92: =G92*L92*M92 -> 2882.88 | AA92: =G92*L92*N92 -> 960.96 | AB92: =G92*$L92*O92 -> 258498.24 | AC92: =H92*$L92*P92 -> 44661.76 | AD92: =I92*$L92*Q92 -> 197683.2 | AE92: =J92*$L92*R92 -> 31482.88 | AF92: =K92*$L92*S92 -> 1464.32 | AG92: =SUM(AB92:AF92) -> 533790.4 | AH92: =G92*$L92*T92 -> 27867.84 | AI92: =H92*$L92*U92 -> 10250.24 | AJ92: =I92*$L92*V92 -> 28554.24 | AK92: =J92*$L92*W92 -> 2196.48 | AL92: =K92*$L92*X92 -> 1464.32 | AM92: =SUM(AH92:AL92) -> 70333.12 | AN92: =Z92+AA92+AG92+AM92 -> 607967.36
A93: novembris | B93: 21 | C93: 21 | D93: 21 | E93: 21 | F93: 21 | G93: =(B93*8)-1 -> 167 | H93: =(C93*8)-1 -> 167 | I93: =(D93*8)-1 -> 167 | J93: =(E93*8)-1 -> 167 | K93: =(F93*8)-1 -> 167 | L93: 5.72 | M93: =$E$15 -> 3 | N93: =$E$16 -> 1 | O93: =$E$9 -> 269 | P93: =$E$10 -> 61 | Q93: =$E$11 -> 270 | R93: =$E$12 -> 43 | S93: =$E$13 -> 2 | T93: =$E$18 -> 29 | U93: =$E$19 -> 14 | V93: =$E$20 -> 39 | W93: =$E$21 -> 3 | X93: =$E$22 -> 2 | Y93: =SUM(M93:X93) -> 736 | Z93: =G93*L93*M93 -> 2865.72 | AA93: =G93*L93*N93 -> 955.24 | AB93: =G93*$L93*O93 -> 256959.56 | AC93: =H93*$L93*P93 -> 58269.64 | AD93: =I93*$L93*Q93 -> 257914.8 | AE93: =J93*$L93*R93 -> 41075.32 | AF93: =K93*$L93*S93 -> 1910.48 | AG93: =SUM(AB93:AF93) -> 616129.8 | AH93: =G93*$L93*T93 -> 27701.96 | AI93: =H93*$L93*U93 -> 13373.36 | AJ93: =I93*$L93*V93 -> 37254.36 | AK93: =J93*$L93*W93 -> 2865.72 | AL93: =K93*$L93*X93 -> 1910.48 | AM93: =SUM(AH93:AL93) -> 83105.88 | AN93: =Z93+AA93+AG93+AM93 -> 703056.64
A94: decembris | B94: 21 | C94: 13 | D94: 13 | E94: 13 | F94: 13 | G94: =(B94*8)-2 -> 166 | H94: =C94*8 -> 104 | I94: =D94*8 -> 104 | J94: =E94*8 -> 104 | K94: =F94*8 -> 104 | L94: 5.72 | M94: =$E$15 -> 3 | N94: =$E$16 -> 1 | O94: =$E$9 -> 269 | P94: =$E$10 -> 61 | Q94: =$E$11 -> 270 | R94: =$E$12 -> 43 | S94: =$E$13 -> 2 | T94: =$E$18 -> 29 | U94: =$E$19 -> 14 | V94: =$E$20 -> 39 | W94: =$E$21 -> 3 | X94: =$E$22 -> 2 | Y94: =SUM(M94:X94) -> 736 | Z94: =G94*L94*M94 -> 2848.56 | AA94: =G94*L94*N94 -> 949.52 | AB94: =G94*$L94*O94 -> 255420.88 | AC94: =H94*$L94*P94 -> 36287.68 | AD94: =I94*$L94*Q94 -> 160617.6 | AE94: =J94*$L94*R94 -> 25579.84 | AF94: =K94*$L94*S94 -> 1189.76 | AG94: =SUM(AB94:AF94) -> 479095.76 | AH94: =G94*$L94*T94 -> 27536.08 | AI94: =H94*$L94*U94 -> 8328.32 | AJ94: =I94*$L94*V94 -> 23200.32 | AK94: =J94*$L94*W94 -> 1784.64 | AL94: =K94*$L94*X94 -> 1189.76 | AM94: =SUM(AH94:AL94) -> 62039.12 | AN94: =Z94+AA94+AG94+AM94 -> 544932.96
B95: =SUM(B91:B94) -> 85 | C95: =SUM(C91:C94) -> 72 | D95: =SUM(D91:D94) -> 72 | E95: =SUM(E91:E94) -> 72 | F95: =SUM(F91:F94) -> 72 | G95: =SUM(G91:G94) -> 677 | H95: =SUM(H91:H94) -> 575 | I95: =SUM(I91:I94) -> 575 | ... K95: =SUM(K91:K94) -> 575 | Z95: =SUM(Z91:Z94) -> 11617.32 | AA95: =SUM(AA91:AA94) -> 3872.44 | AB95: =SUM(AB91:AB94) -> 1041686.4 | AC95: =SUM(AC91:AC94) -> 200629 | AD95: =SUM(AD91:AD94) -> 888030 | AE95: =SUM(AE91:AE94) -> 141427 | AF95: =SUM(AF91:AF94) -> 6578 | AG95: =SUM(AG91:AG94) -> 2278350.4 | ... AN95: =SUM(AN91:AN94) -> 2596902.9
A97: KOPĀ | B97: =B89+B95 -> 252 | C97: =C89+C95 -> 165 | D97: =D89+D95 -> 170 | E97: =E89+E95 -> 179 | F97: =F89+F95 -> 184 | G97: =G89+G95 -> 2009 | H97: =H89+H95 -> 1316 | I97: =I89+I95 -> 1356 | ... K97: =K89+K95 -> 1468 | Z97: =Z89+Z95 -> 34474.44 | AA97: =AA89+AA95 -> 11491.48 | AB97: =AB89+AB95 -> 3091208.1 | AC97: =AC89+AC95 -> 459178.72 | AD97: =AD89+AD95 -> 2094206.4 | AE97: =AE89+AE95 -> 351230.88 | AF97: =AF89+AF95 -> 16793.92 | AG97: =AG89+AG95 -> 6012618 | ... AN97: =AN89+AN95 -> 6841017

Sheet 2028 budžeta aprēķins
A1: Asistenta pakalpojuma izdevumu aprēķins par 2028.gadu
A2: Programma- 12.00.00 “Finansējums asistenta pakalpojuma nodrošināšanai personai ar invaliditāti pārvietošanas atbalstam un pašaprūpes veikšanai”
A4: Izglītojamo skaita aprēķins
A6: EKK | B6: Izglītības pakāpe | C6: Planotais izglītojamo skaits 2027.gadā | D6: 7,69 % pieaugums | E6: KOPĀ
A7: A | B7: B | C7: 1 | D7: 2=1*7,69% | E7: 3
A8: Pašvaldības
A9: 7460 | B9: Pirmsk. izgl.iest.* | C9: ='2027 budžeta aprēķins'!E9 -> 269 | D9: 20 | E9: =C9+D9 -> 289 | F9: =SUM(E9:E13) -> 694
B10: 1.klase | C10: ='2027 budžeta aprēķins'!E10 -> 61 | D10: 4 | E10: =C10+D10 -> 65
B11: 2.-8.; 10.-11. | C11: ='2027 budžeta aprēķins'!E11 -> 270 | D11: 21 | E11: =C11+D11 -> 291
B12: 9.klase | C12: ='2027 budžeta aprēķins'!E12 -> 43 | D12: 3 | E12: =C12+D12 -> 46
B13: 12.klase | C13: ='2027 budžeta aprēķins'!E13 -> 2 | D13: 1 | E13: =C13+D13 -> 3
A14: Profesionālās izglītības iestādes
A15: 1000 | B15: Prof.sk | C15: ='2027 budžeta aprēķins'!E15 -> 3 | E15: =C15+D15 -> 3 | F15: =E15+E16 -> 4
A16: 7471 | B16: Prof.sk | C16: ='2027 budžeta aprēķins'!E16 -> 1 | E16: =C16+D16 -> 1
A17: Priv sk.
A18: 3000 | B18: Pirmsk. izgl.iest. | C18: ='2027 budžeta aprēķins'!E18 -> 29 | D18: 3 | E18: =C18+D18 -> 32 | F18: =SUM(E18:E22) -> 95
B19: 1.klase | C19: ='2027 budžeta aprēķins'!E19 -> 14 | D19: 1 | E19: =C19+D19 -> 15
B20: 2.-8.; 10.-11. | C20: ='2027 budžeta aprēķins'!E20 -> 39 | D20: 3 | E20: =C20+D20 -> 42
B21: 9.klase | C21: ='2027 budžeta aprēķins'!E21 -> 3 | E21: =C21+D21 -> 3
B22: 12.klase | C22: ='2027 budžeta aprēķins'!E22 -> 2 | D22: 1 | E22: =C22+D22 -> 3
C23: ='2027 budžeta aprēķins'!E23 -> 736 | D23: =SUM(D9:D22) -> 57 | E23: =SUM(E9:E22) -> 793 | F23: =F9+F15+F18 -> 793
A25: Izglītojamo skaita pieauguma 7,69% apmēra pieaugumā | D25: =C23*0.0769 -> 56.6
A29: Mēnesis | B29: Darba dienu un mācību dienu skaits 2028.gada menešos | G29: Cilvēkstundu skaits mēnesī | L29: 2026.gadā valsts plānotā atlīdzība par vienu asistenta pakalpojuma stundu | M29: Izglītojamo skaits Prof izgl. iestādēs (EKK-1000) | N29: Izglītojamo skaits Prof izgl. iestādēs (EKK-7471) | O29: Izglītojamo skaits pašvaldībās (EKK-7460) | T29: Izglītojamo skaits privātajās izglītības iestādēs (EKK-3000) | Y29: KOPĀ | Z29: Finansējuma aprēķins Prof izgl. iestādēs (EKK-1000) | AA29: Finansējuma aprēķins Prof izgl. iestādēs (EKK-7471) | AB29: Finansējuma aprēķins pašvaldībās (EKK-7460) | AH29: Finansējuma aprēķins privātajās izglītības iestādēs (EKK-3000) | AN29: KOPĀ
B30: Pirmsk. Izgl. Iest., prof.sk. | C30: 1.klase | D30: 2-8.; 10-11. klase | E30: 9.klase | F30: 12.klase | G30: Pirmsk. Izgl. Iest., prof.sk. | H30: 1.klase | I30: 2-8.; 10-11. klase | J30: 9.klase | K30: 12.klase | O30: Pirmsk. Izgl. Iest. | P30: 1.klase | Q30: 2-8.; 10-11. klase | R30: 9.klase | S30: 12.klase | T30: Pirmsk. Izgl. Iest. | U30: 1.klase | V30: 2-8.; 10-11. klase | W30: 9.klase | X30: 12.klase | AB30: Pirmsk. Izgl. Iest. | AC30: 1.klase | AD30: 2-8.; 10-11. klase | AE30: 9.klase | AF30: 12.klase | AG30: Kopā | AH30: Pirmsk. Izgl. Iest. | AI30: 1.klase | AJ30: 2-8.; 10-11. klase | AK30: 9.klase | AL30: 12.klase | AM30: Kopā
A31: A | B31: 1 | C31: 2 | D31: 3 | E31: 4 | F31: 5 | G31: 6 | H31: 7 | I31: 8 | J31: 9 | K31: 10 | L31: 11 | M31: 12 | N31: 13 | O31: 14 | P31: 15 | Q31: 16 | R31: 17 | S31: 18 | T31: 19 | U31: 20 | V31: 21 | W31: 22 | X31: 23 | Y31: 24=SUM(12:23) | Z31: 25=6*11*12 | AA31: 26=6*11*13 | AB31: 27=6*11*14 | AC31: 28=7*11*15 | AD31: 29=8*11*16 | AE31: 30=9*11*17 | AF31: 31=10*11*18 | AG31: 32=27+28+29+30+31 | AH31: 33=6*11*19 | AI31: 34=7*11*20 | AJ31: 35=8*11*21 | AK31: 36=9*11*22 | AL31: 37=10*11*23 | AM31: 38=33+34+35+36+37 | AN31: 39=25+26+32+38
A32: janvāris | B32: 21 | C32: 21 | D32: 21 | E32: 21 | F32: 21 | G32: =B32*8 -> 168 | H32: =C32*8 -> 168 | I32: =D32*8 -> 168 | J32: =E32*8 -> 168 | K32: =F32*8 -> 168 | L32: 5.72 | M32: =$E$15 -> 3 | N32: =$E$16 -> 1 | O32: =$E$9 -> 289 | P32: =$E$10 -> 65 | Q32: =$E$11 -> 291 | R32: =$E$12 -> 46 | S32: =$E$13 -> 3 | T32: =$E$18 -> 32 | U32: =$E$19 -> 15 | V32: =$E$20 -> 42 | W32: =$E$21 -> 3 | X32: =$E$22 -> 3 | Y32: =SUM(M32:X32) -> 793 | Z32: =G32*L32*M32 -> 2882.88 | AA32: =G32*L32*N32 -> 960.96 | AB32: =G32*L32*O32 -> 277717.44 | AC32: =H32*L32*P32 -> 62462.4 | AD32: =I32*L32*Q32 -> 279639.36 | AE32: =J32*L32*R32 -> 44204.16 | AF32: =K32*L32*S32 -> 2882.88 | AG32: =SUM(AB32:AF32) -> 666906.24 | AH32: =G32*L32*T32 -> 30750.72 | AI32: =H32*L32*U32 -> 14414.4 | AJ32: =I32*L32*V32 -> 40360.32 | AK32: =J32*L32*W32 -> 2882.88 | AL32: =K32*L32*X32 -> 2882.88 | AM32: =SUM(AH32:AL32) -> 91291.2 | AN32: =Z32+AA32+AG32+AM32 -> 762041.28
A33: februāris | B33: 21 | C33: 16 | D33: 21 | E33: 21 | F33: 21 | G33: =B33*8 -> 168 | H33: =C33*8 -> 128 | I33: =D33*8 -> 168 | J33: =E33*8 -> 168 | K33: =F33*8 -> 168 | L33: 6.03 | M33: =$E$15 -> 3 | N33: =$E$16 -> 1 | O33: =O32 -> 289 | P33: =$E$10 -> 65 | Q33: =$E$11 -> 291 | R33: =$E$12 -> 46 | S33: =$E$13 -> 3 | T33: =$E$18 -> 32 | U33: =$E$19 -> 15 | V33: =$E$20 -> 42 | W33: =$E$21 -> 3 | X33: =$E$22 -> 3 | Y33: =SUM(M33:X33) -> 793 | Z33: =G33*L33*M33 -> 3039.12 | AA33: =G33*L33*N33 -> 1013.04 | AB33: =G33*L33*O33 -> 292768.56 | AC33: =H33*L33*P33 -> 50169.6 | AD33: =I33*L33*Q33 -> 294794.64 | AE33: =J33*L33*R33 -> 46599.84 | AF33: =K33*L33*S33 -> 3039.12 | AG33: =SUM(AB33:AF33) -> 687371.76 | AH33: =G33*L33*T33 -> 32417.28 | AI33: =H33*L33*U33 -> 11577.6 | AJ33: =I33*L33*V33 -> 42547.68 | AK33: =J33*L33*W33 -> 3039.12 | AL33: =K33*L33*X33 -> 3039.12 | AM33: =SUM(AH33:AL33) -> 92620.8 | AN33: =Z33+AA33+AG33+AM33 -> 784044.72
A34: marts | B34: 23 | C34: 18 | D34: 18 | E34: 18 | F34: 18 | G34: =(B34*8) -> 184 | H34: =(C34*8) -> 144 | I34: =(D34*8) -> 144 | J34: =(E34*8) -> 144 | K34: =(F34*8) -> 144 | L34: 5.72 | M34: =$E$15 -> 3 | N34: =$E$16 -> 1 | O34: =O33 -> 289 | P34: =$E$10 -> 65 | Q34: =$E$11 -> 291 | R34: =$E$12 -> 46 | S34: =$E$13 -> 3 | T34: =$E$18 -> 32 | U34: =$E$19 -> 15 | V34: =$E$20 -> 42 | W34: =$E$21 -> 3 | X34: =$E$22 -> 3 | Y34: =SUM(M34:X34) -> 793 | Z34: =G34*L34*M34 -> 3157.44 | AA34: =G34*L34*N34 -> 1052.48 | AB34: =G34*L34*O34 -> 304166.72 | AC34: =H34*L34*P34 -> 53539.2 | AD34: =I34*L34*Q34 -> 239690.88 | AE34: =J34*L34*R34 -> 37889.28 | AF34: =K34*L34*S34 -> 2471.04 | AG34: =SUM(AB34:AF34) -> 637757.12 | AH34: =G34*L34*T34 -> 33679.36 | AI34: =H34*L34*U34 -> 12355.2 | AJ34: =I34*L34*V34 -> 34594.56 | AK34: =J34*L34*W34 -> 2471.04 | AL34: =K34*L34*X34 -> 2471.04 | AM34: =SUM(AH34:AL34) -> 85571.2 | AN34: =Z34+AA34+AG34+AM34 -> 727538.24
A35: aprīlis | B35: 18 | C35: 18 | D35: 18 | E35: 18 | F35: 18 | G35: =(B35*8)-1 -> 143 | H35: =(C35*8)-1 -> 143 | I35: =(D35*8)-1 -> 143 | J35: =(E35*8)-1 -> 143 | K35: =(F35*8)-1 -> 143 | L35: 5.72 | M35: =$E$15 -> 3 | N35: =$E$16 -> 1 | O35: =O34 -> 289 | P35: =$E$10 -> 65 | Q35: =$E$11 -> 291 | R35: =$E$12 -> 46 | S35: =$E$13 -> 3 | T35: =$E$18 -> 32 | U35: =$E$19 -> 15 | V35: =$E$20 -> 42 | W35: =$E$21 -> 3 | X35: =$E$22 -> 3 | Y35: =SUM(M35:X35) -> 793 | Z35: =G35*L35*M35 -> 2453.88 | AA35: =G35*L35*N35 -> 817.96 | AB35: =G35*L35*O35 -> 236390.44 | AC35: =H35*L35*P35 -> 53167.4 | AD35: =I35*L35*Q35 -> 238026.36 | AE35: =J35*L35*R35 -> 37626.16 | AF35: =K35*L35*S35 -> 2453.88 | AG35: =SUM(AB35:AF35) -> 567664.24 | AH35: =G35*L35*T35 -> 26174.72 | AI35: =H35*L35*U35 -> 12269.4 | AJ35: =I35*L35*V35 -> 34354.32 | AK35: =J35*L35*W35 -> 2453.88 | AL35: =K35*L35*X35 -> 2453.88 | AM35: =SUM(AH35:AL35) -> 77706.2 | AN35: =Z35+AA35+AG35+AM35 -> 648642.28
A36: maijs | B36: 21 | C36: 21 | D36: 21 | E36: 21 | F36: 21 | G36: =(B36*8)-1 -> 167 | H36: =(C36*8)-1 -> 167 | I36: =(D36*8)-1 -> 167 | J36: =(E36*8)-1 -> 167 | K36: =(F36*8)-1 -> 167 | L36: 5.74 | M36: =$E$15 -> 3 | N36: =$E$16 -> 1 | O36: =O35 -> 289 | P36: =$E$10 -> 65 | Q36: =$E$11 -> 291 | R36: =$E$12 -> 46 | S36: =$E$13 -> 3 | T36: =$E$18 -> 32 | U36: =$E$19 -> 15 | V36: =$E$20 -> 42 | W36: =$E$21 -> 3 | X36: =$E$22 -> 3 | Y36: =SUM(M36:X36) -> 793 | Z36: =G36*L36*M36 -> 2875.74 | AA36: =G36*L36*N36 -> 958.58 | AB36: =G36*L36*O36 -> 277029.62 | AC36: =H36*L36*P36 -> 62307.7 | AD36: =I36*L36*Q36 -> 278946.78 | AE36: =J36*L36*R36 -> 44094.68 | AF36: =K36*L36*S36 -> 2875.74 | AG36: =SUM(AB36:AF36) -> 665254.52 | AH36: =G36*L36*T36 -> 30674.56 | AI36: =H36*L36*U36 -> 14378.7 | AJ36: =I36*L36*V36 -> 40260.36 | AK36: =J36*L36*W36 -> 2875.74 | AL36: =K36*L36*X36 -> 2875.74 | AM36: =SUM(AH36:AL36) -> 91065.1 | AN36: =Z36+AA36+AG36+AM36 -> 760153.94
A37: jūnijs | B37: 21 | E37: 12 | F37: 16 | G37: =(B37*8)-1 -> 167 | H37: =C37*8 -> 0 | I37: =D37*8 -> 0 | J37: =E37*8 -> 96 | K37: =(F37*8)-1 -> 127 | L37: 5.72 | M37: =$E$15 -> 3 | N37: =$E$16 -> 1 | O37: =O36 -> 289 | P37: =$E$10 -> 65 | Q37: =$E$11 -> 291 | R37: =$E$12 -> 46 | S37: =$E$13 -> 3 | T37: =$E$18 -> 32 | U37: =$E$19 -> 15 | V37: =$E$20 -> 42 | W37: =$E$21 -> 3 | X37: =$E$22 -> 3 | Y37: =SUM(M37:X37) -> 793 | Z37: =G37*L37*M37 -> 2865.72 | AA37: =G37*L37*N37 -> 955.24 | AB37: =G37*L37*O37 -> 276064.36 | AC37: =H37*L37*P37 -> 0 | AD37: =I37*L37*Q37 -> 0 | AE37: =J37*L37*R37 -> 25259.52 | AF37: =K37*L37*S37 -> 2179.32 | AG37: =SUM(AB37:AF37) -> 303503.2 | AH37: =G37*L37*T37 -> 30567.68 | AI37: =H37*L37*U37 -> 0 | AJ37: =I37*L37*V37 -> 0 | AK37: =J37*L37*W37 -> 1647.36 | AL37: =K37*L37*X37 -> 2179.32 | AM37: =SUM(AH37:AL37) -> 34394.36 | AN37: =Z37+AA37+AG37+AM37 -> 341718.52
A38: jūlijs | B38: 21 | G38: =B38*8 -> 168 | H38: =C38*8 -> 0 | I38: =D38*8 -> 0 | J38: =E38*8 -> 0 | K38: =F38*8 -> 0 | L38: 5.72 | M38: =$E$15 -> 3 | N38: =$E$16 -> 1 | O38: =O37 -> 289 | P38: =$E$10 -> 65 | Q38: =$E$11 -> 291 | R38: =$E$12 -> 46 | S38: =$E$13 -> 3 | T38: =$E$18 -> 32 | U38: =$E$19 -> 15 | V38: =$E$20 -> 42 | W38: =$E$21 -> 3 | X38: =$E$22 -> 3 | Y38: =SUM(M38:X38) -> 793 | Z38: =G38*L38*M38 -> 2882.88 | AA38: =G38*L38*N38 -> 960.96 | AB38: =G38*L38*O38 -> 277717.44 | AC38: =H38*L38*P38 -> 0 | AD38: =I38*L38*Q38 -> 0 | AE38: =J38*L38*R38 -> 0 | AF38: =K38*L38*S38 -> 0 | AG38: =SUM(AB38:AF38) -> 277717.44 | AH38: =G38*L38*T38 -> 30750.72 | AI38: =H38*L38*U38 -> 0 | AJ38: =I38*L38*V38 -> 0 | AK38: =J38*L38*W38 -> 0 | AL38: =K38*L38*X38 -> 0 | AM38: =SUM(AH38:AL38) -> 30750.72 | AN38: =Z38+AA38+AG38+AM38 -> 312312
A39: augusts | B39: 23 | G39: =B39*8 -> 184 | H39: =C39*8 -> 0 | I39: =D39*8 -> 0 | J39: =E39*8 -> 0 | K39: =F39*8 -> 0 | L39: 5.74 | M39: =$E$15 -> 3 | N39: =$E$16 -> 1 | O39: =O38 -> 289 | P39: =$E$10 -> 65 | Q39: =$E$11 -> 291 | R39: =$E$12 -> 46 | S39: =$E$13 -> 3 | T39: =$E$18 -> 32 | U39: =$E$19 -> 15 | V39: =$E$20 -> 42 | W39: =$E$21 -> 3 | X39: =$E$22 -> 3 | Y39: =SUM(M39:X39) -> 793 | Z39: =G39*L39*M39 -> 3168.48 | AA39: =G39*L39*N39 -> 1056.16 | AB39: =G39*L39*O39 -> 305230.24 | AC39: =H39*L39*P39 -> 0 | AD39: =I39*L39*Q39 -> 0 | AE39: =J39*L39*R39 -> 0 | AF39: =K39*L39*S39 -> 0 | AG39: =SUM(AB39:AF39) -> 305230.24 | AH39: =G39*L39*T39 -> 33797.12 | AI39: =H39*L39*U39 -> 0 | AJ39: =I39*L39*V39 -> 0 | AK39: =J39*L39*W39 -> 0 | AL39: =K39*L39*X39 -> 0 | AM39: =SUM(AH39:AL39) -> 33797.12 | AN39: =Z39+AA39+AG39+AM39 -> 343252
B40: =SUM(B32:B39) -> 169 | C40: =SUM(C32:C39) -> 94 | D40: =SUM(D32:D39) -> 99 | E40: =SUM(E32:E39) -> 111 | F40: =SUM(F32:F39) -> 115 | G40: =SUM(G32:G39) -> 1349 | H40: =SUM(H32:H39) -> 750 | I40: =SUM(I32:I39) -> 790 | ... K40: =SUM(K32:K39) -> 917 | Z40: =SUM(Z32:Z39) -> 23326.14 | AA40: =SUM(AA32:AA39) -> 7775.38 | AB40: =SUM(AB32:AB39) -> 2247084.8 | AC40: =SUM(AC32:AC39) -> 281646.3 | AD40: =SUM(AD32:AD39) -> 1331098 | AE40: =SUM(AE32:AE39) -> 235673.64 | AF40: =SUM(AF32:AF39) -> 15901.98 | AG40: =SUM(AG32:AG39) -> 4111404.8 | ... AN40: =SUM(AN32:AN39) -> 4679703
A42: septembris | B42: 21 | C42: 21 | D42: 21 | E42: 21 | F42: 21 | G42: =B42*8 -> 168 | H42: =C42*8 -> 168 | I42: =D42*8 -> 168 | J42: =E42*8 -> 168 | K42: =F42*8 -> 168 | L42: 5.72 | M42: =$E$15 -> 3 | N42: =$E$16 -> 1 | O42: =$E$9 -> 289 | P42: =$E$10 -> 65 | Q42: =$E$11 -> 291 | R42: =$E$12 -> 46 | S42: =$E$13 -> 3 | T42: =$E$18 -> 32 | U42: =$E$19 -> 15 | V42: =$E$20 -> 42 | W42: =$E$21 -> 3 | X42: =$E$22 -> 3 | Y42: =SUM(M42:X42) -> 793 | Z42: =G42*L42*M42 -> 2882.88 | AA42: =G42*L42*N42 -> 960.96 | AB42: =G42*L42*O42 -> 277717.44 | AC42: =H42*L42*P42 -> 62462.4 | AD42: =I42*L42*Q42 -> 279639.36 | AE42: =J42*L42*R42 -> 44204.16 | AF42: =K42*L42*S42 -> 2882.88 | AG42: =SUM(AB42:AF42) -> 666906.24 | AH42: =G42*L42*T42 -> 30750.72 | AI42: =H42*L42*U42 -> 14414.4 | AJ42: =I42*L42*V42 -> 40360.32 | AK42: =J42*L42*W42 -> 2882.88 | AL42: =K42*L42*X42 -> 2882.88 | AM42: =SUM(AH42:AL42) -> 91291.2 | AN42: =Z42+AA42+AG42+AM42 -> 762041.28
A43: oktobris | B43: 22 | C43: 17 | D43: 17 | E43: 17 | F43: 17 | G43: =B43*8 -> 176 | H43: =C43*8 -> 136 | I43: =D43*8 -> 136 | J43: =E43*8 -> 136 | K43: =F43*8 -> 136 | L43: 5.72 | M43: =$E$15 -> 3 | N43: =$E$16 -> 1 | O43: =$E$9 -> 289 | P43: =$E$10 -> 65 | Q43: =$E$11 -> 291 | R43: =$E$12 -> 46 | S43: =$E$13 -> 3 | T43: =$E$18 -> 32 | U43: =$E$19 -> 15 | V43: =$E$20 -> 42 | W43: =$E$21 -> 3 | X43: =$E$22 -> 3 | Y43: =SUM(M43:X43) -> 793 | Z43: =G43*L43*M43 -> 3020.16 | AA43: =G43*L43*N43 -> 1006.72 | AB43: =G43*L43*O43 -> 290942.08 | AC43: =H43*L43*P43 -> 50564.8 | AD43: =I43*L43*Q43 -> 226374.72 | AE43: =J43*L43*R43 -> 35784.32 | AF43: =K43*L43*S43 -> 2333.76 | AG43: =SUM(AB43:AF43) -> 605999.68 | AH43: =G43*L43*T43 -> 32215.04 | AI43: =H43*L43*U43 -> 11668.8 | AJ43: =I43*L43*V43 -> 32672.64 | AK43: =J43*L43*W43 -> 2333.76 | AL43: =K43*L43*X43 -> 2333.76 | AM43: =SUM(AH43:AL43) -> 81224 | AN43: =Z43+AA43+AG43+AM43 -> 691250.56
A44: novembris | B44: 21 | C44: 21 | D44: 21 | E44: 21 | F44: 21 | G44: =(B44*8)-1 -> 167 | H44: =(C44*8)-1 -> 167 | I44: =(D44*8)-1 -> 167 | J44: =(E44*8)-1 -> 167 | K44: =(F44*8)-1 -> 167 | L44: 5.74 | M44: =$E$15 -> 3 | N44: =$E$16 -> 1 | O44: =$E$9 -> 289 | P44: =$E$10 -> 65 | Q44: =$E$11 -> 291 | R44: =$E$12 -> 46 | S44: =$E$13 -> 3 | T44: =$E$18 -> 32 | U44: =$E$19 -> 15 | V44: =$E$20 -> 42 | W44: =$E$21 -> 3 | X44: =$E$22 -> 3 | Y44: =SUM(M44:X44) -> 793 | Z44: =G44*L44*M44 -> 2875.74 | AA44: =G44*L44*N44 -> 958.58 | AB44: =G44*L44*O44 -> 277029.62 | AC44: =H44*L44*P44 -> 62307.7 | AD44: =I44*L44*Q44 -> 278946.78 | AE44: =J44*L44*R44 -> 44094.68 | AF44: =K44*L44*S44 -> 2875.74 | AG44: =SUM(AB44:AF44) -> 665254.52 | AH44: =G44*L44*T44 -> 30674.56 | AI44: =H44*L44*U44 -> 14378.7 | AJ44: =I44*L44*V44 -> 40260.36 | AK44: =J44*L44*W44 -> 2875.74 | AL44: =K44*L44*X44 -> 2875.74 | AM44: =SUM(AH44:AL44) -> 91065.1 | AN44: =Z44+AA44+AG44+AM44 -> 760153.94
A45: decembris | B45: 19 | C45: 16 | D45: 16 | E45: 16 | F45: 16 | G45: =(B45*8) -> 152 | H45: =C45*8 -> 128 | I45: =D45*8 -> 128 | J45: =E45*8 -> 128 | K45: =F45*8 -> 128 | L45: 5.72 | M45: =$E$15 -> 3 | N45: =$E$16 -> 1 | O45: =$E$9 -> 289 | P45: =$E$10 -> 65 | Q45: =$E$11 -> 291 | R45: =$E$12 -> 46 | S45: =$E$13 -> 3 | T45: =$E$18 -> 32 | U45: =$E$19 -> 15 | V45: =$E$20 -> 42 | W45: =$E$21 -> 3 | X45: =$E$22 -> 3 | Y45: =SUM(M45:X45) -> 793 | Z45: =G45*L45*M45 -> 2608.32 | AA45: =G45*L45*N45 -> 869.44 | AB45: =G45*L45*O45 -> 251268.16 | AC45: =H45*L45*P45 -> 47590.4 | AD45: =I45*L45*Q45 -> 213058.56 | AE45: =J45*L45*R45 -> 33679.36 | AF45: =K45*L45*S45 -> 2196.48 | AG45: =SUM(AB45:AF45) -> 547792.96 | AH45: =G45*L45*T45 -> 27822.08 | AI45: =H45*L45*U45 -> 10982.4 | AJ45: =I45*L45*V45 -> 30750.72 | AK45: =J45*L45*W45 -> 2196.48 | AL45: =K45*L45*X45 -> 2196.48 | AM45: =SUM(AH45:AL45) -> 73948.16 | AN45: =Z45+AA45+AG45+AM45 -> 625218.88
B46: =SUM(B42:B45) -> 83 | C46: =SUM(C42:C45) -> 75 | D46: =SUM(D42:D45) -> 75 | E46: =SUM(E42:E45) -> 75 | F46: =SUM(F42:F45) -> 75 | G46: =SUM(G42:G45) -> 663 | H46: =SUM(H42:H45) -> 599 | I46: =SUM(I42:I45) -> 599 | ... K46: =SUM(K42:K45) -> 599 | Z46: =SUM(Z42:Z45) -> 11387.1 | AA46: =SUM(AA42:AA45) -> 3795.7 | AB46: =SUM(AB42:AB45) -> 1096957.3 | AC46: =SUM(AC42:AC45) -> 222925.3 | AD46: =SUM(AD42:AD45) -> 998019.42 | AE46: =SUM(AE42:AE45) -> 157762.52 | AF46: =SUM(AF42:AF45) -> 10288.86 | AG46: =SUM(AG42:AG45) -> 2485953.4 | ... AN46: =SUM(AN42:AN45) -> 2838664.7
A48: KOPĀ | B48: =B40+B46 -> 252 | C48: =C40+C46 -> 169 | D48: =D40+D46 -> 174 | E48: =E40+E46 -> 186 | F48: =F40+F46 -> 190 | G48: =G40+G46 -> 2012 | H48: =H40+H46 -> 1349 | I48: =I40+I46 -> 1389 | ... K48: =K40+K46 -> 1516 | Z48: =Z40+Z46 -> 34713.24 | AA48: =AA40+AA46 -> 11571.08 | AB48: =AB40+AB46 -> 3344042.1 | AC48: =AC40+AC46 -> 504571.6 | AD48: =AD40+AD46 -> 2329117.4 | AE48: =AE40+AE46 -> 393436.16 | AF48: =AF40+AF46 -> 26190.84 | AG48: =AG40+AG46 -> 6597358.2 | ... AN48: =AN40+AN46 -> 7518367.6
AI52: Maksimāli pieļaujamais valsts pamatbudžeta izdevumu apjoms | AJ52: Nepieciešamā finansējuma apmērs | AK52: Nepieciešamā finansējuma apmēra Iztrūkums(-) / Ekonomija(+) | AL52: Potenciālais ietaupījums, pieņemot, ka faktiskā izpilde ir 87 % apmērā | AM52: Finansējuma aprēķins ņemot vērā potenciālo ietaupījumu | AN52: Plānotais Iztrūkums (-) / Ekonomija (+)
AL53: 0.87
AI54: 1 | AJ54: 2 | AK54: 3=1-2 | AL54: 4 | AM54: 5=2-4 | AN54: 6=1-5
AE55: 2028.gada prognoze | AI55: 5081022 | AJ55: =AN48 -> 7518368 | AK55: =AI55-AJ55 -> -2437346 | AL55: =(100%-AL53)*AJ55 -> 977388 | AM55: =AJ55-AL55 -> 6540980 | AN55: =AI55-AM55 -> -1459958
AE56: Nepieciešamais bāzes finansējums neņemot vērā noteikumu projekta grozījumus | AJ56: =AN97 -> 7471567
AE57: Izglītojamo skaita izmaiņu ietekme | AK57: =-(AJ56-AI55) -> -2390545 | AN57: =AL55+AK57+AK58 -> -1459958
AE58: Valsts nodrošinātās atlīdzības par vienu asistenta pakalpojuma stundu izmaiņu ietekme | AK58: =-(AJ55-AJ56) -> -46801 | AN58: 0
AH60: EKK | AI60: =AI52 -> Maksimāli pieļaujamais valsts pamatbudžeta izdevumu apjoms | AJ60: =AM52 -> Finansējuma aprēķins ņemot vērā potenciālo ietaupījumu | AK60: =AN52 -> Plānotais Iztrūkums (-) / Ekonomija (+)
AH61: 1000 | AI61: 18379 | AJ61: =Z48*AL53 -> 30201 | AK61: =AI61-AJ61 -> -11822
AH62: 3000 | AI62: 602870 | AJ62: =AM48*AL53 -> 761011 | AK62: =AI62-AJ62 -> -158141
AH63: 7460 | AI63: 4459773 | AJ63: =AG48*AL53-1 -> 5739701 | AK63: =AI63-AJ63 -> -1279928
AH64: 7471 | AI64: 0 | AJ64: =AA48*AL53 -> 10067 | AK64: =AI64-AJ64 -> -10067
AI65: =SUM(AI61:AI64) -> 5081022 | AJ65: =SUM(AJ61:AJ64) -> 6540980 | AK65: =SUM(AK61:AK64) -> -1459958
AH68: EKK | AI68: I ceturksnis | AJ68: II ceturksnis | AK68: III ceturksnis | AL68: IV ceturksnis | AM68: KOPĀ
AH69: 1000 | AI69: =SUM(Z32:Z34)*AL53 -> 7899 | AJ69: =SUM(Z35:Z37)*AL53 -> 7130 | AK69: =(SUM(Z38:Z39)+Z42)*AL53 -> 7773 | AL69: =SUM(Z43:Z45)*AL53 -> 7399 | AM69: =SUM(AI69:AL69) -> 30201
AH70: 3000 | AI70: =SUM(AM32:AM34)*AL53 -> 234450 | AJ70: =SUM(AM35:AM37)*AL53 -> 176754 | AK70: =(SUM(AM38:AM39)+AM42)*AL53 -> 135580 | AL70: =SUM(AM43:AM45)*AL53+1 -> 214227 | AM70: =SUM(AI70:AL70) -> 761011
AH71: 7460 | AI71: =SUM(AG32:AG34)*AL53 -> 1733071 | AJ71: =SUM(AG35:AG37)*AL53 -> 1336687 | AK71: =(SUM(AG38:AG39)+AG42)*AL53 -> 1087373 | AL71: =SUM(AG43:AG45)*AL53-1 -> 1582570 | AM71: =SUM(AI71:AL71) -> 5739701
AH72: 7471 | AI72: =SUM(AA32:AA34)*AL53 -> 2633 | AJ72: =SUM(AA35:AA37)*AL53 -> 2377 | AK72: =(SUM(AA38:AA39)+AA42)*AL53 -> 2591 | AL72: =SUM(AA43:AA45)*AL53 -> 2466 | AM72: =SUM(AI72:AL72) -> 10067
AI73: =SUM(AI69:AI72) -> 1978053 | AJ73: =SUM(AJ69:AJ72) -> 1522948 | AK73: =SUM(AK69:AK72) -> 1233317 | AL73: =SUM(AL69:AL72) -> 1806662 | AM73: =SUM(AM69:AM72) -> 6540980
A76: Nepieciešamā bāzes finansējuma aprēķins neņemot vērā noteikumu projekta grozījumus
A78: Mēnesis | B78: Darba dienu un mācību dienu skaits 2028.gada menešos | G78: Cilvēkstundu skaits mēnesī | L78: Valsts nodrošinātā atlīdzību par vienu asistenta pakalpojuma stundu līdz 31.12.2025. | M78: Izglītojamo skaits Prof izgl. iestādēs (EKK-1000) | N78: Izglītojamo skaits Prof izgl. iestādēs (EKK-7471) | O78: Izglītojamo skaits pašvaldībās (EKK-7460) | T78: Izglītojamo skaits privātajās izglītības iestādēs (EKK-3000) | Y78: KOPĀ | Z78: Finansējuma aprēķins Prof izgl. iestādēs (EKK-1000) | AA78: Finansējuma aprēķins Prof izgl. iestādēs (EKK-7471) | AB78: Finansējuma aprēķins pašvaldībās (EKK-7460) | AH78: Finansējuma aprēķins privātajās izglītības iestādēs (EKK-3000) | AN78: KOPĀ
B79: Pirmsk. Izgl. Iest., prof.sk. | C79: 1.klase | D79: 2-8.; 10-11. klase | E79: 9.klase | F79: 12.klase | G79: Pirmsk. Izgl. Iest., prof.sk. | H79: 1.klase | I79: 2-8.; 10-11. klase | J79: 9.klase | K79: 12.klase | O79: Pirmsk. Izgl. Iest. | P79: 1.klase | Q79: 2-8.; 10-11. klase | R79: 9.klase | S79: 12.klase | T79: Pirmsk. Izgl. Iest. | U79: 1.klase | V79: 2-8.; 10-11. klase | W79: 9.klase | X79: 12.klase | AB79: Pirmsk. Izgl. Iest. | AC79: 1.klase | AD79: 2-8.; 10-11. klase | AE79: 9.klase | AF79: 12.klase | AG79: Kopā | AH79: Pirmsk. Izgl. Iest. | AI79: 1.klase | AJ79: 2-8.; 10-11. klase | AK79: 9.klase | AL79: 12.klase | AM79: Kopā
A80: A | B80: 1 | C80: 2 | D80: 3 | E80: 4 | F80: 5 | G80: 6 | H80: 7 | I80: 8 | J80: 9 | K80: 10 | L80: 11 | M80: 12 | N80: 13 | O80: 14 | P80: 15 | Q80: 16 | R80: 17 | S80: 18 | T80: 19 | U80: 20 | V80: 21 | W80: 22 | X80: 23 | Y80: 24=SUM(12:23) | Z80: 25=6*11*12 | AA80: 26=6*11*13 | AB80: 27=6*11*14 | AC80: 28=7*11*15 | AD80: 29=8*11*16 | AE80: 30=9*11*17 | AF80: 31=10*11*18 | AG80: 32=27+28+29+30+31 | AH80: 33=6*11*19 | AI80: 34=7*11*20 | AJ80: 35=8*11*21 | AK80: 36=9*11*22 | AL80: 37=10*11*23 | AM80: 38=33+34+35+36+37 | AN80: 39=25+26+32+38
A81: janvāris | B81: 21 | C81: 21 | D81: 21 | E81: 21 | F81: 21 | G81: =B81*8 -> 168 | H81: =C81*8 -> 168 | I81: =D81*8 -> 168 | J81: =E81*8 -> 168 | K81: =F81*8 -> 168 | L81: 5.72 | M81: =$E$15 -> 3 | N81: =$E$16 -> 1 | O81: =$E$9 -> 289 | P81: =$E$10 -> 65 | Q81: =$E$11 -> 291 | R81: =$E$12 -> 46 | S81: =$E$13 -> 3 | T81: =$E$18 -> 32 | U81: =$E$19 -> 15 | V81: =$E$20 -> 42 | W81: =$E$21 -> 3 | X81: =$E$22 -> 3 | Y81: =SUM(M81:X81) -> 793 | Z81: =G81*L81*M81 -> 2882.88 | AA81: =G81*L81*N81 -> 960.96 | AB81: =G81*L81*O81 -> 277717.44 | AC81: =H81*$L81*P81 -> 62462.4 | AD81: =I81*$L81*Q81 -> 279639.36 | AE81: =J81*$L81*R81 -> 44204.16 | AF81: =K81*$L81*S81 -> 2882.88 | AG81: =SUM(AB81:AF81) -> 666906.24 | AH81: =G81*$L81*T81 -> 30750.72 | AI81: =H81*$L81*U81 -> 14414.4 | AJ81: =I81*$L81*V81 -> 40360.32 | AK81: =J81*$L81*W81 -> 2882.88 | AL81: =K81*$L81*X81 -> 2882.88 | AM81: =SUM(AH81:AL81) -> 91291.2 | AN81: =Z81+AA81+AG81+AM81 -> 762041.28
A82: februāris | B82: 21 | C82: 16 | D82: 21 | E82: 21 | F82: 21 | G82: =B82*8 -> 168 | H82: =C82*8 -> 128 | I82: =D82*8 -> 168 | J82: =E82*8 -> 168 | K82: =F82*8 -> 168 | L82: 5.72 | M82: =$E$15 -> 3 | N82: =$E$16 -> 1 | O82: =O81 -> 289 | P82: =$E$10 -> 65 | Q82: =$E$11 -> 291 | R82: =$E$12 -> 46 | S82: =$E$13 -> 3 | T82: =$E$18 -> 32 | U82: =$E$19 -> 15 | V82: =$E$20 -> 42 | W82: =$E$21 -> 3 | X82: =$E$22 -> 3 | Y82: =SUM(M82:X82) -> 793 | Z82: =G82*L82*M82 -> 2882.88 | AA82: =G82*L82*N82 -> 960.96 | AB82: =G82*L82*O82 -> 277717.44 | AC82: =H82*$L82*P82 -> 47590.4 | AD82: =I82*$L82*Q82 -> 279639.36 | AE82: =J82*$L82*R82 -> 44204.16 | AF82: =K82*$L82*S82 -> 2882.88 | AG82: =SUM(AB82:AF82) -> 652034.24 | AH82: =G82*$L82*T82 -> 30750.72 | AI82: =H82*$L82*U82 -> 10982.4 | AJ82: =I82*$L82*V82 -> 40360.32 | AK82: =J82*$L82*W82 -> 2882.88 | AL82: =K82*$L82*X82 -> 2882.88 | AM82: =SUM(AH82:AL82) -> 87859.2 | AN82: =Z82+AA82+AG82+AM82 -> 743737.28
A83: marts | B83: 23 | C83: 18 | D83: 18 | E83: 18 | F83: 18 | G83: =(B83*8) -> 184 | H83: =(C83*8) -> 144 | I83: =(D83*8) -> 144 | J83: =(E83*8) -> 144 | K83: =(F83*8) -> 144 | L83: 5.72 | M83: =$E$15 -> 3 | N83: =$E$16 -> 1 | O83: =O82 -> 289 | P83: =$E$10 -> 65 | Q83: =$E$11 -> 291 | R83: =$E$12 -> 46 | S83: =$E$13 -> 3 | T83: =$E$18 -> 32 | U83: =$E$19 -> 15 | V83: =$E$20 -> 42 | W83: =$E$21 -> 3 | X83: =$E$22 -> 3 | Y83: =SUM(M83:X83) -> 793 | Z83: =G83*L83*M83 -> 3157.44 | AA83: =G83*L83*N83 -> 1052.48 | AB83: =G83*L83*O83 -> 304166.72 | AC83: =H83*$L83*P83 -> 53539.2 | AD83: =I83*$L83*Q83 -> 239690.88 | AE83: =J83*$L83*R83 -> 37889.28 | AF83: =K83*$L83*S83 -> 2471.04 | AG83: =SUM(AB83:AF83) -> 637757.12 | AH83: =G83*$L83*T83 -> 33679.36 | AI83: =H83*$L83*U83 -> 12355.2 | AJ83: =I83*$L83*V83 -> 34594.56 | AK83: =J83*$L83*W83 -> 2471.04 | AL83: =K83*$L83*X83 -> 2471.04 | AM83: =SUM(AH83:AL83) -> 85571.2 | AN83: =Z83+AA83+AG83+AM83 -> 727538.24
A84: aprīlis | B84: 18 | C84: 18 | D84: 18 | E84: 18 | F84: 18 | G84: =(B84*8)-1 -> 143 | H84: =(C84*8)-1 -> 143 | I84: =(D84*8)-1 -> 143 | J84: =(E84*8)-1 -> 143 | K84: =(F84*8)-1 -> 143 | L84: 5.72 | M84: =$E$15 -> 3 | N84: =$E$16 -> 1 | O84: =O83 -> 289 | P84: =$E$10 -> 65 | Q84: =$E$11 -> 291 | R84: =$E$12 -> 46 | S84: =$E$13 -> 3 | T84: =$E$18 -> 32 | U84: =$E$19 -> 15 | V84: =$E$20 -> 42 | W84: =$E$21 -> 3 | X84: =$E$22 -> 3 | Y84: =SUM(M84:X84) -> 793 | Z84: =G84*L84*M84 -> 2453.88 | AA84: =G84*L84*N84 -> 817.96 | AB84: =G84*L84*O84 -> 236390.44 | AC84: =H84*$L84*P84 -> 53167.4 | AD84: =I84*$L84*Q84 -> 238026.36 | AE84: =J84*$L84*R84 -> 37626.16 | AF84: =K84*$L84*S84 -> 2453.88 | AG84: =SUM(AB84:AF84) -> 567664.24 | AH84: =G84*$L84*T84 -> 26174.72 | AI84: =H84*$L84*U84 -> 12269.4 | AJ84: =I84*$L84*V84 -> 34354.32 | AK84: =J84*$L84*W84 -> 2453.88 | AL84: =K84*$L84*X84 -> 2453.88 | AM84: =SUM(AH84:AL84) -> 77706.2 | AN84: =Z84+AA84+AG84+AM84 -> 648642.28
A85: maijs | B85: 21 | C85: 21 | D85: 21 | E85: 21 | F85: 21 | G85: =(B85*8)-1 -> 167 | H85: =(C85*8)-1 -> 167 | I85: =(D85*8)-1 -> 167 | J85: =(E85*8)-1 -> 167 | K85: =(F85*8)-1 -> 167 | L85: 5.72 | M85: =$E$15 -> 3 | N85: =$E$16 -> 1 | O85: =O84 -> 289 | P85: =$E$10 -> 65 | Q85: =$E$11 -> 291 | R85: =$E$12 -> 46 | S85: =$E$13 -> 3 | T85: =$E$18 -> 32 | U85: =$E$19 -> 15 | V85: =$E$20 -> 42 | W85: =$E$21 -> 3 | X85: =$E$22 -> 3 | Y85: =SUM(M85:X85) -> 793 | Z85: =G85*L85*M85 -> 2865.72 | AA85: =G85*L85*N85 -> 955.24 | AB85: =G85*L85*O85 -> 276064.36 | AC85: =H85*$L85*P85 -> 62090.6 | AD85: =I85*$L85*Q85 -> 277974.84 | AE85: =J85*$L85*R85 -> 43941.04 | AF85: =K85*$L85*S85 -> 2865.72 | AG85: =SUM(AB85:AF85) -> 662936.56 | AH85: =G85*$L85*T85 -> 30567.68 | AI85: =H85*$L85*U85 -> 14328.6 | AJ85: =I85*$L85*V85 -> 40120.08 | AK85: =J85*$L85*W85 -> 2865.72 | AL85: =K85*$L85*X85 -> 2865.72 | AM85: =SUM(AH85:AL85) -> 90747.8 | AN85: =Z85+AA85+AG85+AM85 -> 757505.32
A86: jūnijs | B86: 21 | E86: 12 | F86: 16 | G86: =(B86*8)-1 -> 167 | H86: =C86*8 -> 0 | I86: =D86*8 -> 0 | J86: =E86*8 -> 96 | K86: =(F86*8)-1 -> 127 | L86: 5.72 | M86: =$E$15 -> 3 | N86: =$E$16 -> 1 | O86: =O85 -> 289 | P86: =$E$10 -> 65 | Q86: =$E$11 -> 291 | R86: =$E$12 -> 46 | S86: =$E$13 -> 3 | T86: =$E$18 -> 32 | U86: =$E$19 -> 15 | V86: =$E$20 -> 42 | W86: =$E$21 -> 3 | X86: =$E$22 -> 3 | Y86: =SUM(M86:X86) -> 793 | Z86: =G86*L86*M86 -> 2865.72 | AA86: =G86*L86*N86 -> 955.24 | AB86: =G86*L86*O86 -> 276064.36 | AC86: =H86*$L86*P86 -> 0 | AD86: =I86*$L86*Q86 -> 0 | AE86: =J86*$L86*R86 -> 25259.52 | AF86: =K86*$L86*S86 -> 2179.32 | AG86: =SUM(AB86:AF86) -> 303503.2 | AH86: =G86*$L86*T86 -> 30567.68 | AI86: =H86*$L86*U86 -> 0 | AJ86: =I86*$L86*V86 -> 0 | AK86: =J86*$L86*W86 -> 1647.36 | AL86: =K86*$L86*X86 -> 2179.32 | AM86: =SUM(AH86:AL86) -> 34394.36 | AN86: =Z86+AA86+AG86+AM86 -> 341718.52
A87: jūlijs | B87: 21 | G87: =B87*8 -> 168 | H87: =C87*8 -> 0 | I87: =D87*8 -> 0 | J87: =E87*8 -> 0 | K87: =F87*8 -> 0 | L87: 5.72 | M87: =$E$15 -> 3 | N87: =$E$16 -> 1 | O87: =O86 -> 289 | P87: =$E$10 -> 65 | Q87: =$E$11 -> 291 | R87: =$E$12 -> 46 | S87: =$E$13 -> 3 | T87: =$E$18 -> 32 | U87: =$E$19 -> 15 | V87: =$E$20 -> 42 | W87: =$E$21 -> 3 | X87: =$E$22 -> 3 | Y87: =SUM(M87:X87) -> 793 | Z87: =G87*L87*M87 -> 2882.88 | AA87: =G87*L87*N87 -> 960.96 | AB87: =G87*L87*O87 -> 277717.44 | AC87: =H87*$L87*P87 -> 0 | AD87: =I87*$L87*Q87 -> 0 | AE87: =J87*$L87*R87 -> 0 | AF87: =K87*$L87*S87 -> 0 | AG87: =SUM(AB87:AF87) -> 277717.44 | AH87: =G87*$L87*T87 -> 30750.72 | AI87: =H87*$L87*U87 -> 0 | AJ87: =I87*$L87*V87 -> 0 | AK87: =J87*$L87*W87 -> 0 | AL87: =K87*$L87*X87 -> 0 | AM87: =SUM(AH87:AL87) -> 30750.72 | AN87: =Z87+AA87+AG87+AM87 -> 312312
A88: augusts | B88: 23 | G88: =B88*8 -> 184 | H88: =C88*8 -> 0 | I88: =D88*8 -> 0 | J88: =E88*8 -> 0 | K88: =F88*8 -> 0 | L88: 5.72 | M88: =$E$15 -> 3 | N88: =$E$16 -> 1 | O88: =O87 -> 289 | P88: =$E$10 -> 65 | Q88: =$E$11 -> 291 | R88: =$E$12 -> 46 | S88: =$E$13 -> 3 | T88: =$E$18 -> 32 | U88: =$E$19 -> 15 | V88: =$E$20 -> 42 | W88: =$E$21 -> 3 | X88: =$E$22 -> 3 | Y88: =SUM(M88:X88) -> 793 | Z88: =G88*L88*M88 -> 3157.44 | AA88: =G88*L88*N88 -> 1052.48 | AB88: =G88*L88*O88 -> 304166.72 | AC88: =H88*$L88*P88 -> 0 | AD88: =I88*$L88*Q88 -> 0 | AE88: =J88*$L88*R88 -> 0 | AF88: =K88*$L88*S88 -> 0 | AG88: =SUM(AB88:AF88) -> 304166.72 | AH88: =G88*$L88*T88 -> 33679.36 | AI88: =H88*$L88*U88 -> 0 | AJ88: =I88*$L88*V88 -> 0 | AK88: =J88*$L88*W88 -> 0 | AL88: =K88*$L88*X88 -> 0 | AM88: =SUM(AH88:AL88) -> 33679.36 | AN88: =Z88+AA88+AG88+AM88 -> 342056
B89: =SUM(B81:B88) -> 169 | C89: =SUM(C81:C88) -> 94 | D89: =SUM(D81:D88) -> 99 | E89: =SUM(E81:E88) -> 111 | F89: =SUM(F81:F88) -> 115 | G89: =SUM(G81:G88) -> 1349 | H89: =SUM(H81:H88) -> 750 | I89: =SUM(I81:I88) -> 790 | ... K89: =SUM(K81:K88) -> 917 | Z89: =SUM(Z81:Z88) -> 23148.84 | AA89: =SUM(AA81:AA88) -> 7716.28 | AB89: =SUM(AB81:AB88) -> 2230004.9 | AC89: =SUM(AC81:AC88) -> 278850 | AD89: =SUM(AD81:AD88) -> 1314970.8 | AE89: =SUM(AE81:AE88) -> 233124.32 | AF89: =SUM(AF81:AF88) -> 15735.72 | AG89: =SUM(AG81:AG88) -> 4072685.8 | ... AN89: =SUM(AN81:AN88) -> 4635550.9
A91: septembris | B91: 21 | C91: 21 | D91: 21 | E91: 21 | F91: 21 | G91: =B91*8 -> 168 | H91: =C91*8 -> 168 | I91: =D91*8 -> 168 | J91: =E91*8 -> 168 | K91: =F91*8 -> 168 | L91: 5.72 | M91: =$E$15 -> 3 | N91: =$E$16 -> 1 | O91: =$E$9 -> 289 | P91: =$E$10 -> 65 | Q91: =$E$11 -> 291 | R91: =$E$12 -> 46 | S91: =$E$13 -> 3 | T91: =$E$18 -> 32 | U91: =$E$19 -> 15 | V91: =$E$20 -> 42 | W91: =$E$21 -> 3 | X91: =$E$22 -> 3 | Y91: =SUM(M91:X91) -> 793 | Z91: =G91*L91*M91 -> 2882.88 | AA91: =G91*L91*N91 -> 960.96 | AB91: =G91*$L91*O91 -> 277717.44 | AC91: =H91*$L91*P91 -> 62462.4 | AD91: =I91*$L91*Q91 -> 279639.36 | AE91: =J91*$L91*R91 -> 44204.16 | AF91: =K91*$L91*S91 -> 2882.88 | AG91: =SUM(AB91:AF91) -> 666906.24 | AH91: =G91*$L91*T91 -> 30750.72 | AI91: =H91*$L91*U91 -> 14414.4 | AJ91: =I91*$L91*V91 -> 40360.32 | AK91: =J91*$L91*W91 -> 2882.88 | AL91: =K91*$L91*X91 -> 2882.88 | AM91: =SUM(AH91:AL91) -> 91291.2 | AN91: =Z91+AA91+AG91+AM91 -> 762041.28
A92: oktobris | B92: 22 | C92: 17 | D92: 17 | E92: 17 | F92: 17 | G92: =B92*8 -> 176 | H92: =C92*8 -> 136 | I92: =D92*8 -> 136 | J92: =E92*8 -> 136 | K92: =F92*8 -> 136 | L92: 5.72 | M92: =$E$15 -> 3 | N92: =$E$16 -> 1 | O92: =$E$9 -> 289 | P92: =$E$10 -> 65 | Q92: =$E$11 -> 291 | R92: =$E$12 -> 46 | S92: =$E$13 -> 3 | T92: =$E$18 -> 32 | U92: =$E$19 -> 15 | V92: =$E$20 -> 42 | W92: =$E$21 -> 3 | X92: =$E$22 -> 3 | Y92: =SUM(M92:X92) -> 793 | Z92: =G92*L92*M92 -> 3020.16 | AA92: =G92*L92*N92 -> 1006.72 | AB92: =G92*$L92*O92 -> 290942.08 | AC92: =H92*$L92*P92 -> 50564.8 | AD92: =I92*$L92*Q92 -> 226374.72 | AE92: =J92*$L92*R92 -> 35784.32 | AF92: =K92*$L92*S92 -> 2333.76 | AG92: =SUM(AB92:AF92) -> 605999.68 | AH92: =G92*$L92*T92 -> 32215.04 | AI92: =H92*$L92*U92 -> 11668.8 | AJ92: =I92*$L92*V92 -> 32672.64 | AK92: =J92*$L92*W92 -> 2333.76 | AL92: =K92*$L92*X92 -> 2333.76 | AM92: =SUM(AH92:AL92) -> 81224 | AN92: =Z92+AA92+AG92+AM92 -> 691250.56
A93: novembris | B93: 21 | C93: 21 | D93: 21 | E93: 21 | F93: 21 | G93: =(B93*8)-1 -> 167 | H93: =(C93*8)-1 -> 167 | I93: =(D93*8)-1 -> 167 | J93: =(E93*8)-1 -> 167 | K93: =(F93*8)-1 -> 167 | L93: 5.72 | M93: =$E$15 -> 3 | N93: =$E$16 -> 1 | O93: =$E$9 -> 289 | P93: =$E$10 -> 65 | Q93: =$E$11 -> 291 | R93: =$E$12 -> 46 | S93: =$E$13 -> 3 | T93: =$E$18 -> 32 | U93: =$E$19 -> 15 | V93: =$E$20 -> 42 | W93: =$E$21 -> 3 | X93: =$E$22 -> 3 | Y93: =SUM(M93:X93) -> 793 | Z93: =G93*L93*M93 -> 2865.72 | AA93: =G93*L93*N93 -> 955.24 | AB93: =G93*$L93*O93 -> 276064.36 | AC93: =H93*$L93*P93 -> 62090.6 | AD93: =I93*$L93*Q93 -> 277974.84 | AE93: =J93*$L93*R93 -> 43941.04 | AF93: =K93*$L93*S93 -> 2865.72 | AG93: =SUM(AB93:AF93) -> 662936.56 | AH93: =G93*$L93*T93 -> 30567.68 | AI93: =H93*$L93*U93 -> 14328.6 | AJ93: =I93*$L93*V93 -> 40120.08 | AK93: =J93*$L93*W93 -> 2865.72 | AL93: =K93*$L93*X93 -> 2865.72 | AM93: =SUM(AH93:AL93) -> 90747.8 | AN93: =Z93+AA93+AG93+AM93 -> 757505.32
A94: decembris | B94: 19 | C94: 16 | D94: 16 | E94: 16 | F94: 16 | G94: =(B94*8) -> 152 | H94: =C94*8 -> 128 | I94: =D94*8 -> 128 | J94: =E94*8 -> 128 | K94: =F94*8 -> 128 | L94: 5.72 | M94: =$E$15 -> 3 | N94: =$E$16 -> 1 | O94: =$E$9 -> 289 | P94: =$E$10 -> 65 | Q94: =$E$11 -> 291 | R94: =$E$12 -> 46 | S94: =$E$13 -> 3 | T94: =$E$18 -> 32 | U94: =$E$19 -> 15 | V94: =$E$20 -> 42 | W94: =$E$21 -> 3 | X94: =$E$22 -> 3 | Y94: =SUM(M94:X94) -> 793 | Z94: =G94*L94*M94 -> 2608.32 | AA94: =G94*L94*N94 -> 869.44 | AB94: =G94*$L94*O94 -> 251268.16 | AC94: =H94*$L94*P94 -> 47590.4 | AD94: =I94*$L94*Q94 -> 213058.56 | AE94: =J94*$L94*R94 -> 33679.36 | AF94: =K94*$L94*S94 -> 2196.48 | AG94: =SUM(AB94:AF94) -> 547792.96 | AH94: =G94*$L94*T94 -> 27822.08 | AI94: =H94*$L94*U94 -> 10982.4 | AJ94: =I94*$L94*V94 -> 30750.72 | AK94: =J94*$L94*W94 -> 2196.48 | AL94: =K94*$L94*X94 -> 2196.48 | AM94: =SUM(AH94:AL94) -> 73948.16 | AN94: =Z94+AA94+AG94+AM94 -> 625218.88
B95: =SUM(B91:B94) -> 83 | C95: =SUM(C91:C94) -> 75 | D95: =SUM(D91:D94) -> 75 | E95: =SUM(E91:E94) -> 75 | F95: =SUM(F91:F94) -> 75 | G95: =SUM(G91:G94) -> 663 | H95: =SUM(H91:H94) -> 599 | I95: =SUM(I91:I94) -> 599 | ... K95: =SUM(K91:K94) -> 599 | Z95: =SUM(Z91:Z94) -> 11377.08 | AA95: =SUM(AA91:AA94) -> 3792.36 | AB95: =SUM(AB91:AB94) -> 1095992 | AC95: =SUM(AC91:AC94) -> 222708.2 | AD95: =SUM(AD91:AD94) -> 997047.48 | AE95: =SUM(AE91:AE94) -> 157608.88 | AF95: =SUM(AF91:AF94) -> 10278.84 | AG95: =SUM(AG91:AG94) -> 2483635.4 | ... AN95: =SUM(AN91:AN94) -> 2836016
A97: KOPĀ | B97: =B89+B95 -> 252 | C97: =C89+C95 -> 169 | D97: =D89+D95 -> 174 | E97: =E89+E95 -> 186 | F97: =F89+F95 -> 190 | G97: =G89+G95 -> 2012 | H97: =H89+H95 -> 1349 | I97: =I89+I95 -> 1389 | ... K97: =K89+K95 -> 1516 | Z97: =Z89+Z95 -> 34525.92 | AA97: =AA89+AA95 -> 11508.64 | AB97: =AB89+AB95 -> 3325997 | AC97: =AC89+AC95 -> 501558.2 | AD97: =AD89+AD95 -> 2312018.3 | AE97: =AE89+AE95 -> 390733.2 | AF97: =AF89+AF95 -> 26014.56 | AG97: =AG89+AG95 -> 6556321.2 | ... AN97: =AN89+AN95 -> 7471567

Sheet 2029 budžeta aprēķins
A1: Asistenta pakalpojuma izdevumu aprēķins par 2029.gadu
A2: Programma- 12.00.00 “Finansējums asistenta pakalpojuma nodrošināšanai personai ar invaliditāti pārvietošanas atbalstam un pašaprūpes veikšanai”
A4: Izglītojamo skaita aprēķins
A6: EKK | B6: Izglītības pakāpe | C6: Planotais izglītojamo skaits 2028.gadā | D6: 7,69 % pieaugums | E6: KOPĀ
A7: A | B7: B | C7: 1 | D7: 2=1*7,69% | E7: 3
A8: Pašvaldības
A9: 7460 | B9: Pirmsk. izgl.iest.* | C9: ='2028 budžeta aprēķins'!E9 -> 289 | D9: 21 | E9: =C9+D9 -> 310 | F9: =SUM(E9:E13) -> 747
B10: 1.klase | C10: ='2028 budžeta aprēķins'!E10 -> 65 | D10: 5 | E10: =C10+D10 -> 70
B11: 2.-8.; 10.-11. | C11: ='2028 budžeta aprēķins'!E11 -> 291 | D11: 22 | E11: =C11+D11 -> 313
B12: 9.klase | C12: ='2028 budžeta aprēķins'!E12 -> 46 | D12: 4 | E12: =C12+D12 -> 50
B13: 12.klase | C13: ='2028 budžeta aprēķins'!E13 -> 3 | D13: 1 | E13: =C13+D13 -> 4
A14: Profesionālās izglītības iestādes
A15: 1000 | B15: Prof.sk | C15: ='2028 budžeta aprēķins'!E15 -> 3 | E15: =C15+D15 -> 3 | F15: =E15+E16 -> 4
A16: 7471 | B16: Prof.sk | C16: ='2028 budžeta aprēķins'!E16 -> 1 | E16: =C16+D16 -> 1
A17: Priv sk.
A18: 3000 | B18: Pirmsk. izgl.iest. | C18: ='2028 budžeta aprēķins'!E18 -> 32 | D18: 3 | E18: =C18+D18 -> 35 | F18: =SUM(E18:E22) -> 103
B19: 1.klase | C19: ='2028 budžeta aprēķins'!E19 -> 15 | D19: 1 | E19: =C19+D19 -> 16
B20: 2.-8.; 10.-11. | C20: ='2028 budžeta aprēķins'!E20 -> 42 | D20: 3 | E20: =C20+D20 -> 45
B21: 9.klase | C21: ='2028 budžeta aprēķins'!E21 -> 3 | E21: =C21+D21 -> 3
B22: 12.klase | C22: ='2028 budžeta aprēķins'!E22 -> 3 | D22: 1 | E22: =C22+D22 -> 4
C23: =SUM(C9:C22) -> 793 | D23: =SUM(D9:D22) -> 61 | E23: =SUM(E9:E22) -> 854 | F23: =F9+F15+F18 -> 854
A25: Izglītojamo skaita pieauguma 7,69% apmēra pieaugumā | D25: =C23*0.0769 -> 60.98
A28: Mēnesis | B28: Darba dienu un mācību dienu skaits 2029.gada menešos | G28: Cilvēkstundu skaits mēnesī | L28: MK noteikumos 2029.gadā plānotā valsts nodrošinātā atlīdzība par vienu asistenta pakalpojuma stundu | M28: Izglītojamo skaits Prof izgl. iestādēs (EKK-1000) | N28: Izglītojamo skaits Prof izgl. iestādēs (EKK-7471) | O28: Izglītojamo skaits pašvaldībās (EKK-7460) | T28: Izglītojamo skaits privātajās izglītības iestādēs (EKK-3000) | Y28: KOPĀ | Z28: Finansējuma aprēķins Prof izgl. iestādēs (EKK-1000) | AA28: Finansējuma aprēķins Prof izgl. iestādēs (EKK-7471) | AB28: Finansējuma aprēķins pašvaldībās (EKK-7460) | AH28: Finansējuma aprēķins privātajās izglītības iestādēs (EKK-3000) | AN28: KOPĀ
B29: Pirmsk. Izgl. Iest., prof.sk. | C29: 1.klase | D29: 2-8.; 10-11. klase | E29: 9.klase | F29: 12.klase | G29: Pirmsk. Izgl. Iest., prof.sk. | H29: 1.klase | I29: 2-8.; 10-11. klase | J29: 9.klase | K29: 12.klase | O29: Pirmsk. Izgl. Iest. | P29: 1.klase | Q29: 2-8.; 10-11. klase | R29: 9.klase | S29: 12.klase | T29: Pirmsk. Izgl. Iest. | U29: 1.klase | V29: 2-8.; 10-11. klase | W29: 9.klase | X29: 12.klase | AB29: Pirmsk. Izgl. Iest. | AC29: 1.klase | AD29: 2-8.; 10-11. klase | AE29: 9.klase | AF29: 12.klase | AG29: Kopā | AH29: Pirmsk. Izgl. Iest. | AI29: 1.klase | AJ29: 2-8.; 10-11. klase | AK29: 9.klase | AL29: 12.klase | AM29: Kopā
A30: A | B30: 1 | C30: 2 | D30: 3 | E30: 4 | F30: 5 | G30: 6 | H30: 7 | I30: 8 | J30: 9 | K30: 10 | L30: 11 | M30: 12 | N30: 13 | O30: 14 | P30: 15 | Q30: 16 | R30: 17 | S30: 18 | T30: 19 | U30: 20 | V30: 21 | W30: 22 | X30: 23 | Y30: 24=SUM(12:23) | Z30: 25=6*11*12 | AA30: 26=6*11*13 | AB30: 27=6*11*14 | AC30: 28=7*11*15 | AD30: 29=8*11*16 | AE30: 30=9*11*17 | AF30: 31=10*11*18 | AG30: 32=27+28+29+30+31 | AH30: 33=6*11*19 | AI30: 34=7*11*20 | AJ30: 35=8*11*21 | AK30: 36=9*11*22 | AL30: 37=10*11*23 | AM30: 38=33+34+35+36+37 | AN30: 39=25+26+32+38
A31: janvāris | B31: 22 | C31: 22 | D31: 22 | E31: 22 | F31: 22 | G31: =B31*8 -> 176 | H31: =C31*8 -> 176 | I31: =D31*8 -> 176 | J31: =E31*8 -> 176 | K31: =F31*8 -> 176 | L31: ='2026 budžeta aprēķins'!P32 -> 5.72 | M31: =$E$15 -> 3 | N31: =$E$16 -> 1 | O31: =$E$9 -> 310 | P31: =$E$10 -> 70 | Q31: =$E$11 -> 313 | R31: =$E$12 -> 50 | S31: =$E$13 -> 4 | T31: =$E$18 -> 35 | U31: =$E$19 -> 16 | V31: =$E$20 -> 45 | W31: =$E$21 -> 3 | X31: =$E$22 -> 4 | Y31: =SUM(M31:X31) -> 854 | Z31: =G31*L31*M31 -> 3020.16 | AA31: =G31*L31*N31 -> 1006.72 | AB31: =G31*L31*O31 -> 312083.2 | AC31: =H31*L31*P31 -> 70470.4 | AD31: =I31*L31*Q31 -> 315103.36 | AE31: =J31*L31*R31 -> 50336 | AF31: =K31*L31*S31 -> 4026.88 | AG31: =SUM(AB31:AF31) -> 752019.84 | AH31: =G31*L31*T31 -> 35235.2 | AI31: =H31*L31*U31 -> 16107.52 | AJ31: =I31*L31*V31 -> 45302.4 | AK31: =J31*L31*W31 -> 3020.16 | AL31: =K31*L31*X31 -> 4026.88 | AM31: =SUM(AH31:AL31) -> 103692.16 | AN31: =Z31+AA31+AG31+AM31 -> 859738.88
A32: februāris | B32: 20 | C32: 15 | D32: 20 | E32: 20 | F32: 20 | G32: =B32*8 -> 160 | H32: =C32*8 -> 120 | I32: =D32*8 -> 160 | J32: =E32*8 -> 160 | K32: =F32*8 -> 160 | L32: ='2026 budžeta aprēķins'!P33 -> 6.03 | M32: =$E$15 -> 3 | N32: =$E$16 -> 1 | O32: =O31 -> 310 | P32: =$E$10 -> 70 | Q32: =$E$11 -> 313 | R32: =$E$12 -> 50 | S32: =$E$13 -> 4 | T32: =$E$18 -> 35 | U32: =$E$19 -> 16 | V32: =$E$20 -> 45 | W32: =$E$21 -> 3 | X32: =$E$22 -> 4 | Y32: =SUM(M32:X32) -> 854 | Z32: =G32*L32*M32 -> 2894.4 | AA32: =G32*L32*N32 -> 964.8 | AB32: =G32*L32*O32 -> 299088 | AC32: =H32*L32*P32 -> 50652 | AD32: =I32*L32*Q32 -> 301982.4 | AE32: =J32*L32*R32 -> 48240 | AF32: =K32*L32*S32 -> 3859.2 | AG32: =SUM(AB32:AF32) -> 703821.6 | AH32: =G32*L32*T32 -> 33768 | AI32: =H32*L32*U32 -> 11577.6 | AJ32: =I32*L32*V32 -> 43416 | AK32: =J32*L32*W32 -> 2894.4 | AL32: =K32*L32*X32 -> 3859.2 | AM32: =SUM(AH32:AL32) -> 95515.2 | AN32: =Z32+AA32+AG32+AM32 -> 803196
A33: marts | B33: 21 | C33: 16 | D33: 16 | E33: 16 | F33: 16 | G33: =(B33*8)-1 -> 167 | H33: =(C33*8)-1 -> 127 | I33: =(D33*8)-1 -> 127 | J33: =(E33*8)-1 -> 127 | K33: =(F33*8)-1 -> 127 | L33: ='2026 budžeta aprēķins'!P34 -> 5.72 | M33: =$E$15 -> 3 | N33: =$E$16 -> 1 | O33: =O32 -> 310 | P33: =$E$10 -> 70 | Q33: =$E$11 -> 313 | R33: =$E$12 -> 50 | S33: =$E$13 -> 4 | T33: =$E$18 -> 35 | U33: =$E$19 -> 16 | V33: =$E$20 -> 45 | W33: =$E$21 -> 3 | X33: =$E$22 -> 4 | Y33: =SUM(M33:X33) -> 854 | Z33: =G33*L33*M33 -> 2865.72 | AA33: =G33*L33*N33 -> 955.24 | AB33: =G33*L33*O33 -> 296124.4 | AC33: =H33*L33*P33 -> 50850.8 | AD33: =I33*L33*Q33 -> 227375.72 | AE33: =J33*L33*R33 -> 36322 | AF33: =K33*L33*S33 -> 2905.76 | AG33: =SUM(AB33:AF33) -> 613578.68 | AH33: =G33*L33*T33 -> 33433.4 | AI33: =H33*L33*U33 -> 11623.04 | AJ33: =I33*L33*V33 -> 32689.8 | AK33: =J33*L33*W33 -> 2179.32 | AL33: =K33*L33*X33 -> 2905.76 | AM33: =SUM(AH33:AL33) -> 82831.32 | AN33: =Z33+AA33+AG33+AM33 -> 700230.96
A34: aprīlis | B34: 20 | C34: 20 | D34: 20 | E34: 20 | F34: 20 | G34: =(B34*8)-1 -> 159 | H34: =(C34*8)-1 -> 159 | I34: =(D34*8)-1 -> 159 | J34: =(E34*8)-1 -> 159 | K34: =(F34*8)-1 -> 159 | L34: ='2026 budžeta aprēķins'!P35 -> 5.72 | M34: =$E$15 -> 3 | N34: =$E$16 -> 1 | O34: =O33 -> 310 | P34: =$E$10 -> 70 | Q34: =$E$11 -> 313 | R34: =$E$12 -> 50 | S34: =$E$13 -> 4 | T34: =$E$18 -> 35 | U34: =$E$19 -> 16 | V34: =$E$20 -> 45 | W34: =$E$21 -> 3 | X34: =$E$22 -> 4 | Y34: =SUM(M34:X34) -> 854 | Z34: =G34*L34*M34 -> 2728.44 | AA34: =G34*L34*N34 -> 909.48 | AB34: =G34*L34*O34 -> 281938.8 | AC34: =H34*L34*P34 -> 63663.6 | AD34: =I34*L34*Q34 -> 284667.24 | AE34: =J34*L34*R34 -> 45474 | AF34: =K34*L34*S34 -> 3637.92 | AG34: =SUM(AB34:AF34) -> 679381.56 | AH34: =G34*L34*T34 -> 31831.8 | AI34: =H34*L34*U34 -> 14551.68 | AJ34: =I34*L34*V34 -> 40926.6 | AK34: =J34*L34*W34 -> 2728.44 | AL34: =K34*L34*X34 -> 3637.92 | AM34: =SUM(AH34:AL34) -> 93676.44 | AN34: =Z34+AA34+AG34+AM34 -> 776695.92
A35: maijs | B35: 21 | C35: 21 | D35: 21 | E35: 21 | F35: 21 | G35: =(B35*8)-1 -> 167 | H35: =(C35*8)-1 -> 167 | I35: =(D35*8)-1 -> 167 | J35: =(E35*8)-1 -> 167 | K35: =(F35*8)-1 -> 167 | L35: ='2026 budžeta aprēķins'!P36 -> 5.74 | M35: =$E$15 -> 3 | N35: =$E$16 -> 1 | O35: =O34 -> 310 | P35: =$E$10 -> 70 | Q35: =$E$11 -> 313 | R35: =$E$12 -> 50 | S35: =$E$13 -> 4 | T35: =$E$18 -> 35 | U35: =$E$19 -> 16 | V35: =$E$20 -> 45 | W35: =$E$21 -> 3 | X35: =$E$22 -> 4 | Y35: =SUM(M35:X35) -> 854 | Z35: =G35*L35*M35 -> 2875.74 | AA35: =G35*L35*N35 -> 958.58 | AB35: =G35*L35*O35 -> 297159.8 | AC35: =H35*L35*P35 -> 67100.6 | AD35: =I35*L35*Q35 -> 300035.54 | AE35: =J35*L35*R35 -> 47929 | AF35: =K35*L35*S35 -> 3834.32 | AG35: =SUM(AB35:AF35) -> 716059.26 | AH35: =G35*L35*T35 -> 33550.3 | AI35: =H35*L35*U35 -> 15337.28 | AJ35: =I35*L35*V35 -> 43136.1 | AK35: =J35*L35*W35 -> 2875.74 | AL35: =K35*L35*X35 -> 3834.32 | AM35: =SUM(AH35:AL35) -> 98733.74 | AN35: =Z35+AA35+AG35+AM35 -> 818627.32
A36: jūnijs | B36: 21 | E36: 11 | F36: 16 | G36: =(B36*8)-1 -> 167 | H36: =C36*8 -> 0 | I36: =D36*8 -> 0 | J36: =E36*8 -> 88 | K36: =(F36*8)-1 -> 127 | L36: ='2026 budžeta aprēķins'!P37 -> 5.72 | M36: =$E$15 -> 3 | N36: =$E$16 -> 1 | O36: =O35 -> 310 | P36: =$E$10 -> 70 | Q36: =$E$11 -> 313 | R36: =$E$12 -> 50 | S36: =$E$13 -> 4 | T36: =$E$18 -> 35 | U36: =$E$19 -> 16 | V36: =$E$20 -> 45 | W36: =$E$21 -> 3 | X36: =$E$22 -> 4 | Y36: =SUM(M36:X36) -> 854 | Z36: =G36*L36*M36 -> 2865.72 | AA36: =G36*L36*N36 -> 955.24 | AB36: =G36*L36*O36 -> 296124.4 | AC36: =H36*L36*P36 -> 0 | AD36: =I36*L36*Q36 -> 0 | AE36: =J36*L36*R36 -> 25168 | AF36: =K36*L36*S36 -> 2905.76 | AG36: =SUM(AB36:AF36) -> 324198.16 | AH36: =G36*L36*T36 -> 33433.4 | AI36: =H36*L36*U36 -> 0 | AJ36: =I36*L36*V36 -> 0 | AK36: =J36*L36*W36 -> 1510.08 | AL36: =K36*L36*X36 -> 2905.76 | AM36: =SUM(AH36:AL36) -> 37849.24 | AN36: =Z36+AA36+AG36+AM36 -> 365868.36
A37: jūlijs | B37: 22 | G37: =B37*8 -> 176 | H37: =C37*8 -> 0 | I37: =D37*8 -> 0 | J37: =E37*8 -> 0 | K37: =F37*8 -> 0 | L37: ='2026 budžeta aprēķins'!P38 -> 5.72 | M37: =$E$15 -> 3 | N37: =$E$16 -> 1 | O37: =O36 -> 310 | P37: =$E$10 -> 70 | Q37: =$E$11 -> 313 | R37: =$E$12 -> 50 | S37: =$E$13 -> 4 | T37: =$E$18 -> 35 | U37: =$E$19 -> 16 | V37: =$E$20 -> 45 | W37: =$E$21 -> 3 | X37: =$E$22 -> 4 | Y37: =SUM(M37:X37) -> 854 | Z37: =G37*L37*M37 -> 3020.16 | AA37: =G37*L37*N37 -> 1006.72 | AB37: =G37*L37*O37 -> 312083.2 | AC37: =H37*L37*P37 -> 0 | AD37: =I37*L37*Q37 -> 0 | AE37: =J37*L37*R37 -> 0 | AF37: =K37*L37*S37 -> 0 | AG37: =SUM(AB37:AF37) -> 312083.2 | AH37: =G37*L37*T37 -> 35235.2 | AI37: =H37*L37*U37 -> 0 | AJ37: =I37*L37*V37 -> 0 | AK37: =J37*L37*W37 -> 0 | AL37: =K37*L37*X37 -> 0 | AM37: =SUM(AH37:AL37) -> 35235.2 | AN37: =Z37+AA37+AG37+AM37 -> 351345.28
A38: augusts | B38: 23 | G38: =B38*8 -> 184 | H38: =C38*8 -> 0 | I38: =D38*8 -> 0 | J38: =E38*8 -> 0 | K38: =F38*8 -> 0 | L38: ='2026 budžeta aprēķins'!P39 -> 5.74 | M38: =$E$15 -> 3 | N38: =$E$16 -> 1 | O38: =O37 -> 310 | P38: =$E$10 -> 70 | Q38: =$E$11 -> 313 | R38: =$E$12 -> 50 | S38: =$E$13 -> 4 | T38: =$E$18 -> 35 | U38: =$E$19 -> 16 | V38: =$E$20 -> 45 | W38: =$E$21 -> 3 | X38: =$E$22 -> 4 | Y38: =SUM(M38:X38) -> 854 | Z38: =G38*L38*M38 -> 3168.48 | AA38: =G38*L38*N38 -> 1056.16 | AB38: =G38*L38*O38 -> 327409.6 | AC38: =H38*L38*P38 -> 0 | AD38: =I38*L38*Q38 -> 0 | AE38: =J38*L38*R38 -> 0 | AF38: =K38*L38*S38 -> 0 | AG38: =SUM(AB38:AF38) -> 327409.6 | AH38: =G38*L38*T38 -> 36965.6 | AI38: =H38*L38*U38 -> 0 | AJ38: =I38*L38*V38 -> 0 | AK38: =J38*L38*W38 -> 0 | AL38: =K38*L38*X38 -> 0 | AM38: =SUM(AH38:AL38) -> 36965.6 | AN38: =Z38+AA38+AG38+AM38 -> 368599.84
B39: =SUM(B31:B38) -> 170 | C39: =SUM(C31:C38) -> 94 | D39: =SUM(D31:D38) -> 99 | E39: =SUM(E31:E38) -> 110 | F39: =SUM(F31:F38) -> 115 | G39: =SUM(G31:G38) -> 1356 | H39: =SUM(H31:H38) -> 749 | I39: =SUM(I31:I38) -> 789 | ... K39: =SUM(K31:K38) -> 916 | Z39: =SUM(Z31:Z38) -> 23438.82 | AA39: =SUM(AA31:AA38) -> 7812.94 | AB39: =SUM(AB31:AB38) -> 2422011.4 | AC39: =SUM(AC31:AC38) -> 302737.4 | AD39: =SUM(AD31:AD38) -> 1429164.3 | AE39: =SUM(AE31:AE38) -> 253469 | AF39: =SUM(AF31:AF38) -> 21169.84 | AG39: =SUM(AG31:AG38) -> 4428551.9 | ... AN39: =SUM(AN31:AN38) -> 5044302.6
A41: septembris | B41: 20 | C41: 20 | D41: 20 | E41: 20 | F41: 20 | G41: =B41*8 -> 160 | H41: =C41*8 -> 160 | I41: =D41*8 -> 160 | J41: =E41*8 -> 160 | K41: =F41*8 -> 160 | L41: ='2026 budžeta aprēķins'!P42 -> 5.72 | M41: =$E$15 -> 3 | N41: =$E$16 -> 1 | O41: =$E$9 -> 310 | P41: =$E$10 -> 70 | Q41: =$E$11 -> 313 | R41: =$E$12 -> 50 | S41: =$E$13 -> 4 | T41: =$E$18 -> 35 | U41: =$E$19 -> 16 | V41: =$E$20 -> 45 | W41: =$E$21 -> 3 | X41: =$E$22 -> 4 | Y41: =SUM(M41:X41) -> 854 | Z41: =G41*L41*M41 -> 2745.6 | AA41: =G41*L41*N41 -> 915.2 | AB41: =G41*L41*O41 -> 283712 | AC41: =H41*L41*P41 -> 64064 | AD41: =I41*L41*Q41 -> 286457.6 | AE41: =J41*L41*R41 -> 45760 | AF41: =K41*L41*S41 -> 3660.8 | AG41: =SUM(AB41:AF41) -> 683654.4 | AH41: =G41*L41*T41 -> 32032 | AI41: =H41*L41*U41 -> 14643.2 | AJ41: =I41*L41*V41 -> 41184 | AK41: =J41*L41*W41 -> 2745.6 | AL41: =K41*L41*X41 -> 3660.8 | AM41: =SUM(AH41:AL41) -> 94265.6 | AN41: =Z41+AA41+AG41+AM41 -> 781580.8
A42: oktobris | B42: 23 | C42: 18 | D42: 18 | E42: 18 | F42: 18 | G42: =B42*8 -> 184 | H42: =C42*8 -> 144 | I42: =D42*8 -> 144 | J42: =E42*8 -> 144 | K42: =F42*8 -> 144 | L42: ='2026 budžeta aprēķins'!P43 -> 5.72 | M42: =$E$15 -> 3 | N42: =$E$16 -> 1 | O42: =$E$9 -> 310 | P42: =$E$10 -> 70 | Q42: =$E$11 -> 313 | R42: =$E$12 -> 50 | S42: =$E$13 -> 4 | T42: =$E$18 -> 35 | U42: =$E$19 -> 16 | V42: =$E$20 -> 45 | W42: =$E$21 -> 3 | X42: =$E$22 -> 4 | Y42: =SUM(M42:X42) -> 854 | Z42: =G42*L42*M42 -> 3157.44 | AA42: =G42*L42*N42 -> 1052.48 | AB42: =G42*L42*O42 -> 326268.8 | AC42: =H42*L42*P42 -> 57657.6 | AD42: =I42*L42*Q42 -> 257811.84 | AE42: =J42*L42*R42 -> 41184 | AF42: =K42*L42*S42 -> 3294.72 | AG42: =SUM(AB42:AF42) -> 686216.96 | AH42: =G42*L42*T42 -> 36836.8 | AI42: =H42*L42*U42 -> 13178.88 | AJ42: =I42*L42*V42 -> 37065.6 | AK42: =J42*L42*W42 -> 2471.04 | AL42: =K42*L42*X42 -> 3294.72 | AM42: =SUM(AH42:AL42) -> 92847.04 | AN42: =Z42+AA42+AG42+AM42 -> 783273.92
A43: novembris | B43: 21 | C43: 21 | D43: 21 | E43: 21 | F43: 21 | G43: =(B43*8) -> 168 | H43: =(C43*8) -> 168 | I43: =(D43*8) -> 168 | J43: =(E43*8) -> 168 | K43: =(F43*8) -> 168 | L43: ='2026 budžeta aprēķins'!P44 -> 5.74 | M43: =$E$15 -> 3 | N43: =$E$16 -> 1 | O43: =$E$9 -> 310 | P43: =$E$10 -> 70 | Q43: =$E$11 -> 313 | R43: =$E$12 -> 50 | S43: =$E$13 -> 4 | T43: =$E$18 -> 35 | U43: =$E$19 -> 16 | V43: =$E$20 -> 45 | W43: =$E$21 -> 3 | X43: =$E$22 -> 4 | Y43: =SUM(M43:X43) -> 854 | Z43: =G43*L43*M43 -> 2892.96 | AA43: =G43*L43*N43 -> 964.32 | AB43: =G43*L43*O43 -> 298939.2 | AC43: =H43*L43*P43 -> 67502.4 | AD43: =I43*L43*Q43 -> 301832.16 | AE43: =J43*L43*R43 -> 48216 | AF43: =K43*L43*S43 -> 3857.28 | AG43: =SUM(AB43:AF43) -> 720347.04 | AH43: =G43*L43*T43 -> 33751.2 | AI43: =H43*L43*U43 -> 15429.12 | AJ43: =I43*L43*V43 -> 43394.4 | AK43: =J43*L43*W43 -> 2892.96 | AL43: =K43*L43*X43 -> 3857.28 | AM43: =SUM(AH43:AL43) -> 99324.96 | AN43: =Z43+AA43+AG43+AM43 -> 823529.28
A44: decembris | B44: 17 | C44: 15 | D44: 15 | E44: 15 | F44: 15 | G44: =(B44*8) -> 136 | H44: =C44*8 -> 120 | I44: =D44*8 -> 120 | J44: =E44*8 -> 120 | K44: =F44*8 -> 120 | L44: ='2026 budžeta aprēķins'!P45 -> 5.72 | M44: =$E$15 -> 3 | N44: =$E$16 -> 1 | O44: =$E$9 -> 310 | P44: =$E$10 -> 70 | Q44: =$E$11 -> 313 | R44: =$E$12 -> 50 | S44: =$E$13 -> 4 | T44: =$E$18 -> 35 | U44: =$E$19 -> 16 | V44: =$E$20 -> 45 | W44: =$E$21 -> 3 | X44: =$E$22 -> 4 | Y44: =SUM(M44:X44) -> 854 | Z44: =G44*L44*M44 -> 2333.76 | AA44: =G44*L44*N44 -> 777.92 | AB44: =G44*L44*O44 -> 241155.2 | AC44: =H44*L44*P44 -> 48048 | AD44: =I44*L44*Q44 -> 214843.2 | AE44: =J44*L44*R44 -> 34320 | AF44: =K44*L44*S44 -> 2745.6 | AG44: =SUM(AB44:AF44) -> 541112 | AH44: =G44*L44*T44 -> 27227.2 | AI44: =H44*L44*U44 -> 10982.4 | AJ44: =I44*L44*V44 -> 30888 | AK44: =J44*L44*W44 -> 2059.2 | AL44: =K44*L44*X44 -> 2745.6 | AM44: =SUM(AH44:AL44) -> 73902.4 | AN44: =Z44+AA44+AG44+AM44 -> 618126.08
B45: =SUM(B41:B44) -> 81 | C45: =SUM(C41:C44) -> 74 | D45: =SUM(D41:D44) -> 74 | E45: =SUM(E41:E44) -> 74 | F45: =SUM(F41:F44) -> 74 | G45: =SUM(G41:G44) -> 648 | H45: =SUM(H41:H44) -> 592 | I45: =SUM(I41:I44) -> 592 | ... K45: =SUM(K41:K44) -> 592 | Z45: =SUM(Z41:Z44) -> 11129.76 | AA45: =SUM(AA41:AA44) -> 3709.92 | AB45: =SUM(AB41:AB44) -> 1150075.2 | AC45: =SUM(AC41:AC44) -> 237272 | AD45: =SUM(AD41:AD44) -> 1060944.8 | AE45: =SUM(AE41:AE44) -> 169480 | AF45: =SUM(AF41:AF44) -> 13558.4 | AG45: =SUM(AG41:AG44) -> 2631330.4 | ... AN45: =SUM(AN41:AN44) -> 3006510.1
A47: KOPĀ | B47: =B39+B45 -> 251 | C47: =C39+C45 -> 168 | D47: =D39+D45 -> 173 | E47: =E39+E45 -> 184 | F47: =F39+F45 -> 189 | G47: =G39+G45 -> 2004 | H47: =H39+H45 -> 1341 | I47: =I39+I45 -> 1381 | ... K47: =K39+K45 -> 1508 | Z47: =Z39+Z45 -> 34568.58 | AA47: =AA39+AA45 -> 11522.86 | AB47: =AB39+AB45 -> 3572086.6 | AC47: =AC39+AC45 -> 540009.4 | AD47: =AD39+AD45 -> 2490109.1 | AE47: =AE39+AE45 -> 422949 | AF47: =AF39+AF45 -> 34728.24 | AG47: =AG39+AG45 -> 7059882.3 | ... AN47: =AN39+AN45 -> 8050812.6
AI51: Maksimāli pieļaujamais valsts pamatbudžeta izdevumu apjoms | AJ51: Nepieciešamā finansējuma apmērs | AK51: Nepieciešamā finansējuma apmēra Iztrūkums(-) / Ekonomija(+) | AL51: Potenciālais ietaupījums, pieņemot, ka faktiskā izpilde ir 89 % apmērā | AM51: Finansējuma aprēķins ņemot vērā potenciālo ietaupījumu | AN51: Plānotais Iztrūkums (-) / Ekonomija (+)
AL52: 0.89
AI53: 1 | AJ53: 2 | AK53: 3=1-2 | AL53: 4 | AM53: 5=2-4 | AN53: 6=1-5
AE54: 2029.gada prognoze | AI54: 5081022 | AJ54: =AN47 -> 8050813 | AK54: =AI54-AJ54 -> -2969791 | AL54: =(100%-AL52)*AJ54 -> 885589 | AM54: =AJ54-AL54 -> 7165224 | AN54: =AI54-AM54 -> -2084202
AE55: Nepieciešamais bāzes finansējums neņemot vērā noteikumu projekta grozījumus | AJ55: =AN96 -> 8002515
AE56: Izglītojamo skaita izmaiņu ietekme | AK56: =-(AJ55-AI54) -> -2921493 | AN56: =AL54+AK56+AK57 -> -2084202
AE57: Valsts nodrošinātās atlīdzības par vienu asistenta pakalpojuma stundu izmaiņu ietekme | AK57: =-(AJ54-AJ55) -> -48298 | AN57: 0
AH59: EKK | AI59: Bāze | AJ59: Plāns, aprēķins | AK59: Ekanomija (+)/ Iztrūkums (-) (Sākotnējais pilnais aprēķins)
AH60: 1000 | AI60: 18379 | AJ60: =Z47*AL52 -> 30766 | AK60: =AI60-AJ60 -> -12387
AH61: 3000 | AI61: 602870 | AJ61: =AM47*AL52 -> 840907 | AK61: =AI61-AJ61 -> -238037
AH62: 7460 | AI62: 4459773 | AJ62: =AG47*AL52 -> 6283295 | AK62: =AI62-AJ62 -> -1823522
AH63: 7471 | AI63: 0 | AJ63: =AA47*AL52+1 -> 10256 | AK63: =AI63-AJ63 -> -10256
AI64: =SUM(AI60:AI63) -> 5081022 | AJ64: =SUM(AJ60:AJ63) -> 7165224 | AK64: =SUM(AK60:AK63) -> -2084202
AI67: EKK | AJ67: I ceturksnis | AK67: II ceturksnis | AL67: III ceturksnis | AM67: IV ceturksnis | AN67: KOPĀ
AI68: 1000 | AJ68: =SUM(Z31:Z33)*$AL$52 -> 7814 | AK68: =SUM(Z34:Z36)*AL52 -> 7538 | AL68: =(SUM(Z37:Z38)+Z41)*AL52 -> 7951 | AM68: =SUM(Z42:Z44)*AL52+1 -> 7463 | AN68: =SUM(AJ68:AM68) -> 30766
AI69: 3000 | AJ69: =SUM(AM31:AM33)*$AL$52 -> 251014 | AK69: =SUM(AM34:AM36)*AL52 -> 204931 | AL69: =(SUM(AM37:AM38)+AM41)*AL52 -> 148155 | AM69: =SUM(AM42:AM44)*AL52+1 -> 236807 | AN69: =SUM(AJ69:AM69) -> 840907
AI70: 7460 | AJ70: =SUM(AG31:AG33)*AL52 -> 1841784 | AK70: =SUM(AG34:AG36)*AL52 -> 1530479 | AL70: =(SUM(AG37:AG38)+AG41)*AL52 -> 1177601 | AM70: =SUM(AG42:AG44)*AL52-1 -> 1733431 | AN70: =SUM(AJ70:AM70) -> 6283295
AI71: 7471 | AJ71: =SUM(AA31:AA33)*AL52 -> 2605 | AK71: =SUM(AA34:AA36)*AL52 -> 2513 | AL71: =(SUM(AA37:AA38)+AA41)*AL52 -> 2650 | AM71: =SUM(AA42:AA44)*AL52+1 -> 2488 | AN71: =SUM(AJ71:AM71) -> 10256
AJ72: =SUM(AJ68:AJ71) -> 2103217 | AK72: =SUM(AK68:AK71) -> 1745461 | AL72: =SUM(AL68:AL71) -> 1336357 | AM72: =SUM(AM68:AM71) -> 1980189 | AN72: =SUM(AN68:AN71) -> 7165224
A75: Nepieciešamā bāzes finansējuma aprēķins neņemot vērā noteikumu projekta grozījumus
A77: Mēnesis | B77: Darba dienu un mācību dienu skaits 2029.gada menešos | G77: Cilvēkstundu skaits mēnesī | L77: Valsts nodrošinātā atlīdzību par vienu asistenta pakalpojuma stundu līdz 31.12.2025. | M77: Izglītojamo skaits Prof izgl. iestādēs (EKK-1000) | N77: Izglītojamo skaits Prof izgl. iestādēs (EKK-7471) | O77: Izglītojamo skaits pašvaldībās (EKK-7460) | T77: Izglītojamo skaits privātajās izglītības iestādēs (EKK-3000) | Y77: KOPĀ | Z77: Finansējuma aprēķins Prof izgl. iestādēs (EKK-1000) | AA77: Finansējuma aprēķins Prof izgl. iestādēs (EKK-7471) | AB77: Finansējuma aprēķins pašvaldībās (EKK-7460) | AH77: Finansējuma aprēķins privātajās izglītības iestādēs (EKK-3000) | AN77: KOPĀ
B78: Pirmsk. Izgl. Iest., prof.sk. | C78: 1.klase | D78: 2-8.; 10-11. klase | E78: 9.klase | F78: 12.klase | G78: Pirmsk. Izgl. Iest., prof.sk. | H78: 1.klase | I78: 2-8.; 10-11. klase | J78: 9.klase | K78: 12.klase | O78: Pirmsk. Izgl. Iest. | P78: 1.klase | Q78: 2-8.; 10-11. klase | R78: 9.klase | S78: 12.klase | T78: Pirmsk. Izgl. Iest. | U78: 1.klase | V78: 2-8.; 10-11. klase | W78: 9.klase | X78: 12.klase | AB78: Pirmsk. Izgl. Iest. | AC78: 1.klase | AD78: 2-8.; 10-11. klase | AE78: 9.klase | AF78: 12.klase | AG78: Kopā | AH78: Pirmsk. Izgl. Iest. | AI78: 1.klase | AJ78: 2-8.; 10-11. klase | AK78: 9.klase | AL78: 12.klase | AM78: Kopā
A79: A | B79: 1 | C79: 2 | D79: 3 | E79: 4 | F79: 5 | G79: 6 | H79: 7 | I79: 8 | J79: 9 | K79: 10 | L79: 11 | M79: 12 | N79: 13 | O79: 14 | P79: 15 | Q79: 16 | R79: 17 | S79: 18 | T79: 19 | U79: 20 | V79: 21 | W79: 22 | X79: 23 | Y79: 24=SUM(12:23) | Z79: 25=6*11*12 | AA79: 26=6*11*13 | AB79: 27=6*11*14 | AC79: 28=7*11*15 | AD79: 29=8*11*16 | AE79: 30=9*11*17 | AF79: 31=10*11*18 | AG79: 32=27+28+29+30+31 | AH79: 33=6*11*19 | AI79: 34=7*11*20 | AJ79: 35=8*11*21 | AK79: 36=9*11*22 | AL79: 37=10*11*23 | AM79: 38=33+34+35+36+37 | AN79: 39=25+26+32+38
A80: janvāris | B80: 22 | C80: 22 | D80: 22 | E80: 22 | F80: 22 | G80: =B80*8 -> 176 | H80: =C80*8 -> 176 | I80: =D80*8 -> 176 | J80: =E80*8 -> 176 | K80: =F80*8 -> 176 | L80: 5.72 | M80: =$E$15 -> 3 | N80: =$E$16 -> 1 | O80: =$E$9 -> 310 | P80: =$E$10 -> 70 | Q80: =$E$11 -> 313 | R80: =$E$12 -> 50 | S80: =$E$13 -> 4 | T80: =$E$18 -> 35 | U80: =$E$19 -> 16 | V80: =$E$20 -> 45 | W80: =$E$21 -> 3 | X80: =$E$22 -> 4 | Y80: =SUM(M80:X80) -> 854 | Z80: =G80*L80*M80 -> 3020.16 | AA80: =G80*L80*N80 -> 1006.72 | AB80: =G80*L80*O80 -> 312083.2 | AC80: =H80*$L80*P80 -> 70470.4 | AD80: =I80*$L80*Q80 -> 315103.36 | AE80: =J80*$L80*R80 -> 50336 | AF80: =K80*$L80*S80 -> 4026.88 | AG80: =SUM(AB80:AF80) -> 752019.84 | AH80: =G80*$L80*T80 -> 35235.2 | AI80: =H80*$L80*U80 -> 16107.52 | AJ80: =I80*$L80*V80 -> 45302.4 | AK80: =J80*$L80*W80 -> 3020.16 | AL80: =K80*$L80*X80 -> 4026.88 | AM80: =SUM(AH80:AL80) -> 103692.16 | AN80: =Z80+AA80+AG80+AM80 -> 859738.88
A81: februāris | B81: 20 | C81: 15 | D81: 20 | E81: 20 | F81: 20 | G81: =B81*8 -> 160 | H81: =C81*8 -> 120 | I81: =D81*8 -> 160 | J81: =E81*8 -> 160 | K81: =F81*8 -> 160 | L81: 5.72 | M81: =$E$15 -> 3 | N81: =$E$16 -> 1 | O81: =O80 -> 310 | P81: =$E$10 -> 70 | Q81: =$E$11 -> 313 | R81: =$E$12 -> 50 | S81: =$E$13 -> 4 | T81: =$E$18 -> 35 | U81: =$E$19 -> 16 | V81: =$E$20 -> 45 | W81: =$E$21 -> 3 | X81: =$E$22 -> 4 | Y81: =SUM(M81:X81) -> 854 | Z81: =G81*L81*M81 -> 2745.6 | AA81: =G81*L81*N81 -> 915.2 | AB81: =G81*L81*O81 -> 283712 | AC81: =H81*$L81*P81 -> 48048 | AD81: =I81*$L81*Q81 -> 286457.6 | AE81: =J81*$L81*R81 -> 45760 | AF81: =K81*$L81*S81 -> 3660.8 | AG81: =SUM(AB81:AF81) -> 667638.4 | AH81: =G81*$L81*T81 -> 32032 | AI81: =H81*$L81*U81 -> 10982.4 | AJ81: =I81*$L81*V81 -> 41184 | AK81: =J81*$L81*W81 -> 2745.6 | AL81: =K81*$L81*X81 -> 3660.8 | AM81: =SUM(AH81:AL81) -> 90604.8 | AN81: =Z81+AA81+AG81+AM81 -> 761904
A82: marts | B82: 21 | C82: 16 | D82: 16 | E82: 16 | F82: 16 | G82: =(B82*8)-1 -> 167 | H82: =(C82*8)-1 -> 127 | I82: =(D82*8)-1 -> 127 | J82: =(E82*8)-1 -> 127 | K82: =(F82*8)-1 -> 127 | L82: 5.72 | M82: =$E$15 -> 3 | N82: =$E$16 -> 1 | O82: =O81 -> 310 | P82: =$E$10 -> 70 | Q82: =$E$11 -> 313 | R82: =$E$12 -> 50 | S82: =$E$13 -> 4 | T82: =$E$18 -> 35 | U82: =$E$19 -> 16 | V82: =$E$20 -> 45 | W82: =$E$21 -> 3 | X82: =$E$22 -> 4 | Y82: =SUM(M82:X82) -> 854 | Z82: =G82*L82*M82 -> 2865.72 | AA82: =G82*L82*N82 -> 955.24 | AB82: =G82*L82*O82 -> 296124.4 | AC82: =H82*$L82*P82 -> 50850.8 | AD82: =I82*$L82*Q82 -> 227375.72 | AE82: =J82*$L82*R82 -> 36322 | AF82: =K82*$L82*S82 -> 2905.76 | AG82: =SUM(AB82:AF82) -> 613578.68 | AH82: =G82*$L82*T82 -> 33433.4 | AI82: =H82*$L82*U82 -> 11623.04 | AJ82: =I82*$L82*V82 -> 32689.8 | AK82: =J82*$L82*W82 -> 2179.32 | AL82: =K82*$L82*X82 -> 2905.76 | AM82: =SUM(AH82:AL82) -> 82831.32 | AN82: =Z82+AA82+AG82+AM82 -> 700230.96
A83: aprīlis | B83: 20 | C83: 20 | D83: 20 | E83: 20 | F83: 20 | G83: =(B83*8)-1 -> 159 | H83: =(C83*8)-1 -> 159 | I83: =(D83*8)-1 -> 159 | J83: =(E83*8)-1 -> 159 | K83: =(F83*8)-1 -> 159 | L83: 5.72 | M83: =$E$15 -> 3 | N83: =$E$16 -> 1 | O83: =O82 -> 310 | P83: =$E$10 -> 70 | Q83: =$E$11 -> 313 | R83: =$E$12 -> 50 | S83: =$E$13 -> 4 | T83: =$E$18 -> 35 | U83: =$E$19 -> 16 | V83: =$E$20 -> 45 | W83: =$E$21 -> 3 | X83: =$E$22 -> 4 | Y83: =SUM(M83:X83) -> 854 | Z83: =G83*L83*M83 -> 2728.44 | AA83: =G83*L83*N83 -> 909.48 | AB83: =G83*L83*O83 -> 281938.8 | AC83: =H83*$L83*P83 -> 63663.6 | AD83: =I83*$L83*Q83 -> 284667.24 | AE83: =J83*$L83*R83 -> 45474 | AF83: =K83*$L83*S83 -> 3637.92 | AG83: =SUM(AB83:AF83) -> 679381.56 | AH83: =G83*$L83*T83 -> 31831.8 | AI83: =H83*$L83*U83 -> 14551.68 | AJ83: =I83*$L83*V83 -> 40926.6 | AK83: =J83*$L83*W83 -> 2728.44 | AL83: =K83*$L83*X83 -> 3637.92 | AM83: =SUM(AH83:AL83) -> 93676.44 | AN83: =Z83+AA83+AG83+AM83 -> 776695.92
A84: maijs | B84: 21 | C84: 21 | D84: 21 | E84: 21 | F84: 21 | G84: =(B84*8)-1 -> 167 | H84: =(C84*8)-1 -> 167 | I84: =(D84*8)-1 -> 167 | J84: =(E84*8)-1 -> 167 | K84: =(F84*8)-1 -> 167 | L84: 5.72 | M84: =$E$15 -> 3 | N84: =$E$16 -> 1 | O84: =O83 -> 310 | P84: =$E$10 -> 70 | Q84: =$E$11 -> 313 | R84: =$E$12 -> 50 | S84: =$E$13 -> 4 | T84: =$E$18 -> 35 | U84: =$E$19 -> 16 | V84: =$E$20 -> 45 | W84: =$E$21 -> 3 | X84: =$E$22 -> 4 | Y84: =SUM(M84:X84) -> 854 | Z84: =G84*L84*M84 -> 2865.72 | AA84: =G84*L84*N84 -> 955.24 | AB84: =G84*L84*O84 -> 296124.4 | AC84: =H84*$L84*P84 -> 66866.8 | AD84: =I84*$L84*Q84 -> 298990.12 | AE84: =J84*$L84*R84 -> 47762 | AF84: =K84*$L84*S84 -> 3820.96 | AG84: =SUM(AB84:AF84) -> 713564.28 | AH84: =G84*$L84*T84 -> 33433.4 | AI84: =H84*$L84*U84 -> 15283.84 | AJ84: =I84*$L84*V84 -> 42985.8 | AK84: =J84*$L84*W84 -> 2865.72 | AL84: =K84*$L84*X84 -> 3820.96 | AM84: =SUM(AH84:AL84) -> 98389.72 | AN84: =Z84+AA84+AG84+AM84 -> 815774.96
A85: jūnijs | B85: 21 | E85: 11 | F85: 16 | G85: =(B85*8)-1 -> 167 | H85: =C85*8 -> 0 | I85: =D85*8 -> 0 | J85: =E85*8 -> 88 | K85: =(F85*8)-1 -> 127 | L85: 5.72 | M85: =$E$15 -> 3 | N85: =$E$16 -> 1 | O85: =O84 -> 310 | P85: =$E$10 -> 70 | Q85: =$E$11 -> 313 | R85: =$E$12 -> 50 | S85: =$E$13 -> 4 | T85: =$E$18 -> 35 | U85: =$E$19 -> 16 | V85: =$E$20 -> 45 | W85: =$E$21 -> 3 | X85: =$E$22 -> 4 | Y85: =SUM(M85:X85) -> 854 | Z85: =G85*L85*M85 -> 2865.72 | AA85: =G85*L85*N85 -> 955.24 | AB85: =G85*L85*O85 -> 296124.4 | AC85: =H85*$L85*P85 -> 0 | AD85: =I85*$L85*Q85 -> 0 | AE85: =J85*$L85*R85 -> 25168 | AF85: =K85*$L85*S85 -> 2905.76 | AG85: =SUM(AB85:AF85) -> 324198.16 | AH85: =G85*$L85*T85 -> 33433.4 | AI85: =H85*$L85*U85 -> 0 | AJ85: =I85*$L85*V85 -> 0 | AK85: =J85*$L85*W85 -> 1510.08 | AL85: =K85*$L85*X85 -> 2905.76 | AM85: =SUM(AH85:AL85) -> 37849.24 | AN85: =Z85+AA85+AG85+AM85 -> 365868.36
A86: jūlijs | B86: 22 | G86: =B86*8 -> 176 | H86: =C86*8 -> 0 | I86: =D86*8 -> 0 | J86: =E86*8 -> 0 | K86: =F86*8 -> 0 | L86: 5.72 | M86: =$E$15 -> 3 | N86: =$E$16 -> 1 | O86: =O85 -> 310 | P86: =$E$10 -> 70 | Q86: =$E$11 -> 313 | R86: =$E$12 -> 50 | S86: =$E$13 -> 4 | T86: =$E$18 -> 35 | U86: =$E$19 -> 16 | V86: =$E$20 -> 45 | W86: =$E$21 -> 3 | X86: =$E$22 -> 4 | Y86: =SUM(M86:X86) -> 854 | Z86: =G86*L86*M86 -> 3020.16 | AA86: =G86*L86*N86 -> 1006.72 | AB86: =G86*L86*O86 -> 312083.2 | AC86: =H86*$L86*P86 -> 0 | AD86: =I86*$L86*Q86 -> 0 | AE86: =J86*$L86*R86 -> 0 | AF86: =K86*$L86*S86 -> 0 | AG86: =SUM(AB86:AF86) -> 312083.2 | AH86: =G86*$L86*T86 -> 35235.2 | AI86: =H86*$L86*U86 -> 0 | AJ86: =I86*$L86*V86 -> 0 | AK86: =J86*$L86*W86 -> 0 | AL86: =K86*$L86*X86 -> 0 | AM86: =SUM(AH86:AL86) -> 35235.2 | AN86: =Z86+AA86+AG86+AM86 -> 351345.28
A87: augusts | B87: 23 | G87: =B87*8 -> 184 | H87: =C87*8 -> 0 | I87: =D87*8 -> 0 | J87: =E87*8 -> 0 | K87: =F87*8 -> 0 | L87: 5.72 | M87: =$E$15 -> 3 | N87: =$E$16 -> 1 | O87: =O86 -> 310 | P87: =$E$10 -> 70 | Q87: =$E$11 -> 313 | R87: =$E$12 -> 50 | S87: =$E$13 -> 4 | T87: =$E$18 -> 35 | U87: =$E$19 -> 16 | V87: =$E$20 -> 45 | W87: =$E$21 -> 3 | X87: =$E$22 -> 4 | Y87: =SUM(M87:X87) -> 854 | Z87: =G87*L87*M87 -> 3157.44 | AA87: =G87*L87*N87 -> 1052.48 | AB87: =G87*L87*O87 -> 326268.8 | AC87: =H87*$L87*P87 -> 0 | AD87: =I87*$L87*Q87 -> 0 | AE87: =J87*$L87*R87 -> 0 | AF87: =K87*$L87*S87 -> 0 | AG87: =SUM(AB87:AF87) -> 326268.8 | AH87: =G87*$L87*T87 -> 36836.8 | AI87: =H87*$L87*U87 -> 0 | AJ87: =I87*$L87*V87 -> 0 | AK87: =J87*$L87*W87 -> 0 | AL87: =K87*$L87*X87 -> 0 | AM87: =SUM(AH87:AL87) -> 36836.8 | AN87: =Z87+AA87+AG87+AM87 -> 367315.52
B88: =SUM(B80:B87) -> 170 | C88: =SUM(C80:C87) -> 94 | D88: =SUM(D80:D87) -> 99 | E88: =SUM(E80:E87) -> 110 | F88: =SUM(F80:F87) -> 115 | G88: =SUM(G80:G87) -> 1356 | H88: =SUM(H80:H87) -> 749 | I88: =SUM(I80:I87) -> 789 | ... K88: =SUM(K80:K87) -> 916 | Z88: =SUM(Z80:Z87) -> 23268.96 | AA88: =SUM(AA80:AA87) -> 7756.32 | AB88: =SUM(AB80:AB87) -> 2404459.2 | AC88: =SUM(AC80:AC87) -> 299899.6 | AD88: =SUM(AD80:AD87) -> 1412594 | AE88: =SUM(AE80:AE87) -> 250822 | AF88: =SUM(AF80:AF87) -> 20958.08 | AG88: =SUM(AG80:AG87) -> 4388732.9 | ... AN88: =SUM(AN80:AN87) -> 4998873.9
A90: septembris | B90: 20 | C90: 20 | D90: 20 | E90: 20 | F90: 20 | G90: =B90*8 -> 160 | H90: =C90*8 -> 160 | I90: =D90*8 -> 160 | J90: =E90*8 -> 160 | K90: =F90*8 -> 160 | L90: 5.72 | M90: =$E$15 -> 3 | N90: =$E$16 -> 1 | O90: =$E$9 -> 310 | P90: =$E$10 -> 70 | Q90: =$E$11 -> 313 | R90: =$E$12 -> 50 | S90: =$E$13 -> 4 | T90: =$E$18 -> 35 | U90: =$E$19 -> 16 | V90: =$E$20 -> 45 | W90: =$E$21 -> 3 | X90: =$E$22 -> 4 | Y90: =SUM(M90:X90) -> 854 | Z90: =G90*L90*M90 -> 2745.6 | AA90: =G90*L90*N90 -> 915.2 | AB90: =G90*$L90*O90 -> 283712 | AC90: =H90*$L90*P90 -> 64064 | AD90: =I90*$L90*Q90 -> 286457.6 | AE90: =J90*$L90*R90 -> 45760 | AF90: =K90*$L90*S90 -> 3660.8 | AG90: =SUM(AB90:AF90) -> 683654.4 | AH90: =G90*$L90*T90 -> 32032 | AI90: =H90*$L90*U90 -> 14643.2 | AJ90: =I90*$L90*V90 -> 41184 | AK90: =J90*$L90*W90 -> 2745.6 | AL90: =K90*$L90*X90 -> 3660.8 | AM90: =SUM(AH90:AL90) -> 94265.6 | AN90: =Z90+AA90+AG90+AM90 -> 781580.8
A91: oktobris | B91: 23 | C91: 18 | D91: 18 | E91: 18 | F91: 18 | G91: =B91*8 -> 184 | H91: =C91*8 -> 144 | I91: =D91*8 -> 144 | J91: =E91*8 -> 144 | K91: =F91*8 -> 144 | L91: 5.72 | M91: =$E$15 -> 3 | N91: =$E$16 -> 1 | O91: =$E$9 -> 310 | P91: =$E$10 -> 70 | Q91: =$E$11 -> 313 | R91: =$E$12 -> 50 | S91: =$E$13 -> 4 | T91: =$E$18 -> 35 | U91: =$E$19 -> 16 | V91: =$E$20 -> 45 | W91: =$E$21 -> 3 | X91: =$E$22 -> 4 | Y91: =SUM(M91:X91) -> 854 | Z91: =G91*L91*M91 -> 3157.44 | AA91: =G91*L91*N91 -> 1052.48 | AB91: =G91*$L91*O91 -> 326268.8 | AC91: =H91*$L91*P91 -> 57657.6 | AD91: =I91*$L91*Q91 -> 257811.84 | AE91: =J91*$L91*R91 -> 41184 | AF91: =K91*$L91*S91 -> 3294.72 | AG91: =SUM(AB91:AF91) -> 686216.96 | AH91: =G91*$L91*T91 -> 36836.8 | AI91: =H91*$L91*U91 -> 13178.88 | AJ91: =I91*$L91*V91 -> 37065.6 | AK91: =J91*$L91*W91 -> 2471.04 | AL91: =K91*$L91*X91 -> 3294.72 | AM91: =SUM(AH91:AL91) -> 92847.04 | AN91: =Z91+AA91+AG91+AM91 -> 783273.92
A92: novembris | B92: 21 | C92: 21 | D92: 21 | E92: 21 | F92: 21 | G92: =(B92*8) -> 168 | H92: =(C92*8) -> 168 | I92: =(D92*8) -> 168 | J92: =(E92*8) -> 168 | K92: =(F92*8) -> 168 | L92: 5.72 | M92: =$E$15 -> 3 | N92: =$E$16 -> 1 | O92: =$E$9 -> 310 | P92: =$E$10 -> 70 | Q92: =$E$11 -> 313 | R92: =$E$12 -> 50 | S92: =$E$13 -> 4 | T92: =$E$18 -> 35 | U92: =$E$19 -> 16 | V92: =$E$20 -> 45 | W92: =$E$21 -> 3 | X92: =$E$22 -> 4 | Y92: =SUM(M92:X92) -> 854 | Z92: =G92*L92*M92 -> 2882.88 | AA92: =G92*L92*N92 -> 960.96 | AB92: =G92*$L92*O92 -> 297897.6 | AC92: =H92*$L92*P92 -> 67267.2 | AD92: =I92*$L92*Q92 -> 300780.48 | AE92: =J92*$L92*R92 -> 48048 | AF92: =K92*$L92*S92 -> 3843.84 | AG92: =SUM(AB92:AF92) -> 717837.12 | AH92: =G92*$L92*T92 -> 33633.6 | AI92: =H92*$L92*U92 -> 15375.36 | AJ92: =I92*$L92*V92 -> 43243.2 | AK92: =J92*$L92*W92 -> 2882.88 | AL92: =K92*$L92*X92 -> 3843.84 | AM92: =SUM(AH92:AL92) -> 98978.88 | AN92: =Z92+AA92+AG92+AM92 -> 820659.84
A93: decembris | B93: 17 | C93: 15 | D93: 15 | E93: 15 | F93: 15 | G93: =(B93*8) -> 136 | H93: =C93*8 -> 120 | I93: =D93*8 -> 120 | J93: =E93*8 -> 120 | K93: =F93*8 -> 120 | L93: 5.72 | M93: =$E$15 -> 3 | N93: =$E$16 -> 1 | O93: =$E$9 -> 310 | P93: =$E$10 -> 70 | Q93: =$E$11 -> 313 | R93: =$E$12 -> 50 | S93: =$E$13 -> 4 | T93: =$E$18 -> 35 | U93: =$E$19 -> 16 | V93: =$E$20 -> 45 | W93: =$E$21 -> 3 | X93: =$E$22 -> 4 | Y93: =SUM(M93:X93) -> 854 | Z93: =G93*L93*M93 -> 2333.76 | AA93: =G93*L93*N93 -> 777.92 | AB93: =G93*$L93*O93 -> 241155.2 | AC93: =H93*$L93*P93 -> 48048 | AD93: =I93*$L93*Q93 -> 214843.2 | AE93: =J93*$L93*R93 -> 34320 | AF93: =K93*$L93*S93 -> 2745.6 | AG93: =SUM(AB93:AF93) -> 541112 | AH93: =G93*$L93*T93 -> 27227.2 | AI93: =H93*$L93*U93 -> 10982.4 | AJ93: =I93*$L93*V93 -> 30888 | AK93: =J93*$L93*W93 -> 2059.2 | AL93: =K93*$L93*X93 -> 2745.6 | AM93: =SUM(AH93:AL93) -> 73902.4 | AN93: =Z93+AA93+AG93+AM93 -> 618126.08
B94: =SUM(B90:B93) -> 81 | C94: =SUM(C90:C93) -> 74 | D94: =SUM(D90:D93) -> 74 | E94: =SUM(E90:E93) -> 74 | F94: =SUM(F90:F93) -> 74 | G94: =SUM(G90:G93) -> 648 | H94: =SUM(H90:H93) -> 592 | I94: =SUM(I90:I93) -> 592 | ... K94: =SUM(K90:K93) -> 592 | Z94: =SUM(Z90:Z93) -> 11119.68 | AA94: =SUM(AA90:AA93) -> 3706.56 | AB94: =SUM(AB90:AB93) -> 1149033.6 | AC94: =SUM(AC90:AC93) -> 237036.8 | AD94: =SUM(AD90:AD93) -> 1059893.1 | AE94: =SUM(AE90:AE93) -> 169312 | AF94: =SUM(AF90:AF93) -> 13544.96 | AG94: =SUM(AG90:AG93) -> 2628820.5 | ... AN94: =SUM(AN90:AN93) -> 3003640.6
A96: KOPĀ | B96: =B88+B94 -> 251 | C96: =C88+C94 -> 168 | D96: =D88+D94 -> 173 | E96: =E88+E94 -> 184 | F96: =F88+F94 -> 189 | G96: =G88+G94 -> 2004 | H96: =H88+H94 -> 1341 | I96: =I88+I94 -> 1381 | ... K96: =K88+K94 -> 1508 | Z96: =Z88+Z94 -> 34388.64 | AA96: =AA88+AA94 -> 11462.88 | AB96: =AB88+AB94 -> 3553492.8 | AC96: =AC88+AC94 -> 536936.4 | AD96: =AD88+AD94 -> 2472487.2 | AE96: =AE88+AE94 -> 420134 | AF96: =AF88+AF94 -> 34503.04 | AG96: =AG88+AG94 -> 7017553.4 | ... AN96: =AN88+AN94 -> 8002514.5
