Workbook

Sheet 2026 gada min. h tarifa likme
B4: Minimālās stundas tarifa likmes apmērs darbiniekiem, kuri strādā 5 darba dienu nedēļu un 40 stundas nedēļā* / 2026. gads
B5: (saskaņā ar Darba likuma (DL) 131.panta pirmo daļu un 133.panta pirmo daļu)
B6: Mēnesis | C6: Nostrādāto stundu skaits | D6: Apmaksātās atlīdzības attaisnojošu iemeslu dēļ | H6: Kopā apmaksājamo stundu skaits | I6: Aprēķinātā minimālā mēneša darba alga, EUR | J6: Aprēķinātā apmaksājamā atlīdzība, EUR | K6: Kopā aprēķinātā minimālā mēneša darba alga un apmaksājamā atlīdzība, EUR | L6: Valstī noteiktā minimālā mēneša darba alga, EUR | M6: Minimālā stundas tarifa likme, EUR | N6: 23,59% DD VSAOI | O6: Atlīdzības izmaksas kopā/h
D7: svētku dienu | F7: pirmssvētku dienu
D8: stundu skaits (saskaņā ar DL 74.panta pirmās daļas 8.punktu) | E8: kalendarā diena | F8: stundu skaits (saskaņā ar DL 135.pantu) | G8: kalendarā diena
B9: A | C9: 1 | D9: 2 | E9: 3 | F9: 4 | G9: 5 | H9: 6=(1 + 2 + 4) | I9: 7=(1 x 11) | J9: 8=(2 + 4) x 11 | K9: 9=(7+ 8) | L9: 10 | M9: 11=(10 / 6) | N9: 12=11*23,59% | O9: 13=11+12
B10: Janvāris | C10: 168 | D10: 8 | E10: 01.01.2026. | F10: 0 | H10: =C10+D10+F10 -> 176 | I10: 744.5455 | J10: 35.4545 | K10: 780 | L10: 780 | M10: =L10/H10 -> 4.4318 | N10: =M10*23.59 % -> 1.05 | O10: =SUM(M10:N10) -> 5.48
B11: Februāris | C11: 160 | D11: 0 | F11: 0 | H11: =C11+D11+F11 -> 160 | I11: 780 | J11: 0 | K11: 780 | L11: 780 | M11: =L11/H11 -> 4.875 | N11: =M11*23.59 % -> 1.15 | O11: =SUM(M11:N11) -> 6.03
B12: Marts | C12: 176 | D12: 0 | F12: 0 | H12: =C12+D12+F12 -> 176 | I12: 780 | J12: 0 | K12: 780 | L12: 780 | M12: =L12/H12 -> 4.4318 | N12: =M12*23.59 % -> 1.05 | O12: =SUM(M12:N12) -> 5.48
B13: Aprīlis | C13: 158 | D13: 16 | E13: 03.04.2026.; 06.04.2026. | F13: 2 | G13: 02.04.2026.; 30.04.2026. | H13: =C13+D13+F13 -> 176 | I13: 700.2273 | J13: 79.7727 | K13: 780 | L13: 780 | M13: =L13/H13 -> 4.4318 | N13: =M13*23.59 % -> 1.05 | O13: =SUM(M13:N13) -> 5.48
B14: Maijs | C14: 152 | D14: 16 | E14: 01.05.2026.; 04.05.2026. | F14: 0 | H14: =C14+D14+F14 -> 168 | I14: 705.7143 | J14: 74.2857 | K14: 780 | L14: 780 | M14: =L14/H14 -> 4.6429 | N14: =M14*23.59 % -> 1.1 | O14: =SUM(M14:N14) -> 5.74
B15: Jūnijs | C15: 159 | D15: 16 | E15: 23.06.2026.; 24.06.2026. | F15: 1 | G15: 27.06.2026. | H15: =C15+D15+F15 -> 176 | I15: 704.6591 | J15: 75.3409 | K15: 780 | L15: 780 | M15: =L15/H15 -> 4.4318 | N15: =M15*23.59 % -> 1.05 | O15: =SUM(M15:N15) -> 5.48
B16: Jūlijs | C16: 184 | D16: 0 | F16: 0 | H16: =C16+D16+F16 -> 184 | I16: 780 | J16: =(D16+F16)*M16 -> 0 | K16: =I16+J16 -> 780 | L16: 780 | M16: =L16/H16 -> 4.2391 | N16: =M16*23.59 % -> 1 | O16: =SUM(M16:N16) -> 5.24
B17: Augusts | C17: 168 | D17: 0 | F17: 0 | H17: =C17+D17+F17 -> 168 | I17: 780 | J17: =(D17+F17)*M17 -> 0 | K17: =I17+J17 -> 780 | L17: 780 | M17: =L17/H17 -> 4.6429 | N17: =M17*23.59 % -> 1.1 | O17: =SUM(M17:N17) -> 5.74
B18: Septembris | C18: 176 | D18: 0 | F18: 0 | H18: =C18+D18+F18 -> 176 | I18: 780 | J18: =(D18+F18)*M18 -> 0 | K18: =I18+J18 -> 780 | L18: 780 | M18: =L18/H18 -> 4.4318 | N18: =M18*23.59 % -> 1.05 | O18: =SUM(M18:N18) -> 5.48
B19: Oktobris | C19: 176 | D19: 0 | F19: 0 | H19: =C19+D19+F19 -> 176 | I19: 780 | J19: =(D19+F19)*M19 -> 0 | K19: =I19+J19 -> 780 | L19: 780 | M19: =L19/H19 -> 4.4318 | N19: =M19*23.59 % -> 1.05 | O19: =SUM(M19:N19) -> 5.48
B20: Novembris | C20: 159 | D20: 8 | E20: 18.11.2026. | F20: 1 | G20: 17.11.2026. | H20: =C20+D20+F20 -> 168 | I20: 738.2143 | J20: 41.7857 | K20: 780 | L20: 780 | M20: =L20/H20 -> 4.6429 | N20: =M20*23.59 % -> 1.1 | O20: =SUM(M20:N20) -> 5.74
B21: Decembris | C21: 158 | D21: 24 | E21: 24.12.2026; 25.12.2026.; 31.12.2026. | F21: 2 | G21: 23.12.2026.; 30.12.2026. | H21: =C21+D21+F21 -> 184 | I21: 669.7826 | J21: 110.2174 | K21: 780 | L21: 780 | M21: =L21/H21 -> 4.2391 | N21: =M21*23.59 % -> 1 | O21: =SUM(M21:N21) -> 5.24
B23: * | C23: https://www.lm.gov.lv/lv/minimala-darba-alga

Sheet 2026 budžeta aprēķins
A1: Asistenta pakalpojuma budžeta aprēķins par 2026.gadu
A2: Programma- 12.00.00 “Finansējums asistenta pakalpojuma nodrošināšanai personai ar invaliditāti pārvietošanas atbalstam un pašaprūpes veikšanai”
A4: Izglītojamo skaita aprēķins
A6: EKK | B6: Izglītības pakāpe | C6: Planotais izglītojamo skaits | D6: 5 % pieaugums | E6: KOPĀ
A7: A | B7: B | C7: 1 | D7: 2=1*5% | E7: 3
A8: Pašvaldības
A9: 7460 | B9: Pirmsk. izgl.iest.* | C9: =239 -> 239 | D9: 11 | E9: =C9+D9 -> 250 | F9: =SUM(E9:E13) -> 599
B10: 1.klase | C10: 54 | D10: 3 | E10: =C10+D10 -> 57
B11: 2.-8.; 10.-11. | C11: 240 | D11: 11 | E11: =C11+D11 -> 251
B12: 9.klase | C12: 38 | D12: 2 | E12: =C12+D12 -> 40
B13: 12.klase | C13: 1 | E13: =C13+D13 -> 1
A14: Profesionālās izglītības iestādes
A15: 1000 | B15: Prof.sk | C15: 2 | E15: =C15+D15 -> 2 | F15: =E15+E16 -> 3
A16: 7471 | B16: Prof.sk | D16: 1 | E16: =C16+D16 -> 1
A17: Priv sk.
A18: 3000 | B18: Pirmsk. izgl.iest. | C18: =26 -> 26 | D18: 1 | E18: =C18+D18 -> 27 | F18: =SUM(E18:E22) -> 81
B19: 1.klase | C19: 12 | D19: 1 | E19: =C19+D19 -> 13
B20: 2.-8.; 10.-11. | C20: 34 | D20: 2 | E20: =C20+D20 -> 36
B21: 9.klase | C21: 3 | E21: =C21+D21 -> 3
B22: 12.klase | C22: 1 | D22: 1 | E22: =C22+D22 -> 2
C23: =SUM(C9:C22) -> 650 | D23: =SUM(D9:D22) -> 33 | E23: =SUM(E9:E22) -> 683 | F23: =F9+F15+F18 -> 683
A25: Izglītojamo skaita 5% apmērā pieaugums | D25: =C23*0.05 -> 33
A28: Minimālā alga 2026.gadā | M28: 780
A29: Mēnesis | B29: Darba dienu un mācību dienu skaits 2026.gada menešos | G29: Cilvēkstundu skaits mēnesī | L29: 2025.gadā Valsts nodrošinātā atlīdzība par vienu asistenta pakalpojuma stundu | M29: Aprēķinātā stundas tarifa likme atbilstoši 2026.gadā planotajai minimālajai algai | N29: DD VSAOI | O29: Atlīdzības izmaksas kopā par vienu asistenta pakalpojuma stundu | P29: MK noteikumos 2026.gadā plānotā valsts nodrošinātā atlīdzība par vienu asistenta pakalpojuma stundu | Q29: Izglītojamo skaits Prof izgl. iestādēs (EKK-1000) | R29: Izglītojamo skaits Prof izgl. iestādēs (EKK-7471) | S29: Izglītojamo skaits pašvaldībās (EKK-7460) | X29: Izglītojamo skaits privātajās izglītības iestādēs (EKK-3000) | AC29: KOPĀ | AD29: Finansējuma aprēķins Prof izgl. iestādēs (EKK-1000) | AE29: Finansējuma aprēķins Prof izgl. iestādēs (EKK-7471) | AF29: Finansējuma aprēķins pašvaldībās (EKK-7460) | AL29: Finansējuma aprēķins privātajās izglītības iestādēs (EKK-3000) | AR29: KOPĀ
B30: Pirmsk. Izgl. Iest., prof.sk. | C30: 1.klase | D30: 2-8.; 10-11. klase | E30: 9.klase | F30: 12.klase | G30: Pirmsk. Izgl. Iest., prof.sk. | H30: 1.klase | I30: 2-8.; 10-11. klase | J30: 9.klase | K30: 12.klase | N30: 0.2359 | S30: Pirmsk. Izgl. Iest. | T30: 1.klase | U30: 2-8.; 10-11. klase | V30: 9.klase | W30: 12.klase | X30: Pirmsk. Izgl. Iest. | Y30: 1.klase | Z30: 2-8.; 10-11. klase | AA30: 9.klase | AB30: 12.klase | AF30: Pirmsk. Izgl. Iest. | AG30: 1.klase | AH30: 2-8.; 10-11. klase | AI30: 9.klase | AJ30: 12.klase | AK30: Kopā | AL30: Pirmsk. Izgl. Iest. | AM30: 1.klase | AN30: 2-8.; 10-11. klase | AO30: 9.klase | AP30: 12.klase | AQ30: Kopā
A31: A | B31: 1 | C31: 2 | D31: 3 | E31: 4 | F31: 5 | G31: 6 | H31: 7 | I31: 8 | J31: 9 | K31: 10 | L31: 11 | M31: 12 | N31: 13=12*DD VSAOI | O31: 14=12+13 | P31: 15=12 vai, ja 14<11, tad 15=11 | Q31: 16 | R31: 17 | S31: 18 | T31: 19 | U31: 20 | V31: 21 | W31: 22 | X31: 23 | Y31: 24 | Z31: 25 | AA31: 26 | AB31: 27 | AC31: 28=SUM(16:27) | AD31: 29=6*15*16 | AE31: 30=6*15*17 | AF31: 31=6*15*18 | AG31: 32=7*15*19 | AH31: 33=8*15*20 | AI31: 34=9*15*21 | AJ31: 35=10*15*22 | AK31: 36=31+32+33+34+35 | AL31: 37=6*15*23 | AM31: 38=7*15*24 | AN31: 39=8*15*25 | AO31: 40=9*15*26 | AP31: 41=10*15*27 | AQ31: 42=37+38+39+40+41 | AR31: 43=29+30+36+42
A32: janvāris | B32: 21 | C32: 20 | D32: 20 | E32: 20 | F32: 20 | G32: =B32*8 -> 168 | H32: =C32*8 -> 160 | I32: =D32*8 -> 160 | J32: =E32*8 -> 160 | K32: =F32*8 -> 160 | L32: 5.72 | M32: ='2026 gada min. h tarifa likme'!M10 -> 4.4318 | N32: =M32*$N$30 -> 1.05 | O32: =M32+N32 -> 5.48 | P32: 5.72 | Q32: =$E$15 -> 2 | R32: =$E$16 -> 1 | S32: =$E$9 -> 250 | T32: =$E$10 -> 57 | U32: =$E$11 -> 251 | V32: =$E$12 -> 40 | W32: =$E$13 -> 1 | X32: =$E$18 -> 27 | Y32: =$E$19 -> 13 | Z32: =$E$20 -> 36 | AA32: =$E$21 -> 3 | AB32: =$E$22 -> 2 | AC32: =SUM(Q32:AB32) -> 683 | AD32: =G32*P32*Q32 -> 1921.92 | AE32: =G32*P32*R32 -> 960.96 | AF32: =G32*P32*S32 -> 240240 | AG32: =H32*P32*T32 -> 52166.4 | AH32: =I32*P32*U32 -> 229715.2 | AI32: =J32*P32*V32 -> 36608 | AJ32: =K32*P32*W32 -> 915.2 | AK32: =SUM(AF32:AJ32) -> 559644.8 | AL32: =G32*P32*X32 -> 25945.92 | AM32: =H32*P32*Y32 -> 11897.6 | AN32: =I32*P32*Z32 -> 32947.2 | AO32: =J32*P32*AA32 -> 2745.6 | AP32: =K32*P32*AB32 -> 1830.4 | AQ32: =SUM(AL32:AP32) -> 75366.72 | AR32: =AD32+AE32+AK32+AQ32 -> 637894.4
A33: februāris | B33: 20 | C33: 15 | D33: 20 | E33: 20 | F33: 20 | G33: =B33*8 -> 160 | H33: =C33*8 -> 120 | I33: =D33*8 -> 160 | J33: =E33*8 -> 160 | K33: =F33*8 -> 160 | L33: 5.72 | M33: ='2026 gada min. h tarifa likme'!M11 -> 4.875 | N33: =M33*$N$30 -> 1.15 | O33: =M33+N33 -> 6.03 | P33: =M33+N33 -> 6.03 | Q33: =$E$15 -> 2 | R33: =$E$16 -> 1 | S33: =S32 -> 250 | T33: =$E$10 -> 57 | U33: =$E$11 -> 251 | V33: =$E$12 -> 40 | W33: =$E$13 -> 1 | X33: =$E$18 -> 27 | Y33: =$E$19 -> 13 | Z33: =$E$20 -> 36 | AA33: =$E$21 -> 3 | AB33: =$E$22 -> 2 | AC33: =SUM(Q33:AB33) -> 683 | AD33: =G33*P33*Q33 -> 1929.6 | AE33: =G33*P33*R33 -> 964.8 | AF33: =G33*P33*S33 -> 241200 | AG33: =H33*P33*T33 -> 41245.2 | AH33: =I33*P33*U33 -> 242164.8 | AI33: =J33*P33*V33 -> 38592 | AJ33: =K33*P33*W33 -> 964.8 | AK33: =SUM(AF33:AJ33) -> 564166.8 | AL33: =G33*P33*X33 -> 26049.6 | AM33: =H33*P33*Y33 -> 9406.8 | AN33: =I33*P33*Z33 -> 34732.8 | AO33: =J33*P33*AA33 -> 2894.4 | AP33: =K33*P33*AB33 -> 1929.6 | AQ33: =SUM(AL33:AP33) -> 75013.2 | AR33: =AD33+AE33+AK33+AQ33 -> 642074.4
A34: marts | B34: 22 | C34: 17 | D34: 17 | E34: 17 | F34: 17 | G34: =(B34*8) -> 176 | H34: =(C34*8) -> 136 | I34: =(D34*8) -> 136 | J34: =(E34*8) -> 136 | K34: =(F34*8) -> 136 | L34: 5.72 | M34: ='2026 gada min. h tarifa likme'!M12 -> 4.4318 | N34: =M34*$N$30 -> 1.05 | O34: =M34+N34 -> 5.48 | P34: 5.72 | Q34: =$E$15 -> 2 | R34: =$E$16 -> 1 | S34: =S33 -> 250 | T34: =$E$10 -> 57 | U34: =$E$11 -> 251 | V34: =$E$12 -> 40 | W34: =$E$13 -> 1 | X34: =$E$18 -> 27 | Y34: =$E$19 -> 13 | Z34: =$E$20 -> 36 | AA34: =$E$21 -> 3 | AB34: =$E$22 -> 2 | AC34: =SUM(Q34:AB34) -> 683 | AD34: =G34*P34*Q34 -> 2013.44 | AE34: =G34*P34*R34 -> 1006.72 | AF34: =G34*P34*S34 -> 251680 | AG34: =H34*P34*T34 -> 44341.44 | AH34: =I34*P34*U34 -> 195257.92 | AI34: =J34*P34*V34 -> 31116.8 | AJ34: =K34*P34*W34 -> 777.92 | AK34: =SUM(AF34:AJ34) -> 523174.08 | AL34: =G34*P34*X34 -> 27181.44 | AM34: =H34*P34*Y34 -> 10112.96 | AN34: =I34*P34*Z34 -> 28005.12 | AO34: =J34*P34*AA34 -> 2333.76 | AP34: =K34*P34*AB34 -> 1555.84 | AQ34: =SUM(AL34:AP34) -> 69189.12 | AR34: =AD34+AE34+AK34+AQ34 -> 595383.36
A35: aprīlis | B35: 20 | C35: 20 | D35: 20 | E35: 20 | F35: 20 | G35: =(B35*8)-2 -> 158 | H35: =(C35*8)-2 -> 158 | I35: =(D35*8)-2 -> 158 | J35: =(E35*8)-2 -> 158 | K35: =(F35*8)-2 -> 158 | L35: 5.72 | M35: ='2026 gada min. h tarifa likme'!M13 -> 4.4318 | N35: =M35*$N$30 -> 1.05 | O35: =M35+N35 -> 5.48 | P35: 5.72 | Q35: =$E$15 -> 2 | R35: =$E$16 -> 1 | S35: =S34 -> 250 | T35: =$E$10 -> 57 | U35: =$E$11 -> 251 | V35: =$E$12 -> 40 | W35: =$E$13 -> 1 | X35: =$E$18 -> 27 | Y35: =$E$19 -> 13 | Z35: =$E$20 -> 36 | AA35: =$E$21 -> 3 | AB35: =$E$22 -> 2 | AC35: =SUM(Q35:AB35) -> 683 | AD35: =G35*P35*Q35 -> 1807.52 | AE35: =G35*P35*R35 -> 903.76 | AF35: =G35*P35*S35 -> 225940 | AG35: =H35*P35*T35 -> 51514.32 | AH35: =I35*P35*U35 -> 226843.76 | AI35: =J35*P35*V35 -> 36150.4 | AJ35: =K35*P35*W35 -> 903.76 | AK35: =SUM(AF35:AJ35) -> 541352.24 | AL35: =G35*P35*X35 -> 24401.52 | AM35: =H35*P35*Y35 -> 11748.88 | AN35: =I35*P35*Z35 -> 32535.36 | AO35: =J35*P35*AA35 -> 2711.28 | AP35: =K35*P35*AB35 -> 1807.52 | AQ35: =SUM(AL35:AP35) -> 73204.56 | AR35: =AD35+AE35+AK35+AQ35 -> 617268.08
A36: maijs | B36: 19 | C36: 19 | D36: 19 | E36: 19 | F36: 19 | G36: =(B36*8) -> 152 | H36: =(C36*8) -> 152 | I36: =(D36*8) -> 152 | J36: =(E36*8) -> 152 | K36: =(F36*8) -> 152 | L36: 5.72 | M36: ='2026 gada min. h tarifa likme'!M14 -> 4.6429 | N36: =M36*$N$30 -> 1.1 | O36: =M36+N36 -> 5.74 | P36: =M36+N36 -> 5.74 | Q36: =$E$15 -> 2 | R36: =$E$16 -> 1 | S36: =S35 -> 250 | T36: =$E$10 -> 57 | U36: =$E$11 -> 251 | V36: =$E$12 -> 40 | W36: =$E$13 -> 1 | X36: =$E$18 -> 27 | Y36: =$E$19 -> 13 | Z36: =$E$20 -> 36 | AA36: =$E$21 -> 3 | AB36: =$E$22 -> 2 | AC36: =SUM(Q36:AB36) -> 683 | AD36: =G36*P36*Q36 -> 1744.96 | AE36: =G36*P36*R36 -> 872.48 | AF36: =G36*P36*S36 -> 218120 | AG36: =H36*P36*T36 -> 49731.36 | AH36: =I36*P36*U36 -> 218992.48 | AI36: =J36*P36*V36 -> 34899.2 | AJ36: =K36*P36*W36 -> 872.48 | AK36: =SUM(AF36:AJ36) -> 522615.52 | AL36: =G36*P36*X36 -> 23556.96 | AM36: =H36*P36*Y36 -> 11342.24 | AN36: =I36*P36*Z36 -> 31409.28 | AO36: =J36*P36*AA36 -> 2617.44 | AP36: =K36*P36*AB36 -> 1744.96 | AQ36: =SUM(AL36:AP36) -> 70670.88 | AR36: =AD36+AE36+AK36+AQ36 -> 595903.84
A37: jūnijs | B37: 20 | E37: 10 | F37: 15 | G37: =(B37*8)-1 -> 159 | H37: =C37*8 -> 0 | I37: =D37*8 -> 0 | J37: =E37*8 -> 80 | K37: =F37*8 -> 120 | L37: 5.72 | M37: ='2026 gada min. h tarifa likme'!M15 -> 4.4318 | N37: =M37*$N$30 -> 1.05 | O37: =M37+N37 -> 5.48 | P37: 5.72 | Q37: =$E$15 -> 2 | R37: =$E$16 -> 1 | S37: =S36 -> 250 | T37: =$E$10 -> 57 | U37: =$E$11 -> 251 | V37: =$E$12 -> 40 | W37: =$E$13 -> 1 | X37: =$E$18 -> 27 | Y37: =$E$19 -> 13 | Z37: =$E$20 -> 36 | AA37: =$E$21 -> 3 | AB37: =$E$22 -> 2 | AC37: =SUM(Q37:AB37) -> 683 | AD37: =G37*P37*Q37 -> 1818.96 | AE37: =G37*P37*R37 -> 909.48 | AF37: =G37*P37*S37 -> 227370 | AG37: =H37*P37*T37 -> 0 | AH37: =I37*P37*U37 -> 0 | AI37: =J37*P37*V37 -> 18304 | AJ37: =K37*P37*W37 -> 686.4 | AK37: =SUM(AF37:AJ37) -> 246360.4 | AL37: =G37*P37*X37 -> 24555.96 | AM37: =H37*P37*Y37 -> 0 | AN37: =I37*P37*Z37 -> 0 | AO37: =J37*P37*AA37 -> 1372.8 | AP37: =K37*P37*AB37 -> 1372.8 | AQ37: =SUM(AL37:AP37) -> 27301.56 | AR37: =AD37+AE37+AK37+AQ37 -> 276390.4
A38: jūlijs | B38: 23 | G38: =B38*8 -> 184 | H38: =C38*8 -> 0 | I38: =D38*8 -> 0 | J38: =E38*8 -> 0 | K38: =F38*8 -> 0 | L38: 5.72 | M38: ='2026 gada min. h tarifa likme'!M16 -> 4.2391 | N38: =M38*$N$30 -> 1 | O38: =M38+N38 -> 5.24 | P38: 5.72 | Q38: =$E$15 -> 2 | R38: =$E$16 -> 1 | S38: =S37 -> 250 | T38: =$E$10 -> 57 | U38: =$E$11 -> 251 | V38: =$E$12 -> 40 | W38: =$E$13 -> 1 | X38: =$E$18 -> 27 | Y38: =$E$19 -> 13 | Z38: =$E$20 -> 36 | AA38: =$E$21 -> 3 | AB38: =$E$22 -> 2 | AC38: =SUM(Q38:AB38) -> 683 | AD38: =G38*P38*Q38 -> 2104.96 | AE38: =G38*P38*R38 -> 1052.48 | AF38: =G38*P38*S38 -> 263120 | AG38: =H38*P38*T38 -> 0 | AH38: =I38*P38*U38 -> 0 | AI38: =J38*P38*V38 -> 0 | AJ38: =K38*P38*W38 -> 0 | AK38: =SUM(AF38:AJ38) -> 263120 | AL38: =G38*P38*X38 -> 28416.96 | AM38: =H38*P38*Y38 -> 0 | AN38: =I38*P38*Z38 -> 0 | AO38: =J38*P38*AA38 -> 0 | AP38: =K38*P38*AB38 -> 0 | AQ38: =SUM(AL38:AP38) -> 28416.96 | AR38: =AD38+AE38+AK38+AQ38 -> 294694.4
A39: augusts | B39: 21 | G39: =B39*8 -> 168 | H39: =C39*8 -> 0 | I39: =D39*8 -> 0 | J39: =E39*8 -> 0 | K39: =F39*8 -> 0 | L39: 5.72 | M39: ='2026 gada min. h tarifa likme'!M17 -> 4.6429 | N39: =M39*$N$30 -> 1.1 | O39: =M39+N39 -> 5.74 | P39: =M39+N39 -> 5.74 | Q39: =$E$15 -> 2 | R39: =$E$16 -> 1 | S39: =S38 -> 250 | T39: =$E$10 -> 57 | U39: =$E$11 -> 251 | V39: =$E$12 -> 40 | W39: =$E$13 -> 1 | X39: =$E$18 -> 27 | Y39: =$E$19 -> 13 | Z39: =$E$20 -> 36 | AA39: =$E$21 -> 3 | AB39: =$E$22 -> 2 | AC39: =SUM(Q39:AB39) -> 683 | AD39: =G39*P39*Q39 -> 1928.64 | AE39: =G39*P39*R39 -> 964.32 | AF39: =G39*P39*S39 -> 241080 | AG39: =H39*P39*T39 -> 0 | AH39: =I39*P39*U39 -> 0 | AI39: =J39*P39*V39 -> 0 | AJ39: =K39*P39*W39 -> 0 | AK39: =SUM(AF39:AJ39) -> 241080 | AL39: =G39*P39*X39 -> 26036.64 | AM39: =H39*P39*Y39 -> 0 | AN39: =I39*P39*Z39 -> 0 | AO39: =J39*P39*AA39 -> 0 | AP39: =K39*P39*AB39 -> 0 | AQ39: =SUM(AL39:AP39) -> 26036.64 | AR39: =AD39+AE39+AK39+AQ39 -> 270009.6
B40: =SUM(B32:B39) -> 166 | C40: =SUM(C32:C39) -> 91 | D40: =SUM(D32:D39) -> 96 | E40: =SUM(E32:E39) -> 106 | F40: =SUM(F32:F39) -> 111 | G40: =SUM(G32:G39) -> 1325 | H40: =SUM(H32:H39) -> 726 | I40: =SUM(I32:I39) -> 766 | ... K40: =SUM(K32:K39) -> 886 | AD40: =SUM(AD32:AD39) -> 15270 | AE40: =SUM(AE32:AE39) -> 7635 | AF40: =SUM(AF32:AF39) -> 1908750 | AG40: =SUM(AG32:AG39) -> 238998.72 | AH40: =SUM(AH32:AH39) -> 1112974.2 | AI40: =SUM(AI32:AI39) -> 195670.4 | AJ40: =SUM(AJ32:AJ39) -> 5120.56 | AK40: =SUM(AK32:AK39) -> 3461513.8 | ... AR40: =SUM(AR32:AR39) -> 3929618.5
A42: septembris | B42: 22 | C42: 22 | D42: 22 | E42: 22 | F42: 22 | G42: =B42*8 -> 176 | H42: =C42*8 -> 176 | I42: =D42*8 -> 176 | J42: =E42*8 -> 176 | K42: =F42*8 -> 176 | L42: 5.72 | M42: ='2026 gada min. h tarifa likme'!M18 -> 4.4318 | N42: =M42*$N$30 -> 1.05 | O42: =M42+N42 -> 5.48 | P42: 5.72 | Q42: =$E$15 -> 2 | R42: =$E$16 -> 1 | S42: =$E$9 -> 250 | T42: =$E$10 -> 57 | U42: =$E$11 -> 251 | V42: =$E$12 -> 40 | W42: =$E$13 -> 1 | X42: =$E$18 -> 27 | Y42: =$E$19 -> 13 | Z42: =$E$20 -> 36 | AA42: =$E$21 -> 3 | AB42: =$E$22 -> 2 | AC42: =SUM(Q42:AB42) -> 683 | AD42: =G42*P42*Q42 -> 2013.44 | AE42: =G42*P42*R42 -> 1006.72 | AF42: =G42*P42*S42 -> 251680 | AG42: =H42*P42*T42 -> 57383.04 | AH42: =I42*P42*U42 -> 252686.72 | AI42: =J42*P42*V42 -> 40268.8 | AJ42: =K42*P42*W42 -> 1006.72 | AK42: =SUM(AF42:AJ42) -> 603025.28 | AL42: =G42*P42*X42 -> 27181.44 | AM42: =H42*P42*Y42 -> 13087.36 | AN42: =I42*P42*Z42 -> 36241.92 | AO42: =J42*P42*AA42 -> 3020.16 | AP42: =K42*P42*AB42 -> 2013.44 | AQ42: =SUM(AL42:AP42) -> 81544.32 | AR42: =AD42+AE42+AK42+AQ42 -> 687589.76
A43: oktobris | B43: 22 | C43: 17 | D43: 17 | E43: 17 | F43: 17 | G43: =B43*8 -> 176 | H43: =C43*8 -> 136 | I43: =D43*8 -> 136 | J43: =E43*8 -> 136 | K43: =F43*8 -> 136 | L43: 5.72 | M43: ='2026 gada min. h tarifa likme'!M19 -> 4.4318 | N43: =M43*$N$30 -> 1.05 | O43: =M43+N43 -> 5.48 | P43: 5.72 | Q43: =$E$15 -> 2 | R43: =$E$16 -> 1 | S43: =$E$9 -> 250 | T43: =$E$10 -> 57 | U43: =$E$11 -> 251 | V43: =$E$12 -> 40 | W43: =$E$13 -> 1 | X43: =$E$18 -> 27 | Y43: =$E$19 -> 13 | Z43: =$E$20 -> 36 | AA43: =$E$21 -> 3 | AB43: =$E$22 -> 2 | AC43: =SUM(Q43:AB43) -> 683 | AD43: =G43*P43*Q43 -> 2013.44 | AE43: =G43*P43*R43 -> 1006.72 | AF43: =G43*P43*S43 -> 251680 | AG43: =H43*P43*T43 -> 44341.44 | AH43: =I43*P43*U43 -> 195257.92 | AI43: =J43*P43*V43 -> 31116.8 | AJ43: =K43*P43*W43 -> 777.92 | AK43: =SUM(AF43:AJ43) -> 523174.08 | AL43: =G43*P43*X43 -> 27181.44 | AM43: =H43*P43*Y43 -> 10112.96 | AN43: =I43*P43*Z43 -> 28005.12 | AO43: =J43*P43*AA43 -> 2333.76 | AP43: =K43*P43*AB43 -> 1555.84 | AQ43: =SUM(AL43:AP43) -> 69189.12 | AR43: =AD43+AE43+AK43+AQ43 -> 595383.36
A44: novembris | B44: 20 | C44: 20 | D44: 20 | E44: 20 | F44: 20 | G44: =(B44*8)-1 -> 159 | H44: =(C44*8)-1 -> 159 | I44: =(D44*8)-1 -> 159 | J44: =(E44*8)-1 -> 159 | K44: =(F44*8)-1 -> 159 | L44: 5.72 | M44: ='2026 gada min. h tarifa likme'!M20 -> 4.6429 | N44: =M44*$N$30 -> 1.1 | O44: =M44+N44 -> 5.74 | P44: =M44+N44 -> 5.74 | Q44: =$E$15 -> 2 | R44: =$E$16 -> 1 | S44: =$E$9 -> 250 | T44: =$E$10 -> 57 | U44: =$E$11 -> 251 | V44: =$E$12 -> 40 | W44: =$E$13 -> 1 | X44: =$E$18 -> 27 | Y44: =$E$19 -> 13 | Z44: =$E$20 -> 36 | AA44: =$E$21 -> 3 | AB44: =$E$22 -> 2 | AC44: =SUM(Q44:AB44) -> 683 | AD44: =G44*P44*Q44 -> 1825.32 | AE44: =G44*P44*R44 -> 912.66 | AF44: =G44*P44*S44 -> 228165 | AG44: =H44*P44*T44 -> 52021.62 | AH44: =I44*P44*U44 -> 229077.66 | AI44: =J44*P44*V44 -> 36506.4 | AJ44: =K44*P44*W44 -> 912.66 | AK44: =SUM(AF44:AJ44) -> 546683.34 | AL44: =G44*P44*X44 -> 24641.82 | AM44: =H44*P44*Y44 -> 11864.58 | AN44: =I44*P44*Z44 -> 32855.76 | AO44: =J44*P44*AA44 -> 2737.98 | AP44: =K44*P44*AB44 -> 1825.32 | AQ44: =SUM(AL44:AP44) -> 73925.46 | AR44: =AD44+AE44+AK44+AQ44 -> 623346.78
A45: decembris | B45: 20 | C45: 14 | D45: 14 | E45: 14 | F45: 14 | G45: =(B45*8)-2 -> 158 | H45: =C45*8 -> 112 | I45: =D45*8 -> 112 | J45: =E45*8 -> 112 | K45: =F45*8 -> 112 | L45: 5.72 | M45: ='2026 gada min. h tarifa likme'!M21 -> 4.2391 | N45: =M45*$N$30 -> 1 | O45: =M45+N45 -> 5.24 | P45: 5.72 | Q45: =$E$15 -> 2 | R45: =$E$16 -> 1 | S45: =$E$9 -> 250 | T45: =$E$10 -> 57 | U45: =$E$11 -> 251 | V45: =$E$12 -> 40 | W45: =$E$13 -> 1 | X45: =$E$18 -> 27 | Y45: =$E$19 -> 13 | Z45: =$E$20 -> 36 | AA45: =$E$21 -> 3 | AB45: =$E$22 -> 2 | AC45: =SUM(Q45:AB45) -> 683 | AD45: =G45*P45*Q45 -> 1807.52 | AE45: =G45*P45*R45 -> 903.76 | AF45: =G45*P45*S45 -> 225940 | AG45: =H45*P45*T45 -> 36516.48 | AH45: =I45*P45*U45 -> 160800.64 | AI45: =J45*P45*V45 -> 25625.6 | AJ45: =K45*P45*W45 -> 640.64 | AK45: =SUM(AF45:AJ45) -> 449523.36 | AL45: =G45*P45*X45 -> 24401.52 | AM45: =H45*P45*Y45 -> 8328.32 | AN45: =I45*P45*Z45 -> 23063.04 | AO45: =J45*P45*AA45 -> 1921.92 | AP45: =K45*P45*AB45 -> 1281.28 | AQ45: =SUM(AL45:AP45) -> 58996.08 | AR45: =AD45+AE45+AK45+AQ45 -> 511230.72
B46: =SUM(B42:B45) -> 84 | C46: =SUM(C42:C45) -> 73 | D46: =SUM(D42:D45) -> 73 | E46: =SUM(E42:E45) -> 73 | F46: =SUM(F42:F45) -> 73 | G46: =SUM(G42:G45) -> 669 | H46: =SUM(H42:H45) -> 583 | I46: =SUM(I42:I45) -> 583 | ... K46: =SUM(K42:K45) -> 583 | AD46: =SUM(AD42:AD45) -> 7659.72 | AE46: =SUM(AE42:AE45) -> 3829.86 | AF46: =SUM(AF42:AF45) -> 957465 | AG46: =SUM(AG42:AG45) -> 190262.58 | AH46: =SUM(AH42:AH45) -> 837822.94 | AI46: =SUM(AI42:AI45) -> 133517.6 | AJ46: =SUM(AJ42:AJ45) -> 3337.94 | AK46: =SUM(AK42:AK45) -> 2122406.1 | ... AR46: =SUM(AR42:AR45) -> 2417550.6
...

Sheet 2027 budžeta aprēķins
A1: Asistenta pakalpojuma izdevumu aprēķins par 2027.gadu
A2: Programma- 12.00.00 “Finansējums asistenta pakalpojuma nodrošināšanai personai ar invaliditāti pārvietošanas atbalstam un pašaprūpes veikšanai”
A4: Izglītojamo skaita aprēķins
A6: EKK | B6: Izglītības pakāpe | C6: Planotais izglītojamo skaits 2026.gadā | D6: 7,69 % pieaugums | E6: KOPĀ
A7: A | B7: B | C7: 1 | D7: 2=1*7,69% | E7: 3
A8: Pašvaldības
A9: 7460 | B9: Pirmsk. izgl.iest.* | C9: ='2026 budžeta aprēķins'!E9 -> 250 | D9: 19 | E9: =C9+D9 -> 269 | F9: =SUM(E9:E13) -> 645
B10: 1.klase | C10: ='2026 budžeta aprēķins'!E10 -> 57 | D10: 4 | E10: =C10+D10 -> 61
B11: 2.-8.; 10.-11. | C11: ='2026 budžeta aprēķins'!E11 -> 251 | D11: 19 | E11: =C11+D11 -> 270
B12: 9.klase | C12: ='2026 budžeta aprēķins'!E12 -> 40 | D12: 3 | E12: =C12+D12 -> 43
B13: 12.klase | C13: ='2026 budžeta aprēķins'!E13 -> 1 | D13: 1 | E13: =C13+D13 -> 2
A14: Profesionālās izglītības iestādes
A15: 1000 | B15: Prof.sk | C15: ='2026 budžeta aprēķins'!C15 -> 2 | D15: 1 | E15: =C15+D15 -> 3 | F15: =E15+E16 -> 4
A16: 7471 | B16: Prof.sk | C16: 1 | E16: =C16+D16 -> 1
A17: Priv sk.
A18: 3000 | B18: Pirmsk. izgl.iest. | C18: ='2026 budžeta aprēķins'!E18 -> 27 | D18: 2 | E18: =C18+D18 -> 29 | F18: =SUM(E18:E22) -> 87
B19: 1.klase | C19: ='2026 budžeta aprēķins'!E19 -> 13 | D19: 1 | E19: =C19+D19 -> 14
B20: 2.-8.; 10.-11. | C20: ='2026 budžeta aprēķins'!E20 -> 36 | D20: 3 | E20: =C20+D20 -> 39
B21: 9.klase | C21: ='2026 budžeta aprēķins'!E21 -> 3 | E21: =C21+D21 -> 3
B22: 12.klase | C22: ='2026 budžeta aprēķins'!E22 -> 2 | E22: =C22+D22 -> 2
C23: =SUM(C9:C22) -> 683 | D23: =SUM(D9:D22) -> 53 | E23: =SUM(E9:E22) -> 736 | F23: =F9+F15+F18 -> 736
A25: Izglītojamo skaita pieauguma 7,69% apmēra pieaugumā | D25: =C23*0.0769 -> 52.52
A27: Mēnesis | B27: Darba dienu un mācību dienu skaits 2027.gada menešos | G27: Cilvēkstundu skaits mēnesī | L27: 2026.gadā valsts plānotā atlīdzība par vienu asistenta pakalpojuma stundu | M27: Izglītojamo skaits Prof izgl. iestādēs (EKK-1000) | N27: Izglītojamo skaits Prof izgl. iestādēs (EKK-7471) | O27: Izglītojamo skaits pašvaldībās (EKK-7460) | T27: Izglītojamo skaits privātajās izglītības iestādēs (EKK-3000) | Y27: KOPĀ | Z27: Finansējuma aprēķins Prof izgl. iestādēs (EKK-1000) | AA27: Finansējuma aprēķins Prof izgl. iestādēs (EKK-7471) | AB27: Finansējuma aprēķins pašvaldībās (EKK-7460) | AH27: Finansējuma aprēķins privātajās izglītības iestādēs (EKK-3000) | AN27: KOPĀ
B28: Pirmsk. Izgl. Iest., prof.sk. | C28: 1.klase | D28: 2-8.; 10-11. klase | E28: 9.klase | F28: 12.klase | G28: Pirmsk. Izgl. Iest., prof.sk. | H28: 1.klase | I28: 2-8.; 10-11. klase | J28: 9.klase | K28: 12.klase | O28: Pirmsk. Izgl. Iest. | P28: 1.klase | Q28: 2-8.; 10-11. klase | R28: 9.klase | S28: 12.klase | T28: Pirmsk. Izgl. Iest. | U28: 1.klase | V28: 2-8.; 10-11. klase | W28: 9.klase | X28: 12.klase | AB28: Pirmsk. Izgl. Iest. | AC28: 1.klase | AD28: 2-8.; 10-11. klase | AE28: 9.klase | AF28: 12.klase | AG28: Kopā | AH28: Pirmsk. Izgl. Iest. | AI28: 1.klase | AJ28: 2-8.; 10-11. klase | AK28: 9.klase | AL28: 12.klase | AM28: Kopā
A29: A | B29: 1 | C29: 2 | D29: 3 | E29: 4 | F29: 5 | G29: 6 | H29: 7 | I29: 8 | J29: 9 | K29: 10 | L29: 11 | M29: 12 | N29: 13 | O29: 14 | P29: 15 | Q29: 16 | R29: 17 | S29: 18 | T29: 19 | U29: 20 | V29: 21 | W29: 22 | X29: 23 | Y29: 24=SUM(12:23) | Z29: 25=6*11*12 | AA29: 26=6*11*13 | AB29: 27=6*11*14 | AC29: 28=7*11*15 | AD29: 29=8*11*16 | AE29: 30=9*11*17 | AF29: 31=10*11*18 | AG29: 32=27+28+29+30+31 | AH29: 33=6*11*19 | AI29: 34=7*11*20 | AJ29: 35=8*11*21 | AK29: 36=9*11*22 | AL29: 37=10*11*23 | AM29: 38=33+34+35+36+37 | AN29: 39=25+26+32+38
A30: janvāris | B30: 20 | C30: 20 | D30: 20 | E30: 20 | F30: 20 | G30: =B30*8 -> 160 | H30: =C30*8 -> 160 | I30: =D30*8 -> 160 | J30: =E30*8 -> 160 | K30: =F30*8 -> 160 | L30: ='2026 budžeta aprēķins'!P32 -> 5.72 | M30: =$E$15 -> 3 | N30: =$E$16 -> 1 | O30: =$E$9 -> 269 | P30: =$E$10 -> 61 | Q30: =$E$11 -> 270 | R30: =$E$12 -> 43 | S30: =$E$13 -> 2 | T30: =$E$18 -> 29 | U30: =$E$19 -> 14 | V30: =$E$20 -> 39 | W30: =$E$21 -> 3 | X30: =$E$22 -> 2 | Y30: =SUM(M30:X30) -> 736 | Z30: =G30*L30*M30 -> 2745.6 | AA30: =G30*L30*N30 -> 915.2 | AB30: =G30*L30*O30 -> 246188.8 | AC30: =H30*L30*P30 -> 55827.2 | AD30: =I30*L30*Q30 -> 247104 | AE30: =J30*L30*R30 -> 39353.6 | AF30: =K30*L30*S30 -> 1830.4 | AG30: =SUM(AB30:AF30) -> 590304 | AH30: =G30*L30*T30 -> 26540.8 | AI30: =H30*L30*U30 -> 12812.8 | AJ30: =I30*L30*V30 -> 35692.8 | AK30: =J30*L30*W30 -> 2745.6 | AL30: =K30*L30*X30 -> 1830.4 | AM30: =SUM(AH30:AL30) -> 79622.4 | AN30: =Z30+AA30+AG30+AM30 -> 673587.2
A31: februāris | B31: 20 | C31: 15 | D31: 20 | E31: 20 | F31: 20 | G31: =B31*8 -> 160 | H31: =C31*8 -> 120 | I31: =D31*8 -> 160 | J31: =E31*8 -> 160 | K31: =F31*8 -> 160 | L31: ='2026 budžeta aprēķins'!P33 -> 6.03 | M31: =$E$15 -> 3 | N31: =$E$16 -> 1 | O31: =O30 -> 269 | P31: =$E$10 -> 61 | Q31: =$E$11 -> 270 | R31: =$E$12 -> 43 | S31: =$E$13 -> 2 | T31: =$E$18 -> 29 | U31: =$E$19 -> 14 | V31: =$E$20 -> 39 | W31: =$E$21 -> 3 | X31: =$E$22 -> 2 | Y31: =SUM(M31:X31) -> 736 | Z31: =G31*L31*M31 -> 2894.4 | AA31: =G31*L31*N31 -> 964.8 | AB31: =G31*L31*O31 -> 259531.2 | AC31: =H31*L31*P31 -> 44139.6 | AD31: =I31*L31*Q31 -> 260496 | AE31: =J31*L31*R31 -> 41486.4 | AF31: =K31*L31*S31 -> 1929.6 | AG31: =SUM(AB31:AF31) -> 607582.8 | AH31: =G31*L31*T31 -> 27979.2 | AI31: =H31*L31*U31 -> 10130.4 | AJ31: =I31*L31*V31 -> 37627.2 | AK31: =J31*L31*W31 -> 2894.4 | AL31: =K31*L31*X31 -> 1929.6 | AM31: =SUM(AH31:AL31) -> 80560.8 | AN31: =Z31+AA31+AG31+AM31 -> 692002.8
A32: marts | B32: 21 | C32: 16 | D32: 16 | E32: 16 | F32: 16 | G32: =(B32*8)-1 -> 167 | H32: =(C32*8)-1 -> 127 | I32: =(D32*8)-1 -> 127 | J32: =(E32*8)-1 -> 127 | K32: =(F32*8)-1 -> 127 | L32: ='2026 budžeta aprēķins'!P34 -> 5.72 | M32: =$E$15 -> 3 | N32: =$E$16 -> 1 | O32: =O31 -> 269 | P32: =$E$10 -> 61 | Q32: =$E$11 -> 270 | R32: =$E$12 -> 43 | S32: =$E$13 -> 2 | T32: =$E$18 -> 29 | U32: =$E$19 -> 14 | V32: =$E$20 -> 39 | W32: =$E$21 -> 3 | X32: =$E$22 -> 2 | Y32: =SUM(M32:X32) -> 736 | Z32: =G32*L32*M32 -> 2865.72 | AA32: =G32*L32*N32 -> 955.24 | AB32: =G32*L32*O32 -> 256959.56 | AC32: =H32*L32*P32 -> 44312.84 | AD32: =I32*L32*Q32 -> 196138.8 | AE32: =J32*L32*R32 -> 31236.92 | AF32: =K32*L32*S32 -> 1452.88 | AG32: =SUM(AB32:AF32) -> 530101 | AH32: =G32*L32*T32 -> 27701.96 | AI32: =H32*L32*U32 -> 10170.16 | AJ32: =I32*L32*V32 -> 28331.16 | AK32: =J32*L32*W32 -> 2179.32 | AL32: =K32*L32*X32 -> 1452.88 | AM32: =SUM(AH32:AL32) -> 69835.48 | AN32: =Z32+AA32+AG32+AM32 -> 603757.44
A33: aprīlis | B33: 22 | C33: 22 | D33: 22 | E33: 22 | F33: 22 | G33: =(B33*8)-1 -> 175 | H33: =(C33*8)-1 -> 175 | I33: =(D33*8)-1 -> 175 | J33: =(E33*8)-1 -> 175 | K33: =(F33*8)-1 -> 175 | L33: ='2026 budžeta aprēķins'!P35 -> 5.72 | M33: =$E$15 -> 3 | N33: =$E$16 -> 1 | O33: =O32 -> 269 | P33: =$E$10 -> 61 | Q33: =$E$11 -> 270 | R33: =$E$12 -> 43 | S33: =$E$13 -> 2 | T33: =$E$18 -> 29 | U33: =$E$19 -> 14 | V33: =$E$20 -> 39 | W33: =$E$21 -> 3 | X33: =$E$22 -> 2 | Y33: =SUM(M33:X33) -> 736 | Z33: =G33*L33*M33 -> 3003 | AA33: =G33*L33*N33 -> 1001 | AB33: =G33*L33*O33 -> 269269 | AC33: =H33*L33*P33 -> 61061 | AD33: =I33*L33*Q33 -> 270270 | AE33: =J33*L33*R33 -> 43043 | AF33: =K33*L33*S33 -> 2002 | AG33: =SUM(AB33:AF33) -> 645645 | AH33: =G33*L33*T33 -> 29029 | AI33: =H33*L33*U33 -> 14014 | AJ33: =I33*L33*V33 -> 39039 | AK33: =J33*L33*W33 -> 3003 | AL33: =K33*L33*X33 -> 2002 | AM33: =SUM(AH33:AL33) -> 87087 | AN33: =Z33+AA33+AG33+AM33 -> 736736
A34: maijs | B34: 20 | C34: 20 | D34: 20 | E34: 20 | F34: 20 | G34: =(B34*8)-1 -> 159 | H34: =(C34*8)-1 -> 159 | I34: =(D34*8)-1 -> 159 | J34: =(E34*8)-1 -> 159 | K34: =(F34*8)-1 -> 159 | L34: ='2026 budžeta aprēķins'!P36 -> 5.74 | M34: =$E$15 -> 3 | N34: =$E$16 -> 1 | O34: =O33 -> 269 | P34: =$E$10 -> 61 | Q34: =$E$11 -> 270 | R34: =$E$12 -> 43 | S34: =$E$13 -> 2 | T34: =$E$18 -> 29 | U34: =$E$19 -> 14 | V34: =$E$20 -> 39 | W34: =$E$21 -> 3 | X34: =$E$22 -> 2 | Y34: =SUM(M34:X34) -> 736 | Z34: =G34*L34*M34 -> 2737.98 | AA34: =G34*L34*N34 -> 912.66 | AB34: =G34*L34*O34 -> 245505.54 | AC34: =H34*L34*P34 -> 55672.26 | AD34: =I34*L34*Q34 -> 246418.2 | AE34: =J34*L34*R34 -> 39244.38 | AF34: =K34*L34*S34 -> 1825.32 | AG34: =SUM(AB34:AF34) -> 588665.7 | AH34: =G34*L34*T34 -> 26467.14 | AI34: =H34*L34*U34 -> 12777.24 | AJ34: =I34*L34*V34 -> 35593.74 | AK34: =J34*L34*W34 -> 2737.98 | AL34: =K34*L34*X34 -> 1825.32 | AM34: =SUM(AH34:AL34) -> 79401.42 | AN34: =Z34+AA34+AG34+AM34 -> 671717.76
A35: jūnijs | B35: 20 | E35: 9 | F35: 14 | G35: =(B35*8)-1 -> 159 | H35: =C35*8 -> 0 | I35: =D35*8 -> 0 | J35: =E35*8 -> 72 | K35: =F35*8 -> 112 | L35: ='2026 budžeta aprēķins'!P37 -> 5.72 | M35: =$E$15 -> 3 | N35: =$E$16 -> 1 | O35: =O34 -> 269 | P35: =$E$10 -> 61 | Q35: =$E$11 -> 270 | R35: =$E$12 -> 43 | S35: =$E$13 -> 2 | T35: =$E$18 -> 29 | U35: =$E$19 -> 14 | V35: =$E$20 -> 39 | W35: =$E$21 -> 3 | X35: =$E$22 -> 2 | Y35: =SUM(M35:X35) -> 736 | Z35: =G35*L35*M35 -> 2728.44 | AA35: =G35*L35*N35 -> 909.48 | AB35: =G35*L35*O35 -> 244650.12 | AC35: =H35*L35*P35 -> 0 | AD35: =I35*L35*Q35 -> 0 | AE35: =J35*L35*R35 -> 17709.12 | AF35: =K35*L35*S35 -> 1281.28 | AG35: =SUM(AB35:AF35) -> 263640.52 | AH35: =G35*L35*T35 -> 26374.92 | AI35: =H35*L35*U35 -> 0 | AJ35: =I35*L35*V35 -> 0 | AK35: =J35*L35*W35 -> 1235.52 | AL35: =K35*L35*X35 -> 1281.28 | AM35: =SUM(AH35:AL35) -> 28891.72 | AN35: =Z35+AA35+AG35+AM35 -> 296170.16
A36: jūlijs | B36: 22 | G36: =B36*8 -> 176 | H36: =C36*8 -> 0 | I36: =D36*8 -> 0 | J36: =E36*8 -> 0 | K36: =F36*8 -> 0 | L36: ='2026 budžeta aprēķins'!P38 -> 5.72 | M36: =$E$15 -> 3 | N36: =$E$16 -> 1 | O36: =O35 -> 269 | P36: =$E$10 -> 61 | Q36: =$E$11 -> 270 | R36: =$E$12 -> 43 | S36: =$E$13 -> 2 | T36: =$E$18 -> 29 | U36: =$E$19 -> 14 | V36: =$E$20 -> 39 | W36: =$E$21 -> 3 | X36: =$E$22 -> 2 | Y36: =SUM(M36:X36) -> 736 | Z36: =G36*L36*M36 -> 3020.16 | AA36: =G36*L36*N36 -> 1006.72 | AB36: =G36*L36*O36 -> 270807.68 | AC36: =H36*L36*P36 -> 0 | AD36: =I36*L36*Q36 -> 0 | AE36: =J36*L36*R36 -> 0 | AF36: =K36*L36*S36 -> 0 | AG36: =SUM(AB36:AF36) -> 270807.68 | AH36: =G36*L36*T36 -> 29194.88 | AI36: =H36*L36*U36 -> 0 | AJ36: =I36*L36*V36 -> 0 | AK36: =J36*L36*W36 -> 0 | AL36: =K36*L36*X36 -> 0 | AM36: =SUM(AH36:AL36) -> 29194.88 | AN36: =Z36+AA36+AG36+AM36 -> 304029.44
A37: augusts | B37: 22 | G37: =B37*8 -> 176 | H37: =C37*8 -> 0 | I37: =D37*8 -> 0 | J37: =E37*8 -> 0 | K37: =F37*8 -> 0 | L37: ='2026 budžeta aprēķins'!P39 -> 5.74 | M37: =$E$15 -> 3 | N37: =$E$16 -> 1 | O37: =O36 -> 269 | P37: =$E$10 -> 61 | Q37: =$E$11 -> 270 | R37: =$E$12 -> 43 | S37: =$E$13 -> 2 | T37: =$E$18 -> 29 | U37: =$E$19 -> 14 | V37: =$E$20 -> 39 | W37: =$E$21 -> 3 | X37: =$E$22 -> 2 | Y37: =SUM(M37:X37) -> 736 | Z37: =G37*L37*M37 -> 3030.72 | AA37: =G37*L37*N37 -> 1010.24 | AB37: =G37*L37*O37 -> 271754.56 | AC37: =H37*L37*P37 -> 0 | AD37: =I37*L37*Q37 -> 0 | AE37: =J37*L37*R37 -> 0 | AF37: =K37*L37*S37 -> 0 | AG37: =SUM(AB37:AF37) -> 271754.56 | AH37: =G37*L37*T37 -> 29296.96 | AI37: =H37*L37*U37 -> 0 | AJ37: =I37*L37*V37 -> 0 | AK37: =J37*L37*W37 -> 0 | AL37: =K37*L37*X37 -> 0 | AM37: =SUM(AH37:AL37) -> 29296.96 | AN37: =Z37+AA37+AG37+AM37 -> 305092.48
B38: =SUM(B30:B37) -> 167 | C38: =SUM(C30:C37) -> 93 | D38: =SUM(D30:D37) -> 98 | E38: =SUM(E30:E37) -> 107 | F38: =SUM(F30:F37) -> 112 | G38: =SUM(G30:G37) -> 1332 | H38: =SUM(H30:H37) -> 741 | I38: =SUM(I30:I37) -> 781 | ... K38: =SUM(K30:K37) -> 893 | Z38: =SUM(Z30:Z37) -> 23026.02 | AA38: =SUM(AA30:AA37) -> 7675.34 | AB38: =SUM(AB30:AB37) -> 2064666.5 | AC38: =SUM(AC30:AC37) -> 261012.9 | AD38: =SUM(AD30:AD37) -> 1220427 | AE38: =SUM(AE30:AE37) -> 212073.42 | AF38: =SUM(AF30:AF37) -> 10321.48 | AG38: =SUM(AG30:AG37) -> 3768501.3 | ... AN38: =SUM(AN30:AN37) -> 4283093.3
A40: septembris | B40: 22 | C40: 22 | D40: 22 | E40: 22 | F40: 22 | G40: =B40*8 -> 176 | H40: =C40*8 -> 176 | I40: =D40*8 -> 176 | J40: =E40*8 -> 176 | K40: =F40*8 -> 176 | L40: ='2026 budžeta aprēķins'!P42 -> 5.72 | M40: =$E$15 -> 3 | N40: =$E$16 -> 1 | O40: =$E$9 -> 269 | P40: =$E$10 -> 61 | Q40: =$E$11 -> 270 | R40: =$E$12 -> 43 | S40: =$E$13 -> 2 | T40: =$E$18 -> 29 | U40: =$E$19 -> 14 | V40: =$E$20 -> 39 | W40: =$E$21 -> 3 | X40: =$E$22 -> 2 | Y40: =SUM(M40:X40) -> 736 | Z40: =G40*L40*M40 -> 3020.16 | AA40: =G40*L40*N40 -> 1006.72 | AB40: =G40*L40*O40 -> 270807.68 | AC40: =H40*L40*P40 -> 61409.92 | AD40: =I40*L40*Q40 -> 271814.4 | AE40: =J40*L40*R40 -> 43288.96 | AF40: =K40*L40*S40 -> 2013.44 | AG40: =SUM(AB40:AF40) -> 649334.4 | AH40: =G40*L40*T40 -> 29194.88 | AI40: =H40*L40*U40 -> 14094.08 | AJ40: =I40*L40*V40 -> 39262.08 | AK40: =J40*L40*W40 -> 3020.16 | AL40: =K40*L40*X40 -> 2013.44 | AM40: =SUM(AH40:AL40) -> 87584.64 | AN40: =Z40+AA40+AG40+AM40 -> 740945.92
A41: oktobris | B41: 21 | C41: 16 | D41: 16 | E41: 16 | F41: 16 | G41: =B41*8 -> 168 | H41: =C41*8 -> 128 | I41: =D41*8 -> 128 | J41: =E41*8 -> 128 | K41: =F41*8 -> 128 | L41: ='2026 budžeta aprēķins'!P43 -> 5.72 | M41: =$E$15 -> 3 | N41: =$E$16 -> 1 | O41: =$E$9 -> 269 | P41: =$E$10 -> 61 | Q41: =$E$11 -> 270 | R41: =$E$12 -> 43 | S41: =$E$13 -> 2 | T41: =$E$18 -> 29 | U41: =$E$19 -> 14 | V41: =$E$20 -> 39 | W41: =$E$21 -> 3 | X41: =$E$22 -> 2 | Y41: =SUM(M41:X41) -> 736 | Z41: =G41*L41*M41 -> 2882.88 | AA41: =G41*L41*N41 -> 960.96 | AB41: =G41*L41*O41 -> 258498.24 | AC41: =H41*L41*P41 -> 44661.76 | AD41: =I41*L41*Q41 -> 197683.2 | AE41: =J41*L41*R41 -> 31482.88 | AF41: =K41*L41*S41 -> 1464.32 | AG41: =SUM(AB41:AF41) -> 533790.4 | AH41: =G41*L41*T41 -> 27867.84 | AI41: =H41*L41*U41 -> 10250.24 | AJ41: =I41*L41*V41 -> 28554.24 | AK41: =J41*L41*W41 -> 2196.48 | AL41: =K41*L41*X41 -> 1464.32 | AM41: =SUM(AH41:AL41) -> 70333.12 | AN41: =Z41+AA41+AG41+AM41 -> 607967.36
A42: novembris | B42: 21 | C42: 21 | D42: 21 | E42: 21 | F42: 21 | G42: =(B42*8)-1 -> 167 | H42: =(C42*8)-1 -> 167 | I42: =(D42*8)-1 -> 167 | J42: =(E42*8)-1 -> 167 | K42: =(F42*8)-1 -> 167 | L42: ='2026 budžeta aprēķins'!P44 -> 5.74 | M42: =$E$15 -> 3 | N42: =$E$16 -> 1 | O42: =$E$9 -> 269 | P42: =$E$10 -> 61 | Q42: =$E$11 -> 270 | R42: =$E$12 -> 43 | S42: =$E$13 -> 2 | T42: =$E$18 -> 29 | U42: =$E$19 -> 14 | V42: =$E$20 -> 39 | W42: =$E$21 -> 3 | X42: =$E$22 -> 2 | Y42: =SUM(M42:X42) -> 736 | Z42: =G42*L42*M42 -> 2875.74 | AA42: =G42*L42*N42 -> 958.58 | AB42: =G42*L42*O42 -> 257858.02 | AC42: =H42*L42*P42 -> 58473.38 | AD42: =I42*L42*Q42 -> 258816.6 | AE42: =J42*L42*R42 -> 41218.94 | AF42: =K42*L42*S42 -> 1917.16 | AG42: =SUM(AB42:AF42) -> 618284.1 | AH42: =G42*L42*T42 -> 27798.82 | AI42: =H42*L42*U42 -> 13420.12 | AJ42: =I42*L42*V42 -> 37384.62 | AK42: =J42*L42*W42 -> 2875.74 | AL42: =K42*L42*X42 -> 1917.16 | AM42: =SUM(AH42:AL42) -> 83396.46 | AN42: =Z42+AA42+AG42+AM42 -> 705514.88
A43: decembris | B43: 21 | C43: 13 | D43: 13 | E43: 13 | F43: 13 | G43: =(B43*8)-2 -> 166 | H43: =C43*8 -> 104 | I43: =D43*8 -> 104 | J43: =E43*8 -> 104 | K43: =F43*8 -> 104 | L43: ='2026 budžeta aprēķins'!P45 -> 5.72 | M43: =$E$15 -> 3 | N43: =$E$16 -> 1 | O43: =$E$9 -> 269 | P43: =$E$10 -> 61 | Q43: =$E$11 -> 270 | R43: =$E$12 -> 43 | S43: =$E$13 -> 2 | T43: =$E$18 -> 29 | U43: =$E$19 -> 14 | V43: =$E$20 -> 39 | W43: =$E$21 -> 3 | X43: =$E$22 -> 2 | Y43: =SUM(M43:X43) -> 736 | Z43: =G43*L43*M43 -> 2848.56 | AA43: =G43*L43*N43 -> 949.52 | AB43: =G43*L43*O43 -> 255420.88 | AC43: =H43*L43*P43 -> 36287.68 | AD43: =I43*L43*Q43 -> 160617.6 | AE43: =J43*L43*R43 -> 25579.84 | AF43: =K43*L43*S43 -> 1189.76 | AG43: =SUM(AB43:AF43) -> 479095.76 | AH43: =G43*L43*T43 -> 27536.08 | AI43: =H43*L43*U43 -> 8328.32 | AJ43: =I43*L43*V43 -> 23200.32 | AK43: =J43*L43*W43 -> 1784.64 | AL43: =K43*L43*X43 -> 1189.76 | AM43: =SUM(AH43:AL43) -> 62039.12 | AN43: =Z43+AA43+AG43+AM43 -> 544932.96
B44: =SUM(B40:B43) -> 85 | C44: =SUM(C40:C43) -> 72 | D44: =SUM(D40:D43) -> 72 | E44: =SUM(E40:E43) -> 72 | F44: =SUM(F40:F43) -> 72 | G44: =SUM(G40:G43) -> 677 | H44: =SUM(H40:H43) -> 575 | I44: =SUM(I40:I43) -> 575 | ... K44: =SUM(K40:K43) -> 575 | Z44: =SUM(Z40:Z43) -> 11627.34 | AA44: =SUM(AA40:AA43) -> 3875.78 | AB44: =SUM(AB40:AB43) -> 1042584.8 | AC44: =SUM(AC40:AC43) -> 200832.74 | AD44: =SUM(AD40:AD43) -> 888931.8 | AE44: =SUM(AE40:AE43) -> 141570.62 | AF44: =SUM(AF40:AF43) -> 6584.68 | AG44: =SUM(AG40:AG43) -> 2280504.7 | ... AN44: =SUM(AN40:AN43) -> 2599361.1
A46: KOPĀ | B46: =B38+B44 -> 252 | C46: =C38+C44 -> 165 | D46: =D38+D44 -> 170 | E46: =E38+E44 -> 179 | F46: =F38+F44 -> 184 | G46: =G38+G44 -> 2009 | H46: =H38+H44 -> 1316 | I46: =I38+I44 -> 1356 | ... K46: =K38+K44 -> 1468 | Z46: =Z38+Z44 -> 34653.36 | AA46: =AA38+AA44 -> 11551.12 | AB46: =AB38+AB44 -> 3107251.3 | AC46: =AC38+AC44 -> 461845.64 | AD46: =AD38+AD44 -> 2109358.8 | AE46: =AE38+AE44 -> 353644.04 | AF46: =AF38+AF44 -> 16906.16 | AG46: =AG38+AG44 -> 6049005.9 | ... AN46: =AN38+AN44 -> 6882454.4
...

Sheet 2028 budžeta aprēķins
A1: Asistenta pakalpojuma izdevumu aprēķins par 2028.gadu
A2: Programma- 12.00.00 “Finansējums asistenta pakalpojuma nodrošināšanai personai ar invaliditāti pārvietošanas atbalstam un pašaprūpes veikšanai”
A4: Izglītojamo skaita aprēķins
A6: EKK | B6: Izglītības pakāpe | C6: Planotais izglītojamo skaits 2027.gadā | D6: 7,69 % pieaugums | E6: KOPĀ
A7: A | B7: B | C7: 1 | D7: 2=1*7,69% | E7: 3
A8: Pašvaldības
A9: 7460 | B9: Pirmsk. izgl.iest.* | C9: ='2027 budžeta aprēķins'!E9 -> 269 | D9: 20 | E9: =C9+D9 -> 289 | F9: =SUM(E9:E13) -> 694
B10: 1.klase | C10: ='2027 budžeta aprēķins'!E10 -> 61 | D10: 4 | E10: =C10+D10 -> 65
B11: 2.-8.; 10.-11. | C11: ='2027 budžeta aprēķins'!E11 -> 270 | D11: 21 | E11: =C11+D11 -> 291
B12: 9.klase | C12: ='2027 budžeta aprēķins'!E12 -> 43 | D12: 3 | E12: =C12+D12 -> 46
B13: 12.klase | C13: ='2027 budžeta aprēķins'!E13 -> 2 | D13: 1 | E13: =C13+D13 -> 3
A14: Profesionālās izglītības iestādes
A15: 1000 | B15: Prof.sk | C15: ='2027 budžeta aprēķins'!E15 -> 3 | E15: =C15+D15 -> 3 | F15: =E15+E16 -> 4
A16: 7471 | B16: Prof.sk | C16: ='2027 budžeta aprēķins'!E16 -> 1 | E16: =C16+D16 -> 1
A17: Priv sk.
A18: 3000 | B18: Pirmsk. izgl.iest. | C18: ='2027 budžeta aprēķins'!E18 -> 29 | D18: 3 | E18: =C18+D18 -> 32 | F18: =SUM(E18:E22) -> 95
B19: 1.klase | C19: ='2027 budžeta aprēķins'!E19 -> 14 | D19: 1 | E19: =C19+D19 -> 15
B20: 2.-8.; 10.-11. | C20: ='2027 budžeta aprēķins'!E20 -> 39 | D20: 3 | E20: =C20+D20 -> 42
B21: 9.klase | C21: ='2027 budžeta aprēķins'!E21 -> 3 | E21: =C21+D21 -> 3
B22: 12.klase | C22: ='2027 budžeta aprēķins'!E22 -> 2 | D22: 1 | E22: =C22+D22 -> 3
C23: ='2027 budžeta aprēķins'!E23 -> 736 | D23: =SUM(D9:D22) -> 57 | E23: =SUM(E9:E22) -> 793 | F23: =F9+F15+F18 -> 793
A25: Izglītojamo skaita pieauguma 7,69% apmēra pieaugumā | D25: =C23*0.0769 -> 56.6
A29: Mēnesis | B29: Darba dienu un mācību dienu skaits 2028.gada menešos | G29: Cilvēkstundu skaits mēnesī | L29: 2026.gadā valsts plānotā atlīdzība par vienu asistenta pakalpojuma stundu | M29: Izglītojamo skaits Prof izgl. iestādēs (EKK-1000) | N29: Izglītojamo skaits Prof izgl. iestādēs (EKK-7471) | O29: Izglītojamo skaits pašvaldībās (EKK-7460) | T29: Izglītojamo skaits privātajās izglītības iestādēs (EKK-3000) | Y29: KOPĀ | Z29: Finansējuma aprēķins Prof izgl. iestādēs (EKK-1000) | AA29: Finansējuma aprēķins Prof izgl. iestādēs (EKK-7471) | AB29: Finansējuma aprēķins pašvaldībās (EKK-7460) | AH29: Finansējuma aprēķins privātajās izglītības iestādēs (EKK-3000) | AN29: KOPĀ
B30: Pirmsk. Izgl. Iest., prof.sk. | C30: 1.klase | D30: 2-8.; 10-11. klase | E30: 9.klase | F30: 12.klase | G30: Pirmsk. Izgl. Iest., prof.sk. | H30: 1.klase | I30: 2-8.; 10-11. klase | J30: 9.klase | K30: 12.klase | O30: Pirmsk. Izgl. Iest. | P30: 1.klase | Q30: 2-8.; 10-11. klase | R30: 9.klase | S30: 12.klase | T30: Pirmsk. Izgl. Iest. | U30: 1.klase | V30: 2-8.; 10-11. klase | W30: 9.klase | X30: 12.klase | AB30: Pirmsk. Izgl. Iest. | AC30: 1.klase | AD30: 2-8.; 10-11. klase | AE30: 9.klase | AF30: 12.klase | AG30: Kopā | AH30: Pirmsk. Izgl. Iest. | AI30: 1.klase | AJ30: 2-8.; 10-11. klase | AK30: 9.klase | AL30: 12.klase | AM30: Kopā
A31: A | B31: 1 | C31: 2 | D31: 3 | E31: 4 | F31: 5 | G31: 6 | H31: 7 | I31: 8 | J31: 9 | K31: 10 | L31: 11 | M31: 12 | N31: 13 | O31: 14 | P31: 15 | Q31: 16 | R31: 17 | S31: 18 | T31: 19 | U31: 20 | V31: 21 | W31: 22 | X31: 23 | Y31: 24=SUM(12:23) | Z31: 25=6*11*12 | AA31: 26=6*11*13 | AB31: 27=6*11*14 | AC31: 28=7*11*15 | AD31: 29=8*11*16 | AE31: 30=9*11*17 | AF31: 31=10*11*18 | AG31: 32=27+28+29+30+31 | AH31: 33=6*11*19 | AI31: 34=7*11*20 | AJ31: 35=8*11*21 | AK31: 36=9*11*22 | AL31: 37=10*11*23 | AM31: 38=33+34+35+36+37 | AN31: 39=25+26+32+38
A32: janvāris | B32: 21 | C32: 21 | D32: 21 | E32: 21 | F32: 21 | G32: =B32*8 -> 168 | H32: =C32*8 -> 168 | I32: =D32*8 -> 168 | J32: =E32*8 -> 168 | K32: =F32*8 -> 168 | L32: 5.72 | M32: =$E$15 -> 3 | N32: =$E$16 -> 1 | O32: =$E$9 -> 289 | P32: =$E$10 -> 65 | Q32: =$E$11 -> 291 | R32: =$E$12 -> 46 | S32: =$E$13 -> 3 | T32: =$E$18 -> 32 | U32: =$E$19 -> 15 | V32: =$E$20 -> 42 | W32: =$E$21 -> 3 | X32: =$E$22 -> 3 | Y32: =SUM(M32:X32) -> 793 | Z32: =G32*L32*M32 -> 2882.88 | AA32: =G32*L32*N32 -> 960.96 | AB32: =G32*L32*O32 -> 277717.44 | AC32: =H32*L32*P32 -> 62462.4 | AD32: =I32*L32*Q32 -> 279639.36 | AE32: =J32*L32*R32 -> 44204.16 | AF32: =K32*L32*S32 -> 2882.88 | AG32: =SUM(AB32:AF32) -> 666906.24 | AH32: =G32*L32*T32 -> 30750.72 | AI32: =H32*L32*U32 -> 14414.4 | AJ32: =I32*L32*V32 -> 40360.32 | AK32: =J32*L32*W32 -> 2882.88 | AL32: =K32*L32*X32 -> 2882.88 | AM32: =SUM(AH32:AL32) -> 91291.2 | AN32: =Z32+AA32+AG32+AM32 -> 762041.28
A33: februāris | B33: 21 | C33: 16 | D33: 21 | E33: 21 | F33: 21 | G33: =B33*8 -> 168 | H33: =C33*8 -> 128 | I33: =D33*8 -> 168 | J33: =E33*8 -> 168 | K33: =F33*8 -> 168 | L33: 6.03 | M33: =$E$15 -> 3 | N33: =$E$16 -> 1 | O33: =O32 -> 289 | P33: =$E$10 -> 65 | Q33: =$E$11 -> 291 | R33: =$E$12 -> 46 | S33: =$E$13 -> 3 | T33: =$E$18 -> 32 | U33: =$E$19 -> 15 | V33: =$E$20 -> 42 | W33: =$E$21 -> 3 | X33: =$E$22 -> 3 | Y33: =SUM(M33:X33) -> 793 | Z33: =G33*L33*M33 -> 3039.12 | AA33: =G33*L33*N33 -> 1013.04 | AB33: =G33*L33*O33 -> 292768.56 | AC33: =H33*L33*P33 -> 50169.6 | AD33: =I33*L33*Q33 -> 294794.64 | AE33: =J33*L33*R33 -> 46599.84 | AF33: =K33*L33*S33 -> 3039.12 | AG33: =SUM(AB33:AF33) -> 687371.76 | AH33: =G33*L33*T33 -> 32417.28 | AI33: =H33*L33*U33 -> 11577.6 | AJ33: =I33*L33*V33 -> 42547.68 | AK33: =J33*L33*W33 -> 3039.12 | AL33: =K33*L33*X33 -> 3039.12 | AM33: =SUM(AH33:AL33) -> 92620.8 | AN33: =Z33+AA33+AG33+AM33 -> 784044.72
A34: marts | B34: 23 | C34: 18 | D34: 18 | E34: 18 | F34: 18 | G34: =(B34*8) -> 184 | H34: =(C34*8) -> 144 | I34: =(D34*8) -> 144 | J34: =(E34*8) -> 144 | K34: =(F34*8) -> 144 | L34: 5.72 | M34: =$E$15 -> 3 | N34: =$E$16 -> 1 | O34: =O33 -> 289 | P34: =$E$10 -> 65 | Q34: =$E$11 -> 291 | R34: =$E$12 -> 46 | S34: =$E$13 -> 3 | T34: =$E$18 -> 32 | U34: =$E$19 -> 15 | V34: =$E$20 -> 42 | W34: =$E$21 -> 3 | X34: =$E$22 -> 3 | Y34: =SUM(M34:X34) -> 793 | Z34: =G34*L34*M34 -> 3157.44 | AA34: =G34*L34*N34 -> 1052.48 | AB34: =G34*L34*O34 -> 304166.72 | AC34: =H34*L34*P34 -> 53539.2 | AD34: =I34*L34*Q34 -> 239690.88 | AE34: =J34*L34*R34 -> 37889.28 | AF34: =K34*L34*S34 -> 2471.04 | AG34: =SUM(AB34:AF34) -> 637757.12 | AH34: =G34*L34*T34 -> 33679.36 | AI34: =H34*L34*U34 -> 12355.2 | AJ34: =I34*L34*V34 -> 34594.56 | AK34: =J34*L34*W34 -> 2471.04 | AL34: =K34*L34*X34 -> 2471.04 | AM34: =SUM(AH34:AL34) -> 85571.2 | AN34: =Z34+AA34+AG34+AM34 -> 727538.24
A35: aprīlis | B35: 18 | C35: 18 | D35: 18 | E35: 18 | F35: 18 | G35: =(B35*8)-1 -> 143 | H35: =(C35*8)-1 -> 143 | I35: =(D35*8)-1 -> 143 | J35: =(E35*8)-1 -> 143 | K35: =(F35*8)-1 -> 143 | L35: 5.72 | M35: =$E$15 -> 3 | N35: =$E$16 -> 1 | O35: =O34 -> 289 | P35: =$E$10 -> 65 | Q35: =$E$11 -> 291 | R35: =$E$12 -> 46 | S35: =$E$13 -> 3 | T35: =$E$18 -> 32 | U35: =$E$19 -> 15 | V35: =$E$20 -> 42 | W35: =$E$21 -> 3 | X35: =$E$22 -> 3 | Y35: =SUM(M35:X35) -> 793 | Z35: =G35*L35*M35 -> 2453.88 | AA35: =G35*L35*N35 -> 817.96 | AB35: =G35*L35*O35 -> 236390.44 | AC35: =H35*L35*P35 -> 53167.4 | AD35: =I35*L35*Q35 -> 238026.36 | AE35: =J35*L35*R35 -> 37626.16 | AF35: =K35*L35*S35 -> 2453.88 | AG35: =SUM(AB35:AF35) -> 567664.24 | AH35: =G35*L35*T35 -> 26174.72 | AI35: =H35*L35*U35 -> 12269.4 | AJ35: =I35*L35*V35 -> 34354.32 | AK35: =J35*L35*W35 -> 2453.88 | AL35: =K35*L35*X35 -> 2453.88 | AM35: =SUM(AH35:AL35) -> 77706.2 | AN35: =Z35+AA35+AG35+AM35 -> 648642.28
A36: maijs | B36: 21 | C36: 21 | D36: 21 | E36: 21 | F36: 21 | G36: =(B36*8)-1 -> 167 | H36: =(C36*8)-1 -> 167 | I36: =(D36*8)-1 -> 167 | J36: =(E36*8)-1 -> 167 | K36: =(F36*8)-1 -> 167 | L36: 5.74 | M36: =$E$15 -> 3 | N36: =$E$16 -> 1 | O36: =O35 -> 289 | P36: =$E$10 -> 65 | Q36: =$E$11 -> 291 | R36: =$E$12 -> 46 | S36: =$E$13 -> 3 | T36: =$E$18 -> 32 | U36: =$E$19 -> 15 | V36: =$E$20 -> 42 | W36: =$E$21 -> 3 | X36: =$E$22 -> 3 | Y36: =SUM(M36:X36) -> 793 | Z36: =G36*L36*M36 -> 2875.74 | AA36: =G36*L36*N36 -> 958.58 | AB36: =G36*L36*O36 -> 277029.62 | AC36: =H36*L36*P36 -> 62307.7 | AD36: =I36*L36*Q36 -> 278946.78 | AE36: =J36*L36*R36 -> 44094.68 | AF36: =K36*L36*S36 -> 2875.74 | AG36: =SUM(AB36:AF36) -> 665254.52 | AH36: =G36*L36*T36 -> 30674.56 | AI36: =H36*L36*U36 -> 14378.7 | AJ36: =I36*L36*V36 -> 40260.36 | AK36: =J36*L36*W36 -> 2875.74 | AL36: =K36*L36*X36 -> 2875.74 | AM36: =SUM(AH36:AL36) -> 91065.1 | AN36: =Z36+AA36+AG36+AM36 -> 760153.94
A37: jūnijs | B37: 21 | E37: 12 | F37: 16 | G37: =(B37*8)-1 -> 167 | H37: =C37*8 -> 0 | I37: =D37*8 -> 0 | J37: =E37*8 -> 96 | K37: =(F37*8)-1 -> 127 | L37: 5.72 | M37: =$E$15 -> 3 | N37: =$E$16 -> 1 | O37: =O36 -> 289 | P37: =$E$10 -> 65 | Q37: =$E$11 -> 291 | R37: =$E$12 -> 46 | S37: =$E$13 -> 3 | T37: =$E$18 -> 32 | U37: =$E$19 -> 15 | V37: =$E$20 -> 42 | W37: =$E$21 -> 3 | X37: =$E$22 -> 3 | Y37: =SUM(M37:X37) -> 793 | Z37: =G37*L37*M37 -> 2865.72 | AA37: =G37*L37*N37 -> 955.24 | AB37: =G37*L37*O37 -> 276064.36 | AC37: =H37*L37*P37 -> 0 | AD37: =I37*L37*Q37 -> 0 | AE37: =J37*L37*R37 -> 25259.52 | AF37: =K37*L37*S37 -> 2179.32 | AG37: =SUM(AB37:AF37) -> 303503.2 | AH37: =G37*L37*T37 -> 30567.68 | AI37: =H37*L37*U37 -> 0 | AJ37: =I37*L37*V37 -> 0 | AK37: =J37*L37*W37 -> 1647.36 | AL37: =K37*L37*X37 -> 2179.32 | AM37: =SUM(AH37:AL37) -> 34394.36 | AN37: =Z37+AA37+AG37+AM37 -> 341718.52
A38: jūlijs | B38: 21 | G38: =B38*8 -> 168 | H38: =C38*8 -> 0 | I38: =D38*8 -> 0 | J38: =E38*8 -> 0 | K38: =F38*8 -> 0 | L38: 5.72 | M38: =$E$15 -> 3 | N38: =$E$16 -> 1 | O38: =O37 -> 289 | P38: =$E$10 -> 65 | Q38: =$E$11 -> 291 | R38: =$E$12 -> 46 | S38: =$E$13 -> 3 | T38: =$E$18 -> 32 | U38: =$E$19 -> 15 | V38: =$E$20 -> 42 | W38: =$E$21 -> 3 | X38: =$E$22 -> 3 | Y38: =SUM(M38:X38) -> 793 | Z38: =G38*L38*M38 -> 2882.88 | AA38: =G38*L38*N38 -> 960.96 | AB38: =G38*L38*O38 -> 277717.44 | AC38: =H38*L38*P38 -> 0 | AD38: =I38*L38*Q38 -> 0 | AE38: =J38*L38*R38 -> 0 | AF38: =K38*L38*S38 -> 0 | AG38: =SUM(AB38:AF38) -> 277717.44 | AH38: =G38*L38*T38 -> 30750.72 | AI38: =H38*L38*U38 -> 0 | AJ38: =I38*L38*V38 -> 0 | AK38: =J38*L38*W38 -> 0 | AL38: =K38*L38*X38 -> 0 | AM38: =SUM(AH38:AL38) -> 30750.72 | AN38: =Z38+AA38+AG38+AM38 -> 312312
A39: augusts | B39: 23 | G39: =B39*8 -> 184 | H39: =C39*8 -> 0 | I39: =D39*8 -> 0 | J39: =E39*8 -> 0 | K39: =F39*8 -> 0 | L39: 5.74 | M39: =$E$15 -> 3 | N39: =$E$16 -> 1 | O39: =O38 -> 289 | P39: =$E$10 -> 65 | Q39: =$E$11 -> 291 | R39: =$E$12 -> 46 | S39: =$E$13 -> 3 | T39: =$E$18 -> 32 | U39: =$E$19 -> 15 | V39: =$E$20 -> 42 | W39: =$E$21 -> 3 | X39: =$E$22 -> 3 | Y39: =SUM(M39:X39) -> 793 | Z39: =G39*L39*M39 -> 3168.48 | AA39: =G39*L39*N39 -> 1056.16 | AB39: =G39*L39*O39 -> 305230.24 | AC39: =H39*L39*P39 -> 0 | AD39: =I39*L39*Q39 -> 0 | AE39: =J39*L39*R39 -> 0 | AF39: =K39*L39*S39 -> 0 | AG39: =SUM(AB39:AF39) -> 305230.24 | AH39: =G39*L39*T39 -> 33797.12 | AI39: =H39*L39*U39 -> 0 | AJ39: =I39*L39*V39 -> 0 | AK39: =J39*L39*W39 -> 0 | AL39: =K39*L39*X39 -> 0 | AM39: =SUM(AH39:AL39) -> 33797.12 | AN39: =Z39+AA39+AG39+AM39 -> 343252
B40: =SUM(B32:B39) -> 169 | C40: =SUM(C32:C39) -> 94 | D40: =SUM(D32:D39) -> 99 | E40: =SUM(E32:E39) -> 111 | F40: =SUM(F32:F39) -> 115 | G40: =SUM(G32:G39) -> 1349 | H40: =SUM(H32:H39) -> 750 | I40: =SUM(I32:I39) -> 790 | ... K40: =SUM(K32:K39) -> 917 | Z40: =SUM(Z32:Z39) -> 23326.14 | AA40: =SUM(AA32:AA39) -> 7775.38 | AB40: =SUM(AB32:AB39) -> 2247084.8 | AC40: =SUM(AC32:AC39) -> 281646.3 | AD40: =SUM(AD32:AD39) -> 1331098 | AE40: =SUM(AE32:AE39) -> 235673.64 | AF40: =SUM(AF32:AF39) -> 15901.98 | AG40: =SUM(AG32:AG39) -> 4111404.8 | ... AN40: =SUM(AN32:AN39) -> 4679703
A42: septembris | B42: 21 | C42: 21 | D42: 21 | E42: 21 | F42: 21 | G42: =B42*8 -> 168 | H42: =C42*8 -> 168 | I42: =D42*8 -> 168 | J42: =E42*8 -> 168 | K42: =F42*8 -> 168 | L42: 5.72 | M42: =$E$15 -> 3 | N42: =$E$16 -> 1 | O42: =$E$9 -> 289 | P42: =$E$10 -> 65 | Q42: =$E$11 -> 291 | R42: =$E$12 -> 46 | S42: =$E$13 -> 3 | T42: =$E$18 -> 32 | U42: =$E$19 -> 15 | V42: =$E$20 -> 42 | W42: =$E$21 -> 3 | X42: =$E$22 -> 3 | Y42: =SUM(M42:X42) -> 793 | Z42: =G42*L42*M42 -> 2882.88 | AA42: =G42*L42*N42 -> 960.96 | AB42: =G42*L42*O42 -> 277717.44 | AC42: =H42*L42*P42 -> 62462.4 | AD42: =I42*L42*Q42 -> 279639.36 | AE42: =J42*L42*R42 -> 44204.16 | AF42: =K42*L42*S42 -> 2882.88 | AG42: =SUM(AB42:AF42) -> 666906.24 | AH42: =G42*L42*T42 -> 30750.72 | AI42: =H42*L42*U42 -> 14414.4 | AJ42: =I42*L42*V42 -> 40360.32 | AK42: =J42*L42*W42 -> 2882.88 | AL42: =K42*L42*X42 -> 2882.88 | AM42: =SUM(AH42:AL42) -> 91291.2 | AN42: =Z42+AA42+AG42+AM42 -> 762041.28
A43: oktobris | B43: 22 | C43: 17 | D43: 17 | E43: 17 | F43: 17 | G43: =B43*8 -> 176 | H43: =C43*8 -> 136 | I43: =D43*8 -> 136 | J43: =E43*8 -> 136 | K43: =F43*8 -> 136 | L43: 5.72 | M43: =$E$15 -> 3 | N43: =$E$16 -> 1 | O43: =$E$9 -> 289 | P43: =$E$10 -> 65 | Q43: =$E$11 -> 291 | R43: =$E$12 -> 46 | S43: =$E$13 -> 3 | T43: =$E$18 -> 32 | U43: =$E$19 -> 15 | V43: =$E$20 -> 42 | W43: =$E$21 -> 3 | X43: =$E$22 -> 3 | Y43: =SUM(M43:X43) -> 793 | Z43: =G43*L43*M43 -> 3020.16 | AA43: =G43*L43*N43 -> 1006.72 | AB43: =G43*L43*O43 -> 290942.08 | AC43: =H43*L43*P43 -> 50564.8 | AD43: =I43*L43*Q43 -> 226374.72 | AE43: =J43*L43*R43 -> 35784.32 | AF43: =K43*L43*S43 -> 2333.76 | AG43: =SUM(AB43:AF43) -> 605999.68 | AH43: =G43*L43*T43 -> 32215.04 | AI43: =H43*L43*U43 -> 11668.8 | AJ43: =I43*L43*V43 -> 32672.64 | AK43: =J43*L43*W43 -> 2333.76 | AL43: =K43*L43*X43 -> 2333.76 | AM43: =SUM(AH43:AL43) -> 81224 | AN43: =Z43+AA43+AG43+AM43 -> 691250.56
A44: novembris | B44: 21 | C44: 21 | D44: 21 | E44: 21 | F44: 21 | G44: =(B44*8)-1 -> 167 | H44: =(C44*8)-1 -> 167 | I44: =(D44*8)-1 -> 167 | J44: =(E44*8)-1 -> 167 | K44: =(F44*8)-1 -> 167 | L44: 5.74 | M44: =$E$15 -> 3 | N44: =$E$16 -> 1 | O44: =$E$9 -> 289 | P44: =$E$10 -> 65 | Q44: =$E$11 -> 291 | R44: =$E$12 -> 46 | S44: =$E$13 -> 3 | T44: =$E$18 -> 32 | U44: =$E$19 -> 15 | V44: =$E$20 -> 42 | W44: =$E$21 -> 3 | X44: =$E$22 -> 3 | Y44: =SUM(M44:X44) -> 793 | Z44: =G44*L44*M44 -> 2875.74 | AA44: =G44*L44*N44 -> 958.58 | AB44: =G44*L44*O44 -> 277029.62 | AC44: =H44*L44*P44 -> 62307.7 | AD44: =I44*L44*Q44 -> 278946.78 | AE44: =J44*L44*R44 -> 44094.68 | AF44: =K44*L44*S44 -> 2875.74 | AG44: =SUM(AB44:AF44) -> 665254.52 | AH44: =G44*L44*T44 -> 30674.56 | AI44: =H44*L44*U44 -> 14378.7 | AJ44: =I44*L44*V44 -> 40260.36 | AK44: =J44*L44*W44 -> 2875.74 | AL44: =K44*L44*X44 -> 2875.74 | AM44: =SUM(AH44:AL44) -> 91065.1 | AN44: =Z44+AA44+AG44+AM44 -> 760153.94
A45: decembris | B45: 19 | C45: 16 | D45: 16 | E45: 16 | F45: 16 | G45: =(B45*8) -> 152 | H45: =C45*8 -> 128 | I45: =D45*8 -> 128 | J45: =E45*8 -> 128 | K45: =F45*8 -> 128 | L45: 5.72 | M45: =$E$15 -> 3 | N45: =$E$16 -> 1 | O45: =$E$9 -> 289 | P45: =$E$10 -> 65 | Q45: =$E$11 -> 291 | R45: =$E$12 -> 46 | S45: =$E$13 -> 3 | T45: =$E$18 -> 32 | U45: =$E$19 -> 15 | V45: =$E$20 -> 42 | W45: =$E$21 -> 3 | X45: =$E$22 -> 3 | Y45: =SUM(M45:X45) -> 793 | Z45: =G45*L45*M45 -> 2608.32 | AA45: =G45*L45*N45 -> 869.44 | AB45: =G45*L45*O45 -> 251268.16 | AC45: =H45*L45*P45 -> 47590.4 | AD45: =I45*L45*Q45 -> 213058.56 | AE45: =J45*L45*R45 -> 33679.36 | AF45: =K45*L45*S45 -> 2196.48 | AG45: =SUM(AB45:AF45) -> 547792.96 | AH45: =G45*L45*T45 -> 27822.08 | AI45: =H45*L45*U45 -> 10982.4 | AJ45: =I45*L45*V45 -> 30750.72 | AK45: =J45*L45*W45 -> 2196.48 | AL45: =K45*L45*X45 -> 2196.48 | AM45: =SUM(AH45:AL45) -> 73948.16 | AN45: =Z45+AA45+AG45+AM45 -> 625218.88
B46: =SUM(B42:B45) -> 83 | C46: =SUM(C42:C45) -> 75 | D46: =SUM(D42:D45) -> 75 | E46: =SUM(E42:E45) -> 75 | F46: =SUM(F42:F45) -> 75 | G46: =SUM(G42:G45) -> 663 | H46: =SUM(H42:H45) -> 599 | I46: =SUM(I42:I45) -> 599 | ... K46: =SUM(K42:K45) -> 599 | Z46: =SUM(Z42:Z45) -> 11387.1 | AA46: =SUM(AA42:AA45) -> 3795.7 | AB46: =SUM(AB42:AB45) -> 1096957.3 | AC46: =SUM(AC42:AC45) -> 222925.3 | AD46: =SUM(AD42:AD45) -> 998019.42 | AE46: =SUM(AE42:AE45) -> 157762.52 | AF46: =SUM(AF42:AF45) -> 10288.86 | AG46: =SUM(AG42:AG45) -> 2485953.4 | ... AN46: =SUM(AN42:AN45) -> 2838664.7
A48: KOPĀ | B48: =B40+B46 -> 252 | C48: =C40+C46 -> 169 | D48: =D40+D46 -> 174 | E48: =E40+E46 -> 186 | F48: =F40+F46 -> 190 | G48: =G40+G46 -> 2012 | H48: =H40+H46 -> 1349 | I48: =I40+I46 -> 1389 | ... K48: =K40+K46 -> 1516 | Z48: =Z40+Z46 -> 34713.24 | AA48: =AA40+AA46 -> 11571.08 | AB48: =AB40+AB46 -> 3344042.1 | AC48: =AC40+AC46 -> 504571.6 | AD48: =AD40+AD46 -> 2329117.4 | AE48: =AE40+AE46 -> 393436.16 | AF48: =AF40+AF46 -> 26190.84 | AG48: =AG40+AG46 -> 6597358.2 | ... AN48: =AN40+AN46 -> 7518367.6
...

Sheet 2029 budžeta aprēķins
A1: Asistenta pakalpojuma izdevumu aprēķins par 2029.gadu
A2: Programma- 12.00.00 “Finansējums asistenta pakalpojuma nodrošināšanai personai ar invaliditāti pārvietošanas atbalstam un pašaprūpes veikšanai”
A4: Izglītojamo skaita aprēķins
A6: EKK | B6: Izglītības pakāpe | C6: Planotais izglītojamo skaits 2028.gadā | D6: 7,69 % pieaugums | E6: KOPĀ
A7: A | B7: B | C7: 1 | D7: 2=1*7,69% | E7: 3
A8: Pašvaldības
A9: 7460 | B9: Pirmsk. izgl.iest.* | C9: ='2028 budžeta aprēķins'!E9 -> 289 | D9: 21 | E9: =C9+D9 -> 310 | F9: =SUM(E9:E13) -> 747
B10: 1.klase | C10: ='2028 budžeta aprēķins'!E10 -> 65 | D10: 5 | E10: =C10+D10 -> 70
B11: 2.-8.; 10.-11. | C11: ='2028 budžeta aprēķins'!E11 -> 291 | D11: 22 | E11: =C11+D11 -> 313
B12: 9.klase | C12: ='2028 budžeta aprēķins'!E12 -> 46 | D12: 4 | E12: =C12+D12 -> 50
B13: 12.klase | C13: ='2028 budžeta aprēķins'!E13 -> 3 | D13: 1 | E13: =C13+D13 -> 4
A14: Profesionālās izglītības iestādes
A15: 1000 | B15: Prof.sk | C15: ='2028 budžeta aprēķins'!E15 -> 3 | E15: =C15+D15 -> 3 | F15: =E15+E16 -> 4
A16: 7471 | B16: Prof.sk | C16: ='2028 budžeta aprēķins'!E16 -> 1 | E16: =C16+D16 -> 1
A17: Priv sk.
A18: 3000 | B18: Pirmsk. izgl.iest. | C18: ='2028 budžeta aprēķins'!E18 -> 32 | D18: 3 | E18: =C18+D18 -> 35 | F18: =SUM(E18:E22) -> 103
B19: 1.klase | C19: ='2028 budžeta aprēķins'!E19 -> 15 | D19: 1 | E19: =C19+D19 -> 16
B20: 2.-8.; 10.-11. | C20: ='2028 budžeta aprēķins'!E20 -> 42 | D20: 3 | E20: =C20+D20 -> 45
B21: 9.klase | C21: ='2028 budžeta aprēķins'!E21 -> 3 | E21: =C21+D21 -> 3
B22: 12.klase | C22: ='2028 budžeta aprēķins'!E22 -> 3 | D22: 1 | E22: =C22+D22 -> 4
C23: =SUM(C9:C22) -> 793 | D23: =SUM(D9:D22) -> 61 | E23: =SUM(E9:E22) -> 854 | F23: =F9+F15+F18 -> 854
A25: Izglītojamo skaita pieauguma 7,69% apmēra pieaugumā | D25: =C23*0.0769 -> 60.98
A28: Mēnesis | B28: Darba dienu un mācību dienu skaits 2029.gada menešos | G28: Cilvēkstundu skaits mēnesī | L28: MK noteikumos 2029.gadā plānotā valsts nodrošinātā atlīdzība par vienu asistenta pakalpojuma stundu | M28: Izglītojamo skaits Prof izgl. iestādēs (EKK-1000) | N28: Izglītojamo skaits Prof izgl. iestādēs (EKK-7471) | O28: Izglītojamo skaits pašvaldībās (EKK-7460) | T28: Izglītojamo skaits privātajās izglītības iestādēs (EKK-3000) | Y28: KOPĀ | Z28: Finansējuma aprēķins Prof izgl. iestādēs (EKK-1000) | AA28: Finansējuma aprēķins Prof izgl. iestādēs (EKK-7471) | AB28: Finansējuma aprēķins pašvaldībās (EKK-7460) | AH28: Finansējuma aprēķins privātajās izglītības iestādēs (EKK-3000) | AN28: KOPĀ
B29: Pirmsk. Izgl. Iest., prof.sk. | C29: 1.klase | D29: 2-8.; 10-11. klase | E29: 9.klase | F29: 12.klase | G29: Pirmsk. Izgl. Iest., prof.sk. | H29: 1.klase | I29: 2-8.; 10-11. klase | J29: 9.klase | K29: 12.klase | O29: Pirmsk. Izgl. Iest. | P29: 1.klase | Q29: 2-8.; 10-11. klase | R29: 9.klase | S29: 12.klase | T29: Pirmsk. Izgl. Iest. | U29: 1.klase | V29: 2-8.; 10-11. klase | W29: 9.klase | X29: 12.klase | AB29: Pirmsk. Izgl. Iest. | AC29: 1.klase | AD29: 2-8.; 10-11. klase | AE29: 9.klase | AF29: 12.klase | AG29: Kopā | AH29: Pirmsk. Izgl. Iest. | AI29: 1.klase | AJ29: 2-8.; 10-11. klase | AK29: 9.klase | AL29: 12.klase | AM29: Kopā
A30: A | B30: 1 | C30: 2 | D30: 3 | E30: 4 | F30: 5 | G30: 6 | H30: 7 | I30: 8 | J30: 9 | K30: 10 | L30: 11 | M30: 12 | N30: 13 | O30: 14 | P30: 15 | Q30: 16 | R30: 17 | S30: 18 | T30: 19 | U30: 20 | V30: 21 | W30: 22 | X30: 23 | Y30: 24=SUM(12:23) | Z30: 25=6*11*12 | AA30: 26=6*11*13 | AB30: 27=6*11*14 | AC30: 28=7*11*15 | AD30: 29=8*11*16 | AE30: 30=9*11*17 | AF30: 31=10*11*18 | AG30: 32=27+28+29+30+31 | AH30: 33=6*11*19 | AI30: 34=7*11*20 | AJ30: 35=8*11*21 | AK30: 36=9*11*22 | AL30: 37=10*11*23 | AM30: 38=33+34+35+36+37 | AN30: 39=25+26+32+38
A31: janvāris | B31: 22 | C31: 22 | D31: 22 | E31: 22 | F31: 22 | G31: =B31*8 -> 176 | H31: =C31*8 -> 176 | I31: =D31*8 -> 176 | J31: =E31*8 -> 176 | K31: =F31*8 -> 176 | L31: ='2026 budžeta aprēķins'!P32 -> 5.72 | M31: =$E$15 -> 3 | N31: =$E$16 -> 1 | O31: =$E$9 -> 310 | P31: =$E$10 -> 70 | Q31: =$E$11 -> 313 | R31: =$E$12 -> 50 | S31: =$E$13 -> 4 | T31: =$E$18 -> 35 | U31: =$E$19 -> 16 | V31: =$E$20 -> 45 | W31: =$E$21 -> 3 | X31: =$E$22 -> 4 | Y31: =SUM(M31:X31) -> 854 | Z31: =G31*L31*M31 -> 3020.16 | AA31: =G31*L31*N31 -> 1006.72 | AB31: =G31*L31*O31 -> 312083.2 | AC31: =H31*L31*P31 -> 70470.4 | AD31: =I31*L31*Q31 -> 315103.36 | AE31: =J31*L31*R31 -> 50336 | AF31: =K31*L31*S31 -> 4026.88 | AG31: =SUM(AB31:AF31) -> 752019.84 | AH31: =G31*L31*T31 -> 35235.2 | AI31: =H31*L31*U31 -> 16107.52 | AJ31: =I31*L31*V31 -> 45302.4 | AK31: =J31*L31*W31 -> 3020.16 | AL31: =K31*L31*X31 -> 4026.88 | AM31: =SUM(AH31:AL31) -> 103692.16 | AN31: =Z31+AA31+AG31+AM31 -> 859738.88
