Workbook

Sheet VP sept
D1: 2.pielikums
D2: Ministru kabineta rīkojuma projekta “Par apropriācijas pārdali no budžeta resora
D3: “74. Gadskārtējā valsts budžeta izpildes procesā pārdalāmais finansējums”
D4: programmas 22.00.00 “Valsts ārējās robežas drošības pasākumu nodrošināšana””
D5: sākotnējās ietekmes novērtējuma ziņojumam (anotācijai)
A7: Valsts policijas izdevumi
A8: Kopasavilkums
A10: Kods | B10: Koda nosaukums | C10: Detalizēts izdevumu aprēķins | D10: Izdevumi, euro
A11: Izdevumi kopā ar vidējās izpeļņas pieauguma kompensēšanu | D11: =D12+D15+D16 -> 117330
A12: 1000 | B12: Atlīdzība | C12: × | D12: =D19+D40 -> 48359
A13: 1100 | B13: Atalgojums | C13: × | D13: =D41+D20 -> 39128.1
A14: 1210 | B14: Darba devēja valsts sociālās apdrošināšanas obligātās iemaksas | C14: × | D14: =ROUNDUP(D43+D25,0) -> 9231
A15: 2000 | B15: Preces un pakalpojumi | C15: × | D15: =D26 -> 40365
A16: 5000 | B16: Pamatkapitāla veidošana | D16: =D36 -> 28606
A18: 1) Izdevumi saistībā ar 12.03.2024 MK rīkojuma Nr. 184 un 10.09.2024 MK rīkojuma Nr. 744 izpildei nepieciešamo pasākumu īstenošanu | D18: =D19+D26+D36 -> 113611
A19: 1000 | B19: Atlīdzība | C19: × | D19: =ROUNDUP(D20+D25,0) -> 44640
A20: 1100 | B20: Atalgojums | C20: × | D20: =SUM(D21:D24) -> 36119.1
A21: 1141 | B21: Piemaksa par nakts darbu | C21: Detalizēts aprēķins par laika periodu no 2024. gada 01. septembra līdz 30. septembrim 1.tabulā. Iesaistītas 226 personas, kopējais iesaistes laiks 3 320 stundas. | D21: ='1.tabula'!G6 -> 16291.45
A22: 1142 | B22: Samaksa par virsstundu darbu un darbu svētku dienās | C22: Piemaksa par virsstundu darbu Detalizēts aprēķins par laika periodu no 2024. gada 01. septembra līdz 30. septembrim 2.tabulā. Iesaistīta 1 persona, kopējais iesaistes laiks 67 stundas. Aprēķins veikts, jo ar amatpersonu 2024. gada septembrī izbeigtas dienesta attiecības. | D22: =' 2.tabula'!G6 -> 1269.25
A23: 1145 | B23: Piemaksa par darbu īpašos apstākļos, speciālās piemaksas | C23: Detalizēts aprēķins par laika periodu no 2024. gada 01. septembra līdz 30. septembrim 3.tabulā. Iesaistītas 396 personas, kopējais iesaistes laiks 9 952,50 stundas. | D23: ='3.tabula'!H7 -> 18558.4
A24: 1146 | B24: Piemaksa par personisko darba ieguldījumu un darba kvalitāti
A25: 1210 | B25: Darba devēja valsts sociālās apdrošināšanas obligātās iemaksas | C25: 23,59% no aprēķinātā atalgojuma | D25: ='1.tabula'!H6+' 2.tabula'!H6+'3.tabula'!I7 -> 8520.65
A26: 2000 | B26: Preces un pakalpojumi | C26: × | D26: =ROUNDUP((SUM(D27:D34)),0) -> 40365
A27: 2111 | B27: Dienas nauda | C27: Detalizēts aprēķins 4. tabulā. Dienas nauda par periodu no 2024.gada 29. augusta līdz 09. septembrim ir izmaksāta 13 personām. Valsts policijas pavēles Nr.4691 no 26.08.2024; Nr.5339 no 20.09.2024. "Par komandējumiem uz Daugavpili un Dagdu (Latvijā)" dienas nauda: 100% (8,00 euro) pirmā un pēdējā diena, 30% (2,40 euro) pārējās dienas *Valsts policija iekšzemes komandējumiem nemaksā dienas naudu avansā, bet gan izmaksā tad, kad no komandējuma amatpersonas ir atgriezušās. Komandējuma laika ietvars saskaņā ar Valsts policijas pavēli par komandējumu ir tāds, ka uz mēnesi tiek sūtīta komandējumā viena amatpersonu grupa, pēc tam – uz mēnesi tika nosūtīta cita amatpersonu grupa. | D27: ='4.tabula'!G6 -> 505.6
A28: 2112 | B28: Pārējie komandējumu un darba braucienu izdevumi | C28: Dienesta viesnīcas pakalpojumi Naktsmītnes izdevumi Daugavpilī: 7 nakts x 10 gultasvietas x 15,00 euro = 1 050,00 euro; 3 nakts x 12 gultasvietas × 15,00 euro = 540,00 euro. Aprēķins veikts par dienesta viesnīcas pakalpojumiem (naktsmītni), kas tika nodrošināti no 2024.gada 1. augusta līdz 31. augustam, izdevumi pakalpojuma sniedzējam tika apmaksāti 2024.gada septembrī. | D28: =ROUND(7*10*15+3*12*15,0) -> 1590
A29: 2271 | B29: Izdevumi, kas saistīti ar operatīvo darbību | C29: Izdevumi, kas saistīti ar operatīvo darbību _____________________
A30: 2312 | B30: Inventārs
A31: 2322 | B31: Degviela | C31: Detalizēts aprēķins par laika periodu no 2024. gada 01. septembra līdz 30. septembrim 5.tabulā. Pasākuma nodrošināšanai tika iesaistīti 62 transportlīdzekļi; Vidēji viena transportlīdzekļa nobraukums 1 112,52 km; Vidējā degvielas cena 1,3464 euro/l; Vidējais degvielas patēriņš 7,251 l/km uz 100 km. 62 t-ldz. x 1 112,52 km x 1,3464 euro/l x 7,251 l/km ÷ 100 km = 6 733,98 euro | D31: ='5.tabula'!F6 -> 6733.98
A32: 2350 | B32: Kārtējā remonta un iestāžu uzturēšanas materiāli
A33: 2363 | B33: Ēdināšanas izdevumi | C33: Aprēķins veikts par ēdināšanas pakalpojumiem, kas tika nodrošināti 2024.gada 1. augusta līdz 31. augustam, izdevumi pakalpojuma sniedzējam tika apmaksāti 2024.gada septembrī. Ēdināšanas pakalpojumi Daugavpilī: brokastis 72 porcijas × 8,00 euro = 576,00 euro; pusdienas 73 porcijas × 9,00 euro = 657,00 euro; vakariņas 73 porcijas × 10,00 euro = 730,00 euro; launags (sausā uztura paka) 33 pakas × 27,00 euro = 891,00 euro. Saskaņā ar līgumu par izmitināšanu un ēdināšanu Daugavpilī ir noteikts, ka ēdināšana 3 reizes dienā nedrīkst pārsniegt 27,00 euro: Ēdināšanas izmaksas sastāda: Brokastis 8 euro /1 pers Pusdienas 9 euro /1 pers Vakariņas 10 euro /1 pers Amatpersonām, kuras ir maiņā uz robežas un tām nav iespējams atgriezties uz pusdienām un vakariņām, tad, lai nodrošinātu ēdināšanu amatpersonām dod līdzi pārtikas pakas: sausie produkti uz 24 stundām - 27 euro /1 pers. sausie produkti (vakariņaas un brokastis) - 18 euro /1 pers. Pārtikas pakas tiek dotas arī Latgales reģiona pārvaldes amatpersonām, kuras arī tiek norīkotas uz robežu, augstākminēto iemeslu dēļ, komandējama izdevumi un dienas nauda viņām nav. Papildus jāatzīmē, ka dienas nauda dienās, kad nodrošināta 3 reižu ēdināšana sastāda 30% no Ministru kabineta noteikumos par komandējumu paredzētā limita. | D33: =ROUND(72*8+73*9+73*10+33*27,0) -> 2854
A34: 2364 | B34: Speciālais apģērbs amatpersonām ar speciālajām dienesta pakāpēm | C34: Pamatojoties uz 12.03.2024 MK Rīkojumu Nr.184 (anotācija 24-TA-589), pasākuma izpildei tika iegādāta kamuflāža: Taktiskie zābaki 150 pāri x 161,2083 euro = 24 181,25 euro; Takstiskas ziemas cepures 150 gab. x 29,997 euro = 4 499,55 euro. | D34: =ROUND(150*161.2083+150*29.997,2) -> 28680.8
A35: 2390 | B35: Pārējās preces
A36: 5000 | B36: Pamatkapitāla veidošana | D36: =ROUNDUP(SUM(D37),0) -> 28606
A37: 5239 | B37: Pārējie iepriekš neklasificētie pamatlīdzekļi un ieguldījuma īpašumi | C37: Pamatojoties uz 10.09.2024 MK Rīkojumu Nr.744 (anotācija 24-TA-2020) iegādātas: Termālās kameras (binokļi) SUB vajadzībām 7 gab. x 4 086,497 euro = 28 605,48 euro. | D37: =ROUND(7*4086.497,2) -> 28605.48
A39: 2) Vidējās izpeļņas pieauguma kompensēšanai | D39: =D40 -> 3719
A40: 1000 | B40: Atlīdzība | C40: × | D40: =ROUND(D41+D43,0) -> 3719
A41: 1100 | B41: Atalgojums | C41: × | D41: =ROUND(D42,0) -> 3009
A42: 1116 | B42: Mēnešalga amatpersonām ar speciālajām dienesta pakāpēm | C42: 36 119,10 euro × 8,33% = 3 008,72 euro. | D42: =ROUND(D20*8.33%,2) -> 3008.72
A43: 1210 | B43: Darba devēja valsts sociālās apdrošināšanas obligātās iemaksas | C43: 23,59% no aprēķinātā atalgojuma | D43: =ROUNDUP(D42*0.2359,2) -> 709.76

Sheet 1.tabula
I1: 1.tabula
A2: Valsts policija
A3: Piemaksa par nakts darbu amatpersonām ar speciālajām dienesta pakāpēm, kuras laika periodā no 2024.gada 01. septembra līdz 30. septembrim tika iesaistītas atbalsta sniegšanā Valsts robežsardzei Latvijas Republikas-Baltkrievijas Republikas valsts robežas robežuzraudzības nodrošināšanā
E4: 166.92
A5: Nr. p.k. | B5: Struktūrvienība | C5: Amats | D5: Mēnešalga amatpersonām ar speciālajām pakāpēm | E5: Stundas likme | F5: Stundu skaits | G5: Piemaksa par nakts darbu | H5: DD VSAOI | I5: Atlīdzība
A6: kopā | F6: =SUM(F7:F232) -> 3320 | G6: =SUM(G7:G232) -> 16291.45 | H6: =SUM(H7:H232) -> 3843.2 | I6: =SUM(I7:I232) -> 20134.65
A7: 1 | B7: VP LATGALES RP ZIEMEĻLATGALES IECIRKNIS | C7: iecirkņa priekšnieka vietnieks, Reaģēšanas nodaļas priekšnieks | D7: 2305 | E7: =ROUND(D7/$E$4,3) -> 13.809 | F7: 8 | G7: 55.24 | H7: =ROUND(G7*0.2359,2) -> 13.03 | I7: =G7+H7 -> 68.27
A8: =A7+1 -> 2 | B8: VP LATGALES RP ZIEMEĻLATGALES IECIRKŅA IZMEKLĒŠANAS NODAĻAS 2.GRUPA | C8: inspektors | D8: 1553 | E8: =ROUND(D8/$E$4,3) -> 9.304 | F8: 16 | G8: 74.43 | H8: =ROUND(G8*0.2359,2) -> 17.56 | I8: =G8+H8 -> 91.99
A9: =A8+1 -> 3 | B9: VP LATGALES RP DIENVIDLATGALES IECIRKŅA REAĢĒŠANAS NODAĻAS 3.GRUPA | C9: vecākais inspektors | D9: 1495 | E9: =ROUND(D9/$E$4,3) -> 8.956 | F9: 16 | G9: 71.65 | H9: =ROUND(G9*0.2359,2) -> 16.9 | I9: =G9+H9 -> 88.55
A10: =A9+1 -> 4 | B10: VP LATGALES RP DIENVIDLATGALES IECIRKŅA REAĢĒŠANAS NODAĻAS 7.GRUPA | C10: inspektors | D10: 1425 | E10: =ROUND(D10/$E$4,3) -> 8.537 | F10: 18 | G10: 76.83 | H10: =ROUND(G10*0.2359,2) -> 18.12 | I10: =G10+H10 -> 94.95
A11: =A10+1 -> 5 | B11: VP LATGALES RP DIENVIDLATGALES IECIRKŅA REAĢĒŠANAS NODAĻAS 7.GRUPA | C11: jaunākais inspektors | D11: 1242 | E11: =ROUND(D11/$E$4,3) -> 7.441 | F11: 8 | G11: 29.76 | H11: =ROUND(G11*0.2359,2) -> 7.02 | I11: =G11+H11 -> 36.78
A12: =A11+1 -> 6 | B12: VP LATGALES RP DIENVIDLATGALES IECIRKŅA REAĢĒŠANAS NODAĻAS 1.GRUPA | C12: inspektors | D12: 1425 | E12: =ROUND(D12/$E$4,3) -> 8.537 | F12: 8 | G12: 34.15 | H12: =ROUND(G12*0.2359,2) -> 8.06 | I12: =G12+H12 -> 42.21
A13: =A12+1 -> 7 | B13: VP LATGALES RP ZIEMEĻLATGALES IECIRKŅA PREVENCIJAS GRUPA | C13: vecākais inspektors | D13: 1523 | E13: =ROUND(D13/$E$4,3) -> 9.124 | F13: 8 | G13: 36.5 | H13: =ROUND(G13*0.2359,2) -> 8.61 | I13: =G13+H13 -> 45.11
A14: =A13+1 -> 8 | B14: VP LATGALES RP KĀRTPB ATĻAUJU SISTĒMAS GRUPA | C14: inspektors | D14: 1340 | E14: =ROUND(D14/$E$4,3) -> 8.028 | F14: 8 | G14: 32.11 | H14: =ROUND(G14*0.2359,2) -> 7.57 | I14: =G14+H14 -> 39.68
A15: =A14+1 -> 9 | B15: VP LATGALES RP DIENVIDLATGALES IECIRKŅA IZMEKLĒŠANAS NODAĻAS 7.GRUPA | C15: vecākais inspektors | D15: 1495 | E15: =ROUND(D15/$E$4,3) -> 8.956 | F15: 8 | G15: 35.82 | H15: =ROUND(G15*0.2359,2) -> 8.45 | I15: =G15+H15 -> 44.27
A16: =A15+1 -> 10 | B16: VP LATGALES RP ZIEMEĻLATGALES IECIRKŅA REAĢĒŠANAS NODAĻAS 10.GRUPA | C16: galvenais inspektors | D16: 1680 | E16: =ROUND(D16/$E$4,3) -> 10.065 | F16: 16 | G16: 80.52 | H16: =ROUND(G16*0.2359,2) -> 18.99 | I16: =G16+H16 -> 99.51
A17: =A16+1 -> 11 | B17: VP LATGALES RP ZIEMEĻLATGALES IECIRKŅA REAĢĒŠANAS NODAĻAS 7.GRUPA | C17: vecākais inspektors | D17: 1495 | E17: =ROUND(D17/$E$4,3) -> 8.956 | F17: 8 | G17: 35.82 | H17: =ROUND(G17*0.2359,2) -> 8.45 | I17: =G17+H17 -> 44.27
A18: =A17+1 -> 12 | B18: VP LATGALES RP DIENVIDLATGALES IECIRKŅA REAĢĒŠANAS NODAĻAS 6.GRUPA | C18: jaunākais inspektors | D18: 1429 | E18: =ROUND(D18/$E$4,3) -> 8.561 | F18: 16 | G18: 68.49 | H18: =ROUND(G18*0.2359,2) -> 16.16 | I18: =G18+H18 -> 84.65
A19: =A18+1 -> 13 | B19: VP LATGALES RP ZIEMEĻLATGALES IECIRKŅA IZMEKLĒŠANAS NODAĻAS 2.GRUPA | C19: galvenais inspektors | D19: 2040 | E19: =ROUND(D19/$E$4,3) -> 12.221 | F19: 8 | G19: 48.88 | H19: =ROUND(G19*0.2359,2) -> 11.53 | I19: =G19+H19 -> 60.41
... A30: =A29+1 -> 24 | B30: VP LATGALES RP KRIMPB EKONOMISKO NOZIEGUMU APKAROŠANAS NODAĻA | C30: galvenais inspektors | D30: 1779 | E30: =ROUND(D30/$E$4,3) -> 10.658 | F30: 8 | G30: 42.63 | H30: =ROUND(G30*0.2359,2) -> 10.06 | I30: =G30+H30 -> 52.69
A31: =A30+1 -> 25 | B31: VP LATGALES RP KĀRTPB ATĻAUJU SISTĒMAS GRUPA | C31: inspektors | D31: 1320 | E31: =ROUND(D31/$E$4,3) -> 7.908 | F31: 32 | G31: 126.53 | H31: =ROUND(G31*0.2359,2)-0.01 -> 29.84 | I31: =G31+H31 -> 156.37
A32: =A31+1 -> 26 | B32: VP LATGALES RP ZIEMEĻLATGALES IECIRKŅA IZMEKLĒŠANAS NODAĻAS 5.GRUPA | C32: vecākais inspektors | D32: 1640 | E32: =ROUND(D32/$E$4,3) -> 9.825 | F32: 8 | G32: 39.3 | H32: =ROUND(G32*0.2359,2)-0.01 -> 9.26 | I32: =G32+H32 -> 48.56
A33: =A32+1 -> 27 | B33: VP LATGALES RP ZIEMEĻLATGALES IECIRKŅA REAĢĒŠANAS NODAĻAS 9.GRUPA | C33: inspektors | D33: 1445 | E33: =ROUND(D33/$E$4,3) -> 8.657 | F33: 8 | G33: 34.63 | H33: =ROUND(G33*0.2359,2) -> 8.17 | I33: =G33+H33 -> 42.8
A34: =A33+1 -> 28 | B34: VP LATGALES RP ZIEMEĻLATGALES IECIRKŅA REAĢĒŠANAS NODAĻAS 6.GRUPA | C34: galvenais inspektors | D34: 1744 | E34: =ROUND(D34/$E$4,3) -> 10.448 | F34: 16 | G34: 83.58 | H34: =ROUND(G34*0.2359,2) -> 19.72 | I34: =G34+H34 -> 103.3
A35: =A34+1 -> 29 | B35: VP LATGALES RP ZIEMEĻLATGALES IECIRKŅA IZMEKLĒŠANAS NODAĻAS 6.GRUPA | C35: inspektors | D35: 1581 | E35: =ROUND(D35/$E$4,3) -> 9.472 | F35: 8 | G35: 37.89 | H35: =ROUND(G35*0.2359,2) -> 8.94 | I35: =G35+H35 -> 46.83
A36: =A35+1 -> 30 | B36: VP LATGALES RP DIENVIDLATGALES IECIRKŅA PREVENCIJAS GRUPA | C36: vecākais inspektors | D36: 1523 | E36: =ROUND(D36/$E$4,3) -> 9.124 | F36: 8 | G36: 36.5 | H36: =ROUND(G36*0.2359,2) -> 8.61 | I36: =G36+H36 -> 45.11
A37: =A36+1 -> 31 | B37: VP LATGALES RP KĀRTPB RESURSU UN KRĪZES VADĪBAS NODAĻA | C37: nodaļas priekšnieka vietnieks | D37: 1898 | E37: =ROUND(D37/$E$4,3) -> 11.371 | F37: 16 | G37: 90.97 | H37: =ROUND(G37*0.2359,2) -> 21.46 | I37: =G37+H37 -> 112.43
A38: =A37+1 -> 32 | B38: VP LATGALES RP KĀRTPB PREVENCIJAS GRUPA | C38: galvenais inspektors | D38: 2077 | E38: =ROUND(D38/$E$4,3) -> 12.443 | F38: 16 | G38: 99.54 | H38: =ROUND(G38*0.2359,2) -> 23.48 | I38: =G38+H38 -> 123.02
A39: =A38+1 -> 33 | B39: VP LATGALES RP DIENVIDLATGALES IECIRKŅA REAĢĒŠANAS NODAĻAS 10.GRUPA | C39: vecākais inspektors | D39: 1495 | E39: =ROUND(D39/$E$4,3) -> 8.956 | F39: 16 | G39: 71.65 | H39: =ROUND(G39*0.2359,2) -> 16.9 | I39: =G39+H39 -> 88.55
A40: =A39+1 -> 34 | B40: VP LATGALES RP DIENVIDLATGALES IECIRKŅA IZMEKLĒŠANAS NODAĻAS 8.GRUPA | C40: vecākais inspektors | D40: 1475 | E40: =ROUND(D40/$E$4,3) -> 8.837 | F40: 8 | G40: 35.35 | H40: =ROUND(G40*0.2359,2) -> 8.34 | I40: =G40+H40 -> 43.69
A41: =A40+1 -> 35 | B41: VP LATGALES RP ZIEMEĻLATGALES IECIRKŅA REAĢĒŠANAS NODAĻAS 1.GRUPA | C41: vecākais inspektors | D41: 1495 | E41: =ROUND(D41/$E$4,3) -> 8.956 | F41: 8 | G41: 35.82 | H41: =ROUND(G41*0.2359,2) -> 8.45 | I41: =G41+H41 -> 44.27
A42: =A41+1 -> 36 | B42: VP LATGALES RP KRIMPB ORGANIZĒTĀS NOZIEDZĪBAS SMAGO UN SĒRIJVEIDA NOZIEGUMU APKAROŠANAS NODAĻA | C42: vecākais inspektors | D42: 1692 | E42: =ROUND(D42/$E$4,3) -> 10.137 | F42: 8 | G42: 40.55 | H42: =ROUND(G42*0.2359,2) -> 9.57 | I42: =G42+H42 -> 50.12
A43: =A42+1 -> 37 | B43: VP LATGALES REĢIONA PĀRVALDES VADĪBA | C43: reģiona pārvaldes priekšnieks | D43: 3470 | E43: =ROUND(D43/$E$4,3) -> 20.788 | F43: 6 | G43: 62.36 | H43: =ROUND(G43*0.2359,2) -> 14.71 | I43: =G43+H43 -> 77.07
A44: =A43+1 -> 38 | B44: VP LATGALES RP ZIEMEĻLATGALES IECIRKŅA REAĢĒŠANAS NODAĻAS 1.GRUPA | C44: galvenais inspektors | D44: 1744 | E44: =ROUND(D44/$E$4,3) -> 10.448 | F44: 8 | G44: 41.79 | H44: =ROUND(G44*0.2359,2) -> 9.86 | I44: =G44+H44 -> 51.65
... A232: =A231+1 -> 226 | B232: VP LATGALES RP DIENVIDLATGALES IECIRKŅA IZMEKLĒŠANAS NODAĻAS 4.GRUPA | C232: inspektors | D232: 1501 | E232: =ROUND(D232/$E$4,3) -> 8.992 | F232: 6 | G232: 26.98 | H232: =ROUND(G232*0.2359,2) -> 6.36 | I232: =G232+H232 -> 33.34

Sheet  2.tabula
I1: 2.tabula
A2: Valsts policija
A3: Detalizēts aprēķins samaksai par virsstundu darbu amatpersonām ar speciālo dienesta pakāpi, sniedzot atbalstu Valsts robežsardzei Latvijas Republikas-Baltkrievijas Republikas valsts robežas nelikumīgas šķērsošanas nodrošināšanā, par laika periodu no 2024.gada 01. septembra līdz 30. septembrim
E4: 166.92
A5: Nr. p.k. | B5: Struktūrvienība | C5: Amats | D5: Mēnešalga amatpersonām ar speciālajām pakāpēm | E5: Stundas likme | F5: Stundu skaits | G5: Samaksa par virsstundu darbu | H5: DD VSAOI | I5: Atlīdzība
A6: kopā | F6: =SUM(F7:F7) -> 67 | G6: =SUM(G7:G7) -> 1269.25 | H6: =SUM(H7:H7) -> 299.42 | I6: =SUM(I7:I7) -> 1568.67
A7: 1 | B7: VP LATGALES RP DIENVIDLATGALES IECIRKŅA IZMEKLĒŠANAS NODAĻAS 2.GRUPA | C7: inspektors | D7: 1581 | E7: =ROUND(D7/$E$4,3) -> 9.472 | F7: 67 | G7: 1269.25 | H7: =ROUND(G7*0.2359,2) -> 299.42 | I7: =G7+H7 -> 1568.67 | J7: *
B9: *Aprēķins par papildu nepieciešamo finansējumu samaksai par virsstundu darbu ir veikts, jo 2024.gada septembrī tika izbeigtas dienesta attiecības ar 1 (vienu) amatpersonu.

Sheet 3.tabula
J1: 3.tabula
A2: Valsts policija
A3: Piemaksa par darbu īpašos apstākļos amatpersonām ar speciālajām dienesta pakāpēm, kuras laika periodā no 2024.gada 01. septembra līdz 30. septembrim tika iesaistītas atbalsta sniegšanā Valsts robežsardzei Latvijas Republikas-Baltkrievijas Republikas valsts robežas robežuzraudzības nodrošināšanā
F4: 166.92
A5: Nr. p.k. | B5: Struktūrvienība | C5: Amats | D5: Mēnešalga amatpersonām ar speciālajām pakāpēm | E5: Piemaksas apmērs % | F5: Stundas likme | G5: Stundu skaits | H5: Piemaksa par darbu īpašos apstākļos | I5: DD VSAOI | J5: Atlīdzība
A7: kopā | G7: =SUM(G8:G403) -> 9952.5 | H7: =SUM(H8:H403) -> 18558.4 | I7: =SUM(I8:I403) -> 4378.03 | J7: =SUM(J8:J403) -> 22936.43
A8: 1 | B8: VP LATGALES RP ZIEMEĻLATGALES IECIRKNIS | C8: iecirkņa priekšnieka vietnieks, Reaģēšanas nodaļas priekšnieks | D8: 2305 | E8: 0.1 | F8: =ROUND(D8/$F$4,3) -> 13.809 | G8: 12 | H8: 16.57 | I8: =ROUND(H8*23.59%,2) -> 3.91 | J8: =H8+I8 -> 20.48
A9: =A8+1 -> 2 | B9: VP LATGALES RP ZIEMEĻLATGALES IECIRKŅA IZMEKLĒŠANAS NODAĻAS 2.GRUPA | C9: inspektors | D9: 1553 | E9: 0.2 | F9: =ROUND(D9/$F$4,3) -> 9.304 | G9: 48 | H9: 89.32 | I9: =ROUND(H9*23.59%,2) -> 21.07 | J9: =H9+I9 -> 110.39
A10: =A9+1 -> 3 | B10: VP LATGALES RP DIENVIDLATGALES IECIRKŅA REAĢĒŠANAS NODAĻAS 3.GRUPA | C10: vecākais inspektors | D10: 1495 | E10: 0.2 | F10: =ROUND(D10/$F$4,3) -> 8.956 | G10: 24 | H10: 42.99 | I10: =ROUND(H10*23.59%,2) -> 10.14 | J10: =H10+I10 -> 53.13
A11: =A10+1 -> 4 | B11: VP LATGALES RP DIENVIDLATGALES IECIRKŅA REAĢĒŠANAS NODAĻAS 7.GRUPA | C11: inspektors | D11: 1425 | E11: 0.2 | F11: =ROUND(D11/$F$4,3) -> 8.537 | G11: 28 | H11: 47.81 | I11: =ROUND(H11*23.59%,2)+0.01 -> 11.29 | J11: =H11+I11 -> 59.1
A12: =A11+1 -> 5 | B12: VP LATGALES RP DIENVIDLATGALES IECIRKŅA REAĢĒŠANAS NODAĻAS 7.GRUPA | C12: jaunākais inspektors | D12: 1242 | E12: 0.2 | F12: =ROUND(D12/$F$4,3) -> 7.441 | G12: 24 | H12: 35.72 | I12: =ROUND(H12*23.59%,2) -> 8.43 | J12: =H12+I12 -> 44.15
A13: =A12+1 -> 6 | B13: VP LATGALES RP DIENVIDLATGALES IECIRKŅA REAĢĒŠANAS NODAĻAS 1.GRUPA | C13: inspektors | D13: 1425 | E13: 0.2 | F13: =ROUND(D13/$F$4,3) -> 8.537 | G13: 12 | H13: 20.49 | I13: =ROUND(H13*23.59%,2) -> 4.83 | J13: =H13+I13 -> 25.32
A14: =A13+1 -> 7 | B14: VP LATGALES RP ZIEMEĻLATGALES IECIRKŅA PREVENCIJAS GRUPA | C14: vecākais inspektors | D14: 1523 | E14: 0.2 | F14: =ROUND(D14/$F$4,3) -> 9.124 | G14: 12 | H14: 21.9 | I14: =ROUND(H14*23.59%,2) -> 5.17 | J14: =H14+I14 -> 27.07
A15: =A14+1 -> 8 | B15: VP LATGALES RP ZIEMEĻLATGALES IECIRKŅA REAĢĒŠANAS NODAĻAS 9.GRUPA | C15: inspektors | D15: 1425 | E15: 0.1 | F15: =ROUND(D15/$F$4,3) -> 8.537 | G15: 24 | H15: 20.49 | I15: =ROUND(H15*23.59%,2) -> 4.83 | J15: =H15+I15 -> 25.32
A16: =A15+1 -> 9 | B16: VP LATGALES RP KĀRTPB ATĻAUJU SISTĒMAS GRUPA | C16: inspektors | D16: 1340 | E16: 0.2 | F16: =ROUND(D16/$F$4,3) -> 8.028 | G16: 12 | H16: 19.27 | I16: =ROUND(H16*23.59%,2) -> 4.55 | J16: =H16+I16 -> 23.82
A17: =A16+1 -> 10 | B17: VP LATGALES RP KRIMPB KRIMINĀLIZLŪKOŠANAS INFORMĀCIJAS ANALĪZES GRUPA | C17: vecākais inspektors | D17: 1672 | E17: 0.2 | F17: =ROUND(D17/$F$4,3) -> 10.017 | G17: 12 | H17: 24.04 | I17: =ROUND(H17*23.59%,2) -> 5.67 | J17: =H17+I17 -> 29.71
A18: =A17+1 -> 11 | B18: VP LATGALES RP DIENVIDLATGALES IECIRKŅA IZMEKLĒŠANAS NODAĻAS 7.GRUPA | C18: vecākais inspektors | D18: 1495 | E18: 0.2 | F18: =ROUND(D18/$F$4,3) -> 8.956 | G18: 24 | H18: 42.99 | I18: =ROUND(H18*23.59%,2) -> 10.14 | J18: =H18+I18 -> 53.13
A19: =A18+1 -> 12 | B19: VP LATGALES RP ZIEMEĻLATGALES IECIRKŅA REAĢĒŠANAS NODAĻAS 10.GRUPA | C19: galvenais inspektors | D19: 1680 | E19: 0.1 | F19: =ROUND(D19/$F$4,3) -> 10.065 | G19: 12 | H19: 12.08 | I19: =ROUND(H19*23.59%,2) -> 2.85 | J19: =H19+I19 -> 14.93
A20: =A19+1 -> 13 | B20: VP LATGALES RP ZIEMEĻLATGALES IECIRKŅA REAĢĒŠANAS NODAĻAS 10.GRUPA | C20: galvenais inspektors | D20: 1680 | E20: 0.2 | F20: =ROUND(D20/$F$4,3) -> 10.065 | G20: 12 | H20: 24.16 | I20: =ROUND(H20*23.59%,2)+0.01 -> 5.71 | J20: =H20+I20 -> 29.87
A21: =A20+1 -> 14 | B21: VP LATGALES RP ZIEMEĻLATGALES IECIRKŅA REAĢĒŠANAS NODAĻAS 7.GRUPA | C21: vecākais inspektors | D21: 1495 | E21: 0.1 | F21: =ROUND(D21/$F$4,3) -> 8.956 | G21: 12 | H21: 10.75 | I21: =ROUND(H21*23.59%,2) -> 2.54 | J21: =H21+I21 -> 13.29
A22: =A21+1 -> 15 | B22: VP LATGALES RP DIENVIDLATGALES IECIRKŅA REAĢĒŠANAS NODAĻAS 6.GRUPA | C22: jaunākais inspektors | D22: 1429 | E22: 0.2 | F22: =ROUND(D22/$F$4,3) -> 8.561 | G22: 24 | H22: 41.09 | I22: =ROUND(H22*23.59%,2) -> 9.69 | J22: =H22+I22 -> 50.78
A23: =A22+1 -> 16 | B23: VP LATGALES RP ZIEMEĻLATGALES IECIRKŅA IZMEKLĒŠANAS NODAĻAS 2.GRUPA | C23: galvenais inspektors | D23: 2040 | E23: 0.1 | F23: =ROUND(D23/$F$4,3) -> 12.221 | G23: 24 | H23: 29.33 | I23: =ROUND(H23*23.59%,2) -> 6.92 | J23: =H23+I23 -> 36.25
A24: =A23+1 -> 17 | B24: VP LATGALES RP DIENVIDLATGALES IECIRKŅA IZMEKLĒŠANAS NODAĻAS 2.GRUPA | C24: galvenais inspektors | D24: 1821 | E24: 0.2 | F24: =ROUND(D24/$F$4,3) -> 10.909 | G24: 12 | H24: 26.18 | I24: =ROUND(H24*23.59%,2) -> 6.18 | J24: =H24+I24 -> 32.36
A25: =A24+1 -> 18 | B25: VP LATGALES RP DIENVIDLATGALES IECIRKŅA REAĢĒŠANAS NODAĻAS 2.GRUPA | C25: vecākais inspektora | D25: 1523 | E25: 0.2 | F25: =ROUND(D25/$F$4,3) -> 9.124 | G25: 36 | H25: 65.69 | I25: =ROUND(H25*23.59%,2) -> 15.5 | J25: =H25+I25 -> 81.19
A26: =A25+1 -> 19 | B26: VP LATGALES RP DIENVIDLATGALES IECIRKŅA IZMEKLĒŠANAS NODAĻAS 1.GRUPA | C26: galvenais inspektors | D26: 1875 | E26: 0.2 | F26: =ROUND(D26/$F$4,3) -> 11.233 | G26: 24 | H26: 53.92 | I26: =ROUND(H26*23.59%,2) -> 12.72 | J26: =H26+I26 -> 66.64
A27: =A26+1 -> 20 | B27: VP LATGALES RP DIENVIDLATGALES IECIRKŅA IZMEKLĒŠANAS NODAĻAS 6.GRUPA | C27: galvenais inspektors | D27: 1950 | E27: 0.2 | F27: =ROUND(D27/$F$4,3) -> 11.682 | G27: 36 | H27: 84.11 | I27: =ROUND(H27*23.59%,2) -> 19.84 | J27: =H27+I27 -> 103.95
A28: =A27+1 -> 21 | B28: VP LATGALES RP ZIEMEĻLATGALES IECIRKŅA IZMEKLĒŠANAS NODAĻAS 4.GRUPA | C28: inspektors | D28: 1851 | E28: 0.1 | F28: =ROUND(D28/$F$4,3) -> 11.089 | G28: 24 | H28: 26.61 | I28: =ROUND(H28*23.59%,2) -> 6.28 | J28: =H28+I28 -> 32.89
A29: =A28+1 -> 22 | B29: VP LATGALES RP ZIEMEĻLATGALES IECIRKŅA REAĢĒŠANAS NODAĻAS 3.GRUPA | C29: inspektors | D29: 1560 | E29: 0.1 | F29: =ROUND(D29/$F$4,3) -> 9.346 | G29: 24 | H29: 22.43 | I29: =ROUND(H29*23.59%,2) -> 5.29 | J29: =H29+I29 -> 27.72
A30: =A29+1 -> 23 | B30: VP LATGALES RP KĀRTPB ATĻAUJU SISTĒMAS GRUPA | C30: vecākais inspektors | D30: 1425 | E30: 0.2 | F30: =ROUND(D30/$F$4,3) -> 8.537 | G30: 36 | H30: 61.47 | I30: =ROUND(H30*23.59%,2) -> 14.5 | J30: =H30+I30 -> 75.97
A31: =A30+1 -> 24 | B31: VP LATGALES RP DIENVIDLATGALES IECIRKŅA REAĢĒŠANAS NODAĻAS 1.GRUPA | C31: inspektors | D31: 1472 | E31: 0.2 | F31: =ROUND(D31/$F$4,3) -> 8.819 | G31: 12 | H31: 21.17 | I31: =ROUND(H31*23.59%,2) -> 4.99 | J31: =H31+I31 -> 26.16
A32: =A31+1 -> 25 | B32: VP LATGALES RP ZIEMEĻLATGALES IECIRKŅA IZMEKLĒŠANAS NODAĻAS 3.GRUPA | C32: inspektors | D32: 1581 | E32: 0.2 | F32: =ROUND(D32/$F$4,3) -> 9.472 | G32: 12 | H32: 22.73 | I32: =ROUND(H32*23.59%,2) -> 5.36 | J32: =H32+I32 -> 28.09
... A40: =A39+1 -> 33 | B40: VP LATGALES RP KRIMPB ONSSN APKAROŠANAS NODAĻA | C40: vecākais inspektors | D40: 1672 | E40: 0.2 | F40: =ROUND(D40/$F$4,3) -> 10.017 | G40: 24 | H40: 48.08 | I40: =ROUND(H40*23.59%,2) -> 11.34 | J40: =H40+I40 -> 59.42
A41: =A40+1 -> 34 | B41: VP LATGALES RP ZIEMEĻLATGALES IECIRKŅA REAĢĒŠANAS NODAĻAS 6.GRUPA | C41: vecākais inspektors | D41: 1579 | E41: 0.1 | F41: =ROUND(D41/$F$4,3) -> 9.46 | G41: 24 | H41: 22.7 | I41: =ROUND(H41*23.59%,2)+0.01 -> 5.36 | J41: =H41+I41 -> 28.06
A42: =A41+1 -> 35 | B42: VP LATGALES RP ZIEMEĻLATGALES IECIRKŅA REAĢĒŠANAS NODAĻAS 5.GRUPA | C42: inspektors | D42: 1445 | E42: 0.1 | F42: =ROUND(D42/$F$4,3) -> 8.657 | G42: 12 | H42: 10.39 | I42: =ROUND(H42*23.59%,2) -> 2.45 | J42: =H42+I42 -> 12.84
A43: =A42+1 -> 36 | B43: VP LATGALES RP ZIEMEĻLATGALES IECIRKŅA REAĢĒŠANAS NODAĻAS 5.GRUPA | C43: inspektors | D43: 1445 | E43: 0.2 | F43: =ROUND(D43/$F$4,3) -> 8.657 | G43: 12 | H43: 20.78 | I43: =ROUND(H43*23.59%,2) -> 4.9 | J43: =H43+I43 -> 25.68
A44: =A43+1 -> 37 | B44: VP LATGALES RP ZIEMEĻLATGALES IECIRKŅA REAĢĒŠANAS NODAĻAS 6.GRUPA | C44: galvenais inspektors | D44: 1744 | E44: 0.1 | F44: =ROUND(D44/$F$4,3) -> 10.448 | G44: 24 | H44: 25.08 | I44: =ROUND(H44*23.59%,2) -> 5.92 | J44: =H44+I44 -> 31
A45: =A44+1 -> 38 | B45: VP LATGALES RP DIENVIDLATGALES IECIRKŅA IZMEKLĒŠANAS NODAĻAS 6.GRUPA | C45: vecākais inspektors | D45: 1495 | E45: 0.2 | F45: =ROUND(D45/$F$4,3) -> 8.956 | G45: 12 | H45: 21.49 | I45: =ROUND(H45*23.59%,2) -> 5.07 | J45: =H45+I45 -> 26.56
A46: =A45+1 -> 39 | B46: VP LATGALES RP ZIEMEĻLATGALES IECIRKŅA IZMEKLĒŠANAS NODAĻAS 6.GRUPA | C46: inspektors | D46: 1581 | E46: 0.2 | F46: =ROUND(D46/$F$4,3) -> 9.472 | G46: 24 | H46: 45.47 | I46: =ROUND(H46*23.59%,2) -> 10.73 | J46: =H46+I46 -> 56.2
A47: =A46+1 -> 40 | B47: VP LATGALES RP KRIMPB EKONOMISKO NOZIEGUMU APKAROŠANAS NODAĻA | C47: vecākais inspektors | D47: 1652 | E47: 0.2 | F47: =ROUND(D47/$F$4,3) -> 9.897 | G47: 12 | H47: 23.75 | I47: =ROUND(H47*23.59%,2) -> 5.6 | J47: =H47+I47 -> 29.35
A48: =A47+1 -> 41 | B48: VP LATGALES RP DIENVIDLATGALES IECIRKŅA PREVENCIJAS GRUPA | C48: vecākais inspektors | D48: 1523 | E48: 0.2 | F48: =ROUND(D48/$F$4,3) -> 9.124 | G48: 24 | H48: 43.8 | I48: =ROUND(H48*23.59%,2) -> 10.33 | J48: =H48+I48 -> 54.13
...

Sheet 4.tabula
G1: 4.tabula
A2: Valsts policija
A3: Detalizēts aprēķins dienas naudas samaksai amatpersonām ar speciālajām dienesta pakāpēm, sniedzot atbalstu Valsts robežsardzei Latvijas Republikas-Baltkrievijas Republikas valsts robežas robežuzraudzības nodrošināšanā par laika periodu no 2024.gada 29. augusta līdz 09. septembrim
A5: Nr. p.k. | B5: Struktūrvienība | C5: Amats | D5: Laika periods | E5: Dienu skaits | F5: Likme | G5: Dienas nauda (kopsumma)
A6: kopā: | G6: =SUM(G7:G84) -> 505.6
A7: 1 | B7: VP GKĀRTPP RKVP SPECIĀLO UZDEVUMU BATALJONA (BIROJA) 5.TAKTISKĀ NODAĻA | C7: inspektors | D7: 04.09.2024.-09.09.2024/ | E7: 2 | F7: 8 | G7: =ROUND(E7*F7,2) -> 16
E8: 4 | F8: 2.4 | G8: =ROUND(E8*F8,2) -> 9.6
A9: 2 | B9: VP GKĀRTPP RKVP SPECIĀLO UZDEVUMU BATALJONA (BIROJA) 5.TAKTISKĀ NODAĻA | C9: inspektors | D9: 29.08.2024.- 09.09.2024/ | E9: 2 | F9: 8 | G9: =ROUND(E9*F9,2) -> 16
E10: 10 | F10: 2.4 | G10: =ROUND(E10*F10,2) -> 24
A11: 3 | B11: VP GKĀRTPP RKVP SPECIĀLO UZDEVUMU BATALJONA (BIROJA) 5.TAKTISKĀ NODAĻA | C11: jaunākais inspektors | D11: 29.08.2024.- 09.09.2024/ | E11: 2 | F11: 8 | G11: =ROUND(E11*F11,2) -> 16
E12: 10 | F12: 2.4 | G12: =ROUND(E12*F12,2) -> 24
A13: 4 | B13: VP GKĀRTPP RKVP SPECIĀLO UZDEVUMU BATALJONA (BIROJA) 5.TAKTISKĀ NODAĻA | C13: jaunākais inspektors | D13: 29.08.2024.- 09.09.2024/ | E13: 2 | F13: 8 | G13: =ROUND(E13*F13,2) -> 16
E14: 10 | F14: 2.4 | G14: =ROUND(E14*F14,2) -> 24
A15: 5 | B15: VP GKĀRTPP RKVP SPECIĀLO UZDEVUMU BATALJONA (BIROJA) 5.TAKTISKĀ NODAĻA | C15: jaunākais inspektors | D15: 29.08.2024.- 09.09.2024/ | E15: 2 | F15: 8 | G15: =ROUND(E15*F15,2) -> 16
E16: 10 | F16: 2.4 | G16: =ROUND(E16*F16,2) -> 24
A17: 6 | B17: VP GKĀRTPP RKVP SPECIĀLO UZDEVUMU BATALJONA (BIROJA) 5.TAKTISKĀ NODAĻA | C17: jaunākais inspektors | D17: 29.08.2024.- 09.09.2024/ | E17: 2 | F17: 8 | G17: =ROUND(E17*F17,2) -> 16
E18: 10 | F18: 2.4 | G18: =ROUND(E18*F18,2) -> 24
A19: 7 | B19: VP GKĀRTPP RKVP SPECIĀLO UZDEVUMU BATALJONA (BIROJA) 5.TAKTISKĀ NODAĻA | C19: inspektors | D19: 29.08.2024.- 09.09.2024/ | E19: 2 | F19: 8 | G19: =ROUND(E19*F19,2) -> 16
E20: 10 | F20: 2.4 | G20: =ROUND(E20*F20,2) -> 24
A21: 8 | B21: VP GKĀRTPP RKVP SPECIĀLO UZDEVUMU BATALJONA (BIROJA) 5.TAKTISKĀ NODAĻA | C21: jaunākais inspektors | D21: 29.08.2024.- 09.09.2024/ | E21: 2 | F21: 8 | G21: =ROUND(E21*F21,2) -> 16
E22: 10 | F22: 2.4 | G22: =ROUND(E22*F22,2) -> 24
A23: 9 | B23: VP GKĀRTPP RKVP SPECIĀLO UZDEVUMU BATALJONA (BIROJA) 5.TAKTISKĀ NODAĻA | C23: jaunākais inspektors | D23: 29.08.2024.- 09.09.2024/ | E23: 2 | F23: 8 | G23: =ROUND(E23*F23,2) -> 16
E24: 10 | F24: 2.4 | G24: =ROUND(E24*F24,2) -> 24
A25: 10 | B25: VP GKĀRTPP RKVP SPECIĀLO UZDEVUMU BATALJONA (BIROJA) 5.TAKTISKĀ NODAĻA | C25: jaunākais inspektors | D25: 29.08.2024.- 09.09.2024/ | E25: 2 | F25: 8 | G25: =ROUND(E25*F25,2) -> 16
E26: 10 | F26: 2.4 | G26: =ROUND(E26*F26,2) -> 24
A27: 11 | B27: VP GKĀRTPP RKVP SPECIĀLO UZDEVUMU BATALJONA (BIROJA) 5.TAKTISKĀ NODAĻA | C27: nodaļas priekšnieks | D27: 29.08.2024.- 09.09.2024/ | E27: 2 | F27: 8 | G27: =ROUND(E27*F27,2) -> 16
E28: 10 | F28: 2.4 | G28: =ROUND(E28*F28,2) -> 24
A29: 12 | B29: VP GKĀRTPP RKVP SPECIĀLO UZDEVUMU BATALJONA (BIROJA) 5.TAKTISKĀ NODAĻA | C29: inspektors | D29: 29.08.2024.- 09.09.2024/ | E29: 2 | F29: 8 | G29: =ROUND(E29*F29,2) -> 16
E30: 10 | F30: 2.4 | G30: =ROUND(E30*F30,2) -> 24
A31: 13 | B31: VP GKĀRTPP RKVP SPECIĀLO UZDEVUMU BATALJONA (BIROJA) 5.TAKTISKĀ NODAĻA | C31: jaunākais inspektors | D31: 29.08.2024.- 09.09.2024/ | E31: 2 | F31: 8 | G31: =ROUND(E31*F31,2) -> 16
E32: 10 | F32: 2.4 | G32: =ROUND(E32*F32,2) -> 24
A33: 14 | F33: 8 | G33: =ROUND(E33*F33,2) -> 0
F34: 2.4 | G34: =ROUND(E34*F34,2) -> 0
A35: 15 | F35: 8 | G35: =ROUND(E35*F35,2) -> 0
F36: 2.4 | G36: =ROUND(E36*F36,2) -> 0
A37: 16 | F37: 8 | G37: =ROUND(E37*F37,2) -> 0
F38: 2.4 | G38: =ROUND(E38*F38,2) -> 0
A39: 17 | F39: 8 | G39: =ROUND(E39*F39,2) -> 0
F40: 2.4 | G40: =ROUND(E40*F40,2) -> 0
A41: 18 | F41: 8 | G41: =ROUND(E41*F41,2) -> 0
...

Sheet 5.tabula
F1: 5.tabula
A2: Valsts policija
A3: Degvielas izmaksu aprēķins degvielas izdevumiem sniedzot atbalstu Valsts robežsardzei Latvijas Republikas-Baltkrievijas Republikas valsts robežas nelikumīgas šķērsošanas nodrošināšanā par laika periodu no 2024. gada 01. septembra līdz 30. septembrim
A5: Nr.p.k. | B5: Transportlīdzekļa marka | C5: Iesaistīto transportlīdzekļu skaits | D5: Faktiskais nobraukums pasākumā (km) | E5: Pasākuma laikā patērētā degviela (l) | F5: Summa euro
A6: Kopā: | C6: =ROUNDUP(SUM(C8:C33),2) -> 62 | D6: =ROUNDUP(SUM(D8:D33),2) -> 68978 | E6: =ROUNDUP(SUM(E8:E33),2) -> 5001.61 | F6: =ROUNDUP(SUM(F8:F33),2) -> 6733.98
A7: Vidzemes reģiona pārvalde
A8: 1 | B8: Peugeot Boxer | C8: 2 | D8: 5201 | E8: 481.18 | F8: 651.9
A9: 2 | B9: VW Crafter | C9: 1 | D9: 2734 | E9: 303.47 | F9: 406.66
A10: 3 | B10: VW Tiguan | C10: 1 | D10: 3241 | E10: 200.94 | F10: 267.25
A15: Latgales reģiona pārvalde
A16: 4 | B16: Citroen Berlingo | C16: 2 | D16: 2990 | E16: 221.75 | F16: 297.14
A17: 5 | B17: Citroen Jumper | C17: 1 | D17: 1062 | E17: 115.76 | F17: 155.12
A18: 6 | B18: Fiat 55x Cross | C18: 1 | D18: 334 | E18: 21.38 | F18: 29.29
A19: 7 | B19: KIA Cee'd | C19: 4 | D19: 1669 | E19: 102.43 | F19: 140.66
A20: 8 | B20: Opel Mokka | C20: 29 | D20: 37193 | E20: 2489.05 | F20: 3353.32
A21: 9 | B21: Opel Insignia | C21: 1 | D21: 215 | E21: 20.86 | F21: 28.57
A22: 10 | B22: Opel Insignia Limousine | C22: 4 | D22: 1331 | E22: 92.7 | F22: 125.2
A23: 11 | B23: Renault Kangoo | C23: 5 | D23: 4224 | E23: 293.61 | F23: 393.42
A24: 12 | B24: Renault Laguna | C24: 1 | D24: 1240 | E24: 73.16 | F24: 98.03
A25: 13 | B25: Renault Trafic | C25: 3 | D25: 4834 | E25: 385.36 | F25: 518.14
A26: 14 | B26: Škoda Octavia | C26: 1 | D26: 246 | E26: 15.99 | F26: 21.42
A27: 15 | B27: VW Transporter | C27: 1 | D27: 548 | E27: 45.48 | F27: 60.95
A28: 16 | B28: Toyota RAV4 | C28: 1 | D28: 844 | E28: 53.17 | F28: 72.85
A29: Zemgales reģiona pārvalde
A30: 17 | B30: Peugeot Boxer | C30: 1 | D30: 334 | E30: 11 | F30: 14.9
A31: Kurzemes reģiona pārvalde
A32: 18 | B32: Peugeot Boxer | C32: 2 | D32: 484 | E32: 43.08 | F32: 57.3
A33: 19 | B33: VW Crafter | C33: 1 | D33: 254 | E33: 31.24 | F33: 41.86
