Workbook

Sheet 2. pielikums_Apkopojums
C1: 2.pielikums MK noteikumu projekta "Grozījumi Ministru kabineta 2018.gada 28.augusta noteikumos Nr.555 „Veselības aprūpes pakalpojumu organizēšanas un samaksas kārtība"" anotācijai
A2: Uzņemšanas nodaļas maksājums pēc reformas no 2027. gada
A3: Ārstniecības iestāde | B3: Spēkā esošās (01.01.2026.) fiksētās piemaksas gada apjoms, euro | C3: Neatliekamās medicīnas un pacientu uzņemšanas nodaļas maksājums no 2027. gada, euro | D3: Dežūrārsta maksājums no 2027. gada, euro | E3: Finasējuma izmaiņas, euro
A4: Aizkraukles slimnīca | B4: 905264 | C4: 477141 | D4: 316525 | E4: =ROUND((D4+C4)-B4,0) -> -111598
A5: Alūksnes slimnīca | B5: 2029091 | C5: 1336189 | D5: 316525 | E5: =ROUND((D5+C5)-B5,0) -> -376377
A6: Balvu un Gulbenes slimnīcu apvienība | B6: 2471616 | C6: 1220505 | D6: 527542 | E6: =ROUND((D6+C6)-B6,0) -> -723569
A7: Bauskas slimnīca | B7: 937845 | C7: 391448 | D7: 316525 | E7: =ROUND((D7+C7)-B7,0) -> -229872
A8: Bērnu klīniskā universitātes slimnīca | B8: 6486814 | C8: 5696032 | D8: 1477117 | E8: =ROUND((D8+C8)-B8,0) -> 686335
A9: Cēsu klīnika | B9: 2029091 | C9: 1065984 | D9: 527542 | E9: =ROUND((D9+C9)-B9,0) -> -435565
A10: Daugavpils psihoneiroloģiskā slimnīca | B10: 442524 | C10: 252073 | D10: 211017 | E10: =ROUND((D10+C10)-B10,0) -> 20566
A11: Daugavpils reģionālā slimnīca | B11: 4502111 | C11: 1894208 | D11: 1709823 | E11: =ROUND((D11+C11)-B11,0) -> -898080
A12: Dobeles un apkārtnes slimnīca | B12: 2471616 | C12: 1065984 | D12: 865755 | E12: =ROUND((D12+C12)-B12,0) -> -539877
A13: Jelgavas pilsētas slimnīca | B13: 3843760 | C13: 1421881 | D13: 1287789 | E13: =ROUND((D13+C13)-B13,0) -> -1134090
A14: Jēkabpils reģionālā slimnīca | B14: 3843760 | C14: 1065984 | D14: 1287789 | E14: =ROUND((D14+C14)-B14,0) -> -1489987
A15: Jūrmalas slimnīca | B15: 2142481 | C15: 1065984 | D15: 865755 | E15: =ROUND((D15+C15)-B15,0) -> -210742
... A39: Ziemeļkurzemes reģionālā slimnīca | B39: 4635541 | C39: 2285743 | D39: 1498806 | E39: =ROUND((D39+C39)-B39,0) -> -850992
A40: KOPĀ | B40: =SUM(B4:B39) -> 103915643 | C40: =SUM(C4:C39) -> 60025444 | D40: =SUM(D4:D39) -> 30229034 | E40: =ROUND((D40+C40)-B40,0) -> -13661165

Sheet 2p_turp_uznemsana
K1: 2.pielikuma turpinājums MK noteikumu projekta "Grozījumi Ministru kabineta 2018.gada 28.augusta noteikumos Nr.555 „Veselības aprūpes pakalpojumu organizēšanas un samaksas kārtība"" anotācijai
A3: Uzņemšanas nodaļas speciālistu atalgojumam nepieciešamā finansējuma aprēķins no 2027. gada
H4: VSAOI | I4: M summa gadā | J4: Netiešo izmaksu koeficienti
H5: 0.2359 | I5: =ROUND(13856.88,0) -> 13857 | J5: 0.2857 | K5: 0.0202 | L5: 0.0322
A6: Līmenis | B6: Ārstniecības iestāde | C6: Speciālisti | D6: Speciālistu skaits 24/7 | E6: Speciālistu skaits 8.00-20.00 darba dienās (12h) | F6: Speciālistu skaits 8.00-16.00 darba dienās (8h) | G6: D uzņ | H6: S uzņ | I6: M uzņ | J6: U uzņ | K6: A uzņ | L6: n uzņ | M6: Elementi uzņemšanā kopā
A7: Specializētās slimnīcas | B7: Vaivari, nacionālais rehabilitācijas centrs | C7: Internists vai anesteziologs, reanimatologs | D7: 0 | E7: 0 | F7: 0 | G7: 0 | H7: 0 | I7: 0 | J7: 0 | K7: 0 | L7: 0 | M7: =SUM(G7:L7) -> 0
A8: Specializētās slimnīcas | B8: Vaivari, nacionālais rehabilitācijas centrs | C8: Māsa | D8: 0 | E8: 0 | F8: 0 | G8: 0 | H8: 0 | I8: 0 | J8: 0 | K8: 0 | L8: 0 | M8: =SUM(G8:L8) -> 0
A9: Specializētās slimnīcas | B9: Vaivari, nacionālais rehabilitācijas centrs | C9: Māsas palīgs | D9: 0 | E9: 0 | F9: 0 | G9: 0 | H9: 0 | I9: 0 | J9: 0 | K9: 0 | L9: 0 | M9: =SUM(G9:L9) -> 0
A10: Specializētās slimnīcas | B10: KOPĀ | D10: =D7+D8+D9 -> 0 | E10: =E7+E8+E9 -> 0 | F10: =F7+F8+F9 -> 0 | G10: =G7+G8+G9 -> 0 | H10: =H7+H8+H9 -> 0 | I10: =I7+I8+I9 -> 0 | J10: =J7+J8+J9 -> 0 | K10: =K7+K8+K9 -> 0 | ... M10: =M7+M8+M9 -> 0
A11: Specializētās slimnīcas | B11: Rīgas Dzemdību nams | C11: Ginekologs, dzemdību speciālists | D11: 0 | E11: 0 | F11: 0 | G11: =ROUND($D11*'2p_turp_aprekins uzn'!$AX$19,2) -> 0 | H11: =ROUND(G11*$H$5,2) -> 0 | I11: =ROUND($D11*$I$5,2) -> 0 | J11: =ROUND($G11*$J$5,2) -> 0 | K11: =ROUND($G11*$K$5,2) -> 0 | L11: =ROUND($G11*$L$5,2) -> 0 | M11: =SUM(G11:L11) -> 0
A12: Specializētās slimnīcas | B12: Rīgas Dzemdību nams | C12: Neonatologs | D12: 0 | E12: 0 | F12: 0 | G12: =ROUND($D12*'2p_turp_aprekins uzn'!$AX$19,2) -> 0 | H12: =ROUND(G12*$H$5,2) -> 0 | I12: =ROUND($D12*$I$5,2) -> 0 | J12: =ROUND($G12*$J$5,2) -> 0 | K12: =ROUND($G12*$K$5,2) -> 0 | L12: =ROUND($G12*$L$5,2) -> 0 | M12: =SUM(G12:L12) -> 0
A13: Specializētās slimnīcas | B13: Rīgas Dzemdību nams | C13: Anesteziologs, reanimatologs | D13: 0 | E13: 0 | F13: 0 | G13: =ROUND($D13*'2p_turp_aprekins uzn'!$AX$19,2) -> 0 | H13: =ROUND(G13*$H$5,2) -> 0 | I13: =ROUND($D13*$I$5,2) -> 0 | J13: =ROUND($G13*$J$5,2) -> 0 | K13: =ROUND($G13*$K$5,2) -> 0 | L13: =ROUND($G13*$L$5,2) -> 0 | M13: =SUM(G13:L13) -> 0
A14: Specializētās slimnīcas | B14: Rīgas Dzemdību nams | C14: Radiologs (attālināti) 50% | D14: 0 | E14: 0 | F14: 0
A15: Specializētās slimnīcas | B15: Rīgas Dzemdību nams | C15: Radiologa asistents/radiogrāfers | D15: 0 | E15: 0 | F15: 0 | G15: =ROUND($D15*'2p_turp_aprekins uzn'!$AX$26,2) -> 0 | H15: =ROUND($G15*$H$5,2) -> 0 | I15: 0 | J15: 0 | K15: 0 | L15: 0 | M15: =SUM(G15:L15) -> 0
A16: Specializētās slimnīcas | B16: Rīgas Dzemdību nams | C16: Citi speciālisti (proktologs attālināti 50%) | D16: 0 | E16: 0 | F16: 0 | G16: 0 | H16: 0 | I16: 0 | J16: 0 | K16: 0 | L16: 0 | M16: =SUM(G16:L16) -> 0
A17: Specializētās slimnīcas | B17: Rīgas Dzemdību nams | C17: Māsa | D17: 0 | E17: 0 | F17: 0 | G17: =ROUND($D17*'2p_turp_aprekins uzn'!$AX$26,2) -> 0 | H17: =ROUND($G17*$H$5,2) -> 0 | I17: 0 | J17: 0 | K17: 0 | L17: 0 | M17: =SUM(G17:L17) -> 0
A18: Specializētās slimnīcas | B18: Rīgas Dzemdību nams | C18: Vecmāte | D18: 2 | E18: 0 | F18: 0 | G18: =ROUND($D18*'2p_turp_aprekins uzn'!$AX$26,2) -> 196341.6 | H18: =ROUND($G18*$H$5,2) -> 46316.98 | I18: 0 | J18: =ROUND($G18*$J$5,2) -> 56094.8 | K18: =ROUND($G18*$K$5,2) -> 3966.1 | L18: =ROUND($G18*$L$5,2) -> 6322.2 | M18: =SUM(G18:L18) -> 309041.68
A19: Specializētās slimnīcas | B19: Rīgas Dzemdību nams | C19: Māsas palīgs | D19: 1 | E19: 0 | F19: 0 | G19: =ROUND($D19*'2p_turp_aprekins uzn'!$AX$31,2) -> 65371.8 | H19: =ROUND($G19*$H$5,2) -> 15421.21 | I19: 0 | J19: 0 | K19: 0 | L19: 0 | M19: =SUM(G19:L19) -> 80793.01
A20: Specializētās slimnīcas | B20: KOPĀ | D20: =D11+D12+D13+D14+D15+D16+D17+D18+D19 -> 3 | E20: =E11+E12+E13+E14+E15+E16+E17+E18+E19 -> 0 | F20: =F11+F12+F13+F14+F15+F16+F17+F18+F19 -> 0 | G20: =G11+G12+G13+G14+G15+G16+G17+G18+G19 -> 261713.4 | H20: =H11+H12+H13+H14+H15+H16+H17+H18+H19 -> 61738.19 | I20: =I11+I12+I13+I14+I15+I16+I17+I18+I19 -> 0 | J20: =J11+J12+J13+J14+J15+J16+J17+J18+J19 -> 56094.8 | K20: =K11+K12+K13+K14+K15+K16+K17+K18+K19 -> 3966.1 | ... M20: =M11+M12+M13+M14+M15+M16+M17+M18+M19 -> 389834.69
A21: Specializētās slimnīcas | B21: Traumatoloģijas un ortopēdijas slimnīca | C21: Neatliekamās medicīnas ārsts | D21: 0 | E21: 0 | F21: 0 | G21: 0 | H21: 0 | I21: 0 | J21: 0 | K21: 0 | L21: 0 | M21: =SUM(G21:L21) -> 0
A22: Specializētās slimnīcas | B22: Traumatoloģijas un ortopēdijas slimnīca | C22: Traumatologs, ortopēds | D22: 3 | E22: 0 | F22: 0 | G22: =ROUND($D22*'2p_turp_aprekins uzn'!$AX$19,2) -> 488592 | H22: =ROUND(G22*$H$5,2) -> 115258.85 | I22: =ROUND($D22*$I$5,2) -> 41571 | J22: =ROUND($G22*$J$5,2) -> 139590.73 | K22: =ROUND($G22*$K$5,2) -> 9869.56 | L22: =ROUND($G22*$L$5,2) -> 15732.66 | M22: =SUM(G22:L22) -> 810614.8
A23: Specializētās slimnīcas | B23: Traumatoloģijas un ortopēdijas slimnīca | C23: Anesteziologs, reanimatologs | D23: 0 | E23: 0 | F23: 0 | G23: 0 | H23: 0 | I23: 0 | J23: 0 | K23: 0 | L23: 0 | M23: =SUM(G23:L23) -> 0
A24: Specializētās slimnīcas | B24: Traumatoloģijas un ortopēdijas slimnīca | C24: Radiologs | D24: 1 | E24: 0 | F24: 0 | G24: =ROUND($D24*'2p_turp_aprekins uzn'!$AX$19,2) -> 162864 | H24: =ROUND(G24*$H$5,2) -> 38419.62 | I24: =ROUND($D24*$I$5,2) -> 13857 | J24: =ROUND($G24*$J$5,2) -> 46530.24 | K24: =ROUND($G24*$K$5,2) -> 3289.85 | L24: =ROUND($G24*$L$5,2) -> 5244.22 | M24: =SUM(G24:L24) -> 270204.93
A25: Specializētās slimnīcas | B25: Traumatoloģijas un ortopēdijas slimnīca | C25: Radiologa asistents/radiogrāfers | D25: 2 | E25: 0 | F25: 0 | G25: =ROUND($D25*'2p_turp_aprekins uzn'!$AX$26,2) -> 196341.6 | H25: =ROUND($G25*$H$5,2) -> 46316.98 | I25: 0 | J25: 0 | K25: 0 | L25: 0 | M25: =SUM(G25:L25) -> 242658.58
A26: Specializētās slimnīcas | B26: Traumatoloģijas un ortopēdijas slimnīca | C26: Māsa | D26: =5+1 -> 6 | E26: 0 | F26: 0 | G26: =ROUND($D26*'2p_turp_aprekins uzn'!$AX$26,2) -> 589024.8 | H26: =ROUND($G26*$H$5,2) -> 138950.95 | I26: 0 | J26: 0 | K26: 0 | L26: 0 | M26: =SUM(G26:L26) -> 727975.75
A27: Specializētās slimnīcas | B27: Traumatoloģijas un ortopēdijas slimnīca | C27: Māsas palīgs | D27: =3+1 -> 4 | E27: 0 | F27: 0 | G27: =ROUND($D27*'2p_turp_aprekins uzn'!$AX$31,2) -> 261487.2 | H27: =ROUND($G27*$H$5,2) -> 61684.83 | I27: 0 | J27: 0 | K27: 0 | L27: 0 | M27: =SUM(G27:L27) -> 323172.03
A28: Specializētās slimnīcas | B28: Traumatoloģijas un ortopēdijas slimnīca | C28: Ārsta palīgs | D28: 0 | E28: 0 | F28: 0 | G28: 0 | H28: 0 | I28: 0 | J28: 0 | K28: 0 | L28: 0 | M28: =SUM(G28:L28) -> 0
A29: Specializētās slimnīcas | B29: KOPĀ | D29: =D21+D22+D23+D24+D25+D26+D27+D28 -> 16 | E29: =E21+E22+E23+E24+E25+E26+E27+E28 -> 0 | F29: =F21+F22+F23+F24+F25+F26+F27+F28 -> 0 | G29: =G21+G22+G23+G24+G25+G26+G27+G28 -> 1698309.6 | H29: =H21+H22+H23+H24+H25+H26+H27+H28 -> 400631.23 | I29: =I21+I22+I23+I24+I25+I26+I27+I28 -> 55428 | J29: =J21+J22+J23+J24+J25+J26+J27+J28 -> 186120.97 | K29: =K21+K22+K23+K24+K25+K26+K27+K28 -> 13159.41 | L29: =L21+L22+L23+L24+L25+L26+L27+L28 -> 20976.88 | M29: =ROUND(M21+M22+M23+M24+M25+M26+M27+M28,0) -> 2374626
A30: Specializētās slimnīcas | B30: Rīgas 2. slimnīca | C30: Neatliekamās medicīnas ārsts vai internists | D30: 0 | E30: 0 | F30: 0 | G30: 0 | H30: 0 | I30: 0 | J30: 0 | K30: 0 | L30: 0 | M30: =SUM(G30:L30) -> 0
A31: Specializētās slimnīcas | B31: Rīgas 2. slimnīca | C31: Traumatologs, ortopēds | D31: 2 | E31: 0 | F31: 0 | G31: =ROUND($D31*'2p_turp_aprekins uzn'!$AX$19,2) -> 325728 | H31: =ROUND(G31*$H$5,2) -> 76839.24 | I31: =ROUND($D31*$I$5,2) -> 27714 | J31: =ROUND($G31*$J$5,2) -> 93060.49 | K31: =ROUND($G31*$K$5,2) -> 6579.71 | L31: =ROUND($G31*$L$5,2) -> 10488.44 | M31: =SUM(G31:L31) -> 540409.88
A32: Specializētās slimnīcas | B32: Rīgas 2. slimnīca | C32: Anesteziologs, reanimatologs | D32: 0 | E32: 0 | F32: 0 | G32: 0 | H32: 0 | I32: 0 | J32: 0 | K32: 0 | L32: 0 | M32: =SUM(G32:L32) -> 0
A33: Specializētās slimnīcas | B33: Rīgas 2. slimnīca | C33: Radiologs (attālināti) 50% | D33: 0 | E33: 0 | F33: 0 | G33: 0 | H33: 0 | I33: 0 | J33: 0 | K33: 0 | L33: 0 | M33: =SUM(G33:L33) -> 0
A34: Specializētās slimnīcas | B34: Rīgas 2. slimnīca | C34: Radiologa asistents/radiogrāfers | D34: 1 | E34: 0 | F34: 0 | G34: =ROUND($D34*'2p_turp_aprekins uzn'!$AX$26,2) -> 98170.8 | H34: =ROUND($G34*$H$5,2) -> 23158.49 | I34: 0 | J34: 0 | K34: 0 | L34: 0 | M34: =SUM(G34:L34) -> 121329.29
A35: Specializētās slimnīcas | B35: Rīgas 2. slimnīca | C35: Māsa | D35: 2 | E35: 0 | F35: 0 | G35: =ROUND($D35*'2p_turp_aprekins uzn'!$AX$26,2) -> 196341.6 | H35: =ROUND($G35*$H$5,2) -> 46316.98 | I35: 0 | J35: 0 | K35: 0 | L35: 0 | M35: =SUM(G35:L35) -> 242658.58
A36: Specializētās slimnīcas | B36: Rīgas 2. slimnīca | C36: Vecmāte | D36: 0 | E36: 0 | F36: 0 | G36: 0 | H36: 0 | I36: 0 | J36: 0 | K36: 0 | L36: 0 | M36: =SUM(G36:L36) -> 0
A37: Specializētās slimnīcas | B37: Rīgas 2. slimnīca | C37: Māsas palīgs | D37: 2 | E37: 0 | F37: 0 | G37: =ROUND($D37*'2p_turp_aprekins uzn'!$AX$31,2) -> 130743.6 | H37: =ROUND($G37*$H$5,2) -> 30842.42 | I37: 0 | J37: 0 | K37: 0 | L37: 0 | M37: =SUM(G37:L37) -> 161586.02
A38: Specializētās slimnīcas | B38: Rīgas 2. slimnīca | C38: Ārsta palīgs | D38: 0 | E38: 0 | F38: 0 | G38: 0 | H38: 0 | I38: 0 | J38: 0 | K38: 0 | L38: 0 | M38: =SUM(G38:L38) -> 0
A39: Specializētās slimnīcas | B39: KOPĀ | D39: =D30+D31+D32+D33+D34+D35+D36+D37+D38 -> 7 | E39: =E30+E31+E32+E33+E34+E35+E36+E37+E38 -> 0 | F39: =F30+F31+F32+F33+F34+F35+F36+F37+F38 -> 0 | G39: =G30+G31+G32+G33+G34+G35+G36+G37+G38 -> 750984 | H39: =H30+H31+H32+H33+H34+H35+H36+H37+H38 -> 177157.13 | I39: =I30+I31+I32+I33+I34+I35+I36+I37+I38 -> 27714 | J39: =J30+J31+J32+J33+J34+J35+J36+J37+J38 -> 93060.49 | K39: =K30+K31+K32+K33+K34+K35+K36+K37+K38 -> 6579.71 | ... M39: =M30+M31+M32+M33+M34+M35+M36+M37+M38 -> 1065983.8
A40: Specializētās slimnīcas | B40: Daugavpils psihoneiroloģiskā slimnīca | C40: Psihiatrs vai narkologs | D40: 0 | E40: 0 | F40: 1 | G40: =ROUND($F40*'2p_turp_aprekins uzn'!$AX$14,2) -> 28800 | H40: =ROUND(G40*$H$5,2) -> 6793.92 | I40: =ROUND($F40*$I$5/3,2) -> 4619 | J40: =ROUND($G40*$J$5,2) -> 8228.16 | K40: =ROUND($G40*$K$5,2) -> 581.76 | L40: =ROUND($G40*$L$5,2) -> 927.36 | M40: =SUM(G40:L40) -> 49950.2
A41: Specializētās slimnīcas | B41: Daugavpils psihoneiroloģiskā slimnīca | C41: Māsa/ārsta palīgs | D41: 1 | E41: 0 | F41: 0 | G41: =ROUND($D41*'2p_turp_aprekins uzn'!$AX$26,2) -> 98170.8 | H41: =ROUND($G41*$H$5,2) -> 23158.49 | I41: 0 | J41: 0 | K41: 0 | L41: 0 | M41: =SUM(G41:L41) -> 121329.29
...

Sheet 2p_turp_dezurarsti
A1: Dežūrārstu atalgojumam nepieciešamā finansējuma aprēķins no 2027. gada | Y1: 2.pielikuma turpinājums MK noteikumu projekta "Grozījumi Ministru kabineta 2018.gada 28.augusta noteikumos Nr.555 „Veselības aprūpes pakalpojumu organizēšanas un samaksas kārtība"" anotācijai
K4: VSAOI
D5: Dežūrārsti | K5: 0.2359 | Q5: 0.2857 | T5: 0.0202 | W5: 0.0322
A6: Līmenis | B6: Ārstniecības iestāde | C6: Speciālisti (jaunais) | D6: Speciālistu skaits 16.00-8.00 (16h) darba dienās | E6: Speciālistu skaits 8.00-8.00 (24h) brīvdienās, svētku dienās | F6: D dež dd | G6: D dež br | H6: D dež kopā | I6: S dež dd | J6: S dež br | K6: S dež kopā | L6: M dež dd | M6: M dež br | N6: M dež kopā | O6: U dež dd | P6: U dež br | Q6: U dež kopā | R6: A dež dd | S6: A dež br | T6: A dež kopā | U6: n dež dd | V6: n dež br | W6: n dež kopā | X6: Maksājums par dežūrārstiem kopā
A7: Specializētās slimnīcas | B7: Vaivari, nacionālais rehabilitācijas centrs | C7: Internists vai anesteziologs, reanimatologs | D7: 1 | E7: 1 | F7: =ROUND($D7*'2p_turp_aprekins dez'!$AX$16,2) -> 79200 | G7: =ROUND($E7*'2p_turp_aprekins dez'!$AX$17,2) -> 54864 | H7: =SUM(F7:G7) -> 134064 | I7: =ROUND($F7*$K$5,2) -> 18683.28 | J7: =ROUND($G7*$K$5,2) -> 12942.42 | K7: =SUM(I7:J7) -> 31625.7 | L7: 0 | M7: 0 | N7: =SUM(L7:M7) -> 0 | O7: =ROUND($F7*$Q$5,2) -> 22627.44 | P7: =ROUND($G7*$Q$5,2) -> 15674.64 | Q7: =SUM(O7:P7) -> 38302.08 | R7: =ROUND($F7*$T$5,2) -> 1599.84 | S7: =ROUND($G7*$T$5,2) -> 1108.25 | T7: =SUM(R7:S7) -> 2708.09 | U7: =ROUND($F7*$W$5,2) -> 2550.24 | V7: =ROUND($G7*$W$5,2) -> 1766.62 | W7: =SUM(U7:V7) -> 4316.86 | X7: =ROUND(H7+K7+N7+Q7+T7+W7,0) -> 211017
A8: Specializētās slimnīcas | B8: Vaivari, nacionālais rehabilitācijas centrs | C8: Māsa | D8: 0 | E8: 0 | F8: 0 | G8: 0 | H8: =SUM(F8:G8) -> 0 | I8: 0 | J8: 0 | K8: =SUM(I8:J8) -> 0 | L8: 0 | M8: 0 | N8: =SUM(L8:M8) -> 0 | O8: 0 | P8: 0 | Q8: =SUM(O8:P8) -> 0 | R8: 0 | S8: 0 | T8: =SUM(R8:S8) -> 0 | U8: 0 | V8: 0 | W8: =SUM(U8:V8) -> 0 | X8: =ROUND(H8+K8+N8+Q8+T8+W8,0) -> 0
A9: Specializētās slimnīcas | B9: Vaivari, nacionālais rehabilitācijas centrs | C9: Māsas palīgs | D9: 0 | E9: 0 | F9: 0 | G9: 0 | H9: =SUM(F9:G9) -> 0 | I9: 0 | J9: 0 | K9: =SUM(I9:J9) -> 0 | L9: 0 | M9: 0 | N9: =SUM(L9:M9) -> 0 | O9: 0 | P9: 0 | Q9: =SUM(O9:P9) -> 0 | R9: 0 | S9: 0 | T9: =SUM(R9:S9) -> 0 | U9: 0 | V9: 0 | W9: =SUM(U9:V9) -> 0 | X9: =ROUND(H9+K9+N9+Q9+T9+W9,0) -> 0
A10: Specializētās slimnīcas | B10: KOPĀ | D10: =D7+D8+D9 -> 1 | E10: =E7+E8+E9 -> 1 | F10: =F7+F8+F9 -> 79200 | G10: =G7+G8+G9 -> 54864 | H10: =H7+H8+H9 -> 134064 | I10: =I7+I8+I9 -> 18683.28 | J10: =J7+J8+J9 -> 12942.42 | K10: =K7+K8+K9 -> 31625.7 | ... W10: =W7+W8+W9 -> 4316.86 | X10: =ROUND(X7+X8+X9,0) -> 211017
A11: Specializētās slimnīcas | B11: Rīgas Dzemdību nams | C11: Ginekologs, dzemdību speciālists | D11: 4 | E11: 4 | F11: =ROUND($D11*'2p_turp_aprekins dez'!$AX$16,2) -> 316800 | G11: =ROUND($E11*'2p_turp_aprekins dez'!$AX$17,2) -> 219456 | H11: =SUM(F11:G11) -> 536256 | I11: =ROUND($F11*$K$5,2) -> 74733.12 | J11: =ROUND($G11*$K$5,2) -> 51769.67 | K11: =SUM(I11:J11) -> 126502.79 | L11: 0 | M11: 0 | N11: =SUM(L11:M11) -> 0 | O11: =ROUND($F11*$Q$5,2) -> 90509.76 | P11: =ROUND($G11*$Q$5,2) -> 62698.58 | Q11: =SUM(O11:P11) -> 153208.34 | R11: =ROUND($F11*$T$5,2) -> 6399.36 | S11: =ROUND($G11*$T$5,2) -> 4433.01 | T11: =SUM(R11:S11) -> 10832.37 | U11: =ROUND($F11*$W$5,2) -> 10200.96 | V11: =ROUND($G11*$W$5,2) -> 7066.48 | W11: =SUM(U11:V11) -> 17267.44 | X11: =ROUND(H11+K11+N11+Q11+T11+W11,0) -> 844067
A12: Specializētās slimnīcas | B12: Rīgas Dzemdību nams | C12: Neonatologs | D12: 2 | E12: 2 | F12: =ROUND($D12*'2p_turp_aprekins dez'!$AX$16,2) -> 158400 | G12: =ROUND($E12*'2p_turp_aprekins dez'!$AX$17,2) -> 109728 | H12: =SUM(F12:G12) -> 268128 | I12: =ROUND($F12*$K$5,2) -> 37366.56 | J12: =ROUND($G12*$K$5,2) -> 25884.84 | K12: =SUM(I12:J12) -> 63251.4 | L12: 0 | M12: 0 | N12: =SUM(L12:M12) -> 0 | O12: =ROUND($F12*$Q$5,2) -> 45254.88 | P12: =ROUND($G12*$Q$5,2) -> 31349.29 | Q12: =SUM(O12:P12) -> 76604.17 | R12: =ROUND($F12*$T$5,2) -> 3199.68 | S12: =ROUND($G12*$T$5,2) -> 2216.51 | T12: =SUM(R12:S12) -> 5416.19 | U12: =ROUND($F12*$W$5,2) -> 5100.48 | V12: =ROUND($G12*$W$5,2) -> 3533.24 | W12: =SUM(U12:V12) -> 8633.72 | X12: =ROUND(H12+K12+N12+Q12+T12+W12,0) -> 422033
A13: Specializētās slimnīcas | B13: Rīgas Dzemdību nams | C13: Anesteziologs, reanimatologs | D13: 2 | E13: 2 | F13: =ROUND($D13*'2p_turp_aprekins dez'!$AX$16,2) -> 158400 | G13: =ROUND($E13*'2p_turp_aprekins dez'!$AX$17,2) -> 109728 | H13: =SUM(F13:G13) -> 268128 | I13: =ROUND($F13*$K$5,2) -> 37366.56 | J13: =ROUND($G13*$K$5,2) -> 25884.84 | K13: =SUM(I13:J13) -> 63251.4 | L13: 0 | M13: 0 | N13: =SUM(L13:M13) -> 0 | O13: =ROUND($F13*$Q$5,2) -> 45254.88 | P13: =ROUND($G13*$Q$5,2) -> 31349.29 | Q13: =SUM(O13:P13) -> 76604.17 | R13: =ROUND($F13*$T$5,2) -> 3199.68 | S13: =ROUND($G13*$T$5,2) -> 2216.51 | T13: =SUM(R13:S13) -> 5416.19 | U13: =ROUND($F13*$W$5,2) -> 5100.48 | V13: =ROUND($G13*$W$5,2) -> 3533.24 | W13: =SUM(U13:V13) -> 8633.72 | X13: =ROUND(H13+K13+N13+Q13+T13+W13,0) -> 422033
A14: Specializētās slimnīcas | B14: Rīgas Dzemdību nams | C14: Radiologs (attālināti) 50% | D14: 1 | E14: 1 | F14: =ROUND($D14*'2p_turp_aprekins dez'!$AX$20,2) -> 39600 | G14: =ROUND($E14*'2p_turp_aprekins dez'!$AX$21,2) -> 27432 | H14: =SUM(F14:G14) -> 67032 | I14: =ROUND($F14*$K$5,2) -> 9341.64 | J14: =ROUND($G14*$K$5,2) -> 6471.21 | K14: =SUM(I14:J14) -> 15812.85 | L14: 0 | M14: 0 | N14: =SUM(L14:M14) -> 0 | O14: =ROUND($F14*$Q$5,2) -> 11313.72 | P14: =ROUND($G14*$Q$5,2) -> 7837.32 | Q14: =SUM(O14:P14) -> 19151.04 | R14: =ROUND($F14*$T$5,2) -> 799.92 | S14: =ROUND($G14*$T$5,2) -> 554.13 | T14: =SUM(R14:S14) -> 1354.05 | U14: =ROUND($F14*$W$5,2) -> 1275.12 | V14: =ROUND($G14*$W$5,2) -> 883.31 | W14: =SUM(U14:V14) -> 2158.43 | X14: =ROUND(H14+K14+N14+Q14+T14+W14,0) -> 105508
A15: Specializētās slimnīcas | B15: Rīgas Dzemdību nams | C15: Radiologa asistents/radiogrāfers (attālināti) 50% | D15: 1 | E15: 1 | F15: ='2p_turp_aprekins dez'!AX22 -> 23870 | G15: ='2p_turp_aprekins dez'!AX23 -> 16535.4 | H15: =SUM(F15:G15) -> 40405.4 | I15: =ROUND($F15*$K$5,2) -> 5630.93 | J15: =ROUND($G15*$K$5,2) -> 3900.7 | K15: =SUM(I15:J15) -> 9531.63 | L15: 0 | M15: 0 | N15: =SUM(L15:M15) -> 0 | O15: =ROUND($F15*$Q$5,2) -> 6819.66 | P15: =ROUND($G15*$Q$5,2) -> 4724.16 | Q15: =SUM(O15:P15) -> 11543.82 | R15: =ROUND($F15*$T$5,2) -> 482.17 | S15: =ROUND($G15*$T$5,2) -> 334.02 | T15: =SUM(R15:S15) -> 816.19 | U15: =ROUND($F15*$W$5,2) -> 768.61 | V15: =ROUND($G15*$W$5,2) -> 532.44 | W15: =SUM(U15:V15) -> 1301.05 | X15: =ROUND(H15+K15+N15+Q15+T15+W15,0) -> 63598
A16: Specializētās slimnīcas | B16: Rīgas Dzemdību nams | C16: Citi speciālisti (proktologs attālināti 50%) | D16: 0 | E16: 0 | F16: =ROUND($D16*'2p_turp_aprekins dez'!$AX$20,2) -> 0 | G16: =ROUND($E16*'2p_turp_aprekins dez'!$AX$21,2) -> 0 | H16: =SUM(F16:G16) -> 0 | I16: =ROUND($F16*$K$5,2) -> 0 | J16: =ROUND($G16*$K$5,2) -> 0 | K16: =SUM(I16:J16) -> 0 | L16: 0 | M16: 0 | N16: =SUM(L16:M16) -> 0 | O16: =ROUND($F16*$Q$5,2) -> 0 | P16: =ROUND($G16*$Q$5,2) -> 0 | Q16: =SUM(O16:P16) -> 0 | R16: =ROUND($F16*$T$5,2) -> 0 | S16: =ROUND($G16*$T$5,2) -> 0 | T16: =SUM(R16:S16) -> 0 | U16: =ROUND($F16*$W$5,2) -> 0 | V16: =ROUND($G16*$W$5,2) -> 0 | W16: =SUM(U16:V16) -> 0 | X16: =ROUND(H16+K16+N16+Q16+T16+W16,0) -> 0
A17: Specializētās slimnīcas | B17: Rīgas Dzemdību nams | C17: Māsa | D17: =2-2 -> 0 | E17: 0 | F17: 0 | G17: 0 | H17: =SUM(F17:G17) -> 0 | I17: 0 | J17: 0 | K17: =SUM(I17:J17) -> 0 | L17: 0 | M17: 0 | N17: =SUM(L17:M17) -> 0 | O17: 0 | P17: 0 | Q17: =SUM(O17:P17) -> 0 | R17: 0 | S17: 0 | T17: =SUM(R17:S17) -> 0 | U17: 0 | V17: 0 | W17: =SUM(U17:V17) -> 0 | X17: =ROUND(H17+K17+N17+Q17+T17+W17,0) -> 0
A18: Specializētās slimnīcas | B18: Rīgas Dzemdību nams | C18: Vecmāte | D18: 6 | E18: 6 | F18: =ROUND($D18*'2p_turp_aprekins dez'!$AX$28,2) -> 286440 | G18: =ROUND($E18*'2p_turp_aprekins dez'!$AX$29,2) -> 198424.8 | H18: =SUM(F18:G18) -> 484864.8 | I18: =ROUND($F18*$K$5,2) -> 67571.2 | J18: =ROUND($G18*$K$5,2) -> 46808.41 | K18: =SUM(I18:J18) -> 114379.61 | L18: 0 | M18: 0 | N18: =SUM(L18:M18) -> 0 | O18: =ROUND($F18*$Q$5,2) -> 81835.91 | P18: =ROUND($G18*$Q$5,2) -> 56689.97 | Q18: =SUM(O18:P18) -> 138525.88 | R18: =ROUND($F18*$T$5,2) -> 5786.09 | S18: =ROUND($G18*$T$5,2) -> 4008.18 | T18: =SUM(R18:S18) -> 9794.27 | U18: =ROUND($F18*$W$5,2) -> 9223.37 | V18: =ROUND($G18*$W$5,2) -> 6389.28 | W18: =SUM(U18:V18) -> 15612.65 | X18: =ROUND(H18+K18+N18+Q18+T18+W18,0) -> 763177
A19: Specializētās slimnīcas | B19: Rīgas Dzemdību nams | C19: Māsas palīgs | D19: 0 | E19: 0 | F19: 0 | G19: 0 | H19: =SUM(F19:G19) -> 0 | I19: 0 | J19: 0 | K19: =SUM(I19:J19) -> 0 | L19: 0 | M19: 0 | N19: =SUM(L19:M19) -> 0 | O19: 0 | P19: 0 | Q19: =SUM(O19:P19) -> 0 | R19: 0 | S19: 0 | T19: =SUM(R19:S19) -> 0 | U19: 0 | V19: 0 | W19: =SUM(U19:V19) -> 0 | X19: =ROUND(H19+K19+N19+Q19+T19+W19,0) -> 0
A20: Specializētās slimnīcas | B20: Rīgas Dzemdību nams | C20: Ārsta palīgs | D20: 0 | E20: 0 | F20: 0 | G20: 0 | H20: =SUM(F20:G20) -> 0 | I20: 0 | J20: 0 | K20: =SUM(I20:J20) -> 0 | L20: 0 | M20: 0 | N20: =SUM(L20:M20) -> 0 | O20: 0 | P20: 0 | Q20: =SUM(O20:P20) -> 0 | R20: 0 | S20: 0 | T20: =SUM(R20:S20) -> 0 | U20: 0 | V20: 0 | W20: =SUM(U20:V20) -> 0 | X20: =ROUND(H20+K20+N20+Q20+T20+W20,0) -> 0
A21: Specializētās slimnīcas | B21: KOPĀ | D21: =D11+D12+D13+D14+D15+D16+D17+D18+D19+D20 -> 16 | E21: =E11+E12+E13+E14+E15+E16+E17+E18+E19+E20 -> 16 | F21: =F11+F12+F13+F14+F15+F16+F17+F18+F19+F20 -> 983510 | G21: =G11+G12+G13+G14+G15+G16+G17+G18+G19+G20 -> 681304.2 | H21: =H11+H12+H13+H14+H15+H16+H17+H18+H19+H20 -> 1664814.2 | I21: =I11+I12+I13+I14+I15+I16+I17+I18+I19+I20 -> 232010.01 | J21: =J11+J12+J13+J14+J15+J16+J17+J18+J19+J20 -> 160719.67 | K21: =K11+K12+K13+K14+K15+K16+K17+K18+K19+K20 -> 392729.68 | ... W21: =W11+W12+W13+W14+W15+W16+W17+W18+W19+W20 -> 53607.01 | X21: =ROUND(X11+X12+X13+X14+X15+X16+X17+X18+X19+X20,0) -> 2620416
A22: Specializētās slimnīcas | B22: Traumatoloģijas un ortopēdijas slimnīca | C22: Neatliekamās medicīnas ārsts | D22: 0 | E22: 0 | F22: 0 | G22: 0 | H22: =SUM(F22:G22) -> 0 | I22: 0 | J22: 0 | K22: =SUM(I22:J22) -> 0 | L22: 0 | M22: 0 | N22: =SUM(L22:M22) -> 0 | O22: 0 | P22: 0 | Q22: =SUM(O22:P22) -> 0 | R22: 0 | S22: 0 | T22: =SUM(R22:S22) -> 0 | U22: 0 | V22: 0 | W22: =SUM(U22:V22) -> 0 | X22: =ROUND(H22+K22+N22+Q22+T22+W22,0) -> 0
A23: Specializētās slimnīcas | B23: Traumatoloģijas un ortopēdijas slimnīca | C23: Traumatologs, ortopēds | D23: 0 | E23: 0 | F23: 0 | G23: 0 | H23: =SUM(F23:G23) -> 0 | I23: 0 | J23: 0 | K23: =SUM(I23:J23) -> 0 | L23: 0 | M23: 0 | N23: =SUM(L23:M23) -> 0 | O23: 0 | P23: 0 | Q23: =SUM(O23:P23) -> 0 | R23: 0 | S23: 0 | T23: =SUM(R23:S23) -> 0 | U23: 0 | V23: 0 | W23: =SUM(U23:V23) -> 0 | X23: =ROUND(H23+K23+N23+Q23+T23+W23,0) -> 0
A24: Specializētās slimnīcas | B24: Traumatoloģijas un ortopēdijas slimnīca | C24: Anesteziologs, reanimatologs | D24: 1 | E24: 1 | F24: =ROUND($D24*'2p_turp_aprekins dez'!$AX$16,2) -> 79200 | G24: =ROUND($E24*'2p_turp_aprekins dez'!$AX$17,2) -> 54864 | H24: =SUM(F24:G24) -> 134064 | I24: =ROUND($F24*$K$5,2) -> 18683.28 | J24: =ROUND($G24*$K$5,2) -> 12942.42 | K24: =SUM(I24:J24) -> 31625.7 | L24: 0 | M24: 0 | N24: =SUM(L24:M24) -> 0 | O24: =ROUND($F24*$Q$5,2) -> 22627.44 | P24: =ROUND($G24*$Q$5,2) -> 15674.64 | Q24: =SUM(O24:P24) -> 38302.08 | R24: =ROUND($F24*$T$5,2) -> 1599.84 | S24: =ROUND($G24*$T$5,2) -> 1108.25 | T24: =SUM(R24:S24) -> 2708.09 | U24: =ROUND($F24*$W$5,2) -> 2550.24 | V24: =ROUND($G24*$W$5,2) -> 1766.62 | W24: =SUM(U24:V24) -> 4316.86 | X24: =ROUND(H24+K24+N24+Q24+T24+W24,0) -> 211017
A25: Specializētās slimnīcas | B25: Traumatoloģijas un ortopēdijas slimnīca | C25: Radiologs (attālināti) 50% | D25: 0 | E25: 0 | F25: =ROUND($D25*'2p_turp_aprekins dez'!$AX$16,2) -> 0 | G25: =ROUND($E25*'2p_turp_aprekins dez'!$AX$17,2) -> 0 | H25: =SUM(F25:G25) -> 0 | I25: =ROUND($F25*$K$5,2) -> 0 | J25: =ROUND($G25*$K$5,2) -> 0 | K25: =SUM(I25:J25) -> 0 | L25: 0 | M25: 0 | N25: =SUM(L25:M25) -> 0 | O25: =ROUND($F25*$Q$5,2) -> 0 | P25: =ROUND($G25*$Q$5,2) -> 0 | Q25: =SUM(O25:P25) -> 0 | R25: =ROUND($F25*$T$5,2) -> 0 | S25: =ROUND($G25*$T$5,2) -> 0 | T25: =SUM(R25:S25) -> 0 | U25: =ROUND($F25*$W$5,2) -> 0 | V25: =ROUND($G25*$W$5,2) -> 0 | W25: =SUM(U25:V25) -> 0 | X25: =ROUND(H25+K25+N25+Q25+T25+W25,0) -> 0
A26: Specializētās slimnīcas | B26: Traumatoloģijas un ortopēdijas slimnīca | C26: Radiologa asistents/radiogrāfers | D26: 0 | E26: 0 | F26: 0 | G26: 0 | H26: =SUM(F26:G26) -> 0 | I26: 0 | J26: 0 | K26: =SUM(I26:J26) -> 0 | L26: 0 | M26: 0 | N26: =SUM(L26:M26) -> 0 | O26: 0 | P26: 0 | Q26: =SUM(O26:P26) -> 0 | R26: 0 | S26: 0 | T26: =SUM(R26:S26) -> 0 | U26: 0 | V26: 0 | W26: =SUM(U26:V26) -> 0 | X26: =ROUND(H26+K26+N26+Q26+T26+W26,0) -> 0
A27: Specializētās slimnīcas | B27: Traumatoloģijas un ortopēdijas slimnīca | C27: Māsa | D27: 0 | E27: 0 | F27: 0 | G27: 0 | H27: =SUM(F27:G27) -> 0 | I27: 0 | J27: 0 | K27: =SUM(I27:J27) -> 0 | L27: 0 | M27: 0 | N27: =SUM(L27:M27) -> 0 | O27: 0 | P27: 0 | Q27: =SUM(O27:P27) -> 0 | R27: 0 | S27: 0 | T27: =SUM(R27:S27) -> 0 | U27: 0 | V27: 0 | W27: =SUM(U27:V27) -> 0 | X27: =ROUND(H27+K27+N27+Q27+T27+W27,0) -> 0
A28: Specializētās slimnīcas | B28: Traumatoloģijas un ortopēdijas slimnīca | C28: Māsas palīgs | D28: 0 | E28: 0 | F28: 0 | G28: 0 | H28: =SUM(F28:G28) -> 0 | I28: 0 | J28: 0 | K28: =SUM(I28:J28) -> 0 | L28: 0 | M28: 0 | N28: =SUM(L28:M28) -> 0 | O28: 0 | P28: 0 | Q28: =SUM(O28:P28) -> 0 | R28: 0 | S28: 0 | T28: =SUM(R28:S28) -> 0 | U28: 0 | V28: 0 | W28: =SUM(U28:V28) -> 0 | X28: =ROUND(H28+K28+N28+Q28+T28+W28,0) -> 0
A29: Specializētās slimnīcas | B29: Traumatoloģijas un ortopēdijas slimnīca | C29: Ārsta palīgs | D29: 0 | E29: 0 | F29: 0 | G29: 0 | H29: =SUM(F29:G29) -> 0 | I29: 0 | J29: 0 | K29: =SUM(I29:J29) -> 0 | L29: 0 | M29: 0 | N29: =SUM(L29:M29) -> 0 | O29: 0 | P29: 0 | Q29: =SUM(O29:P29) -> 0 | R29: 0 | S29: 0 | T29: =SUM(R29:S29) -> 0 | U29: 0 | V29: 0 | W29: =SUM(U29:V29) -> 0 | X29: =ROUND(H29+K29+N29+Q29+T29+W29,0) -> 0
A30: Specializētās slimnīcas | B30: KOPĀ | D30: =D22+D23+D24+D25+D26+D27+D28+D29 -> 1 | E30: =E22+E23+E24+E25+E26+E27+E28+E29 -> 1 | F30: =F22+F23+F24+F25+F26+F27+F28+F29 -> 79200 | G30: =G22+G23+G24+G25+G26+G27+G28+G29 -> 54864 | H30: =H22+H23+H24+H25+H26+H27+H28+H29 -> 134064 | I30: =I22+I23+I24+I25+I26+I27+I28+I29 -> 18683.28 | J30: =J22+J23+J24+J25+J26+J27+J28+J29 -> 12942.42 | K30: =K22+K23+K24+K25+K26+K27+K28+K29 -> 31625.7 | ... W30: =W22+W23+W24+W25+W26+W27+W28+W29 -> 4316.86 | X30: =ROUND(X22+X23+X24+X25+X26+X27+X28+X29,0) -> 211017
A31: Specializētās slimnīcas | B31: Rīgas 2. slimnīca | C31: Neatliekamās medicīnas ārsts vai internists | D31: 0 | E31: 0 | F31: 0 | G31: 0 | H31: =SUM(F31:G31) -> 0 | I31: 0 | J31: 0 | K31: =SUM(I31:J31) -> 0 | L31: 0 | M31: 0 | N31: =SUM(L31:M31) -> 0 | O31: 0 | P31: 0 | Q31: =SUM(O31:P31) -> 0 | R31: 0 | S31: 0 | T31: =SUM(R31:S31) -> 0 | U31: 0 | V31: 0 | W31: =SUM(U31:V31) -> 0 | X31: =ROUND(H31+K31+N31+Q31+T31+W31,0) -> 0
A32: Specializētās slimnīcas | B32: Rīgas 2. slimnīca | C32: Traumatologs, ortopēds | D32: 0 | E32: 0 | F32: 0 | G32: 0 | H32: =SUM(F32:G32) -> 0 | I32: 0 | J32: 0 | K32: =SUM(I32:J32) -> 0 | L32: 0 | M32: 0 | N32: =SUM(L32:M32) -> 0 | O32: 0 | P32: 0 | Q32: =SUM(O32:P32) -> 0 | R32: 0 | S32: 0 | T32: =SUM(R32:S32) -> 0 | U32: 0 | V32: 0 | W32: =SUM(U32:V32) -> 0 | X32: =ROUND(H32+K32+N32+Q32+T32+W32,0) -> 0
A33: Specializētās slimnīcas | B33: Rīgas 2. slimnīca | C33: Anesteziologs, reanimatologs | D33: 1 | E33: 1 | F33: =ROUND($D33*'2p_turp_aprekins dez'!$AX$16,2) -> 79200 | G33: =ROUND($E33*'2p_turp_aprekins dez'!$AX$17,2) -> 54864 | H33: =SUM(F33:G33) -> 134064 | I33: =ROUND($F33*$K$5,2) -> 18683.28 | J33: =ROUND($G33*$K$5,2) -> 12942.42 | K33: =SUM(I33:J33) -> 31625.7 | L33: 0 | M33: 0 | N33: =SUM(L33:M33) -> 0 | O33: =ROUND($F33*$Q$5,2) -> 22627.44 | P33: =ROUND($G33*$Q$5,2) -> 15674.64 | Q33: =SUM(O33:P33) -> 38302.08 | R33: =ROUND($F33*$T$5,2) -> 1599.84 | S33: =ROUND($G33*$T$5,2) -> 1108.25 | T33: =SUM(R33:S33) -> 2708.09 | U33: =ROUND($F33*$W$5,2) -> 2550.24 | V33: =ROUND($G33*$W$5,2) -> 1766.62 | W33: =SUM(U33:V33) -> 4316.86 | X33: =ROUND(H33+K33+N33+Q33+T33+W33,0) -> 211017
A34: Specializētās slimnīcas | B34: Rīgas 2. slimnīca | C34: Radiologs (attālināti) 50% | D34: 1 | E34: 1 | F34: =ROUND($D34*'2p_turp_aprekins dez'!$AX$20,2) -> 39600 | G34: =ROUND($E34*'2p_turp_aprekins dez'!$AX$21,2) -> 27432 | H34: =SUM(F34:G34) -> 67032 | I34: =ROUND($F34*$K$5,2) -> 9341.64 | J34: =ROUND($G34*$K$5,2) -> 6471.21 | K34: =SUM(I34:J34) -> 15812.85 | L34: 0 | M34: 0 | N34: =SUM(L34:M34) -> 0 | O34: =ROUND($F34*$Q$5,2) -> 11313.72 | P34: =ROUND($G34*$Q$5,2) -> 7837.32 | Q34: =SUM(O34:P34) -> 19151.04 | R34: =ROUND($F34*$T$5,2) -> 799.92 | S34: =ROUND($G34*$T$5,2) -> 554.13 | T34: =SUM(R34:S34) -> 1354.05 | U34: =ROUND($F34*$W$5,2) -> 1275.12 | V34: =ROUND($G34*$W$5,2) -> 883.31 | W34: =SUM(U34:V34) -> 2158.43 | X34: =ROUND(H34+K34+N34+Q34+T34+W34,0) -> 105508
A35: Specializētās slimnīcas | B35: Rīgas 2. slimnīca | C35: Radiologa asistents/radiogrāfers | D35: 0 | E35: 0 | F35: 0 | G35: 0 | H35: =SUM(F35:G35) -> 0 | I35: 0 | J35: 0 | K35: =SUM(I35:J35) -> 0 | L35: 0 | M35: 0 | N35: =SUM(L35:M35) -> 0 | O35: 0 | P35: 0 | Q35: =SUM(O35:P35) -> 0 | R35: 0 | S35: 0 | T35: =SUM(R35:S35) -> 0 | U35: 0 | V35: 0 | W35: =SUM(U35:V35) -> 0 | X35: =ROUND(H35+K35+N35+Q35+T35+W35,0) -> 0
A36: Specializētās slimnīcas | B36: Rīgas 2. slimnīca | C36: Māsa | D36: 0 | E36: 0 | F36: 0 | G36: 0 | H36: =SUM(F36:G36) -> 0 | I36: 0 | J36: 0 | K36: =SUM(I36:J36) -> 0 | L36: 0 | M36: 0 | N36: =SUM(L36:M36) -> 0 | O36: 0 | P36: 0 | Q36: =SUM(O36:P36) -> 0 | R36: 0 | S36: 0 | T36: =SUM(R36:S36) -> 0 | U36: 0 | V36: 0 | W36: =SUM(U36:V36) -> 0 | X36: =ROUND(H36+K36+N36+Q36+T36+W36,0) -> 0
A37: Specializētās slimnīcas | B37: Rīgas 2. slimnīca | C37: Vecmāte | D37: 0 | E37: 0 | F37: 0 | G37: 0 | H37: =SUM(F37:G37) -> 0 | I37: 0 | J37: 0 | K37: =SUM(I37:J37) -> 0 | L37: 0 | M37: 0 | N37: =SUM(L37:M37) -> 0 | O37: 0 | P37: 0 | Q37: =SUM(O37:P37) -> 0 | R37: 0 | S37: 0 | T37: =SUM(R37:S37) -> 0 | U37: 0 | V37: 0 | W37: =SUM(U37:V37) -> 0 | X37: =ROUND(H37+K37+N37+Q37+T37+W37,0) -> 0
A38: Specializētās slimnīcas | B38: Rīgas 2. slimnīca | C38: Māsas palīgs | D38: 0 | E38: 0 | F38: 0 | G38: 0 | H38: =SUM(F38:G38) -> 0 | I38: 0 | J38: 0 | K38: =SUM(I38:J38) -> 0 | L38: 0 | M38: 0 | N38: =SUM(L38:M38) -> 0 | O38: 0 | P38: 0 | Q38: =SUM(O38:P38) -> 0 | R38: 0 | S38: 0 | T38: =SUM(R38:S38) -> 0 | U38: 0 | V38: 0 | W38: =SUM(U38:V38) -> 0 | X38: =ROUND(H38+K38+N38+Q38+T38+W38,0) -> 0
A39: Specializētās slimnīcas | B39: Rīgas 2. slimnīca | C39: Ārsta palīgs | D39: 0 | E39: 0 | F39: 0 | G39: 0 | H39: =SUM(F39:G39) -> 0 | I39: 0 | J39: 0 | K39: =SUM(I39:J39) -> 0 | L39: 0 | M39: 0 | N39: =SUM(L39:M39) -> 0 | O39: 0 | P39: 0 | Q39: =SUM(O39:P39) -> 0 | R39: 0 | S39: 0 | T39: =SUM(R39:S39) -> 0 | U39: 0 | V39: 0 | W39: =SUM(U39:V39) -> 0 | X39: =ROUND(H39+K39+N39+Q39+T39+W39,0) -> 0
A40: Specializētās slimnīcas | B40: KOPĀ | D40: =D31+D32+D33+D34+D35+D36+D37+D38+D39 -> 2 | E40: =E31+E32+E33+E34+E35+E36+E37+E38+E39 -> 2 | F40: =F31+F32+F33+F34+F35+F36+F37+F38+F39 -> 118800 | G40: =G31+G32+G33+G34+G35+G36+G37+G38+G39 -> 82296 | H40: =H31+H32+H33+H34+H35+H36+H37+H38+H39 -> 201096 | I40: =I31+I32+I33+I34+I35+I36+I37+I38+I39 -> 28024.92 | J40: =J31+J32+J33+J34+J35+J36+J37+J38+J39 -> 19413.63 | K40: =K31+K32+K33+K34+K35+K36+K37+K38+K39 -> 47438.55 | ... W40: =W31+W32+W33+W34+W35+W36+W37+W38+W39 -> 6475.29 | X40: =ROUND(X31+X32+X33+X34+X35+X36+X37+X38+X39,0) -> 316525
A41: Specializētās slimnīcas | B41: Daugavpils psihoneiroloģiskā slimnīca | C41: Psihiatrs vai narkologs | D41: 1 | E41: 1 | F41: =ROUND($D41*'2p_turp_aprekins dez'!$AX$16,2) -> 79200 | G41: =ROUND($E41*'2p_turp_aprekins dez'!$AX$17,2) -> 54864 | H41: =SUM(F41:G41) -> 134064 | I41: =ROUND($F41*$K$5,2) -> 18683.28 | J41: =ROUND($G41*$K$5,2) -> 12942.42 | K41: =SUM(I41:J41) -> 31625.7 | L41: 0 | M41: 0 | N41: =SUM(L41:M41) -> 0 | O41: =ROUND($F41*$Q$5,2) -> 22627.44 | P41: =ROUND($G41*$Q$5,2) -> 15674.64 | Q41: =SUM(O41:P41) -> 38302.08 | R41: =ROUND($F41*$T$5,2) -> 1599.84 | S41: =ROUND($G41*$T$5,2) -> 1108.25 | T41: =SUM(R41:S41) -> 2708.09 | U41: =ROUND($F41*$W$5,2) -> 2550.24 | V41: =ROUND($G41*$W$5,2) -> 1766.62 | W41: =SUM(U41:V41) -> 4316.86 | X41: =ROUND(H41+K41+N41+Q41+T41+W41,0) -> 211017
A42: Specializētās slimnīcas | B42: Daugavpils psihoneiroloģiskā slimnīca | C42: Māsa/ārsta palīgs | D42: 0 | E42: 0 | F42: 0 | G42: 0 | H42: =SUM(F42:G42) -> 0 | I42: 0 | J42: 0 | K42: =SUM(I42:J42) -> 0 | L42: 0 | M42: 0 | N42: =SUM(L42:M42) -> 0 | O42: 0 | P42: 0 | Q42: =SUM(O42:P42) -> 0 | R42: 0 | S42: 0 | T42: =SUM(R42:S42) -> 0 | U42: 0 | V42: 0 | W42: =SUM(U42:V42) -> 0 | X42: =ROUND(H42+K42+N42+Q42+T42+W42,0) -> 0
...

Sheet 2p_turp_aprekins uzn
AU1: 2.pielikuma turpinājums MK noteikumu projekta "Grozījumi Ministru kabineta 2018.gada 28.augusta noteikumos Nr.555 „Veselības aprūpes pakalpojumu organizēšanas un samaksas kārtība"" anotācijai
A2: 2026. gada kalendārs (kopsavilkums)
E3: P | F3: O | G3: T | H3: C | I3: P | J3: S | K3: Sv | L3: KOPĀ dienas | M3: Darba dienas | N3: Darba stundas | Q3: Ārstniecības personas vidējā darba samaksa mēnesī, euro | R3: Ārstniecības un pacientu aprūpes personu vidējā darba samaksa mēnesī, euro | S3: Ārstniecības un pacientu aprūpes atbalsta personas vidējā darba samaksa mēnesī, euro
D4: Dienu skaits kopā | E4: 52 | F4: 52 | G4: 52 | H4: 53 | I4: 52 | J4: 52 | K4: 52 | L4: 365 | M4: 250 | N4: 1994 | Q4: 2304 | R4: 1388 | S4: 925
D5: Darba dienu skaits | E5: 49 | F5: 50 | G5: 50 | H5: 51 | I5: 50 | J5: 0 | K5: 0 | L5: 250 | M5: =ROUND(M4/12,0) -> 21 | N5: =ROUND(N4/12,0) -> 166
D6: Sestdienu skaits | E6: 0 | F6: 0 | G6: 0 | H6: 0 | I6: 0 | J6: 52 | K6: 0 | L6: 52 | M6: 0 | N6: 0
D7: Svētdienu skaits | E7: 0 | F7: 0 | G7: 0 | H7: 0 | I7: 0 | J7: 0 | K7: 48 | L7: 48 | M7: 0 | N7: 0
D8: Svētku dienas | E8: 3 | F8: 2 | G8: 2 | H8: 2 | I8: 2 | J8: 0 | K8: 4 | L8: 15 | M8: 0 | N8: 0
D9: Pārceltās brīvdienas | E9: 0 | F9: 0 | G9: 0 | H9: 0 | I9: 0 | J9: 0 | K9: 0 | L9: 0 | M9: 0 | N9: 0
A11: Posteņu, slodžu, darba stundu skaits un apmaksas nosacījumi
H12: Pirmdienās | L12: Otrdienās | P12: Trešdienās | T12: Ceturtdienās | X12: Piektdienās | AB12: Sestdienās | AF12: Svētdienās | AJ12: Svētku dienās | AO12: Stundas vidēji gadā | AV12: 0.75 | AW12: 1
A13: U vai D | B13: Ārstniecības iestāde | C13: Speciālistu grupa | D13: Posteņa nosaukums | E13: Nedēļas dienas | F13: Posteņa veids | G13: Posteņu skaits | H13: no | I13: līdz | J13: darba stundas | K13: t.sk. nakts stundas | L13: no | M13: līdz | N13: darba stundas | O13: t.sk. nakts stundas | P13: no | Q13: līdz | R13: darba stundas | S13: t.sk. nakts stundas | T13: no | U13: līdz | V13: darba stundas | W13: t.sk. nakts stundas | X13: no | Y13: līdz | Z13: darba stundas | AA13: t.sk. nakts stundas | AB13: no | AC13: līdz | AD13: darba stundas | AE13: t.sk. nakts stundas | AF13: no | AG13: līdz | AH13: darba stundas | AI13: t.sk. nakts stundas | AJ13: no | AK13: līdz | AL13: darba stundas | AM13: t.sk. nakts stundas | AN13: Tehniskā | AO13: Darba stundas | AP13: no tām nakts | AQ13: no tām svētku | AR13: slodzes | AS13: Vidējā darba samaksa mēnesī, euro | AT13: Stundas likme (vidējā) | AU13: Samaksa par darba stundām gadā, euro | AV13: Piemaksa gadā par nakts stundām, euro | AW13: Piemaksa gadā par svētku stundām, euro | AX13: Atalgojums gadā, euro (D elements)
A14: U | B14: Pārējās slimnīcas | C14: Ārsts | D14: Speciālists 8.00-16.00 (8h) | E14: 5 | F14: 8h | G14: 1 | H14: 8 | I14: 16 | J14: =IF(H14="",0,IF((I14-H14<=0),(24-H14+I14),(I14-H14))) -> 8 | K14: 0 | L14: 8 | M14: 16 | N14: =IF(L14="",0,IF((M14-L14<=0),(24-L14+M14),(M14-L14))) -> 8 | O14: 0 | P14: 8 | Q14: 16 | R14: =IF(P14="",0,IF((Q14-P14<=0),(24-P14+Q14),(Q14-P14))) -> 8 | S14: 0 | T14: 8 | U14: 16 | V14: =IF(T14="",0,IF((U14-T14<=0),(24-T14+U14),(U14-T14))) -> 8 | W14: 0 | X14: 8 | Y14: 16 | Z14: =IF(X14="",0,IF((Y14-X14<=0),(24-X14+Y14),(Y14-X14))) -> 8 | AA14: 0 | AD14: =IF(AB14="",0,IF((AC14-AB14<=0),(24-AB14+AC14),(AC14-AB14))) -> 0 | AE14: 0 | AH14: =IF(AF14="",0,IF((AG14-AF14<=0),(24-AF14+AG14),(AG14-AF14))) -> 0 | AI14: 0 | AL14: =IF(AJ14="",0,IF((AK14-AJ14<=0),(24-AJ14+AK14),(AK14-AJ14))) -> 0 | AM14: 0 | AN14: =J14+N14+R14+V14+Z14+AD14+AH14+AL14 -> 40 | AO14: =IF(AN14=0,0,G14*((J14*$E$5)+(N14*$F$5)+(R14*$G$5)+(V14*$H$5)+(Z14*$I$5)+(AD14*$J$6)+(AH14*$K$7)+(AL14*$L$8))) -> 2000 | AP14: =IF(AO14=0,0,G14*((K14*$E$5)+(O14*$F$5)+(S14*$G$5)+(W14*$H$5)+(AA14*$I$5)+(AE14*$J$6)+(AI14*$K$7)+(AM14*$L$8))) -> 0 | AQ14: =G14*(AL14*$L$8) -> 0 | AR14: =ROUND(AO14/$N$4,2) -> 1 | AS14: =$Q$4 -> 2304 | AT14: =ROUND(AS14/160,2) -> 14.4 | AU14: =AO14*AT14 -> 28800 | AV14: =$AV$12*AT14*AP14 -> 0 | AW14: =AT14*AQ14 -> 0 | AX14: =SUM(AU14:AW14) -> 28800
A15: U | B15: Pārējās slimnīcas | C15: Ārsts | D15: Speciālists 8.00-20.00 (12h) | E15: 5 | F15: 12h | G15: 1 | H15: 8 | I15: 20 | J15: =IF(H15="",0,IF((I15-H15<=0),(24-H15+I15),(I15-H15))) -> 12 | K15: 0 | L15: 8 | M15: 20 | N15: =IF(L15="",0,IF((M15-L15<=0),(24-L15+M15),(M15-L15))) -> 12 | O15: 0 | P15: 8 | Q15: 20 | R15: =IF(P15="",0,IF((Q15-P15<=0),(24-P15+Q15),(Q15-P15))) -> 12 | S15: 0 | T15: 8 | U15: 20 | V15: =IF(T15="",0,IF((U15-T15<=0),(24-T15+U15),(U15-T15))) -> 12 | W15: 0 | X15: 8 | Y15: 20 | Z15: =IF(X15="",0,IF((Y15-X15<=0),(24-X15+Y15),(Y15-X15))) -> 12 | AA15: 0 | AD15: =IF(AB15="",0,IF((AC15-AB15<=0),(24-AB15+AC15),(AC15-AB15))) -> 0 | AE15: 0 | AH15: =IF(AF15="",0,IF((AG15-AF15<=0),(24-AF15+AG15),(AG15-AF15))) -> 0 | AI15: 0 | AL15: =IF(AJ15="",0,IF((AK15-AJ15<=0),(24-AJ15+AK15),(AK15-AJ15))) -> 0 | AM15: 0 | AN15: =J15+N15+R15+V15+Z15+AD15+AH15+AL15 -> 60 | AO15: =IF(AN15=0,0,G15*((J15*$E$5)+(N15*$F$5)+(R15*$G$5)+(V15*$H$5)+(Z15*$I$5)+(AD15*$J$6)+(AH15*$K$7)+(AL15*$L$8))) -> 3000 | AP15: =IF(AO15=0,0,G15*((K15*$E$5)+(O15*$F$5)+(S15*$G$5)+(W15*$H$5)+(AA15*$I$5)+(AE15*$J$6)+(AI15*$K$7)+(AM15*$L$8))) -> 0 | AQ15: =G15*(AL15*$L$8) -> 0 | AR15: =ROUND(AO15/$N$4,2) -> 1.5 | AS15: =$Q$4 -> 2304 | AT15: =ROUND(AS15/160,2) -> 14.4 | AU15: =AO15*AT15 -> 43200 | AV15: =AP15*AT15*$AV$12 -> 0 | AW15: =AQ15*AT15*$AW$12 -> 0 | AX15: =SUM(AU15:AW15) -> 43200
A16: D | B16: Pārējās slimnīcas | C16: Ārsts | D16: Dežūrārsts 16.00-8.00 (16h) | E16: 5 | F16: 16h | G16: 1 | H16: 16 | I16: 8 | J16: =IF(H16="",0,IF((I16-H16<=0),(24-H16+I16),(I16-H16))) -> 16 | K16: 8 | L16: 16 | M16: 8 | N16: =IF(L16="",0,IF((M16-L16<=0),(24-L16+M16),(M16-L16))) -> 16 | O16: 8 | P16: 16 | Q16: 8 | R16: =IF(P16="",0,IF((Q16-P16<=0),(24-P16+Q16),(Q16-P16))) -> 16 | S16: 8 | T16: 16 | U16: 8 | V16: =IF(T16="",0,IF((U16-T16<=0),(24-T16+U16),(U16-T16))) -> 16 | W16: 8 | X16: 16 | Y16: 8 | Z16: =IF(X16="",0,IF((Y16-X16<=0),(24-X16+Y16),(Y16-X16))) -> 16 | AA16: 8 | AD16: =IF(AB16="",0,IF((AC16-AB16<=0),(24-AB16+AC16),(AC16-AB16))) -> 0 | AH16: =IF(AF16="",0,IF((AG16-AF16<=0),(24-AF16+AG16),(AG16-AF16))) -> 0 | AL16: =IF(AJ16="",0,IF((AK16-AJ16<=0),(24-AJ16+AK16),(AK16-AJ16))) -> 0 | AN16: =J16+N16+R16+V16+Z16+AD16+AH16+AL16 -> 80 | AO16: =IF(AN16=0,0,G16*((J16*$E$5)+(N16*$F$5)+(R16*$G$5)+(V16*$H$5)+(Z16*$I$5)+(AD16*$J$6)+(AH16*$K$7)+(AL16*$L$8))) -> 4000 | AP16: =IF(AO16=0,0,G16*((K16*$E$5)+(O16*$F$5)+(S16*$G$5)+(W16*$H$5)+(AA16*$I$5)+(AE16*$J$6)+(AI16*$K$7)+(AM16*$L$8))) -> 2000 | AQ16: =G16*(AL16*$L$8) -> 0 | AR16: =ROUND(AO16/$N$4,2) -> 2.01 | AS16: =$Q$4 -> 2304 | AT16: =ROUND(AS16/160,2) -> 14.4 | AU16: =AO16*AT16 -> 57600 | AV16: =$AV$12*AT16*AP16 -> 21600 | AW16: =AT16*AQ16 -> 0 | AX16: =SUM(AU16:AW16) -> 79200
A17: D | B17: Pārējās slimnīcas | C17: Ārsts | D17: Dežūrārsts 8.00-8.00 (24h) | E17: 2 | F17: 24h | G17: 1 | AB17: 8 | AC17: 8 | AD17: =IF(AB17="",0,IF((AC17-AB17<=0),(24-AB17+AC17),(AC17-AB17))) -> 24 | AE17: 8 | AF17: 8 | AG17: 8 | AH17: =IF(AF17="",0,IF((AG17-AF17<=0),(24-AF17+AG17),(AG17-AF17))) -> 24 | AI17: 8 | AJ17: 8 | AK17: 8 | AL17: =IF(AJ17="",0,IF((AK17-AJ17<=0),(24-AJ17+AK17),(AK17-AJ17))) -> 24 | AM17: 8 | AN17: =J17+N17+R17+V17+Z17+AD17+AH17+AL17 -> 72 | AO17: =IF(AN17=0,0,G17*((J17*$E$5)+(N17*$F$5)+(R17*$G$5)+(V17*$H$5)+(Z17*$I$5)+(AD17*$J$6)+(AH17*$K$7)+(AL17*$L$8))) -> 2760 | AP17: =IF(AO17=0,0,G17*((K17*$E$5)+(O17*$F$5)+(S17*$G$5)+(W17*$H$5)+(AA17*$I$5)+(AE17*$J$6)+(AI17*$K$7)+(AM17*$L$8))) -> 920 | AQ17: =G17*(AL17*$L$8) -> 360 | AR17: =ROUND(AO17/$N$4,2) -> 1.38 | AS17: =$Q$4 -> 2304 | AT17: =ROUND(AS17/160,2) -> 14.4 | AU17: =AO17*AT17 -> 39744 | AV17: =$AV$12*AT17*AP17 -> 9936 | AW17: =AT17*AQ17 -> 5184 | AX17: =SUM(AU17:AW17) -> 54864
A18: U | B18: Pārējās slimnīcas | C18: Ārsts | D18: Speciālists 8.00-20.00 (12h) | E18: 7 | F18: 12h | G18: 1 | H18: 8 | I18: 20 | J18: =IF(H18="",0,IF((I18-H18<=0),(24-H18+I18),(I18-H18))) -> 12 | K18: 0 | L18: 8 | M18: 20 | N18: =IF(L18="",0,IF((M18-L18<=0),(24-L18+M18),(M18-L18))) -> 12 | O18: 0 | P18: 8 | Q18: 20 | R18: =IF(P18="",0,IF((Q18-P18<=0),(24-P18+Q18),(Q18-P18))) -> 12 | S18: 0 | T18: 8 | U18: 20 | V18: =IF(T18="",0,IF((U18-T18<=0),(24-T18+U18),(U18-T18))) -> 12 | W18: 0 | X18: 8 | Y18: 20 | Z18: =IF(X18="",0,IF((Y18-X18<=0),(24-X18+Y18),(Y18-X18))) -> 12 | AA18: 0 | AB18: 8 | AC18: 20 | AD18: =IF(AB18="",0,IF((AC18-AB18<=0),(24-AB18+AC18),(AC18-AB18))) -> 12 | AE18: 0 | AF18: 8 | AG18: 20 | AH18: =IF(AF18="",0,IF((AG18-AF18<=0),(24-AF18+AG18),(AG18-AF18))) -> 12 | AI18: 0 | AJ18: 8 | AK18: 20 | AL18: =IF(AJ18="",0,IF((AK18-AJ18<=0),(24-AJ18+AK18),(AK18-AJ18))) -> 12 | AM18: 0 | AN18: =J18+N18+R18+V18+Z18+AD18+AH18+AL18 -> 96 | AO18: =IF(AN18=0,0,G18*((J18*$E$5)+(N18*$F$5)+(R18*$G$5)+(V18*$H$5)+(Z18*$I$5)+(AD18*$J$6)+(AH18*$K$7)+(AL18*$L$8))) -> 4380 | AP18: =IF(AO18=0,0,G18*((K18*$E$5)+(O18*$F$5)+(S18*$G$5)+(W18*$H$5)+(AA18*$I$5)+(AE18*$J$6)+(AI18*$K$7)+(AM18*$L$8))) -> 0 | AQ18: =G18*(AL18*$L$8) -> 180 | AR18: =ROUND(AO18/$N$4,2) -> 2.2 | AS18: =$Q$4 -> 2304 | AT18: =ROUND(AS18/160,2) -> 14.4 | AU18: =AO18*AT18 -> 63072 | AV18: =AP18*AT18*$AV$12 -> 0 | AW18: =AQ18*AT18*$AW$12 -> 2592 | AX18: =SUM(AU18:AW18) -> 65664
A19: U | B19: Pārējās slimnīcas | C19: Ārsts | D19: Speciālists 8.00-8.00 (24h) | E19: 7 | F19: 24h | G19: 1 | H19: 8 | I19: 8 | J19: =IF(H19="",0,IF((I19-H19<=0),(24-H19+I19),(I19-H19))) -> 24 | K19: 8 | L19: 8 | M19: 8 | N19: =IF(L19="",0,IF((M19-L19<=0),(24-L19+M19),(M19-L19))) -> 24 | O19: 8 | P19: 8 | Q19: 8 | R19: =IF(P19="",0,IF((Q19-P19<=0),(24-P19+Q19),(Q19-P19))) -> 24 | S19: 8 | T19: 8 | U19: 8 | V19: =IF(T19="",0,IF((U19-T19<=0),(24-T19+U19),(U19-T19))) -> 24 | W19: 8 | X19: 8 | Y19: 8 | Z19: =IF(X19="",0,IF((Y19-X19<=0),(24-X19+Y19),(Y19-X19))) -> 24 | AA19: 8 | AB19: 8 | AC19: 8 | AD19: =IF(AB19="",0,IF((AC19-AB19<=0),(24-AB19+AC19),(AC19-AB19))) -> 24 | AE19: 8 | AF19: 8 | AG19: 8 | AH19: =IF(AF19="",0,IF((AG19-AF19<=0),(24-AF19+AG19),(AG19-AF19))) -> 24 | AI19: 8 | AJ19: 8 | AK19: 8 | AL19: =IF(AJ19="",0,IF((AK19-AJ19<=0),(24-AJ19+AK19),(AK19-AJ19))) -> 24 | AM19: 8 | AN19: =J19+N19+R19+V19+Z19+AD19+AH19+AL19 -> 192 | AO19: =IF(AN19=0,0,G19*((J19*$E$5)+(N19*$F$5)+(R19*$G$5)+(V19*$H$5)+(Z19*$I$5)+(AD19*$J$6)+(AH19*$K$7)+(AL19*$L$8))) -> 8760 | AP19: =IF(AO19=0,0,G19*((K19*$E$5)+(O19*$F$5)+(S19*$G$5)+(W19*$H$5)+(AA19*$I$5)+(AE19*$J$6)+(AI19*$K$7)+(AM19*$L$8))) -> 2920 | AQ19: =G19*(AL19*$L$8) -> 360 | AR19: =ROUND(AO19/$N$4,2) -> 4.39 | AS19: =$Q$4 -> 2304 | AT19: =ROUND(AS19/160,2) -> 14.4 | AU19: =AO19*AT19 -> 126144 | AV19: =AP19*AT19*$AV$12 -> 31536 | AW19: =AQ19*AT19*$AW$12 -> 5184 | AX19: =SUM(AU19:AW19) -> 162864
A20: D | B20: Pārējās slimnīcas | C20: Ārsts | D20: Radiologs (attālināti) 50% 16.00-8.00 (16h) | E20: 5 | F20: 16h | G20: 1 | H20: 16 | I20: 8 | J20: =IF(H20="",0,IF((I20-H20<=0),(24-H20+I20),(I20-H20))) -> 16 | K20: 8 | L20: 16 | M20: 8 | N20: =IF(L20="",0,IF((M20-L20<=0),(24-L20+M20),(M20-L20))) -> 16 | O20: 8 | P20: 16 | Q20: 8 | R20: =IF(P20="",0,IF((Q20-P20<=0),(24-P20+Q20),(Q20-P20))) -> 16 | S20: 8 | T20: 16 | U20: 8 | V20: =IF(T20="",0,IF((U20-T20<=0),(24-T20+U20),(U20-T20))) -> 16 | W20: 8 | X20: 16 | Y20: 8 | Z20: =IF(X20="",0,IF((Y20-X20<=0),(24-X20+Y20),(Y20-X20))) -> 16 | AA20: 8 | AD20: =IF(AB20="",0,IF((AC20-AB20<=0),(24-AB20+AC20),(AC20-AB20))) -> 0 | AH20: =IF(AF20="",0,IF((AG20-AF20<=0),(24-AF20+AG20),(AG20-AF20))) -> 0 | AL20: =IF(AJ20="",0,IF((AK20-AJ20<=0),(24-AJ20+AK20),(AK20-AJ20))) -> 0 | AN20: =J20+N20+R20+V20+Z20+AD20+AH20+AL20 -> 80 | AO20: =IF(AN20=0,0,G20*((J20*$E$5)+(N20*$F$5)+(R20*$G$5)+(V20*$H$5)+(Z20*$I$5)+(AD20*$J$6)+(AH20*$K$7)+(AL20*$L$8))) -> 4000 | AP20: =IF(AO20=0,0,G20*((K20*$E$5)+(O20*$F$5)+(S20*$G$5)+(W20*$H$5)+(AA20*$I$5)+(AE20*$J$6)+(AI20*$K$7)+(AM20*$L$8))) -> 2000 | AQ20: =G20*(AL20*$L$8) -> 0 | AR20: =ROUND(AO20/$N$4,2) -> 2.01 | AS20: =$Q$4*50% -> 1152 | AT20: =ROUND(AS20/160,2) -> 7.2 | AU20: =AO20*AT20 -> 28800 | AV20: =AP20*AT20*$AV$12 -> 10800 | AW20: =AQ20*AT20*$AW$12 -> 0 | AX20: =SUM(AU20:AW20) -> 39600
A21: D | B21: Pārējās slimnīcas | C21: Ārsts | D21: Radiologs (attālināti) 50% 8.00-8.00 (24h) | E21: 2 | F21: 24h | G21: 1 | AB21: 8 | AC21: 8 | AD21: =IF(AB21="",0,IF((AC21-AB21<=0),(24-AB21+AC21),(AC21-AB21))) -> 24 | AE21: 8 | AF21: 8 | AG21: 8 | AH21: =IF(AF21="",0,IF((AG21-AF21<=0),(24-AF21+AG21),(AG21-AF21))) -> 24 | AI21: 8 | AJ21: 8 | AK21: 8 | AL21: =IF(AJ21="",0,IF((AK21-AJ21<=0),(24-AJ21+AK21),(AK21-AJ21))) -> 24 | AM21: 8 | AN21: =J21+N21+R21+V21+Z21+AD21+AH21+AL21 -> 72 | AO21: =IF(AN21=0,0,G21*((J21*$E$5)+(N21*$F$5)+(R21*$G$5)+(V21*$H$5)+(Z21*$I$5)+(AD21*$J$6)+(AH21*$K$7)+(AL21*$L$8))) -> 2760 | AP21: =IF(AO21=0,0,G21*((K21*$E$5)+(O21*$F$5)+(S21*$G$5)+(W21*$H$5)+(AA21*$I$5)+(AE21*$J$6)+(AI21*$K$7)+(AM21*$L$8))) -> 920 | AQ21: =G21*(AL21*$L$8) -> 360 | AR21: =ROUND(AO21/$N$4,2) -> 1.38 | AS21: =$Q$4*50% -> 1152 | AT21: =ROUND(AS21/160,2) -> 7.2 | AU21: =AO21*AT21 -> 19872 | AV21: =AP21*AT21*$AV$12 -> 4968 | AW21: =AQ21*AT21*$AW$12 -> 2592 | AX21: =SUM(AU21:AW21) -> 27432
A22: U | B22: Pārējās slimnīcas | C22: Ārsts | D22: Speciālists mājas dežūrā | E22: 5 | F22: 8h | G22: 1 | H22: 8 | I22: 16 | J22: =IF(H22="",0,IF((I22-H22<=0),(24-H22+I22),(I22-H22))) -> 8 | K22: 0 | L22: 8 | M22: 16 | N22: =IF(L22="",0,IF((M22-L22<=0),(24-L22+M22),(M22-L22))) -> 8 | O22: 0 | P22: 8 | Q22: 16 | R22: =IF(P22="",0,IF((Q22-P22<=0),(24-P22+Q22),(Q22-P22))) -> 8 | S22: 0 | T22: 8 | U22: 16 | V22: =IF(T22="",0,IF((U22-T22<=0),(24-T22+U22),(U22-T22))) -> 8 | W22: 0 | X22: 8 | Y22: 16 | Z22: =IF(X22="",0,IF((Y22-X22<=0),(24-X22+Y22),(Y22-X22))) -> 8 | AA22: 0 | AN22: =J22+N22+R22+V22+Z22+AD22+AH22+AL22 -> 40 | AO22: =IF(AN22=0,0,G22*((J22*$E$5)+(N22*$F$5)+(R22*$G$5)+(V22*$H$5)+(Z22*$I$5)+(AD22*$J$6)+(AH22*$K$7)+(AL22*$L$8))) -> 2000 | AP22: =IF(AO22=0,0,G22*((K22*$E$5)+(O22*$F$5)+(S22*$G$5)+(W22*$H$5)+(AA22*$I$5)+(AE22*$J$6)+(AI22*$K$7)+(AM22*$L$8))) -> 0 | AQ22: =G22*(AL22*$L$8) -> 0 | AR22: =ROUND(AO22/$N$4,2) -> 1 | AS22: =$Q$4*10% -> 230.4 | AT22: =ROUND(AS22/160,2) -> 1.44 | AU22: =AO22*AT22 -> 2880 | AV22: =AP22*AT22*$AV$12 -> 0 | AW22: =AQ22*AT22*$AW$12 -> 0 | AX22: =SUM(AU22:AW22) -> 2880
A23: U | B23: Pārējās slimnīcas | C23: Māsa, ārsta palīgs, vecmāte | D23: Radiologa asistents/radiogrāfers | E23: 7 | F23: 24h | G23: 1 | H23: 8 | I23: 8 | J23: =IF(H23="",0,IF((I23-H23<=0),(24-H23+I23),(I23-H23))) -> 24 | K23: 8 | L23: 8 | M23: 8 | N23: =IF(L23="",0,IF((M23-L23<=0),(24-L23+M23),(M23-L23))) -> 24 | O23: 8 | P23: 8 | Q23: 8 | R23: =IF(P23="",0,IF((Q23-P23<=0),(24-P23+Q23),(Q23-P23))) -> 24 | S23: 8 | T23: 8 | U23: 8 | V23: =IF(T23="",0,IF((U23-T23<=0),(24-T23+U23),(U23-T23))) -> 24 | W23: 8 | X23: 8 | Y23: 8 | Z23: =IF(X23="",0,IF((Y23-X23<=0),(24-X23+Y23),(Y23-X23))) -> 24 | AA23: 8 | AB23: 8 | AC23: 8 | AD23: =IF(AB23="",0,IF((AC23-AB23<=0),(24-AB23+AC23),(AC23-AB23))) -> 24 | AE23: 8 | AF23: 8 | AG23: 8 | AH23: =IF(AF23="",0,IF((AG23-AF23<=0),(24-AF23+AG23),(AG23-AF23))) -> 24 | AI23: 8 | AJ23: 8 | AK23: 8 | AL23: =IF(AJ23="",0,IF((AK23-AJ23<=0),(24-AJ23+AK23),(AK23-AJ23))) -> 24 | AM23: 8 | AN23: =J23+N23+R23+V23+Z23+AD23+AH23+AL23 -> 192 | AO23: =IF(AN23=0,0,G23*((J23*$E$5)+(N23*$F$5)+(R23*$G$5)+(V23*$H$5)+(Z23*$I$5)+(AD23*$J$6)+(AH23*$K$7)+(AL23*$L$8))) -> 8760 | AP23: =IF(AO23=0,0,G23*((K23*$E$5)+(O23*$F$5)+(S23*$G$5)+(W23*$H$5)+(AA23*$I$5)+(AE23*$J$6)+(AI23*$K$7)+(AM23*$L$8))) -> 2920 | AQ23: =G23*(AL23*$L$8) -> 360 | AR23: =ROUND(AO23/$N$4,2) -> 4.39 | AS23: =$R$4 -> 1388 | AT23: =ROUND(AS23/160,2) -> 8.68 | AU23: =AO23*AT23 -> 76036.8 | AV23: =AP23*AT23*$AV$12 -> 19009.2 | AW23: =AQ23*AT23*$AW$12 -> 3124.8 | AX23: =SUM(AU23:AW23) -> 98170.8
A24: U | B24: Pārējās slimnīcas | C24: Māsa, ārsta palīgs, vecmāte | D24: Speciālists 8.00-20.00 (12h) | E24: 7 | F24: 12h | G24: 1 | H24: 8 | I24: 20 | J24: =IF(H24="",0,IF((I24-H24<=0),(24-H24+I24),(I24-H24))) -> 12 | K24: 0 | L24: 8 | M24: 20 | N24: =IF(L24="",0,IF((M24-L24<=0),(24-L24+M24),(M24-L24))) -> 12 | O24: 0 | P24: 8 | Q24: 20 | R24: =IF(P24="",0,IF((Q24-P24<=0),(24-P24+Q24),(Q24-P24))) -> 12 | S24: 0 | T24: 8 | U24: 20 | V24: =IF(T24="",0,IF((U24-T24<=0),(24-T24+U24),(U24-T24))) -> 12 | W24: 0 | X24: 8 | Y24: 20 | Z24: =IF(X24="",0,IF((Y24-X24<=0),(24-X24+Y24),(Y24-X24))) -> 12 | AA24: 0 | AB24: 8 | AC24: 20 | AD24: =IF(AB24="",0,IF((AC24-AB24<=0),(24-AB24+AC24),(AC24-AB24))) -> 12 | AE24: 0 | AF24: 8 | AG24: 20 | AH24: =IF(AF24="",0,IF((AG24-AF24<=0),(24-AF24+AG24),(AG24-AF24))) -> 12 | AI24: 0 | AJ24: 8 | AK24: 20 | AL24: =IF(AJ24="",0,IF((AK24-AJ24<=0),(24-AJ24+AK24),(AK24-AJ24))) -> 12 | AM24: 0 | AN24: =J24+N24+R24+V24+Z24+AD24+AH24+AL24 -> 96 | AO24: =IF(AN24=0,0,G24*((J24*$E$5)+(N24*$F$5)+(R24*$G$5)+(V24*$H$5)+(Z24*$I$5)+(AD24*$J$6)+(AH24*$K$7)+(AL24*$L$8))) -> 4380 | AP24: =IF(AO24=0,0,G24*((K24*$E$5)+(O24*$F$5)+(S24*$G$5)+(W24*$H$5)+(AA24*$I$5)+(AE24*$J$6)+(AI24*$K$7)+(AM24*$L$8))) -> 0 | AQ24: =G24*(AL24*$L$8) -> 180 | AR24: =ROUND(AO24/$N$4,2) -> 2.2 | AS24: =$R$4 -> 1388 | AT24: =ROUND(AS24/160,2) -> 8.68 | AU24: =AO24*AT24 -> 38018.4 | AV24: =AP24*AT24*$AV$12 -> 0 | AW24: =AQ24*AT24*$AW$12 -> 1562.4 | AX24: =SUM(AU24:AW24) -> 39580.8
A25: U | B25: Pārējās slimnīcas | C25: Māsa, ārsta palīgs, vecmāte | D25: Speciālists 8.00-16.00 (8h) | E25: 5 | F25: 8h | G25: 1 | H25: 8 | I25: 16 | J25: =IF(H25="",0,IF((I25-H25<=0),(24-H25+I25),(I25-H25))) -> 8 | K25: 0 | L25: 8 | M25: 16 | N25: =IF(L25="",0,IF((M25-L25<=0),(24-L25+M25),(M25-L25))) -> 8 | O25: 0 | P25: 8 | Q25: 16 | R25: =IF(P25="",0,IF((Q25-P25<=0),(24-P25+Q25),(Q25-P25))) -> 8 | S25: 0 | T25: 8 | U25: 16 | V25: =IF(T25="",0,IF((U25-T25<=0),(24-T25+U25),(U25-T25))) -> 8 | W25: 0 | X25: 8 | Y25: 16 | Z25: =IF(X25="",0,IF((Y25-X25<=0),(24-X25+Y25),(Y25-X25))) -> 8 | AA25: 0 | AN25: =J25+N25+R25+V25+Z25+AD25+AH25+AL25 -> 40 | AO25: =IF(AN25=0,0,G25*((J25*$E$5)+(N25*$F$5)+(R25*$G$5)+(V25*$H$5)+(Z25*$I$5)+(AD25*$J$6)+(AH25*$K$7)+(AL25*$L$8))) -> 2000 | AP25: =IF(AO25=0,0,G25*((K25*$E$5)+(O25*$F$5)+(S25*$G$5)+(W25*$H$5)+(AA25*$I$5)+(AE25*$J$6)+(AI25*$K$7)+(AM25*$L$8))) -> 0 | AQ25: =G25*(AL25*$L$8) -> 0 | AR25: =ROUND(AO25/$N$4,2) -> 1 | AS25: =$R$4 -> 1388 | AT25: =ROUND(AS25/160,2) -> 8.68 | AU25: =AO25*AT25 -> 17360 | AV25: =AP25*AT25*$AV$12 -> 0 | AW25: =AQ25*AT25*$AW$12 -> 0 | AX25: =SUM(AU25:AW25) -> 17360
A26: U | B26: Pārējās slimnīcas | C26: Māsa, ārsta palīgs, vecmāte | D26: Speciālists 8.00-8.00 (24h) | E26: 7 | F26: 24h | G26: 1 | H26: 8 | I26: 8 | J26: =IF(H26="",0,IF((I26-H26<=0),(24-H26+I26),(I26-H26))) -> 24 | K26: 8 | L26: 8 | M26: 8 | N26: =IF(L26="",0,IF((M26-L26<=0),(24-L26+M26),(M26-L26))) -> 24 | O26: 8 | P26: 8 | Q26: 8 | R26: =IF(P26="",0,IF((Q26-P26<=0),(24-P26+Q26),(Q26-P26))) -> 24 | S26: 8 | T26: 8 | U26: 8 | V26: =IF(T26="",0,IF((U26-T26<=0),(24-T26+U26),(U26-T26))) -> 24 | W26: 8 | X26: 8 | Y26: 8 | Z26: =IF(X26="",0,IF((Y26-X26<=0),(24-X26+Y26),(Y26-X26))) -> 24 | AA26: 8 | AB26: 8 | AC26: 8 | AD26: =IF(AB26="",0,IF((AC26-AB26<=0),(24-AB26+AC26),(AC26-AB26))) -> 24 | AE26: 8 | AF26: 8 | AG26: 8 | AH26: =IF(AF26="",0,IF((AG26-AF26<=0),(24-AF26+AG26),(AG26-AF26))) -> 24 | AI26: 8 | AJ26: 8 | AK26: 8 | AL26: =IF(AJ26="",0,IF((AK26-AJ26<=0),(24-AJ26+AK26),(AK26-AJ26))) -> 24 | AM26: 8 | AN26: =J26+N26+R26+V26+Z26+AD26+AH26+AL26 -> 192 | AO26: =IF(AN26=0,0,G26*((J26*$E$5)+(N26*$F$5)+(R26*$G$5)+(V26*$H$5)+(Z26*$I$5)+(AD26*$J$6)+(AH26*$K$7)+(AL26*$L$8))) -> 8760 | AP26: =IF(AO26=0,0,G26*((K26*$E$5)+(O26*$F$5)+(S26*$G$5)+(W26*$H$5)+(AA26*$I$5)+(AE26*$J$6)+(AI26*$K$7)+(AM26*$L$8))) -> 2920 | AQ26: =G26*(AL26*$L$8) -> 360 | AR26: =ROUND(AO26/$N$4,2) -> 4.39 | AS26: =$R$4 -> 1388 | AT26: =ROUND(AS26/160,2) -> 8.68 | AU26: =AO26*AT26 -> 76036.8 | AV26: =AP26*AT26*$AV$12 -> 19009.2 | AW26: =AQ26*AT26*$AW$12 -> 3124.8 | AX26: =SUM(AU26:AW26) -> 98170.8
A27: D | B27: Pārējās slimnīcas | C27: Māsa, ārsta palīgs, vecmāte | D27: Dežūrvecmāte 16.00-8.00 (16h) | E27: 5 | F27: 16h | G27: 1 | H27: 16 | I27: 8 | J27: =IF(H27="",0,IF((I27-H27<=0),(24-H27+I27),(I27-H27))) -> 16 | K27: 8 | L27: 16 | M27: 8 | N27: =IF(L27="",0,IF((M27-L27<=0),(24-L27+M27),(M27-L27))) -> 16 | O27: 8 | P27: 16 | Q27: 8 | R27: =IF(P27="",0,IF((Q27-P27<=0),(24-P27+Q27),(Q27-P27))) -> 16 | S27: 8 | T27: 16 | U27: 8 | V27: =IF(T27="",0,IF((U27-T27<=0),(24-T27+U27),(U27-T27))) -> 16 | W27: 8 | X27: 16 | Y27: 8 | Z27: =IF(X27="",0,IF((Y27-X27<=0),(24-X27+Y27),(Y27-X27))) -> 16 | AA27: 8 | AD27: =IF(AB27="",0,IF((AC27-AB27<=0),(24-AB27+AC27),(AC27-AB27))) -> 0 | AH27: =IF(AF27="",0,IF((AG27-AF27<=0),(24-AF27+AG27),(AG27-AF27))) -> 0 | AL27: =IF(AJ27="",0,IF((AK27-AJ27<=0),(24-AJ27+AK27),(AK27-AJ27))) -> 0 | AN27: =J27+N27+R27+V27+Z27+AD27+AH27+AL27 -> 80 | AO27: =IF(AN27=0,0,G27*((J27*$E$5)+(N27*$F$5)+(R27*$G$5)+(V27*$H$5)+(Z27*$I$5)+(AD27*$J$6)+(AH27*$K$7)+(AL27*$L$8))) -> 4000 | AP27: =IF(AO27=0,0,G27*((K27*$E$5)+(O27*$F$5)+(S27*$G$5)+(W27*$H$5)+(AA27*$I$5)+(AE27*$J$6)+(AI27*$K$7)+(AM27*$L$8))) -> 2000 | AQ27: =G27*(AL27*$L$8) -> 0 | AR27: =ROUND(AO27/$N$4,2) -> 2.01 | AS27: =$R$4 -> 1388 | AT27: =ROUND(AS27/160,2) -> 8.68 | AU27: =AO27*AT27 -> 34720 | AV27: =AP27*AT27*$AV$12 -> 13020 | AW27: =AQ27*AT27*$AW$12 -> 0 | AX27: =SUM(AU27:AW27) -> 47740
A28: D | B28: Pārējās slimnīcas | C28: Māsa, ārsta palīgs, vecmāte | D28: Dežūrvecmāte 8.00-8.00 (24h) | E28: 2 | F28: 24h | G28: 1 | AB28: 8 | AC28: 8 | AD28: =IF(AB28="",0,IF((AC28-AB28<=0),(24-AB28+AC28),(AC28-AB28))) -> 24 | AE28: 8 | AF28: 8 | AG28: 8 | AH28: =IF(AF28="",0,IF((AG28-AF28<=0),(24-AF28+AG28),(AG28-AF28))) -> 24 | AI28: 8 | AJ28: 8 | AK28: 8 | AL28: =IF(AJ28="",0,IF((AK28-AJ28<=0),(24-AJ28+AK28),(AK28-AJ28))) -> 24 | AM28: 8 | AN28: =J28+N28+R28+V28+Z28+AD28+AH28+AL28 -> 72 | AO28: =IF(AN28=0,0,G28*((J28*$E$5)+(N28*$F$5)+(R28*$G$5)+(V28*$H$5)+(Z28*$I$5)+(AD28*$J$6)+(AH28*$K$7)+(AL28*$L$8))) -> 2760 | AP28: =IF(AO28=0,0,G28*((K28*$E$5)+(O28*$F$5)+(S28*$G$5)+(W28*$H$5)+(AA28*$I$5)+(AE28*$J$6)+(AI28*$K$7)+(AM28*$L$8))) -> 920 | AQ28: =G28*(AL28*$L$8) -> 360 | AR28: =ROUND(AO28/$N$4,2) -> 1.38 | AS28: =$R$4 -> 1388 | AT28: =ROUND(AS28/160,2) -> 8.68 | AU28: =AO28*AT28 -> 23956.8 | AV28: =AP28*AT28*$AV$12 -> 5989.2 | AW28: =AQ28*AT28*$AW$12 -> 3124.8 | AX28: =SUM(AU28:AW28) -> 33070.8
A29: U | B29: Pārējās slimnīcas | C29: Māsas palīgs | D29: Speciālists 8.00-20.00 (12h) | E29: 7 | F29: 12h | G29: 1 | H29: 8 | I29: 20 | J29: =IF(H29="",0,IF((I29-H29<=0),(24-H29+I29),(I29-H29))) -> 12 | K29: 0 | L29: 8 | M29: 20 | N29: =IF(L29="",0,IF((M29-L29<=0),(24-L29+M29),(M29-L29))) -> 12 | O29: 0 | P29: 8 | Q29: 20 | R29: =IF(P29="",0,IF((Q29-P29<=0),(24-P29+Q29),(Q29-P29))) -> 12 | S29: 0 | T29: 8 | U29: 20 | V29: =IF(T29="",0,IF((U29-T29<=0),(24-T29+U29),(U29-T29))) -> 12 | W29: 0 | X29: 8 | Y29: 20 | Z29: =IF(X29="",0,IF((Y29-X29<=0),(24-X29+Y29),(Y29-X29))) -> 12 | AA29: 0 | AB29: 8 | AC29: 20 | AD29: =IF(AB29="",0,IF((AC29-AB29<=0),(24-AB29+AC29),(AC29-AB29))) -> 12 | AE29: 0 | AF29: 8 | AG29: 20 | AH29: =IF(AF29="",0,IF((AG29-AF29<=0),(24-AF29+AG29),(AG29-AF29))) -> 12 | AI29: 0 | AJ29: 8 | AK29: 20 | AL29: =IF(AJ29="",0,IF((AK29-AJ29<=0),(24-AJ29+AK29),(AK29-AJ29))) -> 12 | AM29: 0 | AN29: =J29+N29+R29+V29+Z29+AD29+AH29+AL29 -> 96 | AO29: =IF(AN29=0,0,G29*((J29*$E$5)+(N29*$F$5)+(R29*$G$5)+(V29*$H$5)+(Z29*$I$5)+(AD29*$J$6)+(AH29*$K$7)+(AL29*$L$8))) -> 4380 | AP29: =IF(AO29=0,0,G29*((K29*$E$5)+(O29*$F$5)+(S29*$G$5)+(W29*$H$5)+(AA29*$I$5)+(AE29*$J$6)+(AI29*$K$7)+(AM29*$L$8))) -> 0 | AQ29: =G29*(AL29*$L$8) -> 180 | AR29: =ROUND(AO29/$N$4,2) -> 2.2 | AS29: =$S$4 -> 925 | AT29: =ROUND(AS29/160,2) -> 5.78 | AU29: =AO29*AT29 -> 25316.4 | AV29: =AP29*AT29*$AV$12 -> 0 | AW29: =AQ29*AT29*$AW$12 -> 1040.4 | AX29: =SUM(AU29:AW29) -> 26356.8
A30: U | B30: Pārējās slimnīcas | C30: Māsas palīgs | D30: Speciālists 8.00-16.00 (8h) | E30: 5 | F30: 8h | G30: 1 | H30: 8 | I30: 16 | J30: =IF(H30="",0,IF((I30-H30<=0),(24-H30+I30),(I30-H30))) -> 8 | K30: 0 | L30: 8 | M30: 16 | N30: =IF(L30="",0,IF((M30-L30<=0),(24-L30+M30),(M30-L30))) -> 8 | O30: 0 | P30: 8 | Q30: 16 | R30: =IF(P30="",0,IF((Q30-P30<=0),(24-P30+Q30),(Q30-P30))) -> 8 | S30: 0 | T30: 8 | U30: 16 | V30: =IF(T30="",0,IF((U30-T30<=0),(24-T30+U30),(U30-T30))) -> 8 | W30: 0 | X30: 8 | Y30: 16 | Z30: =IF(X30="",0,IF((Y30-X30<=0),(24-X30+Y30),(Y30-X30))) -> 8 | AA30: 0 | AN30: =J30+N30+R30+V30+Z30+AD30+AH30+AL30 -> 40 | AO30: =IF(AN30=0,0,G30*((J30*$E$5)+(N30*$F$5)+(R30*$G$5)+(V30*$H$5)+(Z30*$I$5)+(AD30*$J$6)+(AH30*$K$7)+(AL30*$L$8))) -> 2000 | AP30: =IF(AO30=0,0,G30*((K30*$E$5)+(O30*$F$5)+(S30*$G$5)+(W30*$H$5)+(AA30*$I$5)+(AE30*$J$6)+(AI30*$K$7)+(AM30*$L$8))) -> 0 | AQ30: =G30*(AL30*$L$8) -> 0 | AR30: =ROUND(AO30/$N$4,2) -> 1 | AS30: =$S$4 -> 925 | AT30: =ROUND(AS30/160,2) -> 5.78 | AU30: =AO30*AT30 -> 11560 | AV30: =AP30*AT30*$AV$12 -> 0 | AW30: =AQ30*AT30*$AW$12 -> 0 | AX30: =SUM(AU30:AW30) -> 11560
