Workbook

Sheet 2. pielikums_Apkopojums
C1: 2.pielikums MK noteikumu projekta "Grozījumi Ministru kabineta 2018.gada 28.augusta noteikumos Nr.555 „Veselības aprūpes pakalpojumu organizēšanas un samaksas kārtība"" anotācijai
A2: Uzņemšanas nodaļas maksājums pēc reformas no 2027. gada
A3: Ārstniecības iestāde | B3: Spēkā esošās (01.01.2026.) fiksētās piemaksas gada apjoms, euro | C3: Neatliekamās medicīnas un pacientu uzņemšanas nodaļas maksājums no 2027. gada, euro | D3: Dežūrārsta maksājums no 2027. gada, euro | E3: Finasējuma izmaiņas, euro
A4: Aizkraukles slimnīca | B4: 905264 | C4: 477141 | D4: 316525 | E4: =ROUND((D4+C4)-B4,0) -> -111598
A5: Alūksnes slimnīca | B5: 2029091 | C5: 1336189 | D5: 316525 | E5: =ROUND((D5+C5)-B5,0) -> -376377
A6: Balvu un Gulbenes slimnīcu apvienība | B6: 2471616 | C6: 1220505 | D6: 527542 | E6: =ROUND((D6+C6)-B6,0) -> -723569
A7: Bauskas slimnīca | B7: 937845 | C7: 391448 | D7: 316525 | E7: =ROUND((D7+C7)-B7,0) -> -229872
A8: Bērnu klīniskā universitātes slimnīca | B8: 6486814 | C8: 5696032 | D8: 1477117 | E8: =ROUND((D8+C8)-B8,0) -> 686335
A9: Cēsu klīnika | B9: 2029091 | C9: 1065984 | D9: 527542 | E9: =ROUND((D9+C9)-B9,0) -> -435565
A10: Daugavpils psihoneiroloģiskā slimnīca | B10: 442524 | C10: 252073 | D10: 211017 | E10: =ROUND((D10+C10)-B10,0) -> 20566
A11: Daugavpils reģionālā slimnīca | B11: 4502111 | C11: 1894208 | D11: 1709823 | E11: =ROUND((D11+C11)-B11,0) -> -898080
A12: Dobeles un apkārtnes slimnīca | B12: 2471616 | C12: 1065984 | D12: 865755 | E12: =ROUND((D12+C12)-B12,0) -> -539877
A13: Jelgavas pilsētas slimnīca | B13: 3843760 | C13: 1421881 | D13: 1287789 | E13: =ROUND((D13+C13)-B13,0) -> -1134090
A14: Jēkabpils reģionālā slimnīca | B14: 3843760 | C14: 1065984 | D14: 1287789 | E14: =ROUND((D14+C14)-B14,0) -> -1489987
A15: Jūrmalas slimnīca | B15: 2142481 | C15: 1065984 | D15: 865755 | E15: =ROUND((D15+C15)-B15,0) -> -210742
... A39: Ziemeļkurzemes reģionālā slimnīca | B39: 4635541 | C39: 2285743 | D39: 1498806 | E39: =ROUND((D39+C39)-B39,0) -> -850992
A40: KOPĀ | B40: =SUM(B4:B39) -> 103915643 | C40: =SUM(C4:C39) -> 60025444 | D40: =SUM(D4:D39) -> 30229034 | E40: =ROUND((D40+C40)-B40,0) -> -13661165

Sheet 2p_turp_uznemsana
K1: 2.pielikuma turpinājums MK noteikumu projekta "Grozījumi Ministru kabineta 2018.gada 28.augusta noteikumos Nr.555 „Veselības aprūpes pakalpojumu organizēšanas un samaksas kārtība"" anotācijai
A3: Uzņemšanas nodaļas speciālistu atalgojumam nepieciešamā finansējuma aprēķins no 2027. gada
H4: VSAOI | I4: M summa gadā | J4: Netiešo izmaksu koeficienti
H5: 0.2359 | I5: =ROUND(13856.88,0) -> 13857 | J5: 0.2857 | K5: 0.0202 | L5: 0.0322
A6: Līmenis | B6: Ārstniecības iestāde | C6: Speciālisti | D6: Speciālistu skaits 24/7 | E6: Speciālistu skaits 8.00-20.00 darba dienās (12h) | F6: Speciālistu skaits 8.00-16.00 darba dienās (8h) | G6: D uzņ | H6: S uzņ | I6: M uzņ | J6: U uzņ | K6: A uzņ | L6: n uzņ | M6: Elementi uzņemšanā kopā
A7: Specializētās slimnīcas | B7: Vaivari, nacionālais rehabilitācijas centrs | C7: Internists vai anesteziologs, reanimatologs | D7: 0 | E7: 0 | F7: 0 | G7: 0 | H7: 0 | I7: 0 | J7: 0 | K7: 0 | L7: 0 | M7: =SUM(G7:L7) -> 0
A8: Specializētās slimnīcas | B8: Vaivari, nacionālais rehabilitācijas centrs | C8: Māsa | D8: 0 | E8: 0 | F8: 0 | G8: 0 | H8: 0 | I8: 0 | J8: 0 | K8: 0 | L8: 0 | M8: =SUM(G8:L8) -> 0
A9: Specializētās slimnīcas | B9: Vaivari, nacionālais rehabilitācijas centrs | C9: Māsas palīgs | D9: 0 | E9: 0 | F9: 0 | G9: 0 | H9: 0 | I9: 0 | J9: 0 | K9: 0 | L9: 0 | M9: =SUM(G9:L9) -> 0
A10: Specializētās slimnīcas | B10: KOPĀ | D10: =D7+D8+D9 -> 0 | E10: =E7+E8+E9 -> 0 | F10: =F7+F8+F9 -> 0 | G10: =G7+G8+G9 -> 0 | H10: =H7+H8+H9 -> 0 | I10: =I7+I8+I9 -> 0 | J10: =J7+J8+J9 -> 0 | K10: =K7+K8+K9 -> 0 | ... M10: =M7+M8+M9 -> 0
A11: Specializētās slimnīcas | B11: Rīgas Dzemdību nams | C11: Ginekologs, dzemdību speciālists | D11: 0 | E11: 0 | F11: 0 | G11: =ROUND($D11*'2p_turp_aprekins uzn'!$AX$19,2) -> 0 | H11: =ROUND(G11*$H$5,2) -> 0 | I11: =ROUND($D11*$I$5,2) -> 0 | J11: =ROUND($G11*$J$5,2) -> 0 | K11: =ROUND($G11*$K$5,2) -> 0 | L11: =ROUND($G11*$L$5,2) -> 0 | M11: =SUM(G11:L11) -> 0
A12: Specializētās slimnīcas | B12: Rīgas Dzemdību nams | C12: Neonatologs | D12: 0 | E12: 0 | F12: 0 | G12: =ROUND($D12*'2p_turp_aprekins uzn'!$AX$19,2) -> 0 | H12: =ROUND(G12*$H$5,2) -> 0 | I12: =ROUND($D12*$I$5,2) -> 0 | J12: =ROUND($G12*$J$5,2) -> 0 | K12: =ROUND($G12*$K$5,2) -> 0 | L12: =ROUND($G12*$L$5,2) -> 0 | M12: =SUM(G12:L12) -> 0
A13: Specializētās slimnīcas | B13: Rīgas Dzemdību nams | C13: Anesteziologs, reanimatologs | D13: 0 | E13: 0 | F13: 0 | G13: =ROUND($D13*'2p_turp_aprekins uzn'!$AX$19,2) -> 0 | H13: =ROUND(G13*$H$5,2) -> 0 | I13: =ROUND($D13*$I$5,2) -> 0 | J13: =ROUND($G13*$J$5,2) -> 0 | K13: =ROUND($G13*$K$5,2) -> 0 | L13: =ROUND($G13*$L$5,2) -> 0 | M13: =SUM(G13:L13) -> 0
A14: Specializētās slimnīcas | B14: Rīgas Dzemdību nams | C14: Radiologs (attālināti) 50% | D14: 0 | E14: 0 | F14: 0
A15: Specializētās slimnīcas | B15: Rīgas Dzemdību nams | C15: Radiologa asistents/radiogrāfers | D15: 0 | E15: 0 | F15: 0 | G15: =ROUND($D15*'2p_turp_aprekins uzn'!$AX$26,2) -> 0 | H15: =ROUND($G15*$H$5,2) -> 0 | I15: 0 | J15: 0 | K15: 0 | L15: 0 | M15: =SUM(G15:L15) -> 0
A16: Specializētās slimnīcas | B16: Rīgas Dzemdību nams | C16: Citi speciālisti (proktologs attālināti 50%) | D16: 0 | E16: 0 | F16: 0 | G16: 0 | H16: 0 | I16: 0 | J16: 0 | K16: 0 | L16: 0 | M16: =SUM(G16:L16) -> 0
A17: Specializētās slimnīcas | B17: Rīgas Dzemdību nams | C17: Māsa | D17: 0 | E17: 0 | F17: 0 | G17: =ROUND($D17*'2p_turp_aprekins uzn'!$AX$26,2) -> 0 | H17: =ROUND($G17*$H$5,2) -> 0 | I17: 0 | J17: 0 | K17: 0 | L17: 0 | M17: =SUM(G17:L17) -> 0
A18: Specializētās slimnīcas | B18: Rīgas Dzemdību nams | C18: Vecmāte | D18: 2 | E18: 0 | F18: 0 | G18: =ROUND($D18*'2p_turp_aprekins uzn'!$AX$26,2) -> 196341.6 | H18: =ROUND($G18*$H$5,2) -> 46316.98 | I18: 0 | J18: =ROUND($G18*$J$5,2) -> 56094.8 | K18: =ROUND($G18*$K$5,2) -> 3966.1 | L18: =ROUND($G18*$L$5,2) -> 6322.2 | M18: =SUM(G18:L18) -> 309041.68
A19: Specializētās slimnīcas | B19: Rīgas Dzemdību nams | C19: Māsas palīgs | D19: 1 | E19: 0 | F19: 0 | G19: =ROUND($D19*'2p_turp_aprekins uzn'!$AX$31,2) -> 65371.8 | H19: =ROUND($G19*$H$5,2) -> 15421.21 | I19: 0 | J19: 0 | K19: 0 | L19: 0 | M19: =SUM(G19:L19) -> 80793.01
A20: Specializētās slimnīcas | B20: KOPĀ | D20: =D11+D12+D13+D14+D15+D16+D17+D18+D19 -> 3 | E20: =E11+E12+E13+E14+E15+E16+E17+E18+E19 -> 0 | F20: =F11+F12+F13+F14+F15+F16+F17+F18+F19 -> 0 | G20: =G11+G12+G13+G14+G15+G16+G17+G18+G19 -> 261713.4 | H20: =H11+H12+H13+H14+H15+H16+H17+H18+H19 -> 61738.19 | I20: =I11+I12+I13+I14+I15+I16+I17+I18+I19 -> 0 | J20: =J11+J12+J13+J14+J15+J16+J17+J18+J19 -> 56094.8 | K20: =K11+K12+K13+K14+K15+K16+K17+K18+K19 -> 3966.1 | ... M20: =M11+M12+M13+M14+M15+M16+M17+M18+M19 -> 389834.69
A21: Specializētās slimnīcas | B21: Traumatoloģijas un ortopēdijas slimnīca | C21: Neatliekamās medicīnas ārsts | D21: 0 | E21: 0 | F21: 0 | G21: 0 | H21: 0 | I21: 0 | J21: 0 | K21: 0 | L21: 0 | M21: =SUM(G21:L21) -> 0
A22: Specializētās slimnīcas | B22: Traumatoloģijas un ortopēdijas slimnīca | C22: Traumatologs, ortopēds | D22: 3 | E22: 0 | F22: 0 | G22: =ROUND($D22*'2p_turp_aprekins uzn'!$AX$19,2) -> 488592 | H22: =ROUND(G22*$H$5,2) -> 115258.85 | I22: =ROUND($D22*$I$5,2) -> 41571 | J22: =ROUND($G22*$J$5,2) -> 139590.73 | K22: =ROUND($G22*$K$5,2) -> 9869.56 | L22: =ROUND($G22*$L$5,2) -> 15732.66 | M22: =SUM(G22:L22) -> 810614.8
A23: Specializētās slimnīcas | B23: Traumatoloģijas un ortopēdijas slimnīca | C23: Anesteziologs, reanimatologs | D23: 0 | E23: 0 | F23: 0 | G23: 0 | H23: 0 | I23: 0 | J23: 0 | K23: 0 | L23: 0 | M23: =SUM(G23:L23) -> 0
A24: Specializētās slimnīcas | B24: Traumatoloģijas un ortopēdijas slimnīca | C24: Radiologs | D24: 1 | E24: 0 | F24: 0 | G24: =ROUND($D24*'2p_turp_aprekins uzn'!$AX$19,2) -> 162864 | H24: =ROUND(G24*$H$5,2) -> 38419.62 | I24: =ROUND($D24*$I$5,2) -> 13857 | J24: =ROUND($G24*$J$5,2) -> 46530.24 | K24: =ROUND($G24*$K$5,2) -> 3289.85 | L24: =ROUND($G24*$L$5,2) -> 5244.22 | M24: =SUM(G24:L24) -> 270204.93
A25: Specializētās slimnīcas | B25: Traumatoloģijas un ortopēdijas slimnīca | C25: Radiologa asistents/radiogrāfers | D25: 2 | E25: 0 | F25: 0 | G25: =ROUND($D25*'2p_turp_aprekins uzn'!$AX$26,2) -> 196341.6 | H25: =ROUND($G25*$H$5,2) -> 46316.98 | I25: 0 | J25: 0 | K25: 0 | L25: 0 | M25: =SUM(G25:L25) -> 242658.58
A26: Specializētās slimnīcas | B26: Traumatoloģijas un ortopēdijas slimnīca | C26: Māsa | D26: =5+1 -> 6 | E26: 0 | F26: 0 | G26: =ROUND($D26*'2p_turp_aprekins uzn'!$AX$26,2) -> 589024.8 | H26: =ROUND($G26*$H$5,2) -> 138950.95 | I26: 0 | J26: 0 | K26: 0 | L26: 0 | M26: =SUM(G26:L26) -> 727975.75
A27: Specializētās slimnīcas | B27: Traumatoloģijas un ortopēdijas slimnīca | C27: Māsas palīgs | D27: =3+1 -> 4 | E27: 0 | F27: 0 | G27: =ROUND($D27*'2p_turp_aprekins uzn'!$AX$31,2) -> 261487.2 | H27: =ROUND($G27*$H$5,2) -> 61684.83 | I27: 0 | J27: 0 | K27: 0 | L27: 0 | M27: =SUM(G27:L27) -> 323172.03
A28: Specializētās slimnīcas | B28: Traumatoloģijas un ortopēdijas slimnīca | C28: Ārsta palīgs | D28: 0 | E28: 0 | F28: 0 | G28: 0 | H28: 0 | I28: 0 | J28: 0 | K28: 0 | L28: 0 | M28: =SUM(G28:L28) -> 0
A29: Specializētās slimnīcas | B29: KOPĀ | D29: =D21+D22+D23+D24+D25+D26+D27+D28 -> 16 | E29: =E21+E22+E23+E24+E25+E26+E27+E28 -> 0 | F29: =F21+F22+F23+F24+F25+F26+F27+F28 -> 0 | G29: =G21+G22+G23+G24+G25+G26+G27+G28 -> 1698309.6 | H29: =H21+H22+H23+H24+H25+H26+H27+H28 -> 400631.23 | I29: =I21+I22+I23+I24+I25+I26+I27+I28 -> 55428 | J29: =J21+J22+J23+J24+J25+J26+J27+J28 -> 186120.97 | K29: =K21+K22+K23+K24+K25+K26+K27+K28 -> 13159.41 | L29: =L21+L22+L23+L24+L25+L26+L27+L28 -> 20976.88 | M29: =ROUND(M21+M22+M23+M24+M25+M26+M27+M28,0) -> 2374626
A30: Specializētās slimnīcas | B30: Rīgas 2. slimnīca | C30: Neatliekamās medicīnas ārsts vai internists | D30: 0 | E30: 0 | F30: 0 | G30: 0 | H30: 0 | I30: 0 | J30: 0 | K30: 0 | L30: 0 | M30: =SUM(G30:L30) -> 0
A31: Specializētās slimnīcas | B31: Rīgas 2. slimnīca | C31: Traumatologs, ortopēds | D31: 2 | E31: 0 | F31: 0 | G31: =ROUND($D31*'2p_turp_aprekins uzn'!$AX$19,2) -> 325728 | H31: =ROUND(G31*$H$5,2) -> 76839.24 | I31: =ROUND($D31*$I$5,2) -> 27714 | J31: =ROUND($G31*$J$5,2) -> 93060.49 | K31: =ROUND($G31*$K$5,2) -> 6579.71 | L31: =ROUND($G31*$L$5,2) -> 10488.44 | M31: =SUM(G31:L31) -> 540409.88
A32: Specializētās slimnīcas | B32: Rīgas 2. slimnīca | C32: Anesteziologs, reanimatologs | D32: 0 | E32: 0 | F32: 0 | G32: 0 | H32: 0 | I32: 0 | J32: 0 | K32: 0 | L32: 0 | M32: =SUM(G32:L32) -> 0
A33: Specializētās slimnīcas | B33: Rīgas 2. slimnīca | C33: Radiologs (attālināti) 50% | D33: 0 | E33: 0 | F33: 0 | G33: 0 | H33: 0 | I33: 0 | J33: 0 | K33: 0 | L33: 0 | M33: =SUM(G33:L33) -> 0
A34: Specializētās slimnīcas | B34: Rīgas 2. slimnīca | C34: Radiologa asistents/radiogrāfers | D34: 1 | E34: 0 | F34: 0 | G34: =ROUND($D34*'2p_turp_aprekins uzn'!$AX$26,2) -> 98170.8 | H34: =ROUND($G34*$H$5,2) -> 23158.49 | I34: 0 | J34: 0 | K34: 0 | L34: 0 | M34: =SUM(G34:L34) -> 121329.29
A35: Specializētās slimnīcas | B35: Rīgas 2. slimnīca | C35: Māsa | D35: 2 | E35: 0 | F35: 0 | G35: =ROUND($D35*'2p_turp_aprekins uzn'!$AX$26,2) -> 196341.6 | H35: =ROUND($G35*$H$5,2) -> 46316.98 | I35: 0 | J35: 0 | K35: 0 | L35: 0 | M35: =SUM(G35:L35) -> 242658.58
A36: Specializētās slimnīcas | B36: Rīgas 2. slimnīca | C36: Vecmāte | D36: 0 | E36: 0 | F36: 0 | G36: 0 | H36: 0 | I36: 0 | J36: 0 | K36: 0 | L36: 0 | M36: =SUM(G36:L36) -> 0
A37: Specializētās slimnīcas | B37: Rīgas 2. slimnīca | C37: Māsas palīgs | D37: 2 | E37: 0 | F37: 0 | G37: =ROUND($D37*'2p_turp_aprekins uzn'!$AX$31,2) -> 130743.6 | H37: =ROUND($G37*$H$5,2) -> 30842.42 | I37: 0 | J37: 0 | K37: 0 | L37: 0 | M37: =SUM(G37:L37) -> 161586.02
A38: Specializētās slimnīcas | B38: Rīgas 2. slimnīca | C38: Ārsta palīgs | D38: 0 | E38: 0 | F38: 0 | G38: 0 | H38: 0 | I38: 0 | J38: 0 | K38: 0 | L38: 0 | M38: =SUM(G38:L38) -> 0
A39: Specializētās slimnīcas | B39: KOPĀ | D39: =D30+D31+D32+D33+D34+D35+D36+D37+D38 -> 7 | E39: =E30+E31+E32+E33+E34+E35+E36+E37+E38 -> 0 | F39: =F30+F31+F32+F33+F34+F35+F36+F37+F38 -> 0 | G39: =G30+G31+G32+G33+G34+G35+G36+G37+G38 -> 750984 | H39: =H30+H31+H32+H33+H34+H35+H36+H37+H38 -> 177157.13 | I39: =I30+I31+I32+I33+I34+I35+I36+I37+I38 -> 27714 | J39: =J30+J31+J32+J33+J34+J35+J36+J37+J38 -> 93060.49 | K39: =K30+K31+K32+K33+K34+K35+K36+K37+K38 -> 6579.71 | ... M39: =M30+M31+M32+M33+M34+M35+M36+M37+M38 -> 1065983.8
A40: Specializētās slimnīcas | B40: Daugavpils psihoneiroloģiskā slimnīca | C40: Psihiatrs vai narkologs | D40: 0 | E40: 0 | F40: 1 | G40: =ROUND($F40*'2p_turp_aprekins uzn'!$AX$14,2) -> 28800 | H40: =ROUND(G40*$H$5,2) -> 6793.92 | I40: =ROUND($F40*$I$5/3,2) -> 4619 | J40: =ROUND($G40*$J$5,2) -> 8228.16 | K40: =ROUND($G40*$K$5,2) -> 581.76 | L40: =ROUND($G40*$L$5,2) -> 927.36 | M40: =SUM(G40:L40) -> 49950.2
A41: Specializētās slimnīcas | B41: Daugavpils psihoneiroloģiskā slimnīca | C41: Māsa/ārsta palīgs | D41: 1 | E41: 0 | F41: 0 | G41: =ROUND($D41*'2p_turp_aprekins uzn'!$AX$26,2) -> 98170.8 | H41: =ROUND($G41*$H$5,2) -> 23158.49 | I41: 0 | J41: 0 | K41: 0 | L41: 0 | M41: =SUM(G41:L41) -> 121329.29
A42: Specializētās slimnīcas | B42: Daugavpils psihoneiroloģiskā slimnīca | C42: Māsas palīgs | D42: 1 | E42: 0 | F42: 0 | G42: =ROUND($D42*'2p_turp_aprekins uzn'!$AX$31,2) -> 65371.8 | H42: =ROUND($G42*$H$5,2) -> 15421.21 | I42: 0 | J42: 0 | K42: 0 | L42: 0 | M42: =SUM(G42:L42) -> 80793.01
A43: Specializētās slimnīcas | B43: KOPĀ | D43: =D40+D41+D42 -> 2 | E43: =E40+E41+E42 -> 0 | F43: =F40+F41+F42 -> 1 | G43: =G40+G41+G42 -> 192342.6 | H43: =H40+H41+H42 -> 45373.62 | I43: =I40+I41+I42 -> 4619 | J43: =J40+J41+J42 -> 8228.16 | K43: =K40+K41+K42 -> 581.76 | L43: =L40+L41+L42 -> 927.36 | M43: =ROUND(M40+M41+M42,0) -> 252073
A44: Specializētās slimnīcas | B44: Piejūras slimnīca | C44: Psihiatrs vai narkologs | D44: 0 | E44: 0 | F44: 1 | G44: =ROUND($F44*'2p_turp_aprekins uzn'!$AX$14,2) -> 28800 | H44: =ROUND(G44*$H$5,2) -> 6793.92 | I44: =ROUND($F44*$I$5/3,2) -> 4619 | J44: =ROUND($G44*$J$5,2) -> 8228.16 | K44: =ROUND($G44*$K$5,2) -> 581.76 | L44: =ROUND($G44*$L$5,2) -> 927.36 | M44: =SUM(G44:L44) -> 49950.2
A45: Specializētās slimnīcas | B45: Piejūras slimnīca | C45: Māsa | D45: 1 | E45: 0 | F45: 0 | G45: =ROUND($D45*'2p_turp_aprekins uzn'!$AX$26,2) -> 98170.8 | H45: =ROUND($G45*$H$5,2) -> 23158.49 | I45: 0 | J45: 0 | K45: 0 | L45: 0 | M45: =SUM(G45:L45) -> 121329.29
A46: Specializētās slimnīcas | B46: Piejūras slimnīca | C46: Māsas palīgs | D46: 1 | E46: 0 | F46: 0 | G46: =ROUND($D46*'2p_turp_aprekins uzn'!$AX$31,2) -> 65371.8 | H46: =ROUND($G46*$H$5,2) -> 15421.21 | I46: 0 | J46: 0 | K46: 0 | L46: 0 | M46: =SUM(G46:L46) -> 80793.01
A47: Specializētās slimnīcas | B47: KOPĀ | D47: =D44+D45+D46 -> 2 | E47: =E44+E45+E46 -> 0 | F47: =F44+F45+F46 -> 1 | G47: =G44+G45+G46 -> 192342.6 | H47: =H44+H45+H46 -> 45373.62 | I47: =I44+I45+I46 -> 4619 | J47: =J44+J45+J46 -> 8228.16 | K47: =K44+K45+K46 -> 581.76 | L47: =L44+L45+L46 -> 927.36 | M47: =ROUND(M44+M45+M46,0) -> 252073
A48: Specializētās slimnīcas | B48: Nacionālais psihiskās veselības centrs | C48: Psihiatrs vai narkologs | D48: 3 | E48: 0 | F48: 0 | G48: =ROUND($D48*'2p_turp_aprekins uzn'!$AX$19,2) -> 488592 | H48: =ROUND(G48*$H$5,2) -> 115258.85 | I48: =ROUND($D48*$I$5,2) -> 41571 | J48: =ROUND($G48*$J$5,2) -> 139590.73 | K48: =ROUND($G48*$K$5,2) -> 9869.56 | L48: =ROUND($G48*$L$5,2) -> 15732.66 | M48: =SUM(G48:L48) -> 810614.8
A49: Specializētās slimnīcas | B49: Nacionālais psihiskās veselības centrs | C49: Narkologs | D49: 0 | E49: 0 | F49: 0 | G49: 0 | H49: 0 | I49: 0 | J49: 0 | K49: 0 | L49: 0 | M49: =SUM(G49:L49) -> 0
A50: Specializētās slimnīcas | B50: Nacionālais psihiskās veselības centrs | C50: Neatliekamās palīdzības ārsts | D50: 1 | E50: 0 | F50: 0 | G50: =ROUND($D50*'2p_turp_aprekins uzn'!$AX$19,2) -> 162864 | H50: =ROUND(G50*$H$5,2) -> 38419.62 | I50: =ROUND($D50*$I$5,2) -> 13857 | J50: =ROUND($G50*$J$5,2) -> 46530.24 | K50: =ROUND($G50*$K$5,2) -> 3289.85 | L50: =ROUND($G50*$L$5,2) -> 5244.22 | M50: =SUM(G50:L50) -> 270204.93
A51: Specializētās slimnīcas | B51: Nacionālais psihiskās veselības centrs | C51: Māsa/ārsta palīgs | D51: 4 | E51: 0 | F51: 0 | G51: =ROUND($D51*'2p_turp_aprekins uzn'!$AX$26,2) -> 392683.2 | H51: =ROUND($G51*$H$5,2) -> 92633.97 | I51: 0 | J51: 0 | K51: 0 | L51: 0 | M51: =SUM(G51:L51) -> 485317.17
A52: Specializētās slimnīcas | B52: Nacionālais psihiskās veselības centrs | C52: Māsas palīgs | D52: 4 | E52: 0 | F52: 0 | G52: =ROUND($D52*'2p_turp_aprekins uzn'!$AX$31,2) -> 261487.2 | H52: =ROUND($G52*$H$5,2) -> 61684.83 | I52: 0 | J52: 0 | K52: 0 | L52: 0 | M52: =SUM(G52:L52) -> 323172.03
A53: Specializētās slimnīcas | B53: KOPĀ | D53: =D48+D49+D50+D51+D52 -> 12 | E53: =E48+E49+E50+E51+E52 -> 0 | F53: =F48+F49+F50+F51+F52 -> 0 | G53: =G48+G49+G50+G51+G52 -> 1305626.4 | H53: =H48+H49+H50+H51+H52 -> 307997.27 | I53: =I48+I49+I50+I51+I52 -> 55428 | J53: =J48+J49+J50+J51+J52 -> 186120.97 | K53: =K48+K49+K50+K51+K52 -> 13159.41 | ... M53: =M48+M49+M50+M51+M52 -> 1889308.9
A54: Specializētās slimnīcas | B54: Slimnīca Ģintermuiža | C54: Psihiatrs vai narkologs | D54: 0 | E54: 0 | F54: 1 | G54: =ROUND($F54*'2p_turp_aprekins uzn'!$AX$14,2) -> 28800 | H54: =ROUND(G54*$H$5,2) -> 6793.92 | I54: =ROUND($F54*$I$5/3,2) -> 4619 | J54: =ROUND($G54*$J$5,2) -> 8228.16 | K54: =ROUND($G54*$K$5,2) -> 581.76 | L54: =ROUND($G54*$L$5,2) -> 927.36 | M54: =SUM(G54:L54) -> 49950.2
A55: Specializētās slimnīcas | B55: Slimnīca Ģintermuiža | C55: Māsa/ārsta palīgs | D55: 1 | E55: 0 | F55: 0 | G55: =ROUND($D55*'2p_turp_aprekins uzn'!$AX$26,2) -> 98170.8 | H55: =ROUND($G55*$H$5,2) -> 23158.49 | I55: 0 | J55: 0 | K55: 0 | L55: 0 | M55: =SUM(G55:L55) -> 121329.29
A56: Specializētās slimnīcas | B56: Slimnīca Ģintermuiža | C56: Māsas palīgs | D56: 1 | E56: 0 | F56: 0 | G56: =ROUND($D56*'2p_turp_aprekins uzn'!$AX$31,2) -> 65371.8 | H56: =ROUND($G56*$H$5,2) -> 15421.21 | I56: 0 | J56: 0 | K56: 0 | L56: 0 | M56: =SUM(G56:L56) -> 80793.01
A57: Specializētās slimnīcas | B57: KOPĀ | D57: =D54+D55+D56 -> 2 | E57: =E54+E55+E56 -> 0 | F57: =F54+F55+F56 -> 1 | G57: =G54+G55+G56 -> 192342.6 | H57: =H54+H55+H56 -> 45373.62 | I57: =I54+I55+I56 -> 4619 | J57: =J54+J55+J56 -> 8228.16 | K57: =K54+K55+K56 -> 581.76 | L57: =L54+L55+L56 -> 927.36 | M57: =ROUND(M54+M55+M56,0) -> 252073
A58: Specializētās slimnīcas | B58: Strenču psihoneiroloģiskā slimnīca | C58: Psihiatrs vai narkologs | D58: 0 | E58: 0 | F58: 1 | G58: =ROUND($F58*'2p_turp_aprekins uzn'!$AX$14,2) -> 28800 | H58: =ROUND(G58*$H$5,2) -> 6793.92 | I58: =ROUND($F58*$I$5/3,2) -> 4619 | J58: =ROUND($G58*$J$5,2) -> 8228.16 | K58: =ROUND($G58*$K$5,2) -> 581.76 | L58: =ROUND($G58*$L$5,2) -> 927.36 | M58: =SUM(G58:L58) -> 49950.2
A59: Specializētās slimnīcas | B59: Strenču psihoneiroloģiskā slimnīca | C59: Māsa/ārsta palīgs | D59: 1 | E59: 0 | F59: 0 | G59: =ROUND($D59*'2p_turp_aprekins uzn'!$AX$26,2) -> 98170.8 | H59: =ROUND($G59*$H$5,2) -> 23158.49 | I59: 0 | J59: 0 | K59: 0 | L59: 0 | M59: =SUM(G59:L59) -> 121329.29
A60: Specializētās slimnīcas | B60: Strenču psihoneiroloģiskā slimnīca | C60: Māsas palīgs | D60: 1 | E60: 0 | F60: 0 | G60: =ROUND($D60*'2p_turp_aprekins uzn'!$AX$31,2) -> 65371.8 | H60: =ROUND($G60*$H$5,2) -> 15421.21 | I60: 0 | J60: 0 | K60: 0 | L60: 0 | M60: =SUM(G60:L60) -> 80793.01
A61: Specializētās slimnīcas | B61: KOPĀ | D61: =D58+D59+D60 -> 2 | E61: =E58+E59+E60 -> 0 | F61: =F58+F59+F60 -> 1 | G61: =G58+G59+G60 -> 192342.6 | H61: =H58+H59+H60 -> 45373.62 | I61: =I58+I59+I60 -> 4619 | J61: =J58+J59+J60 -> 8228.16 | K61: =K58+K59+K60 -> 581.76 | L61: =L58+L59+L60 -> 927.36 | M61: =ROUND(M58+M59+M60,0) -> 252073
A62: Lokālās slimnīcas | B62: Siguldas slimnīca | C62: Ķirurgs | D62: 0 | E62: 0 | F62: 0 | G62: 0 | H62: 0 | I62: 0 | J62: 0 | K62: 0 | L62: 0 | M62: =SUM(G62:L62) -> 0
A63: Lokālās slimnīcas | B63: Siguldas slimnīca | C63: Internists vai ķirurgs | D63: 1 | E63: 0 | F63: 0 | G63: =ROUND($D63*'2p_turp_aprekins uzn'!$AX$19,2) -> 162864 | H63: =ROUND(G63*$H$5,2) -> 38419.62 | I63: =ROUND($D63*$I$5,2) -> 13857 | J63: =ROUND($G63*$J$5,2) -> 46530.24 | K63: =ROUND($G63*$K$5,2) -> 3289.85 | L63: =ROUND($G63*$L$5,2) -> 5244.22 | M63: =SUM(G63:L63) -> 270204.93
A64: Lokālās slimnīcas | B64: Siguldas slimnīca | C64: Ginekologs, dzemdību speciālists | D64: 0 | E64: 0 | F64: 0 | G64: 0 | H64: 0 | I64: 0 | J64: 0 | K64: 0 | L64: 0 | M64: =SUM(G64:L64) -> 0
A65: Lokālās slimnīcas | B65: Siguldas slimnīca | C65: Pediatrs | D65: 0 | E65: 0 | F65: 0 | G65: 0 | H65: 0 | I65: 0 | J65: 0 | K65: 0 | L65: 0 | M65: =SUM(G65:L65) -> 0
A66: Lokālās slimnīcas | B66: Siguldas slimnīca | C66: Anesteziologs, reanimatologs | D66: 0 | E66: 0 | F66: 0 | G66: 0 | H66: 0 | I66: 0 | J66: 0 | K66: 0 | L66: 0 | M66: =SUM(G66:L66) -> 0
A67: Lokālās slimnīcas | B67: Siguldas slimnīca | C67: Radiologs (attālināti) 50% | D67: 0 | E67: 0 | F67: 0 | G67: 0 | H67: 0 | I67: 0 | J67: 0 | K67: 0 | L67: 0 | M67: =SUM(G67:L67) -> 0
A68: Lokālās slimnīcas | B68: Siguldas slimnīca | C68: Radiologa asistents/radiogrāfers | D68: 1 | E68: 0 | F68: 0 | G68: =ROUND($D68*'2p_turp_aprekins uzn'!$AX$26,2) -> 98170.8 | H68: =ROUND($G68*$H$5,2) -> 23158.49 | I68: 0 | J68: 0 | K68: 0 | L68: 0 | M68: =SUM(G68:L68) -> 121329.29
A69: Lokālās slimnīcas | B69: Siguldas slimnīca | C69: Māsa/ārsta palīgs | D69: 1 | E69: 0 | F69: 0 | G69: =ROUND($D69*'2p_turp_aprekins uzn'!$AX$26,2) -> 98170.8 | H69: =ROUND($G69*$H$5,2) -> 23158.49 | I69: 0 | J69: 0 | K69: 0 | L69: 0 | M69: =SUM(G69:L69) -> 121329.29
A70: Lokālās slimnīcas | B70: Siguldas slimnīca | C70: Vecmāte | D70: 0 | E70: 0 | F70: 0 | G70: 0 | H70: 0 | I70: 0 | J70: 0 | K70: 0 | L70: 0 | M70: =SUM(G70:L70) -> 0
A71: Lokālās slimnīcas | B71: Siguldas slimnīca | C71: Māsas palīgs | D71: 1 | E71: 0 | F71: 0 | G71: =ROUND($D71*'2p_turp_aprekins uzn'!$AX$31,2) -> 65371.8 | H71: =ROUND($G71*$H$5,2) -> 15421.21 | I71: 0 | J71: 0 | K71: 0 | L71: 0 | M71: =SUM(G71:L71) -> 80793.01
A72: Lokālās slimnīcas | B72: KOPĀ | D72: =D62+D63+D64+D65+D66+D67+D68+D69+D70+D71 -> 4 | E72: =E62+E63+E64+E65+E66+E67+E68+E69+E70+E71 -> 0 | F72: =F62+F63+F64+F65+F66+F67+F68+F69+F70+F71 -> 0 | G72: =G62+G63+G64+G65+G66+G67+G68+G69+G70+G71 -> 424577.4 | H72: =H62+H63+H64+H65+H66+H67+H68+H69+H70+H71 -> 100157.81 | I72: =I62+I63+I64+I65+I66+I67+I68+I69+I70+I71 -> 13857 | J72: =J62+J63+J64+J65+J66+J67+J68+J69+J70+J71 -> 46530.24 | K72: =K62+K63+K64+K65+K66+K67+K68+K69+K70+K71 -> 3289.85 | ... M72: =M62+M63+M64+M65+M66+M67+M68+M69+M70+M71 -> 593656.52
A73: Daudzprofilu slimnīca | B73: Ziemeļkurzemes reģionālā slimnīca | C73: Internists | D73: 2 | E73: 0 | F73: 0 | G73: =ROUND($D73*'2p_turp_aprekins uzn'!$AX$19,2) -> 325728 | H73: =ROUND(G73*$H$5,2) -> 76839.24 | I73: =ROUND($D73*$I$5,2) -> 27714 | J73: =ROUND($G73*$J$5,2) -> 93060.49 | K73: =ROUND($G73*$K$5,2) -> 6579.71 | L73: =ROUND($G73*$L$5,2) -> 10488.44 | M73: =SUM(G73:L73) -> 540409.88
A74: Daudzprofilu slimnīca | B74: Ziemeļkurzemes reģionālā slimnīca | C74: Ķirurgs | D74: 1 | E74: 0 | F74: 0 | G74: =ROUND($D74*'2p_turp_aprekins uzn'!$AX$19,2) -> 162864 | H74: =ROUND(G74*$H$5,2) -> 38419.62 | I74: =ROUND($D74*$I$5,2) -> 13857 | J74: =ROUND($G74*$J$5,2) -> 46530.24 | K74: =ROUND($G74*$K$5,2) -> 3289.85 | L74: =ROUND($G74*$L$5,2) -> 5244.22 | M74: =SUM(G74:L74) -> 270204.93
A75: Daudzprofilu slimnīca | B75: Ziemeļkurzemes reģionālā slimnīca | C75: Ginekologs, dzemdību speciālists | D75: 0 | E75: 0 | F75: 0 | G75: 0 | H75: 0 | I75: 0 | J75: 0 | K75: 0 | L75: 0 | M75: =SUM(G75:L75) -> 0
A76: Daudzprofilu slimnīca | B76: Ziemeļkurzemes reģionālā slimnīca | C76: Traumatologs, ortopēds 8h dd | D76: 0 | E76: 0 | F76: 1 | G76: =ROUND($F76*'2p_turp_aprekins uzn'!$AX$14,2) -> 28800 | H76: =ROUND(G76*$H$5,2) -> 6793.92 | I76: =ROUND($F76*$I$5/3,2) -> 4619 | J76: =ROUND($G76*$J$5,2) -> 8228.16 | K76: =ROUND($G76*$K$5,2) -> 581.76 | L76: =ROUND($G76*$L$5,2) -> 927.36 | M76: =SUM(G76:L76) -> 49950.2
A77: Daudzprofilu slimnīca | B77: Ziemeļkurzemes reģionālā slimnīca | C77: Neirologs | D77: 0 | E77: 0 | F77: 0 | G77: 0 | H77: 0 | I77: 0 | J77: 0 | K77: 0 | L77: 0 | M77: =SUM(G77:L77) -> 0
A78: Daudzprofilu slimnīca | B78: Ziemeļkurzemes reģionālā slimnīca | C78: Pediatrs | D78: 0 | E78: 0 | F78: 0 | G78: 0 | H78: 0 | I78: 0 | J78: 0 | K78: 0 | L78: 0 | M78: =SUM(G78:L78) -> 0
A79: Daudzprofilu slimnīca | B79: Ziemeļkurzemes reģionālā slimnīca | C79: Anesteziologs, reanimatologs | D79: 1 | E79: 0 | F79: 0 | G79: =ROUND($D79*'2p_turp_aprekins uzn'!$AX$19,2) -> 162864 | H79: =ROUND(G79*$H$5,2) -> 38419.62 | I79: =ROUND($D79*$I$5,2) -> 13857 | J79: =ROUND($G79*$J$5,2) -> 46530.24 | K79: =ROUND($G79*$K$5,2) -> 3289.85 | L79: =ROUND($G79*$L$5,2) -> 5244.22 | M79: =SUM(G79:L79) -> 270204.93
A80: Daudzprofilu slimnīca | B80: Ziemeļkurzemes reģionālā slimnīca | C80: Anesteziologs, reanimatologs | D80: 0 | E80: 0 | F80: 0 | G80: =ROUND($D80*'2p_turp_aprekins uzn'!$AX$19,2) -> 0 | H80: =ROUND(G80*$H$5,2) -> 0 | I80: =ROUND($D80*$I$5,2) -> 0 | J80: =ROUND($G80*$J$5,2) -> 0 | K80: =ROUND($G80*$K$5,2) -> 0 | L80: =ROUND($G80*$L$5,2) -> 0 | M80: =SUM(G80:L80) -> 0
A81: Daudzprofilu slimnīca | B81: Ziemeļkurzemes reģionālā slimnīca | C81: Radiologs (attālināti) 50% | D81: 0 | E81: 0 | F81: 0 | G81: 0 | H81: 0 | I81: 0 | J81: 0 | K81: 0 | L81: 0 | M81: =SUM(G81:L81) -> 0
A82: Daudzprofilu slimnīca | B82: Ziemeļkurzemes reģionālā slimnīca | C82: Radiologa asistents/radiogrāfers | D82: 2 | E82: 0 | F82: 0 | G82: =ROUND($D82*'2p_turp_aprekins uzn'!$AX$26,2) -> 196341.6 | H82: =ROUND($G82*$H$5,2) -> 46316.98 | I82: 0 | J82: 0 | K82: 0 | L82: 0 | M82: =SUM(G82:L82) -> 242658.58
A83: Daudzprofilu slimnīca | B83: Ziemeļkurzemes reģionālā slimnīca | C83: Citi speciālisti (oftalmologs) | D83: 1 | E83: 0 | F83: 0 | G83: =ROUND($D83*'2p_turp_aprekins uzn'!$AX$19,2) -> 162864 | H83: =ROUND(G83*$H$5,2) -> 38419.62 | I83: =ROUND($D83*$I$5,2) -> 13857 | J83: =ROUND($G83*$J$5,2) -> 46530.24 | K83: =ROUND($G83*$K$5,2) -> 3289.85 | L83: =ROUND($G83*$L$5,2) -> 5244.22 | M83: =SUM(G83:L83) -> 270204.93
A84: Daudzprofilu slimnīca | B84: Ziemeļkurzemes reģionālā slimnīca | C84: Māsa/ārsta palīgs | D84: 3 | E84: 0 | F84: 0 | G84: =ROUND($D84*'2p_turp_aprekins uzn'!$AX$26,2) -> 294512.4 | H84: =ROUND($G84*$H$5,2) -> 69475.48 | I84: 0 | J84: 0 | K84: 0 | L84: 0 | M84: =SUM(G84:L84) -> 363987.88
A85: Daudzprofilu slimnīca | B85: Ziemeļkurzemes reģionālā slimnīca | C85: Māsa 8h dd (traumatologam) | D85: 0 | E85: 0 | F85: 1 | G85: =ROUND($F85*'2p_turp_aprekins uzn'!$AX$25,2) -> 17360 | H85: =ROUND(G85*$H$5,2) -> 4095.22 | I85: 0 | J85: 0 | K85: 0 | L85: 0 | M85: =SUM(G85:L85) -> 21455.22
A86: Daudzprofilu slimnīca | B86: Ziemeļkurzemes reģionālā slimnīca | C86: Vecmāte | D86: 0 | E86: 0 | F86: 0 | G86: 0 | H86: 0 | I86: 0 | J86: 0 | K86: 0 | L86: 0 | M86: =SUM(G86:L86) -> 0
A87: Daudzprofilu slimnīca | B87: Ziemeļkurzemes reģionālā slimnīca | C87: Māsas palīgs | D87: 3 | E87: 0 | F87: 0 | G87: =ROUND($D87*'2p_turp_aprekins uzn'!$AX$31,2) -> 196115.4 | H87: =ROUND($G87*$H$5,2) -> 46263.62 | I87: 0 | J87: 0 | K87: 0 | L87: 0 | M87: =SUM(G87:L87) -> 242379.02
A88: Daudzprofilu slimnīca | B88: Ziemeļkurzemes reģionālā slimnīca | C88: Māsas palīgs 8 h dd (traumatologam) | D88: 0 | E88: 0 | F88: 1 | G88: =ROUND($F88*'2p_turp_aprekins uzn'!$AX$30,2) -> 11560 | H88: =ROUND(G88*$H$5,2) -> 2727 | I88: 0 | J88: 0 | K88: 0 | L88: 0 | M88: =SUM(G88:L88) -> 14287
A89: Daudzprofilu slimnīca | B89: KOPĀ | D89: =D73+D74+D75+D76+D77+D78+D79+D80+D81+D82+D83+D84+D86+D87+D85+D88 -> 13 | E89: =E73+E74+E75+E76+E77+E78+E79+E80+E81+E82+E83+E84+E86+E87+E85+E88 -> 0 | F89: =F73+F74+F75+F76+F77+F78+F79+F80+F81+F82+F83+F84+F86+F87+F85+F88 -> 3 | G89: =G73+G74+G75+G76+G77+G78+G79+G80+G81+G82+G83+G84+G86+G87+G85+G88 -> 1559009.4 | H89: =H73+H74+H75+H76+H77+H78+H79+H80+H81+H82+H83+H84+H86+H87+H85+H88 -> 367770.32 | I89: =I73+I74+I75+I76+I77+I78+I79+I80+I81+I82+I83+I84+I86+I87+I85+I88 -> 73904 | J89: =J73+J74+J75+J76+J77+J78+J79+J80+J81+J82+J83+J84+J86+J87+J85+J88 -> 240879.37 | K89: =K73+K74+K75+K76+K77+K78+K79+K80+K81+K82+K83+K84+K86+K87+K85+K88 -> 17031.02 | ... M89: =M73+M74+M75+M76+M77+M78+M79+M80+M81+M82+M83+M84+M86+M87+M85+M88 -> 2285742.6
A90: Daudzprofilu slimnīca | B90: Vidzemes slimnīca | C90: Internists | D90: 1 | E90: 0 | F90: 0 | G90: =ROUND($D90*'2p_turp_aprekins uzn'!$AX$19,2) -> 162864 | H90: =ROUND(G90*$H$5,2) -> 38419.62 | I90: =ROUND($D90*$I$5,2) -> 13857 | J90: =ROUND($G90*$J$5,2) -> 46530.24 | K90: =ROUND($G90*$K$5,2) -> 3289.85 | L90: =ROUND($G90*$L$5,2) -> 5244.22 | M90: =SUM(G90:L90) -> 270204.93
A91: Daudzprofilu slimnīca | B91: Vidzemes slimnīca | C91: Ķirurgs | D91: 1 | E91: 0 | F91: 0 | G91: =ROUND($D91*'2p_turp_aprekins uzn'!$AX$19,2) -> 162864 | H91: =ROUND(G91*$H$5,2) -> 38419.62 | I91: =ROUND($D91*$I$5,2) -> 13857 | J91: =ROUND($G91*$J$5,2) -> 46530.24 | K91: =ROUND($G91*$K$5,2) -> 3289.85 | L91: =ROUND($G91*$L$5,2) -> 5244.22 | M91: =SUM(G91:L91) -> 270204.93
A92: Daudzprofilu slimnīca | B92: Vidzemes slimnīca | C92: Ginekologs, dzemdību speciālists | D92: 0 | E92: 0 | F92: 0 | G92: 0 | H92: 0 | I92: 0 | J92: 0 | K92: 0 | L92: 0 | M92: =SUM(G92:L92) -> 0
A93: Daudzprofilu slimnīca | B93: Vidzemes slimnīca | C93: Traumatologs, ortopēds 8h dd | D93: 0 | E93: 0 | F93: 1 | G93: =ROUND($F93*'2p_turp_aprekins uzn'!$AX$14,2) -> 28800 | H93: =ROUND(G93*$H$5,2) -> 6793.92 | I93: =ROUND($F93*$I$5/3,2) -> 4619 | J93: =ROUND($G93*$J$5,2) -> 8228.16 | K93: =ROUND($G93*$K$5,2) -> 581.76 | L93: =ROUND($G93*$L$5,2) -> 927.36 | M93: =SUM(G93:L93) -> 49950.2
A94: Daudzprofilu slimnīca | B94: Vidzemes slimnīca | C94: Neirologs | D94: 0 | E94: 0 | F94: 0 | G94: 0 | H94: 0 | I94: 0 | J94: 0 | K94: 0 | L94: 0 | M94: =SUM(G94:L94) -> 0
A95: Daudzprofilu slimnīca | B95: Vidzemes slimnīca | C95: Pediatrs | D95: 0 | E95: 0 | F95: 0 | G95: 0 | H95: 0 | I95: 0 | J95: 0 | K95: 0 | L95: 0 | M95: =SUM(G95:L95) -> 0
A96: Daudzprofilu slimnīca | B96: Vidzemes slimnīca | C96: Neonatologs | D96: 0 | E96: 0 | F96: 0 | G96: 0 | H96: 0 | I96: 0 | J96: 0 | K96: 0 | L96: 0 | M96: =SUM(G96:L96) -> 0
A97: Daudzprofilu slimnīca | B97: Vidzemes slimnīca | C97: Anesteziologs, reanimatologs | D97: 1 | E97: 0 | F97: 0 | G97: =ROUND($D97*'2p_turp_aprekins uzn'!$AX$19,2) -> 162864 | H97: =ROUND(G97*$H$5,2) -> 38419.62 | I97: =ROUND($D97*$I$5,2) -> 13857 | J97: =ROUND($G97*$J$5,2) -> 46530.24 | K97: =ROUND($G97*$K$5,2) -> 3289.85 | L97: =ROUND($G97*$L$5,2) -> 5244.22 | M97: =SUM(G97:L97) -> 270204.93
A98: Daudzprofilu slimnīca | B98: Vidzemes slimnīca | C98: Radiologs (attālināti) 50% | D98: 0 | E98: 0 | F98: 0 | G98: 0 | H98: 0 | I98: 0 | J98: 0 | K98: 0 | L98: 0 | M98: =SUM(G98:L98) -> 0
A99: Daudzprofilu slimnīca | B99: Vidzemes slimnīca | C99: Radiologa asistents/radiogrāfers | D99: 1 | E99: 0 | F99: 0 | G99: =ROUND($D99*'2p_turp_aprekins uzn'!$AX$26,2) -> 98170.8 | H99: =ROUND($G99*$H$5,2) -> 23158.49 | I99: 0 | J99: 0 | K99: 0 | L99: 0 | M99: =SUM(G99:L99) -> 121329.29
A100: Daudzprofilu slimnīca | B100: Vidzemes slimnīca | C100: Māsa/ārsta palīgs | D100: 2 | E100: 0 | F100: 0 | G100: =ROUND($D100*'2p_turp_aprekins uzn'!$AX$26,2) -> 196341.6 | H100: =ROUND($G100*$H$5,2) -> 46316.98 | I100: 0 | J100: 0 | K100: 0 | L100: 0 | M100: =SUM(G100:L100) -> 242658.58
A101: Daudzprofilu slimnīca | B101: Vidzemes slimnīca | C101: Māsa 8h dd (traumatologam) | D101: 0 | E101: 0 | F101: 1 | G101: =ROUND($F101*'2p_turp_aprekins uzn'!$AX$25,2) -> 17360 | H101: =ROUND(G101*$H$5,2) -> 4095.22 | I101: 0 | J101: 0 | K101: 0 | L101: 0 | M101: =SUM(G101:L101) -> 21455.22
...

Sheet 2p_turp_dezurarsti
A1: Dežūrārstu atalgojumam nepieciešamā finansējuma aprēķins no 2027. gada | Y1: 2.pielikuma turpinājums MK noteikumu projekta "Grozījumi Ministru kabineta 2018.gada 28.augusta noteikumos Nr.555 „Veselības aprūpes pakalpojumu organizēšanas un samaksas kārtība"" anotācijai
K4: VSAOI
D5: Dežūrārsti | K5: 0.2359 | Q5: 0.2857 | T5: 0.0202 | W5: 0.0322
A6: Līmenis | B6: Ārstniecības iestāde | C6: Speciālisti (jaunais) | D6: Speciālistu skaits 16.00-8.00 (16h) darba dienās | E6: Speciālistu skaits 8.00-8.00 (24h) brīvdienās, svētku dienās | F6: D dež dd | G6: D dež br | H6: D dež kopā | I6: S dež dd | J6: S dež br | K6: S dež kopā | L6: M dež dd | M6: M dež br | N6: M dež kopā | O6: U dež dd | P6: U dež br | Q6: U dež kopā | R6: A dež dd | S6: A dež br | T6: A dež kopā | U6: n dež dd | V6: n dež br | W6: n dež kopā | X6: Maksājums par dežūrārstiem kopā
A7: Specializētās slimnīcas | B7: Vaivari, nacionālais rehabilitācijas centrs | C7: Internists vai anesteziologs, reanimatologs | D7: 1 | E7: 1 | F7: =ROUND($D7*'2p_turp_aprekins dez'!$AX$16,2) -> 79200 | G7: =ROUND($E7*'2p_turp_aprekins dez'!$AX$17,2) -> 54864 | H7: =SUM(F7:G7) -> 134064 | I7: =ROUND($F7*$K$5,2) -> 18683.28 | J7: =ROUND($G7*$K$5,2) -> 12942.42 | K7: =SUM(I7:J7) -> 31625.7 | L7: 0 | M7: 0 | N7: =SUM(L7:M7) -> 0 | O7: =ROUND($F7*$Q$5,2) -> 22627.44 | P7: =ROUND($G7*$Q$5,2) -> 15674.64 | Q7: =SUM(O7:P7) -> 38302.08 | R7: =ROUND($F7*$T$5,2) -> 1599.84 | S7: =ROUND($G7*$T$5,2) -> 1108.25 | T7: =SUM(R7:S7) -> 2708.09 | U7: =ROUND($F7*$W$5,2) -> 2550.24 | V7: =ROUND($G7*$W$5,2) -> 1766.62 | W7: =SUM(U7:V7) -> 4316.86 | X7: =ROUND(H7+K7+N7+Q7+T7+W7,0) -> 211017
A8: Specializētās slimnīcas | B8: Vaivari, nacionālais rehabilitācijas centrs | C8: Māsa | D8: 0 | E8: 0 | F8: 0 | G8: 0 | H8: =SUM(F8:G8) -> 0 | I8: 0 | J8: 0 | K8: =SUM(I8:J8) -> 0 | L8: 0 | M8: 0 | N8: =SUM(L8:M8) -> 0 | O8: 0 | P8: 0 | Q8: =SUM(O8:P8) -> 0 | R8: 0 | S8: 0 | T8: =SUM(R8:S8) -> 0 | U8: 0 | V8: 0 | W8: =SUM(U8:V8) -> 0 | X8: =ROUND(H8+K8+N8+Q8+T8+W8,0) -> 0
A9: Specializētās slimnīcas | B9: Vaivari, nacionālais rehabilitācijas centrs | C9: Māsas palīgs | D9: 0 | E9: 0 | F9: 0 | G9: 0 | H9: =SUM(F9:G9) -> 0 | I9: 0 | J9: 0 | K9: =SUM(I9:J9) -> 0 | L9: 0 | M9: 0 | N9: =SUM(L9:M9) -> 0 | O9: 0 | P9: 0 | Q9: =SUM(O9:P9) -> 0 | R9: 0 | S9: 0 | T9: =SUM(R9:S9) -> 0 | U9: 0 | V9: 0 | W9: =SUM(U9:V9) -> 0 | X9: =ROUND(H9+K9+N9+Q9+T9+W9,0) -> 0
A10: Specializētās slimnīcas | B10: KOPĀ | D10: =D7+D8+D9 -> 1 | E10: =E7+E8+E9 -> 1 | F10: =F7+F8+F9 -> 79200 | G10: =G7+G8+G9 -> 54864 | H10: =H7+H8+H9 -> 134064 | I10: =I7+I8+I9 -> 18683.28 | J10: =J7+J8+J9 -> 12942.42 | K10: =K7+K8+K9 -> 31625.7 | ... W10: =W7+W8+W9 -> 4316.86 | X10: =ROUND(X7+X8+X9,0) -> 211017
A11: Specializētās slimnīcas | B11: Rīgas Dzemdību nams | C11: Ginekologs, dzemdību speciālists | D11: 4 | E11: 4 | F11: =ROUND($D11*'2p_turp_aprekins dez'!$AX$16,2) -> 316800 | G11: =ROUND($E11*'2p_turp_aprekins dez'!$AX$17,2) -> 219456 | H11: =SUM(F11:G11) -> 536256 | I11: =ROUND($F11*$K$5,2) -> 74733.12 | J11: =ROUND($G11*$K$5,2) -> 51769.67 | K11: =SUM(I11:J11) -> 126502.79 | L11: 0 | M11: 0 | N11: =SUM(L11:M11) -> 0 | O11: =ROUND($F11*$Q$5,2) -> 90509.76 | P11: =ROUND($G11*$Q$5,2) -> 62698.58 | Q11: =SUM(O11:P11) -> 153208.34 | R11: =ROUND($F11*$T$5,2) -> 6399.36 | S11: =ROUND($G11*$T$5,2) -> 4433.01 | T11: =SUM(R11:S11) -> 10832.37 | U11: =ROUND($F11*$W$5,2) -> 10200.96 | V11: =ROUND($G11*$W$5,2) -> 7066.48 | W11: =SUM(U11:V11) -> 17267.44 | X11: =ROUND(H11+K11+N11+Q11+T11+W11,0) -> 844067
A12: Specializētās slimnīcas | B12: Rīgas Dzemdību nams | C12: Neonatologs | D12: 2 | E12: 2 | F12: =ROUND($D12*'2p_turp_aprekins dez'!$AX$16,2) -> 158400 | G12: =ROUND($E12*'2p_turp_aprekins dez'!$AX$17,2) -> 109728 | H12: =SUM(F12:G12) -> 268128 | I12: =ROUND($F12*$K$5,2) -> 37366.56 | J12: =ROUND($G12*$K$5,2) -> 25884.84 | K12: =SUM(I12:J12) -> 63251.4 | L12: 0 | M12: 0 | N12: =SUM(L12:M12) -> 0 | O12: =ROUND($F12*$Q$5,2) -> 45254.88 | P12: =ROUND($G12*$Q$5,2) -> 31349.29 | Q12: =SUM(O12:P12) -> 76604.17 | R12: =ROUND($F12*$T$5,2) -> 3199.68 | S12: =ROUND($G12*$T$5,2) -> 2216.51 | T12: =SUM(R12:S12) -> 5416.19 | U12: =ROUND($F12*$W$5,2) -> 5100.48 | V12: =ROUND($G12*$W$5,2) -> 3533.24 | W12: =SUM(U12:V12) -> 8633.72 | X12: =ROUND(H12+K12+N12+Q12+T12+W12,0) -> 422033
A13: Specializētās slimnīcas | B13: Rīgas Dzemdību nams | C13: Anesteziologs, reanimatologs | D13: 2 | E13: 2 | F13: =ROUND($D13*'2p_turp_aprekins dez'!$AX$16,2) -> 158400 | G13: =ROUND($E13*'2p_turp_aprekins dez'!$AX$17,2) -> 109728 | H13: =SUM(F13:G13) -> 268128 | I13: =ROUND($F13*$K$5,2) -> 37366.56 | J13: =ROUND($G13*$K$5,2) -> 25884.84 | K13: =SUM(I13:J13) -> 63251.4 | L13: 0 | M13: 0 | N13: =SUM(L13:M13) -> 0 | O13: =ROUND($F13*$Q$5,2) -> 45254.88 | P13: =ROUND($G13*$Q$5,2) -> 31349.29 | Q13: =SUM(O13:P13) -> 76604.17 | R13: =ROUND($F13*$T$5,2) -> 3199.68 | S13: =ROUND($G13*$T$5,2) -> 2216.51 | T13: =SUM(R13:S13) -> 5416.19 | U13: =ROUND($F13*$W$5,2) -> 5100.48 | V13: =ROUND($G13*$W$5,2) -> 3533.24 | W13: =SUM(U13:V13) -> 8633.72 | X13: =ROUND(H13+K13+N13+Q13+T13+W13,0) -> 422033
A14: Specializētās slimnīcas | B14: Rīgas Dzemdību nams | C14: Radiologs (attālināti) 50% | D14: 1 | E14: 1 | F14: =ROUND($D14*'2p_turp_aprekins dez'!$AX$20,2) -> 39600 | G14: =ROUND($E14*'2p_turp_aprekins dez'!$AX$21,2) -> 27432 | H14: =SUM(F14:G14) -> 67032 | I14: =ROUND($F14*$K$5,2) -> 9341.64 | J14: =ROUND($G14*$K$5,2) -> 6471.21 | K14: =SUM(I14:J14) -> 15812.85 | L14: 0 | M14: 0 | N14: =SUM(L14:M14) -> 0 | O14: =ROUND($F14*$Q$5,2) -> 11313.72 | P14: =ROUND($G14*$Q$5,2) -> 7837.32 | Q14: =SUM(O14:P14) -> 19151.04 | R14: =ROUND($F14*$T$5,2) -> 799.92 | S14: =ROUND($G14*$T$5,2) -> 554.13 | T14: =SUM(R14:S14) -> 1354.05 | U14: =ROUND($F14*$W$5,2) -> 1275.12 | V14: =ROUND($G14*$W$5,2) -> 883.31 | W14: =SUM(U14:V14) -> 2158.43 | X14: =ROUND(H14+K14+N14+Q14+T14+W14,0) -> 105508
A15: Specializētās slimnīcas | B15: Rīgas Dzemdību nams | C15: Radiologa asistents/radiogrāfers (attālināti) 50% | D15: 1 | E15: 1 | F15: ='2p_turp_aprekins dez'!AX22 -> 23870 | G15: ='2p_turp_aprekins dez'!AX23 -> 16535.4 | H15: =SUM(F15:G15) -> 40405.4 | I15: =ROUND($F15*$K$5,2) -> 5630.93 | J15: =ROUND($G15*$K$5,2) -> 3900.7 | K15: =SUM(I15:J15) -> 9531.63 | L15: 0 | M15: 0 | N15: =SUM(L15:M15) -> 0 | O15: =ROUND($F15*$Q$5,2) -> 6819.66 | P15: =ROUND($G15*$Q$5,2) -> 4724.16 | Q15: =SUM(O15:P15) -> 11543.82 | R15: =ROUND($F15*$T$5,2) -> 482.17 | S15: =ROUND($G15*$T$5,2) -> 334.02 | T15: =SUM(R15:S15) -> 816.19 | U15: =ROUND($F15*$W$5,2) -> 768.61 | V15: =ROUND($G15*$W$5,2) -> 532.44 | W15: =SUM(U15:V15) -> 1301.05 | X15: =ROUND(H15+K15+N15+Q15+T15+W15,0) -> 63598
A16: Specializētās slimnīcas | B16: Rīgas Dzemdību nams | C16: Citi speciālisti (proktologs attālināti 50%) | D16: 0 | E16: 0 | F16: =ROUND($D16*'2p_turp_aprekins dez'!$AX$20,2) -> 0 | G16: =ROUND($E16*'2p_turp_aprekins dez'!$AX$21,2) -> 0 | H16: =SUM(F16:G16) -> 0 | I16: =ROUND($F16*$K$5,2) -> 0 | J16: =ROUND($G16*$K$5,2) -> 0 | K16: =SUM(I16:J16) -> 0 | L16: 0 | M16: 0 | N16: =SUM(L16:M16) -> 0 | O16: =ROUND($F16*$Q$5,2) -> 0 | P16: =ROUND($G16*$Q$5,2) -> 0 | Q16: =SUM(O16:P16) -> 0 | R16: =ROUND($F16*$T$5,2) -> 0 | S16: =ROUND($G16*$T$5,2) -> 0 | T16: =SUM(R16:S16) -> 0 | U16: =ROUND($F16*$W$5,2) -> 0 | V16: =ROUND($G16*$W$5,2) -> 0 | W16: =SUM(U16:V16) -> 0 | X16: =ROUND(H16+K16+N16+Q16+T16+W16,0) -> 0
A17: Specializētās slimnīcas | B17: Rīgas Dzemdību nams | C17: Māsa | D17: =2-2 -> 0 | E17: 0 | F17: 0 | G17: 0 | H17: =SUM(F17:G17) -> 0 | I17: 0 | J17: 0 | K17: =SUM(I17:J17) -> 0 | L17: 0 | M17: 0 | N17: =SUM(L17:M17) -> 0 | O17: 0 | P17: 0 | Q17: =SUM(O17:P17) -> 0 | R17: 0 | S17: 0 | T17: =SUM(R17:S17) -> 0 | U17: 0 | V17: 0 | W17: =SUM(U17:V17) -> 0 | X17: =ROUND(H17+K17+N17+Q17+T17+W17,0) -> 0
A18: Specializētās slimnīcas | B18: Rīgas Dzemdību nams | C18: Vecmāte | D18: 6 | E18: 6 | F18: =ROUND($D18*'2p_turp_aprekins dez'!$AX$28,2) -> 286440 | G18: =ROUND($E18*'2p_turp_aprekins dez'!$AX$29,2) -> 198424.8 | H18: =SUM(F18:G18) -> 484864.8 | I18: =ROUND($F18*$K$5,2) -> 67571.2 | J18: =ROUND($G18*$K$5,2) -> 46808.41 | K18: =SUM(I18:J18) -> 114379.61 | L18: 0 | M18: 0 | N18: =SUM(L18:M18) -> 0 | O18: =ROUND($F18*$Q$5,2) -> 81835.91 | P18: =ROUND($G18*$Q$5,2) -> 56689.97 | Q18: =SUM(O18:P18) -> 138525.88 | R18: =ROUND($F18*$T$5,2) -> 5786.09 | S18: =ROUND($G18*$T$5,2) -> 4008.18 | T18: =SUM(R18:S18) -> 9794.27 | U18: =ROUND($F18*$W$5,2) -> 9223.37 | V18: =ROUND($G18*$W$5,2) -> 6389.28 | W18: =SUM(U18:V18) -> 15612.65 | X18: =ROUND(H18+K18+N18+Q18+T18+W18,0) -> 763177
A19: Specializētās slimnīcas | B19: Rīgas Dzemdību nams | C19: Māsas palīgs | D19: 0 | E19: 0 | F19: 0 | G19: 0 | H19: =SUM(F19:G19) -> 0 | I19: 0 | J19: 0 | K19: =SUM(I19:J19) -> 0 | L19: 0 | M19: 0 | N19: =SUM(L19:M19) -> 0 | O19: 0 | P19: 0 | Q19: =SUM(O19:P19) -> 0 | R19: 0 | S19: 0 | T19: =SUM(R19:S19) -> 0 | U19: 0 | V19: 0 | W19: =SUM(U19:V19) -> 0 | X19: =ROUND(H19+K19+N19+Q19+T19+W19,0) -> 0
A20: Specializētās slimnīcas | B20: Rīgas Dzemdību nams | C20: Ārsta palīgs | D20: 0 | E20: 0 | F20: 0 | G20: 0 | H20: =SUM(F20:G20) -> 0 | I20: 0 | J20: 0 | K20: =SUM(I20:J20) -> 0 | L20: 0 | M20: 0 | N20: =SUM(L20:M20) -> 0 | O20: 0 | P20: 0 | Q20: =SUM(O20:P20) -> 0 | R20: 0 | S20: 0 | T20: =SUM(R20:S20) -> 0 | U20: 0 | V20: 0 | W20: =SUM(U20:V20) -> 0 | X20: =ROUND(H20+K20+N20+Q20+T20+W20,0) -> 0
A21: Specializētās slimnīcas | B21: KOPĀ | D21: =D11+D12+D13+D14+D15+D16+D17+D18+D19+D20 -> 16 | E21: =E11+E12+E13+E14+E15+E16+E17+E18+E19+E20 -> 16 | F21: =F11+F12+F13+F14+F15+F16+F17+F18+F19+F20 -> 983510 | G21: =G11+G12+G13+G14+G15+G16+G17+G18+G19+G20 -> 681304.2 | H21: =H11+H12+H13+H14+H15+H16+H17+H18+H19+H20 -> 1664814.2 | I21: =I11+I12+I13+I14+I15+I16+I17+I18+I19+I20 -> 232010.01 | J21: =J11+J12+J13+J14+J15+J16+J17+J18+J19+J20 -> 160719.67 | K21: =K11+K12+K13+K14+K15+K16+K17+K18+K19+K20 -> 392729.68 | ... W21: =W11+W12+W13+W14+W15+W16+W17+W18+W19+W20 -> 53607.01 | X21: =ROUND(X11+X12+X13+X14+X15+X16+X17+X18+X19+X20,0) -> 2620416
A22: Specializētās slimnīcas | B22: Traumatoloģijas un ortopēdijas slimnīca | C22: Neatliekamās medicīnas ārsts | D22: 0 | E22: 0 | F22: 0 | G22: 0 | H22: =SUM(F22:G22) -> 0 | I22: 0 | J22: 0 | K22: =SUM(I22:J22) -> 0 | L22: 0 | M22: 0 | N22: =SUM(L22:M22) -> 0 | O22: 0 | P22: 0 | Q22: =SUM(O22:P22) -> 0 | R22: 0 | S22: 0 | T22: =SUM(R22:S22) -> 0 | U22: 0 | V22: 0 | W22: =SUM(U22:V22) -> 0 | X22: =ROUND(H22+K22+N22+Q22+T22+W22,0) -> 0
A23: Specializētās slimnīcas | B23: Traumatoloģijas un ortopēdijas slimnīca | C23: Traumatologs, ortopēds | D23: 0 | E23: 0 | F23: 0 | G23: 0 | H23: =SUM(F23:G23) -> 0 | I23: 0 | J23: 0 | K23: =SUM(I23:J23) -> 0 | L23: 0 | M23: 0 | N23: =SUM(L23:M23) -> 0 | O23: 0 | P23: 0 | Q23: =SUM(O23:P23) -> 0 | R23: 0 | S23: 0 | T23: =SUM(R23:S23) -> 0 | U23: 0 | V23: 0 | W23: =SUM(U23:V23) -> 0 | X23: =ROUND(H23+K23+N23+Q23+T23+W23,0) -> 0
A24: Specializētās slimnīcas | B24: Traumatoloģijas un ortopēdijas slimnīca | C24: Anesteziologs, reanimatologs | D24: 1 | E24: 1 | F24: =ROUND($D24*'2p_turp_aprekins dez'!$AX$16,2) -> 79200 | G24: =ROUND($E24*'2p_turp_aprekins dez'!$AX$17,2) -> 54864 | H24: =SUM(F24:G24) -> 134064 | I24: =ROUND($F24*$K$5,2) -> 18683.28 | J24: =ROUND($G24*$K$5,2) -> 12942.42 | K24: =SUM(I24:J24) -> 31625.7 | L24: 0 | M24: 0 | N24: =SUM(L24:M24) -> 0 | O24: =ROUND($F24*$Q$5,2) -> 22627.44 | P24: =ROUND($G24*$Q$5,2) -> 15674.64 | Q24: =SUM(O24:P24) -> 38302.08 | R24: =ROUND($F24*$T$5,2) -> 1599.84 | S24: =ROUND($G24*$T$5,2) -> 1108.25 | T24: =SUM(R24:S24) -> 2708.09 | U24: =ROUND($F24*$W$5,2) -> 2550.24 | V24: =ROUND($G24*$W$5,2) -> 1766.62 | W24: =SUM(U24:V24) -> 4316.86 | X24: =ROUND(H24+K24+N24+Q24+T24+W24,0) -> 211017
A25: Specializētās slimnīcas | B25: Traumatoloģijas un ortopēdijas slimnīca | C25: Radiologs (attālināti) 50% | D25: 0 | E25: 0 | F25: =ROUND($D25*'2p_turp_aprekins dez'!$AX$16,2) -> 0 | G25: =ROUND($E25*'2p_turp_aprekins dez'!$AX$17,2) -> 0 | H25: =SUM(F25:G25) -> 0 | I25: =ROUND($F25*$K$5,2) -> 0 | J25: =ROUND($G25*$K$5,2) -> 0 | K25: =SUM(I25:J25) -> 0 | L25: 0 | M25: 0 | N25: =SUM(L25:M25) -> 0 | O25: =ROUND($F25*$Q$5,2) -> 0 | P25: =ROUND($G25*$Q$5,2) -> 0 | Q25: =SUM(O25:P25) -> 0 | R25: =ROUND($F25*$T$5,2) -> 0 | S25: =ROUND($G25*$T$5,2) -> 0 | T25: =SUM(R25:S25) -> 0 | U25: =ROUND($F25*$W$5,2) -> 0 | V25: =ROUND($G25*$W$5,2) -> 0 | W25: =SUM(U25:V25) -> 0 | X25: =ROUND(H25+K25+N25+Q25+T25+W25,0) -> 0
A26: Specializētās slimnīcas | B26: Traumatoloģijas un ortopēdijas slimnīca | C26: Radiologa asistents/radiogrāfers | D26: 0 | E26: 0 | F26: 0 | G26: 0 | H26: =SUM(F26:G26) -> 0 | I26: 0 | J26: 0 | K26: =SUM(I26:J26) -> 0 | L26: 0 | M26: 0 | N26: =SUM(L26:M26) -> 0 | O26: 0 | P26: 0 | Q26: =SUM(O26:P26) -> 0 | R26: 0 | S26: 0 | T26: =SUM(R26:S26) -> 0 | U26: 0 | V26: 0 | W26: =SUM(U26:V26) -> 0 | X26: =ROUND(H26+K26+N26+Q26+T26+W26,0) -> 0
A27: Specializētās slimnīcas | B27: Traumatoloģijas un ortopēdijas slimnīca | C27: Māsa | D27: 0 | E27: 0 | F27: 0 | G27: 0 | H27: =SUM(F27:G27) -> 0 | I27: 0 | J27: 0 | K27: =SUM(I27:J27) -> 0 | L27: 0 | M27: 0 | N27: =SUM(L27:M27) -> 0 | O27: 0 | P27: 0 | Q27: =SUM(O27:P27) -> 0 | R27: 0 | S27: 0 | T27: =SUM(R27:S27) -> 0 | U27: 0 | V27: 0 | W27: =SUM(U27:V27) -> 0 | X27: =ROUND(H27+K27+N27+Q27+T27+W27,0) -> 0
A28: Specializētās slimnīcas | B28: Traumatoloģijas un ortopēdijas slimnīca | C28: Māsas palīgs | D28: 0 | E28: 0 | F28: 0 | G28: 0 | H28: =SUM(F28:G28) -> 0 | I28: 0 | J28: 0 | K28: =SUM(I28:J28) -> 0 | L28: 0 | M28: 0 | N28: =SUM(L28:M28) -> 0 | O28: 0 | P28: 0 | Q28: =SUM(O28:P28) -> 0 | R28: 0 | S28: 0 | T28: =SUM(R28:S28) -> 0 | U28: 0 | V28: 0 | W28: =SUM(U28:V28) -> 0 | X28: =ROUND(H28+K28+N28+Q28+T28+W28,0) -> 0
A29: Specializētās slimnīcas | B29: Traumatoloģijas un ortopēdijas slimnīca | C29: Ārsta palīgs | D29: 0 | E29: 0 | F29: 0 | G29: 0 | H29: =SUM(F29:G29) -> 0 | I29: 0 | J29: 0 | K29: =SUM(I29:J29) -> 0 | L29: 0 | M29: 0 | N29: =SUM(L29:M29) -> 0 | O29: 0 | P29: 0 | Q29: =SUM(O29:P29) -> 0 | R29: 0 | S29: 0 | T29: =SUM(R29:S29) -> 0 | U29: 0 | V29: 0 | W29: =SUM(U29:V29) -> 0 | X29: =ROUND(H29+K29+N29+Q29+T29+W29,0) -> 0
A30: Specializētās slimnīcas | B30: KOPĀ | D30: =D22+D23+D24+D25+D26+D27+D28+D29 -> 1 | E30: =E22+E23+E24+E25+E26+E27+E28+E29 -> 1 | F30: =F22+F23+F24+F25+F26+F27+F28+F29 -> 79200 | G30: =G22+G23+G24+G25+G26+G27+G28+G29 -> 54864 | H30: =H22+H23+H24+H25+H26+H27+H28+H29 -> 134064 | I30: =I22+I23+I24+I25+I26+I27+I28+I29 -> 18683.28 | J30: =J22+J23+J24+J25+J26+J27+J28+J29 -> 12942.42 | K30: =K22+K23+K24+K25+K26+K27+K28+K29 -> 31625.7 | ... W30: =W22+W23+W24+W25+W26+W27+W28+W29 -> 4316.86 | X30: =ROUND(X22+X23+X24+X25+X26+X27+X28+X29,0) -> 211017
A31: Specializētās slimnīcas | B31: Rīgas 2. slimnīca | C31: Neatliekamās medicīnas ārsts vai internists | D31: 0 | E31: 0 | F31: 0 | G31: 0 | H31: =SUM(F31:G31) -> 0 | I31: 0 | J31: 0 | K31: =SUM(I31:J31) -> 0 | L31: 0 | M31: 0 | N31: =SUM(L31:M31) -> 0 | O31: 0 | P31: 0 | Q31: =SUM(O31:P31) -> 0 | R31: 0 | S31: 0 | T31: =SUM(R31:S31) -> 0 | U31: 0 | V31: 0 | W31: =SUM(U31:V31) -> 0 | X31: =ROUND(H31+K31+N31+Q31+T31+W31,0) -> 0
A32: Specializētās slimnīcas | B32: Rīgas 2. slimnīca | C32: Traumatologs, ortopēds | D32: 0 | E32: 0 | F32: 0 | G32: 0 | H32: =SUM(F32:G32) -> 0 | I32: 0 | J32: 0 | K32: =SUM(I32:J32) -> 0 | L32: 0 | M32: 0 | N32: =SUM(L32:M32) -> 0 | O32: 0 | P32: 0 | Q32: =SUM(O32:P32) -> 0 | R32: 0 | S32: 0 | T32: =SUM(R32:S32) -> 0 | U32: 0 | V32: 0 | W32: =SUM(U32:V32) -> 0 | X32: =ROUND(H32+K32+N32+Q32+T32+W32,0) -> 0
A33: Specializētās slimnīcas | B33: Rīgas 2. slimnīca | C33: Anesteziologs, reanimatologs | D33: 1 | E33: 1 | F33: =ROUND($D33*'2p_turp_aprekins dez'!$AX$16,2) -> 79200 | G33: =ROUND($E33*'2p_turp_aprekins dez'!$AX$17,2) -> 54864 | H33: =SUM(F33:G33) -> 134064 | I33: =ROUND($F33*$K$5,2) -> 18683.28 | J33: =ROUND($G33*$K$5,2) -> 12942.42 | K33: =SUM(I33:J33) -> 31625.7 | L33: 0 | M33: 0 | N33: =SUM(L33:M33) -> 0 | O33: =ROUND($F33*$Q$5,2) -> 22627.44 | P33: =ROUND($G33*$Q$5,2) -> 15674.64 | Q33: =SUM(O33:P33) -> 38302.08 | R33: =ROUND($F33*$T$5,2) -> 1599.84 | S33: =ROUND($G33*$T$5,2) -> 1108.25 | T33: =SUM(R33:S33) -> 2708.09 | U33: =ROUND($F33*$W$5,2) -> 2550.24 | V33: =ROUND($G33*$W$5,2) -> 1766.62 | W33: =SUM(U33:V33) -> 4316.86 | X33: =ROUND(H33+K33+N33+Q33+T33+W33,0) -> 211017
A34: Specializētās slimnīcas | B34: Rīgas 2. slimnīca | C34: Radiologs (attālināti) 50% | D34: 1 | E34: 1 | F34: =ROUND($D34*'2p_turp_aprekins dez'!$AX$20,2) -> 39600 | G34: =ROUND($E34*'2p_turp_aprekins dez'!$AX$21,2) -> 27432 | H34: =SUM(F34:G34) -> 67032 | I34: =ROUND($F34*$K$5,2) -> 9341.64 | J34: =ROUND($G34*$K$5,2) -> 6471.21 | K34: =SUM(I34:J34) -> 15812.85 | L34: 0 | M34: 0 | N34: =SUM(L34:M34) -> 0 | O34: =ROUND($F34*$Q$5,2) -> 11313.72 | P34: =ROUND($G34*$Q$5,2) -> 7837.32 | Q34: =SUM(O34:P34) -> 19151.04 | R34: =ROUND($F34*$T$5,2) -> 799.92 | S34: =ROUND($G34*$T$5,2) -> 554.13 | T34: =SUM(R34:S34) -> 1354.05 | U34: =ROUND($F34*$W$5,2) -> 1275.12 | V34: =ROUND($G34*$W$5,2) -> 883.31 | W34: =SUM(U34:V34) -> 2158.43 | X34: =ROUND(H34+K34+N34+Q34+T34+W34,0) -> 105508
A35: Specializētās slimnīcas | B35: Rīgas 2. slimnīca | C35: Radiologa asistents/radiogrāfers | D35: 0 | E35: 0 | F35: 0 | G35: 0 | H35: =SUM(F35:G35) -> 0 | I35: 0 | J35: 0 | K35: =SUM(I35:J35) -> 0 | L35: 0 | M35: 0 | N35: =SUM(L35:M35) -> 0 | O35: 0 | P35: 0 | Q35: =SUM(O35:P35) -> 0 | R35: 0 | S35: 0 | T35: =SUM(R35:S35) -> 0 | U35: 0 | V35: 0 | W35: =SUM(U35:V35) -> 0 | X35: =ROUND(H35+K35+N35+Q35+T35+W35,0) -> 0
A36: Specializētās slimnīcas | B36: Rīgas 2. slimnīca | C36: Māsa | D36: 0 | E36: 0 | F36: 0 | G36: 0 | H36: =SUM(F36:G36) -> 0 | I36: 0 | J36: 0 | K36: =SUM(I36:J36) -> 0 | L36: 0 | M36: 0 | N36: =SUM(L36:M36) -> 0 | O36: 0 | P36: 0 | Q36: =SUM(O36:P36) -> 0 | R36: 0 | S36: 0 | T36: =SUM(R36:S36) -> 0 | U36: 0 | V36: 0 | W36: =SUM(U36:V36) -> 0 | X36: =ROUND(H36+K36+N36+Q36+T36+W36,0) -> 0
A37: Specializētās slimnīcas | B37: Rīgas 2. slimnīca | C37: Vecmāte | D37: 0 | E37: 0 | F37: 0 | G37: 0 | H37: =SUM(F37:G37) -> 0 | I37: 0 | J37: 0 | K37: =SUM(I37:J37) -> 0 | L37: 0 | M37: 0 | N37: =SUM(L37:M37) -> 0 | O37: 0 | P37: 0 | Q37: =SUM(O37:P37) -> 0 | R37: 0 | S37: 0 | T37: =SUM(R37:S37) -> 0 | U37: 0 | V37: 0 | W37: =SUM(U37:V37) -> 0 | X37: =ROUND(H37+K37+N37+Q37+T37+W37,0) -> 0
A38: Specializētās slimnīcas | B38: Rīgas 2. slimnīca | C38: Māsas palīgs | D38: 0 | E38: 0 | F38: 0 | G38: 0 | H38: =SUM(F38:G38) -> 0 | I38: 0 | J38: 0 | K38: =SUM(I38:J38) -> 0 | L38: 0 | M38: 0 | N38: =SUM(L38:M38) -> 0 | O38: 0 | P38: 0 | Q38: =SUM(O38:P38) -> 0 | R38: 0 | S38: 0 | T38: =SUM(R38:S38) -> 0 | U38: 0 | V38: 0 | W38: =SUM(U38:V38) -> 0 | X38: =ROUND(H38+K38+N38+Q38+T38+W38,0) -> 0
A39: Specializētās slimnīcas | B39: Rīgas 2. slimnīca | C39: Ārsta palīgs | D39: 0 | E39: 0 | F39: 0 | G39: 0 | H39: =SUM(F39:G39) -> 0 | I39: 0 | J39: 0 | K39: =SUM(I39:J39) -> 0 | L39: 0 | M39: 0 | N39: =SUM(L39:M39) -> 0 | O39: 0 | P39: 0 | Q39: =SUM(O39:P39) -> 0 | R39: 0 | S39: 0 | T39: =SUM(R39:S39) -> 0 | U39: 0 | V39: 0 | W39: =SUM(U39:V39) -> 0 | X39: =ROUND(H39+K39+N39+Q39+T39+W39,0) -> 0
A40: Specializētās slimnīcas | B40: KOPĀ | D40: =D31+D32+D33+D34+D35+D36+D37+D38+D39 -> 2 | E40: =E31+E32+E33+E34+E35+E36+E37+E38+E39 -> 2 | F40: =F31+F32+F33+F34+F35+F36+F37+F38+F39 -> 118800 | G40: =G31+G32+G33+G34+G35+G36+G37+G38+G39 -> 82296 | H40: =H31+H32+H33+H34+H35+H36+H37+H38+H39 -> 201096 | I40: =I31+I32+I33+I34+I35+I36+I37+I38+I39 -> 28024.92 | J40: =J31+J32+J33+J34+J35+J36+J37+J38+J39 -> 19413.63 | K40: =K31+K32+K33+K34+K35+K36+K37+K38+K39 -> 47438.55 | ... W40: =W31+W32+W33+W34+W35+W36+W37+W38+W39 -> 6475.29 | X40: =ROUND(X31+X32+X33+X34+X35+X36+X37+X38+X39,0) -> 316525
A41: Specializētās slimnīcas | B41: Daugavpils psihoneiroloģiskā slimnīca | C41: Psihiatrs vai narkologs | D41: 1 | E41: 1 | F41: =ROUND($D41*'2p_turp_aprekins dez'!$AX$16,2) -> 79200 | G41: =ROUND($E41*'2p_turp_aprekins dez'!$AX$17,2) -> 54864 | H41: =SUM(F41:G41) -> 134064 | I41: =ROUND($F41*$K$5,2) -> 18683.28 | J41: =ROUND($G41*$K$5,2) -> 12942.42 | K41: =SUM(I41:J41) -> 31625.7 | L41: 0 | M41: 0 | N41: =SUM(L41:M41) -> 0 | O41: =ROUND($F41*$Q$5,2) -> 22627.44 | P41: =ROUND($G41*$Q$5,2) -> 15674.64 | Q41: =SUM(O41:P41) -> 38302.08 | R41: =ROUND($F41*$T$5,2) -> 1599.84 | S41: =ROUND($G41*$T$5,2) -> 1108.25 | T41: =SUM(R41:S41) -> 2708.09 | U41: =ROUND($F41*$W$5,2) -> 2550.24 | V41: =ROUND($G41*$W$5,2) -> 1766.62 | W41: =SUM(U41:V41) -> 4316.86 | X41: =ROUND(H41+K41+N41+Q41+T41+W41,0) -> 211017
A42: Specializētās slimnīcas | B42: Daugavpils psihoneiroloģiskā slimnīca | C42: Māsa/ārsta palīgs | D42: 0 | E42: 0 | F42: 0 | G42: 0 | H42: =SUM(F42:G42) -> 0 | I42: 0 | J42: 0 | K42: =SUM(I42:J42) -> 0 | L42: 0 | M42: 0 | N42: =SUM(L42:M42) -> 0 | O42: 0 | P42: 0 | Q42: =SUM(O42:P42) -> 0 | R42: 0 | S42: 0 | T42: =SUM(R42:S42) -> 0 | U42: 0 | V42: 0 | W42: =SUM(U42:V42) -> 0 | X42: =ROUND(H42+K42+N42+Q42+T42+W42,0) -> 0
A43: Specializētās slimnīcas | B43: Daugavpils psihoneiroloģiskā slimnīca | C43: Māsas palīgs | D43: 0 | E43: 0 | F43: 0 | G43: 0 | H43: =SUM(F43:G43) -> 0 | I43: 0 | J43: 0 | K43: =SUM(I43:J43) -> 0 | L43: 0 | M43: 0 | N43: =SUM(L43:M43) -> 0 | O43: 0 | P43: 0 | Q43: =SUM(O43:P43) -> 0 | R43: 0 | S43: 0 | T43: =SUM(R43:S43) -> 0 | U43: 0 | V43: 0 | W43: =SUM(U43:V43) -> 0 | X43: =ROUND(H43+K43+N43+Q43+T43+W43,0) -> 0
A44: Specializētās slimnīcas | B44: KOPĀ | X44: =ROUND(X41+X42+X43,0) -> 211017
A45: Specializētās slimnīcas | B45: Piejūras slimnīca | C45: Psihiatrs vai narkologs | D45: 1 | E45: 1 | F45: =ROUND($D45*'2p_turp_aprekins dez'!$AX$16,2) -> 79200 | G45: =ROUND($E45*'2p_turp_aprekins dez'!$AX$17,2) -> 54864 | H45: =SUM(F45:G45) -> 134064 | I45: =ROUND($F45*$K$5,2) -> 18683.28 | J45: =ROUND($G45*$K$5,2) -> 12942.42 | K45: =SUM(I45:J45) -> 31625.7 | L45: 0 | M45: 0 | N45: =SUM(L45:M45) -> 0 | O45: =ROUND($F45*$Q$5,2) -> 22627.44 | P45: =ROUND($G45*$Q$5,2) -> 15674.64 | Q45: =SUM(O45:P45) -> 38302.08 | R45: =ROUND($F45*$T$5,2) -> 1599.84 | S45: =ROUND($G45*$T$5,2) -> 1108.25 | T45: =SUM(R45:S45) -> 2708.09 | U45: =ROUND($F45*$W$5,2) -> 2550.24 | V45: =ROUND($G45*$W$5,2) -> 1766.62 | W45: =SUM(U45:V45) -> 4316.86 | X45: =ROUND(H45+K45+N45+Q45+T45+W45,0) -> 211017
A46: Specializētās slimnīcas | B46: Piejūras slimnīca | C46: Māsa | D46: 0 | E46: 0 | F46: 0 | G46: 0 | H46: =SUM(F46:G46) -> 0 | I46: 0 | J46: 0 | K46: =SUM(I46:J46) -> 0 | L46: 0 | M46: 0 | N46: =SUM(L46:M46) -> 0 | O46: 0 | P46: 0 | Q46: =SUM(O46:P46) -> 0 | R46: 0 | S46: 0 | T46: =SUM(R46:S46) -> 0 | U46: 0 | V46: 0 | W46: =SUM(U46:V46) -> 0 | X46: =ROUND(H46+K46+N46+Q46+T46+W46,0) -> 0
A47: Specializētās slimnīcas | B47: Piejūras slimnīca | C47: Māsas palīgs | D47: 0 | E47: 0 | F47: 0 | G47: 0 | H47: =SUM(F47:G47) -> 0 | I47: 0 | J47: 0 | K47: =SUM(I47:J47) -> 0 | L47: 0 | M47: 0 | N47: =SUM(L47:M47) -> 0 | O47: 0 | P47: 0 | Q47: =SUM(O47:P47) -> 0 | R47: 0 | S47: 0 | T47: =SUM(R47:S47) -> 0 | U47: 0 | V47: 0 | W47: =SUM(U47:V47) -> 0 | X47: =ROUND(H47+K47+N47+Q47+T47+W47,0) -> 0
A48: Specializētās slimnīcas | B48: KOPĀ | D48: =D41+D42+D43+D45+D46+D47 -> 2 | E48: =E41+E42+E43+E45+E46+E47 -> 2 | F48: =F41+F42+F43+F45+F46+F47 -> 158400 | G48: =G41+G42+G43+G45+G46+G47 -> 109728 | H48: =H41+H42+H43+H45+H46+H47 -> 268128 | I48: =I41+I42+I43+I45+I46+I47 -> 37366.56 | J48: =J41+J42+J43+J45+J46+J47 -> 25884.84 | K48: =K41+K42+K43+K45+K46+K47 -> 63251.4 | ... W48: =W41+W42+W43+W45+W46+W47 -> 8633.72 | X48: =ROUND(X45+X46+X47,0) -> 211017
A49: Specializētās slimnīcas | B49: Nacionālais psihiskās veselības centrs | C49: Psihiatrs vai narkologs | D49: 0 | E49: 0 | F49: 0 | G49: 0 | H49: =SUM(F49:G49) -> 0 | I49: 0 | J49: 0 | K49: =SUM(I49:J49) -> 0 | L49: 0 | M49: 0 | N49: =SUM(L49:M49) -> 0 | O49: 0 | P49: 0 | Q49: =SUM(O49:P49) -> 0 | R49: 0 | S49: 0 | T49: =SUM(R49:S49) -> 0 | U49: 0 | V49: 0 | W49: =SUM(U49:V49) -> 0 | X49: =ROUND(H49+K49+N49+Q49+T49+W49,0) -> 0
A50: Specializētās slimnīcas | B50: Nacionālais psihiskās veselības centrs | C50: Narkologs | D50: 0 | E50: 0 | F50: 0 | G50: 0 | H50: =SUM(F50:G50) -> 0 | I50: 0 | J50: 0 | K50: =SUM(I50:J50) -> 0 | L50: 0 | M50: 0 | N50: =SUM(L50:M50) -> 0 | O50: 0 | P50: 0 | Q50: =SUM(O50:P50) -> 0 | R50: 0 | S50: 0 | T50: =SUM(R50:S50) -> 0 | U50: 0 | V50: 0 | W50: =SUM(U50:V50) -> 0 | X50: =ROUND(H50+K50+N50+Q50+T50+W50,0) -> 0
A51: Specializētās slimnīcas | B51: Nacionālais psihiskās veselības centrs | C51: Māsa/ārsta palīgs | D51: 0 | E51: 0 | F51: 0 | G51: 0 | H51: =SUM(F51:G51) -> 0 | I51: 0 | J51: 0 | K51: =SUM(I51:J51) -> 0 | L51: 0 | M51: 0 | N51: =SUM(L51:M51) -> 0 | O51: 0 | P51: 0 | Q51: =SUM(O51:P51) -> 0 | R51: 0 | S51: 0 | T51: =SUM(R51:S51) -> 0 | U51: 0 | V51: 0 | W51: =SUM(U51:V51) -> 0 | X51: =ROUND(H51+K51+N51+Q51+T51+W51,0) -> 0
A52: Specializētās slimnīcas | B52: Nacionālais psihiskās veselības centrs | C52: Māsas palīgs | D52: 0 | E52: 0 | F52: 0 | G52: 0 | H52: =SUM(F52:G52) -> 0 | I52: 0 | J52: 0 | K52: =SUM(I52:J52) -> 0 | L52: 0 | M52: 0 | N52: =SUM(L52:M52) -> 0 | O52: 0 | P52: 0 | Q52: =SUM(O52:P52) -> 0 | R52: 0 | S52: 0 | T52: =SUM(R52:S52) -> 0 | U52: 0 | V52: 0 | W52: =SUM(U52:V52) -> 0 | X52: =ROUND(H52+K52+N52+Q52+T52+W52,0) -> 0
A53: Specializētās slimnīcas | B53: KOPĀ | D53: =D49+D50+D51+D52 -> 0 | E53: =E49+E50+E51+E52 -> 0 | F53: =F49+F50+F51+F52 -> 0 | G53: =G49+G50+G51+G52 -> 0 | H53: =H49+H50+H51+H52 -> 0 | I53: =I49+I50+I51+I52 -> 0 | J53: =J49+J50+J51+J52 -> 0 | K53: =K49+K50+K51+K52 -> 0 | ... W53: =W49+W50+W51+W52 -> 0 | X53: =ROUND(X49+X50+X52+X51,0) -> 0
A54: Specializētās slimnīcas | B54: Slimnīca Ģintermuiža | C54: Psihiatrs vai narkologs | D54: 1 | E54: 1 | F54: =ROUND($D54*'2p_turp_aprekins dez'!$AX$16,2) -> 79200 | G54: =ROUND($E54*'2p_turp_aprekins dez'!$AX$17,2) -> 54864 | H54: =SUM(F54:G54) -> 134064 | I54: =ROUND($F54*$K$5,2) -> 18683.28 | J54: =ROUND($G54*$K$5,2) -> 12942.42 | K54: =SUM(I54:J54) -> 31625.7 | L54: 0 | M54: 0 | N54: =SUM(L54:M54) -> 0 | O54: =ROUND($F54*$Q$5,2) -> 22627.44 | P54: =ROUND($G54*$Q$5,2) -> 15674.64 | Q54: =SUM(O54:P54) -> 38302.08 | R54: =ROUND($F54*$T$5,2) -> 1599.84 | S54: =ROUND($G54*$T$5,2) -> 1108.25 | T54: =SUM(R54:S54) -> 2708.09 | U54: =ROUND($F54*$W$5,2) -> 2550.24 | V54: =ROUND($G54*$W$5,2) -> 1766.62 | W54: =SUM(U54:V54) -> 4316.86 | X54: =ROUND(H54+K54+N54+Q54+T54+W54,0) -> 211017
A55: Specializētās slimnīcas | B55: Slimnīca Ģintermuiža | C55: Māsa/ārsta palīgs | D55: 0 | E55: 0 | F55: 0 | G55: 0 | H55: =SUM(F55:G55) -> 0 | I55: 0 | J55: 0 | K55: =SUM(I55:J55) -> 0 | L55: 0 | M55: 0 | N55: =SUM(L55:M55) -> 0 | O55: 0 | P55: 0 | Q55: =SUM(O55:P55) -> 0 | R55: 0 | S55: 0 | T55: =SUM(R55:S55) -> 0 | U55: 0 | V55: 0 | W55: =SUM(U55:V55) -> 0 | X55: =ROUND(H55+K55+N55+Q55+T55+W55,0) -> 0
A56: Specializētās slimnīcas | B56: Slimnīca Ģintermuiža | C56: Māsas palīgs | D56: 0 | E56: 0 | F56: 0 | G56: 0 | H56: =SUM(F56:G56) -> 0 | I56: 0 | J56: 0 | K56: =SUM(I56:J56) -> 0 | L56: 0 | M56: 0 | N56: =SUM(L56:M56) -> 0 | O56: 0 | P56: 0 | Q56: =SUM(O56:P56) -> 0 | R56: 0 | S56: 0 | T56: =SUM(R56:S56) -> 0 | U56: 0 | V56: 0 | W56: =SUM(U56:V56) -> 0 | X56: =ROUND(H56+K56+N56+Q56+T56+W56,0) -> 0
A57: Specializētās slimnīcas | B57: KOPĀ | X57: =ROUND(X54+X55+X56,0) -> 211017
A58: Specializētās slimnīcas | B58: Strenču psihoneiroloģiskā slimnīca | C58: Psihiatrs vai narkologs | D58: 1 | E58: 1 | F58: =ROUND($D58*'2p_turp_aprekins dez'!$AX$16,2) -> 79200 | G58: =ROUND($E58*'2p_turp_aprekins dez'!$AX$17,2) -> 54864 | H58: =SUM(F58:G58) -> 134064 | I58: =ROUND($F58*$K$5,2) -> 18683.28 | J58: =ROUND($G58*$K$5,2) -> 12942.42 | K58: =SUM(I58:J58) -> 31625.7 | L58: 0 | M58: 0 | N58: =SUM(L58:M58) -> 0 | O58: =ROUND($F58*$Q$5,2) -> 22627.44 | P58: =ROUND($G58*$Q$5,2) -> 15674.64 | Q58: =SUM(O58:P58) -> 38302.08 | R58: =ROUND($F58*$T$5,2) -> 1599.84 | S58: =ROUND($G58*$T$5,2) -> 1108.25 | T58: =SUM(R58:S58) -> 2708.09 | U58: =ROUND($F58*$W$5,2) -> 2550.24 | V58: =ROUND($G58*$W$5,2) -> 1766.62 | W58: =SUM(U58:V58) -> 4316.86 | X58: =ROUND(H58+K58+N58+Q58+T58+W58,0) -> 211017
A59: Specializētās slimnīcas | B59: Strenču psihoneiroloģiskā slimnīca | C59: Māsa/ārsta palīgs | D59: 0 | E59: 0 | F59: 0 | G59: 0 | H59: =SUM(F59:G59) -> 0 | I59: 0 | J59: 0 | K59: =SUM(I59:J59) -> 0 | L59: 0 | M59: 0 | N59: =SUM(L59:M59) -> 0 | O59: 0 | P59: 0 | Q59: =SUM(O59:P59) -> 0 | R59: 0 | S59: 0 | T59: =SUM(R59:S59) -> 0 | U59: 0 | V59: 0 | W59: =SUM(U59:V59) -> 0 | X59: =ROUND(H59+K59+N59+Q59+T59+W59,0) -> 0
A60: Specializētās slimnīcas | B60: Strenču psihoneiroloģiskā slimnīca | C60: Māsas palīgs | D60: 0 | E60: 0 | F60: 0 | G60: 0 | H60: =SUM(F60:G60) -> 0 | I60: 0 | J60: 0 | K60: =SUM(I60:J60) -> 0 | L60: 0 | M60: 0 | N60: =SUM(L60:M60) -> 0 | O60: 0 | P60: 0 | Q60: =SUM(O60:P60) -> 0 | R60: 0 | S60: 0 | T60: =SUM(R60:S60) -> 0 | U60: 0 | V60: 0 | W60: =SUM(U60:V60) -> 0 | X60: =ROUND(H60+K60+N60+Q60+T60+W60,0) -> 0
A61: Specializētās slimnīcas | B61: KOPĀ | D61: =D54+D55+D56+D59+D58+D60 -> 2 | E61: =E54+E55+E56+E59+E58+E60 -> 2 | F61: =F54+F55+F56+F59+F58+F60 -> 158400 | G61: =G54+G55+G56+G59+G58+G60 -> 109728 | H61: =H54+H55+H56+H59+H58+H60 -> 268128 | I61: =I54+I55+I56+I59+I58+I60 -> 37366.56 | J61: =J54+J55+J56+J59+J58+J60 -> 25884.84 | K61: =K54+K55+K56+K59+K58+K60 -> 63251.4 | ... W61: =W54+W55+W56+W59+W58+W60 -> 8633.72 | X61: =ROUND(X58+X59+X60,0) -> 211017
A62: Lokālā slimnīca | B62: Siguldas slimnīca | C62: Ķirurgs | D62: 0 | E62: 0 | F62: 0 | G62: 0 | H62: =SUM(F62:G62) -> 0 | I62: 0 | J62: 0 | K62: =SUM(I62:J62) -> 0 | L62: 0 | M62: 0 | N62: =SUM(L62:M62) -> 0 | O62: 0 | P62: 0 | Q62: =SUM(O62:P62) -> 0 | R62: 0 | S62: 0 | T62: =SUM(R62:S62) -> 0 | U62: 0 | V62: 0 | W62: =SUM(U62:V62) -> 0 | X62: =ROUND(H62+K62+N62+Q62+T62+W62,0) -> 0
A63: Lokālā slimnīca | B63: Siguldas slimnīca | C63: Internists vai ķirurgs | D63: 0 | E63: 0 | F63: 0 | G63: 0 | H63: =SUM(F63:G63) -> 0 | I63: 0 | J63: 0 | K63: =SUM(I63:J63) -> 0 | L63: 0 | M63: 0 | N63: =SUM(L63:M63) -> 0 | O63: 0 | P63: 0 | Q63: =SUM(O63:P63) -> 0 | R63: 0 | S63: 0 | T63: =SUM(R63:S63) -> 0 | U63: 0 | V63: 0 | W63: =SUM(U63:V63) -> 0 | X63: =ROUND(H63+K63+N63+Q63+T63+W63,0) -> 0
A64: Lokālā slimnīca | B64: Siguldas slimnīca | C64: Ginekologs, dzemdību speciālists | D64: 1 | E64: 1 | F64: =ROUND($D64*'2p_turp_aprekins dez'!$AX$16,2) -> 79200 | G64: =ROUND($E64*'2p_turp_aprekins dez'!$AX$17,2) -> 54864 | H64: =SUM(F64:G64) -> 134064 | I64: =ROUND($F64*$K$5,2) -> 18683.28 | J64: =ROUND($G64*$K$5,2) -> 12942.42 | K64: =SUM(I64:J64) -> 31625.7 | L64: 0 | M64: 0 | N64: =SUM(L64:M64) -> 0 | O64: =ROUND($F64*$Q$5,2) -> 22627.44 | P64: =ROUND($G64*$Q$5,2) -> 15674.64 | Q64: =SUM(O64:P64) -> 38302.08 | R64: =ROUND($F64*$T$5,2) -> 1599.84 | S64: =ROUND($G64*$T$5,2) -> 1108.25 | T64: =SUM(R64:S64) -> 2708.09 | U64: =ROUND($F64*$W$5,2) -> 2550.24 | V64: =ROUND($G64*$W$5,2) -> 1766.62 | W64: =SUM(U64:V64) -> 4316.86 | X64: =ROUND(H64+K64+N64+Q64+T64+W64,0) -> 211017
A65: Lokālā slimnīca | B65: Siguldas slimnīca | C65: Pediatrs | D65: 1 | E65: 1 | F65: =ROUND($D65*'2p_turp_aprekins dez'!$AX$16,2) -> 79200 | G65: =ROUND($E65*'2p_turp_aprekins dez'!$AX$17,2) -> 54864 | H65: =SUM(F65:G65) -> 134064 | I65: =ROUND($F65*$K$5,2) -> 18683.28 | J65: =ROUND($G65*$K$5,2) -> 12942.42 | K65: =SUM(I65:J65) -> 31625.7 | L65: 0 | M65: 0 | N65: =SUM(L65:M65) -> 0 | O65: =ROUND($F65*$Q$5,2) -> 22627.44 | P65: =ROUND($G65*$Q$5,2) -> 15674.64 | Q65: =SUM(O65:P65) -> 38302.08 | R65: =ROUND($F65*$T$5,2) -> 1599.84 | S65: =ROUND($G65*$T$5,2) -> 1108.25 | T65: =SUM(R65:S65) -> 2708.09 | U65: =ROUND($F65*$W$5,2) -> 2550.24 | V65: =ROUND($G65*$W$5,2) -> 1766.62 | W65: =SUM(U65:V65) -> 4316.86 | X65: =ROUND(H65+K65+N65+Q65+T65+W65,0) -> 211017
A66: Lokālā slimnīca | B66: Siguldas slimnīca | C66: Anesteziologs, reanimatologs | D66: 0 | E66: 0 | F66: 0 | G66: 0 | H66: =SUM(F66:G66) -> 0 | I66: 0 | J66: 0 | K66: =SUM(I66:J66) -> 0 | L66: 0 | M66: 0 | N66: =SUM(L66:M66) -> 0 | O66: 0 | P66: 0 | Q66: =SUM(O66:P66) -> 0 | R66: 0 | S66: 0 | T66: =SUM(R66:S66) -> 0 | U66: 0 | V66: 0 | W66: =SUM(U66:V66) -> 0 | X66: =ROUND(H66+K66+N66+Q66+T66+W66,0) -> 0
A67: Lokālā slimnīca | B67: Siguldas slimnīca | C67: Radiologs (attālināti) 50% | D67: 1 | E67: 1 | F67: =ROUND($D67*'2p_turp_aprekins dez'!$AX$20,2) -> 39600 | G67: =ROUND($E67*'2p_turp_aprekins dez'!$AX$21,2) -> 27432 | H67: =SUM(F67:G67) -> 67032 | I67: =ROUND($F67*$K$5,2) -> 9341.64 | J67: =ROUND($G67*$K$5,2) -> 6471.21 | K67: =SUM(I67:J67) -> 15812.85 | L67: 0 | M67: 0 | N67: =SUM(L67:M67) -> 0 | O67: =ROUND($F67*$Q$5,2) -> 11313.72 | P67: =ROUND($G67*$Q$5,2) -> 7837.32 | Q67: =SUM(O67:P67) -> 19151.04 | R67: =ROUND($F67*$T$5,2) -> 799.92 | S67: =ROUND($G67*$T$5,2) -> 554.13 | T67: =SUM(R67:S67) -> 1354.05 | U67: =ROUND($F67*$W$5,2) -> 1275.12 | V67: =ROUND($G67*$W$5,2) -> 883.31 | W67: =SUM(U67:V67) -> 2158.43 | X67: =ROUND(H67+K67+N67+Q67+T67+W67,0) -> 105508
A68: Lokālā slimnīca | B68: Siguldas slimnīca | C68: Radiologa asistents/radiogrāfers | D68: 0 | E68: 0 | F68: 0 | G68: 0 | H68: =SUM(F68:G68) -> 0 | I68: 0 | J68: 0 | K68: =SUM(I68:J68) -> 0 | L68: 0 | M68: 0 | N68: =SUM(L68:M68) -> 0 | O68: 0 | P68: 0 | Q68: =SUM(O68:P68) -> 0 | R68: 0 | S68: 0 | T68: =SUM(R68:S68) -> 0 | U68: 0 | V68: 0 | W68: =SUM(U68:V68) -> 0 | X68: =ROUND(H68+K68+N68+Q68+T68+W68,0) -> 0
A69: Lokālā slimnīca | B69: Siguldas slimnīca | C69: Māsa/ārsta palīgs | D69: 0 | E69: 0 | F69: 0 | G69: 0 | H69: =SUM(F69:G69) -> 0 | I69: 0 | J69: 0 | K69: =SUM(I69:J69) -> 0 | L69: 0 | M69: 0 | N69: =SUM(L69:M69) -> 0 | O69: 0 | P69: 0 | Q69: =SUM(O69:P69) -> 0 | R69: 0 | S69: 0 | T69: =SUM(R69:S69) -> 0 | U69: 0 | V69: 0 | W69: =SUM(U69:V69) -> 0 | X69: =ROUND(H69+K69+N69+Q69+T69+W69,0) -> 0
A70: Lokālā slimnīca | B70: Siguldas slimnīca | C70: Vecmāte | D70: 1 | E70: 1 | F70: =ROUND($D70*'2p_turp_aprekins dez'!$AX$28,2) -> 47740 | G70: =ROUND($E70*'2p_turp_aprekins dez'!$AX$29,2) -> 33070.8 | H70: =SUM(F70:G70) -> 80810.8 | I70: =ROUND($F70*$K$5,2) -> 11261.87 | J70: =ROUND($G70*$K$5,2) -> 7801.4 | K70: =SUM(I70:J70) -> 19063.27 | L70: 0 | M70: 0 | N70: =SUM(L70:M70) -> 0 | O70: =ROUND($F70*$Q$5,2) -> 13639.32 | P70: =ROUND($G70*$Q$5,2) -> 9448.33 | Q70: =SUM(O70:P70) -> 23087.65 | R70: =ROUND($F70*$T$5,2) -> 964.35 | S70: =ROUND($G70*$T$5,2) -> 668.03 | T70: =SUM(R70:S70) -> 1632.38 | U70: =ROUND($F70*$W$5,2) -> 1537.23 | V70: =ROUND($G70*$W$5,2) -> 1064.88 | W70: =SUM(U70:V70) -> 2602.11 | X70: =ROUND(H70+K70+N70+Q70+T70+W70,0) -> 127196
A71: Lokālā slimnīca | B71: Siguldas slimnīca | C71: Māsas palīgs | D71: 0 | E71: 0 | F71: 0 | G71: 0 | H71: =SUM(F71:G71) -> 0 | I71: 0 | J71: 0 | K71: =SUM(I71:J71) -> 0 | L71: 0 | M71: 0 | N71: =SUM(L71:M71) -> 0 | O71: 0 | P71: 0 | Q71: =SUM(O71:P71) -> 0 | R71: 0 | S71: 0 | T71: =SUM(R71:S71) -> 0 | U71: 0 | V71: 0 | W71: =SUM(U71:V71) -> 0 | X71: =ROUND(H71+K71+N71+Q71+T71+W71,0) -> 0
A72: Lokālā slimnīca | B72: KOPĀ | D72: =D62+D63+D64+D65+D66+D67+D68+D69+D70+D71 -> 4 | E72: =E62+E63+E64+E65+E66+E67+E68+E69+E70+E71 -> 4 | F72: =F62+F63+F64+F65+F66+F67+F68+F69+F70+F71 -> 245740 | G72: =G62+G63+G64+G65+G66+G67+G68+G69+G70+G71 -> 170230.8 | H72: =H62+H63+H64+H65+H66+H67+H68+H69+H70+H71 -> 415970.8 | I72: =I62+I63+I64+I65+I66+I67+I68+I69+I70+I71 -> 57970.07 | J72: =J62+J63+J64+J65+J66+J67+J68+J69+J70+J71 -> 40157.45 | K72: =K62+K63+K64+K65+K66+K67+K68+K69+K70+K71 -> 98127.52 | ... W72: =W62+W63+W64+W65+W66+W67+W68+W69+W70+W71 -> 13394.26 | X72: =ROUND(X62+X63+X64+X65+X66+X67+X68+X69+X70+X71,0) -> 654738
A73: Daudzprofilu slimnīca | B73: Ziemeļkurzemes reģionālā slimnīca | C73: Internists | D73: 0 | E73: 0 | F73: 0 | G73: 0 | H73: =SUM(F73:G73) -> 0 | I73: 0 | J73: 0 | K73: =SUM(I73:J73) -> 0 | L73: 0 | M73: 0 | N73: =SUM(L73:M73) -> 0 | O73: 0 | P73: 0 | Q73: =SUM(O73:P73) -> 0 | R73: 0 | S73: 0 | T73: =SUM(R73:S73) -> 0 | U73: 0 | V73: 0 | W73: =SUM(U73:V73) -> 0 | X73: =ROUND(H73+K73+N73+Q73+T73+W73,0) -> 0
A74: Daudzprofilu slimnīca | B74: Ziemeļkurzemes reģionālā slimnīca | C74: Ķirurgs (Talsos) | D74: 1 | E74: 1 | F74: =ROUND($D74*'2p_turp_aprekins dez'!$AX$16,2) -> 79200 | G74: =ROUND($E74*'2p_turp_aprekins dez'!$AX$17,2) -> 54864 | H74: =SUM(F74:G74) -> 134064 | I74: =ROUND($F74*$K$5,2) -> 18683.28 | J74: =ROUND($G74*$K$5,2) -> 12942.42 | K74: =SUM(I74:J74) -> 31625.7 | L74: 0 | M74: 0 | N74: =SUM(L74:M74) -> 0 | O74: =ROUND($F74*$Q$5,2) -> 22627.44 | P74: =ROUND($G74*$Q$5,2) -> 15674.64 | Q74: =SUM(O74:P74) -> 38302.08 | R74: =ROUND($F74*$T$5,2) -> 1599.84 | S74: =ROUND($G74*$T$5,2) -> 1108.25 | T74: =SUM(R74:S74) -> 2708.09 | U74: =ROUND($F74*$W$5,2) -> 2550.24 | V74: =ROUND($G74*$W$5,2) -> 1766.62 | W74: =SUM(U74:V74) -> 4316.86 | X74: =ROUND(H74+K74+N74+Q74+T74+W74,0) -> 211017
A75: Daudzprofilu slimnīca | B75: Ziemeļkurzemes reģionālā slimnīca | C75: Ginekologs, dzemdību speciālists | D75: 1 | E75: 1 | F75: =ROUND($D75*'2p_turp_aprekins dez'!$AX$16,2) -> 79200 | G75: =ROUND($E75*'2p_turp_aprekins dez'!$AX$17,2) -> 54864 | H75: =SUM(F75:G75) -> 134064 | I75: =ROUND($F75*$K$5,2) -> 18683.28 | J75: =ROUND($G75*$K$5,2) -> 12942.42 | K75: =SUM(I75:J75) -> 31625.7 | L75: 0 | M75: 0 | N75: =SUM(L75:M75) -> 0 | O75: =ROUND($F75*$Q$5,2) -> 22627.44 | P75: =ROUND($G75*$Q$5,2) -> 15674.64 | Q75: =SUM(O75:P75) -> 38302.08 | R75: =ROUND($F75*$T$5,2) -> 1599.84 | S75: =ROUND($G75*$T$5,2) -> 1108.25 | T75: =SUM(R75:S75) -> 2708.09 | U75: =ROUND($F75*$W$5,2) -> 2550.24 | V75: =ROUND($G75*$W$5,2) -> 1766.62 | W75: =SUM(U75:V75) -> 4316.86 | X75: =ROUND(H75+K75+N75+Q75+T75+W75,0) -> 211017
A76: Daudzprofilu slimnīca | B76: Ziemeļkurzemes reģionālā slimnīca | C76: Traumatologs, ortopēds | D76: 1 | E76: 1 | F76: =ROUND($D76*'2p_turp_aprekins dez'!$AX$16,2) -> 79200 | G76: =ROUND($E76*'2p_turp_aprekins dez'!$AX$17,2) -> 54864 | H76: =SUM(F76:G76) -> 134064 | I76: =ROUND($F76*$K$5,2) -> 18683.28 | J76: =ROUND($G76*$K$5,2) -> 12942.42 | K76: =SUM(I76:J76) -> 31625.7 | L76: 0 | M76: 0 | N76: =SUM(L76:M76) -> 0 | O76: =ROUND($F76*$Q$5,2) -> 22627.44 | P76: =ROUND($G76*$Q$5,2) -> 15674.64 | Q76: =SUM(O76:P76) -> 38302.08 | R76: =ROUND($F76*$T$5,2) -> 1599.84 | S76: =ROUND($G76*$T$5,2) -> 1108.25 | T76: =SUM(R76:S76) -> 2708.09 | U76: =ROUND($F76*$W$5,2) -> 2550.24 | V76: =ROUND($G76*$W$5,2) -> 1766.62 | W76: =SUM(U76:V76) -> 4316.86 | X76: =ROUND(H76+K76+N76+Q76+T76+W76,0) -> 211017
A77: Daudzprofilu slimnīca | B77: Ziemeļkurzemes reģionālā slimnīca | C77: Neirologs | D77: 1 | E77: 1 | F77: =ROUND($D77*'2p_turp_aprekins dez'!$AX$16,2) -> 79200 | G77: =ROUND($E77*'2p_turp_aprekins dez'!$AX$17,2) -> 54864 | H77: =SUM(F77:G77) -> 134064 | I77: =ROUND($F77*$K$5,2) -> 18683.28 | J77: =ROUND($G77*$K$5,2) -> 12942.42 | K77: =SUM(I77:J77) -> 31625.7 | L77: 0 | M77: 0 | N77: =SUM(L77:M77) -> 0 | O77: =ROUND($F77*$Q$5,2) -> 22627.44 | P77: =ROUND($G77*$Q$5,2) -> 15674.64 | Q77: =SUM(O77:P77) -> 38302.08 | R77: =ROUND($F77*$T$5,2) -> 1599.84 | S77: =ROUND($G77*$T$5,2) -> 1108.25 | T77: =SUM(R77:S77) -> 2708.09 | U77: =ROUND($F77*$W$5,2) -> 2550.24 | V77: =ROUND($G77*$W$5,2) -> 1766.62 | W77: =SUM(U77:V77) -> 4316.86 | X77: =ROUND(H77+K77+N77+Q77+T77+W77,0) -> 211017
A78: Daudzprofilu slimnīca | B78: Ziemeļkurzemes reģionālā slimnīca | C78: Pediatrs | D78: 1 | E78: 1 | F78: =ROUND($D78*'2p_turp_aprekins dez'!$AX$16,2) -> 79200 | G78: =ROUND($E78*'2p_turp_aprekins dez'!$AX$17,2) -> 54864 | H78: =SUM(F78:G78) -> 134064 | I78: =ROUND($F78*$K$5,2) -> 18683.28 | J78: =ROUND($G78*$K$5,2) -> 12942.42 | K78: =SUM(I78:J78) -> 31625.7 | L78: 0 | M78: 0 | N78: =SUM(L78:M78) -> 0 | O78: =ROUND($F78*$Q$5,2) -> 22627.44 | P78: =ROUND($G78*$Q$5,2) -> 15674.64 | Q78: =SUM(O78:P78) -> 38302.08 | R78: =ROUND($F78*$T$5,2) -> 1599.84 | S78: =ROUND($G78*$T$5,2) -> 1108.25 | T78: =SUM(R78:S78) -> 2708.09 | U78: =ROUND($F78*$W$5,2) -> 2550.24 | V78: =ROUND($G78*$W$5,2) -> 1766.62 | W78: =SUM(U78:V78) -> 4316.86 | X78: =ROUND(H78+K78+N78+Q78+T78+W78,0) -> 211017
A79: Daudzprofilu slimnīca | B79: Ziemeļkurzemes reģionālā slimnīca | C79: Anesteziologs, reanimatologs (Talsos) | D79: 1 | E79: 1 | F79: =ROUND($D79*'2p_turp_aprekins dez'!$AX$16,2) -> 79200 | G79: =ROUND($E79*'2p_turp_aprekins dez'!$AX$17,2) -> 54864 | H79: =SUM(F79:G79) -> 134064 | I79: =ROUND($F79*$K$5,2) -> 18683.28 | J79: =ROUND($G79*$K$5,2) -> 12942.42 | K79: =SUM(I79:J79) -> 31625.7 | L79: 0 | M79: 0 | N79: =SUM(L79:M79) -> 0 | O79: =ROUND($F79*$Q$5,2) -> 22627.44 | P79: =ROUND($G79*$Q$5,2) -> 15674.64 | Q79: =SUM(O79:P79) -> 38302.08 | R79: =ROUND($F79*$T$5,2) -> 1599.84 | S79: =ROUND($G79*$T$5,2) -> 1108.25 | T79: =SUM(R79:S79) -> 2708.09 | U79: =ROUND($F79*$W$5,2) -> 2550.24 | V79: =ROUND($G79*$W$5,2) -> 1766.62 | W79: =SUM(U79:V79) -> 4316.86 | X79: =ROUND(H79+K79+N79+Q79+T79+W79,0) -> 211017
A80: Daudzprofilu slimnīca | B80: Ziemeļkurzemes reģionālā slimnīca | C80: Radiologs (attālināti) 50% | D80: 1 | E80: 1 | F80: =ROUND($D80*'2p_turp_aprekins dez'!$AX$20,2) -> 39600 | G80: =ROUND($E80*'2p_turp_aprekins dez'!$AX$21,2) -> 27432 | H80: =SUM(F80:G80) -> 67032 | I80: =ROUND($F80*$K$5,2) -> 9341.64 | J80: =ROUND($G80*$K$5,2) -> 6471.21 | K80: =SUM(I80:J80) -> 15812.85 | L80: 0 | M80: 0 | N80: =SUM(L80:M80) -> 0 | O80: =ROUND($F80*$Q$5,2) -> 11313.72 | P80: =ROUND($G80*$Q$5,2) -> 7837.32 | Q80: =SUM(O80:P80) -> 19151.04 | R80: =ROUND($F80*$T$5,2) -> 799.92 | S80: =ROUND($G80*$T$5,2) -> 554.13 | T80: =SUM(R80:S80) -> 1354.05 | U80: =ROUND($F80*$W$5,2) -> 1275.12 | V80: =ROUND($G80*$W$5,2) -> 883.31 | W80: =SUM(U80:V80) -> 2158.43 | X80: =ROUND(H80+K80+N80+Q80+T80+W80,0) -> 105508
A81: Daudzprofilu slimnīca | B81: Ziemeļkurzemes reģionālā slimnīca | C81: Radiologa asistents/radiogrāfers | D81: 0 | E81: 0 | F81: 0 | G81: 0 | H81: =SUM(F81:G81) -> 0 | I81: 0 | J81: 0 | K81: =SUM(I81:J81) -> 0 | L81: 0 | M81: 0 | N81: =SUM(L81:M81) -> 0 | O81: 0 | P81: 0 | Q81: =SUM(O81:P81) -> 0 | R81: 0 | S81: 0 | T81: =SUM(R81:S81) -> 0 | U81: 0 | V81: 0 | W81: =SUM(U81:V81) -> 0 | X81: =ROUND(H81+K81+N81+Q81+T81+W81,0) -> 0
A82: Daudzprofilu slimnīca | B82: Ziemeļkurzemes reģionālā slimnīca | C82: Citi speciālisti (oftalmologs) | D82: 0 | E82: 0 | F82: =ROUND($D82*'2p_turp_aprekins dez'!$AX$16,2) -> 0 | G82: =ROUND($E82*'2p_turp_aprekins dez'!$AX$17,2) -> 0 | H82: =SUM(F82:G82) -> 0 | I82: =ROUND($F82*$K$5,2) -> 0 | J82: =ROUND($G82*$K$5,2) -> 0 | K82: =SUM(I82:J82) -> 0 | L82: 0 | M82: 0 | N82: =SUM(L82:M82) -> 0 | O82: =ROUND($F82*$Q$5,2) -> 0 | P82: =ROUND($G82*$Q$5,2) -> 0 | Q82: =SUM(O82:P82) -> 0 | R82: =ROUND($F82*$T$5,2) -> 0 | S82: =ROUND($G82*$T$5,2) -> 0 | T82: =SUM(R82:S82) -> 0 | U82: =ROUND($F82*$W$5,2) -> 0 | V82: =ROUND($G82*$W$5,2) -> 0 | W82: =SUM(U82:V82) -> 0 | X82: =ROUND(H82+K82+N82+Q82+T82+W82,0) -> 0
A83: Daudzprofilu slimnīca | B83: Ziemeļkurzemes reģionālā slimnīca | C83: Māsa/ārsta palīgs | D83: 0 | E83: 0 | F83: 0 | G83: 0 | H83: =SUM(F83:G83) -> 0 | I83: 0 | J83: 0 | K83: =SUM(I83:J83) -> 0 | L83: 0 | M83: 0 | N83: =SUM(L83:M83) -> 0 | O83: 0 | P83: 0 | Q83: =SUM(O83:P83) -> 0 | R83: 0 | S83: 0 | T83: =SUM(R83:S83) -> 0 | U83: 0 | V83: 0 | W83: =SUM(U83:V83) -> 0 | X83: =ROUND(H83+K83+N83+Q83+T83+W83,0) -> 0
A84: Daudzprofilu slimnīca | B84: Ziemeļkurzemes reģionālā slimnīca | C84: Vecmāte | D84: 1 | E84: 1 | F84: =ROUND($D84*'2p_turp_aprekins dez'!$AX$28,2) -> 47740 | G84: =ROUND($E84*'2p_turp_aprekins dez'!$AX$29,2) -> 33070.8 | H84: =SUM(F84:G84) -> 80810.8 | I84: =ROUND($F84*$K$5,2) -> 11261.87 | J84: =ROUND($G84*$K$5,2) -> 7801.4 | K84: =SUM(I84:J84) -> 19063.27 | L84: 0 | M84: 0 | N84: =SUM(L84:M84) -> 0 | O84: =ROUND($F84*$Q$5,2) -> 13639.32 | P84: =ROUND($G84*$Q$5,2) -> 9448.33 | Q84: =SUM(O84:P84) -> 23087.65 | R84: =ROUND($F84*$T$5,2) -> 964.35 | S84: =ROUND($G84*$T$5,2) -> 668.03 | T84: =SUM(R84:S84) -> 1632.38 | U84: =ROUND($F84*$W$5,2) -> 1537.23 | V84: =ROUND($G84*$W$5,2) -> 1064.88 | W84: =SUM(U84:V84) -> 2602.11 | X84: =ROUND(H84+K84+N84+Q84+T84+W84,0) -> 127196
A85: Daudzprofilu slimnīca | B85: Ziemeļkurzemes reģionālā slimnīca | C85: Māsas palīgs | D85: 0 | E85: 0 | F85: 0 | G85: 0 | H85: =SUM(F85:G85) -> 0 | I85: 0 | J85: 0 | K85: =SUM(I85:J85) -> 0 | L85: 0 | M85: 0 | N85: =SUM(L85:M85) -> 0 | O85: 0 | P85: 0 | Q85: =SUM(O85:P85) -> 0 | R85: 0 | S85: 0 | T85: =SUM(R85:S85) -> 0 | U85: 0 | V85: 0 | W85: =SUM(U85:V85) -> 0 | X85: =ROUND(H85+K85+N85+Q85+T85+W85,0) -> 0
A86: Daudzprofilu slimnīca | B86: KOPĀ | D86: =D73+D74+D75+D76+D77+D78+D79+D80+D81+D82+D83+D84+D85 -> 8 | E86: =E73+E74+E75+E76+E77+E78+E79+E80+E81+E82+E83+E84+E85 -> 8 | F86: =F73+F74+F75+F76+F77+F78+F79+F80+F81+F82+F83+F84+F85 -> 562540 | G86: =G73+G74+G75+G76+G77+G78+G79+G80+G81+G82+G83+G84+G85 -> 389686.8 | H86: =H73+H74+H75+H76+H77+H78+H79+H80+H81+H82+H83+H84+H85 -> 952226.8 | I86: =I73+I74+I75+I76+I77+I78+I79+I80+I81+I82+I83+I84+I85 -> 132703.19 | J86: =J73+J74+J75+J76+J77+J78+J79+J80+J81+J82+J83+J84+J85 -> 91927.13 | K86: =K73+K74+K75+K76+K77+K78+K79+K80+K81+K82+K83+K84+K85 -> 224630.32 | ... W86: =W73+W74+W75+W76+W77+W78+W79+W80+W81+W82+W83+W84+W85 -> 30661.7 | X86: =ROUND(X73+X74+X75+X76+X77+X78+X79+X80+X81+X82+X83+X84+X85,0) -> 1498806
A87: Daudzprofilu slimnīca | B87: Vidzemes slimnīca | C87: Internists | D87: 0 | E87: 0 | F87: 0 | G87: 0 | H87: =SUM(F87:G87) -> 0 | I87: 0 | J87: 0 | K87: =SUM(I87:J87) -> 0 | L87: 0 | M87: 0 | N87: =SUM(L87:M87) -> 0 | O87: 0 | P87: 0 | Q87: =SUM(O87:P87) -> 0 | R87: 0 | S87: 0 | T87: =SUM(R87:S87) -> 0 | U87: 0 | V87: 0 | W87: =SUM(U87:V87) -> 0 | X87: =ROUND(H87+K87+N87+Q87+T87+W87,0) -> 0
A88: Daudzprofilu slimnīca | B88: Vidzemes slimnīca | C88: Ķirurgs | D88: 0 | E88: 0 | F88: 0 | G88: 0 | H88: =SUM(F88:G88) -> 0 | I88: 0 | J88: 0 | K88: =SUM(I88:J88) -> 0 | L88: 0 | M88: 0 | N88: =SUM(L88:M88) -> 0 | O88: 0 | P88: 0 | Q88: =SUM(O88:P88) -> 0 | R88: 0 | S88: 0 | T88: =SUM(R88:S88) -> 0 | U88: 0 | V88: 0 | W88: =SUM(U88:V88) -> 0 | X88: =ROUND(H88+K88+N88+Q88+T88+W88,0) -> 0
A89: Daudzprofilu slimnīca | B89: Vidzemes slimnīca | C89: Ginekologs, dzemdību speciālists | D89: 1 | E89: 1 | F89: =ROUND($D89*'2p_turp_aprekins dez'!$AX$16,2) -> 79200 | G89: =ROUND($E89*'2p_turp_aprekins dez'!$AX$17,2) -> 54864 | H89: =SUM(F89:G89) -> 134064 | I89: =ROUND($F89*$K$5,2) -> 18683.28 | J89: =ROUND($G89*$K$5,2) -> 12942.42 | K89: =SUM(I89:J89) -> 31625.7 | L89: 0 | M89: 0 | N89: =SUM(L89:M89) -> 0 | O89: =ROUND($F89*$Q$5,2) -> 22627.44 | P89: =ROUND($G89*$Q$5,2) -> 15674.64 | Q89: =SUM(O89:P89) -> 38302.08 | R89: =ROUND($F89*$T$5,2) -> 1599.84 | S89: =ROUND($G89*$T$5,2) -> 1108.25 | T89: =SUM(R89:S89) -> 2708.09 | U89: =ROUND($F89*$W$5,2) -> 2550.24 | V89: =ROUND($G89*$W$5,2) -> 1766.62 | W89: =SUM(U89:V89) -> 4316.86 | X89: =ROUND(H89+K89+N89+Q89+T89+W89,0) -> 211017
A90: Daudzprofilu slimnīca | B90: Vidzemes slimnīca | C90: Traumatologs, ortopēds | D90: 1 | E90: 1 | F90: =ROUND($D90*'2p_turp_aprekins dez'!$AX$16,2) -> 79200 | G90: =ROUND($E90*'2p_turp_aprekins dez'!$AX$17,2) -> 54864 | H90: =SUM(F90:G90) -> 134064 | I90: =ROUND($F90*$K$5,2) -> 18683.28 | J90: =ROUND($G90*$K$5,2) -> 12942.42 | K90: =SUM(I90:J90) -> 31625.7 | L90: 0 | M90: 0 | N90: =SUM(L90:M90) -> 0 | O90: =ROUND($F90*$Q$5,2) -> 22627.44 | P90: =ROUND($G90*$Q$5,2) -> 15674.64 | Q90: =SUM(O90:P90) -> 38302.08 | R90: =ROUND($F90*$T$5,2) -> 1599.84 | S90: =ROUND($G90*$T$5,2) -> 1108.25 | T90: =SUM(R90:S90) -> 2708.09 | U90: =ROUND($F90*$W$5,2) -> 2550.24 | V90: =ROUND($G90*$W$5,2) -> 1766.62 | W90: =SUM(U90:V90) -> 4316.86 | X90: =ROUND(H90+K90+N90+Q90+T90+W90,0) -> 211017
A91: Daudzprofilu slimnīca | B91: Vidzemes slimnīca | C91: Neirologs | D91: 1 | E91: 1 | F91: =ROUND($D91*'2p_turp_aprekins dez'!$AX$16,2) -> 79200 | G91: =ROUND($E91*'2p_turp_aprekins dez'!$AX$17,2) -> 54864 | H91: =SUM(F91:G91) -> 134064 | I91: =ROUND($F91*$K$5,2) -> 18683.28 | J91: =ROUND($G91*$K$5,2) -> 12942.42 | K91: =SUM(I91:J91) -> 31625.7 | L91: 0 | M91: 0 | N91: =SUM(L91:M91) -> 0 | O91: =ROUND($F91*$Q$5,2) -> 22627.44 | P91: =ROUND($G91*$Q$5,2) -> 15674.64 | Q91: =SUM(O91:P91) -> 38302.08 | R91: =ROUND($F91*$T$5,2) -> 1599.84 | S91: =ROUND($G91*$T$5,2) -> 1108.25 | T91: =SUM(R91:S91) -> 2708.09 | U91: =ROUND($F91*$W$5,2) -> 2550.24 | V91: =ROUND($G91*$W$5,2) -> 1766.62 | W91: =SUM(U91:V91) -> 4316.86 | X91: =ROUND(H91+K91+N91+Q91+T91+W91,0) -> 211017
A92: Daudzprofilu slimnīca | B92: Vidzemes slimnīca | C92: Pediatrs | D92: 1 | E92: 1 | F92: =ROUND($D92*'2p_turp_aprekins dez'!$AX$16,2) -> 79200 | G92: =ROUND($E92*'2p_turp_aprekins dez'!$AX$17,2) -> 54864 | H92: =SUM(F92:G92) -> 134064 | I92: =ROUND($F92*$K$5,2) -> 18683.28 | J92: =ROUND($G92*$K$5,2) -> 12942.42 | K92: =SUM(I92:J92) -> 31625.7 | L92: 0 | M92: 0 | N92: =SUM(L92:M92) -> 0 | O92: =ROUND($F92*$Q$5,2) -> 22627.44 | P92: =ROUND($G92*$Q$5,2) -> 15674.64 | Q92: =SUM(O92:P92) -> 38302.08 | R92: =ROUND($F92*$T$5,2) -> 1599.84 | S92: =ROUND($G92*$T$5,2) -> 1108.25 | T92: =SUM(R92:S92) -> 2708.09 | U92: =ROUND($F92*$W$5,2) -> 2550.24 | V92: =ROUND($G92*$W$5,2) -> 1766.62 | W92: =SUM(U92:V92) -> 4316.86 | X92: =ROUND(H92+K92+N92+Q92+T92+W92,0) -> 211017
A93: Daudzprofilu slimnīca | B93: Vidzemes slimnīca | C93: Neonatologs | D93: 1 | E93: 1 | F93: =ROUND($D93*'2p_turp_aprekins dez'!$AX$16,2) -> 79200 | G93: =ROUND($E93*'2p_turp_aprekins dez'!$AX$17,2) -> 54864 | H93: =SUM(F93:G93) -> 134064 | I93: =ROUND($F93*$K$5,2) -> 18683.28 | J93: =ROUND($G93*$K$5,2) -> 12942.42 | K93: =SUM(I93:J93) -> 31625.7 | L93: 0 | M93: 0 | N93: =SUM(L93:M93) -> 0 | O93: =ROUND($F93*$Q$5,2) -> 22627.44 | P93: =ROUND($G93*$Q$5,2) -> 15674.64 | Q93: =SUM(O93:P93) -> 38302.08 | R93: =ROUND($F93*$T$5,2) -> 1599.84 | S93: =ROUND($G93*$T$5,2) -> 1108.25 | T93: =SUM(R93:S93) -> 2708.09 | U93: =ROUND($F93*$W$5,2) -> 2550.24 | V93: =ROUND($G93*$W$5,2) -> 1766.62 | W93: =SUM(U93:V93) -> 4316.86 | X93: =ROUND(H93+K93+N93+Q93+T93+W93,0) -> 211017
A94: Daudzprofilu slimnīca | B94: Vidzemes slimnīca | C94: Anesteziologs, reanimatologs | D94: 1 | E94: 1 | F94: =ROUND($D94*'2p_turp_aprekins dez'!$AX$16,2) -> 79200 | G94: =ROUND($E94*'2p_turp_aprekins dez'!$AX$17,2) -> 54864 | H94: =SUM(F94:G94) -> 134064 | I94: =ROUND($F94*$K$5,2) -> 18683.28 | J94: =ROUND($G94*$K$5,2) -> 12942.42 | K94: =SUM(I94:J94) -> 31625.7 | L94: 0 | M94: 0 | N94: =SUM(L94:M94) -> 0 | O94: =ROUND($F94*$Q$5,2) -> 22627.44 | P94: =ROUND($G94*$Q$5,2) -> 15674.64 | Q94: =SUM(O94:P94) -> 38302.08 | R94: =ROUND($F94*$T$5,2) -> 1599.84 | S94: =ROUND($G94*$T$5,2) -> 1108.25 | T94: =SUM(R94:S94) -> 2708.09 | U94: =ROUND($F94*$W$5,2) -> 2550.24 | V94: =ROUND($G94*$W$5,2) -> 1766.62 | W94: =SUM(U94:V94) -> 4316.86 | X94: =ROUND(H94+K94+N94+Q94+T94+W94,0) -> 211017
A95: Daudzprofilu slimnīca | B95: Vidzemes slimnīca | C95: Radiologs (attālināti) 50% | D95: 1 | E95: 1 | F95: =ROUND($D95*'2p_turp_aprekins dez'!$AX$20,2) -> 39600 | G95: =ROUND($E95*'2p_turp_aprekins dez'!$AX$21,2) -> 27432 | H95: =SUM(F95:G95) -> 67032 | I95: =ROUND($F95*$K$5,2) -> 9341.64 | J95: =ROUND($G95*$K$5,2) -> 6471.21 | K95: =SUM(I95:J95) -> 15812.85 | L95: 0 | M95: 0 | N95: =SUM(L95:M95) -> 0 | O95: =ROUND($F95*$Q$5,2) -> 11313.72 | P95: =ROUND($G95*$Q$5,2) -> 7837.32 | Q95: =SUM(O95:P95) -> 19151.04 | R95: =ROUND($F95*$T$5,2) -> 799.92 | S95: =ROUND($G95*$T$5,2) -> 554.13 | T95: =SUM(R95:S95) -> 1354.05 | U95: =ROUND($F95*$W$5,2) -> 1275.12 | V95: =ROUND($G95*$W$5,2) -> 883.31 | W95: =SUM(U95:V95) -> 2158.43 | X95: =ROUND(H95+K95+N95+Q95+T95+W95,0) -> 105508
A96: Daudzprofilu slimnīca | B96: Vidzemes slimnīca | C96: Radiologa asistents/radiogrāfers | D96: 0 | E96: 0 | F96: 0 | G96: 0 | H96: =SUM(F96:G96) -> 0 | I96: 0 | J96: 0 | K96: =SUM(I96:J96) -> 0 | L96: 0 | M96: 0 | N96: =SUM(L96:M96) -> 0 | O96: 0 | P96: 0 | Q96: =SUM(O96:P96) -> 0 | R96: 0 | S96: 0 | T96: =SUM(R96:S96) -> 0 | U96: 0 | V96: 0 | W96: =SUM(U96:V96) -> 0 | X96: =ROUND(H96+K96+N96+Q96+T96+W96,0) -> 0
A97: Daudzprofilu slimnīca | B97: Vidzemes slimnīca | C97: Māsa/ārsta palīgs | D97: 0 | E97: 0 | F97: 0 | G97: 0 | H97: =SUM(F97:G97) -> 0 | I97: 0 | J97: 0 | K97: =SUM(I97:J97) -> 0 | L97: 0 | M97: 0 | N97: =SUM(L97:M97) -> 0 | O97: 0 | P97: 0 | Q97: =SUM(O97:P97) -> 0 | R97: 0 | S97: 0 | T97: =SUM(R97:S97) -> 0 | U97: 0 | V97: 0 | W97: =SUM(U97:V97) -> 0 | X97: =ROUND(H97+K97+N97+Q97+T97+W97,0) -> 0
A98: Daudzprofilu slimnīca | B98: Vidzemes slimnīca | C98: Vecmāte | D98: 1 | E98: 1 | F98: =ROUND($D98*'2p_turp_aprekins dez'!$AX$28,2) -> 47740 | G98: =ROUND($E98*'2p_turp_aprekins dez'!$AX$29,2) -> 33070.8 | H98: =SUM(F98:G98) -> 80810.8 | I98: =ROUND($F98*$K$5,2) -> 11261.87 | J98: =ROUND($G98*$K$5,2) -> 7801.4 | K98: =SUM(I98:J98) -> 19063.27 | L98: 0 | M98: 0 | N98: =SUM(L98:M98) -> 0 | O98: =ROUND($F98*$Q$5,2) -> 13639.32 | P98: =ROUND($G98*$Q$5,2) -> 9448.33 | Q98: =SUM(O98:P98) -> 23087.65 | R98: =ROUND($F98*$T$5,2) -> 964.35 | S98: =ROUND($G98*$T$5,2) -> 668.03 | T98: =SUM(R98:S98) -> 1632.38 | U98: =ROUND($F98*$W$5,2) -> 1537.23 | V98: =ROUND($G98*$W$5,2) -> 1064.88 | W98: =SUM(U98:V98) -> 2602.11 | X98: =ROUND(H98+K98+N98+Q98+T98+W98,0) -> 127196
A99: Daudzprofilu slimnīca | B99: Vidzemes slimnīca | C99: Māsas palīgs | D99: 0 | E99: 0 | F99: 0 | G99: 0 | H99: =SUM(F99:G99) -> 0 | I99: 0 | J99: 0 | K99: =SUM(I99:J99) -> 0 | L99: 0 | M99: 0 | N99: =SUM(L99:M99) -> 0 | O99: 0 | P99: 0 | Q99: =SUM(O99:P99) -> 0 | R99: 0 | S99: 0 | T99: =SUM(R99:S99) -> 0 | U99: 0 | V99: 0 | W99: =SUM(U99:V99) -> 0 | X99: =ROUND(H99+K99+N99+Q99+T99+W99,0) -> 0
A100: Daudzprofilu slimnīca | B100: KOPĀ | D100: =D87+D88+D89+D90+D91+D92+D93+D94+D95+D96+D97+D98+D99 -> 8 | E100: =E87+E88+E89+E90+E91+E92+E93+E94+E95+E96+E97+E98+E99 -> 8 | F100: =F87+F88+F89+F90+F91+F92+F93+F94+F95+F96+F97+F98+F99 -> 562540 | G100: =G87+G88+G89+G90+G91+G92+G93+G94+G95+G96+G97+G98+G99 -> 389686.8 | H100: =H87+H88+H89+H90+H91+H92+H93+H94+H95+H96+H97+H98+H99 -> 952226.8 | I100: =I87+I88+I89+I90+I91+I92+I93+I94+I95+I96+I97+I98+I99 -> 132703.19 | J100: =J87+J88+J89+J90+J91+J92+J93+J94+J95+J96+J97+J98+J99 -> 91927.13 | K100: =K87+K88+K89+K90+K91+K92+K93+K94+K95+K96+K97+K98+K99 -> 224630.32 | ... W100: =W87+W88+W89+W90+W91+W92+W93+W94+W95+W96+W97+W98+W99 -> 30661.7 | X100: =ROUND(X87+X88+X89+X90+X91+X92+X93+X94+X95+X96+X97+X98+X99,0) -> 1498806
A101: Daudzprofilu slimnīca | B101: Rēzeknes slimnīca | C101: Internists | D101: 0 | E101: 0 | F101: 0 | G101: 0 | H101: =SUM(F101:G101) -> 0 | I101: 0 | J101: 0 | K101: =SUM(I101:J101) -> 0 | L101: 0 | M101: 0 | N101: =SUM(L101:M101) -> 0 | O101: 0 | P101: 0 | Q101: =SUM(O101:P101) -> 0 | R101: 0 | S101: 0 | T101: =SUM(R101:S101) -> 0 | U101: 0 | V101: 0 | W101: =SUM(U101:V101) -> 0 | X101: =ROUND(H101+K101+N101+Q101+T101+W101,0) -> 0
A102: Daudzprofilu slimnīca | B102: Rēzeknes slimnīca | C102: Internists 12h | D102: 0 | E102: 0 | F102: 0 | G102: 0 | H102: =SUM(F102:G102) -> 0 | I102: 0 | J102: 0 | K102: =SUM(I102:J102) -> 0 | L102: 0 | M102: 0 | N102: =SUM(L102:M102) -> 0 | O102: 0 | P102: 0 | Q102: =SUM(O102:P102) -> 0 | R102: 0 | S102: 0 | T102: =SUM(R102:S102) -> 0 | U102: 0 | V102: 0 | W102: =SUM(U102:V102) -> 0 | X102: =ROUND(H102+K102+N102+Q102+T102+W102,0) -> 0
...

Sheet 2p_turp_aprekins uzn
AU1: 2.pielikuma turpinājums MK noteikumu projekta "Grozījumi Ministru kabineta 2018.gada 28.augusta noteikumos Nr.555 „Veselības aprūpes pakalpojumu organizēšanas un samaksas kārtība"" anotācijai
A2: 2026. gada kalendārs (kopsavilkums)
E3: P | F3: O | G3: T | H3: C | I3: P | J3: S | K3: Sv | L3: KOPĀ dienas | M3: Darba dienas | N3: Darba stundas | Q3: Ārstniecības personas vidējā darba samaksa mēnesī, euro | R3: Ārstniecības un pacientu aprūpes personu vidējā darba samaksa mēnesī, euro | S3: Ārstniecības un pacientu aprūpes atbalsta personas vidējā darba samaksa mēnesī, euro
D4: Dienu skaits kopā | E4: 52 | F4: 52 | G4: 52 | H4: 53 | I4: 52 | J4: 52 | K4: 52 | L4: 365 | M4: 250 | N4: 1994 | Q4: 2304 | R4: 1388 | S4: 925
D5: Darba dienu skaits | E5: 49 | F5: 50 | G5: 50 | H5: 51 | I5: 50 | J5: 0 | K5: 0 | L5: 250 | M5: =ROUND(M4/12,0) -> 21 | N5: =ROUND(N4/12,0) -> 166
D6: Sestdienu skaits | E6: 0 | F6: 0 | G6: 0 | H6: 0 | I6: 0 | J6: 52 | K6: 0 | L6: 52 | M6: 0 | N6: 0
D7: Svētdienu skaits | E7: 0 | F7: 0 | G7: 0 | H7: 0 | I7: 0 | J7: 0 | K7: 48 | L7: 48 | M7: 0 | N7: 0
D8: Svētku dienas | E8: 3 | F8: 2 | G8: 2 | H8: 2 | I8: 2 | J8: 0 | K8: 4 | L8: 15 | M8: 0 | N8: 0
D9: Pārceltās brīvdienas | E9: 0 | F9: 0 | G9: 0 | H9: 0 | I9: 0 | J9: 0 | K9: 0 | L9: 0 | M9: 0 | N9: 0
A11: Posteņu, slodžu, darba stundu skaits un apmaksas nosacījumi
H12: Pirmdienās | L12: Otrdienās | P12: Trešdienās | T12: Ceturtdienās | X12: Piektdienās | AB12: Sestdienās | AF12: Svētdienās | AJ12: Svētku dienās | AO12: Stundas vidēji gadā | AV12: 0.75 | AW12: 1
A13: U vai D | B13: Ārstniecības iestāde | C13: Speciālistu grupa | D13: Posteņa nosaukums | E13: Nedēļas dienas | F13: Posteņa veids | G13: Posteņu skaits | H13: no | I13: līdz | J13: darba stundas | K13: t.sk. nakts stundas | L13: no | M13: līdz | N13: darba stundas | O13: t.sk. nakts stundas | P13: no | Q13: līdz | R13: darba stundas | S13: t.sk. nakts stundas | T13: no | U13: līdz | V13: darba stundas | W13: t.sk. nakts stundas | X13: no | Y13: līdz | Z13: darba stundas | AA13: t.sk. nakts stundas | AB13: no | AC13: līdz | AD13: darba stundas | AE13: t.sk. nakts stundas | AF13: no | AG13: līdz | AH13: darba stundas | AI13: t.sk. nakts stundas | AJ13: no | AK13: līdz | AL13: darba stundas | AM13: t.sk. nakts stundas | AN13: Tehniskā | AO13: Darba stundas | AP13: no tām nakts | AQ13: no tām svētku | AR13: slodzes | AS13: Vidējā darba samaksa mēnesī, euro | AT13: Stundas likme (vidējā) | AU13: Samaksa par darba stundām gadā, euro | AV13: Piemaksa gadā par nakts stundām, euro | AW13: Piemaksa gadā par svētku stundām, euro | AX13: Atalgojums gadā, euro (D elements)
A14: U | B14: Pārējās slimnīcas | C14: Ārsts | D14: Speciālists 8.00-16.00 (8h) | E14: 5 | F14: 8h | G14: 1 | H14: 8 | I14: 16 | J14: =IF(H14="",0,IF((I14-H14<=0),(24-H14+I14),(I14-H14))) -> 8 | K14: 0 | L14: 8 | M14: 16 | N14: =IF(L14="",0,IF((M14-L14<=0),(24-L14+M14),(M14-L14))) -> 8 | O14: 0 | P14: 8 | Q14: 16 | R14: =IF(P14="",0,IF((Q14-P14<=0),(24-P14+Q14),(Q14-P14))) -> 8 | S14: 0 | T14: 8 | U14: 16 | V14: =IF(T14="",0,IF((U14-T14<=0),(24-T14+U14),(U14-T14))) -> 8 | W14: 0 | X14: 8 | Y14: 16 | Z14: =IF(X14="",0,IF((Y14-X14<=0),(24-X14+Y14),(Y14-X14))) -> 8 | AA14: 0 | AD14: =IF(AB14="",0,IF((AC14-AB14<=0),(24-AB14+AC14),(AC14-AB14))) -> 0 | AE14: 0 | AH14: =IF(AF14="",0,IF((AG14-AF14<=0),(24-AF14+AG14),(AG14-AF14))) -> 0 | AI14: 0 | AL14: =IF(AJ14="",0,IF((AK14-AJ14<=0),(24-AJ14+AK14),(AK14-AJ14))) -> 0 | AM14: 0 | AN14: =J14+N14+R14+V14+Z14+AD14+AH14+AL14 -> 40 | AO14: =IF(AN14=0,0,G14*((J14*$E$5)+(N14*$F$5)+(R14*$G$5)+(V14*$H$5)+(Z14*$I$5)+(AD14*$J$6)+(AH14*$K$7)+(AL14*$L$8))) -> 2000 | AP14: =IF(AO14=0,0,G14*((K14*$E$5)+(O14*$F$5)+(S14*$G$5)+(W14*$H$5)+(AA14*$I$5)+(AE14*$J$6)+(AI14*$K$7)+(AM14*$L$8))) -> 0 | AQ14: =G14*(AL14*$L$8) -> 0 | AR14: =ROUND(AO14/$N$4,2) -> 1 | AS14: =$Q$4 -> 2304 | AT14: =ROUND(AS14/160,2) -> 14.4 | AU14: =AO14*AT14 -> 28800 | AV14: =$AV$12*AT14*AP14 -> 0 | AW14: =AT14*AQ14 -> 0 | AX14: =SUM(AU14:AW14) -> 28800
A15: U | B15: Pārējās slimnīcas | C15: Ārsts | D15: Speciālists 8.00-20.00 (12h) | E15: 5 | F15: 12h | G15: 1 | H15: 8 | I15: 20 | J15: =IF(H15="",0,IF((I15-H15<=0),(24-H15+I15),(I15-H15))) -> 12 | K15: 0 | L15: 8 | M15: 20 | N15: =IF(L15="",0,IF((M15-L15<=0),(24-L15+M15),(M15-L15))) -> 12 | O15: 0 | P15: 8 | Q15: 20 | R15: =IF(P15="",0,IF((Q15-P15<=0),(24-P15+Q15),(Q15-P15))) -> 12 | S15: 0 | T15: 8 | U15: 20 | V15: =IF(T15="",0,IF((U15-T15<=0),(24-T15+U15),(U15-T15))) -> 12 | W15: 0 | X15: 8 | Y15: 20 | Z15: =IF(X15="",0,IF((Y15-X15<=0),(24-X15+Y15),(Y15-X15))) -> 12 | AA15: 0 | AD15: =IF(AB15="",0,IF((AC15-AB15<=0),(24-AB15+AC15),(AC15-AB15))) -> 0 | AE15: 0 | AH15: =IF(AF15="",0,IF((AG15-AF15<=0),(24-AF15+AG15),(AG15-AF15))) -> 0 | AI15: 0 | AL15: =IF(AJ15="",0,IF((AK15-AJ15<=0),(24-AJ15+AK15),(AK15-AJ15))) -> 0 | AM15: 0 | AN15: =J15+N15+R15+V15+Z15+AD15+AH15+AL15 -> 60 | AO15: =IF(AN15=0,0,G15*((J15*$E$5)+(N15*$F$5)+(R15*$G$5)+(V15*$H$5)+(Z15*$I$5)+(AD15*$J$6)+(AH15*$K$7)+(AL15*$L$8))) -> 3000 | AP15: =IF(AO15=0,0,G15*((K15*$E$5)+(O15*$F$5)+(S15*$G$5)+(W15*$H$5)+(AA15*$I$5)+(AE15*$J$6)+(AI15*$K$7)+(AM15*$L$8))) -> 0 | AQ15: =G15*(AL15*$L$8) -> 0 | AR15: =ROUND(AO15/$N$4,2) -> 1.5 | AS15: =$Q$4 -> 2304 | AT15: =ROUND(AS15/160,2) -> 14.4 | AU15: =AO15*AT15 -> 43200 | AV15: =AP15*AT15*$AV$12 -> 0 | AW15: =AQ15*AT15*$AW$12 -> 0 | AX15: =SUM(AU15:AW15) -> 43200
A16: D | B16: Pārējās slimnīcas | C16: Ārsts | D16: Dežūrārsts 16.00-8.00 (16h) | E16: 5 | F16: 16h | G16: 1 | H16: 16 | I16: 8 | J16: =IF(H16="",0,IF((I16-H16<=0),(24-H16+I16),(I16-H16))) -> 16 | K16: 8 | L16: 16 | M16: 8 | N16: =IF(L16="",0,IF((M16-L16<=0),(24-L16+M16),(M16-L16))) -> 16 | O16: 8 | P16: 16 | Q16: 8 | R16: =IF(P16="",0,IF((Q16-P16<=0),(24-P16+Q16),(Q16-P16))) -> 16 | S16: 8 | T16: 16 | U16: 8 | V16: =IF(T16="",0,IF((U16-T16<=0),(24-T16+U16),(U16-T16))) -> 16 | W16: 8 | X16: 16 | Y16: 8 | Z16: =IF(X16="",0,IF((Y16-X16<=0),(24-X16+Y16),(Y16-X16))) -> 16 | AA16: 8 | AD16: =IF(AB16="",0,IF((AC16-AB16<=0),(24-AB16+AC16),(AC16-AB16))) -> 0 | AH16: =IF(AF16="",0,IF((AG16-AF16<=0),(24-AF16+AG16),(AG16-AF16))) -> 0 | AL16: =IF(AJ16="",0,IF((AK16-AJ16<=0),(24-AJ16+AK16),(AK16-AJ16))) -> 0 | AN16: =J16+N16+R16+V16+Z16+AD16+AH16+AL16 -> 80 | AO16: =IF(AN16=0,0,G16*((J16*$E$5)+(N16*$F$5)+(R16*$G$5)+(V16*$H$5)+(Z16*$I$5)+(AD16*$J$6)+(AH16*$K$7)+(AL16*$L$8))) -> 4000 | AP16: =IF(AO16=0,0,G16*((K16*$E$5)+(O16*$F$5)+(S16*$G$5)+(W16*$H$5)+(AA16*$I$5)+(AE16*$J$6)+(AI16*$K$7)+(AM16*$L$8))) -> 2000 | AQ16: =G16*(AL16*$L$8) -> 0 | AR16: =ROUND(AO16/$N$4,2) -> 2.01 | AS16: =$Q$4 -> 2304 | AT16: =ROUND(AS16/160,2) -> 14.4 | AU16: =AO16*AT16 -> 57600 | AV16: =$AV$12*AT16*AP16 -> 21600 | AW16: =AT16*AQ16 -> 0 | AX16: =SUM(AU16:AW16) -> 79200
A17: D | B17: Pārējās slimnīcas | C17: Ārsts | D17: Dežūrārsts 8.00-8.00 (24h) | E17: 2 | F17: 24h | G17: 1 | AB17: 8 | AC17: 8 | AD17: =IF(AB17="",0,IF((AC17-AB17<=0),(24-AB17+AC17),(AC17-AB17))) -> 24 | AE17: 8 | AF17: 8 | AG17: 8 | AH17: =IF(AF17="",0,IF((AG17-AF17<=0),(24-AF17+AG17),(AG17-AF17))) -> 24 | AI17: 8 | AJ17: 8 | AK17: 8 | AL17: =IF(AJ17="",0,IF((AK17-AJ17<=0),(24-AJ17+AK17),(AK17-AJ17))) -> 24 | AM17: 8 | AN17: =J17+N17+R17+V17+Z17+AD17+AH17+AL17 -> 72 | AO17: =IF(AN17=0,0,G17*((J17*$E$5)+(N17*$F$5)+(R17*$G$5)+(V17*$H$5)+(Z17*$I$5)+(AD17*$J$6)+(AH17*$K$7)+(AL17*$L$8))) -> 2760 | AP17: =IF(AO17=0,0,G17*((K17*$E$5)+(O17*$F$5)+(S17*$G$5)+(W17*$H$5)+(AA17*$I$5)+(AE17*$J$6)+(AI17*$K$7)+(AM17*$L$8))) -> 920 | AQ17: =G17*(AL17*$L$8) -> 360 | AR17: =ROUND(AO17/$N$4,2) -> 1.38 | AS17: =$Q$4 -> 2304 | AT17: =ROUND(AS17/160,2) -> 14.4 | AU17: =AO17*AT17 -> 39744 | AV17: =$AV$12*AT17*AP17 -> 9936 | AW17: =AT17*AQ17 -> 5184 | AX17: =SUM(AU17:AW17) -> 54864
A18: U | B18: Pārējās slimnīcas | C18: Ārsts | D18: Speciālists 8.00-20.00 (12h) | E18: 7 | F18: 12h | G18: 1 | H18: 8 | I18: 20 | J18: =IF(H18="",0,IF((I18-H18<=0),(24-H18+I18),(I18-H18))) -> 12 | K18: 0 | L18: 8 | M18: 20 | N18: =IF(L18="",0,IF((M18-L18<=0),(24-L18+M18),(M18-L18))) -> 12 | O18: 0 | P18: 8 | Q18: 20 | R18: =IF(P18="",0,IF((Q18-P18<=0),(24-P18+Q18),(Q18-P18))) -> 12 | S18: 0 | T18: 8 | U18: 20 | V18: =IF(T18="",0,IF((U18-T18<=0),(24-T18+U18),(U18-T18))) -> 12 | W18: 0 | X18: 8 | Y18: 20 | Z18: =IF(X18="",0,IF((Y18-X18<=0),(24-X18+Y18),(Y18-X18))) -> 12 | AA18: 0 | AB18: 8 | AC18: 20 | AD18: =IF(AB18="",0,IF((AC18-AB18<=0),(24-AB18+AC18),(AC18-AB18))) -> 12 | AE18: 0 | AF18: 8 | AG18: 20 | AH18: =IF(AF18="",0,IF((AG18-AF18<=0),(24-AF18+AG18),(AG18-AF18))) -> 12 | AI18: 0 | AJ18: 8 | AK18: 20 | AL18: =IF(AJ18="",0,IF((AK18-AJ18<=0),(24-AJ18+AK18),(AK18-AJ18))) -> 12 | AM18: 0 | AN18: =J18+N18+R18+V18+Z18+AD18+AH18+AL18 -> 96 | AO18: =IF(AN18=0,0,G18*((J18*$E$5)+(N18*$F$5)+(R18*$G$5)+(V18*$H$5)+(Z18*$I$5)+(AD18*$J$6)+(AH18*$K$7)+(AL18*$L$8))) -> 4380 | AP18: =IF(AO18=0,0,G18*((K18*$E$5)+(O18*$F$5)+(S18*$G$5)+(W18*$H$5)+(AA18*$I$5)+(AE18*$J$6)+(AI18*$K$7)+(AM18*$L$8))) -> 0 | AQ18: =G18*(AL18*$L$8) -> 180 | AR18: =ROUND(AO18/$N$4,2) -> 2.2 | AS18: =$Q$4 -> 2304 | AT18: =ROUND(AS18/160,2) -> 14.4 | AU18: =AO18*AT18 -> 63072 | AV18: =AP18*AT18*$AV$12 -> 0 | AW18: =AQ18*AT18*$AW$12 -> 2592 | AX18: =SUM(AU18:AW18) -> 65664
A19: U | B19: Pārējās slimnīcas | C19: Ārsts | D19: Speciālists 8.00-8.00 (24h) | E19: 7 | F19: 24h | G19: 1 | H19: 8 | I19: 8 | J19: =IF(H19="",0,IF((I19-H19<=0),(24-H19+I19),(I19-H19))) -> 24 | K19: 8 | L19: 8 | M19: 8 | N19: =IF(L19="",0,IF((M19-L19<=0),(24-L19+M19),(M19-L19))) -> 24 | O19: 8 | P19: 8 | Q19: 8 | R19: =IF(P19="",0,IF((Q19-P19<=0),(24-P19+Q19),(Q19-P19))) -> 24 | S19: 8 | T19: 8 | U19: 8 | V19: =IF(T19="",0,IF((U19-T19<=0),(24-T19+U19),(U19-T19))) -> 24 | W19: 8 | X19: 8 | Y19: 8 | Z19: =IF(X19="",0,IF((Y19-X19<=0),(24-X19+Y19),(Y19-X19))) -> 24 | AA19: 8 | AB19: 8 | AC19: 8 | AD19: =IF(AB19="",0,IF((AC19-AB19<=0),(24-AB19+AC19),(AC19-AB19))) -> 24 | AE19: 8 | AF19: 8 | AG19: 8 | AH19: =IF(AF19="",0,IF((AG19-AF19<=0),(24-AF19+AG19),(AG19-AF19))) -> 24 | AI19: 8 | AJ19: 8 | AK19: 8 | AL19: =IF(AJ19="",0,IF((AK19-AJ19<=0),(24-AJ19+AK19),(AK19-AJ19))) -> 24 | AM19: 8 | AN19: =J19+N19+R19+V19+Z19+AD19+AH19+AL19 -> 192 | AO19: =IF(AN19=0,0,G19*((J19*$E$5)+(N19*$F$5)+(R19*$G$5)+(V19*$H$5)+(Z19*$I$5)+(AD19*$J$6)+(AH19*$K$7)+(AL19*$L$8))) -> 8760 | AP19: =IF(AO19=0,0,G19*((K19*$E$5)+(O19*$F$5)+(S19*$G$5)+(W19*$H$5)+(AA19*$I$5)+(AE19*$J$6)+(AI19*$K$7)+(AM19*$L$8))) -> 2920 | AQ19: =G19*(AL19*$L$8) -> 360 | AR19: =ROUND(AO19/$N$4,2) -> 4.39 | AS19: =$Q$4 -> 2304 | AT19: =ROUND(AS19/160,2) -> 14.4 | AU19: =AO19*AT19 -> 126144 | AV19: =AP19*AT19*$AV$12 -> 31536 | AW19: =AQ19*AT19*$AW$12 -> 5184 | AX19: =SUM(AU19:AW19) -> 162864
A20: D | B20: Pārējās slimnīcas | C20: Ārsts | D20: Radiologs (attālināti) 50% 16.00-8.00 (16h) | E20: 5 | F20: 16h | G20: 1 | H20: 16 | I20: 8 | J20: =IF(H20="",0,IF((I20-H20<=0),(24-H20+I20),(I20-H20))) -> 16 | K20: 8 | L20: 16 | M20: 8 | N20: =IF(L20="",0,IF((M20-L20<=0),(24-L20+M20),(M20-L20))) -> 16 | O20: 8 | P20: 16 | Q20: 8 | R20: =IF(P20="",0,IF((Q20-P20<=0),(24-P20+Q20),(Q20-P20))) -> 16 | S20: 8 | T20: 16 | U20: 8 | V20: =IF(T20="",0,IF((U20-T20<=0),(24-T20+U20),(U20-T20))) -> 16 | W20: 8 | X20: 16 | Y20: 8 | Z20: =IF(X20="",0,IF((Y20-X20<=0),(24-X20+Y20),(Y20-X20))) -> 16 | AA20: 8 | AD20: =IF(AB20="",0,IF((AC20-AB20<=0),(24-AB20+AC20),(AC20-AB20))) -> 0 | AH20: =IF(AF20="",0,IF((AG20-AF20<=0),(24-AF20+AG20),(AG20-AF20))) -> 0 | AL20: =IF(AJ20="",0,IF((AK20-AJ20<=0),(24-AJ20+AK20),(AK20-AJ20))) -> 0 | AN20: =J20+N20+R20+V20+Z20+AD20+AH20+AL20 -> 80 | AO20: =IF(AN20=0,0,G20*((J20*$E$5)+(N20*$F$5)+(R20*$G$5)+(V20*$H$5)+(Z20*$I$5)+(AD20*$J$6)+(AH20*$K$7)+(AL20*$L$8))) -> 4000 | AP20: =IF(AO20=0,0,G20*((K20*$E$5)+(O20*$F$5)+(S20*$G$5)+(W20*$H$5)+(AA20*$I$5)+(AE20*$J$6)+(AI20*$K$7)+(AM20*$L$8))) -> 2000 | AQ20: =G20*(AL20*$L$8) -> 0 | AR20: =ROUND(AO20/$N$4,2) -> 2.01 | AS20: =$Q$4*50% -> 1152 | AT20: =ROUND(AS20/160,2) -> 7.2 | AU20: =AO20*AT20 -> 28800 | AV20: =AP20*AT20*$AV$12 -> 10800 | AW20: =AQ20*AT20*$AW$12 -> 0 | AX20: =SUM(AU20:AW20) -> 39600
A21: D | B21: Pārējās slimnīcas | C21: Ārsts | D21: Radiologs (attālināti) 50% 8.00-8.00 (24h) | E21: 2 | F21: 24h | G21: 1 | AB21: 8 | AC21: 8 | AD21: =IF(AB21="",0,IF((AC21-AB21<=0),(24-AB21+AC21),(AC21-AB21))) -> 24 | AE21: 8 | AF21: 8 | AG21: 8 | AH21: =IF(AF21="",0,IF((AG21-AF21<=0),(24-AF21+AG21),(AG21-AF21))) -> 24 | AI21: 8 | AJ21: 8 | AK21: 8 | AL21: =IF(AJ21="",0,IF((AK21-AJ21<=0),(24-AJ21+AK21),(AK21-AJ21))) -> 24 | AM21: 8 | AN21: =J21+N21+R21+V21+Z21+AD21+AH21+AL21 -> 72 | AO21: =IF(AN21=0,0,G21*((J21*$E$5)+(N21*$F$5)+(R21*$G$5)+(V21*$H$5)+(Z21*$I$5)+(AD21*$J$6)+(AH21*$K$7)+(AL21*$L$8))) -> 2760 | AP21: =IF(AO21=0,0,G21*((K21*$E$5)+(O21*$F$5)+(S21*$G$5)+(W21*$H$5)+(AA21*$I$5)+(AE21*$J$6)+(AI21*$K$7)+(AM21*$L$8))) -> 920 | AQ21: =G21*(AL21*$L$8) -> 360 | AR21: =ROUND(AO21/$N$4,2) -> 1.38 | AS21: =$Q$4*50% -> 1152 | AT21: =ROUND(AS21/160,2) -> 7.2 | AU21: =AO21*AT21 -> 19872 | AV21: =AP21*AT21*$AV$12 -> 4968 | AW21: =AQ21*AT21*$AW$12 -> 2592 | AX21: =SUM(AU21:AW21) -> 27432
A22: U | B22: Pārējās slimnīcas | C22: Ārsts | D22: Speciālists mājas dežūrā | E22: 5 | F22: 8h | G22: 1 | H22: 8 | I22: 16 | J22: =IF(H22="",0,IF((I22-H22<=0),(24-H22+I22),(I22-H22))) -> 8 | K22: 0 | L22: 8 | M22: 16 | N22: =IF(L22="",0,IF((M22-L22<=0),(24-L22+M22),(M22-L22))) -> 8 | O22: 0 | P22: 8 | Q22: 16 | R22: =IF(P22="",0,IF((Q22-P22<=0),(24-P22+Q22),(Q22-P22))) -> 8 | S22: 0 | T22: 8 | U22: 16 | V22: =IF(T22="",0,IF((U22-T22<=0),(24-T22+U22),(U22-T22))) -> 8 | W22: 0 | X22: 8 | Y22: 16 | Z22: =IF(X22="",0,IF((Y22-X22<=0),(24-X22+Y22),(Y22-X22))) -> 8 | AA22: 0 | AN22: =J22+N22+R22+V22+Z22+AD22+AH22+AL22 -> 40 | AO22: =IF(AN22=0,0,G22*((J22*$E$5)+(N22*$F$5)+(R22*$G$5)+(V22*$H$5)+(Z22*$I$5)+(AD22*$J$6)+(AH22*$K$7)+(AL22*$L$8))) -> 2000 | AP22: =IF(AO22=0,0,G22*((K22*$E$5)+(O22*$F$5)+(S22*$G$5)+(W22*$H$5)+(AA22*$I$5)+(AE22*$J$6)+(AI22*$K$7)+(AM22*$L$8))) -> 0 | AQ22: =G22*(AL22*$L$8) -> 0 | AR22: =ROUND(AO22/$N$4,2) -> 1 | AS22: =$Q$4*10% -> 230.4 | AT22: =ROUND(AS22/160,2) -> 1.44 | AU22: =AO22*AT22 -> 2880 | AV22: =AP22*AT22*$AV$12 -> 0 | AW22: =AQ22*AT22*$AW$12 -> 0 | AX22: =SUM(AU22:AW22) -> 2880
A23: U | B23: Pārējās slimnīcas | C23: Māsa, ārsta palīgs, vecmāte | D23: Radiologa asistents/radiogrāfers | E23: 7 | F23: 24h | G23: 1 | H23: 8 | I23: 8 | J23: =IF(H23="",0,IF((I23-H23<=0),(24-H23+I23),(I23-H23))) -> 24 | K23: 8 | L23: 8 | M23: 8 | N23: =IF(L23="",0,IF((M23-L23<=0),(24-L23+M23),(M23-L23))) -> 24 | O23: 8 | P23: 8 | Q23: 8 | R23: =IF(P23="",0,IF((Q23-P23<=0),(24-P23+Q23),(Q23-P23))) -> 24 | S23: 8 | T23: 8 | U23: 8 | V23: =IF(T23="",0,IF((U23-T23<=0),(24-T23+U23),(U23-T23))) -> 24 | W23: 8 | X23: 8 | Y23: 8 | Z23: =IF(X23="",0,IF((Y23-X23<=0),(24-X23+Y23),(Y23-X23))) -> 24 | AA23: 8 | AB23: 8 | AC23: 8 | AD23: =IF(AB23="",0,IF((AC23-AB23<=0),(24-AB23+AC23),(AC23-AB23))) -> 24 | AE23: 8 | AF23: 8 | AG23: 8 | AH23: =IF(AF23="",0,IF((AG23-AF23<=0),(24-AF23+AG23),(AG23-AF23))) -> 24 | AI23: 8 | AJ23: 8 | AK23: 8 | AL23: =IF(AJ23="",0,IF((AK23-AJ23<=0),(24-AJ23+AK23),(AK23-AJ23))) -> 24 | AM23: 8 | AN23: =J23+N23+R23+V23+Z23+AD23+AH23+AL23 -> 192 | AO23: =IF(AN23=0,0,G23*((J23*$E$5)+(N23*$F$5)+(R23*$G$5)+(V23*$H$5)+(Z23*$I$5)+(AD23*$J$6)+(AH23*$K$7)+(AL23*$L$8))) -> 8760 | AP23: =IF(AO23=0,0,G23*((K23*$E$5)+(O23*$F$5)+(S23*$G$5)+(W23*$H$5)+(AA23*$I$5)+(AE23*$J$6)+(AI23*$K$7)+(AM23*$L$8))) -> 2920 | AQ23: =G23*(AL23*$L$8) -> 360 | AR23: =ROUND(AO23/$N$4,2) -> 4.39 | AS23: =$R$4 -> 1388 | AT23: =ROUND(AS23/160,2) -> 8.68 | AU23: =AO23*AT23 -> 76036.8 | AV23: =AP23*AT23*$AV$12 -> 19009.2 | AW23: =AQ23*AT23*$AW$12 -> 3124.8 | AX23: =SUM(AU23:AW23) -> 98170.8
A24: U | B24: Pārējās slimnīcas | C24: Māsa, ārsta palīgs, vecmāte | D24: Speciālists 8.00-20.00 (12h) | E24: 7 | F24: 12h | G24: 1 | H24: 8 | I24: 20 | J24: =IF(H24="",0,IF((I24-H24<=0),(24-H24+I24),(I24-H24))) -> 12 | K24: 0 | L24: 8 | M24: 20 | N24: =IF(L24="",0,IF((M24-L24<=0),(24-L24+M24),(M24-L24))) -> 12 | O24: 0 | P24: 8 | Q24: 20 | R24: =IF(P24="",0,IF((Q24-P24<=0),(24-P24+Q24),(Q24-P24))) -> 12 | S24: 0 | T24: 8 | U24: 20 | V24: =IF(T24="",0,IF((U24-T24<=0),(24-T24+U24),(U24-T24))) -> 12 | W24: 0 | X24: 8 | Y24: 20 | Z24: =IF(X24="",0,IF((Y24-X24<=0),(24-X24+Y24),(Y24-X24))) -> 12 | AA24: 0 | AB24: 8 | AC24: 20 | AD24: =IF(AB24="",0,IF((AC24-AB24<=0),(24-AB24+AC24),(AC24-AB24))) -> 12 | AE24: 0 | AF24: 8 | AG24: 20 | AH24: =IF(AF24="",0,IF((AG24-AF24<=0),(24-AF24+AG24),(AG24-AF24))) -> 12 | AI24: 0 | AJ24: 8 | AK24: 20 | AL24: =IF(AJ24="",0,IF((AK24-AJ24<=0),(24-AJ24+AK24),(AK24-AJ24))) -> 12 | AM24: 0 | AN24: =J24+N24+R24+V24+Z24+AD24+AH24+AL24 -> 96 | AO24: =IF(AN24=0,0,G24*((J24*$E$5)+(N24*$F$5)+(R24*$G$5)+(V24*$H$5)+(Z24*$I$5)+(AD24*$J$6)+(AH24*$K$7)+(AL24*$L$8))) -> 4380 | AP24: =IF(AO24=0,0,G24*((K24*$E$5)+(O24*$F$5)+(S24*$G$5)+(W24*$H$5)+(AA24*$I$5)+(AE24*$J$6)+(AI24*$K$7)+(AM24*$L$8))) -> 0 | AQ24: =G24*(AL24*$L$8) -> 180 | AR24: =ROUND(AO24/$N$4,2) -> 2.2 | AS24: =$R$4 -> 1388 | AT24: =ROUND(AS24/160,2) -> 8.68 | AU24: =AO24*AT24 -> 38018.4 | AV24: =AP24*AT24*$AV$12 -> 0 | AW24: =AQ24*AT24*$AW$12 -> 1562.4 | AX24: =SUM(AU24:AW24) -> 39580.8
A25: U | B25: Pārējās slimnīcas | C25: Māsa, ārsta palīgs, vecmāte | D25: Speciālists 8.00-16.00 (8h) | E25: 5 | F25: 8h | G25: 1 | H25: 8 | I25: 16 | J25: =IF(H25="",0,IF((I25-H25<=0),(24-H25+I25),(I25-H25))) -> 8 | K25: 0 | L25: 8 | M25: 16 | N25: =IF(L25="",0,IF((M25-L25<=0),(24-L25+M25),(M25-L25))) -> 8 | O25: 0 | P25: 8 | Q25: 16 | R25: =IF(P25="",0,IF((Q25-P25<=0),(24-P25+Q25),(Q25-P25))) -> 8 | S25: 0 | T25: 8 | U25: 16 | V25: =IF(T25="",0,IF((U25-T25<=0),(24-T25+U25),(U25-T25))) -> 8 | W25: 0 | X25: 8 | Y25: 16 | Z25: =IF(X25="",0,IF((Y25-X25<=0),(24-X25+Y25),(Y25-X25))) -> 8 | AA25: 0 | AN25: =J25+N25+R25+V25+Z25+AD25+AH25+AL25 -> 40 | AO25: =IF(AN25=0,0,G25*((J25*$E$5)+(N25*$F$5)+(R25*$G$5)+(V25*$H$5)+(Z25*$I$5)+(AD25*$J$6)+(AH25*$K$7)+(AL25*$L$8))) -> 2000 | AP25: =IF(AO25=0,0,G25*((K25*$E$5)+(O25*$F$5)+(S25*$G$5)+(W25*$H$5)+(AA25*$I$5)+(AE25*$J$6)+(AI25*$K$7)+(AM25*$L$8))) -> 0 | AQ25: =G25*(AL25*$L$8) -> 0 | AR25: =ROUND(AO25/$N$4,2) -> 1 | AS25: =$R$4 -> 1388 | AT25: =ROUND(AS25/160,2) -> 8.68 | AU25: =AO25*AT25 -> 17360 | AV25: =AP25*AT25*$AV$12 -> 0 | AW25: =AQ25*AT25*$AW$12 -> 0 | AX25: =SUM(AU25:AW25) -> 17360
A26: U | B26: Pārējās slimnīcas | C26: Māsa, ārsta palīgs, vecmāte | D26: Speciālists 8.00-8.00 (24h) | E26: 7 | F26: 24h | G26: 1 | H26: 8 | I26: 8 | J26: =IF(H26="",0,IF((I26-H26<=0),(24-H26+I26),(I26-H26))) -> 24 | K26: 8 | L26: 8 | M26: 8 | N26: =IF(L26="",0,IF((M26-L26<=0),(24-L26+M26),(M26-L26))) -> 24 | O26: 8 | P26: 8 | Q26: 8 | R26: =IF(P26="",0,IF((Q26-P26<=0),(24-P26+Q26),(Q26-P26))) -> 24 | S26: 8 | T26: 8 | U26: 8 | V26: =IF(T26="",0,IF((U26-T26<=0),(24-T26+U26),(U26-T26))) -> 24 | W26: 8 | X26: 8 | Y26: 8 | Z26: =IF(X26="",0,IF((Y26-X26<=0),(24-X26+Y26),(Y26-X26))) -> 24 | AA26: 8 | AB26: 8 | AC26: 8 | AD26: =IF(AB26="",0,IF((AC26-AB26<=0),(24-AB26+AC26),(AC26-AB26))) -> 24 | AE26: 8 | AF26: 8 | AG26: 8 | AH26: =IF(AF26="",0,IF((AG26-AF26<=0),(24-AF26+AG26),(AG26-AF26))) -> 24 | AI26: 8 | AJ26: 8 | AK26: 8 | AL26: =IF(AJ26="",0,IF((AK26-AJ26<=0),(24-AJ26+AK26),(AK26-AJ26))) -> 24 | AM26: 8 | AN26: =J26+N26+R26+V26+Z26+AD26+AH26+AL26 -> 192 | AO26: =IF(AN26=0,0,G26*((J26*$E$5)+(N26*$F$5)+(R26*$G$5)+(V26*$H$5)+(Z26*$I$5)+(AD26*$J$6)+(AH26*$K$7)+(AL26*$L$8))) -> 8760 | AP26: =IF(AO26=0,0,G26*((K26*$E$5)+(O26*$F$5)+(S26*$G$5)+(W26*$H$5)+(AA26*$I$5)+(AE26*$J$6)+(AI26*$K$7)+(AM26*$L$8))) -> 2920 | AQ26: =G26*(AL26*$L$8) -> 360 | AR26: =ROUND(AO26/$N$4,2) -> 4.39 | AS26: =$R$4 -> 1388 | AT26: =ROUND(AS26/160,2) -> 8.68 | AU26: =AO26*AT26 -> 76036.8 | AV26: =AP26*AT26*$AV$12 -> 19009.2 | AW26: =AQ26*AT26*$AW$12 -> 3124.8 | AX26: =SUM(AU26:AW26) -> 98170.8
A27: D | B27: Pārējās slimnīcas | C27: Māsa, ārsta palīgs, vecmāte | D27: Dežūrvecmāte 16.00-8.00 (16h) | E27: 5 | F27: 16h | G27: 1 | H27: 16 | I27: 8 | J27: =IF(H27="",0,IF((I27-H27<=0),(24-H27+I27),(I27-H27))) -> 16 | K27: 8 | L27: 16 | M27: 8 | N27: =IF(L27="",0,IF((M27-L27<=0),(24-L27+M27),(M27-L27))) -> 16 | O27: 8 | P27: 16 | Q27: 8 | R27: =IF(P27="",0,IF((Q27-P27<=0),(24-P27+Q27),(Q27-P27))) -> 16 | S27: 8 | T27: 16 | U27: 8 | V27: =IF(T27="",0,IF((U27-T27<=0),(24-T27+U27),(U27-T27))) -> 16 | W27: 8 | X27: 16 | Y27: 8 | Z27: =IF(X27="",0,IF((Y27-X27<=0),(24-X27+Y27),(Y27-X27))) -> 16 | AA27: 8 | AD27: =IF(AB27="",0,IF((AC27-AB27<=0),(24-AB27+AC27),(AC27-AB27))) -> 0 | AH27: =IF(AF27="",0,IF((AG27-AF27<=0),(24-AF27+AG27),(AG27-AF27))) -> 0 | AL27: =IF(AJ27="",0,IF((AK27-AJ27<=0),(24-AJ27+AK27),(AK27-AJ27))) -> 0 | AN27: =J27+N27+R27+V27+Z27+AD27+AH27+AL27 -> 80 | AO27: =IF(AN27=0,0,G27*((J27*$E$5)+(N27*$F$5)+(R27*$G$5)+(V27*$H$5)+(Z27*$I$5)+(AD27*$J$6)+(AH27*$K$7)+(AL27*$L$8))) -> 4000 | AP27: =IF(AO27=0,0,G27*((K27*$E$5)+(O27*$F$5)+(S27*$G$5)+(W27*$H$5)+(AA27*$I$5)+(AE27*$J$6)+(AI27*$K$7)+(AM27*$L$8))) -> 2000 | AQ27: =G27*(AL27*$L$8) -> 0 | AR27: =ROUND(AO27/$N$4,2) -> 2.01 | AS27: =$R$4 -> 1388 | AT27: =ROUND(AS27/160,2) -> 8.68 | AU27: =AO27*AT27 -> 34720 | AV27: =AP27*AT27*$AV$12 -> 13020 | AW27: =AQ27*AT27*$AW$12 -> 0 | AX27: =SUM(AU27:AW27) -> 47740
A28: D | B28: Pārējās slimnīcas | C28: Māsa, ārsta palīgs, vecmāte | D28: Dežūrvecmāte 8.00-8.00 (24h) | E28: 2 | F28: 24h | G28: 1 | AB28: 8 | AC28: 8 | AD28: =IF(AB28="",0,IF((AC28-AB28<=0),(24-AB28+AC28),(AC28-AB28))) -> 24 | AE28: 8 | AF28: 8 | AG28: 8 | AH28: =IF(AF28="",0,IF((AG28-AF28<=0),(24-AF28+AG28),(AG28-AF28))) -> 24 | AI28: 8 | AJ28: 8 | AK28: 8 | AL28: =IF(AJ28="",0,IF((AK28-AJ28<=0),(24-AJ28+AK28),(AK28-AJ28))) -> 24 | AM28: 8 | AN28: =J28+N28+R28+V28+Z28+AD28+AH28+AL28 -> 72 | AO28: =IF(AN28=0,0,G28*((J28*$E$5)+(N28*$F$5)+(R28*$G$5)+(V28*$H$5)+(Z28*$I$5)+(AD28*$J$6)+(AH28*$K$7)+(AL28*$L$8))) -> 2760 | AP28: =IF(AO28=0,0,G28*((K28*$E$5)+(O28*$F$5)+(S28*$G$5)+(W28*$H$5)+(AA28*$I$5)+(AE28*$J$6)+(AI28*$K$7)+(AM28*$L$8))) -> 920 | AQ28: =G28*(AL28*$L$8) -> 360 | AR28: =ROUND(AO28/$N$4,2) -> 1.38 | AS28: =$R$4 -> 1388 | AT28: =ROUND(AS28/160,2) -> 8.68 | AU28: =AO28*AT28 -> 23956.8 | AV28: =AP28*AT28*$AV$12 -> 5989.2 | AW28: =AQ28*AT28*$AW$12 -> 3124.8 | AX28: =SUM(AU28:AW28) -> 33070.8
A29: U | B29: Pārējās slimnīcas | C29: Māsas palīgs | D29: Speciālists 8.00-20.00 (12h) | E29: 7 | F29: 12h | G29: 1 | H29: 8 | I29: 20 | J29: =IF(H29="",0,IF((I29-H29<=0),(24-H29+I29),(I29-H29))) -> 12 | K29: 0 | L29: 8 | M29: 20 | N29: =IF(L29="",0,IF((M29-L29<=0),(24-L29+M29),(M29-L29))) -> 12 | O29: 0 | P29: 8 | Q29: 20 | R29: =IF(P29="",0,IF((Q29-P29<=0),(24-P29+Q29),(Q29-P29))) -> 12 | S29: 0 | T29: 8 | U29: 20 | V29: =IF(T29="",0,IF((U29-T29<=0),(24-T29+U29),(U29-T29))) -> 12 | W29: 0 | X29: 8 | Y29: 20 | Z29: =IF(X29="",0,IF((Y29-X29<=0),(24-X29+Y29),(Y29-X29))) -> 12 | AA29: 0 | AB29: 8 | AC29: 20 | AD29: =IF(AB29="",0,IF((AC29-AB29<=0),(24-AB29+AC29),(AC29-AB29))) -> 12 | AE29: 0 | AF29: 8 | AG29: 20 | AH29: =IF(AF29="",0,IF((AG29-AF29<=0),(24-AF29+AG29),(AG29-AF29))) -> 12 | AI29: 0 | AJ29: 8 | AK29: 20 | AL29: =IF(AJ29="",0,IF((AK29-AJ29<=0),(24-AJ29+AK29),(AK29-AJ29))) -> 12 | AM29: 0 | AN29: =J29+N29+R29+V29+Z29+AD29+AH29+AL29 -> 96 | AO29: =IF(AN29=0,0,G29*((J29*$E$5)+(N29*$F$5)+(R29*$G$5)+(V29*$H$5)+(Z29*$I$5)+(AD29*$J$6)+(AH29*$K$7)+(AL29*$L$8))) -> 4380 | AP29: =IF(AO29=0,0,G29*((K29*$E$5)+(O29*$F$5)+(S29*$G$5)+(W29*$H$5)+(AA29*$I$5)+(AE29*$J$6)+(AI29*$K$7)+(AM29*$L$8))) -> 0 | AQ29: =G29*(AL29*$L$8) -> 180 | AR29: =ROUND(AO29/$N$4,2) -> 2.2 | AS29: =$S$4 -> 925 | AT29: =ROUND(AS29/160,2) -> 5.78 | AU29: =AO29*AT29 -> 25316.4 | AV29: =AP29*AT29*$AV$12 -> 0 | AW29: =AQ29*AT29*$AW$12 -> 1040.4 | AX29: =SUM(AU29:AW29) -> 26356.8
A30: U | B30: Pārējās slimnīcas | C30: Māsas palīgs | D30: Speciālists 8.00-16.00 (8h) | E30: 5 | F30: 8h | G30: 1 | H30: 8 | I30: 16 | J30: =IF(H30="",0,IF((I30-H30<=0),(24-H30+I30),(I30-H30))) -> 8 | K30: 0 | L30: 8 | M30: 16 | N30: =IF(L30="",0,IF((M30-L30<=0),(24-L30+M30),(M30-L30))) -> 8 | O30: 0 | P30: 8 | Q30: 16 | R30: =IF(P30="",0,IF((Q30-P30<=0),(24-P30+Q30),(Q30-P30))) -> 8 | S30: 0 | T30: 8 | U30: 16 | V30: =IF(T30="",0,IF((U30-T30<=0),(24-T30+U30),(U30-T30))) -> 8 | W30: 0 | X30: 8 | Y30: 16 | Z30: =IF(X30="",0,IF((Y30-X30<=0),(24-X30+Y30),(Y30-X30))) -> 8 | AA30: 0 | AN30: =J30+N30+R30+V30+Z30+AD30+AH30+AL30 -> 40 | AO30: =IF(AN30=0,0,G30*((J30*$E$5)+(N30*$F$5)+(R30*$G$5)+(V30*$H$5)+(Z30*$I$5)+(AD30*$J$6)+(AH30*$K$7)+(AL30*$L$8))) -> 2000 | AP30: =IF(AO30=0,0,G30*((K30*$E$5)+(O30*$F$5)+(S30*$G$5)+(W30*$H$5)+(AA30*$I$5)+(AE30*$J$6)+(AI30*$K$7)+(AM30*$L$8))) -> 0 | AQ30: =G30*(AL30*$L$8) -> 0 | AR30: =ROUND(AO30/$N$4,2) -> 1 | AS30: =$S$4 -> 925 | AT30: =ROUND(AS30/160,2) -> 5.78 | AU30: =AO30*AT30 -> 11560 | AV30: =AP30*AT30*$AV$12 -> 0 | AW30: =AQ30*AT30*$AW$12 -> 0 | AX30: =SUM(AU30:AW30) -> 11560
A31: U | B31: Pārējās slimnīcas | C31: Māsas palīgs | D31: Speciālists 8.00-8.00 (24h) | E31: 7 | F31: 24h | G31: 1 | H31: 8 | I31: 8 | J31: =IF(H31="",0,IF((I31-H31<=0),(24-H31+I31),(I31-H31))) -> 24 | K31: 8 | L31: 8 | M31: 8 | N31: =IF(L31="",0,IF((M31-L31<=0),(24-L31+M31),(M31-L31))) -> 24 | O31: 8 | P31: 8 | Q31: 8 | R31: =IF(P31="",0,IF((Q31-P31<=0),(24-P31+Q31),(Q31-P31))) -> 24 | S31: 8 | T31: 8 | U31: 8 | V31: =IF(T31="",0,IF((U31-T31<=0),(24-T31+U31),(U31-T31))) -> 24 | W31: 8 | X31: 8 | Y31: 8 | Z31: =IF(X31="",0,IF((Y31-X31<=0),(24-X31+Y31),(Y31-X31))) -> 24 | AA31: 8 | AB31: 8 | AC31: 8 | AD31: =IF(AB31="",0,IF((AC31-AB31<=0),(24-AB31+AC31),(AC31-AB31))) -> 24 | AE31: 8 | AF31: 8 | AG31: 8 | AH31: =IF(AF31="",0,IF((AG31-AF31<=0),(24-AF31+AG31),(AG31-AF31))) -> 24 | AI31: 8 | AJ31: 8 | AK31: 8 | AL31: =IF(AJ31="",0,IF((AK31-AJ31<=0),(24-AJ31+AK31),(AK31-AJ31))) -> 24 | AM31: 8 | AN31: =J31+N31+R31+V31+Z31+AD31+AH31+AL31 -> 192 | AO31: =IF(AN31=0,0,G31*((J31*$E$5)+(N31*$F$5)+(R31*$G$5)+(V31*$H$5)+(Z31*$I$5)+(AD31*$J$6)+(AH31*$K$7)+(AL31*$L$8))) -> 8760 | AP31: =IF(AO31=0,0,G31*((K31*$E$5)+(O31*$F$5)+(S31*$G$5)+(W31*$H$5)+(AA31*$I$5)+(AE31*$J$6)+(AI31*$K$7)+(AM31*$L$8))) -> 2920 | AQ31: =G31*(AL31*$L$8) -> 360 | AR31: =ROUND(AO31/$N$4,2) -> 4.39 | AS31: =$S$4 -> 925 | AT31: =ROUND(AS31/160,2) -> 5.78 | AU31: =AO31*AT31 -> 50632.8 | AV31: =AP31*AT31*$AV$12 -> 12658.2 | AW31: =AQ31*AT31*$AW$12 -> 2080.8 | AX31: =SUM(AU31:AW31) -> 65371.8

Sheet 2p_turp_aprekins dez
AU1: 2.pielikuma turpinājums MK noteikumu projekta "Grozījumi Ministru kabineta 2018.gada 28.augusta noteikumos Nr.555 „Veselības aprūpes pakalpojumu organizēšanas un samaksas kārtība"" anotācijai
A2: 2026. gada kalendārs (kopsavilkums)
E3: P | F3: O | G3: T | H3: C | I3: P | J3: S | K3: Sv | L3: KOPĀ dienas | M3: Darba dienas | N3: Darba stundas | Q3: Ārstniecības personas vidējā darba samaksa mēnesī, euro | R3: Ārstniecības un pacientu aprūpes personu vidējā darba samaksa mēnesī, euro | S3: Ārstniecības un pacientu aprūpes atbalsta personas vidējā darba samaksa mēnesī, euro
D4: Dienu skaits kopā | E4: 52 | F4: 52 | G4: 52 | H4: 53 | I4: 52 | J4: 52 | K4: 52 | L4: 365 | M4: 250 | N4: 1994 | Q4: 2304 | R4: 1388 | S4: 925
D5: Darba dienu skaits | E5: 49 | F5: 50 | G5: 50 | H5: 51 | I5: 50 | J5: 0 | K5: 0 | L5: 250 | M5: =ROUND(M4/12,0) -> 21 | N5: =ROUND(N4/12,0) -> 166
D6: Sestdienu skaits | E6: 0 | F6: 0 | G6: 0 | H6: 0 | I6: 0 | J6: 52 | K6: 0 | L6: 52 | M6: 0 | N6: 0
D7: Svētdienu skaits | E7: 0 | F7: 0 | G7: 0 | H7: 0 | I7: 0 | J7: 0 | K7: 48 | L7: 48 | M7: 0 | N7: 0
D8: Svētku dienas | E8: 3 | F8: 2 | G8: 2 | H8: 2 | I8: 2 | J8: 0 | K8: 4 | L8: 15 | M8: 0 | N8: 0
D9: Pārceltās brīvdienas | E9: 0 | F9: 0 | G9: 0 | H9: 0 | I9: 0 | J9: 0 | K9: 0 | L9: 0 | M9: 0 | N9: 0
D11: Posteņu, slodžu, darba stundu skaits un apmaksas nosacījumi
H12: Pirmdienās | L12: Otrdienās | P12: Trešdienās | T12: Ceturtdienās | X12: Piektdienās | AB12: Sestdienās | AF12: Svētdienās | AJ12: Svētku dienās | AO12: Stundas vidēji gadā | AV12: 0.75 | AW12: 1
A13: U vai D | B13: Ārstniecības iestāde | C13: Speciālistu grupa | D13: Posteņa nosaukums | E13: Nedēļas dienas | F13: Posteņa veids | G13: Posteņu skaits | H13: no | I13: līdz | J13: darba stundas | K13: t.sk. nakts stundas | L13: no | M13: līdz | N13: darba stundas | O13: t.sk. nakts stundas | P13: no | Q13: līdz | R13: darba stundas | S13: t.sk. nakts stundas | T13: no | U13: līdz | V13: darba stundas | W13: t.sk. nakts stundas | X13: no | Y13: līdz | Z13: darba stundas | AA13: t.sk. nakts stundas | AB13: no | AC13: līdz | AD13: darba stundas | AE13: t.sk. nakts stundas | AF13: no | AG13: līdz | AH13: darba stundas | AI13: t.sk. nakts stundas | AJ13: no | AK13: līdz | AL13: darba stundas | AM13: t.sk. nakts stundas | AN13: Tehniskā | AO13: Darba stundas | AP13: no tām nakts | AQ13: no tām svētku | AR13: slodzes | AS13: Vidējā darba samaksa mēnesī | AT13: Stundas likme (vidējā) | AU13: Samaksa par darba stundām gadā, euro | AV13: Piemaksa gadā par nakts stundām, euro | AW13: Piemaksa gadā par svētku stundām, euro | AX13: Atalgojums gadā, euro (D elements)
A14: U | B14: Pārējās slimnīcas | C14: Ārsts | D14: Speciālists 8.00-16.00 (8h) | E14: 5 | F14: 8h | G14: 1 | H14: 8 | I14: 16 | J14: =IF(H14="",0,IF((I14-H14<=0),(24-H14+I14),(I14-H14))) -> 8 | K14: 0 | L14: 8 | M14: 16 | N14: =IF(L14="",0,IF((M14-L14<=0),(24-L14+M14),(M14-L14))) -> 8 | O14: 0 | P14: 8 | Q14: 16 | R14: =IF(P14="",0,IF((Q14-P14<=0),(24-P14+Q14),(Q14-P14))) -> 8 | S14: 0 | T14: 8 | U14: 16 | V14: =IF(T14="",0,IF((U14-T14<=0),(24-T14+U14),(U14-T14))) -> 8 | W14: 0 | X14: 8 | Y14: 16 | Z14: =IF(X14="",0,IF((Y14-X14<=0),(24-X14+Y14),(Y14-X14))) -> 8 | AA14: 0 | AD14: =IF(AB14="",0,IF((AC14-AB14<=0),(24-AB14+AC14),(AC14-AB14))) -> 0 | AE14: 0 | AH14: =IF(AF14="",0,IF((AG14-AF14<=0),(24-AF14+AG14),(AG14-AF14))) -> 0 | AI14: 0 | AL14: =IF(AJ14="",0,IF((AK14-AJ14<=0),(24-AJ14+AK14),(AK14-AJ14))) -> 0 | AM14: 0 | AN14: =J14+N14+R14+V14+Z14+AD14+AH14+AL14 -> 40 | AO14: =IF(AN14=0,0,G14*((J14*$E$5)+(N14*$F$5)+(R14*$G$5)+(V14*$H$5)+(Z14*$I$5)+(AD14*$J$6)+(AH14*$K$7)+(AL14*$L$8))) -> 2000 | AP14: =IF(AO14=0,0,G14*((K14*$E$5)+(O14*$F$5)+(S14*$G$5)+(W14*$H$5)+(AA14*$I$5)+(AE14*$J$6)+(AI14*$K$7)+(AM14*$L$8))) -> 0 | AQ14: =G14*(AL14*$L$8) -> 0 | AR14: =ROUND(AO14/$N$4,2) -> 1 | AS14: =$Q$4 -> 2304 | AT14: =ROUND(AS14/160,2) -> 14.4 | AU14: =AO14*AT14 -> 28800 | AV14: =$AV$12*AT14*AP14 -> 0 | AW14: =AT14*AQ14 -> 0 | AX14: =SUM(AU14:AW14) -> 28800
A15: U | B15: Pārējās slimnīcas | C15: Ārsts | D15: Speciālists 8.00-20.00 (12h) | E15: 5 | F15: 12h | G15: 1 | H15: 8 | I15: 20 | J15: =IF(H15="",0,IF((I15-H15<=0),(24-H15+I15),(I15-H15))) -> 12 | K15: 0 | L15: 8 | M15: 20 | N15: =IF(L15="",0,IF((M15-L15<=0),(24-L15+M15),(M15-L15))) -> 12 | O15: 0 | P15: 8 | Q15: 20 | R15: =IF(P15="",0,IF((Q15-P15<=0),(24-P15+Q15),(Q15-P15))) -> 12 | S15: 0 | T15: 8 | U15: 20 | V15: =IF(T15="",0,IF((U15-T15<=0),(24-T15+U15),(U15-T15))) -> 12 | W15: 0 | X15: 8 | Y15: 20 | Z15: =IF(X15="",0,IF((Y15-X15<=0),(24-X15+Y15),(Y15-X15))) -> 12 | AA15: 0 | AD15: =IF(AB15="",0,IF((AC15-AB15<=0),(24-AB15+AC15),(AC15-AB15))) -> 0 | AE15: 0 | AH15: =IF(AF15="",0,IF((AG15-AF15<=0),(24-AF15+AG15),(AG15-AF15))) -> 0 | AI15: 0 | AL15: =IF(AJ15="",0,IF((AK15-AJ15<=0),(24-AJ15+AK15),(AK15-AJ15))) -> 0 | AM15: 0 | AN15: =J15+N15+R15+V15+Z15+AD15+AH15+AL15 -> 60 | AO15: =IF(AN15=0,0,G15*((J15*$E$5)+(N15*$F$5)+(R15*$G$5)+(V15*$H$5)+(Z15*$I$5)+(AD15*$J$6)+(AH15*$K$7)+(AL15*$L$8))) -> 3000 | AP15: =IF(AO15=0,0,G15*((K15*$E$5)+(O15*$F$5)+(S15*$G$5)+(W15*$H$5)+(AA15*$I$5)+(AE15*$J$6)+(AI15*$K$7)+(AM15*$L$8))) -> 0 | AQ15: =G15*(AL15*$L$8) -> 0 | AR15: =ROUND(AO15/$N$4,2) -> 1.5 | AS15: =$Q$4 -> 2304 | AT15: =ROUND(AS15/160,2) -> 14.4 | AU15: =AO15*AT15 -> 43200 | AV15: =AP15*AT15*$AV$12 -> 0 | AW15: =AQ15*AT15*$AW$12 -> 0 | AX15: =SUM(AU15:AW15) -> 43200
A16: D | B16: Pārējās slimnīcas | C16: Ārsts | D16: Dežūrārsts 16.00-8.00 (16h) | E16: 5 | F16: 16h | G16: 1 | H16: 16 | I16: 8 | J16: =IF(H16="",0,IF((I16-H16<=0),(24-H16+I16),(I16-H16))) -> 16 | K16: 8 | L16: 16 | M16: 8 | N16: =IF(L16="",0,IF((M16-L16<=0),(24-L16+M16),(M16-L16))) -> 16 | O16: 8 | P16: 16 | Q16: 8 | R16: =IF(P16="",0,IF((Q16-P16<=0),(24-P16+Q16),(Q16-P16))) -> 16 | S16: 8 | T16: 16 | U16: 8 | V16: =IF(T16="",0,IF((U16-T16<=0),(24-T16+U16),(U16-T16))) -> 16 | W16: 8 | X16: 16 | Y16: 8 | Z16: =IF(X16="",0,IF((Y16-X16<=0),(24-X16+Y16),(Y16-X16))) -> 16 | AA16: 8 | AD16: =IF(AB16="",0,IF((AC16-AB16<=0),(24-AB16+AC16),(AC16-AB16))) -> 0 | AH16: =IF(AF16="",0,IF((AG16-AF16<=0),(24-AF16+AG16),(AG16-AF16))) -> 0 | AL16: =IF(AJ16="",0,IF((AK16-AJ16<=0),(24-AJ16+AK16),(AK16-AJ16))) -> 0 | AN16: =J16+N16+R16+V16+Z16+AD16+AH16+AL16 -> 80 | AO16: =IF(AN16=0,0,G16*((J16*$E$5)+(N16*$F$5)+(R16*$G$5)+(V16*$H$5)+(Z16*$I$5)+(AD16*$J$6)+(AH16*$K$7)+(AL16*$L$8))) -> 4000 | AP16: =IF(AO16=0,0,G16*((K16*$E$5)+(O16*$F$5)+(S16*$G$5)+(W16*$H$5)+(AA16*$I$5)+(AE16*$J$6)+(AI16*$K$7)+(AM16*$L$8))) -> 2000 | AQ16: =G16*(AL16*$L$8) -> 0 | AR16: =ROUND(AO16/$N$4,2) -> 2.01 | AS16: =$Q$4 -> 2304 | AT16: =ROUND(AS16/160,2) -> 14.4 | AU16: =AO16*AT16 -> 57600 | AV16: =$AV$12*AT16*AP16 -> 21600 | AW16: =AT16*AQ16 -> 0 | AX16: =SUM(AU16:AW16) -> 79200
A17: D | B17: Pārējās slimnīcas | C17: Ārsts | D17: Dežūrārsts 8.00-8.00 (24h) | E17: 2 | F17: 24h | G17: 1 | AB17: 8 | AC17: 8 | AD17: =IF(AB17="",0,IF((AC17-AB17<=0),(24-AB17+AC17),(AC17-AB17))) -> 24 | AE17: 8 | AF17: 8 | AG17: 8 | AH17: =IF(AF17="",0,IF((AG17-AF17<=0),(24-AF17+AG17),(AG17-AF17))) -> 24 | AI17: 8 | AJ17: 8 | AK17: 8 | AL17: =IF(AJ17="",0,IF((AK17-AJ17<=0),(24-AJ17+AK17),(AK17-AJ17))) -> 24 | AM17: 8 | AN17: =J17+N17+R17+V17+Z17+AD17+AH17+AL17 -> 72 | AO17: =IF(AN17=0,0,G17*((J17*$E$5)+(N17*$F$5)+(R17*$G$5)+(V17*$H$5)+(Z17*$I$5)+(AD17*$J$6)+(AH17*$K$7)+(AL17*$L$8))) -> 2760 | AP17: =IF(AO17=0,0,G17*((K17*$E$5)+(O17*$F$5)+(S17*$G$5)+(W17*$H$5)+(AA17*$I$5)+(AE17*$J$6)+(AI17*$K$7)+(AM17*$L$8))) -> 920 | AQ17: =G17*(AL17*$L$8) -> 360 | AR17: =ROUND(AO17/$N$4,2) -> 1.38 | AS17: =$Q$4 -> 2304 | AT17: =ROUND(AS17/160,2) -> 14.4 | AU17: =AO17*AT17 -> 39744 | AV17: =$AV$12*AT17*AP17 -> 9936 | AW17: =AT17*AQ17 -> 5184 | AX17: =SUM(AU17:AW17) -> 54864
A18: U | B18: Pārējās slimnīcas | C18: Ārsts | D18: Speciālists 8.00-20.00 (12h) | E18: 7 | F18: 12h | G18: 1 | H18: 8 | I18: 20 | J18: =IF(H18="",0,IF((I18-H18<=0),(24-H18+I18),(I18-H18))) -> 12 | K18: 0 | L18: 8 | M18: 20 | N18: =IF(L18="",0,IF((M18-L18<=0),(24-L18+M18),(M18-L18))) -> 12 | O18: 0 | P18: 8 | Q18: 20 | R18: =IF(P18="",0,IF((Q18-P18<=0),(24-P18+Q18),(Q18-P18))) -> 12 | S18: 0 | T18: 8 | U18: 20 | V18: =IF(T18="",0,IF((U18-T18<=0),(24-T18+U18),(U18-T18))) -> 12 | W18: 0 | X18: 8 | Y18: 20 | Z18: =IF(X18="",0,IF((Y18-X18<=0),(24-X18+Y18),(Y18-X18))) -> 12 | AA18: 0 | AB18: 8 | AC18: 20 | AD18: =IF(AB18="",0,IF((AC18-AB18<=0),(24-AB18+AC18),(AC18-AB18))) -> 12 | AE18: 0 | AF18: 8 | AG18: 20 | AH18: =IF(AF18="",0,IF((AG18-AF18<=0),(24-AF18+AG18),(AG18-AF18))) -> 12 | AI18: 0 | AJ18: 8 | AK18: 20 | AL18: =IF(AJ18="",0,IF((AK18-AJ18<=0),(24-AJ18+AK18),(AK18-AJ18))) -> 12 | AM18: 0 | AN18: =J18+N18+R18+V18+Z18+AD18+AH18+AL18 -> 96 | AO18: =IF(AN18=0,0,G18*((J18*$E$5)+(N18*$F$5)+(R18*$G$5)+(V18*$H$5)+(Z18*$I$5)+(AD18*$J$6)+(AH18*$K$7)+(AL18*$L$8))) -> 4380 | AP18: =IF(AO18=0,0,G18*((K18*$E$5)+(O18*$F$5)+(S18*$G$5)+(W18*$H$5)+(AA18*$I$5)+(AE18*$J$6)+(AI18*$K$7)+(AM18*$L$8))) -> 0 | AQ18: =G18*(AL18*$L$8) -> 180 | AR18: =ROUND(AO18/$N$4,2) -> 2.2 | AS18: =$Q$4 -> 2304 | AT18: =ROUND(AS18/160,2) -> 14.4 | AU18: =AO18*AT18 -> 63072 | AV18: =AP18*AT18*$AV$12 -> 0 | AW18: =AQ18*AT18*$AW$12 -> 2592 | AX18: =SUM(AU18:AW18) -> 65664
A19: U | B19: Pārējās slimnīcas | C19: Ārsts | D19: Speciālists 8.00-8.00 (24h) | E19: 7 | F19: 24h | G19: 1 | H19: 8 | I19: 8 | J19: =IF(H19="",0,IF((I19-H19<=0),(24-H19+I19),(I19-H19))) -> 24 | K19: 8 | L19: 8 | M19: 8 | N19: =IF(L19="",0,IF((M19-L19<=0),(24-L19+M19),(M19-L19))) -> 24 | O19: 8 | P19: 8 | Q19: 8 | R19: =IF(P19="",0,IF((Q19-P19<=0),(24-P19+Q19),(Q19-P19))) -> 24 | S19: 8 | T19: 8 | U19: 8 | V19: =IF(T19="",0,IF((U19-T19<=0),(24-T19+U19),(U19-T19))) -> 24 | W19: 8 | X19: 8 | Y19: 8 | Z19: =IF(X19="",0,IF((Y19-X19<=0),(24-X19+Y19),(Y19-X19))) -> 24 | AA19: 8 | AB19: 8 | AC19: 8 | AD19: =IF(AB19="",0,IF((AC19-AB19<=0),(24-AB19+AC19),(AC19-AB19))) -> 24 | AE19: 8 | AF19: 8 | AG19: 8 | AH19: =IF(AF19="",0,IF((AG19-AF19<=0),(24-AF19+AG19),(AG19-AF19))) -> 24 | AI19: 8 | AJ19: 8 | AK19: 8 | AL19: =IF(AJ19="",0,IF((AK19-AJ19<=0),(24-AJ19+AK19),(AK19-AJ19))) -> 24 | AM19: 8 | AN19: =J19+N19+R19+V19+Z19+AD19+AH19+AL19 -> 192 | AO19: =IF(AN19=0,0,G19*((J19*$E$5)+(N19*$F$5)+(R19*$G$5)+(V19*$H$5)+(Z19*$I$5)+(AD19*$J$6)+(AH19*$K$7)+(AL19*$L$8))) -> 8760 | AP19: =IF(AO19=0,0,G19*((K19*$E$5)+(O19*$F$5)+(S19*$G$5)+(W19*$H$5)+(AA19*$I$5)+(AE19*$J$6)+(AI19*$K$7)+(AM19*$L$8))) -> 2920 | AQ19: =G19*(AL19*$L$8) -> 360 | AR19: =ROUND(AO19/$N$4,2) -> 4.39 | AS19: =$Q$4 -> 2304 | AT19: =ROUND(AS19/160,2) -> 14.4 | AU19: =AO19*AT19 -> 126144 | AV19: =AP19*AT19*$AV$12 -> 31536 | AW19: =AQ19*AT19*$AW$12 -> 5184 | AX19: =SUM(AU19:AW19) -> 162864
A20: D | B20: Pārējās slimnīcas | C20: Ārsts | D20: Radiologs (attālināti) 50% 16.00-8.00 (16h) | E20: 5 | F20: 16h | G20: 1 | H20: 16 | I20: 8 | J20: =IF(H20="",0,IF((I20-H20<=0),(24-H20+I20),(I20-H20))) -> 16 | K20: 8 | L20: 16 | M20: 8 | N20: =IF(L20="",0,IF((M20-L20<=0),(24-L20+M20),(M20-L20))) -> 16 | O20: 8 | P20: 16 | Q20: 8 | R20: =IF(P20="",0,IF((Q20-P20<=0),(24-P20+Q20),(Q20-P20))) -> 16 | S20: 8 | T20: 16 | U20: 8 | V20: =IF(T20="",0,IF((U20-T20<=0),(24-T20+U20),(U20-T20))) -> 16 | W20: 8 | X20: 16 | Y20: 8 | Z20: =IF(X20="",0,IF((Y20-X20<=0),(24-X20+Y20),(Y20-X20))) -> 16 | AA20: 8 | AD20: =IF(AB20="",0,IF((AC20-AB20<=0),(24-AB20+AC20),(AC20-AB20))) -> 0 | AH20: =IF(AF20="",0,IF((AG20-AF20<=0),(24-AF20+AG20),(AG20-AF20))) -> 0 | AL20: =IF(AJ20="",0,IF((AK20-AJ20<=0),(24-AJ20+AK20),(AK20-AJ20))) -> 0 | AN20: =J20+N20+R20+V20+Z20+AD20+AH20+AL20 -> 80 | AO20: =IF(AN20=0,0,G20*((J20*$E$5)+(N20*$F$5)+(R20*$G$5)+(V20*$H$5)+(Z20*$I$5)+(AD20*$J$6)+(AH20*$K$7)+(AL20*$L$8))) -> 4000 | AP20: =IF(AO20=0,0,G20*((K20*$E$5)+(O20*$F$5)+(S20*$G$5)+(W20*$H$5)+(AA20*$I$5)+(AE20*$J$6)+(AI20*$K$7)+(AM20*$L$8))) -> 2000 | AQ20: =G20*(AL20*$L$8) -> 0 | AR20: =ROUND(AO20/$N$4,2) -> 2.01 | AS20: =$Q$4*50% -> 1152 | AT20: =ROUND(AS20/160,2) -> 7.2 | AU20: =AO20*AT20 -> 28800 | AV20: =AP20*AT20*$AV$12 -> 10800 | AW20: =AQ20*AT20*$AW$12 -> 0 | AX20: =SUM(AU20:AW20) -> 39600
A21: D | B21: Pārējās slimnīcas | C21: Ārsts | D21: Radiologs (attālināti) 50% 8.00-8.00 (24h) | E21: 2 | F21: 24h | G21: 1 | AB21: 8 | AC21: 8 | AD21: =IF(AB21="",0,IF((AC21-AB21<=0),(24-AB21+AC21),(AC21-AB21))) -> 24 | AE21: 8 | AF21: 8 | AG21: 8 | AH21: =IF(AF21="",0,IF((AG21-AF21<=0),(24-AF21+AG21),(AG21-AF21))) -> 24 | AI21: 8 | AJ21: 8 | AK21: 8 | AL21: =IF(AJ21="",0,IF((AK21-AJ21<=0),(24-AJ21+AK21),(AK21-AJ21))) -> 24 | AM21: 8 | AN21: =J21+N21+R21+V21+Z21+AD21+AH21+AL21 -> 72 | AO21: =IF(AN21=0,0,G21*((J21*$E$5)+(N21*$F$5)+(R21*$G$5)+(V21*$H$5)+(Z21*$I$5)+(AD21*$J$6)+(AH21*$K$7)+(AL21*$L$8))) -> 2760 | AP21: =IF(AO21=0,0,G21*((K21*$E$5)+(O21*$F$5)+(S21*$G$5)+(W21*$H$5)+(AA21*$I$5)+(AE21*$J$6)+(AI21*$K$7)+(AM21*$L$8))) -> 920 | AQ21: =G21*(AL21*$L$8) -> 360 | AR21: =ROUND(AO21/$N$4,2) -> 1.38 | AS21: =$Q$4*50% -> 1152 | AT21: =ROUND(AS21/160,2) -> 7.2 | AU21: =AO21*AT21 -> 19872 | AV21: =AP21*AT21*$AV$12 -> 4968 | AW21: =AQ21*AT21*$AW$12 -> 2592 | AX21: =SUM(AU21:AW21) -> 27432
A22: D | B22: Pārējās slimnīcas | C22: Māsa, ārsta palīgs, vecmāte | D22: Radiologa asistents (attālināti) 50% 16.00-8.00 (16h) | E22: 5 | F22: 16h | G22: 1 | H22: 16 | I22: 8 | J22: =IF(H22="",0,IF((I22-H22<=0),(24-H22+I22),(I22-H22))) -> 16 | K22: 8 | L22: 16 | M22: 8 | N22: =IF(L22="",0,IF((M22-L22<=0),(24-L22+M22),(M22-L22))) -> 16 | O22: 8 | P22: 16 | Q22: 8 | R22: =IF(P22="",0,IF((Q22-P22<=0),(24-P22+Q22),(Q22-P22))) -> 16 | S22: 8 | T22: 16 | U22: 8 | V22: =IF(T22="",0,IF((U22-T22<=0),(24-T22+U22),(U22-T22))) -> 16 | W22: 8 | X22: 16 | Y22: 8 | Z22: =IF(X22="",0,IF((Y22-X22<=0),(24-X22+Y22),(Y22-X22))) -> 16 | AA22: 8 | AD22: =IF(AB22="",0,IF((AC22-AB22<=0),(24-AB22+AC22),(AC22-AB22))) -> 0 | AH22: =IF(AF22="",0,IF((AG22-AF22<=0),(24-AF22+AG22),(AG22-AF22))) -> 0 | AL22: =IF(AJ22="",0,IF((AK22-AJ22<=0),(24-AJ22+AK22),(AK22-AJ22))) -> 0 | AN22: =J22+N22+R22+V22+Z22+AD22+AH22+AL22 -> 80 | AO22: =IF(AN22=0,0,G22*((J22*$E$5)+(N22*$F$5)+(R22*$G$5)+(V22*$H$5)+(Z22*$I$5)+(AD22*$J$6)+(AH22*$K$7)+(AL22*$L$8))) -> 4000 | AP22: =IF(AO22=0,0,G22*((K22*$E$5)+(O22*$F$5)+(S22*$G$5)+(W22*$H$5)+(AA22*$I$5)+(AE22*$J$6)+(AI22*$K$7)+(AM22*$L$8))) -> 2000 | AQ22: =G22*(AL22*$L$8) -> 0 | AR22: =ROUND(AO22/$N$4,2) -> 2.01 | AS22: =$R$4*50% -> 694 | AT22: =ROUND(AS22/160,2) -> 4.34 | AU22: =AO22*AT22 -> 17360 | AV22: =AP22*AT22*$AV$12 -> 6510 | AW22: =AQ22*AT22*$AW$12 -> 0 | AX22: =SUM(AU22:AW22) -> 23870
A23: D | B23: Pārējās slimnīcas | C23: Māsa, ārsta palīgs, vecmāte | D23: Radiologa asistents (attālināti) 50% 8.00-8.00 (24h) | E23: 2 | F23: 24h | G23: 1 | AB23: 8 | AC23: 8 | AD23: =IF(AB23="",0,IF((AC23-AB23<=0),(24-AB23+AC23),(AC23-AB23))) -> 24 | AE23: 8 | AF23: 8 | AG23: 8 | AH23: =IF(AF23="",0,IF((AG23-AF23<=0),(24-AF23+AG23),(AG23-AF23))) -> 24 | AI23: 8 | AJ23: 8 | AK23: 8 | AL23: =IF(AJ23="",0,IF((AK23-AJ23<=0),(24-AJ23+AK23),(AK23-AJ23))) -> 24 | AM23: 8 | AN23: =J23+N23+R23+V23+Z23+AD23+AH23+AL23 -> 72 | AO23: =IF(AN23=0,0,G23*((J23*$E$5)+(N23*$F$5)+(R23*$G$5)+(V23*$H$5)+(Z23*$I$5)+(AD23*$J$6)+(AH23*$K$7)+(AL23*$L$8))) -> 2760 | AP23: =IF(AO23=0,0,G23*((K23*$E$5)+(O23*$F$5)+(S23*$G$5)+(W23*$H$5)+(AA23*$I$5)+(AE23*$J$6)+(AI23*$K$7)+(AM23*$L$8))) -> 920 | AQ23: =G23*(AL23*$L$8) -> 360 | AR23: =ROUND(AO23/$N$4,2) -> 1.38 | AS23: =$R$4*50% -> 694 | AT23: =ROUND(AS23/160,2) -> 4.34 | AU23: =AO23*AT23 -> 11978.4 | AV23: =AP23*AT23*$AV$12 -> 2994.6 | AW23: =AQ23*AT23*$AW$12 -> 1562.4 | AX23: =SUM(AU23:AW23) -> 16535.4
A24: U | B24: Pārējās slimnīcas | C24: Ārsts | D24: Speciālists mājas dežūrā 10% | E24: 5 | F24: 8h | G24: 1 | H24: 8 | I24: 16 | J24: =IF(H24="",0,IF((I24-H24<=0),(24-H24+I24),(I24-H24))) -> 8 | K24: 0 | L24: 8 | M24: 16 | N24: =IF(L24="",0,IF((M24-L24<=0),(24-L24+M24),(M24-L24))) -> 8 | O24: 0 | P24: 8 | Q24: 16 | R24: =IF(P24="",0,IF((Q24-P24<=0),(24-P24+Q24),(Q24-P24))) -> 8 | S24: 0 | T24: 8 | U24: 16 | V24: =IF(T24="",0,IF((U24-T24<=0),(24-T24+U24),(U24-T24))) -> 8 | W24: 0 | X24: 8 | Y24: 16 | Z24: =IF(X24="",0,IF((Y24-X24<=0),(24-X24+Y24),(Y24-X24))) -> 8 | AA24: 0 | AN24: =J24+N24+R24+V24+Z24+AD24+AH24+AL24 -> 40 | AO24: =IF(AN24=0,0,G24*((J24*$E$5)+(N24*$F$5)+(R24*$G$5)+(V24*$H$5)+(Z24*$I$5)+(AD24*$J$6)+(AH24*$K$7)+(AL24*$L$8))) -> 2000 | AP24: =IF(AO24=0,0,G24*((K24*$E$5)+(O24*$F$5)+(S24*$G$5)+(W24*$H$5)+(AA24*$I$5)+(AE24*$J$6)+(AI24*$K$7)+(AM24*$L$8))) -> 0 | AQ24: =G24*(AL24*$L$8) -> 0 | AR24: =ROUND(AO24/$N$4,2) -> 1 | AS24: =$Q$4*10% -> 230.4 | AT24: =ROUND(AS24/160,2) -> 1.44 | AU24: =AO24*AT24 -> 2880 | AV24: =AP24*AT24*$AV$12 -> 0 | AW24: =AQ24*AT24*$AW$12 -> 0 | AX24: =SUM(AU24:AW24) -> 2880
A25: U | B25: Pārējās slimnīcas | C25: Māsa, ārsta palīgs, vecmāte | D25: Radiologa asistents/radiogrāfers | E25: 7 | F25: 24h | G25: 1 | H25: 8 | I25: 8 | J25: =IF(H25="",0,IF((I25-H25<=0),(24-H25+I25),(I25-H25))) -> 24 | K25: 8 | L25: 8 | M25: 8 | N25: =IF(L25="",0,IF((M25-L25<=0),(24-L25+M25),(M25-L25))) -> 24 | O25: 8 | P25: 8 | Q25: 8 | R25: =IF(P25="",0,IF((Q25-P25<=0),(24-P25+Q25),(Q25-P25))) -> 24 | S25: 8 | T25: 8 | U25: 8 | V25: =IF(T25="",0,IF((U25-T25<=0),(24-T25+U25),(U25-T25))) -> 24 | W25: 8 | X25: 8 | Y25: 8 | Z25: =IF(X25="",0,IF((Y25-X25<=0),(24-X25+Y25),(Y25-X25))) -> 24 | AA25: 8 | AB25: 8 | AC25: 8 | AD25: =IF(AB25="",0,IF((AC25-AB25<=0),(24-AB25+AC25),(AC25-AB25))) -> 24 | AE25: 8 | AF25: 8 | AG25: 8 | AH25: =IF(AF25="",0,IF((AG25-AF25<=0),(24-AF25+AG25),(AG25-AF25))) -> 24 | AI25: 8 | AJ25: 8 | AK25: 8 | AL25: =IF(AJ25="",0,IF((AK25-AJ25<=0),(24-AJ25+AK25),(AK25-AJ25))) -> 24 | AM25: 8 | AN25: =J25+N25+R25+V25+Z25+AD25+AH25+AL25 -> 192 | AO25: =IF(AN25=0,0,G25*((J25*$E$5)+(N25*$F$5)+(R25*$G$5)+(V25*$H$5)+(Z25*$I$5)+(AD25*$J$6)+(AH25*$K$7)+(AL25*$L$8))) -> 8760 | AP25: =IF(AO25=0,0,G25*((K25*$E$5)+(O25*$F$5)+(S25*$G$5)+(W25*$H$5)+(AA25*$I$5)+(AE25*$J$6)+(AI25*$K$7)+(AM25*$L$8))) -> 2920 | AQ25: =G25*(AL25*$L$8) -> 360 | AR25: =ROUND(AO25/$N$4,2) -> 4.39 | AS25: =$R$4 -> 1388 | AT25: =ROUND(AS25/160,2) -> 8.68 | AU25: =AO25*AT25 -> 76036.8 | AV25: =AP25*AT25*$AV$12 -> 19009.2 | AW25: =AQ25*AT25*$AW$12 -> 3124.8 | AX25: =SUM(AU25:AW25) -> 98170.8
A26: U | B26: Pārējās slimnīcas | C26: Māsa, ārsta palīgs, vecmāte | D26: Speciālists 8.00-20.00 (12h) | E26: 7 | F26: 12h | G26: 1 | H26: 8 | I26: 20 | J26: =IF(H26="",0,IF((I26-H26<=0),(24-H26+I26),(I26-H26))) -> 12 | K26: 0 | L26: 8 | M26: 20 | N26: =IF(L26="",0,IF((M26-L26<=0),(24-L26+M26),(M26-L26))) -> 12 | O26: 0 | P26: 8 | Q26: 20 | R26: =IF(P26="",0,IF((Q26-P26<=0),(24-P26+Q26),(Q26-P26))) -> 12 | S26: 0 | T26: 8 | U26: 20 | V26: =IF(T26="",0,IF((U26-T26<=0),(24-T26+U26),(U26-T26))) -> 12 | W26: 0 | X26: 8 | Y26: 20 | Z26: =IF(X26="",0,IF((Y26-X26<=0),(24-X26+Y26),(Y26-X26))) -> 12 | AA26: 0 | AB26: 8 | AC26: 20 | AD26: =IF(AB26="",0,IF((AC26-AB26<=0),(24-AB26+AC26),(AC26-AB26))) -> 12 | AE26: 0 | AF26: 8 | AG26: 20 | AH26: =IF(AF26="",0,IF((AG26-AF26<=0),(24-AF26+AG26),(AG26-AF26))) -> 12 | AI26: 0 | AJ26: 8 | AK26: 20 | AL26: =IF(AJ26="",0,IF((AK26-AJ26<=0),(24-AJ26+AK26),(AK26-AJ26))) -> 12 | AM26: 0 | AN26: =J26+N26+R26+V26+Z26+AD26+AH26+AL26 -> 96 | AO26: =IF(AN26=0,0,G26*((J26*$E$5)+(N26*$F$5)+(R26*$G$5)+(V26*$H$5)+(Z26*$I$5)+(AD26*$J$6)+(AH26*$K$7)+(AL26*$L$8))) -> 4380 | AP26: =IF(AO26=0,0,G26*((K26*$E$5)+(O26*$F$5)+(S26*$G$5)+(W26*$H$5)+(AA26*$I$5)+(AE26*$J$6)+(AI26*$K$7)+(AM26*$L$8))) -> 0 | AQ26: =G26*(AL26*$L$8) -> 180 | AR26: =ROUND(AO26/$N$4,2) -> 2.2 | AS26: =$R$4 -> 1388 | AT26: =ROUND(AS26/160,2) -> 8.68 | AU26: =AO26*AT26 -> 38018.4 | AV26: =AP26*AT26*$AV$12 -> 0 | AW26: =AQ26*AT26*$AW$12 -> 1562.4 | AX26: =SUM(AU26:AW26) -> 39580.8
A27: U | B27: Pārējās slimnīcas | C27: Māsa, ārsta palīgs, vecmāte | D27: Speciālists 8.00-8.00 (24h) | E27: 7 | F27: 24h | G27: 1 | H27: 8 | I27: 8 | J27: =IF(H27="",0,IF((I27-H27<=0),(24-H27+I27),(I27-H27))) -> 24 | K27: 8 | L27: 8 | M27: 8 | N27: =IF(L27="",0,IF((M27-L27<=0),(24-L27+M27),(M27-L27))) -> 24 | O27: 8 | P27: 8 | Q27: 8 | R27: =IF(P27="",0,IF((Q27-P27<=0),(24-P27+Q27),(Q27-P27))) -> 24 | S27: 8 | T27: 8 | U27: 8 | V27: =IF(T27="",0,IF((U27-T27<=0),(24-T27+U27),(U27-T27))) -> 24 | W27: 8 | X27: 8 | Y27: 8 | Z27: =IF(X27="",0,IF((Y27-X27<=0),(24-X27+Y27),(Y27-X27))) -> 24 | AA27: 8 | AB27: 8 | AC27: 8 | AD27: =IF(AB27="",0,IF((AC27-AB27<=0),(24-AB27+AC27),(AC27-AB27))) -> 24 | AE27: 8 | AF27: 8 | AG27: 8 | AH27: =IF(AF27="",0,IF((AG27-AF27<=0),(24-AF27+AG27),(AG27-AF27))) -> 24 | AI27: 8 | AJ27: 8 | AK27: 8 | AL27: =IF(AJ27="",0,IF((AK27-AJ27<=0),(24-AJ27+AK27),(AK27-AJ27))) -> 24 | AM27: 8 | AN27: =J27+N27+R27+V27+Z27+AD27+AH27+AL27 -> 192 | AO27: =IF(AN27=0,0,G27*((J27*$E$5)+(N27*$F$5)+(R27*$G$5)+(V27*$H$5)+(Z27*$I$5)+(AD27*$J$6)+(AH27*$K$7)+(AL27*$L$8))) -> 8760 | AP27: =IF(AO27=0,0,G27*((K27*$E$5)+(O27*$F$5)+(S27*$G$5)+(W27*$H$5)+(AA27*$I$5)+(AE27*$J$6)+(AI27*$K$7)+(AM27*$L$8))) -> 2920 | AQ27: =G27*(AL27*$L$8) -> 360 | AR27: =ROUND(AO27/$N$4,2) -> 4.39 | AS27: =$R$4 -> 1388 | AT27: =ROUND(AS27/160,2) -> 8.68 | AU27: =AO27*AT27 -> 76036.8 | AV27: =AP27*AT27*$AV$12 -> 19009.2 | AW27: =AQ27*AT27*$AW$12 -> 3124.8 | AX27: =SUM(AU27:AW27) -> 98170.8
A28: D | B28: Pārējās slimnīcas | C28: Māsa, ārsta palīgs, vecmāte | D28: Dežūrvecmāte 16.00-8.00 (16h) | E28: 5 | F28: 16h | G28: 1 | H28: 16 | I28: 8 | J28: =IF(H28="",0,IF((I28-H28<=0),(24-H28+I28),(I28-H28))) -> 16 | K28: 8 | L28: 16 | M28: 8 | N28: =IF(L28="",0,IF((M28-L28<=0),(24-L28+M28),(M28-L28))) -> 16 | O28: 8 | P28: 16 | Q28: 8 | R28: =IF(P28="",0,IF((Q28-P28<=0),(24-P28+Q28),(Q28-P28))) -> 16 | S28: 8 | T28: 16 | U28: 8 | V28: =IF(T28="",0,IF((U28-T28<=0),(24-T28+U28),(U28-T28))) -> 16 | W28: 8 | X28: 16 | Y28: 8 | Z28: =IF(X28="",0,IF((Y28-X28<=0),(24-X28+Y28),(Y28-X28))) -> 16 | AA28: 8 | AD28: =IF(AB28="",0,IF((AC28-AB28<=0),(24-AB28+AC28),(AC28-AB28))) -> 0 | AH28: =IF(AF28="",0,IF((AG28-AF28<=0),(24-AF28+AG28),(AG28-AF28))) -> 0 | AL28: =IF(AJ28="",0,IF((AK28-AJ28<=0),(24-AJ28+AK28),(AK28-AJ28))) -> 0 | AN28: =J28+N28+R28+V28+Z28+AD28+AH28+AL28 -> 80 | AO28: =IF(AN28=0,0,G28*((J28*$E$5)+(N28*$F$5)+(R28*$G$5)+(V28*$H$5)+(Z28*$I$5)+(AD28*$J$6)+(AH28*$K$7)+(AL28*$L$8))) -> 4000 | AP28: =IF(AO28=0,0,G28*((K28*$E$5)+(O28*$F$5)+(S28*$G$5)+(W28*$H$5)+(AA28*$I$5)+(AE28*$J$6)+(AI28*$K$7)+(AM28*$L$8))) -> 2000 | AQ28: =G28*(AL28*$L$8) -> 0 | AR28: =ROUND(AO28/$N$4,2) -> 2.01 | AS28: =$R$4 -> 1388 | AT28: =ROUND(AS28/160,2) -> 8.68 | AU28: =AO28*AT28 -> 34720 | AV28: =AP28*AT28*$AV$12 -> 13020 | AW28: =AQ28*AT28*$AW$12 -> 0 | AX28: =SUM(AU28:AW28) -> 47740
A29: D | B29: Pārējās slimnīcas | C29: Māsa, ārsta palīgs, vecmāte | D29: Dežūrvecmāte 8.00-8.00 (24h) | E29: 2 | F29: 24h | G29: 1 | AB29: 8 | AC29: 8 | AD29: =IF(AB29="",0,IF((AC29-AB29<=0),(24-AB29+AC29),(AC29-AB29))) -> 24 | AE29: 8 | AF29: 8 | AG29: 8 | AH29: =IF(AF29="",0,IF((AG29-AF29<=0),(24-AF29+AG29),(AG29-AF29))) -> 24 | AI29: 8 | AJ29: 8 | AK29: 8 | AL29: =IF(AJ29="",0,IF((AK29-AJ29<=0),(24-AJ29+AK29),(AK29-AJ29))) -> 24 | AM29: 8 | AN29: =J29+N29+R29+V29+Z29+AD29+AH29+AL29 -> 72 | AO29: =IF(AN29=0,0,G29*((J29*$E$5)+(N29*$F$5)+(R29*$G$5)+(V29*$H$5)+(Z29*$I$5)+(AD29*$J$6)+(AH29*$K$7)+(AL29*$L$8))) -> 2760 | AP29: =IF(AO29=0,0,G29*((K29*$E$5)+(O29*$F$5)+(S29*$G$5)+(W29*$H$5)+(AA29*$I$5)+(AE29*$J$6)+(AI29*$K$7)+(AM29*$L$8))) -> 920 | AQ29: =G29*(AL29*$L$8) -> 360 | AR29: =ROUND(AO29/$N$4,2) -> 1.38 | AS29: =$R$4 -> 1388 | AT29: =ROUND(AS29/160,2) -> 8.68 | AU29: =AO29*AT29 -> 23956.8 | AV29: =AP29*AT29*$AV$12 -> 5989.2 | AW29: =AQ29*AT29*$AW$12 -> 3124.8 | AX29: =SUM(AU29:AW29) -> 33070.8
A30: U | B30: Pārējās slimnīcas | C30: Māsas palīgs | D30: Speciālists 8.00-20.00 (12h) | E30: 7 | F30: 12h | G30: 1 | H30: 8 | I30: 20 | J30: =IF(H30="",0,IF((I30-H30<=0),(24-H30+I30),(I30-H30))) -> 12 | K30: 0 | L30: 8 | M30: 20 | N30: =IF(L30="",0,IF((M30-L30<=0),(24-L30+M30),(M30-L30))) -> 12 | O30: 0 | P30: 8 | Q30: 20 | R30: =IF(P30="",0,IF((Q30-P30<=0),(24-P30+Q30),(Q30-P30))) -> 12 | S30: 0 | T30: 8 | U30: 20 | V30: =IF(T30="",0,IF((U30-T30<=0),(24-T30+U30),(U30-T30))) -> 12 | W30: 0 | X30: 8 | Y30: 20 | Z30: =IF(X30="",0,IF((Y30-X30<=0),(24-X30+Y30),(Y30-X30))) -> 12 | AA30: 0 | AB30: 8 | AC30: 20 | AD30: =IF(AB30="",0,IF((AC30-AB30<=0),(24-AB30+AC30),(AC30-AB30))) -> 12 | AE30: 0 | AF30: 8 | AG30: 20 | AH30: =IF(AF30="",0,IF((AG30-AF30<=0),(24-AF30+AG30),(AG30-AF30))) -> 12 | AI30: 0 | AJ30: 8 | AK30: 20 | AL30: =IF(AJ30="",0,IF((AK30-AJ30<=0),(24-AJ30+AK30),(AK30-AJ30))) -> 12 | AM30: 0 | AN30: =J30+N30+R30+V30+Z30+AD30+AH30+AL30 -> 96 | AO30: =IF(AN30=0,0,G30*((J30*$E$5)+(N30*$F$5)+(R30*$G$5)+(V30*$H$5)+(Z30*$I$5)+(AD30*$J$6)+(AH30*$K$7)+(AL30*$L$8))) -> 4380 | AP30: =IF(AO30=0,0,G30*((K30*$E$5)+(O30*$F$5)+(S30*$G$5)+(W30*$H$5)+(AA30*$I$5)+(AE30*$J$6)+(AI30*$K$7)+(AM30*$L$8))) -> 0 | AQ30: =G30*(AL30*$L$8) -> 180 | AR30: =ROUND(AO30/$N$4,2) -> 2.2 | AS30: =$S$4 -> 925 | AT30: =ROUND(AS30/160,2) -> 5.78 | AU30: =AO30*AT30 -> 25316.4 | AV30: =AP30*AT30*$AV$12 -> 0 | AW30: =AQ30*AT30*$AW$12 -> 1040.4 | AX30: =SUM(AU30:AW30) -> 26356.8
A31: U | B31: Pārējās slimnīcas | C31: Māsas palīgs | D31: Speciālists 8.00-8.00 (24h) | E31: 7 | F31: 24h | G31: 1 | H31: 8 | I31: 8 | J31: =IF(H31="",0,IF((I31-H31<=0),(24-H31+I31),(I31-H31))) -> 24 | K31: 8 | L31: 8 | M31: 8 | N31: =IF(L31="",0,IF((M31-L31<=0),(24-L31+M31),(M31-L31))) -> 24 | O31: 8 | P31: 8 | Q31: 8 | R31: =IF(P31="",0,IF((Q31-P31<=0),(24-P31+Q31),(Q31-P31))) -> 24 | S31: 8 | T31: 8 | U31: 8 | V31: =IF(T31="",0,IF((U31-T31<=0),(24-T31+U31),(U31-T31))) -> 24 | W31: 8 | X31: 8 | Y31: 8 | Z31: =IF(X31="",0,IF((Y31-X31<=0),(24-X31+Y31),(Y31-X31))) -> 24 | AA31: 8 | AB31: 8 | AC31: 8 | AD31: =IF(AB31="",0,IF((AC31-AB31<=0),(24-AB31+AC31),(AC31-AB31))) -> 24 | AE31: 8 | AF31: 8 | AG31: 8 | AH31: =IF(AF31="",0,IF((AG31-AF31<=0),(24-AF31+AG31),(AG31-AF31))) -> 24 | AI31: 8 | AJ31: 8 | AK31: 8 | AL31: =IF(AJ31="",0,IF((AK31-AJ31<=0),(24-AJ31+AK31),(AK31-AJ31))) -> 24 | AM31: 8 | AN31: =J31+N31+R31+V31+Z31+AD31+AH31+AL31 -> 192 | AO31: =IF(AN31=0,0,G31*((J31*$E$5)+(N31*$F$5)+(R31*$G$5)+(V31*$H$5)+(Z31*$I$5)+(AD31*$J$6)+(AH31*$K$7)+(AL31*$L$8))) -> 8760 | AP31: =IF(AO31=0,0,G31*((K31*$E$5)+(O31*$F$5)+(S31*$G$5)+(W31*$H$5)+(AA31*$I$5)+(AE31*$J$6)+(AI31*$K$7)+(AM31*$L$8))) -> 2920 | AQ31: =G31*(AL31*$L$8) -> 360 | AR31: =ROUND(AO31/$N$4,2) -> 4.39 | AS31: =$S$4 -> 925 | AT31: =ROUND(AS31/160,2) -> 5.78 | AU31: =AO31*AT31 -> 50632.8 | AV31: =AP31*AT31*$AV$12 -> 12658.2 | AW31: =AQ31*AT31*$AW$12 -> 2080.8 | AX31: =SUM(AU31:AW31) -> 65371.8
