Workbook

Sheet KOPSAVILKUMS
C1: 2.1. Pielikums MK rīkojumu projekta "Par apropriācijas pārdali" anotācijai
A3: Pieejamais un indikatīvi prognozētais finansējums ambulatorajai ārstēšanai paredzēto zāļu un medicīnisko ierīču iegādes izdevumu kompensācijai 2026. gadā
B5: Pieejamais finansējums kompensējamo medikamentu apmaksi uz 2026. gada 8. oktobri, tai skaitā ņemot vērā arī plānotās pārdales (tai skaitā no apakšprogrammas 33.19.00 “Krievijas Federācijas militāro pensionāru veselības aprūpe” novirzītais finansējuma apjoms), euro | C5: Indikatīvi prognozējamais kopējais nepieciešamais finansējums 2026.gadā kompensējamo medikamentu apmaksai 11 mēnešiem, balstoties uz 8 mēnešu izpildes datiem (+ norēķini par 2025.gada saistībām), euro | D5: Finanšu līdzekļu iztrūkums -/pārpalikums + 2026. gadā, euro | E5: Plānotā pārdale VM esošā budžeta ietvaros no indikatīvi prognozētās PP neizpildes 2026. gadā, euro | F5: Indikatīvi prognozējamais deficīts uz 2026. gada beigām pēc papildus finansējuma pārdales no LNG, euro
A6: Kompensējamo medikamentu un materiālu apmaksāšana | B6: =Apro_pārdale_PP!C7 -> 343988593 | C6: =Apro_pārdale_PP!J7 -> 363478221 | D6: =B6-C6 -> -19489628 | E6: =Apro_pārdale_PP!M7 -> 6026509 | F6: =D6+E6 -> -13463119

Sheet Finans_kompens_med
C1: 2.2. Pielikums MK rīkojumu projekta "Par apropriācijas pārdali" anotācijai
A3: Kopējais finansējums ambulatorajai ārstēšanai paredzēto zāļu un medicīnisko ierīču iegādes izdevumu kompensācijai 2018.-2026.gadā
A5: Gads | B5: Plānotais finansējums uz gada sākumu atbilstoši kārtējā gada likumam par valsts budžetu (tai skaitā no apakšprogrammas 33.19.00 “Krievijas Federācijas militāro pensionāru veselības aprūpe” novirzītais finansējuma apjoms), euro | C5: Finansējums gada noslēgumā atbilstoši kārtējā gada likumam par valsts budžetu un FM rīkojumiem (tai skaitā no apakšprogrammas 33.19.00 “Krievijas Federācijas militāro pensionāru veselības aprūpe” novirzītais finansējuma apjoms, papildu piešķirtais apakšprogrammā 99.00.00 "Līdzekļi neparedzētiem gadījumiem" un NVD iekšējās pārdales), euro | D5: Pieaugums gada noslēgumā pret gada sākumā plānoto finansējumu, % | E5: Pieaugums gada noslēgumā pret iepriekšējā gada noslēgumu, %
A6: 2018 | B6: 130960039 | C6: 173775430 | D6: =((C6-B6)/B6)*100 -> 32.693478 | E6: -
A7: 2019 | B7: 166500454 | C7: 181686924 | D7: =((C7-B7)/B7)*100 -> 9.1209781 | E7: =((C7-C6)/C6)*100 -> 4.5527115
A8: 2020 | B8: 168667008 | C8: 184237688 | D8: =((C8-B8)/B8)*100 -> 9.2316098 | E8: =((C8-C7)/C7)*100 -> 1.4039337
A9: 2021 | B9: 171198831 | C9: 197228956 | D9: =((C9-B9)/B9)*100 -> 15.204616 | E9: =((C9-C8)/C8)*100 -> 7.0513629
A10: 2022 | B10: 192461047 | C10: 223170202 | D10: =((C10-B10)/B10)*100 -> 15.956037 | E10: =((C10-C9)/C9)*100 -> 13.152859
A11: 2023 | B11: 219458919 | C11: 269839859 | D11: =((C11-B11)/B11)*100 -> 22.956889 | E11: =((C11-C10)/C10)*100 -> 20.912136
A12: 2024 | B12: =[1]Medikamenti!B35 -> 221407809 | C12: 292889552 | D12: =((C12-B12)/B12)*100 -> 32.285105 | E12: =((C12-C11)/C11)*100 -> 8.5419897
A13: 2025 | B13: =307815686+245497 -> 308061183 | C13: =321670395+245497+10776207 -> 332692099 | D13: =((C13-B13)/B13)*100 -> 7.9954624 | E13: =((C13-C12)/C12)*100 -> 13.58961
A14: 2026* | B14: =324998254+Apro_pārdale_PP!C16 -> 326149536 | C14: =Apro_pārdale_PP!J7+Apro_pārdale_PP!I7 -> 394372344 | D14: =((C14-B14)/B14)*100 -> 20.917647 | E14: =((C14-C13)/C13)*100 -> 18.539738
A16: * Indikatīvā prognoze 2026. gada faktiskajam finansējuma izlietojumam kompensējamo medikamentu apmaksai

Sheet Apro_pārdale_PP
H1: 2.3. Pielikums MK rīkojumu projekta "Par apropriācijas pārdali" anotācijai
A3: Papildus nepieciešamais finansējums kompensējamiem medikamentu pieejamībai 2026.gadam
G4: =J8-F8 -> 92682369
C5: VM budžetā 2026. gadā pieejamais finansējums kompensējamo medikamentu apmaksai, euro | D5: Izpilde | H5: Naudas plūsma
D6: Norēķini par 2025.gada saistībām, kas apmaksāti 2026. gadā, euro | E6: Faktiskā izpilde 2026.gada 8 mēnešos, euro | F6: Kopā izdevumi 2026. gada 8 mēnešos, ņemot vērā iepriekšējā gada saistības, euro | G6: Apgūtais finansējums 2026. gada 8 mēnešos no kopējā, % | H6: Indikatīvi prognozētais finansējums 2026. gada 11 mēnešiem, euro | I6: Indikatīvi prognozētais finansējums 2026. gada decembrim, euro ** | J6: Indikatīvi prognozējamais kopējais nepieciešamais finansējums 2026.gadā kompensējamo medikamentu apmaksai 11 mēnešiem, balstoties uz 8 mēnešu izpildes datiem (+ norēķini par 2025.gada saistībām), euro | K6: Finanšu līdzekļu iztrūkums -/pārpalikums un plānotie papildus finansēšanas avoti 2026. gadā, euro | L6: Kopējais finanšu līdzekļu iztrūkums -/pārpalikums 2026. gadā, ņemot vērā plānotās pārdales, euro | M6: Papildus novirzāmais finansējums no PP indikatīvi prognozētajām neizpildēm 2026. gadā (no citām apakšprogrammām), euro *** | N6: Indikatīvi prognozējamais deficīts uz 2026. gada beigām pēc papildus finansējuma pārdales, euro
A7: KOPĀ | C7: =SUM(C8+C16+C17+C18) -> 343988593 | D7: =SUM(D8+D16) -> 22491587 | E7: =SUM(E8+E16) -> 247366208 | F7: =SUM(D7:E7) -> 269857795 | G7: =SUM(F7)/C7 -> 0.78449635 | H7: =H10+H11+H16 -> 340986634 | I7: =I10+I11 -> 30894123 | J7: =SUM(J8+J16) -> 363478221 | L7: =C7-J7 -> -19489628 | M7: 6026509 | N7: =L7+M7 -> -13463119
A8: Budžeta apakšprogramma 33.03.00 "Kompensējamo medikamentu un materiālu apmaksāšana"* | C8: =304159563+25441477 -> 329601040 | D8: =SUM(D11+D10) -> 22491587 | E8: =SUM(E11+E10) -> 247152983 | F8: =SUM(F11+F10) -> 269644570 | G8: =SUM(F8/C8) -> 0.81809381 | H8: =H10+H11 -> 339835352 | J8: =SUM(J11+J10) -> 362326939 | K8: =C8-J8 -> -32725899
A9: no tā:
A10: Kompensējamo medikamentu un materiālu apmaksai | C10: =C8-C11 -> 310650263 | D10: 21901614 | E10: 236648376 | F10: =SUM(D10:E10) -> 258549990 | G10: =SUM(F10/C10) -> 0.8322864 | H10: =ROUND(E10/8*11,0) -> 325391517 | I10: =ROUND(E10/8*1,0) -> 29581047 | J10: =H10+D10 -> 347293131
A11: Maksājums aptiekām par farmaceita pakalpojumu | C11: =SUM(C13:C15) -> 18950777 | D11: 589973 | E11: 10504607 | F11: =SUM(D11:E11) -> 11094580 | G11: =SUM(F11/C11) -> 0.58544196 | H11: =ROUND(E11/8*11,0) -> 14443835 | I11: =ROUND(E11/8*1,0) -> 1313076 | J11: =H11+D11 -> 15033808
A12: tai skaitā farmaceita pakalpojumam:
A13: NVD esošā finansējuma ietvaros (prognozētais ietaupījums no zāļu reformas) | C13: 5647209
A14: 2024-2026 prioritārā pasākuma "Veselības aprūpes pakalpojumu pieejamības un kvalitātes uzlabošana" apakšpasākums "Jaunā zāļu uzcenojuma modeļa ieviešana" | C14: 9482256
A15: 2026-2028 prioritārais pasākums "Medikamentu pieejamības stiprināšana medikamentu cenu segmentā līdz 10 euro un invalīdiem (farmācijas pakalpojuma līdzfinansējuma korekcija)" | C15: 3821312
A16: Budžeta apakšprogramma 33.19.00 "Krievijas Federācijas militāro pensionāru veselības aprūpe" (no Krievijas Federācijas līdzekļiem) | C16: 1151282 | E16: 213225 | F16: =SUM(D16:E16) -> 213225 | G16: =SUM(F16/C16) -> 0.18520658 | H16: =C16 -> 1151282 | J16: =C16 -> 1151282 | K16: =C16-J16 -> 0
A17: Papildus finansējums no LNG - Ministru kabineta 20.10.2026 rīkojums Nr. 669 (prot. Nr. 59 13. §) | C17: 5000000 | K17: =C17-J17 -> 5000000 | Q17: `
A18: Pašu ieņēmumu palielinājums un apropriācijas pārdales starp budžeta apakšprogrammām (plānots iesniegt FM) | C18: 8236271 | K18: =C18-J18 -> 8236271
A20: * Finansējums kompensējamo medikamentu apmaksai KZS sistēmas ietvaros, izņemot finansējums, kas piešķirts ar Ministru kabineta 2026. gada 19. augusta rīkojumu Nr.496 (prot. Nr.46 19.§) - 157 923 EUR apmērā, lai segtu izdevumus, kas radušies saistībā ar atbalsta sniegšanu Ukrainas civiliedzīvotājiem Latvijas Republikā. Finansējums piešķirts un izlietots noteiktam mērķim.
A21: ** Norēķini par decembri veicami nākamajā gadā
A22: *** Ar finansējuma apjomu 6 026 509 euro apmērā varēs apmaksāt ≈ 138 254 receptes (aprēķins: 6 026 509 euro / 43,59 euro (2026. gada jūlija vienas receptes vidējā cena))
