Workbook
Name q: #REF!
Name q: #REF!
Name q: #REF!
Name q: #REF!
Name ssss: #REF!
Name ssss: #REF!
Name ssss: #REF!
Name ssss: #REF!
Name Valsts_policijas_amatpersonas_ar_speciālo_dienesta_pakāpi_dalība_Eiropas_Savienības_policijas_misijā_Gruzijā__EUMM_GEORGIA_________M.Štange__līdz_2019.gada_28.februārim: #REF!
Name Valsts_policijas_amatpersonas_ar_speciālo_dienesta_pakāpi_dalība_Eiropas_Savienības_policijas_misijā_Gruzijā__EUMM_GEORGIA_________M.Štange__līdz_2019.gada_28.februārim: #REF!
Name Valsts_policijas_amatpersonas_ar_speciālo_dienesta_pakāpi_dalība_Eiropas_Savienības_policijas_misijā_Gruzijā__EUMM_GEORGIA_________M.Štange__līdz_2019.gada_28.februārim: #REF!
Name Valsts_policijas_amatpersonas_ar_speciālo_dienesta_pakāpi_dalība_Eiropas_Savienības_policijas_misijā_Gruzijā__EUMM_GEORGIA_________M.Štange__līdz_2019.gada_28.februārim: #REF!
Name z: #REF!
Name z: #REF!
Name z: #REF!
Name z: #REF!

Sheet Valsts policija (I. Urga)
A1: IZDEVUMU APRĒĶINS
A2: Valsts policijas amatpersona ar speciālo dienesta pakāpi dalība Eiropas Savienības novērošanas misijā Gruzijā (EUMM GEORGIA) Iveta Urga (02.10.2024 - 01.10.2025)
C4: euro
A5: EUMM GEORGIA (02.10.2024 - 31.12.2024) | C5: 2024.gads
A6: Izdevumi kopā | C6: =C7+C11 -> 9010
A7: 1000 | B7: Atlīdzība | C7: =SUM(C8:C10) -> 5613
A8: 1149 | B8: Citas normatīvajos aktos noteiktās piemaksas, kas nav iepriekš klasificētas Ministru kabineta 2021.gada 07.decembra noteikumos Nr.793 amatpersonai atbilstoši amata līmenim noteiktais piemaksas apmērs 19 778 euro/gadā (1 648,17 euro/mēnesī). (Taktiskais amata līmenis). Koeficients - 1,4; (1 648,17 euro × 1,4 × 1 mēn.) + (1 648,17 euro × 1,4) ÷ 31 diena × 30 dienas)) = 4 540,44 euro | C8: =ROUNDUP((1648.17*1.4*1)+ (1648.17*1.4/31*30),0) -> 4541
A9: 1210 | B9: Darba devēja valsts sociālās apdrošināšanas obligātās iemaksas 23,59% no EKK 1149 summas (4 540,44 euro × 23,59 %) = 1 071,09 euro | C9: =ROUNDUP(C8*0.2359,0) -> 1072
A10: 1227
A11: 2000 | B11: Preces un pakalpojumi | C11: =SUM(C12:C16) -> 3397
A13: 2122 | B13: Pārējie komandējumu un darba braucienu izdevumi Ceļa izdevumi: Vienam braucienam un bagāžai 560,00 euro. Reizi kalendāra gadā ceļa izdevumi dodoties uz Latviju un atgriežoties no Latvijas, ievērojot, ka dalības laiks tiek pagarināts, šim mērķim paredzami izdevumi, kas jau 2024.gadā jau ir plānoti. Apdrošināšana par ceļojuma dienām 2,00 euro par 1 dienu 560,00 euro + 2,00 euro = 562,00 euro.
A14: 2238 | B14: Ārvalstīs nodarbināto amatpersonu (darbinieku) kompensācijas Saskaņā ar Ministru kabineta 2021.gada 07.decembra noteikumiem Nr.793 atbilstoši amata līmenim (taktiskais amata līmenis) izdevumu kompensācijas apmērs amatpersonām par dzīvokļa (dzīvojamās telpas) īri un citiem pakalpojumiem, kas saistīti ar dzīvojamās telpas lietošanu sastāda 11 895,21 euro gadā (991,27 euro/mēnesī). Dzīvokļa īre: (11 895,21 euro ÷ 12 mēn. × 2 mēn.) + (11 895,21 euro ÷ 12 mēn ÷ 31 diena × 30 dienas ) = 2 941,83 euro | C14: =ROUNDUP((11895.21/12*2) + (11895.21/12/31*30),0) -> 2942
A15: 2312
A16: 2364 | B16: Formas tērpi un speciālais apģērbs Saskaņā Valsts policijas 2022.gada 12.augusta iekšējiem noteikumiem Nr.16 "Noteikumi par Valsts policijas un Valsts policijas koledžas amatpersonu ar speciālajām dienesta pakāpēm formas tērpu, atšķirības zīmēm, speciālo apģērbu, individuālajiem aizsardzības līdzekļiem un inventāru, atpazīšanas zīmju aprakstu un darbinieku darba apģērbu" Valsts policijas amatpersonas var lūgt atjaunot formas tērpu, ja tas ir nolietots un lūgt izsniegt jaunu. Atsevišām formas tērpa daļām - specapģērbam, ekipējumam lietošanas termiņš ir sasniedzīs lietošanas termiņa beigas. Formas tērpa atjaunošanas izdevumi sastāda 455,00 euro, tai skaitā: atjaunot pēc lietošanas termiņa beigām: siltās apakšveļas (apakškrekls garām piedurknēm, garās apakšbikses (termoveļa)) komplekts - 59,00 euro × 2 gab. = 118,00 euro; bikses - 78,00 euro × 2 gab. = 156,00 euro; krekls ar īsām piedurknēm - 57,00 euro; krekls ar garām piedurknēm - 100,00 euro; polo krekls - 24,00 euro. | C16: =118+156+57+100+24 -> 455
C18: euro
A19: EUMM GEORGIA (01.01.2025. - 01.10.2025.) | C19: 2025.gads
A20: Izdevumi kopā | C20: =C21+C24 -> 39250
A21: 1000 | B21: Atlīdzība | C21: =SUM(C22:C23) -> 28610
A22: 1149 | B22: Citas normatīvajos aktos noteiktās piemaksas, kas nav iepriekš klasificētas Ministru kabineta 2021.gada 07.decembra noteikumos Nr.793 amatpersonai atbilstoši amata līmenim noteiktais piemaksas apmērs 19 778 euro/gadā (1 648,17 euro / mēnesī). (Taktiskais amata līmenis). Koeficients - 1,4; (1 648,17 euro × 1,4 × 10 mēn.) + (1 648,17 euro × 1,4 / 31 diena x 1 diena) = 23 148,81 euro | C22: =ROUNDUP((1648.17*1.4*10) +(1648.17*1.4/31*1),0) -> 23149
A23: 1210 | B23: Darba devēja valsts sociālās apdrošināšanas obligātās iemaksas 23,59% no EKK 1149 summas (23 148,41 euro × 23,59 %) = 5 460,81 euro | C23: =ROUNDUP(C22*0.2359,0) -> 5461
A24: 2000 | B24: Preces un pakalpojumi | C24: =SUM(C25:C26) -> 10640
A25: 2122 | B25: Pārējie komandējumu un darba braucienu izdevumi Ceļa izdevumi: reizi kalendāra gadā ceļa izdevumi uz Latviju un atgriežoties dienesta vietā, kā arī atpakaļ brauciens uz Latviju. Vienam braucieniem un bagāžai 560,00 euro; Apdrošināšana par ceļojuma dienām 2,00 euro par 1 dienu (560,00 euro + 2,00 euro) x 3 braucieni = 1 686 euro. | C25: =(560*3+2*3) -> 1686
A26: 2238 | B26: Ārvalstīs nodarbināto amatpersonu (darbinieku) kompensācijas Saskaņā ar Ministru kabineta 2021.gada 07.decembra noteikumiem Nr.793 atbilstoši amata līmenim (taktiskais amata līmenis) izdevumu kompensācijas apmērs amatpersonām par dzīvokļa (dzīvojamās telpas) īri un citiem pakalpojumiem, kas saistīti ar dzīvojamās telpas lietošanu 11 895,21 euro gadā (991,27 euro/mēnesī). (11 895,21 euro ÷ 12 mēn. × 9 mēn.) + (11 895,21 euro ÷ 12 mēn ÷ 31 diena × 1 diena ) = 8 953,38 euro. | C26: =ROUNDUP((11895.21/12*9) + (11895.21/12/31*1),0) -> 8954

Sheet Valsts robežsardze (J. Padāns)
A1: IZDEVUMU APRĒĶINS
A2: Valsts robežsardzes amatpersonas ar speciālo dienesta pakāpi dalība Eiropas Savienības novērošanas misijā Gruzijā (EUMM Georgia) Jānis Padāns (04.08.2024.-03.08.2025.)
D4: euro
B5: EUMM Georgia (04.08.2024.-31.12.2024.) | D5: 2024. gads
B6: Izdevumi kopā | D6: =D7+D12+D22 -> 19261
B7: 1000 | C7: Atlīdzība | D7: =D9+D10 -> 13983
B8: 1100 | C8: Atalgojums | D8: =D9 -> 11314
B9: 1149 | C9: Citas normatīvajos aktos noteiktās piemaksas, kas nav iepriekš klasificētas Ministru kabineta 2021.gada 7.decembra noteikumos Nr.793 amatpersonai atbilstoši amata līmenim noteiktais piemaksas apmērs gadā 19 778 euro (mēnesī 1 648,17 euro) (Taktiskais amata līmenis), koeficients - 1,4. (1 648,17 euro × 1,4 × 4 mēn.) + (1 648,17 euro × 1,4 : 31 diena x 28 dienas) = 11 313,89 euro | D9: 11314
B10: 1200 | C10: Darba devēja valsts sociālās apdrošināšanas obligātās iemaksas, pabalsti un kompensācijas | D10: =D11 -> 2669
B11: 1210 | C11: Darba devēja valsts sociālās apdrošināšanas obligātās iemaksas 23,59% no EKK 1149 summas (11 313,89 euro × 23,59 %) = 2 668,95 euro | D11: 2669
B12: 2000 | C12: Preces un pakalpojumi | D12: =D13+D15+D19 -> 5278
B13: 2100 | C13: Mācību, darba un dienesta komandējumi, darba braucieni | D13: =D14 -> 0
B14: 2122 | C14: Pārējie komandējumu un darba braucienu izdevumi Ceļa izdevumi: - braucienam un bagāžai 570 euro (reizi kalendāra gadā ceļa izdevumi dodoties atvaļinājumā uz Latviju un atgriežoties no Latvijas, apdrošināšana par ceļojuma dienām 0,60 euro par 1 dienu x 1 amatpersona (570 euro x 2) + (0,60 euro x 2) = 1141,20 euro). 2023.gadā finanšu līdzekļi piešķirti ar Ministru kabineta 2022.gada 14. jūlija rīkojumu Nr.506 (prot. Nr. 36 22. §) “Par Valsts robežsardzes amatpersonas ar speciālo dienesta pakāpi dalību Eiropas Savienības Novērošanas misijā Gruzijā (EUMM Georgia) un finanšu līdzekļu piešķiršanu no valsts budžeta programmas "Līdzekļi neparedzētiem gadījumiem" (budžeta programma 10.00.00 "Valsts robežsardzes darbība" ) | D14: 0
B15: 2200 | C15: Pakalpojumi | D15: =D16+D17 -> 5278
B16: 2210 | C16: Izdevumi par sakaru pakalpojumiem 85,00 euro (vienam dalībniekam mēnesī) x 4 mēneši + (85,00, euro: 31 diena x 28 dienas) | D16: 417
B17: 2230 | C17: Dažādi pakalpojumi | D17: =D18 -> 4861
B18: 2238 | C18: Ārvalstīs nodarbināto amatpersonu (darbinieku) kompensācijas Ministru kabineta 2021. gada 7. decembra noteikumos Nr. 793 paredzētais izdevumu kompensācijas apmērs amatpersonām par dzīvokļa (dzīvojamās telpas) īri un citiem pakalpojumiem, kas saistīti ar dzīvojamās telpas lietošanu 11 895,21 euro gadā (Taktiskais amata līmenis). Dzīvokļa (dzīvojamās telpas) īres un komunālo pakalpojumu izdevumi: (11895,21 euro (vienam dalībniekam gadā) : 12 mēn. x 4 mēn.) + (11895,21 euro: 12 mēn. : 31 diena x 28 dienas) = 4 860,41 euro | D18: 4861
B19: 2300 | C19: Krājumi, materiāli, energoresursi, preces, biroja preces un inventārs, kurus neuzskaita kodā 5000 | D19: =D20+D21 -> 0
B20: 2313 | C20: Darba aizsardzības līdzekļi - *Speciālais apģērbs - 1110,78 euro
B21: 2389 | C21: Pārējie specifiskas lietošanas materiāli un inventārs *Speciālais aprīkojums - 418,72 euro
B22: 5000 | C22: Pamatkapitāla veidošana | D22: =D23 -> 0
B23: 5238 | C23: Datortehnika, sakaru un cita biroja tehnika 1500 euro (vienam dalībniekam - datora iegāde) x 1 amatpersona
B24: * izdevumi būs precizēti atbilstoši faktiskajiem izdevumiem
D25: euro
B26: EUMM Georgia (01.01.2025.-03.08.2025.) | D26: 2025. gads
B27: Izdevumi kopā | D27: =D28+D33 -> 29590
B28: 1000 | C28: Atlīdzība | D28: =D29+D31 -> 20239
B29: 1100 | C29: Atalgojums | D29: =D30 -> 16376
B30: 1149 | C30: Citas normatīvajos aktos noteiktās piemaksas, kas nav iepriekš klasificētas Ministru kabineta 2021. gada 7. decembra noteikumos Nr. 793 amatpersonai atbilstoši amata līmenim noteiktais piemaksas apmērs gadā 19 778 euro (mēnesī 1 648,17 euro) (Taktiskais amata līmenis), koeficients - 1,4. (1 648,17 euro × 1,4 × 7 mēn.) + (1 648,17 euro × 1,4 : 31 d. × 3 d.) = 16 375,37 euro. | D30: 16376
B31: 1200 | C31: Darba devēja valsts sociālās apdrošināšanas obligātās iemaksas, pabalsti un kompensācijas | D31: =D32 -> 3863
B32: 1210 | C32: Darba devēja valsts sociālās apdrošināšanas obligātās iemaksas 23,59% no EKK 1149 summas (16 375,37 euro × 23,59 %) = 3 862,95 euro | D32: 3863
B33: 2000 | C33: Preces un pakalpojumi | D33: =D34+D36 -> 9351
B34: 2100 | C34: Mācību, darba un dienesta komandējumi, darba braucieni | D34: =D35 -> 1712
B35: 2122 | C35: Pārējie komandējumu un darba braucienu izdevumi Ceļa izdevumi: -braucienam un bagāžai 570 euro (reizi kalendāra gadā ceļa izdevumi dodoties atvaļinājumā uz Latviju un atgriežoties no Latvijas, apdrošināšana par ceļojuma dienām 0,60 euro par 1 dienu x 1 amatpersona (570 euro x 2) + (0,60 euro x 2) = 1141,20 euro); -braucienam un bagāžai 570,00 euro (ceļa izdevumi atgriežoties no misijas atpakaļ Latvijā), apdrošināšana par ceļojuma dienām 0,60 euro par 1 dienu x 1 amatpersona (570 euro + 0,60 euro = 570,60 euro). | D35: 1712
B36: 2200 | C36: Pakalpojumi | D36: =D37+D38 -> 7639
B37: 2210 | C37: Izdevumi par sakaru pakalpojumiem 85,00 euro (vienam dalībniekam mēnesī) x 7 mēneši + (85,00 euro: 31 diena x 3 dienas) | D37: 604
B38: 2230 | C38: Dažādi pakalpojumi | D38: =D39 -> 7035
B39: 2238 | C39: Ārvalstīs nodarbināto amatpersonu (darbinieku) kompensācijas Ministru kabineta 2021. gada 7. decembra noteikumos Nr. 793 paredzētais izdevumu kompensācijas apmērs amatpersonām par dzīvokļa (dzīvojamās telpas) īri un citiem pakalpojumiem, kas saistīti ar dzīvojamās telpas lietošanu 11 895,21 euro gadā (Taktiskais amata līmenis). Dzīvokļa (dzīvojamās telpas) īres un komunālo pakalpojumu izdevumi: (11895,21 euro (vienam dalībniekam gadā) : 12 mēn. x 7 mēn. ) + (11895,21 euro: 12 mēn. : 31 dienas x 3 dienas) = 7 034,80 euro. | D39: 7035

Sheet KOPSAVILKUMS
A1: KOPSAVILKUMS
C2: euro
A3: EUMM GEORGIA | C3: 2024.gads
A4: Izdevumi kopā | C4: =C5+C10 -> 28271
A5: 1000 | B5: Atlīdzība | C5: =C6+C8 -> 19596
A6: 1100 | B6: Atalgojums | C6: =C7 -> 15855
A7: 1149 | B7: Citas normatīvajos aktos noteiktās piemaksas, kas nav iepriekš klasificētas | C7: ='Valsts policija (I. Urga)'!C8+'Valsts robežsardze (J. Padāns)'!D9 -> 15855
A8: 1200 | B8: Darba devēja valsts sociālās apdrošināšanas obligātās iemaksas, pabalsti un kompensācijas | C8: =C9 -> 3741
A9: 1210 | B9: Darba devēja valsts sociālās apdrošināšanas obligātās iemaksas | C9: ='Valsts policija (I. Urga)'!C9+'Valsts robežsardze (J. Padāns)'!D11 -> 3741
A10: 2000 | B10: Preces un pakalpojumi | C10: =C11+C14 -> 8675
A11: 2200 | B11: Pakalpojumi | C11: =C12+C13 -> 8220
A12: 2210 | B12: Izdevumi par sakaru pakalpojumiem | C12: ='Valsts robežsardze (J. Padāns)'!D16 -> 417
A13: 2238 | B13: Ārvalstīs nodarbināto amatpersonu (darbinieku) kompensācijas | C13: ='Valsts policija (I. Urga)'!C14+'Valsts robežsardze (J. Padāns)'!D18 -> 7803
A14: 2300 | B14: Krājumi, materiāli, energoresursi, preces, biroja preces un inventārs, kurus neuzskaita kodā 5000 | C14: =C15 -> 455
A15: 2364 | B15: Formas tērpi un speciālais apģērbs | C15: ='Valsts policija (I. Urga)'!C16 -> 455
C16: euro
A17: EUMM GEORGIA | C17: 2025.gads
A18: Izdevumi kopā | C18: =C19+C24 -> 68840
A19: 1000 | B19: Atlīdzība | C19: =C20+C22 -> 48849
A20: 1100 | B20: Atalgojums | C20: =C21 -> 39525
A21: 1149 | B21: Citas normatīvajos aktos noteiktās piemaksas, kas nav iepriekš klasificētas | C21: ='Valsts policija (I. Urga)'!C22+'Valsts robežsardze (J. Padāns)'!D30 -> 39525
A22: 1200 | B22: Darba devēja valsts sociālās apdrošināšanas obligātās iemaksas, pabalsti un kompensācijas | C22: =C23 -> 9324
A23: 1210 | B23: Darba devēja valsts sociālās apdrošināšanas obligātās iemaksas | C23: ='Valsts policija (I. Urga)'!C23+'Valsts robežsardze (J. Padāns)'!D32 -> 9324
A24: 2000 | B24: Preces un pakalpojumi | C24: =C25+C27 -> 19991
A25: 2100 | B25: Mācību, darba un dienesta komandējumi, darba braucieni | C25: =C26 -> 3398
A26: 2122 | B26: Pārējie komandējumu un darba braucienu izdevumi | C26: ='Valsts policija (I. Urga)'!C25+'Valsts robežsardze (J. Padāns)'!D35 -> 3398
A27: 2200 | B27: Pakalpojumi | C27: =C28+C29 -> 16593
A28: 2210 | B28: Izdevumi par sakaru pakalpojumiem | C28: ='Valsts robežsardze (J. Padāns)'!D37 -> 604
A29: 2238 | B29: Ārvalstīs nodarbināto amatpersonu (darbinieku) kompensācijas | C29: ='Valsts policija (I. Urga)'!C26+'Valsts robežsardze (J. Padāns)'!D39 -> 15989

Sheet Forma
C3: daudz. | D3: cena | E3: kopā | F3: arPVN | H3: 1 personai
B4: suvenīrs, uzšuve | C4: 2 | D4: 2.6033 | E4: =ROUNDUP(C4*D4,2) -> 5.21 | F4: =E4*1.21 -> 6.3041 | H4: =F4/2 -> 3.15205
B5: uzšuve | C5: 2 | D5: 2.6033 | E5: =ROUNDUP(C5*D5,2) -> 5.21 | F5: =E5*1.21 -> 6.3041 | H5: =F5/2 -> 3.15205
B6: uzšuve | C6: 2 | D6: 2.6033 | E6: =ROUNDUP(C6*D6,2) -> 5.21 | F6: =E6*1.21 -> 6.3041 | H6: =F6/2 -> 3.15205
B7: uzšuve | C7: 2 | D7: 2.6033 | E7: =ROUNDUP(C7*D7,2) -> 5.21 | F7: =E7*1.21 -> 6.3041 | H7: =F7/2 -> 3.15205
B8: termokrekls | C8: 1 | D8: 19.3388 | E8: =ROUNDUP(C8*D8,2) -> 19.34 | F8: =E8*1.21 -> 23.4014 | H8: =F8/2 -> 11.7007
B9: termobikses | C9: 1 | D9: 19.3388 | E9: =ROUNDUP(C9*D9,2) -> 19.34 | F9: =E9*1.21 -> 23.4014 | H9: =F9/2 -> 11.7007
B10: apakšējais krekls | C10: 3 | D10: 44.6281 | E10: =ROUND(C10*D10,2) -> 133.88 | F10: =E10*1.21 -> 161.9948 | H10: =F10/2 -> 80.9974
B11: apkašējas bikses | C11: 1 | D11: 44.6281 | E11: =ROUNDUP(C11*D11,2) -> 44.63 | F11: =E11*1.21 -> 54.0023 | H11: =F11/2 -> 27.00115
B12: apkašējas bikses | C12: 2 | D12: 44.6281 | E12: =ROUNDUP(C12*D12,2) -> 89.26 | F12: =E12*1.21 -> 108.0046 | H12: =F12/2 -> 54.0023
B13: zeķes | C13: 5 | D13: 4.4628 | E13: =ROUND(C13*D13,2) -> 22.31 | F13: =E13*1.21 -> 26.9951 | H13: =F13/2 -> 13.49755
B14: zeķes | C14: 2 | D14: 10.4132 | E14: =ROUND(C14*D14,2)-0.01 -> 20.82 | F14: =E14*1.21 -> 25.1922 | H14: =F14/2 -> 12.5961
B15: zeķes | C15: 2 | D15: 12.6446 | E15: =ROUND(C15*D15,2)-0.01 -> 25.28 | F15: =E15*1.21 -> 30.5888 | H15: =F15/2 -> 15.2944
B16: cimdi | C16: 2 | D16: 45.3719 | E16: =ROUND(C16*D16,2) -> 90.74 | F16: =E16*1.21 -> 109.7954 | H16: =F16/2 -> 54.8977
B17: telts-veste | C17: 2 | D17: 20.0826 | E17: =ROUNDUP(C17*D17,2) -> 40.17 | F17: =E17*1.21 -> 48.6057 | H17: =F17/2 -> 24.30285
B18: krekls | C18: 1 | D18: 16.3636 | E18: =ROUND(C18*D18,2) -> 16.36 | F18: =E18*1.21 -> 19.7956 | H18: =F18/2 -> 9.8978
B19: cimdi | C19: 2 | D19: 36.4463 | E19: =ROUNDUP(C19*D19,2) -> 72.9 | F19: =E19*1.21 -> 88.209 | H19: =F19/2 -> 44.1045
B20: zeķes | C20: 1 | D20: 17.8512 | E20: =ROUND(C20*D20,2) -> 17.85 | F20: =E20*1.21 -> 21.5985 | H20: =F20/2 -> 10.79925
B21: leatherman instrumenti | C21: 2 | D21: 110.0826 | E21: =ROUND(C21*D21,2) -> 220.17 | F21: =E21*1.21 -> 266.4057 | H21: =F21/2 -> 133.20285
B22: aptieciņa | C22: 2 | D22: 10.4132 | E22: =ROUND(C22*D22,2) -> 20.83 | F22: =E22*1.21 -> 25.2043 | H22: =F22/2 -> 12.60215
B23: LeD lukturis | C23: 2 | D23: 60.2479 | E23: =ROUND(C23*D23,2) -> 120.5 | F23: =E23*1.21 -> 145.805 | H23: =F23/2 -> 72.9025
B24: guļammaiss | C24: 2 | D24: 111.5702 | E24: =ROUND(C24*D24,2) -> 223.14 | F24: =E24*1.21 -> 269.9994 | H24: =F24/2 -> 134.9997
B25: apavi | C25: 2 | D25: 156.1983 | E25: =ROUND(C25*D25,2) -> 312.4 | F25: =E25*1.21 -> 378.004 | H25: =F25/2 -> 189.002
B26: sporta apavi | C26: 2 | D26: 90.9091 | E26: =ROUND(C26*D26,2) -> 181.82 | F26: =E26*1.21 -> 220.0022 | H26: =F26/2 -> 110.0011
B27: polo krekls | C27: 1 | D27: 29.0083 | E27: =ROUND(C27*D27,2) -> 29.01 | F27: =E27*1.21 -> 35.1021 | H27: =F27/2 -> 17.55105
B28: krekls | C28: 1 | D28: 33.4711 | E28: =ROUND(C28*D28,2) -> 33.47 | F28: =E28*1.21 -> 40.4987 | H28: =F28/2 -> 20.24935
B29: jaka | C29: 1 | D29: 254.3801 | E29: =ROUND(C29*D29,2) -> 254.38 | F29: =E29*1.21 -> 307.7998 | H29: 150.9
B30: jaka | C30: 1 | D30: 246.1983 | E30: =ROUND(C30*D30,2) -> 246.2 | F30: =E30*1.21 -> 297.902 | H30: =F30/2 -> 148.951
B31: soma | C31: 2 | D31: 44.6281 | E31: =ROUND(C31*D31,2) -> 89.26 | F31: =E31*1.21 -> 108.0046 | H31: =F31/2 -> 54.0023
B32: mugursoma | C32: 2 | D32: 139.8347 | E32: =ROUND(C32*D32,2)-0.01 -> 279.66 | F32: =E32*1.21 -> 338.3886 | H32: =F32/2 -> 169.1943
B33: krekls | C33: 1 | D33: 29.7521 | E33: =ROUND(C33*D33,2) -> 29.75 | F33: =E33*1.21 -> 35.9975 | H33: =F33/2 -> 17.99875
B34: krekls | C34: 1 | D34: 49.8347 | E34: =ROUND(C34*D34,2) -> 49.83 | F34: =E34*1.21 -> 60.2943 | H34: =F34/2 -> 30.14715
B35: krekls | C35: 1 | D35: 53.5537 | E35: =ROUND(C35*D35,2) -> 53.55 | F35: =E35*1.21 -> 64.7955 | H35: =F35/2 -> 32.39775
B36: krekls | C36: 2 | D36: 63.2231 | E36: =ROUND(C36*D36,2) -> 126.45 | F36: =E36*1.21 -> 153.0045 | H36: =F36/2 -> 76.50225
B37: bikses | C37: 4 | D37: 63.2231 | E37: =ROUNDDOWN(C37*D37,2)-0.01 -> 252.88 | F37: =E37*1.21 -> 305.9848 | H37: 156
B38: džemperis | C38: 2 | D38: 74.3801 | E38: =ROUND(C38*D38,2) -> 148.76 | F38: =E38*1.21 -> 179.9996 | H38: =F38/2 -> 89.9998
E39: =SUM(E4:E38) -> 3305.78 | H39: =SUM(H4:H38) -> 2000.0046
D40: pvn | E40: 694.21
E41: =E39+E40 -> 3999.99
