Workbook

Sheet Kopsavilkums
A1: Sagatavots saskaņā ar Ukrainas civiliedzīvotāju atbalsta likumu | C1: PROF Kopsavilkums Septembris-Decembris
C2: Pārskats par finansējuma pieprasījumu Ukrainas civiliedzīvotāju izglītības nodrošināšanai
A5: Nr.p.k. | B5: Rādītāja nosaukums | C5: Maksimālais iespējamais izdevumu kompensācijas apmērs, euro | D5: Pedagogu darba samaksas un papildus profesionālo izglītības iestāžu izmaksas uz vienu izglītojamo pārskata mēneša vienai dienai* | E5: Faktiskie izdevumi pārskata mēnesī**, euro
E6: Pavisam kopā | F6: Dibinātājs - Izglītības un zinātnes ministrija (IZM) | Z6: Dibinātājs - Kultūras ministrija (KM)
F7: Kopā IZM | G7: Aizkraukles Profesionālā vidusskola | H7: Daugavpis tehnoloģiju un tūrisma tehnikums | I7: Jelgavas tehnikums | J7: Kandavas Lauksaimniecības tehnikums | K7: Kuldīgas Tehnoloģiju un tūrisma tehnikums | L7: Latgales industriālais tehnikums | M7: Latvijas Jūras akadēmijas Jūrskola | N7: Ogres tehnikums | O7: PIKC "Liepājas Valsts tehnikums" | P7: PIKC "Rīgas Valsts tehnikums" | Q7: PIKC "Rīgas Tehniskā koledža" | R7: Rīgas Celtniecības koledža | S7: Rīgas Mākslas un mediju tehnikums | T7: RTU aģentūra "Rīgas Tehniskās universitātes Olaines Tehnoloģiju koledža" | U7: Rīgas Tirdzniecības profesionālā vidusskola | V7: Saldus tehnikums | W7: VSIA "Rīgas Tūrisma un radošās industrijas tehnikums" (RTRIT) | X7: Ventspils Tehnikums | Y7: Vidzemes Tehnoloģiju un dizaina tehnikums | Z7: Kopā KM | AA7: Jāzepa Mediņa Rīgas Mūzikas vidusskola | AB7: PIKC "Nacionālā Mākslu vidusskola" | AC7: PIKC "Ventspils Mūzikas vidusskola" | AD7: Alfrēda Kalniņa Cēsu Mūzikas vidusskola (AKCMV)
A8: Ukrainas civiliedzīvotāji, kuri uz 2022. gada 1. septembri (t.sk. citā izglītības iestādē) ir reģistrēti Valsts izglītības informācijas sistēmā ar apakšstatusu "Ukrainas civiliedzīvotājs"
A9: 1. | B9: Unikālais izglītojamo skaits pārskata mēnesī ar VIIS reģistrēto apakšstatusu "Ukrainas civiliedzīvotājs" | C9: x | D9: x | E9: =F9+Z9 -> 297 | F9: =SUM(G9:Y9) -> 277 | G9: =septembris!G11+oktobris!G11+novembris!G11+decembris!G11 -> 0 | H9: =septembris!H11+oktobris!H11+novembris!H11+decembris!H11 -> 4 | I9: =septembris!I11+oktobris!I11+novembris!I11+decembris!I11 -> 8 | J9: =septembris!J11+oktobris!J11+novembris!J11+decembris!J11 -> 4 | K9: =septembris!K11+oktobris!K11+novembris!K11+decembris!K11 -> 20 | L9: =septembris!L11+oktobris!L11+novembris!L11+decembris!L11 -> 4 | M9: =septembris!M11+oktobris!M11+novembris!M11+decembris!M11 -> 4 | N9: =septembris!N11+oktobris!N11+novembris!N11+decembris!N11 -> 26 | ... Y9: =septembris!Y11+oktobris!Y11+novembris!Y11+decembris!Y11 -> 4 | Z9: =SUM(AA9:AD9) -> 20 | AA9: =septembris!AA11+oktobris!AA11+novembris!AA11+decembris!AA11 -> 4 | AB9: =septembris!AB11+oktobris!AB11+novembris!AB11+decembris!AB11 -> 8 | AC9: =septembris!AC11+oktobris!AC11+novembris!AC11+decembris!AC11 -> 4 | AD9: =septembris!AD11+oktobris!AD11+novembris!AD11+decembris!AD11 -> 4
A10: 2. | B10: Kopējais summētais darba dienu skaits pārskata mēnesī | C10: x | D10: x | E10: =F10+Z10 -> 6242 | F10: =SUM(G10:Y10) -> 5817 | G10: =septembris!G12+oktobris!G12+novembris!G12+decembris!G12 -> 0 | H10: =septembris!H12+oktobris!H12+novembris!H12+decembris!H12 -> 85 | I10: =septembris!I12+oktobris!I12+novembris!I12+decembris!I12 -> 170 | J10: =septembris!J12+oktobris!J12+novembris!J12+decembris!J12 -> 85 | K10: =septembris!K12+oktobris!K12+novembris!K12+decembris!K12 -> 425 | L10: =septembris!L12+oktobris!L12+novembris!L12+decembris!L12 -> 85 | M10: =septembris!M12+oktobris!M12+novembris!M12+decembris!M12 -> 85 | N10: =septembris!N12+oktobris!N12+novembris!N12+decembris!N12 -> 547 | ... Y10: =septembris!Y12+oktobris!Y12+novembris!Y12+decembris!Y12 -> 85 | Z10: =SUM(AA10:AD10) -> 425 | AA10: =septembris!AA12+oktobris!AA12+novembris!AA12+decembris!AA12 -> 85 | AB10: =septembris!AB12+oktobris!AB12+novembris!AB12+decembris!AB12 -> 170 | AC10: =septembris!AC12+oktobris!AC12+novembris!AC12+decembris!AC12 -> 85 | AD10: =septembris!AD12+oktobris!AD12+novembris!AD12+decembris!AD12 -> 85
A11: 3. | B11: Pedagogu darba samaksa profesionālās izglītības iestādes | C11: =257/2 -> 128.5 | D11: x | E11: =F11+Z11 -> 28765 | F11: =SUM(G11:Y11) -> 26195 | G11: =ROUNDUP(septembris!G13+oktobris!G13+novembris!G13+decembris!G13,0) -> 0 | H11: =ROUNDUP(septembris!H13+oktobris!H13+novembris!H13+decembris!H13,0) -> 257 | I11: =ROUNDUP(septembris!I13+oktobris!I13+novembris!I13+decembris!I13,0) -> 722 | J11: =ROUNDUP(septembris!J13+oktobris!J13+novembris!J13+decembris!J13,0) -> 257 | K11: =ROUNDUP(septembris!K13+oktobris!K13+novembris!K13+decembris!K13,0) -> 1285 | L11: =ROUNDUP(septembris!L13+oktobris!L13+novembris!L13+decembris!L13,0) -> 353 | M11: =ROUNDUP(septembris!M13+oktobris!M13+novembris!M13+decembris!M13,0) -> 257 | N11: =ROUNDUP(septembris!N13+oktobris!N13+novembris!N13+decembris!N13,0) -> 3311 | ... Y11: =ROUNDUP(septembris!Y13+oktobris!Y13+novembris!Y13+decembris!Y13,0) -> 514 | Z11: =SUM(AA11:AD11) -> 2570 | AA11: =ROUNDUP(septembris!AA13+oktobris!AA13+novembris!AA13+decembris!AA13,0) -> 514 | AB11: =ROUNDUP(septembris!AB13+oktobris!AB13+novembris!AB13+decembris!AB13,0) -> 1028 | AC11: =ROUNDUP(septembris!AC13+oktobris!AC13+novembris!AC13+decembris!AC13,0) -> 514 | AD11: =ROUNDUP(septembris!AD13+oktobris!AD13+novembris!AD13+decembris!AD13,0) -> 514
A12: Ukrainas civiliedzīvotāji septembrī, kuri pēc 2022. gada 1. septembra ir reģistrēti Valsts izglītības informācijas sistēmā ar apakšstatusu "Ukrainas civiliedzīvotājs"
A13: 4. | B13: Unikālais izglītojamo skaits pārskata mēnesī ar VIIS reģistrēto apakšstatusu "Ukrainas civiliedzīvotājs" | C13: x | D13: x | E13: =F13+Z13 -> 10 | F13: =SUM(G13:Y13) -> 10 | G13: =septembris!G15+oktobris!G15+novembris!G15+decembris!G15 -> 2 | H13: =septembris!H15+oktobris!H15+novembris!H15+decembris!H15 -> 0 | I13: =septembris!I15+oktobris!I15+novembris!I15+decembris!I15 -> 0 | J13: =septembris!J15+oktobris!J15+novembris!J15+decembris!J15 -> 0 | K13: =septembris!K15+oktobris!K15+novembris!K15+decembris!K15 -> 0 | L13: =septembris!L15+oktobris!L15+novembris!L15+decembris!L15 -> 0 | M13: =septembris!M15+oktobris!M15+novembris!M15+decembris!M15 -> 0 | N13: =septembris!N15+oktobris!N15+novembris!N15+decembris!N15 -> 0 | ... Y13: =septembris!Y15+oktobris!Y15+novembris!Y15+decembris!Y15 -> 0 | Z13: =SUM(AA13:AD13) -> 0 | AA13: =septembris!AA15+oktobris!AA15+novembris!AA15+decembris!AA15 -> 0 | AB13: =septembris!AB15+oktobris!AB15+novembris!AB15+decembris!AB15 -> 0 | AC13: =septembris!AC15+oktobris!AC15+novembris!AC15+decembris!AC15 -> 0 | AD13: =septembris!AD15+oktobris!AD15+novembris!AD15+decembris!AD15 -> 0
A14: 5. | B14: Pirmreizēji VIIS reģistrēto izglītojamo skaits pārskata mēnesī ar apakšstatusu "Ukrainas civiliedzīvotājs" | C14: x | D14: x | E14: =F14+Z14 -> 3 | F14: =SUM(G14:Y14) -> 3 | G14: =septembris!G16+oktobris!G16+novembris!G16+decembris!G16 -> 1 | H14: =septembris!H16+oktobris!H16+novembris!H16+decembris!H16 -> 0 | I14: =septembris!I16+oktobris!I16+novembris!I16+decembris!I16 -> 0 | J14: =septembris!J16+oktobris!J16+novembris!J16+decembris!J16 -> 0 | K14: =septembris!K16+oktobris!K16+novembris!K16+decembris!K16 -> 0 | L14: =septembris!L16+oktobris!L16+novembris!L16+decembris!L16 -> 0 | M14: =septembris!M16+oktobris!M16+novembris!M16+decembris!M16 -> 0 | N14: =septembris!N16+oktobris!N16+novembris!N16+decembris!N16 -> 0 | ... Y14: =septembris!Y16+oktobris!Y16+novembris!Y16+decembris!Y16 -> 0 | Z14: =SUM(AA14:AD14) -> 0 | AA14: =septembris!AA16+oktobris!AA16+novembris!AA16+decembris!AA16 -> 0 | AB14: =septembris!AB16+oktobris!AB16+novembris!AB16+decembris!AB16 -> 0 | AC14: =septembris!AC16+oktobris!AC16+novembris!AC16+decembris!AC16 -> 0 | AD14: =septembris!AD16+oktobris!AD16+novembris!AD16+decembris!AD16 -> 0
A15: 6. | B15: Kopējais summētais kalendāro dienu skaits pārskata mēnesī | C15: x | D15: x | E15: =F15+Z15 -> 230 | F15: =SUM(G15:Y15) -> 230 | G15: =septembris!G17+oktobris!G17+novembris!G17+decembris!G17 -> 40 | H15: =septembris!H17+oktobris!H17+novembris!H17+decembris!H17 -> 0 | I15: =septembris!I17+oktobris!I17+novembris!I17+decembris!I17 -> 0 | J15: =septembris!J17+oktobris!J17+novembris!J17+decembris!J17 -> 0 | K15: =septembris!K17+oktobris!K17+novembris!K17+decembris!K17 -> 0 | L15: =septembris!L17+oktobris!L17+novembris!L17+decembris!L17 -> 0 | M15: =septembris!M17+oktobris!M17+novembris!M17+decembris!M17 -> 0 | N15: =septembris!N17+oktobris!N17+novembris!N17+decembris!N17 -> 0 | ... Y15: =septembris!Y17+oktobris!Y17+novembris!Y17+decembris!Y17 -> 0 | Z15: =SUM(AA15:AD15) -> 0 | AA15: =septembris!AA17+oktobris!AA17+novembris!AA17+decembris!AA17 -> 0 | AB15: =septembris!AB17+oktobris!AB17+novembris!AB17+decembris!AB17 -> 0 | AC15: =septembris!AC17+oktobris!AC17+novembris!AC17+decembris!AC17 -> 0 | AD15: =septembris!AD17+oktobris!AD17+novembris!AD17+decembris!AD17 -> 0
A16: 7. | B16: Kopējais summētais darba dienu skaits pārskata mēnesī | C16: x | D16: x | E16: =F16+Z16 -> 208 | F16: =SUM(G16:Y16) -> 208 | G16: =septembris!G18+oktobris!G18+novembris!G18+decembris!G18 -> 28 | H16: =septembris!H18+oktobris!H18+novembris!H18+decembris!H18 -> 0 | I16: =septembris!I18+oktobris!I18+novembris!I18+decembris!I18 -> 0 | J16: =septembris!J18+oktobris!J18+novembris!J18+decembris!J18 -> 0 | K16: =septembris!K18+oktobris!K18+novembris!K18+decembris!K18 -> 0 | L16: =septembris!L18+oktobris!L18+novembris!L18+decembris!L18 -> 0 | M16: =septembris!M18+oktobris!M18+novembris!M18+decembris!M18 -> 0 | N16: =septembris!N18+oktobris!N18+novembris!N18+decembris!N18 -> 0 | ... Y16: =septembris!Y18+oktobris!Y18+novembris!Y18+decembris!Y18 -> 0 | Z16: =SUM(AA16:AD16) -> 0 | AA16: =septembris!AA18+oktobris!AA18+novembris!AA18+decembris!AA18 -> 0 | AB16: =septembris!AB18+oktobris!AB18+novembris!AB18+decembris!AB18 -> 0 | AC16: =septembris!AC18+oktobris!AC18+novembris!AC18+decembris!AC18 -> 0 | AD16: =septembris!AD18+oktobris!AD18+novembris!AD18+decembris!AD18 -> 0
A17: 8. | B17: Pedagogu darba samaksa profesionālās izglītības iestādes | C17: 257 | D17: x | E17: =F17+Z17 -> 1484 | F17: =SUM(G17:Y17) -> 1484 | G17: =ROUNDUP(septembris!G19+oktobris!G19+novembris!G19+decembris!G19,0) -> 0 | H17: =ROUNDUP(septembris!H19+oktobris!H19+novembris!H19+decembris!H19,0) -> 0 | I17: =ROUNDUP(septembris!I19+oktobris!I19+novembris!I19+decembris!I19,0) -> 0 | J17: =ROUNDUP(septembris!J19+oktobris!J19+novembris!J19+decembris!J19,0) -> 0 | K17: =ROUNDUP(septembris!K19+oktobris!K19+novembris!K19+decembris!K19,0) -> 0 | L17: =ROUNDUP(septembris!L19+oktobris!L19+novembris!L19+decembris!L19,0) -> 0 | M17: =ROUNDUP(septembris!M19+oktobris!M19+novembris!M19+decembris!M19,0) -> 0 | N17: =ROUNDUP(septembris!N19+oktobris!N19+novembris!N19+decembris!N19,0) -> 0 | ... Y17: =ROUNDUP(septembris!Y19+oktobris!Y19+novembris!Y19+decembris!Y19,0) -> 0 | Z17: =SUM(AA17:AD17) -> 0 | AA17: =ROUNDUP(septembris!AA19+oktobris!AA19+novembris!AA19+decembris!AA19,0) -> 0 | AB17: =ROUNDUP(septembris!AB19+oktobris!AB19+novembris!AB19+decembris!AB19,0) -> 0 | AC17: =ROUNDUP(septembris!AC19+oktobris!AC19+novembris!AC19+decembris!AC19,0) -> 0 | AD17: =ROUNDUP(septembris!AD19+oktobris!AD19+novembris!AD19+decembris!AD19,0) -> 0
A18: 9. | B18: Vienreizēja palīdzība mācību līdzekļu nodrošināšanai VIIS unikāli pirmreizēji reģistrētam izglītojamajam | C18: 50 | D18: x | E18: =F18+Z18 -> 0 | F18: =SUM(G18:Y18) -> 0 | G18: =ROUNDUP(septembris!G20+oktobris!G20+novembris!G20+decembris!G20,0) -> 0 | H18: =ROUNDUP(septembris!H20+oktobris!H20+novembris!H20+decembris!H20,0) -> 0 | I18: =ROUNDUP(septembris!I20+oktobris!I20+novembris!I20+decembris!I20,0) -> 0 | J18: =ROUNDUP(septembris!J20+oktobris!J20+novembris!J20+decembris!J20,0) -> 0 | K18: =ROUNDUP(septembris!K20+oktobris!K20+novembris!K20+decembris!K20,0) -> 0 | L18: =ROUNDUP(septembris!L20+oktobris!L20+novembris!L20+decembris!L20,0) -> 0 | M18: =ROUNDUP(septembris!M20+oktobris!M20+novembris!M20+decembris!M20,0) -> 0 | N18: =ROUNDUP(septembris!N20+oktobris!N20+novembris!N20+decembris!N20,0) -> 0 | ... Y18: =ROUNDUP(septembris!Y20+oktobris!Y20+novembris!Y20+decembris!Y20,0) -> 0 | Z18: =SUM(AA18:AD18) -> 0 | AA18: =ROUNDUP(septembris!AA20+oktobris!AA20+novembris!AA20+decembris!AA20,0) -> 0 | AB18: =ROUNDUP(septembris!AB20+oktobris!AB20+novembris!AB20+decembris!AB20,0) -> 0 | AC18: =ROUNDUP(septembris!AC20+oktobris!AC20+novembris!AC20+decembris!AC20,0) -> 0 | AD18: =ROUNDUP(septembris!AD20+oktobris!AD20+novembris!AD20+decembris!AD20,0) -> 0
A19: 10. | B19: Stipendija (mēnesī) | C19: 15 | D19: x | E19: =F19+Z19 -> 108 | F19: =SUM(G19:Y19) -> 108 | G19: =ROUNDUP(septembris!G21+oktobris!G21+novembris!G21+decembris!G21,0) -> 0 | H19: =ROUNDUP(septembris!H21+oktobris!H21+novembris!H21+decembris!H21,0) -> 0 | I19: =ROUNDUP(septembris!I21+oktobris!I21+novembris!I21+decembris!I21,0) -> 0 | J19: =ROUNDUP(septembris!J21+oktobris!J21+novembris!J21+decembris!J21,0) -> 0 | K19: =ROUNDUP(septembris!K21+oktobris!K21+novembris!K21+decembris!K21,0) -> 0 | L19: =ROUNDUP(septembris!L21+oktobris!L21+novembris!L21+decembris!L21,0) -> 0 | M19: =ROUNDUP(septembris!M21+oktobris!M21+novembris!M21+decembris!M21,0) -> 0 | N19: =ROUNDUP(septembris!N21+oktobris!N21+novembris!N21+decembris!N21,0) -> 0 | ... Y19: =ROUNDUP(septembris!Y21+oktobris!Y21+novembris!Y21+decembris!Y21,0) -> 0 | Z19: =SUM(AA19:AD19) -> 0 | AA19: =ROUNDUP(septembris!AA21+oktobris!AA21+novembris!AA21+decembris!AA21,0) -> 0 | AB19: =ROUNDUP(septembris!AB21+oktobris!AB21+novembris!AB21+decembris!AB21,0) -> 0 | AC19: =ROUNDUP(septembris!AC21+oktobris!AC21+novembris!AC21+decembris!AC21,0) -> 0 | AD19: =ROUNDUP(septembris!AD21+oktobris!AD21+novembris!AD21+decembris!AD21,0) -> 0
A20: 11. | B20: Uzturēšanas izmaksas (vidējās izmaksas uz vienu izglītojamo): | C20: =SUM(C21:C22) -> 184.4 | D20: x | E20: =F20+Z20 -> 440 | F20: =SUM(G20:Y20) -> 440 | G20: =G21+G22 -> 0 | H20: =H21+H22 -> 0 | I20: =I21+I22 -> 0 | J20: =J21+J22 -> 0 | K20: =K21+K22 -> 0 | L20: =L21+L22 -> 0 | M20: =M21+M22 -> 0 | N20: =N21+N22 -> 0 | ... Y20: =Y21+Y22 -> 0 | Z20: =SUM(AA20:AD20) -> 0 | AA20: =AA21+AA22 -> 0 | AB20: =AB21+AB22 -> 0 | AC20: =AC21+AC22 -> 0 | AD20: =AD21+AD22 -> 0
A21: 11.1. | B21: Profesionālās vidējās izglītības programmas īstenošanai | C21: 76.08 | D21: x | E21: =F21+Z21 -> 440 | F21: =SUM(G21:Y21) -> 440 | G21: =ROUNDUP(septembris!G23+oktobris!G23+novembris!G23+decembris!G23,0) -> 0 | H21: =ROUNDUP(septembris!H23+oktobris!H23+novembris!H23+decembris!H23,0) -> 0 | I21: =ROUNDUP(septembris!I23+oktobris!I23+novembris!I23+decembris!I23,0) -> 0 | J21: =ROUNDUP(septembris!J23+oktobris!J23+novembris!J23+decembris!J23,0) -> 0 | K21: =ROUNDUP(septembris!K23+oktobris!K23+novembris!K23+decembris!K23,0) -> 0 | L21: =ROUNDUP(septembris!L23+oktobris!L23+novembris!L23+decembris!L23,0) -> 0 | M21: =ROUNDUP(septembris!M23+oktobris!M23+novembris!M23+decembris!M23,0) -> 0 | N21: =ROUNDUP(septembris!N23+oktobris!N23+novembris!N23+decembris!N23,0) -> 0 | ... Y21: =ROUNDUP(septembris!Y23+oktobris!Y23+novembris!Y23+decembris!Y23,0) -> 0 | Z21: =SUM(AA21:AD21) -> 0 | AA21: =ROUNDUP(septembris!AA23+oktobris!AA23+novembris!AA23+decembris!AA23,0) -> 0 | AB21: =ROUNDUP(septembris!AB23+oktobris!AB23+novembris!AB23+decembris!AB23,0) -> 0 | AC21: =ROUNDUP(septembris!AC23+oktobris!AC23+novembris!AC23+decembris!AC23,0) -> 0 | AD21: =ROUNDUP(septembris!AD23+oktobris!AD23+novembris!AD23+decembris!AD23,0) -> 0
A22: 11.2. | B22: Izglītības tematiskā joma "Mākslas" | C22: 108.32 | D22: x | E22: =F22+Z22 -> 0 | F22: =SUM(G22:Y22) -> 0 | G22: =ROUNDUP(septembris!G24+oktobris!G24+novembris!G24+decembris!G24,0) -> 0 | H22: =ROUNDUP(septembris!H24+oktobris!H24+novembris!H24+decembris!H24,0) -> 0 | I22: =ROUNDUP(septembris!I24+oktobris!I24+novembris!I24+decembris!I24,0) -> 0 | J22: =ROUNDUP(septembris!J24+oktobris!J24+novembris!J24+decembris!J24,0) -> 0 | K22: =ROUNDUP(septembris!K24+oktobris!K24+novembris!K24+decembris!K24,0) -> 0 | L22: =ROUNDUP(septembris!L24+oktobris!L24+novembris!L24+decembris!L24,0) -> 0 | M22: =ROUNDUP(septembris!M24+oktobris!M24+novembris!M24+decembris!M24,0) -> 0 | N22: =ROUNDUP(septembris!N24+oktobris!N24+novembris!N24+decembris!N24,0) -> 0 | ... Y22: =ROUNDUP(septembris!Y24+oktobris!Y24+novembris!Y24+decembris!Y24,0) -> 0 | Z22: =SUM(AA22:AD22) -> 0 | AA22: =ROUNDUP(septembris!AA24+oktobris!AA24+novembris!AA24+decembris!AA24,0) -> 0 | AB22: =ROUNDUP(septembris!AB24+oktobris!AB24+novembris!AB24+decembris!AB24,0) -> 0 | AC22: =ROUNDUP(septembris!AC24+oktobris!AC24+novembris!AC24+decembris!AC24,0) -> 0 | AD22: =ROUNDUP(septembris!AD24+oktobris!AD24+novembris!AD24+decembris!AD24,0) -> 0
A23: Kopā | E23: =F23+Z23 -> 30797 | F23: =SUM(G23:Y23) -> 28227 | G23: =G11+G17+G18+G19+G20 -> 0 | H23: =H11+H17+H18+H19+H20 -> 257 | I23: =I11+I17+I18+I19+I20 -> 722 | J23: =J11+J17+J18+J19+J20 -> 257 | K23: =K11+K17+K18+K19+K20 -> 1285 | L23: =L11+L17+L18+L19+L20 -> 353 | M23: =M11+M17+M18+M19+M20 -> 257 | N23: =N11+N17+N18+N19+N20 -> 3311 | ... Y23: =Y11+Y17+Y18+Y19+Y20 -> 514 | Z23: =SUM(AA23:AD23) -> 2570 | AA23: =AA11+AA17+AA18+AA19+AA20 -> 514 | AB23: =AB11+AB17+AB18+AB19+AB20 -> 1028 | AC23: =AC11+AC17+AC18+AC19+AC20 -> 514 | AD23: =AD11+AD17+AD18+AD19+AD20 -> 514

Sheet septembris
A1: Sagatavots saskaņā ar Ukrainas civiliedzīvotāju atbalsta likumu | C1: PROF Septembris
C2: Pārskats par finansējuma pieprasījumu Ukrainas civiliedzīvotāju izglītības nodrošināšanai
B4: Kalendāro dienu skaits mēnesī | C4: 30
B5: Darba dienu skaits mēnesī | C5: 22
A7: Nr.p.k. | B7: Rādītāja nosaukums | C7: Maksimālais iespējamais izdevumu kompensācijas apmērs, euro | D7: Pedagogu darba samaksas un papildus profesionālo izglītības iestāžu izmaksas uz vienu izglītojamo pārskata mēneša vienai dienai* | E7: Faktiskie izdevumi pārskata mēnesī**, euro
E8: Kopā | F8: Dibinātājs - Izglītības un zinātnes ministrija | Z8: Dibinātājs - Kultūras ministrija
F9: Kopā IZM | G9: Aizkraukles Profesionālā vidusskola | H9: Daugavpis tehnoloģiju un tūrisma tehnikums | I9: Jelgavas tehnikums | J9: Kandavas Lauksaimniecības tehnikums | K9: Kuldīgas Tehnoloģiju un tūrisma tehnikums | L9: Latgales industriālais tehnikums | M9: Latvijas Jūras akadēmijas Jūrskola | N9: Ogres tehnikums | O9: PIKC "Liepājas Valsts tehnikums" | P9: PIKC "Rīgas Valsts tehnikums" | Q9: PIKC "Rīgas Tehniskā koledža" | R9: Rīgas Celtniecības koledža | S9: Rīgas Mākslas un mediju tehnikums | T9: RTU aģentūra "Rīgas Tehniskās universitātes Olaines Tehnoloģiju koledža" | U9: Rīgas Tirdzniecības profesionālā vidusskola | V9: Saldus tehnikums | W9: VSIA "Rīgas Tūrisma un radošās industrijas tehnikums" (RTRIT) | X9: Ventspils Tehnikums | Y9: Vidzemes Tehnoloģiju un dizaina tehnikums | Z9: Kopā KM | AA9: Jāzepa Mediņa Rīgas Mūzikas vidusskola | AB9: PIKC "Nacionālā Mākslu vidusskola" | AC9: PIKC "Ventspils Mūzikas vidusskola" | AD9: Alfrēda Kalniņa Cēsu Mūzikas vidusskola (AKCMV)
A10: Ukrainas civiliedzīvotāji, kuri uz 2022. gada 1. septembri (t.sk. citā izglītības iestādē) ir reģistrēti Valsts izglītības informācijas sistēmā ar apakšstatusu "Ukrainas civiliedzīvotājs"
A11: 1. | B11: Unikālais izglītojamo skaits pārskata mēnesī ar VIIS reģistrēto apakšstatusu "Ukrainas civiliedzīvotājs" | C11: x | D11: x | E11: =F11+Z11 -> 76 | F11: =SUM(G11:Y11) -> 71 | G11: 0 | H11: 1 | I11: 2 | J11: 1 | K11: 5 | L11: 1 | M11: 1 | N11: 6 | O11: 1 | P11: 4 | Q11: 8 | R11: 5 | S11: 12 | T11: 0 | U11: 1 | V11: 8 | W11: 11 | X11: 3 | Y11: 1 | Z11: =SUM(AA11:AD11) -> 5 | AA11: 1 | AB11: 2 | AC11: 1 | AD11: 1
A12: 2. | B12: Kopējais summētais darba dienu skaits pārskata mēnesī | C12: x | D12: x | E12: =F12+Z12 -> 1654 | F12: =SUM(G12:Y12) -> 1544 | G12: 0 | H12: 22 | I12: 44 | J12: 22 | K12: =K11*C5 -> 110 | L12: 22 | M12: 22 | N12: =6*22 -> 132 | O12: 22 | P12: 78 | Q12: =Q11*C5 -> 176 | R12: =4*22+14 -> 102 | S12: =S11*C5 -> 264 | T12: 0 | U12: 22 | V12: =8*22 -> 176 | W12: 242 | X12: 66 | Y12: 22 | Z12: =SUM(AA12:AD12) -> 110 | AA12: 22 | AB12: 44 | AC12: 22 | AD12: 22
A13: 3. | B13: Pedagogu darba samaksa profesionālās izglītības iestādes | C13: =257/2 -> 128.5 | D13: =C13/C5 -> 5.8409091 | E13: =F13+Z13 -> 5013.7273 | F13: =SUM(G13:Y13) -> 4371.2273 | G13: 0 | H13: 0 | I13: 0 | J13: 0 | K13: 0 | L13: 46.727273 | M13: 0 | N13: 771 | O13: 0 | P13: 0 | Q13: 1028 | R13: 0 | S13: 0 | T13: 0 | U13: 0 | V13: 598 | W13: 1413.5 | X13: 385.5 | Y13: 128.5 | Z13: =SUM(AA13:AD13) -> 642.5 | AA13: =C13 -> 128.5 | AB13: 257 | AC13: =C13 -> 128.5 | AD13: 128.5
A14: Ukrainas civiliedzīvotāji septembrī, kuri pēc 2022. gada 1. septembra ir reģistrēti Valsts izglītības informācijas sistēmā ar apakšstatusu "Ukrainas civiliedzīvotājs"
A15: 4. | B15: Unikālais izglītojamo skaits pārskata mēnesī ar VIIS reģistrēto apakšstatusu "Ukrainas civiliedzīvotājs" | C15: x | D15: x | E15: =F15+Z15 -> 3 | F15: =SUM(G15:Y15) -> 3 | G15: 1 | H15: 0 | I15: 0 | J15: 0 | K15: 0 | L15: 0 | M15: 0 | N15: 0 | O15: 0 | P15: 0 | Q15: 0 | R15: 0 | S15: 0 | T15: 1 | U15: 0 | V15: 0 | W15: 0 | X15: 1 | Y15: 0 | Z15: =SUM(AA15:AD15) -> 0 | AA15: 0 | AB15: 0 | AC15: 0 | AD15: 0
A16: 5. | B16: Pirmreizēji VIIS reģistrēto izglītojamo skaits pārskata mēnesī ar apakšstatusu "Ukrainas civiliedzīvotājs" | C16: x | D16: x | E16: =F16+Z16 -> 3 | F16: =SUM(G16:Y16) -> 3 | G16: 1 | H16: 0 | I16: 0 | J16: 0 | K16: 0 | L16: 0 | M16: 0 | N16: 0 | O16: 0 | P16: 0 | Q16: 0 | R16: 0 | S16: 0 | T16: 1 | U16: 0 | V16: 0 | W16: 0 | X16: 1 | Y16: 0 | Z16: =SUM(AA16:AD16) -> 0 | AA16: 0 | AB16: 0 | AC16: 0 | AD16: 0
A17: 6. | B17: Kopējais summētais kalendāro dienu skaits pārskata mēnesī | C17: x | D17: x | E17: =F17+Z17 -> 42 | F17: =SUM(G17:Y17) -> 42 | G17: 16 | H17: 0 | I17: 0 | J17: 0 | K17: 0 | L17: 0 | M17: 0 | N17: 0 | O17: 0 | P17: 0 | Q17: 0 | R17: 0 | S17: 0 | T17: 9 | U17: 0 | V17: 0 | W17: 0 | X17: 17 | Y17: 0 | Z17: =SUM(AA17:AD17) -> 0 | AA17: 0 | AB17: 0 | AC17: 0 | AD17: 0
A18: 7. | B18: Kopējais summētais darba dienu skaits pārskata mēnesī | C18: x | D18: x | E18: =F18+Z18 -> 46 | F18: =SUM(G18:Y18) -> 46 | G18: 12 | H18: 0 | I18: 0 | J18: 0 | K18: 0 | L18: 0 | M18: 0 | N18: 0 | O18: 0 | P18: 0 | Q18: 0 | R18: 0 | S18: 0 | T18: 11 | U18: 0 | V18: 0 | W18: 0 | X18: 23 | Y18: 0 | Z18: =SUM(AA18:AD18) -> 0 | AA18: 0 | AB18: 0 | AC18: 0 | AD18: 0
A19: 8. | B19: Pedagogu darba samaksa profesionālās izglītības iestādes | C19: 257 | D19: =C19/C5 -> 11.681818 | E19: =F19+Z19 -> 198.59091 | F19: =SUM(G19:Y19) -> 198.59091 | G19: 0 | H19: 0 | I19: 0 | J19: 0 | K19: 0 | L19: 0 | M19: 0 | N19: 0 | O19: 0 | P19: 0 | Q19: 0 | R19: 0 | S19: 0 | T19: 0 | U19: 0 | V19: 0 | W19: 0 | X19: 198.59091 | Y19: 0 | Z19: =SUM(AA19:AD19) -> 0 | AA19: 0 | AB19: 0 | AC19: 0 | AD19: 0
A20: 9. | B20: Vienreizēja palīdzība mācību līdzekļu nodrošināšanai VIIS unikāli pirmreizēji reģistrētam izglītojamajam | C20: 50 | D20: x | E20: =F20+Z20 -> 0 | F20: =SUM(G20:Y20) -> 0 | G20: 0 | H20: 0 | I20: 0 | J20: 0 | K20: 0 | L20: 0 | M20: 0 | N20: 0 | O20: 0 | P20: 0 | Q20: 0 | R20: 0 | S20: 0 | T20: 0 | U20: 0 | V20: 0 | W20: 0 | X20: 0 | Y20: 0 | Z20: =SUM(AA20:AD20) -> 0 | AA20: 0 | AB20: 0 | AC20: 0 | AD20: 0
A21: 10. | B21: Stipendija (mēnesī) | C21: 15 | D21: =C21/C4 -> 0.5 | E21: =F21+Z21 -> 17 | F21: =SUM(G21:Y21) -> 17 | G21: 0 | H21: 0 | I21: 0 | J21: 0 | K21: 0 | L21: 0 | M21: 0 | N21: 0 | O21: 0 | P21: 0 | Q21: 0 | R21: 0 | S21: 0 | T21: 5.5 | U21: 0 | V21: 0 | W21: 0 | X21: 11.5 | Y21: 0 | Z21: =SUM(AA21:AD21) -> 0 | AA21: 0 | AB21: 0 | AC21: 0 | AD21: 0
A22: 11. | B22: Uzturēšanas izmaksas (vidējās izmaksas uz vienu izglītojamo): | C22: =SUM(C23:C24) -> 184.4 | D22: x | E22: =F22+Z22 -> 58.328 | F22: =SUM(G22:Y22) -> 58.328 | G22: =G23+G24 -> 0 | H22: =H23+H24 -> 0 | I22: =I23+I24 -> 0 | J22: =J23+J24 -> 0 | K22: =K23+K24 -> 0 | L22: =L23+L24 -> 0 | M22: =M23+M24 -> 0 | N22: =N23+N24 -> 0 | ... Y22: =Y23+Y24 -> 0 | Z22: =SUM(AA22:AD22) -> 0 | AA22: =AA23+AA24 -> 0 | AB22: =AB23+AB24 -> 0 | AC22: =AC23+AC24 -> 0 | AD22: =AD23+AD24 -> 0
A23: 11.1. | B23: Profesionālās vidējās izglītības programmas īstenošanai | C23: 76.08 | D23: =C23/C4 -> 2.536 | E23: =F23+Z23 -> 58.328 | F23: =SUM(G23:Y23) -> 58.328 | G23: 0 | H23: 0 | I23: 0 | J23: 0 | K23: 0 | L23: 0 | M23: 0 | N23: 0 | O23: 0 | P23: 0 | Q23: 0 | R23: 0 | S23: 0 | T23: 0 | U23: 0 | V23: 0 | W23: 0 | X23: 58.328 | Y23: 0 | Z23: =SUM(AA23:AD23) -> 0 | AA23: 0 | AB23: 0 | AC23: 0 | AD23: 0
A24: 11.2. | B24: Izglītības tematiskā joma "Mākslas" | C24: 108.32 | D24: =C24/C4 -> 3.6106667 | E24: =F24+Z24 -> 0 | F24: =SUM(G24:Y24) -> 0 | G24: 0 | H24: 0 | I24: 0 | J24: 0 | K24: 0 | L24: 0 | M24: 0 | N24: 0 | O24: 0 | P24: 0 | Q24: 0 | R24: 0 | S24: 0 | T24: 0 | U24: 0 | V24: 0 | W24: 0 | X24: 0 | Y24: 0 | Z24: =SUM(AA24:AD24) -> 0 | AA24: 0 | AB24: 0 | AC24: 0 | AD24: 0
A25: Kopā | E25: =F25+Z25 -> 5287.6462 | F25: =SUM(G25:Y25) -> 4645.1462 | G25: =G13+G19+G20+G21+G22 -> 0 | H25: =H13+H19+H20+H21+H22 -> 0 | I25: =I13+I19+I20+I21+I22 -> 0 | J25: =J13+J19+J20+J21+J22 -> 0 | K25: =K13+K19+K20+K21+K22 -> 0 | L25: =L13+L19+L20+L21+L22 -> 46.727273 | M25: =M13+M19+M20+M21+M22 -> 0 | N25: =N13+N19+N20+N21+N22 -> 771 | ... Y25: =Y13+Y19+Y20+Y21+Y22 -> 128.5 | Z25: =SUM(AA25:AD25) -> 642.5 | AA25: =AA13+AA19+AA20+AA21+AA22 -> 128.5 | AB25: =AB13+AB19+AB20+AB21+AB22 -> 257 | AC25: =AC13+AC19+AC20+AC21+AC22 -> 128.5 | AD25: =AD13+AD19+AD20+AD21+AD22 -> 128.5
A27: * Izdevumu pozīcijai "Pedagogu darba samaksa profesionālās izglītības iestādes" - vienas darba dienas izmaksa, izdevumu pozīcijām "Stipedijas" un "Uzturēšanas izmaksas"- vienas kalendārās dienas izmaksa.
A28: ** Ja izglītības iestādes norādītie faktiskie izdevumi pārsniedz maksimālo iespējamo izdevumu kompensācijas apmēru, norādīts maksimālais iespējamais izdevumu kompensācijas apmērs.

Sheet oktobris
A1: Sagatavots saskaņā ar Ukrainas civiliedzīvotāju atbalsta likumu | C1: PROF Oktobris
C2: Pārskats par finansējuma pieprasījumu Ukrainas civiliedzīvotāju izglītības nodrošināšanai
B4: Kalendāro dienu skaits mēnesī | C4: 31
B5: Darba dienu skaits mēnesī | C5: 21
A7: Nr.p.k. | B7: Rādītāja nosaukums | C7: Maksimālais iespējamais izdevumu kompensācijas apmērs, euro | D7: Pedagogu darba samaksas un papildus profesionālo izglītības iestāžu izmaksas uz vienu izglītojamo pārskata mēneša vienai dienai* | E7: Faktiskie izdevumi pārskata mēnesī**, euro
E8: Kopā | F8: Dibinātājs - Izglītības un zinātnes ministrija | Z8: Dibinātājs - Kultūras ministrija
F9: Kopā IZM | G9: Aizkraukles Profesionālā vidusskola | H9: Daugavpis tehnoloģiju un tūrisma tehnikums | I9: Jelgavas tehnikums | J9: Kandavas Lauksaimniecības tehnikums | K9: Kuldīgas Tehnoloģiju un tūrisma tehnikums | L9: Latgales industriālais tehnikums | M9: Latvijas Jūras akadēmijas Jūrskola | N9: Ogres tehnikums | O9: PIKC "Liepājas Valsts tehnikums" | P9: PIKC "Rīgas Valsts tehnikums" | Q9: PIKC "Rīgas Tehniskā koledža" | R9: Rīgas Celtniecības koledža | S9: Rīgas Mākslas un mediju tehnikums | T9: RTU aģentūra "Rīgas Tehniskās universitātes Olaines Tehnoloģiju koledža" | U9: Rīgas Tirdzniecības profesionālā vidusskola | V9: Saldus tehnikums | W9: VSIA "Rīgas Tūrisma un radošās industrijas tehnikums" (RTRIT) | X9: Ventspils Tehnikums | Y9: Vidzemes Tehnoloģiju un dizaina tehnikums | Z9: Kopā KM | AA9: Jāzepa Mediņa Rīgas Mūzikas vidusskola | AB9: PIKC "Nacionālā Mākslu vidusskola" | AC9: PIKC "Ventspils Mūzikas vidusskola" | AD9: Alfrēda Kalniņa Cēsu Mūzikas vidusskola (AKCMV)
A10: Ukrainas civiliedzīvotāji, kuri uz 2022. gada 1. septembri (t.sk. citā izglītības iestādē) ir reģistrēti Valsts izglītības informācijas sistēmā ar apakšstatusu "Ukrainas civiliedzīvotājs"
A11: 1. | B11: Unikālais izglītojamo skaits pārskata mēnesī ar VIIS reģistrēto apakšstatusu "Ukrainas civiliedzīvotājs" | C11: x | D11: x | E11: =F11+Z11 -> 75 | F11: =SUM(G11:Y11) -> 70 | G11: 0 | H11: 1 | I11: 2 | J11: 1 | K11: 5 | L11: 1 | M11: 1 | N11: 6 | O11: 1 | P11: 3 | Q11: 8 | R11: 4 | S11: 13 | T11: 0 | U11: 1 | V11: 8 | W11: 11 | X11: 3 | Y11: 1 | Z11: =SUM(AA11:AD11) -> 5 | AA11: 1 | AB11: 2 | AC11: 1 | AD11: 1
A12: 2. | B12: Kopējais summētais darba dienu skaits pārskata mēnesī | C12: x | D12: x | E12: =F12+Z12 -> 1527 | F12: =SUM(G12:Y12) -> 1422 | G12: 0 | H12: 21 | I12: 42 | J12: 21 | K12: =K11*C5 -> 105 | L12: 21 | M12: 21 | N12: =6*21 -> 126 | O12: 21 | P12: =P11*C5 -> 63 | Q12: =Q11*C5 -> 168 | R12: =3*21+16 -> 79 | S12: 267 | T12: 0 | U12: 21 | V12: =21*7+3 -> 150 | W12: 231 | X12: 44 | Y12: 21 | Z12: =SUM(AA12:AD12) -> 105 | AA12: 21 | AB12: 42 | AC12: 21 | AD12: 21
A13: 3. | B13: Pedagogu darba samaksa profesionālās izglītības iestādes | C13: =257/2 -> 128.5 | D13: =C13/C5 -> 6.1190476 | E13: =F13+Z13 -> 5018.9405 | F13: =SUM(G13:Y13) -> 4376.4405 | G13: 0 | H13: 0 | I13: 207.25 | J13: 0 | K13: 0 | L13: 48.952381 | M13: 0 | N13: 771 | O13: 0 | P13: 0 | Q13: 1028 | R13: 0 | S13: 0 | T13: 0 | U13: 0 | V13: 510 | W13: 1413.5 | X13: 269.2381 | Y13: 128.5 | Z13: =SUM(AA13:AD13) -> 642.5 | AA13: =C13 -> 128.5 | AB13: 257 | AC13: =C13 -> 128.5 | AD13: 128.5
A14: Ukrainas civiliedzīvotāji septembrī, kuri pēc 2022. gada 1. septembra ir reģistrēti Valsts izglītības informācijas sistēmā ar apakšstatusu "Ukrainas civiliedzīvotājs"
A15: 4. | B15: Unikālais izglītojamo skaits pārskata mēnesī ar VIIS reģistrēto apakšstatusu "Ukrainas civiliedzīvotājs" | C15: x | D15: x | E15: =F15+Z15 -> 3 | F15: =SUM(G15:Y15) -> 3 | G15: 1 | H15: 0 | I15: 0 | J15: 0 | K15: 0 | L15: 0 | M15: 0 | N15: 0 | O15: 0 | P15: 0 | Q15: 0 | R15: 0 | S15: 0 | T15: 1 | U15: 0 | V15: 0 | W15: 0 | X15: 1 | Y15: 0 | Z15: =SUM(AA15:AD15) -> 0 | AA15: 0 | AB15: 0 | AC15: 0 | AD15: 0
A16: 5. | B16: Pirmreizēji VIIS reģistrēto izglītojamo skaits pārskata mēnesī ar apakšstatusu "Ukrainas civiliedzīvotājs" | C16: x | D16: x | E16: =F16+Z16 -> 0 | F16: =SUM(G16:Y16) -> 0 | G16: 0 | H16: 0 | I16: 0 | J16: 0 | K16: 0 | L16: 0 | M16: 0 | N16: 0 | O16: 0 | P16: 0 | Q16: 0 | R16: 0 | S16: 0 | T16: 0 | U16: 0 | V16: 0 | W16: 0 | X16: 0 | Y16: 0 | Z16: =SUM(AA16:AD16) -> 0 | AA16: 0 | AB16: 0 | AC16: 0 | AD16: 0
A17: 6. | B17: Kopējais summētais kalendāro dienu skaits pārskata mēnesī | C17: x | D17: x | E17: =F17+Z17 -> 66 | F17: =SUM(G17:Y17) -> 66 | G17: 24 | H17: 0 | I17: 0 | J17: 0 | K17: 0 | L17: 0 | M17: 0 | N17: 0 | O17: 0 | P17: 0 | Q17: 0 | R17: 0 | S17: 0 | T17: 21 | U17: 0 | V17: 0 | W17: 0 | X17: 21 | Y17: 0 | Z17: =SUM(AA17:AD17) -> 0 | AA17: 0 | AB17: 0 | AC17: 0 | AD17: 0
A18: 7. | B18: Kopējais summētais darba dienu skaits pārskata mēnesī | C18: x | D18: x | E18: =F18+Z18 -> 78 | F18: =SUM(G18:Y18) -> 78 | G18: 16 | H18: 0 | I18: 0 | J18: 0 | K18: 0 | L18: 0 | M18: 0 | N18: 0 | O18: 0 | P18: 0 | Q18: 0 | R18: 0 | S18: 0 | T18: 31 | U18: 0 | V18: 0 | W18: 0 | X18: 31 | Y18: 0 | Z18: =SUM(AA18:AD18) -> 0 | AA18: 0 | AB18: 0 | AC18: 0 | AD18: 0
A19: 8. | B19: Pedagogu darba samaksa profesionālās izglītības iestādes | C19: 257 | D19: =C19/C5 -> 12.238095 | E19: =F19+Z19 -> 257 | F19: =SUM(G19:Y19) -> 257 | G19: 0 | H19: 0 | I19: 0 | J19: 0 | K19: 0 | L19: 0 | M19: 0 | N19: 0 | O19: 0 | P19: 0 | Q19: 0 | R19: 0 | S19: 0 | T19: 0 | U19: 0 | V19: 0 | W19: 0 | X19: 257 | Y19: 0 | Z19: =SUM(AA19:AD19) -> 0 | AA19: 0 | AB19: 0 | AC19: 0 | AD19: 0
A20: 9. | B20: Vienreizēja palīdzība mācību līdzekļu nodrošināšanai VIIS unikāli pirmreizēji reģistrētam izglītojamajam | C20: 50 | D20: x | E20: =F20+Z20 -> 0 | F20: =SUM(G20:Y20) -> 0 | G20: 0 | H20: 0 | I20: 0 | J20: 0 | K20: 0 | L20: 0 | M20: 0 | N20: 0 | O20: 0 | P20: 0 | Q20: 0 | R20: 0 | S20: 0 | T20: 0 | U20: 0 | V20: 0 | W20: 0 | X20: 0 | Y20: 0 | Z20: =SUM(AA20:AD20) -> 0 | AA20: 0 | AB20: 0 | AC20: 0 | AD20: 0
A21: 10. | B21: Stipendija (mēnesī) | C21: 15 | D21: =C21/C4 -> 0.48387097 | E21: =F21+Z21 -> 30 | F21: =SUM(G21:Y21) -> 30 | G21: 0 | H21: 0 | I21: 0 | J21: 0 | K21: 0 | L21: 0 | M21: 0 | N21: 0 | O21: 0 | P21: 0 | Q21: 0 | R21: 0 | S21: 0 | T21: 15 | U21: 0 | V21: 0 | W21: 0 | X21: 15 | Y21: 0 | Z21: =SUM(AA21:AD21) -> 0 | AA21: 0 | AB21: 0 | AC21: 0 | AD21: 0
A22: 11. | B22: Uzturēšanas izmaksas (vidējās izmaksas uz vienu izglītojamo): | C22: =SUM(C23:C24) -> 184.4 | D22: x | E22: =F22+Z22 -> 76.08 | F22: =SUM(G22:Y22) -> 76.08 | G22: =G23+G24 -> 0 | H22: =H23+H24 -> 0 | I22: =I23+I24 -> 0 | J22: =J23+J24 -> 0 | K22: =K23+K24 -> 0 | L22: =L23+L24 -> 0 | M22: =M23+M24 -> 0 | N22: =N23+N24 -> 0 | ... Y22: =Y23+Y24 -> 0 | Z22: =SUM(AA22:AD22) -> 0 | AA22: =AA23+AA24 -> 0 | AB22: =AB23+AB24 -> 0 | AC22: =AC23+AC24 -> 0 | AD22: =AD23+AD24 -> 0
A23: 11.1. | B23: Profesionālās vidējās izglītības programmas īstenošanai | C23: 76.08 | D23: =C23/C4 -> 2.4541935 | E23: =F23+Z23 -> 76.08 | F23: =SUM(G23:Y23) -> 76.08 | G23: 0 | H23: 0 | I23: 0 | J23: 0 | K23: 0 | L23: 0 | M23: 0 | N23: 0 | O23: 0 | P23: 0 | Q23: 0 | R23: 0 | S23: 0 | T23: 0 | U23: 0 | V23: 0 | W23: 0 | X23: 76.08 | Y23: 0 | Z23: =SUM(AA23:AD23) -> 0 | AA23: 0 | AB23: 0 | AC23: 0 | AD23: 0
A24: 11.2. | B24: Izglītības tematiskā joma "Mākslas" | C24: 108.32 | D24: =C24/C4 -> 3.4941935 | E24: =F24+Z24 -> 0 | F24: =SUM(G24:Y24) -> 0 | G24: 0 | H24: 0 | I24: 0 | J24: 0 | K24: 0 | L24: 0 | M24: 0 | N24: 0 | O24: 0 | P24: 0 | Q24: 0 | R24: 0 | S24: 0 | T24: 0 | U24: 0 | V24: 0 | W24: 0 | X24: 0 | Y24: 0 | Z24: =SUM(AA24:AD24) -> 0 | AA24: 0 | AB24: 0 | AC24: 0 | AD24: 0
A25: Kopā | E25: =F25+Z25 -> 5382.0205 | F25: =SUM(G25:Y25) -> 4739.5205 | G25: =G13+G19+G20+G21+G22 -> 0 | H25: =H13+H19+H20+H21+H22 -> 0 | I25: =I13+I19+I20+I21+I22 -> 207.25 | J25: =J13+J19+J20+J21+J22 -> 0 | K25: =K13+K19+K20+K21+K22 -> 0 | L25: =L13+L19+L20+L21+L22 -> 48.952381 | M25: =M13+M19+M20+M21+M22 -> 0 | N25: =N13+N19+N20+N21+N22 -> 771 | ... Y25: =Y13+Y19+Y20+Y21+Y22 -> 128.5 | Z25: =SUM(AA25:AD25) -> 642.5 | AA25: =AA13+AA19+AA20+AA21+AA22 -> 128.5 | AB25: =AB13+AB19+AB20+AB21+AB22 -> 257 | AC25: =AC13+AC19+AC20+AC21+AC22 -> 128.5 | AD25: =AD13+AD19+AD20+AD21+AD22 -> 128.5
A27: * Izdevumu pozīcijai "Pedagogu darba samaksa profesionālās izglītības iestādes" - vienas darba dienas izmaksa, izdevumu pozīcijām "Stipedijas" un "Uzturēšanas izmaksas"- vienas kalendārās dienas izmaksa.
A28: ** Ja izglītības iestādes norādītie faktiskie izdevumi pārsniedz maksimālo iespējamo izdevumu kompensācijas apmēru, norādīts maksimālais iespējamais izdevumu kompensācijas apmērs.

Sheet novembris
A1: Sagatavots saskaņā ar Ukrainas civiliedzīvotāju atbalsta likumu | C1: PROF Novembris
C2: Pārskats par finansējuma pieprasījumu Ukrainas civiliedzīvotāju izglītības nodrošināšanai
B4: Kalendāro dienu skaits mēnesī | C4: 30
B5: Darba dienu skaits mēnesī | C5: 21
A7: Nr.p.k. | B7: Rādītāja nosaukums | C7: Maksimālais iespējamais izdevumu kompensācijas apmērs, euro | D7: Pedagogu darba samaksas un papildus profesionālo izglītības iestāžu izmaksas uz vienu izglītojamo pārskata mēneša vienai dienai* | E7: Faktiskie izdevumi pārskata mēnesī**, euro
E8: Kopā | F8: Dibinātājs - Izglītības un zinātnes ministrija | Z8: Dibinātājs - Kultūras ministrija
F9: Kopā IZM | G9: Aizkraukles Profesionālā vidusskola | H9: Daugavpis tehnoloģiju un tūrisma tehnikums | I9: Jelgavas tehnikums | J9: Kandavas Lauksaimniecības tehnikums | K9: Kuldīgas Tehnoloģiju un tūrisma tehnikums | L9: Latgales industriālais tehnikums | M9: Latvijas Jūras akadēmijas Jūrskola | N9: Ogres tehnikums | O9: PIKC "Liepājas Valsts tehnikums" | P9: PIKC "Rīgas Valsts tehnikums" | Q9: PIKC "Rīgas Tehniskā koledža" | R9: Rīgas Celtniecības koledža | S9: Rīgas Mākslas un mediju tehnikums | T9: RTU aģentūra "Rīgas Tehniskās universitātes Olaines Tehnoloģiju koledža" | U9: Rīgas Tirdzniecības profesionālā vidusskola | V9: Saldus tehnikums | W9: VSIA "Rīgas Tūrisma un radošās industrijas tehnikums" (RTRIT) | X9: Ventspils Tehnikums | Y9: Vidzemes Tehnoloģiju un dizaina tehnikums | Z9: Kopā KM | AA9: Jāzepa Mediņa Rīgas Mūzikas vidusskola | AB9: PIKC "Nacionālā Mākslu vidusskola" | AC9: PIKC "Ventspils Mūzikas vidusskola" | AD9: Alfrēda Kalniņa Cēsu Mūzikas vidusskola (AKCMV)
A10: Ukrainas civiliedzīvotāji, kuri uz 2022. gada 1. septembri (t.sk. citā izglītības iestādē) ir reģistrēti Valsts izglītības informācijas sistēmā ar apakšstatusu "Ukrainas civiliedzīvotājs"
A11: 1. | B11: Unikālais izglītojamo skaits pārskata mēnesī ar VIIS reģistrēto apakšstatusu "Ukrainas civiliedzīvotājs" | C11: x | D11: x | E11: =F11+Z11 -> 73 | F11: =SUM(G11:Y11) -> 68 | G11: 0 | H11: 1 | I11: 2 | J11: 1 | K11: 5 | L11: 1 | M11: 1 | N11: 7 | O11: 1 | P11: 3 | Q11: 8 | R11: 3 | S11: 13 | T11: 0 | U11: 1 | V11: 7 | W11: 11 | X11: 2 | Y11: 1 | Z11: =SUM(AA11:AD11) -> 5 | AA11: 1 | AB11: 2 | AC11: 1 | AD11: 1
A12: 2. | B12: Kopējais summētais darba dienu skaits pārskata mēnesī | C12: x | D12: x | E12: =F12+Z12 -> 1528 | F12: =SUM(G12:Y12) -> 1423 | G12: 0 | H12: 21 | I12: =I11*C5 -> 42 | J12: 21 | K12: =K11*C5 -> 105 | L12: 21 | M12: 21 | N12: =6*21+16 -> 142 | O12: 21 | P12: =P11*C5 -> 63 | Q12: =Q11*C5 -> 168 | R12: =3*C5 -> 63 | S12: =S11*C5 -> 273 | T12: 0 | U12: 21 | V12: =V11*C5 -> 147 | W12: =W11*C5 -> 231 | X12: 42 | Y12: 21 | Z12: =SUM(AA12:AD12) -> 105 | AA12: 21 | AB12: 42 | AC12: 21 | AD12: 21
A13: 3. | B13: Pedagogu darba samaksa profesionālās izglītības iestādes | C13: =257/2 -> 128.5 | D13: =C13/C5 -> 6.1190476 | E13: =F13+Z13 -> 9349.9048 | F13: =SUM(G13:Y13) -> 8707.4048 | G13: =G12*$D$13 -> 0 | H13: =H12*$D$13 -> 128.5 | I13: =I12*$D$13 -> 257 | J13: =J12*$D$13 -> 128.5 | K13: =K12*$D$13 -> 642.5 | L13: =L12*$D$13 -> 128.5 | M13: =M12*$D$13 -> 128.5 | N13: =N12*$D$13 -> 868.90476 | ... Y13: =Y12*$D$13 -> 128.5 | Z13: =SUM(AA13:AD13) -> 642.5 | AA13: =AA12*$D$13 -> 128.5 | AB13: =AB12*$D$13 -> 257 | AC13: =AC12*$D$13 -> 128.5 | AD13: =AD12*$D$13 -> 128.5
A14: Ukrainas civiliedzīvotāji septembrī, kuri pēc 2022. gada 1. septembra ir reģistrēti Valsts izglītības informācijas sistēmā ar apakšstatusu "Ukrainas civiliedzīvotājs"
A15: 4. | B15: Unikālais izglītojamo skaits pārskata mēnesī ar VIIS reģistrēto apakšstatusu "Ukrainas civiliedzīvotājs" | C15: x | D15: x | E15: =F15+Z15 -> 2 | F15: =SUM(G15:Y15) -> 2 | G15: 0 | H15: 0 | I15: 0 | J15: 0 | K15: 0 | L15: 0 | M15: 0 | N15: 0 | O15: 0 | P15: 0 | Q15: 0 | R15: 0 | S15: 0 | T15: 1 | U15: 0 | V15: 0 | W15: 0 | X15: 1 | Y15: 0 | Z15: =SUM(AA15:AD15) -> 0 | AA15: 0 | AB15: 0 | AC15: 0 | AD15: 0
A16: 5. | B16: Pirmreizēji VIIS reģistrēto izglītojamo skaits pārskata mēnesī ar apakšstatusu "Ukrainas civiliedzīvotājs" | C16: x | D16: x | E16: =F16+Z16 -> 0 | F16: =SUM(G16:Y16) -> 0 | G16: 0 | H16: 0 | I16: 0 | J16: 0 | K16: 0 | L16: 0 | M16: 0 | N16: 0 | O16: 0 | P16: 0 | Q16: 0 | R16: 0 | S16: 0 | T16: 0 | U16: 0 | V16: 0 | W16: 0 | X16: 0 | Y16: 0 | Z16: =SUM(AA16:AD16) -> 0 | AA16: 0 | AB16: 0 | AC16: 0 | AD16: 0
A17: 6. | B17: Kopējais summētais kalendāro dienu skaits pārskata mēnesī | C17: x | D17: x | E17: =F17+Z17 -> 60 | F17: =SUM(G17:Y17) -> 60 | G17: 0 | H17: 0 | I17: 0 | J17: 0 | K17: 0 | L17: 0 | M17: 0 | N17: 0 | O17: 0 | P17: 0 | Q17: 0 | R17: 0 | S17: 0 | T17: 30 | U17: 0 | V17: 0 | W17: 0 | X17: 30 | Y17: 0 | Z17: =SUM(AA17:AD17) -> 0 | AA17: 0 | AB17: 0 | AC17: 0 | AD17: 0
A18: 7. | B18: Kopējais summētais darba dienu skaits pārskata mēnesī | C18: x | D18: x | E18: =F18+Z18 -> 42 | F18: =SUM(G18:Y18) -> 42 | G18: 0 | H18: 0 | I18: 0 | J18: 0 | K18: 0 | L18: 0 | M18: 0 | N18: 0 | O18: 0 | P18: 0 | Q18: 0 | R18: 0 | S18: 0 | T18: 21 | U18: 0 | V18: 0 | W18: 0 | X18: 21 | Y18: 0 | Z18: =SUM(AA18:AD18) -> 0 | AA18: 0 | AB18: 0 | AC18: 0 | AD18: 0
A19: 8. | B19: Pedagogu darba samaksa profesionālās izglītības iestādes | C19: 257 | D19: =C19/C5 -> 12.238095 | E19: =F19+Z19 -> 514 | F19: =SUM(G19:Y19) -> 514 | G19: 0 | H19: 0 | I19: 0 | J19: 0 | K19: 0 | L19: 0 | M19: 0 | N19: 0 | O19: 0 | P19: 0 | Q19: 0 | R19: 0 | S19: 0 | T19: 257 | U19: 0 | V19: 0 | W19: 0 | X19: 257 | Y19: 0 | Z19: =SUM(AA19:AD19) -> 0 | AA19: 0 | AB19: 0 | AC19: 0 | AD19: 0
A20: 9. | B20: Vienreizēja palīdzība mācību līdzekļu nodrošināšanai VIIS unikāli pirmreizēji reģistrētam izglītojamajam | C20: 50 | D20: x | E20: =F20+Z20 -> 0 | F20: =SUM(G20:Y20) -> 0 | G20: 0 | H20: 0 | I20: 0 | J20: 0 | K20: 0 | L20: 0 | M20: 0 | N20: 0 | O20: 0 | P20: 0 | Q20: 0 | R20: 0 | S20: 0 | T20: 0 | U20: 0 | V20: 0 | W20: 0 | X20: 0 | Y20: 0 | Z20: =SUM(AA20:AD20) -> 0 | AA20: 0 | AB20: 0 | AC20: 0 | AD20: 0
A21: 10. | B21: Stipendija (mēnesī) | C21: 15 | D21: =C21/C4 -> 0.5 | E21: =F21+Z21 -> 30 | F21: =SUM(G21:Y21) -> 30 | G21: 0 | H21: 0 | I21: 0 | J21: 0 | K21: 0 | L21: 0 | M21: 0 | N21: 0 | O21: 0 | P21: 0 | Q21: 0 | R21: 0 | S21: 0 | T21: 15 | U21: 0 | V21: 0 | W21: 0 | X21: 15 | Y21: 0 | Z21: =SUM(AA21:AD21) -> 0 | AA21: 0 | AB21: 0 | AC21: 0 | AD21: 0
A22: 11. | B22: Uzturēšanas izmaksas (vidējās izmaksas uz vienu izglītojamo): | C22: =SUM(C23:C24) -> 184.4 | D22: x | E22: =F22+Z22 -> 152.16 | F22: =SUM(G22:Y22) -> 152.16 | G22: =G23+G24 -> 0 | H22: =H23+H24 -> 0 | I22: =I23+I24 -> 0 | J22: =J23+J24 -> 0 | K22: =K23+K24 -> 0 | L22: =L23+L24 -> 0 | M22: =M23+M24 -> 0 | N22: =N23+N24 -> 0 | ... Y22: =Y23+Y24 -> 0 | Z22: =SUM(AA22:AD22) -> 0 | AA22: =AA23+AA24 -> 0 | AB22: =AB23+AB24 -> 0 | AC22: =AC23+AC24 -> 0 | AD22: =AD23+AD24 -> 0
A23: 11.1. | B23: Profesionālās vidējās izglītības programmas īstenošanai | C23: 76.08 | D23: =C23/C4 -> 2.536 | E23: =F23+Z23 -> 152.16 | F23: =SUM(G23:Y23) -> 152.16 | G23: 0 | H23: 0 | I23: 0 | J23: 0 | K23: 0 | L23: 0 | M23: 0 | N23: 0 | O23: 0 | P23: 0 | Q23: 0 | R23: 0 | S23: 0 | T23: 76.08 | U23: 0 | V23: 0 | W23: 0 | X23: 76.08 | Y23: 0 | Z23: =SUM(AA23:AD23) -> 0 | AA23: 0 | AB23: 0 | AC23: 0 | AD23: 0
A24: 11.2. | B24: Izglītības tematiskā joma "Mākslas" | C24: 108.32 | D24: =C24/C4 -> 3.6106667 | E24: =F24+Z24 -> 0 | F24: =SUM(G24:Y24) -> 0 | G24: 0 | H24: 0 | I24: 0 | J24: 0 | K24: 0 | L24: 0 | M24: 0 | N24: 0 | O24: 0 | P24: 0 | Q24: 0 | R24: 0 | S24: 0 | T24: 0 | U24: 0 | V24: 0 | W24: 0 | X24: 0 | Y24: 0 | Z24: =SUM(AA24:AD24) -> 0 | AA24: 0 | AB24: 0 | AC24: 0 | AD24: 0
A25: Kopā | E25: =F25+Z25 -> 10046.065 | F25: =SUM(G25:Y25) -> 9403.5648 | G25: =G13+G19+G20+G21+G22 -> 0 | H25: =H13+H19+H20+H21+H22 -> 128.5 | I25: =I13+I19+I20+I21+I22 -> 257 | J25: =J13+J19+J20+J21+J22 -> 128.5 | K25: =K13+K19+K20+K21+K22 -> 642.5 | L25: =L13+L19+L20+L21+L22 -> 128.5 | M25: =M13+M19+M20+M21+M22 -> 128.5 | N25: =N13+N19+N20+N21+N22 -> 868.90476 | ... Y25: =Y13+Y19+Y20+Y21+Y22 -> 128.5 | Z25: =SUM(AA25:AD25) -> 642.5 | AA25: =AA13+AA19+AA20+AA21+AA22 -> 128.5 | AB25: =AB13+AB19+AB20+AB21+AB22 -> 257 | AC25: =AC13+AC19+AC20+AC21+AC22 -> 128.5 | AD25: =AD13+AD19+AD20+AD21+AD22 -> 128.5
A27: * Izdevumu pozīcijai "Pedagogu darba samaksa profesionālās izglītības iestādes" - vienas darba dienas izmaksa, izdevumu pozīcijām "Stipedijas" un "Uzturēšanas izmaksas"- vienas kalendārās dienas izmaksa.
A28: ** Ja izglītības iestādes norādītie faktiskie izdevumi pārsniedz maksimālo iespējamo izdevumu kompensācijas apmēru, norādīts maksimālais iespējamais izdevumu kompensācijas apmērs.

Sheet decembris
A1: Sagatavots saskaņā ar Ukrainas civiliedzīvotāju atbalsta likumu | C1: PROF Decembris
C2: Pārskats par finansējuma pieprasījumu Ukrainas civiliedzīvotāju izglītības nodrošināšanai
B4: Kalendāro dienu skaits mēnesī | C4: 31
B5: Darba dienu skaits mēnesī | C5: 21
A7: Nr.p.k. | B7: Rādītāja nosaukums | C7: Maksimālais iespējamais izdevumu kompensācijas apmērs, euro | D7: Pedagogu darba samaksas un papildus profesionālo izglītības iestāžu izmaksas uz vienu izglītojamo pārskata mēneša vienai dienai* | E7: Faktiskie izdevumi pārskata mēnesī**, euro
E8: Kopā | F8: Dibinātājs - Izglītības un zinātnes ministrija | Z8: Dibinātājs - Kultūras ministrija
F9: Kopā IZM | G9: Aizkraukles Profesionālā vidusskola | H9: Daugavpis tehnoloģiju un tūrisma tehnikums | I9: Jelgavas tehnikums | J9: Kandavas Lauksaimniecības tehnikums | K9: Kuldīgas Tehnoloģiju un tūrisma tehnikums | L9: Latgales industriālais tehnikums | M9: Latvijas Jūras akadēmijas Jūrskola | N9: Ogres tehnikums | O9: PIKC "Liepājas Valsts tehnikums" | P9: PIKC "Rīgas Valsts tehnikums" | Q9: PIKC "Rīgas Tehniskā koledža" | R9: Rīgas Celtniecības koledža | S9: Rīgas Mākslas un mediju tehnikums | T9: RTU aģentūra "Rīgas Tehniskās universitātes Olaines Tehnoloģiju koledža" | U9: Rīgas Tirdzniecības profesionālā vidusskola | V9: Saldus tehnikums | W9: VSIA "Rīgas Tūrisma un radošās industrijas tehnikums" (RTRIT) | X9: Ventspils Tehnikums | Y9: Vidzemes Tehnoloģiju un dizaina tehnikums | Z9: Kopā KM | AA9: Jāzepa Mediņa Rīgas Mūzikas vidusskola | AB9: PIKC "Nacionālā Mākslu vidusskola" | AC9: PIKC "Ventspils Mūzikas vidusskola" | AD9: Alfrēda Kalniņa Cēsu Mūzikas vidusskola (AKCMV)
A10: Ukrainas civiliedzīvotāji, kuri uz 2022. gada 1. septembri (t.sk. citā izglītības iestādē) ir reģistrēti Valsts izglītības informācijas sistēmā ar apakšstatusu "Ukrainas civiliedzīvotājs"
A11: 1. | B11: Unikālais izglītojamo skaits pārskata mēnesī ar VIIS reģistrēto apakšstatusu "Ukrainas civiliedzīvotājs" | C11: x | D11: x | E11: =F11+Z11 -> 73 | F11: =SUM(G11:Y11) -> 68 | G11: 0 | H11: 1 | I11: 2 | J11: 1 | K11: 5 | L11: 1 | M11: 1 | N11: 7 | O11: 1 | P11: 3 | Q11: 8 | R11: 3 | S11: 13 | T11: 0 | U11: 1 | V11: 7 | W11: 11 | X11: 2 | Y11: 1 | Z11: =SUM(AA11:AD11) -> 5 | AA11: 1 | AB11: 2 | AC11: 1 | AD11: 1
A12: 2. | B12: Kopējais summētais darba dienu skaits pārskata mēnesī | C12: x | D12: x | E12: =F12+Z12 -> 1533 | F12: =SUM(G12:Y12) -> 1428 | G12: 0 | H12: 21 | I12: =I11*C5 -> 42 | J12: 21 | K12: =K11*C5 -> 105 | L12: 21 | M12: 21 | N12: =N11*C5 -> 147 | O12: 21 | P12: =P11*C5 -> 63 | Q12: =Q11*C5 -> 168 | R12: =R11*C5 -> 63 | S12: =S11*C5 -> 273 | T12: 0 | U12: 21 | V12: =7*C5 -> 147 | W12: =W11*C5 -> 231 | X12: =X11*C5 -> 42 | Y12: 21 | Z12: =SUM(AA12:AD12) -> 105 | AA12: 21 | AB12: =AB11*C5 -> 42 | AC12: =AC11*$C$5 -> 21 | AD12: =AD11*$C$5 -> 21
A13: 3. | B13: Pedagogu darba samaksa profesionālās izglītības iestādes | C13: =257/2 -> 128.5 | D13: =C13/C5 -> 6.1190476 | E13: =F13+Z13 -> 9380.5 | F13: =SUM(G13:Y13) -> 8738 | G13: =G12*$D$13 -> 0 | H13: =H12*$D$13 -> 128.5 | I13: =I12*$D$13 -> 257 | J13: =J12*$D$13 -> 128.5 | K13: =K12*$D$13 -> 642.5 | L13: =L12*$D$13 -> 128.5 | M13: =M12*$D$13 -> 128.5 | N13: =N12*$D$13 -> 899.5 | ... Y13: =Y12*$D$13 -> 128.5 | Z13: =SUM(AA13:AD13) -> 642.5 | AA13: =AA12*$D$13 -> 128.5 | AB13: =AB12*$D$13 -> 257 | AC13: =AC12*$D$13 -> 128.5 | AD13: =AD12*$D$13 -> 128.5
A14: Ukrainas civiliedzīvotāji septembrī, kuri pēc 2022. gada 1. septembra ir reģistrēti Valsts izglītības informācijas sistēmā ar apakšstatusu "Ukrainas civiliedzīvotājs"
A15: 4. | B15: Unikālais izglītojamo skaits pārskata mēnesī ar VIIS reģistrēto apakšstatusu "Ukrainas civiliedzīvotājs" | C15: x | D15: x | E15: =F15+Z15 -> 2 | F15: =SUM(G15:Y15) -> 2 | G15: 0 | H15: 0 | I15: 0 | J15: 0 | K15: 0 | L15: 0 | M15: 0 | N15: 0 | O15: 0 | P15: 0 | Q15: 0 | R15: 0 | S15: 0 | T15: 1 | U15: 0 | V15: 0 | W15: 0 | X15: 1 | Y15: 0 | Z15: =SUM(AA15:AD15) -> 0 | AA15: 0 | AB15: 0 | AC15: 0 | AD15: 0
A16: 5. | B16: Pirmreizēji VIIS reģistrēto izglītojamo skaits pārskata mēnesī ar apakšstatusu "Ukrainas civiliedzīvotājs" | C16: x | D16: x | E16: =F16+Z16 -> 0 | F16: =SUM(G16:Y16) -> 0 | G16: 0 | H16: 0 | I16: 0 | J16: 0 | K16: 0 | L16: 0 | M16: 0 | N16: 0 | O16: 0 | P16: 0 | Q16: 0 | R16: 0 | S16: 0 | T16: 0 | U16: 0 | V16: 0 | W16: 0 | X16: 0 | Y16: 0 | Z16: =SUM(AA16:AD16) -> 0 | AA16: 0 | AB16: 0 | AC16: 0 | AD16: 0
A17: 6. | B17: Kopējais summētais kalendāro dienu skaits pārskata mēnesī | C17: x | D17: x | E17: =F17+Z17 -> 62 | F17: =SUM(G17:Y17) -> 62 | G17: 0 | H17: 0 | I17: 0 | J17: 0 | K17: 0 | L17: 0 | M17: 0 | N17: 0 | O17: 0 | P17: 0 | Q17: 0 | R17: 0 | S17: 0 | T17: 31 | U17: 0 | V17: 0 | W17: 0 | X17: 31 | Y17: 0 | Z17: =SUM(AA17:AD17) -> 0 | AA17: 0 | AB17: 0 | AC17: 0 | AD17: 0
A18: 7. | B18: Kopējais summētais darba dienu skaits pārskata mēnesī | C18: x | D18: x | E18: =F18+Z18 -> 42 | F18: =SUM(G18:Y18) -> 42 | G18: 0 | H18: 0 | I18: 0 | J18: 0 | K18: 0 | L18: 0 | M18: 0 | N18: 0 | O18: 0 | P18: 0 | Q18: 0 | R18: 0 | S18: 0 | T18: 21 | U18: 0 | V18: 0 | W18: 0 | X18: 21 | Y18: 0 | Z18: =SUM(AA18:AD18) -> 0 | AA18: 0 | AB18: 0 | AC18: 0 | AD18: 0
A19: 8. | B19: Pedagogu darba samaksa profesionālās izglītības iestādes | C19: 257 | D19: =C19/C5 -> 12.238095 | E19: =F19+Z19 -> 514 | F19: =SUM(G19:Y19) -> 514 | G19: 0 | H19: 0 | I19: 0 | J19: 0 | K19: 0 | L19: 0 | M19: 0 | N19: 0 | O19: 0 | P19: 0 | Q19: 0 | R19: 0 | S19: 0 | T19: 257 | U19: 0 | V19: 0 | W19: 0 | X19: 257 | Y19: 0 | Z19: =SUM(AA19:AD19) -> 0 | AA19: 0 | AB19: 0 | AC19: 0 | AD19: 0
A20: 9. | B20: Vienreizēja palīdzība mācību līdzekļu nodrošināšanai VIIS unikāli pirmreizēji reģistrētam izglītojamajam | C20: 50 | D20: x | E20: =F20+Z20 -> 0 | F20: =SUM(G20:Y20) -> 0 | G20: 0 | H20: 0 | I20: 0 | J20: 0 | K20: 0 | L20: 0 | M20: 0 | N20: 0 | O20: 0 | P20: 0 | Q20: 0 | R20: 0 | S20: 0 | T20: 0 | U20: 0 | V20: 0 | W20: 0 | X20: 0 | Y20: 0 | Z20: =SUM(AA20:AD20) -> 0 | AA20: 0 | AB20: 0 | AC20: 0 | AD20: 0
A21: 10. | B21: Stipendija (mēnesī) | C21: 15 | D21: =C21/C4 -> 0.48387097 | E21: =F21+Z21 -> 30 | F21: =SUM(G21:Y21) -> 30 | G21: 0 | H21: 0 | I21: 0 | J21: 0 | K21: 0 | L21: 0 | M21: 0 | N21: 0 | O21: 0 | P21: 0 | Q21: 0 | R21: 0 | S21: 0 | T21: 15 | U21: 0 | V21: 0 | W21: 0 | X21: 15 | Y21: 0 | Z21: =SUM(AA21:AD21) -> 0 | AA21: 0 | AB21: 0 | AC21: 0 | AD21: 0
A22: 11. | B22: Uzturēšanas izmaksas (vidējās izmaksas uz vienu izglītojamo): | C22: =SUM(C23:C24) -> 184.4 | D22: x | E22: =F22+Z22 -> 152.16 | F22: =SUM(G22:Y22) -> 152.16 | G22: =G23+G24 -> 0 | H22: =H23+H24 -> 0 | I22: =I23+I24 -> 0 | J22: =J23+J24 -> 0 | K22: =K23+K24 -> 0 | L22: =L23+L24 -> 0 | M22: =M23+M24 -> 0 | N22: =N23+N24 -> 0 | ... Y22: =Y23+Y24 -> 0 | Z22: =SUM(AA22:AD22) -> 0 | AA22: =AA23+AA24 -> 0 | AB22: =AB23+AB24 -> 0 | AC22: =AC23+AC24 -> 0 | AD22: =AD23+AD24 -> 0
A23: 11.1. | B23: Profesionālās vidējās izglītības programmas īstenošanai | C23: 76.08 | D23: =C23/C4 -> 2.4541935 | E23: =F23+Z23 -> 152.16 | F23: =SUM(G23:Y23) -> 152.16 | G23: 0 | H23: 0 | I23: 0 | J23: 0 | K23: 0 | L23: 0 | M23: 0 | N23: 0 | O23: 0 | P23: 0 | Q23: 0 | R23: 0 | S23: 0 | T23: 76.08 | U23: 0 | V23: 0 | W23: 0 | X23: 76.08 | Y23: 0 | Z23: =SUM(AA23:AD23) -> 0 | AA23: 0 | AB23: 0 | AC23: 0 | AD23: 0
A24: 11.2. | B24: Izglītības tematiskā joma "Mākslas" | C24: 108.32 | D24: =C24/C4 -> 3.4941935 | E24: =F24+Z24 -> 0 | F24: =SUM(G24:Y24) -> 0 | G24: 0 | H24: 0 | I24: 0 | J24: 0 | K24: 0 | L24: 0 | M24: 0 | N24: 0 | O24: 0 | P24: 0 | Q24: 0 | R24: 0 | S24: 0 | T24: 0 | U24: 0 | V24: 0 | W24: 0 | X24: 0 | Y24: 0 | Z24: =SUM(AA24:AD24) -> 0 | AA24: 0 | AB24: 0 | AC24: 0 | AD24: 0
A25: Kopā | E25: =F25+Z25 -> 10076.66 | F25: =SUM(G25:Y25) -> 9434.16 | G25: =G13+G19+G20+G21+G22 -> 0 | H25: =H13+H19+H20+H21+H22 -> 128.5 | I25: =I13+I19+I20+I21+I22 -> 257 | J25: =J13+J19+J20+J21+J22 -> 128.5 | K25: =K13+K19+K20+K21+K22 -> 642.5 | L25: =L13+L19+L20+L21+L22 -> 128.5 | M25: =M13+M19+M20+M21+M22 -> 128.5 | N25: =N13+N19+N20+N21+N22 -> 899.5 | ... Y25: =Y13+Y19+Y20+Y21+Y22 -> 128.5 | Z25: =SUM(AA25:AD25) -> 642.5 | AA25: =AA13+AA19+AA20+AA21+AA22 -> 128.5 | AB25: =AB13+AB19+AB20+AB21+AB22 -> 257 | AC25: =AC13+AC19+AC20+AC21+AC22 -> 128.5 | AD25: =AD13+AD19+AD20+AD21+AD22 -> 128.5
A27: * Izdevumu pozīcijai "Pedagogu darba samaksa profesionālās izglītības iestādes" - vienas darba dienas izmaksa, izdevumu pozīcijām "Stipedijas" un "Uzturēšanas izmaksas"- vienas kalendārās dienas izmaksa.
A28: ** Ja izglītības iestādes norādītie faktiskie izdevumi pārsniedz maksimālo iespējamo izdevumu kompensācijas apmēru, norādīts maksimālais iespējamais izdevumu kompensācijas apmērs.
