Workbook

Sheet 2025
P1: 1.pielikums Ministru kabineta noteikumu projektam "Latvijas Antidopinga biroja maksas pakalpojumu cenrādis" sākotnējās ietekmes novērtējuma ziņojumam (anotācijai)
A3: Ieņēmumu no maksas pakalpojumiem izmaiņas sadalījumā pa izdevumu ekonomiskās klasifikācijas kodiem (EKK) salīdzinot 10.07.2018. MK noteikumos Nr.410 "Latvijas Antidopinga biroja maksas pakalpojumu cenrādis" apstiprinātās izmaksas ar noteikumu projektā "Grozījumi 10.07.2018. MK noteikumos Nr.410 "Latvijas Antidopinga biroja maksas pakalpojumu cenrādis"" (jaunā cenrāža projektā) iekļautajām izmaksām
A5: Nr. p.k. | B5: Pakalpojuma veids | C5: Mērvienība | D5: Atbilstoši 10.07.2018. MK noteikumiem Nr.410 | J5: Jaunais cenrādis | P5: Izmaksu pieaugums/ samazinājums | Q5: no tā, izdevumi sadalījumā pa EKK
D6: Daudzums | E6: Cena bez PVN (euro) | F6: Summa gadā (euro) bez PVN | G6: no tā, izdevumi sadalījumā pa EKK | J6: Daudzums | K6: Cena bez PVN (euro) | L6: Summa gadā (euro) bez PVN | M6: no tā, izdevumi sadalījumā pa EKK | Q6: 1000 | R6: 2000 | S6: 5000
G7: 1000 | H7: 2000 | I7: 5000 | M7: 1000 | N7: 2000 | O7: 5000
A8: 1 | B8: Dopinga kontroles analīzes
A9: 1.1. | B9: viena urīna parauga analīze dopinga vielu noteikšanai sacensību laikā bez papildu izmeklējumiem un atbildes sniegšana 14 dienu laikā | C9: 1 analīze | D9: 170 | E9: 468.46 | F9: =SUM(D9)*E9 -> 79638.2 | G9: =30097.36-752.23 -> 29345.13 | H9: =49490.09+752.29 -> 50242.38 | I9: 50.5 | J9: =[1]Pozīcijas!C3 -> 53 | K9: ='[1]1.1.'!C66 -> 508.14416 | L9: =SUM(J9)*K9 -> 26931.641 | M9: ='[1]1.1.'!C10+'[1]1.1.'!C12+'[1]1.1.'!C14+'[1]1.1.'!C16+'[1]1.1.'!C38+'[1]1.1.'!C40+'[1]1.1.'!C43+'[1]1.1.'!C45 -> 14041.245 | N9: ='[1]1.1.'!C18+'[1]1.1.'!C20+'[1]1.1.'!C22+'[1]1.1.'!C24+'[1]1.1.'!C26+'[1]1.1.'!C28+'[1]1.1.'!C30+'[1]1.1.'!C32+'[1]1.1.'!C34+'[1]1.1.'!C41+'[1]1.1.'!C47+'[1]1.1.'!C49+'[1]1.1.'!C51+'[1]1.1.'!C53+'[1]1.1.'!C55+'[1]1.1.'!C57 -> 12877.907 | O9: ='[1]1.1.'!C59 -> 12.488724 | P9: =SUM(L9)-F9 -> -52706.559 | Q9: =SUM(M9)-G9 -> -15303.885 | R9: =SUM(N9)-H9 -> -37364.473 | S9: =SUM(O9)-I9 -> -38.011276
A10: 1.2. | B10: viena urīna parauga analīze dopinga vielu noteikšanai ārpus sacensībām bez papildu izmeklējumiem un atbildes sniegšana 14 dienu laikā | C10: 1 analīze | D10: 80 | E10: 380.12 | F10: =SUM(D10)*E10 -> 30409.6 | G10: 11095.06 | H10: 19291.05 | I10: 23.77 | J10: =[1]Pozīcijas!C4 -> 8 | K10: ='[1]1.2.'!C62 -> 415.6774 | L10: =SUM(J10)*K10 -> 3325.4192 | M10: ='[1]1.2.'!C8+'[1]1.2.'!C10+'[1]1.2.'!C12+'[1]1.2.'!C14+'[1]1.2.'!C34+'[1]1.2.'!C36+'[1]1.2.'!C40+'[1]1.2.'!C42 -> 1722.019 | N10: ='[1]1.2.'!C16+'[1]1.2.'!C18+'[1]1.2.'!C20+'[1]1.2.'!C22+'[1]1.2.'!C24+'[1]1.2.'!C26+'[1]1.2.'!C28+'[1]1.2.'!C30+'[1]1.2.'!C38+'[1]1.2.'!C43+'[1]1.2.'!C45+'[1]1.2.'!C47+'[1]1.2.'!C49+'[1]1.2.'!C51+'[1]1.2.'!C53 -> 1601.515 | O10: ='[1]1.2.'!C55 -> 1.8850904 | P10: =SUM(L10)-F10 -> -27084.181 | Q10: =SUM(M10)-G10 -> -9373.041 | R10: =SUM(N10)-H10 -> -17689.535 | S10: =SUM(O10)-I10 -> -21.88491
A11: 1.3. | B11: viena urīna parauga analīze dopinga vielu noteikšanai sacensību laikā bez papildu izmeklējumiem un atbildes sniegšana 72 stundu laikā | C11: 1 analīze | D11: 2 | E11: 607.48 | F11: =SUM(D11)*E11 -> 1214.96 | G11: 354.09 | H11: 860.28 | I11: 0.59 | J11: =[1]Pozīcijas!C5 -> 1 | K11: ='[1]1.3.'!C65 -> 616.43621 | L11: =SUM(J11)*K11 -> 616.43621 | M11: ='[1]1.3.'!C8+'[1]1.3.'!C10+'[1]1.3.'!C12+'[1]1.3.'!C14+'[1]1.3.'!C36+'[1]1.3.'!C38+'[1]1.3.'!C42+'[1]1.3.'!C44 -> 264.9312 | N11: ='[1]1.3.'!C16+'[1]1.3.'!C18+'[1]1.3.'!C20+'[1]1.3.'!C22+'[1]1.3.'!C24+'[1]1.3.'!C26+'[1]1.3.'!C28+'[1]1.3.'!C30+'[1]1.3.'!C32+'[1]1.3.'!C40+'[1]1.3.'!C46+'[1]1.3.'!C48+'[1]1.3.'!C50+'[1]1.3.'!C52+'[1]1.3.'!C54+'[1]1.3.'!C56 -> 351.26938 | O11: ='[1]1.3.'!C58 -> 0.2356363 | P11: =SUM(L11)-F11 -> -598.52379 | Q11: =SUM(M11)-G11 -> -89.158802 | R11: =SUM(N11)-H11 -> -509.01062 | S11: =SUM(O11)-I11 -> -0.3543637
A12: 1.4. | B12: viena urīna parauga analīze dopinga vielu noteikšanai ārpus sacensībām bez papildu izmeklējumiem un atbildes sniegšana 72 stundu laikā | C12: 1 analīze | D12: 2 | E12: 519.15 | F12: =SUM(D12)*E12 -> 1038.3 | G12: 277.38 | H12: 760.32 | I12: 0.59 | J12: =[1]Pozīcijas!C6 -> 2 | K12: ='[1]1.4.'!C62 -> 515.86666 | L12: =SUM(J12)*K12 -> 1031.7333 | M12: ='[1]1.4.'!C8+'[1]1.4.'!C10+'[1]1.4.'!C12+'[1]1.4.'!C14+'[1]1.4.'!C34+'[1]1.4.'!C36+'[1]1.4.'!C39+'[1]1.4.'!C41 -> 430.96329 | N12: ='[1]1.4.'!C16+'[1]1.4.'!C18+'[1]1.4.'!C20+'[1]1.4.'!C22+'[1]1.4.'!C24+'[1]1.4.'!C26+'[1]1.4.'!C28+'[1]1.4.'!C30+'[1]1.4.'!C37+'[1]1.4.'!C43+'[1]1.4.'!C45+'[1]1.4.'!C47+'[1]1.4.'!C49+'[1]1.4.'!C51+'[1]1.4.'!C53 -> 600.29876 | O12: ='[1]1.4.'!C55 -> 0.47127259 | P12: =SUM(L12)-F12 -> -6.5666814 | Q12: =SUM(M12)-G12 -> 153.58329 | R12: =SUM(N12)-H12 -> -160.02124 | S12: =SUM(O12)-I12 -> -0.11872741
A13: 1.5. | B13: viena urīna parauga savākšana (bez paraugu transportēšanas uz laboratoriju, laboratorijas pakalpojumu un komandējuma izdevumu apmaksas) | C13: 1 analīze | D13: 2 | E13: 257.58 | F13: =SUM(D13)*E13 -> 515.16 | G13: 354.09 | H13: 160.48 | I13: 0.59 | J13: =[1]Pozīcijas!C7 -> 8 | K13: ='[1]1.5.'!C61 -> 329.52422 | L13: =SUM(J13)*K13 -> 2636.1938 | M13: ='[1]1.5.'!C8+'[1]1.5.'!C10+'[1]1.5.'!C12+'[1]1.5.'!C14+'[1]1.5.'!C32+'[1]1.5.'!C34+'[1]1.5.'!C38+'[1]1.5.'!C40 -> 2119.4337 | N13: ='[1]1.5.'!C16+'[1]1.5.'!C18+'[1]1.5.'!C20+'[1]1.5.'!C22+'[1]1.5.'!C24+'[1]1.5.'!C26+'[1]1.5.'!C28+'[1]1.5.'!C36+'[1]1.5.'!C42+'[1]1.5.'!C44+'[1]1.5.'!C46+'[1]1.5.'!C48+'[1]1.5.'!C50+'[1]1.5.'!C52 -> 514.87504 | O13: ='[1]1.5.'!C54 -> 1.8850904 | P13: =SUM(L13)-F13 -> 2121.0338 | Q13: =SUM(M13)-G13 -> 1765.3437 | R13: =SUM(N13)-H13 -> 354.39504 | S13: =SUM(O13)-I13 -> 1.2950904
A14: 1.6. | B14: viens papildu izmeklējums eritropoetīna noteikšanai urīnā | C14: 1 analīze | D14: 20 | E14: 243.32 | F14: =SUM(D14)*E14 -> 4866.4 | G14: 168.1 | H14: 4698.39 | J14: =[1]Pozīcijas!C8 -> 6 | K14: ='[1]1.6.'!C45 -> 343.31848 | L14: =SUM(J14)*K14 -> 2059.9109 | M14: ='[1]1.6.'!C8+'[1]1.6.'!C10+'[1]1.6.'!C16+'[1]1.6.'!C18+'[1]1.6.'!C22+'[1]1.6.'!C24 -> 545.6416 | N14: ='[1]1.6.'!C12+'[1]1.6.'!C20+'[1]1.6.'!C26+'[1]1.6.'!C28+'[1]1.6.'!C30+'[1]1.6.'!C32+'[1]1.6.'!C34+'[1]1.6.'!C36 -> 1512.8555 | O14: ='[1]1.6.'!C38 -> 1.4138178 | P14: =SUM(L14)-F14 -> -2806.4891 | Q14: =SUM(M14)-G14 -> 377.5416 | R14: =SUM(N14)-H14 -> -3185.5345 | S14: =SUM(O14)-I14 -> 1.4138178
A15: 1.7. | B15: viens papildu izmeklējums augšanas hormona atbrīvotājfaktoru noteikšanai urīnā | C15: 1 analīze | D15: 30 | E15: 108.86 | F15: =SUM(D15)*E15 -> 3265.8 | G15: 252.16 | H15: 3013.49 | J15: =[1]Pozīcijas!C9 -> 12 | K15: ='[1]1.7.'!C45 -> 199.32837 | L15: =SUM(J15)*K15 -> 2391.9405 | M15: ='[1]1.7.'!C8+'[1]1.7.'!C10+'[1]1.7.'!C16+'[1]1.7.'!C18+'[1]1.7.'!C22+'[1]1.7.'!C24 -> 1091.2819 | N15: ='[1]1.7.'!C12+'[1]1.7.'!C20+'[1]1.7.'!C26+'[1]1.7.'!C28+'[1]1.7.'!C30+'[1]1.7.'!C32+'[1]1.7.'!C34+'[1]1.7.'!C36 -> 1297.8309 | O15: ='[1]1.7.'!C38 -> 2.8276356 | P15: =SUM(L15)-F15 -> -873.8595 | Q15: =SUM(M15)-G15 -> 839.12192 | R15: =SUM(N15)-H15 -> -1715.6591 | S15: =SUM(O15)-I15 -> 2.8276356
A16: 1.8. | B16: viens papildu izmeklējums gonadotropīna atbrīvotājhormona noteikšanai urīnā | C16: 1 analīze | D16: 20 | E16: 108.85 | F16: =SUM(D16)*E16 -> 2177 | G16: 168.1 | H16: 2008.99 | J16: =[1]Pozīcijas!C10 -> 1 | K16: ='[1]1.8.'!C45 -> 199.32896 | L16: =SUM(J16)*K16 -> 199.32896 | M16: ='[1]1.8.'!C8+'[1]1.8.'!C10+'[1]1.8.'!C16+'[1]1.8.'!C18+'[1]1.8.'!C22+'[1]1.8.'!C24 -> 90.94075 | N16: ='[1]1.8.'!C12++'[1]1.8.'!C20+'[1]1.8.'!C26+'[1]1.8.'!C28+'[1]1.8.'!C30+'[1]1.8.'!C32+'[1]1.8.'!C34+'[1]1.8.'!C36 -> 108.15258 | O16: ='[1]1.8.'!C38 -> 0.2356363 | P16: =SUM(L16)-F16 -> -1977.671 | Q16: =SUM(M16)-G16 -> -77.15925 | R16: =SUM(N16)-H16 -> -1900.8374 | S16: =SUM(O16)-I16 -> 0.2356363
A17: 1.9. | B17: viens papildu izmeklējums endogēno steroīdu noteikšanai urīnā ar IRMS metodi | C17: 1 analīze | D17: 3 | E17: 463.47 | F17: =SUM(D17)*E17 -> 1390.41 | G17: 25.21 | H17: 1365.21 | J17: =[1]Pozīcijas!C11 -> 1 | K17: ='[1]1.9.'!C44 -> 545.34014 | L17: =SUM(J17)*K17 -> 545.34014 | M17: ='[1]1.9.'!C8+'[1]1.9.'!C10+'[1]1.9.'!C16+'[1]1.9.'!C18+'[1]1.9.'!C21+'[1]1.9.'!C23 -> 85.901926 | N17: ='[1]1.9.'!C12+'[1]1.9.'!C19+'[1]1.9.'!C25+'[1]1.9.'!C27+'[1]1.9.'!C29+'[1]1.9.'!C31+'[1]1.9.'!C33+'[1]1.9.'!C35 -> 459.20258 | O17: ='[1]1.9.'!C37 -> 0.2356363 | P17: =SUM(L17)-F17 -> -845.06986 | Q17: =SUM(M17)-G17 -> 60.691926 | R17: =SUM(N17)-H17 -> -906.00742 | S17: =SUM(O17)-I17 -> 0.2356363
A18: 1.10. | B18: viens papildu izmeklējums insulīna noteikšanai urīnā | C18: 1 analīze | D18: 3 | E18: 223.09 | F18: =SUM(D18)*E18 -> 669.27 | G18: 25.21 | H18: 644.07 | J18: =[1]Pozīcijas!C12 -> 1 | K18: ='[1]1.10.'!C45 -> 293.87896 | L18: =SUM(J18)*K18 -> 293.87896 | M18: ='[1]1.10.'!C8+'[1]1.10.'!C10+'[1]1.10.'!C16+'[1]1.10.'!C18+'[1]1.10.'!C22+'[1]1.10.'!C24 -> 90.94075 | N18: ='[1]1.10.'!C12+'[1]1.10.'!C20+'[1]1.10.'!C26+'[1]1.10.'!C28+'[1]1.10.'!C30+'[1]1.10.'!C32+'[1]1.10.'!C34+'[1]1.10.'!C36 -> 202.70258 | O18: ='[1]1.10.'!C38 -> 0.2356363 | P18: =SUM(L18)-F18 -> -375.39104 | Q18: =SUM(M18)-G18 -> 65.73075 | R18: =SUM(N18)-H18 -> -441.36742 | S18: =SUM(O18)-I18 -> 0.2356363
A19: 1.11. | B19: viens izmeklējums endogēno steroīdu apstiprināšanai urīnā, tai skaitā ar IRMS metodi | C19: 1 analīze | D19: 2 | E19: 522.98 | F19: =SUM(D19)*E19 -> 1045.96 | G19: 16.81 | H19: 1029.14 | J19: =[1]Pozīcijas!C13 -> 1 | K19: ='[1]1.11.'!C45 -> 533.87896 | L19: =SUM(J19)*K19 -> 533.87896 | M19: ='[1]1.11.'!C8+'[1]1.11.'!C10+'[1]1.11.'!C16+'[1]1.11.'!C18+'[1]1.11.'!C22+'[1]1.11.'!C24 -> 90.94075 | N19: ='[1]1.11.'!C12+'[1]1.11.'!C20+'[1]1.11.'!C26+'[1]1.11.'!C28+'[1]1.11.'!C30+'[1]1.11.'!C32+'[1]1.11.'!C34+'[1]1.11.'!C36 -> 442.70258 | O19: ='[1]1.11.'!C38 -> 0.2356363 | P19: =SUM(L19)-F19 -> -512.08104 | Q19: =SUM(M19)-G19 -> 74.13075 | R19: =SUM(N19)-H19 -> -586.43742 | S19: =SUM(O19)-I19 -> 0.2356363
A20: 1.12. | B20: viena asins parauga analīze eritropoetīna noteikšanai asins serumā | C20: 1 analīze | D20: 10 | E20: 448.39 | F20: =SUM(D20)*E20 -> 4483.9 | G20: 594.23 | H20: 3889.65 | J20: =[1]Pozīcijas!C14 -> 1 | K20: ='[1]1.12.'!C61 -> 545.6173 | L20: =SUM(J20)*K20 -> 545.6173 | M20: ='[1]1.12.'!C8+'[1]1.12.'!C10+'[1]1.12.'!C12+'[1]1.12.'!C14+'[1]1.12.'!C32+'[1]1.12.'!C34+'[1]1.12.'!C38+'[1]1.12.'!C40 -> 239.73159 | N20: ='[1]1.12.'!C16+'[1]1.12.'!C18+'[1]1.12.'!C20+'[1]1.12.'!C22+'[1]1.12.'!C24+'[1]1.12.'!C26+'[1]1.12.'!C28+'[1]1.12.'!C36+'[1]1.12.'!C42+'[1]1.12.'!C44+'[1]1.12.'!C46+'[1]1.12.'!C48+'[1]1.12.'!C50+'[1]1.12.'!C52 -> 305.65008 | O20: ='[1]1.12.'!C54 -> 0.2356363 | P20: =SUM(L20)-F20 -> -3938.2827 | Q20: =SUM(M20)-G20 -> -354.49841 | R20: =SUM(N20)-H20 -> -3583.9999 | S20: =SUM(O20)-I20 -> 0.2356363
A21: 1.13. | B21: viena asins parauga analīze augšanas hormona noteikšanai asins serumā | C21: 1 analīze | D21: 30 | E21: 359.14 | F21: =SUM(D21)*E21 -> 10774.2 | G21: 1782.69 | H21: 8991.43 | J21: =[1]Pozīcijas!C15 -> 4 | K21: ='[1]1.13.'!C61 -> 483.16528 | L21: =SUM(J21)*K21 -> 1932.6611 | M21: ='[1]1.13.'!C8+'[1]1.13.'!C10+'[1]1.13.'!C12+'[1]1.13.'!C14+'[1]1.13.'!C32+'[1]1.13.'!C34+'[1]1.13.'!C38+'[1]1.13.'!C40 -> 928.70048 | N21: ='[1]1.13.'!C16+'[1]1.13.'!C18+'[1]1.13.'!C20+'[1]1.13.'!C22+'[1]1.13.'!C24+'[1]1.13.'!C26+'[1]1.13.'!C28+'[1]1.13.'!C36+'[1]1.13.'!C42+'[1]1.13.'!C44+'[1]1.13.'!C46+'[1]1.13.'!C48+'[1]1.13.'!C50+'[1]1.13.'!C52 -> 1003.0181 | O21: ='[1]1.13.'!C54 -> 0.94254519 | P21: =SUM(L21)-F21 -> -8841.5389 | Q21: =SUM(M21)-G21 -> -853.98952 | R21: =SUM(N21)-H21 -> -7988.4119 | S21: =SUM(O21)-I21 -> 0.94254519
A22: 1.14. | B22: viena asins parauga analīze mākslīgu skābekļa pārnesēju uz hemoglobīna bāzes noteikšanai asins plazmā | C22: 1 analīze | D22: 2 | E22: 281 | F22: =SUM(D22)*E22 -> 562 | G22: 118.84 | H22: 443.15 | J22: =[1]Pozīcijas!C16 -> 1 | K22: ='[1]1.14.'!C61 -> 411.6173 | L22: =SUM(J22)*K22 -> 411.6173 | M22: ='[1]1.14.'!C8+'[1]1.14.'!C10+'[1]1.14.'!C12+'[1]1.14.'!C14+'[1]1.14.'!C32+'[1]1.14.'!C34+'[1]1.14.'!C38+'[1]1.14.'!C40 -> 239.73159 | N22: ='[1]1.14.'!C16+'[1]1.14.'!C18+'[1]1.14.'!C20+'[1]1.14.'!C22+'[1]1.14.'!C24+'[1]1.14.'!C26+'[1]1.14.'!C28+'[1]1.14.'!C36+'[1]1.14.'!C42+'[1]1.14.'!C44+'[1]1.14.'!C46+'[1]1.14.'!C48+'[1]1.14.'!C50+'[1]1.14.'!C52 -> 171.65008 | O22: ='[1]1.14.'!C54 -> 0.2356363 | P22: =SUM(L22)-F22 -> -150.3827 | Q22: =SUM(M22)-G22 -> 120.89159 | R22: =SUM(N22)-H22 -> -271.49992 | S22: =SUM(O22)-I22 -> 0.2356363
B23: viena asins parauga analīze eritropoetīna noteikšanai asins plazmā | C23: 1 analīze | D23: 2 | E23: 442.84 | F23: 885.68 | G23: 118.84 | H23: 766.84 | P23: =SUM(L23)-F23 -> -885.68 | Q23: =SUM(M23)-G23 -> -118.84 | R23: =SUM(N23)-H23 -> -766.84 | S23: =SUM(O23)-I23 -> 0
A24: 1.15. | B24: viena asins parauga analīze sportista bioloģiskajai asins pasei asins plazmā | C24: 1 analīze | D24: 2 | E24: 285.72 | F24: =SUM(D24)*E24 -> 571.44 | G24: 118.84 | H24: 452.6 | J24: =[1]Pozīcijas!C17 -> 2 | K24: ='[1]1.15.'!C61 -> 419.6 | L24: =SUM(J24)*K24 -> 839.2 | M24: ='[1]1.15.'!C8+'[1]1.15.'!C10+'[1]1.15.'!C12+'[1]1.15.'!C14+'[1]1.15.'!C32+'[1]1.15.'!C34+'[1]1.15.'!C38+'[1]1.15.'!C40 -> 479.45845 | N24: ='[1]1.15.'!C16+'[1]1.15.'!C18+'[1]1.15.'!C20+'[1]1.15.'!C22+'[1]1.15.'!C24+'[1]1.15.'!C26+'[1]1.15.'!C28+'[1]1.15.'!C36+'[1]1.15.'!C42+'[1]1.15.'!C44+'[1]1.15.'!C46+'[1]1.15.'!C48+'[1]1.15.'!C50+'[1]1.15.'!C52 -> 359.26016 | O24: ='[1]1.15.'!C54 -> 0.47127259 | P24: =SUM(L24)-F24 -> 267.76 | Q24: =SUM(M24)-G24 -> 360.61845 | R24: =SUM(N24)-H24 -> -93.339842 | S24: =SUM(O24)-I24 -> 0.47127259
A25: 1.16. | B25: viena asins parauga savākšana (bez paraugu transportēšanas uz laboratoriju, laboratorijas pakalpojumu un komandējuma izdevumu apmaksas) | C25: 1 analīze | D25: 2 | E25: 245.7 | F25: =SUM(D25)*E25 -> 491.4 | G25: 118.84 | H25: 372.55 | J25: =[1]Pozīcijas!C18 -> 1 | K25: ='[1]1.16.'!C57 -> 352.9573 | L25: =SUM(J25)*K25 -> 352.9573 | M25: ='[1]1.16.'!C8+'[1]1.16.'!C10+'[1]1.16.'!C12+'[1]1.16.'!C14+'[1]1.16.'!C28+'[1]1.16.'!C30+'[1]1.16.'!C34+'[1]1.16.'!C36 -> 239.73159 | N25: ='[1]1.16.'!C16+'[1]1.16.'!C18+'[1]1.16.'!C20+'[1]1.16.'!C22+'[1]1.16.'!C24+'[1]1.16.'!C32+'[1]1.16.'!C38+'[1]1.16.'!C40+'[1]1.16.'!C42+'[1]1.16.'!C44+'[1]1.16.'!C46+'[1]1.16.'!C48 -> 112.99008 | O25: ='[1]1.16.'!C50 -> 0.2356363 | P25: =SUM(L25)-F25 -> -138.4427 | Q25: =SUM(M25)-G25 -> 120.89159 | R25: =SUM(N25)-H25 -> -259.55992 | S25: =SUM(O25)-I25 -> 0.2356363
A26: 1.17. | B26: viena parauga B daļas kvalitatīvā analīze A paraugā noteiktās dopinga vielas apstiprināšanai | C26: 1 analīze | D26: 2 | E26: 684.86 | F26: =SUM(D26)*E26 -> 1369.72 | G26: 109.71 | H26: 1260 | J26: =[1]Pozīcijas!C19 -> 1 | K26: ='[1]1.17.'!C45 -> 1058.8377 | L26: =SUM(J26)*K26 -> 1058.8377 | M26: ='[1]1.17.'!C8+'[1]1.17.'!C10+'[1]1.17.'!C16+'[1]1.17.'!C18+'[1]1.17.'!C22+'[1]1.17.'!C24 -> 115.89951 | N26: ='[1]1.17.'!C12+'[1]1.17.'!C20+'[1]1.17.'!C26+'[1]1.17.'!C28+'[1]1.17.'!C30+'[1]1.17.'!C32+'[1]1.17.'!C34+'[1]1.17.'!C36 -> 942.70258 | O26: ='[1]1.17.'!C38 -> 0.2356363 | P26: =SUM(L26)-F26 -> -310.88228 | Q26: =SUM(M26)-G26 -> 6.1895094 | R26: =SUM(N26)-H26 -> -317.29742 | S26: =SUM(O26)-I26 -> 0.2356363
A27: 1.18. | B27: viena parauga B daļas kvantitatīvā analīze A paraugā noteiktās dopinga vielas apstiprināšanai | C27: 1 analīze | D27: 2 | E27: 1101.36 | F27: =SUM(D27)*E27 -> 2202.72 | G27: 109.71 | H27: 2093 | J27: =[1]Pozīcijas!C20 -> 1 | K27: ='[1]1.18.'!C45 -> 1358.8342 | L27: =SUM(J27)*K27 -> 1358.8342 | M27: ='[1]1.18.'!C8+'[1]1.18.'!C10+'[1]1.18.'!C16+'[1]1.18.'!C18+'[1]1.18.'!C22+'[1]1.18.'!C24 -> 115.89951 | N27: ='[1]1.18.'!C12+'[1]1.18.'!C20+'[1]1.18.'!C26+'[1]1.18.'!C28+'[1]1.18.'!C30+'[1]1.18.'!C32+'[1]1.18.'!C34+'[1]1.18.'!C36 -> 1242.7026 | O27: ='[1]1.18.'!C38 -> 0.23209556 | P27: =SUM(L27)-F27 -> -843.88582 | Q27: =SUM(M27)-G27 -> 6.1895094 | R27: =SUM(N27)-H27 -> -850.29742 | S27: =SUM(O27)-I27 -> 0.23209556
A28: 1.19. | B28: viena parauga B daļas izmeklējums ar IRMS metodi | C28: 1 analīze | D28: 2 | E28: 684.86 | F28: =SUM(D28)*E28 -> 1369.72 | G28: 109.71 | H28: 1260 | J28: =[1]Pozīcijas!C21 -> 1 | K28: ='[1]1.19.'!C45 -> 1958.8377 | L28: =SUM(J28)*K28 -> 1958.8377 | M28: ='[1]1.19.'!C8+'[1]1.19.'!C10+'[1]1.19.'!C16+'[1]1.19.'!C18+'[1]1.19.'!C22+'[1]1.19.'!C24 -> 115.89951 | N28: ='[1]1.19.'!C12+'[1]1.19.'!C20+'[1]1.19.'!C26+'[1]1.19.'!C28+'[1]1.19.'!C30+'[1]1.19.'!C32+'[1]1.19.'!C34+'[1]1.19.'!C36 -> 1842.7026 | O28: ='[1]1.19.'!C38 -> 0.2356363 | P28: =SUM(L28)-F28 -> 589.11772 | Q28: =SUM(M28)-G28 -> 6.1895094 | R28: =SUM(N28)-H28 -> 582.70258 | S28: =SUM(O28)-I28 -> 0.2356363
B29: viena parauga B daļas izmeklējums eritropoetīna un tā analogu apstiprināšanai | C29: 1 analīze | D29: 2 | E29: 684.86 | F29: =SUM(D29)*E29 -> 1369.72 | G29: 109.71 | H29: 1260 | P29: =SUM(L29)-F29 -> -1369.72 | Q29: =SUM(M29)-G29 -> -109.71 | R29: =SUM(N29)-H29 -> -1260 | S29: =SUM(O29)-I29 -> 0
B30: viena parauga B daļas izmeklējums augšanas hormona apstiprināšanai | C30: 1 analīze | D30: 2 | E30: 684.86 | F30: =SUM(D30)*E30 -> 1369.72 | G30: 109.71 | H30: 1260 | P30: =SUM(L30)-F30 -> -1369.72 | Q30: =SUM(M30)-G30 -> -109.71 | R30: =SUM(N30)-H30 -> -1260 | S30: =SUM(O30)-I30 -> 0
A31: 1.20. | B31: dopinga kontroles laboratorijas sagatavots analītisko rezultātu pilns dokumentārs pārskats | C31: 1 dokuments | D31: 4 | E31: 803.85 | F31: =SUM(D31)*E31 -> 3215.4 | G31: 219.41 | H31: 2996 | J31: =[1]Pozīcijas!C22 -> 1 | K31: ='[1]1.20.'!C45 -> 1288.9877 | L31: =SUM(J31)*K31 -> 1288.9877 | M31: ='[1]1.20.'!C8+'[1]1.20.'!C10+'[1]1.20.'!C16+'[1]1.20.'!C18+'[1]1.20.'!C22+'[1]1.20.'!C24 -> 115.89951 | N31: ='[1]1.20.'!C12+'[1]1.20.'!C20+'[1]1.20.'!C26+'[1]1.20.'!C28+'[1]1.20.'!C30+'[1]1.20.'!C32+'[1]1.20.'!C34+'[1]1.20.'!C36 -> 1172.8526 | O31: ='[1]1.20.'!C38 -> 0.2356363 | P31: =SUM(L31)-F31 -> -1926.4123 | Q31: =SUM(M31)-G31 -> -103.51049 | R31: =SUM(N31)-H31 -> -1823.1474 | S31: =SUM(O31)-I31 -> 0.2356363
A32: 1.21. | B32: dopinga kontroles laboratorijas sagatavots analītisko rezultātu pilns dokumentārs pārskats sportista bioloģiskajai asins pasei | C32: 1 dokuments | D32: 4 | E32: 387.35 | F32: =SUM(D32)*E32 -> 1549.4 | G32: 219.41 | H32: 1330 | J32: =[1]Pozīcijas!C23 -> 1 | K32: ='[1]1.21.'!C45 -> 1508.8377 | L32: =SUM(J32)*K32 -> 1508.8377 | M32: ='[1]1.21.'!C8+'[1]1.21.'!C10+'[1]1.21.'!C16+'[1]1.21.'!C18+'[1]1.21.'!C22+'[1]1.21.'!C24 -> 115.89951 | N32: ='[1]1.21.'!C12+'[1]1.21.'!C20+'[1]1.21.'!C26+'[1]1.21.'!C28+'[1]1.21.'!C30+'[1]1.21.'!C32+'[1]1.21.'!C34+'[1]1.21.'!C36 -> 1392.7026 | O32: ='[1]1.21.'!C38 -> 0.2356363 | P32: =SUM(L32)-F32 -> -40.562276 | Q32: =SUM(M32)-G32 -> -103.51049 | R32: =SUM(N32)-H32 -> 62.702579 | S32: =SUM(O32)-I32 -> 0.2356363
B33: lekcija antidopinga jomā (bez komandējuma izdevumu apmaksas) | C33: 1 akadēmiskā stunda | D33: 15 | E33: 20.02 | F33: =SUM(D33)*E33 -> 300.3 | G33: 300.3 | P33: =SUM(L33)-F33 -> -300.3 | Q33: =SUM(M33)-G33 -> -300.3 | R33: =SUM(N33)-H33 -> 0 | S33: =SUM(O33)-I33 -> 0
B34: antidopinga stenda prezentācija (divi informatori un izdales materiāli 100 personām, bez komandējuma izdevumu apmaksas) | C34: 1 stunda | D34: 60 | E34: 18.36 | F34: =D34*E34 -> 1101.6 | G34: 1101.6 | P34: =SUM(L34)-F34 -> -1101.6 | Q34: =SUM(M34)-G34 -> -1101.6 | R34: =SUM(N34)-H34 -> 0 | S34: =SUM(O34)-I34 -> 0
A35: KOPĀ: | F35: =ROUND(SUM(F9:F34),0) -> 157848 | G35: =ROUND(SUM(G9:G34),0) -> 47323 | H35: =ROUND(SUM(H9:H34),0) -> 110449 | I35: =ROUND(SUM(I9:I34),0) -> 76 | J35: =SUM(J9:J34) -> 108 | L35: =ROUND(SUM(L9:L32),0) -> 51822 | M35: =SUM(M9:M32) -> 23281.091 | N35: =SUM(N9:N32) -> 28515.543 | O35: =SUM(O9:O32) -> 25.445179 | P35: =ROUNDUP(SUM(P9:P32),0) -> -104624 | Q35: =SUM(Q9:Q32) -> -22639.899 | R35: =SUM(R9:R32) -> -81933.477 | S35: =SUM(S9:S32) -> -50.594821
