Workbook

Sheet KOPSAVILKUMS
H1: Pielikums Ministru kabineta rīkojuma projekta “Par finanšu līdzekļu piešķiršanu no valsts budžeta programmas “Līdzekļi neparedzētiem gadījumiem”” sākotnējās ietekmes novērtējuma ziņojumam (anotācijai)
B2: COVID-19 PIEMAKSU UN ATVAĻINĀJUMA REZERVES UZKRĀJUMAM, ATBILSTOŠI APRĒĶINĀTAJAI PIEMAKSU SUMMAI, PAPILDUS NEPIECIEŠAMAIS FINANSĒJUMS 2022.GADA APRĪLIS - JŪNIJS
C5: PIEMAKSAS | H5: ATVAĻINĀJUMA REZERVES UZKRĀJUMS - 8.33% no aprēķinātās piemaksu summas | M5: KOPĀ
C6: 2022. GADS
C7: Aprīlis | D7: Maijs | E7: Jūnijs | F7: Kopā | H7: Aprīlis | I7: Maijs | J7: Jūnijs | K7: Kopā
A8: 1 | B8: Covid-19 pacientu ārstēšana, mājas aprūpe, testēšana | C8: ='1.Stac_iestādes'!C11 -> 1798407 | D8: ='1.Stac_iestādes'!C11 -> 1798407 | E8: ='1.Stac_iestādes'!C11 -> 1798407 | F8: =SUM(C8:E8) -> 5395221 | H8: =ROUND(C8*0.0833,0) -> 149807 | I8: =ROUND(D8*0.0833,0) -> 149807 | J8: =ROUND(E8*0.0833,0) -> 149807 | K8: =SUM(H8:J8) -> 449421 | M8: =F8+K8 -> 5844642
A9: 2 | B9: Uzņemšanas nodaļas | C9: ='1.Stac_iestādes'!E11 -> 1091804 | D9: ='1.Stac_iestādes'!E11 -> 1091804 | E9: ='1.Stac_iestādes'!E11 -> 1091804 | F9: =SUM(C9:E9) -> 3275412 | H9: =ROUND(C9*0.0833,0) -> 90947 | I9: =ROUND(D9*0.0833,0) -> 90947 | J9: =ROUND(E9*0.0833,0) -> 90947 | K9: =SUM(H9:J9) -> 272841 | M9: =F9+K9 -> 3548253
A10: 3 | B10: Administratīvie un tehniskie darbinieki Covid-19 jaut. risin. | C10: ='1.Stac_iestādes'!G11 -> 52580 | D10: ='1.Stac_iestādes'!G11 -> 52580 | E10: ='1.Stac_iestādes'!G11 -> 52580 | F10: =SUM(C10:E10) -> 157740 | H10: =ROUND(C10*0.0833,0) -> 4380 | I10: =ROUND(D10*0.0833,0) -> 4380 | J10: =ROUND(E10*0.0833,0) -> 4380 | K10: =SUM(H10:J10) -> 13140 | M10: =F10+K10 -> 170880
A11: 4 | B11: Ģimenes ārstu prakses | C11: ='2.Ģimenes_ārsti'!B4 -> 3176540 | D11: ='2.Ģimenes_ārsti'!C4 -> 3176540 | E11: ='2.Ģimenes_ārsti'!D4 -> 3176540 | F11: =SUM(C11:E11) -> 9529620 | H11: =ROUND(C11*0.0833,0) -> 264606 | I11: =ROUND(D11*0.0833,0) -> 264606 | J11: =ROUND(E11*0.0833,0) -> 264606 | K11: =SUM(H11:J11) -> 793818 | M11: =F11+K11 -> 10323438
A12: 5 | B12: Neatliekamās medicīniskās palīdzības dienests | C12: ='3.VM_padotības_iest.'!E11 -> 907614 | D12: ='3.VM_padotības_iest.'!E11 -> 907614 | E12: ='3.VM_padotības_iest.'!E11 -> 907614 | F12: =SUM(C12:E12) -> 2722842 | H12: =ROUND(C12*0.0833,0) -> 75604 | I12: =ROUND(D12*0.0833,0) -> 75604 | J12: =ROUND(E12*0.0833,0) -> 75604 | K12: =SUM(H12:J12) -> 226812 | M12: =F12+K12 -> 2949654
A13: 6 | B13: Slimību profilakses un kontroles centrs | C13: ='3.VM_padotības_iest.'!E19 -> 21087 | D13: ='3.VM_padotības_iest.'!E19 -> 21087 | E13: ='3.VM_padotības_iest.'!E19 -> 21087 | F13: =SUM(C13:E13) -> 63261 | H13: =ROUND(C13*0.0833,0) -> 1757 | I13: =ROUND(D13*0.0833,0) -> 1757 | J13: =ROUND(E13*0.0833,0) -> 1757 | K13: =SUM(H13:J13) -> 5271 | M13: =F13+K13 -> 68532
A14: 7 | B14: Nacionālais veselības dienests | C14: ='3.VM_padotības_iest.'!E26 -> 37942 | D14: ='3.VM_padotības_iest.'!E26 -> 37942 | E14: ='3.VM_padotības_iest.'!E26 -> 37942 | F14: =SUM(C14:E14) -> 113826 | H14: =ROUND(C14*0.0833,0) -> 3161 | I14: =ROUND(D14*0.0833,0) -> 3161 | J14: =ROUND(E14*0.0833,0) -> 3161 | K14: =SUM(H14:J14) -> 9483 | M14: =F14+K14 -> 123309
A15: 8 | B15: Valsts asinsdonoru centrs | C15: ='3.VM_padotības_iest.'!E33 -> 2147 | D15: ='3.VM_padotības_iest.'!E33 -> 2147 | E15: ='3.VM_padotības_iest.'!E33 -> 2147 | F15: =SUM(C15:E15) -> 6441 | H15: =ROUND(C15*0.0833,0) -> 179 | I15: =ROUND(D15*0.0833,0) -> 179 | J15: =ROUND(E15*0.0833,0) -> 179 | K15: =SUM(H15:J15) -> 537 | M15: =F15+K15 -> 6978
A16: 9 | B16: Veselības inspekcija | C16: ='3.VM_padotības_iest.'!E40 -> 8683 | D16: ='3.VM_padotības_iest.'!E40 -> 8683 | E16: ='3.VM_padotības_iest.'!E40 -> 8683 | F16: =SUM(C16:E16) -> 26049 | H16: =ROUND(C16*0.0833,0) -> 723 | I16: =ROUND(D16*0.0833,0) -> 723 | J16: =ROUND(E16*0.0833,0) -> 723 | K16: =SUM(H16:J16) -> 2169 | M16: =F16+K16 -> 28218
A17: 10 | B17: Veselības ministrija | C17: ='3.VM_padotības_iest.'!E47 -> 19071 | D17: ='3.VM_padotības_iest.'!E47 -> 19071 | E17: ='3.VM_padotības_iest.'!E47 -> 19071 | F17: =SUM(C17:E17) -> 57213 | H17: =ROUND(C17*0.0833,0) -> 1589 | I17: =ROUND(D17*0.0833,0) -> 1589 | J17: =ROUND(E17*0.0833,0) -> 1589 | K17: =SUM(H17:J17) -> 4767 | M17: =F17+K17 -> 61980
A18: KOPĀ | C18: =SUM(C8:C17) -> 7115875 | D18: =SUM(D8:D17) -> 7115875 | E18: =SUM(E8:E17) -> 7115875 | F18: =SUM(F8:F17) -> 21347625 | H18: =SUM(H8:H17) -> 592753 | I18: =SUM(I8:I17) -> 592753 | J18: =SUM(J8:J17) -> 592753 | K18: =SUM(K8:K17) -> 1778259 | M18: =SUM(M8:M17) -> 23125884

Sheet 1.Stac_iestādes
F1: 1.Pielikums Ministru kabineta rīkojuma projekta “Par finanšu līdzekļu piešķiršanu no valsts budžeta programmas “Līdzekļi neparedzētiem gadījumiem”” sākotnējās ietekmes novērtējuma ziņojumam (anotācijai)
B2: Aprīlis | C2: Maijs | D2: Jūnijs
A3: 1. STACIONĀRĀS ĀRSTNIECĪBAS IESTĀDES | B3: =H11 -> 2942791 | C3: =H11 -> 2942791 | D3: =H11 -> 2942791
B5: Covid-19 pacientu ārstēšana, mājas aprūpe, testēšana | D5: Uzņemšanas nodaļas (slimnīcās, kur pēc hospitalizācijas plāna tiek hospitalizēti Covid-19 pacienti) -50% | F5: Slimnīcas administratīvie un tehniskie darbinieki, kuri iesaistīti Covid-19 jautājumu risināšanā
B6: Slodzes* | C6: Finansējums, EUR | D6: Slodzes** | E6: Finansējums, EUR | F6: Slodzes *** | G6: Finansējums, EUR
A7: ĀRSTI | B7: 639 | C7: =ROUND((B14+B14*B20)*B7*$B$26*1.2359,0) -> 707164 | D7: 398 | E7: =ROUND((B14+B14*B20)*D7*$B$27*1.2359,0) -> 440456 | F7: 0 | G7: 0
A8: ĀRSTNIECĪBAS UN PACIENTU APRŪPES PERSONAS | B8: 946 | C8: =ROUND((B15+B15*B21)*B8*$B$26*1.2359,0) -> 697478 | D8: 536 | E8: =ROUND((B15+B15*B21)*D8*$B$27*1.2359,0) -> 395188 | F8: 0 | G8: 0
A9: ĀRSTNIECĪBAS UN PACIENTU APRŪPES ATBALSTA PERSONAS | B9: 294 | C9: =ROUND((B16+B16*B22)*B9*$B$26*1.2359,0) -> 138881 | D9: 195 | E9: =ROUND((B16+B16*B22)*D9*$B$27*1.2359,0) -> 92115 | F9: 0 | G9: 0
A10: PĀRĒJIE NODARBINĀTIE (tai skaitā sanitāri/slimnieku kopēji, medicīnas asistenti, laboranta palīgi, pacientu reģistratori, uzkopēji u.c.) | B10: 477 | C10: =ROUND((B17+B17*B23)*B10*$B$26*1.2359,0) -> 254884 | D10: 307 | E10: =ROUND((B17+B17*B23)*D10*$B$27*1.2359,0) -> 164045 | F10: 328 | G10: =ROUND(F10*B17*$B$28*1.2359,0) -> 52580 | H10: KOPĀ PAPILDUS NEPIECIEŠAMAIS FINANSĒJUMS, EUR
A11: KOPĀ | B11: =SUM(B7:B10) -> 2356 | C11: =SUM(C7:C10) -> 1798407 | D11: =SUM(D7:D10) -> 1436 | E11: =SUM(E7:E10) -> 1091804 | F11: =SUM(F7:F10) -> 328 | G11: =SUM(G7:G10) -> 52580 | H11: =C11+E11+G11 -> 2942791
A13: Vidējā mēnešalga aprēķināta no 2021.gada jūnija ārstniecības iestāžu atskaitēm par izmaksātajām piemaksām, EUR
A14: ĀRSTI | B14: 1715.4
A15: ĀRSTNIECĪBAS UN PACIENTU APRŪPES PERSONAS | B15: 1139.13
A16: ĀRSTNIECĪBAS UN PACIENTU APRŪPES ATBALSTA PERSONAS | B16: 764.44
A17: PĀRĒJIE NODARBINĀTIE | B17: 864.71
A19: Plānotais mēnešalgas pieaugums no 2022.gada 1.janvāra, %
A20: ĀRSTI | B20: 0.044
A21: ĀRSTNIECĪBAS UN PACIENTU APRŪPES PERSONAS | B21: 0.0474
A22: ĀRSTNIECĪBAS UN PACIENTU APRŪPES ATBALSTA PERSONAS
A23: PĀRĒJIE NODARBINĀTIE
A25: Piemaksu apmēri katrai no nodarbināto grupām
A26: Covid-19 pacientu ārstēšana, mājas aprūpe, testēšana | B26: 0.5
A27: Uzņemšanas nodaļas, kur tiek hospitalizēti Covid-19 pacienti | B27: 0.5
A28: Slimnīcas administratīvie un tehniskie darbinieki, kuri iesaistīti Covid-19 jautājumu risināšanā | B28: 0.15
A30: * Iesaistīto nodarbināto skaits prognozēts atbilstoši ārstniecības iestāžu sniegtajās atskaitēs par izmaksātajām piemaksām par 2021.gada aprīlis līdz 2021.gada jūnijs vidēji norādīto Covid-19 ārstēšanā, testēšnā un mājas aprūpē iesaistīto ārstniecības personu un darbinieku slodžu skaitu ik mēnesi, pieņemot, ka vidēji tiks iesaistīts līdzīgs skaits nodarbināto
A31: ** Slodžu skaits no stacionāro ārstniecības iestāžu sniegtajām atskaitēm par izmaksātajām piemaksām 2021.gada oktobrī, slimnīcas, kur pēc hospitalizācijas plāna uz 30.03.2022 stacionē Covid-19 pacientus
A32: *** Slodžu skaits no stacionāro ārstniecības iestāžu sniegtajām atskaitēm par izmaksātajām piemaksām 2021.gada oktobrī administratīvajiem darbiniekiem - 228 slodzes + 100 slodzes tehniskajam personālam (no 2021.gada janvāra atskaitēm par izmaksātajām piemaksām)

Sheet 2.Ģimenes_ārsti
D1: 2.Pielikums Ministru kabineta rīkojuma projekta “Par finanšu līdzekļu piešķiršanu no valsts budžeta programmas “Līdzekļi neparedzētiem gadījumiem”” sākotnējās ietekmes novērtējuma ziņojumam (anotācijai)
B3: Aprīlis | C3: Maijs | D3: Jūnijs
A4: 2. ĢIMENES ĀRSTU PRAKSES | B4: =C10 -> 3176540 | C4: =C10 -> 3176540 | D4: =C10 -> 3176540
B6: Skaits pēc NVD datiem | C6: Fianansējums, EUR
A7: ĢIMENES ĀRSTI | B7: 1276 | C7: =ROUND(B7*C15*$B$12,0) -> 1547833
A8: MĀSAS/ ĀRSTA PALĪGI | B8: 2069 | C8: =ROUND(B8*C16*$B$12,0) -> 1512511
A9: REZIDENTI | B9: 126 | C9: =ROUND(B9*C17*$B$12,0) -> 116196
A10: KOPĀ | B10: =SUM(B7:B9) -> 3471 | C10: =SUM(C7:C9) -> 3176540
A12: Piemaksas apmērs | B12: 0.5
A14: Atalgojums no kura rēķināta piemaksa, EUR | C14: Ar VSAOI 23.59%
A15: ĢIMENES ĀRSTI* | B15: 1963 | C15: =ROUND(B15*1.2359,2) -> 2426.07
A16: MĀSAS/ ĀRSTA PALĪGI** | B16: 1183 | C16: =ROUND(B16*1.2359,2) -> 1462.07
A17: REZIDENTI*** | B17: 1492.34 | C17: =ROUND(B17*1.2359,2) -> 1844.38
A19: *darba samaksa, kas tiek ieļauta valsts apmaksātajos veselības aprūpes tarifos, ārstiem un funkcionālajiem speciālistiem (Ministru kabineta 2018.gada 18.augusta noteikumi Nr.555 “Veselības aprūpes pakalpojumu organizēšanas un samaksas kārtība”)
A20: **darba samaksa, kas tiek ieļauta valsts apmaksātajos veselības aprūpes tarifos, ārstniecības un pacientu aprūpes personām un funkcionālo speciālistu asistentiem (Ministru kabineta 2018.gada 18.augusta noteikumi Nr.555 “Veselības aprūpes pakalpojumu organizēšanas un samaksas kārtība”)
A21: ***no normatīvajos aktos noteiktā atalgojuma rezidentam pirmajā un otrajā rezidentūras gadā pamatspecialitātē pārējās ārstniecības iestādēs

Sheet 3.VM_padotības_iest.
D1: 3.Pielikums Ministru kabineta rīkojuma projekta “Par finanšu līdzekļu piešķiršanu no valsts budžeta programmas “Līdzekļi neparedzētiem gadījumiem”” sākotnējās ietekmes novērtējuma ziņojumam (anotācijai)
B3: Aprīlis | C3: Maijs | D3: Jūnijs
A4: 3. VESELĪBAS MINISTRIJA UN TĀS PADOTĪBAS IESTĀDES | B4: =E11+E19+E26+E33+E40+E47 -> 996544 | C4: =E11+E19+E26+E33+E40+E47 -> 996544 | D4: =E11+E19+E26+E33+E40+E47 -> 996544
A7: 1. Neatliekamās medicīniskās palīdzības dienests
B8: Piemaksas apmērs | C8: Slodzes* | D8: Vidējā piemaksa 1 nodarbinātajam, EUR ** | E8: Fianansējums, EUR
A9: NMP brigādes | B9: 0.5 | C9: 2180 | D9: =ROUND(619.26/100*50,2) -> 309.63 | E9: =ROUND(C9*D9*1.2359,0) -> 834224
A10: Pārējie nodarbinātie, kas iesaistīti Covid-19 jautājumu risināšanā | B10: 0.15 | C10: 403 | D10: =ROUND(491.16/50*15,2) -> 147.35 | E10: =ROUND(C10*D10*1.2359,0) -> 73390
A11: KOPĀ | E11: =SUM(E9:E10) -> 907614
A13: *Iesaistīto slodžu skaits no 2021.gada oktobra atskaites par izmaksātajām piemaksām nodarbinātajiem
A14: ** Vidējais izmaksātais piemaksu apmērs 1 NMPD darbiniekam ņemts no 2021.gada oktobra atksaites (piemaksa NMP brigādēs līdz 100% no mēnešalgas, pārējiem NMPD darbiniekiem līdz 50% no mēnešalgas) + pierēķināts plānotais algu pieaugums no 2022.gada 1.janvāra - ārstiem un funkcionālajiem speciālistiem 4,4% apmērā un ārstniecības un pacientu aprūpes personām un funkcionālo speciālistu asistentiem 4,74% apmērā - 2021.gada oktobrī piemaksas 100% un 50% apmērā - līdz ar to vidējā piemaksa tiek samazināta atbilstoši jaunajiem piemaksu apmēriem 50% un 15% apmērā
A16: 2. Slimību profilakses un kontroles centrs
B17: Piemaksas apmērs | C17: Darbinieku skaits* | D17: Vidējā mēnešalga, EUR * | E17: Fianansējums, EUR
A18: Ierēdņi un darbinieki, kas iesaistīti Covid-19 jautājumu risināšanā | B18: 0.15 | C18: 99 | D18: 1148.97 | E18: =ROUND(C18*D18*B18*1.2359,0) -> 21087
A19: KOPĀ | E19: =SUM(E18:E18) -> 21087
A21: *Iesaistīto slodžu skaits un vidējā mēnešalga no 2021.gada novembra atskaites par izmaksātajām piemaksām nodarbinātajiem
A23: 3. Nacionālais veselības dienests
B24: Piemaksas apmērs | C24: Darbinieku skaits* | D24: Vidējā mēnešalga, EUR * | E24: Fianansējums, EUR
A25: Ierēdņi un darbinieki, kas iesaistīti Covid-19 jautājumu risināšanā | B25: 0.15 | C25: 155 | D25: 1320.43 | E25: =ROUND(C25*D25*B25*1.2359,0) -> 37942
A26: KOPĀ | E26: =SUM(E25:E25) -> 37942
A28: *Iesaistīto slodžu skaits un vidējā mēnešalga no 2021.gada novembra atskaites par izmaksātajām piemaksām nodarbinātajiem
A30: 4.Valsts asinsdonoru centrs
B31: Piemaksas apmērs | C31: Darbinieku skaits* | D31: Vidējā mēnešalga, EUR * | E31: Fianansējums, EUR
A32: Ierēdņi un darbinieki, kas iesaistīti Covid-19 jautājumu risināšanā | B32: 0.15 | C32: 9 | D32: 1286.67 | E32: =ROUND(C32*D32*B32*1.2359,0) -> 2147
A33: KOPĀ | E33: =SUM(E32:E32) -> 2147
A35: *Iesaistīto slodžu skaits un vidējā mēnešalga no 2021.gada novembra atskaites par izmaksātajām piemaksām nodarbinātajiem
A37: 5.Veselības inspekcija
B38: Piemaksas apmērs | C38: Darbinieku skaits* | D38: Vidējā mēnešalga, EUR * | E38: Fianansējums, EUR
A39: Ierēdņi un darbinieki, kas iesaistīti Covid-19 jautājumu risināšanā | B39: 0.15 | C39: 36 | D39: 1301 | E39: =ROUND(C39*D39*B39*1.2359,0) -> 8683
A40: KOPĀ | E40: =SUM(E39:E39) -> 8683
A42: *Iesaistīto slodžu skaits un vidējā mēnešalga no 2021.gada novembra atskaites par izmaksātajām piemaksām nodarbinātajiem
A44: 6.Veselības ministrija
B45: Piemaksas apmērs | C45: Darbinieku skaits* | D45: Vidējā mēnešalga, EUR * | E45: Fianansējums, EUR
A46: Ierēdņi un darbinieki, kas iesaistīti Covid-19 jautājumu risināšanā | B46: 0.15 | C46: 61 | D46: 1686.41 | E46: =ROUND(C46*D46*B46*1.2359,0) -> 19071
A47: KOPĀ | E47: =SUM(E46:E46) -> 19071
A49: *Iesaistīto slodžu skaits un vidējā mēnešalga no 2021.gada novembra atskaites par izmaksātajām piemaksām nodarbinātajiem
