Workbook

Sheet KOPSAVILKUMS
F1: Kopsavilkums MK noteikumu projekta "Grozījumi Ministru kabineta 2018.gada 28.augusta noteikumos Nr.555 „Veselības aprūpes pakalpojumu organizēšanas un samaksas kārtība"" anotācijai
A3: Nr.p.k. | B3: Pasākums | C3: 2026.gads | D3: 2027.gads | E3: 2028.gads | F3: Finansējuma avots | G3: Anotācijas pielikuma Nr.
A4: 1 | B4: Prioritārā pasākuma “Veselības pakalpojumu un zāļu pieejamība bērniem” apakšpasākums “Medicīniskās apaugļošanas pakalpojuma paplašināšana - apmaksāti vairāk kā 2 mēģinājumi un paplašināts saņēmēju loks (arī tad, ja pārim / sievietei neauglība nav konstatēta)” | C4: ='1.pielikums'!B6 -> 238960 | D4: =C4 -> 238960 | E4: =C4 -> 238960 | F4: Prioritārais pasākums | G4: 1.pielikums
A5: 2 | B5: Prioritārā pasākuma “Mātes un bērna veselības uzlabošana” apakšpasākums "Nodrošināta efektīvāka rindu uzskaites pārvaldība" | C5: ='2.pielikums'!B4 -> 736986 | D5: ='2.pielikums'!C4 -> 579448 | E5: =D5 -> 579448 | F5: Prioritārais pasākums | G5: 2.pielikums
A6: 3 | B6: Pacientu medicīnisko transportēšanu no ārstniecības iestādes Ukrainā uz stacionāro ārstniecības iestādi Latvijā (ukraiņi) | C6: ='5.pielikums'!D8 -> 277240 | F6: Nepieciešams segt no budžeta resora "74. Gadskārtējā valsts budžeta izpildes procesā pārdalāmais finansējums" programmas 17.00.00 “Finansējums Ukrainas civiliedzīvotāju atbalsta likumā noteikto pasākumu īstenošanai” plānotā finansējuma | G6: 5.pielikums
A7: 4 | B7: Nepieciešamais finansējuma aprēķins par transporta izmaksām pacientu nogādāšanai uz zemāka līmeņa ārstniecības iestādi (ukraiņi) | C7: ='6.pielikums'!D8 -> 2756 | G7: 6.pielikums
A8: 5 | B8: Rehabilitācijas pakalpojumu nodrošināšana stacionārās ārstniecības iestādēs (ukraiņi) | C8: ='7.pielikums'!E9 -> 1475888 | G8: 7.pielikums
A9: 6 | B9: Deģeneratīvu un komplicētu mugurkaula slimību, traumu ķiruģiska ārstēšana, izmantojot implantus un navigācijas tehnoloģijas | C9: ='3.pielikums'!I6 -> 366912 | D9: =C9 -> 366912 | E9: =D9 -> 366912 | F9: Veselības ministrijas budžeta ietvaros no ekonomijas | G9: 3.pielikums
A10: 7 | B10: Izmaiņas EVAK sūtīšanā pa pastu | C10: ='8.pielikums'!B25 -> 272277.5 | D10: ='8.pielikums'!C24 -> 198812 | E10: =D10 -> 198812 | F10: Veselības ministrijas budžeta ietvaros pārstrukturizējot pasākumus | G10: 8.pielikums
B11: Kopā, euro: | C11: =SUM(C4:C10) -> 3371019.5 | D11: =SUM(D4:D10) -> 1384132 | E11: =SUM(E4:E10) -> 1384132
C14: 2026.gads | D14: 2027.gads | E14: 2028.gads
B15: Prioritārie pasākumi | C15: =C4+C5 -> 975946 | D15: =D4+D5 -> 818408 | E15: =E4+E5 -> 818408
B16: Nepieciešams segt no budžeta resora "74. Gadskārtējā valsts budžeta izpildes procesā pārdalāmais finansējums" programmas 17.00.00 “Finansējums Ukrainas civiliedzīvotāju atbalsta likumā noteikto pasākumu īstenošanai” plānotā finansējuma | C16: =C6+C7+C8 -> 1755884
B17: Veselības ministrijas budžeta ietvaros no ekonomijas | C17: =C9 -> 366912 | D17: =D9 -> 366912 | E17: =E9 -> 366912
B18: Veselības ministrijas budžeta ietvaros pārstrukturizējot pasākumus | C18: =C10 -> 272277.5 | D18: =D10 -> 198812 | E18: =E10 -> 198812
B19: Kopā, euro: | C19: =C15+C16+C17+C18 -> 3371019.5 | D19: =D15+D16+D17+D18 -> 1384132 | E19: =E15+E16+E17+E18 -> 1384132
A22: Papildus informācijai:
A23: Nr.p.k. | B23: Pasākums | C23: 2026.gads | D23: 2027.gads | E23: 2028.gads | F23: Finansējuma avots | G23: Anotācijas pielikuma Nr.
A24: 1 | B24: Precizēti valsts apmaksāto stacionāro veselības aprūpes pakalpojumu samaksas apmēra plānošanas nosacījumi | C24: ='4.pielikums'!J62 -> 674254936 | D24: =C24 -> 674254936 | E24: =D24 -> 674254936 | F24: Veselības ministrijas budžeta ietvaros pārstrukturizējot pasākumus | G24: 4.pielikums

Sheet 1.pielikums
B1: 1.pielikums MK noteikumu projekta "Grozījumi Ministru kabineta 2018.gada 28.augusta noteikumos Nr.555 „Veselības aprūpes pakalpojumu organizēšanas un samaksas kārtība"" anotācijai
A3: Prioritārā pasākuma “Veselības pakalpojumu un zāļu pieejamība bērniem” apakšpasākums “Medicīniskās apaugļošanas pakalpojuma paplašināšana - apmaksāti vairāk kā 2 mēģinājumi un paplašināts saņēmēju loks (arī tad, ja pārim / sievietei neauglība nav konstatēta)” (prioritārais pasākums 2026. - 2028.gadam)
A4: * tikai trešais mēģinājums
A5: Apakšprogrammas nosaukums | B5: Papildus nepieciešamais finansējums 2026.gadam un turpmāk ik gadu, euro
A6: 33.16.00 Pārējo ambulatoro veselības aprūpes pakalpojumu nodrošināšana | B6: =C9 -> 238960
A8: Plānotais pacientu skaits* | B8: Viena pacienta vidējās izmaksas**, euro | C8: Papildus nepieciešamais finansējums, euro
A9: =B15 -> 116 | B9: 2060 | C9: =ROUND(A9*B9,0) -> 238960
A10: **viena pacienta vidējās izmaksas 2024. gadā
A13: Plānotais pacientu skaits atbilstoši 2024. gada datiem:
A14: Sieviešu skaits, kurām bijuši 2 neveiksmīgi pakalpojumi (MAR dati) | B14: 116
A15: Kopā | B15: =SUM(B14) -> 116

Sheet 2.pielikums
C1: 2.pielikums MK noteikumu projekta "Grozījumi Ministru kabineta 2018.gada 28.augusta noteikumos Nr.555 „Veselības aprūpes pakalpojumu organizēšanas un samaksas kārtība"" anotācijai
A2: Prioritārā pasākuma “Mātes un bērna veselības uzlabošana” apakšpasākums "Nodrošināta efektīvāka rindu uzskaites pārvaldība"
A3: Apakšprogrammas nosaukums | B3: Papildus nepieciešamais finansējums 2026.gadam, euro | C3: Papildus nepieciešamais finansējums 2027.gadam un turpmāk ik gadu, euro
A4: 33.16.00 “Pārējo ambulatoro veselības aprūpes pakalpojumu nodrošināšana“ | B4: =B35 -> 736986 | C4: =B36 -> 579448
A6: Vienreizējs fiksēts digitalizācijas atbalsta maksājums datortehnikas nodrošināšanai, IS, programmatūru uzturēšanas atbalstam
B7: Integrācijas* | C7: Maksājums, euro** | D7: Summa, euro
A8: Ārstniecības iestāžu informācijas sistēmas | B8: 20 | C8: =C24 -> 15120 | D8: =B8*C8 -> 302400
A10: Vidējās ārsta darba vietas iekārtošanas izmaksas
A11: Digitalizācijas atbalsta maksājuma pozīcijas | B11: Izmaksas kopā, euro | C11: 10 % izmaksu segšana, euro
A12: Sistēmbloks ar aksesuāriem un operacionālo sistēmu, Firewall un antivīrusu programma | B12: 1137.8 | C12: 113.78
A13: Monitori | B13: 154.58 | C13: 15.46
A14: Daudzfunkcionālais Printeris - skeneris, fakss, kopētājs | B14: 160 | C14: 16
A15: Tonera kasete printerim (6 nomaiņas gadā) | B15: 180 | C15: 18
A16: Datortehnikas uzturēšana | B16: 899.8 | C16: 89.98
A17: Interneta abonēšanas maksa gadam | B17: 287.9 | C17: 28.79
A18: Portatīvais dators | B18: 549.99 | C18: 55
A19: Specializētā programmatūra (ārsta birojs pamata komplekts ) | B19: 1440 | C19: 144
A20: Datu integratora (piem., Datamed) abonements | B20: 229.9 | C20: 22.99
A21: KOPĀ | B21: =SUM(B12:B20) -> 5039.97 | C21: =SUM(C12:C20) -> 504
A23: Speciālistu skaits | B23: Izmaksas, euro | C23: Kopā, euro
A24: 30 | B24: =C21 -> 504 | C24: =A24*B24 -> 15120
A26: Ikgadējs maksājums digitalizācijas uzturēšanai
A27: Gadījumu skaits*** | B27: 11588950
A28: Piemaksa par gadījumu, euro**** | B28: 0.05
A29: Summa, euro | B29: =ROUND(B27*B28,0) -> 579448
B31: Piemaksa par gadījumu, euro | C31: Vidējais apmeklējumu skaits kabinetā dienā | D31: Darba dienu skaits gadā | E31: Summa, euro
A32: Ikgadējā digitalizācijas uzturēšanas maksājuma apjoma aprēķins uz vienu kabineta slodzi | B32: =B28 -> 0.05 | C32: 8 | D32: 250 | E32: =B32*C32*D32 -> 100
A34: Vienreizējs fiksēts maksājums un ikgadējs maksājums uzturēšanai, summa kopā
A35: Kopā 1.gadā, euro***** | B35: =ROUND(B29/12*9+D8, 0) -> 736986
A36: Kopā turpmākie gadi, euro | B36: =B29 -> 579448
A38: * Pēc NVD aplēsēm ir 20 multiprofila ambulatorās ārstniecības iestādes, kas sniedz valsts apmaksātus sekundāros ambulatoros veselības aprūpes pakalpojumus apjomā, kas mēnesī pārsniedz 500 000 euro, nav iekļautas šo noteikumu 6. pielikumā un nodrošina valsts apmaksātus pakalpojumus vismaz divos šādos pakalpojumu veidos – izmeklējumi, dienas stacionārs, rehabilitācija, speciālistu konsultācijas –, un kas jau ir uzsākušas savu lokālo informācijas sistēmu pielāgošanu un integrāciju ar E-veselības sistēmu, un ir paredzams, ka tās noteiktajā termiņā izpildīs noteiktās prasības, lai saņemtu šo vienreizējo maksājumu par ambulatoro veselības aprūpes pakalpojumu digitalizāciju.
A39: ** Vienreizējs maksājums, kas nosedz 10 % izmaksas no 30 ārstu darba vietas iekārtošanas izdevumiem.
A40: *** Kvotētais apjoms - kopējais apmeklējumu skaits ambulatorajā sektorā, ietverot ambulatorās konsultācijas (aprūpes epizodes), pacientu apmeklējumu skaitu speciālistu kabinetos, dienas stacionārā sniegtos pakalpojumus (gultasdienas), kā arī saistošās manipulācijas, kas fiksē apmeklējumus gadījumos, kad netiek piemērots kāds no iepriekš uzskaitītajiem apmeklējuma uzskaites veidiem.
A41: **** Lai veicinātu digitalizāciju ārstniecības iestādēs, no 2026.gada 1. aprīļa plānots par 0,05 euro palielināt arī sekundārās ambulatorās veselības aprūpes pakalpojumu tarifus, šim nolūkam 2026.gadā plānoti 434 568 euro un turpmākajiem gadiem 579 448 euro katru gadu. Attiecīgi noteikumu 4. pielikuma 5. punktā uzskaitītie aprūpes epizožu tarifi ir palielināti, iekļaujot tarifā 0,05 euro par gadījumu. Savukārt noteikumu 10. pielikumā uzskaitīto fiksēto maksājumu par speciālistu un ārstniecības iestāžu struktūrvienību (kabinetu) darbības nodrošināšanu pārrēķins veikts balstoties uz to, ka katrā kabinetā vidēji dienā ir 8 apmeklējumi un gadā ir vidēji 250 darba dienas. Attiecīgi fiksētajam maksājumam par vienu slodzi ir pievienoti 100 euro (8 apmeklējumi * 250 dienas * 0.05 euro par gadījumu). Šī piemaksa nav piemērota dežūrārsta kabinetam un vecmātes kabinetam, jo tajos tiek nodrošināta primārā veselības aprūpe. Finanšu ietekme, kas rodas palielinot 4. pielikuma 5. punktā uzskaitītos aprūpes epizožu tarifus un 10. pielikumā uzskaitītos fiksētos maksājumus par kabinetu darbības nodrošināšanu, ir ietverta 2026.gadā papildus plānotajos 434 568 euro un turpmākajiem gadiem plānotajos 579 448 euro. 10. pielikumā uzskaitītie kabineti kopā veido 453 ārstu un māsu slodzes, līdz ar to digitalizācijas piemaksa kabinetiem gadā veido 45 300 euro. Pārējo summu veido digitalizācijas piemaksa ambulatorajām konsultācijām (aprūpes epizodes), dienas stacionārā sniegtajiem pakalpojumiem (gultasdienas), kā arī saistošajām manipulācijām, kas fiksē apmeklējumus gadījumos, kad netiek piemērots kāds no iepriekš uzskaitītajiem apmeklējuma uzskaites veidiem.
A42: ***** Digitalizācijas piemaksa 0.05 euro apmērā par gadījumu (apmeklējumu) tiek piemērota no 2026.gada 1.aprīļa, tādēļ ikgadējā maksājuma 2026.gada apmērs tiek rēķināta 9 mēnešiem.

Sheet 3.pielikums
I1: 3.pielikums MK noteikumu projekta "Grozījumi Ministru kabineta 2018.gada 28.augusta noteikumos Nr.555 „Veselības aprūpes pakalpojumu organizēšanas un samaksas kārtība"" anotācijai
A2: Finanšu ietekmes aprēķins "Deģeneratīvu un komplicētu mugurkaula slimību, traumu ķiruģiska ārstēšana, izmantojot implantus un navigācijas tehnoloģijas"
A3: 1. Finanšu ietekme
A4: Ārstniecības iestādes nosaukums | B4: Pakalpojumu programma | C4: Tarifs 2025.gadam*, euro | D4: Tarifs "jaunais", euro | E4: Prognozētais pacientu skaits pilnam gadam** | F4: Finansējums 2025.gadam, euro | G4: Finansējums 2026.gadam ar "jauno" tarifu, euro | H4: Plānotais pacientu skaits 2026.gadā un turpmāk ik gadu | I4: Papildus nepieciešamais finansējums 2026.gadā un turpmāk ik gadu, euro
A5: Vidzemes slimnīca | B5: Deģeneratīvu un komplicētu mugurkaula slimību, traumu ķiruģiska ārstēšana, izmantojot implantus un navigācijas tehnoloģijas | C5: 971.74 | D5: 8309.98 | E5: 50 | F5: =E5*C5 -> 48587 | G5: =E5*D5 -> 415499 | H5: =E5 -> 50 | I5: =(H5*D5)-(E5*C5) -> 366912
A6: KOPĀ | E6: =E5 -> 50 | F6: =F5 -> 48587 | G6: =G5 -> 415499 | H6: =H5 -> 50 | I6: =I5 -> 366912
A7: * DRG viena pacienta vērtība 2025. gadā
A8: **Ārstētais pacientu skaits 2025. gadā SIA "Vidzemes slimnīca"
A9: apakšprogramma 33.18.00 "Plānveida stacionāro veselības aprūpes pakalpojumu nodrošināšana"****
A10: 2. Resursu avots
A11: Pakalpojumu programmas nosaukums | B11: Plānotais finansējums 2025.gadam, euro | C11: 2025. gada 10 mēnešu izpilde, euro | D11: Prognozētā izpilde pilnam 2025. gadam, euro | E11: Starpība 2025.gadam, euro | F11: Prognozētais finansējums 2026.gadam un turpmāk ik gadu
A12: Intensīvās terapijas piemaksa | B12: 37402919 | C12: 27460062 | D12: =(C12/10)*12 -> 32952074 | E12: =B12-D12 -> 4450844.6 | F12: =E12 -> 4450844.6
C13: apakšprogramma 33.17.00 “Neatliekamās medicīniskās palīdzības nodrošināšana stacionārās ārstniecības iestādēs”****
A15: 3. Atlikums
A16: Nepieciešamais finansējums 2026. gadam un turpmāk ik gadu, euro | B16: Resursi izdevumu segšanai 2026. gadam | C16: Starpība, euro***
A17: =I6 -> 366912 | B17: =F12 -> 4450844.6 | C17: =B17-A17 -> 4083932.6
A18: ***No starpības tiek segtas izmaksas, kas ir saistītas ar Ministru kabineta 2025.gada 8.jūlija noteikumiem Nr.425 "Grozījumi Ministru kabineta 2018. gada 28. augusta noteikumos Nr. 555 "Veselības aprūpes pakalpojumu organizēšanas un samaksas kārtība"" (prot. Nr. 27 23. §) un, kas paredz mikroķirurģijas tarifa pieaugumu (2026.gadā un turpmāk ik gadu 951 219 euro) un jaunas stacionāro pakalpojumu programmas "Deģeneratīvu un komplicētu mugurkaula slimību, traumu ķiruģiska ārstēšana, izmantojot implantus un navigācijas tehnoloģijas" nodrošināšanu divām ārstniecības iestādēm – VSIA "Traumatoloģijas un ortopēdijas slimnīca" un SIA "Ziemeļkurzemes reģionālā slimnīca" (2026.gadā un turpmāk ik gadu 3 132 714 euro).
A19: ****Atbilstoši 2025.gada 26.augusta Ministru kabineta sēdes protokolam Nr.33 (prot.33 53.§) informatīvā ziņojuma "Par valsts pamatbudžeta un valsts speciālā budžeta bāzi un izdevumu pārskatīšanas rezultātiem 2026., 2027., 2028. un 2029.gadam " 37.punktam tiek atbalstīts Veselības ministrijas priekšlikums, ka no 2026. gada apvienot budžeta apakšprogrammu 33.17.00 "Neatliekamās medicīniskās palīdzības nodrošināšana stacionārās ārstniecības iestādēs" ar budžeta apakšprogrammu 33.18.00 "Plānveida stacionāro veselības aprūpes pakalpojumu nodrošināšana" un izveidot jaunu budžeta apakšprogrammu 33.21.00 "Stacionāro veselības aprūpes pakalpojumu nodrošināšana".

Sheet 4.pielikums
I1: 4.pielikums MK noteikumu projekta "Grozījumi Ministru kabineta 2018.gada 28.augusta noteikumos Nr.555 „Veselības aprūpes pakalpojumu organizēšanas un samaksas kārtība"" anotācijai
A2: Precizēti valsts apmaksāto stacionāro veselības aprūpes pakalpojumu samaksas apmēra plānošanas nosacījumi
A3: Ārstniecības iestādes līmenis | B3: Pakalpojumu programmas dalījums | C3: Pacientu skaits (2025. gada 1.rīkojums) | D3: Pacientu skaits (2025. gada 1.rīkojums) 33.17.00 | E3: Pacientu skaits (2025. gada 1.rīkojums) 33.18.00 | F3: Finansējums, euro (2025. gada 1.rīkojums)**** | G3: Finansējums, euro (2025. gada 1.rīkojums) 33.17.00 | H3: Finansējums, euro (2025. gada 1.rīkojums) 33.18.00 | I3: Pacientu skaits* (2026. gada 1.rīkojums) | J3: Finansējums, euro* (2026. gada 1.rīkojums) | K3: Starpība, euro (2026.g. - 2025.g.)*
A5: I | B5: DRG | C5: 1058 | D5: 79 | E5: 979 | F5: 853658 | G5: 64318 | H5: 789340 | I5: 1108 | J5: 813695 | K5: =J5-F5 -> -39963
A6: I | B6: Iezīmētās pakalpojuma programmas | C6: 3936 | D6: 0 | E6: 3936 | F6: 3031755 | G6: 0 | H6: 3031755 | I6: 3681 | J6: 2834988 | K6: =J6-F6 -> -196767
A7: I | B7: Obligātie maksājumi** | C7: 0 | D7: 0 | E7: 0 | F7: 4674063 | G7: 4624063 | H7: 50000 | I7: 0 | J7: 4674063 | K7: =J7-F7 -> 0
A8: I | B8: Pacientu līdzmaksājumi | C8: 0 | D8: 0 | E8: 0 | F8: 166086 | G8: 309 | H8: 165777 | I8: 0 | J8: 166086 | K8: =J8-F8 -> 0
A9: I | B9: Papildus piemaksājamie pakalpojumi | C9: 0 | D9: 0 | E9: 0 | F9: 0 | G9: 0 | H9: 0 | I9: 0 | J9: 0 | K9: =J9-F9 -> 0
A10: I | B10: Piemaksājamās manipulācijas | C10: 0 | D10: 0 | E10: 0 | F10: 18562 | G10: 8815 | H10: 9747 | I10: 0 | J10: 18556 | K10: =J10-F10 -> -6
A11: I | B11: Tāme | C11: 0 | D11: 0 | E11: 0 | F11: 0 | G11: 0 | H11: 0 | I11: 0 | J11: 0 | K11: =J11-F11 -> 0
A12: II | B12: DRG | C12: 7565 | D12: 7304 | E12: 261 | F12: 6831718 | G12: 6588831 | H12: 242887 | I12: 7831 | J12: 5950457 | K12: =J12-F12 -> -881261
A13: II | B13: Iezīmētās pakalpojuma programmas | C13: 427 | D13: 0 | E13: 427 | F13: 299851 | G13: 0 | H13: 299851 | I13: 390 | J13: 272967 | K13: =J13-F13 -> -26884
A14: II | B14: Obligātie maksājumi** | C14: 0 | D14: 0 | E14: 0 | F14: 7875142 | G14: 7832129 | H14: 43013 | I14: 0 | J14: 7875142 | K14: =J14-F14 -> 0
A15: II | B15: Pacientu līdzmaksājumi | C15: 0 | D15: 0 | E15: 0 | F15: 246622 | G15: 221216 | H15: 25406 | I15: 0 | J15: 246622 | K15: =J15-F15 -> 0
A16: II | B16: Papildus piemaksājamie pakalpojumi | C16: 0 | D16: 0 | E16: 0 | F16: 0 | G16: 0 | H16: 0 | I16: 0 | J16: 0 | K16: =J16-F16 -> 0
... A61: Nesadalīts pa ĀI | B61: Nesadalīts pa ĀI | C61: 0 | D61: 0 | E61: 0 | F61: 876846 | G61: 0 | H61: 876846 | I61: 0 | J61: 1216962 | K61: =J61-F61 -> 340116
C62: =SUM(C5:C61) -> 286152 | D62: =SUM(D5:D61) -> 191431 | E62: =SUM(E5:E61) -> 94721 | F62: =SUM(F5:F61) -> 674254936 | G62: =SUM(G5:G61) -> 444597163 | H62: =SUM(H5:H61) -> 2.2965777e+08 | I62: =SUM(I5:I61) -> 284502 | J62: =SUM(J5:J61) -> 674254936 | K62: =SUM(K5:K61) -> 0
A64: *Aprēķins ir indikatīvs.
A65: ** Obligātie maksājumi: fiksētā piemaksa par uzņemšanas nodaļas darbību, fiksētā piemaksa observācijas gultu uzturēšanai, digitalizācija (ikgadējais maksājums)
A66: ***Atbilstoši 2025.gada 26.augusta Ministru kabineta sēdes protokolam Nr.33 (prot.33 53.§) informatīvā ziņojuma "Par valsts pamatbudžeta un valsts speciālā budžeta bāzi un izdevumu pārskatīšanas rezultātiem 2026., 2027., 2028. un 2029.gadam " 37.punktam tiek atbalstīts Veselības ministrijas priekšlikums, ka no 2026. gada apvienot budžeta apakšprogrammu 33.17.00 "Neatliekamās medicīniskās palīdzības nodrošināšana stacionārās ārstniecības iestādēs" ar budžeta apakšprogrammu 33.18.00 "Plānveida stacionāro veselības aprūpes pakalpojumu nodrošināšana" un izveidot jaunu budžeta apakšprogrammu 33.21.00 "Stacionāro veselības aprūpes pakalpojumu nodrošināšana".
A67: ****Pamatojoties uz piešķirto kopējo finansējumu 677 751 940 euro apmērā, tiek veikta tā precizēšana, izslēdzot pozīcijas, kuras pēc savas būtības nav klasificējamas kā veselības aprūpes pakalpojumi un līdz ar to nav iekļaujamas rīkojumā par pakalpojumu apmaksu. No esošā finansējuma apmēra tiek izslēgtas šādas pozīcijas: 1)Finansējums insulīna sūkņiem (Šī pozīcija attiecas uz medicīnisko ierīču iegādi, nevis uz veselības aprūpes pakalpojumu sniegšanu. Medicīniskās iekārtas un ierīces nav uzskatāmas par pakalpojumu apmaksas objektu un tās netiek ietvertas rīkojumā par pakalpojumu sniegšanas kārtību). 2)Transplantācijas procesa attīstība Latvijā, iekārta (Minētā pozīcija ietver investīcijas iekārtās un tehniskajā nodrošinājumā. Atbilstoši budžeta klasifikācijai un rīkojuma saturam iekārtas nav pakalpojums un līdz ar to nevar būt iekļautas pakalpojumu finansējuma rīkojumā). 3)ES norēķini (ES norēķinu posteņi tiek uzskaitīti un administrēti atsevišķi, tie nav uzskatāmi par veselības aprūpes pakalpojumiem un nevar tikt integrēti rīkojumā par pakalpojumu apmaksu). 4) Hematonkoloģisko preparātu ievade mājas apstākļos, BKUS (Attiecīgās darbības ir saistītas ar specifisku ārstniecības procesu nodrošināšanu un finansējuma organizēšanu ārpus stacionāro pakalpojumu sistēmas. Šī pozīcija pēc savas būtības nav pakalpojums, kādu paredz rīkojuma struktūra). Tā kā minētās pozīcijas nav klasificējamas kā pakalpojumi, kopējā summa 3 497 004 euro tiek izslēgta no rīkojumā iekļaujamā pakalpojumu apjoma. Līdz ar to pēc attiecīgo pozīciju izslēgšanas pakalpojumu finansējuma daļa, kas novirzāma stacionāro pakalpojumu nodrošināšanai, ir 674 254 936 euro.

Sheet 5.pielikums
D1: 5.pielikums MK noteikumu projekta "Grozījumi Ministru kabineta 2018.gada 28.augusta noteikumos Nr.555 „Veselības aprūpes pakalpojumu organizēšanas un samaksas kārtība"" anotācijai
A2: Pacientu medicīnisko transportēšanu no ārstniecības iestādes Ukrainā uz stacionāro ārstniecības iestādi Latvijā
A3: Izdevmu pozīcija | B3: Viena pacienta transportēšanas izmaksas, euro* | C3: Pacientu skaits | D3: Izmaksas kopā, euro
A4: Transportēšanas pakalpojumi | B4: 1185.8 | C4: 350 | D4: =ROUND(B4*C4,0) -> 415030
A5: Kopā, euro: | D5: =D4 -> 415030
C6: Samazinājums | D6: =ROUND(D5*(1-$C$7),0) -> 137790
B7: Koeficients** | C7: 0.66799912
B8: Kopā ar samazinājumu, euro | D8: =D5-D6 -> 277240
A9: * Transportēšanas izmaksas no Ukrainas uz Latviju - 1185,80 euro ar PVN par pacientu.
A10: **Atbilstoši Ministru kabineta rīkojuma projekta "Par Pasākumu plānu atbalsta sniegšanai Ukrainas civiliedzīvotājiem Latvijas Republikā 2026. gadam" sākotnējās ietekmes novērtējuma ziņojuma (anotācijas) 1.pielikumam (25-TA-2725)

Sheet 6.pielikums
D1: 6.pielikums MK noteikumu projekta "Grozījumi Ministru kabineta 2018.gada 28.augusta noteikumos Nr.555 „Veselības aprūpes pakalpojumu organizēšanas un samaksas kārtība"" anotācijai
A2: Nepieciešamais finansējuma aprēķins par transporta izmaksām pacientu nogādāšanai uz zemāka līmeņa ārstniecības iestādi
A3: Ārstniecības iestādes | B3: Provizoriskais pacientu skaits | C3: Viena pacienta pārvešanas nodrošināšanas izmaksas, euro | D3: Pārvešanas nodrošināšanai provizoriski nepieciešamais finansējums, euro
A4: SIA "Rīgas Austrumu klīniskā universitātes slimnīca" | B4: 120 | C4: 34.38 | D4: =ROUND(B4*C4,0) -> 4126
A5: KOPĀ: | D5: =D4 -> 4126
C6: Samazinājums | D6: =ROUND(D5*(1-$C$7),0) -> 1370
B7: Koeficients* | C7: 0.66799912
B8: Kopā ar samazinājumu, euro | D8: =D5-D6 -> 2756
A9: *Atbilstoši Ministru kabineta rīkojuma projekta "Par Pasākumu plānu atbalsta sniegšanai Ukrainas civiliedzīvotājiem Latvijas Republikā 2026. gadam" sākotnējās ietekmes novērtējuma ziņojuma (anotācijas) 1.pielikumam (25-TA-2725)

Sheet 7.pielikums
E1: 7.pielikums MK noteikumu projekta "Grozījumi Ministru kabineta 2018.gada 28.augusta noteikumos Nr.555 „Veselības aprūpes pakalpojumu organizēšanas un samaksas kārtība"" anotācijai
A2: Rehabilitācijas pakalpojumu nodrošināšana stacionārās ārstniecības iestādēs
A3: Budžeta apakšprogrammas kods | B3: Apakšprogrammas nosaukums | C3: Rehabilitācijas vidējās ārstēšanas izmaksas, euro | D3: Pacientu skaits | E3: Rehabilitācijas pakalpojumu nodrošināšana stacionārās ārstniecības iestādēs 2025.gada 12 mēnešiem, euro
A5: 33.17.00 | B5: Neatliekamās medicīniskās palīdzības nodrošināšana stacionārās ārstniecības iestādēs | C5: 8369 | D5: 264 | E5: =C5*D5 -> 2209416
A6: KOPĀ: | E6: =SUM(E5:E5) -> 2209416
D7: Samazinājums | E7: =ROUND(E6*(1-$D$8),0) -> 733528
C8: Koeficients* | D8: 0.66799912
C9: Kopā ar samazinājumu, euro | E9: =E6-E7 -> 1475888
A10: *Atbilstoši Ministru kabineta rīkojuma projekta "Par Pasākumu plānu atbalsta sniegšanai Ukrainas civiliedzīvotājiem Latvijas Republikā 2026. gadam" sākotnējās ietekmes novērtējuma ziņojuma (anotācijas) 1.pielikumam (25-TA-2725)

Sheet 8.pielikums
B1: 8.pielikums MK noteikumu projekta "Grozījumi Ministru kabineta 2018.gada 28.augusta noteikumos Nr.555 „Veselības aprūpes pakalpojumu organizēšanas un samaksas kārtība"" anotācijai
A2: Izmaiņas EVAK sūtīšanā pa pastu
A3: 1. Izdevumi
A4: 1.1. Tehniskā risinājuma izstrāde
A5: Plānotie darbi | B5: Stundas | C5: Stundas likme (ar PVN), euro | D5: Finansējums 2026. gadam, euro | E5: Finansējums 2027. gadam un turpmāk ik gadu, euro
A6: 1. Pamatdaļa:
A7: Tiek izstrādāts e-pakalpojuma “Eiropas veselības apdrošināšanas karte”(turpmāk - EVAK) (EP133) ietvars, kas ietver reģistrācijas un sagatavošanas darbus, dokumentāciju, maksājuma moduļa pieslēgšanu, ekrānformu un servisu izstrādi, kā arī API reģistrāciju. Paralēli tiek veikti Vadības informācijas sistēmas pielāgojumi – servisu un datu struktūru izmaiņas atbilstoši jaunajam Latvija.lv ietvaram, kā arī EVAK cenu klasifikatora izstrāde. | B7: =1346+59 -> 1405 | C7: =60*1.21 -> 72.6 | D7: =ROUND(B7*C7,0) -> 102003
A8: 2. Papildus daļa (analīzei, papildus labojumiem):
A9: 2.1. Atkārtota EVAK pieteikums: EPAK forma, serviss, API konfigurācijas, datu apstrāde VIS | B9: 268 | C9: =60*1.21 -> 72.6 | D9: =ROUND(B9*C9,0) -> 19457
A10: 2.2. VIS, manuāla darba optimizācija - atvēršana, kopēšana. VIS iespēja daļēja automātizācija, EVAK pieprasījumu EVAK pieprasījumu formā. | B10: 89 | C10: =60*1.21 -> 72.6 | D10: =ROUND(B10*C10,0) -> 6461
A11: 3. Uzturēšana
A12: Turpmāk ik gadus sistēmas uzturēšanas maksa | D12: 20467 | E12: 20467
A13: Kopā: | B13: =B7+B9+B10 -> 1762 | D13: =D7+D9+D10+D12 -> 148388 | E13: =E7+E9+E10+E12 -> 20467
A15: 1.2. Plānotās izmaksas pasta izdevumiem, euro
B16: Prognozētais finasējums 2026.gadam un turpmāk ik gadu, euro
A17: Latvijas pasta tarifs, euro (vēstule līdz 20 grami) | B17: 2.3
A18: Prognozētais izsūtīto EVAK skaits līdz gada beigām | B18: 77541
A19: Plānotās izmaksas, euro* | B19: =ROUNDUP(B17*B18,0) -> 178345
A22: Izdevumi kopā, euro (1.1.+1.2.pozīcija) | B22: Prognozētie izdevumi, euro
B23: 2026.gadam | C23: 2027.gadam un turpmāk ik gadu
B24: =D13+B19 -> 326733 | C24: =E13+B19 -> 198812
A25: no 2026.gada 1.marta | B25: =(B24/12)*10 -> 272277.5
A27: 2. Resursu avots
B28: 2026. gadam un turpmāk ik gadu, euro
A29: 2.1. Dotācija no vispārējiem ieņēmumiem | B29: =B19 -> 178345
A30: 2.2. Dotācijas no vispārējiem ieņēmumiem samazinājums EVAK karšu nosūtīšanai pa pastu, lai uzlabotu fiskālo telpu atbilstoši MK 26.08.2025. sēdes prot. Nr.33 53.§ 8. punktam | B30: 30000
A31: 2.3. Citi pašu ieņēmumi pasta izdevumiem
A32: Latvijas pasta tarifs, euro (vēstule līdz 20 grami) | B32: 2.3
A33: Prognozētais izsūtīto EVAK skaits līdz gada beigām | B33: 77541
A34: Plānotie ieņēmumi, euro | B34: =ROUNDUP(B32*B33,0) -> 178345
A37: Resursi kopā, euro | B37: Prognozētais finasējums, euro
B38: 2026.gadam | C38: 2027.gadam un turpmāk ik gadu
B39: =B29-B30+B34 -> 326690 | C39: =B39 -> 326690
A42: 3. Rezultāts
B43: Prognozētā ietekme, euro
B44: 2026.gadam* | C44: 2027.gadam un turpmāk ik gadu*
B45: =B39-B25 -> 54412.5 | C45: =C39-C24 -> 127878
A46: * Starpība 2027. gadā un turpmāk ik gadu tiks novirzīta Vadības informācijas sistēmas (VIS) attīstībai (apakšprogrammas 45.01.00 "Veselības aprūpes finansējuma administrēšana un ekonomiskā novērtēšana").
A47: pasākumi īstenojami apakšprogrammas 45.01.00 "Veselības aprūpes finansējuma administrēšana un ekonomiskā novērtēšana" ietvaros
A49: Ministru kabineta 2018.gada 28.augusta noteikumi Nr.555 “Veselības aprūpes pakalpojumu organizēšanas un samaksas kārtība” paredz, ka EVAK personai izdod uz periodu līdz 3 gadiem un to atkarībā no personas vēlmes, var saņemt klātienē, kādā no Dienesta klientu apkalpošanas centriem vai Dienests EVAK nosūta bez maksas personai pa pastu uz norādīto adresi (izņemot gadījumus, ja Dienests konstatē, ka personai nav tiesības saņemt EVAK). Ņemot vērā plānoto budžeta izdevumu samazinājumu (i) , Dienests sniedza priekšlikumu, ka, sākot ar 2026. gadu EVAK pa pastu personām tiks izsūtīta tikai gadījumā, ja persona būs apmaksājusi EVAK nosūtīšanas izdevumus atbilstoši Latvijas pasta spēkā esošajam tarifam (ii). Dienests, kā līdz šim, nodrošinās EVAK izsniegšanu klātienē Dienesta klientu apkalpošanas centros Rīgā, Smiltenē, Kuldīgā, Daugavpilī un Jelgavā. Lai Dienests spētu realizēt iepriekšminēto priekšlikumu 2026.gadā jāizveido jauns tehnisks risinājums, kas nodrošinās iedzīvotāju pieteikšanos EVAK un maksājumu apstrādi. Attiecībā uz nepieciešamā tehniskā risinājuma izstrādes izmaksām un iespējamo realizācijas termiņu Dienests norāda, ka risinājumu ir iespējams īstenot Valsts pārvaldes pakalpojumu portālā Latvija.lv. Veicot iespējamo izstrādātāju aptauju, tika saņemta informācija par izstrādes izmaksām – 127 921 euro, tajā skaitā e-pakalpojuma “Eiropas veselības apdrošināšanas karte” izstrādes izdevumi 102 003 euro apmērā, papildu izstrādes darbu izdevumi 25 918 euro apmērā. Izstrādātās sistēmas uzturēšanas izdevumi 2026. gadam un turpmāk ik gadu plānoti 20 467 euro apmērā. Pakalpojuma nodrošināšanai, 2026. gadam un turpmāk ik gadu tiek plānoti pasta izdevumi 178 345 euro apmērā, ņemot vērā Latvijas pasta tarifu sūtījumiem līdz 20 grami (2,30 euro) un prognozēto izsūtāmo EVAK skaitu – 77 541 vienību. Ņemot vērā plānotās izmaiņas, turpmāk pasta izdevumi tiks segti nevis no vispārējā kārtībā sadalāmās dotācijas no vispārējiem ieņēmumiem, bet no citiem pašu ieņēmumiem. 2026. gadam un turpmāk ik gadu pakalpojuma izdevumu segšanai tiek plānoti resursi 326 690 euro apmērā, tajā skaitā dotācija no vispārējiem ieņēmumiem 148 345 euro apmērā un citi pašu ieņēmumi par pasta izdevumiem 178 345 euro apmērā. Kopējā pakalpojuma īstenošanas finansiālā ietekme (resursi – izdevumi): - 2026. gadam 54 413 euro apmērā plānota finanšu līdzekļu ekonomija, ko dienests plāno novirzīt Vadības informācijas sistēmas (VIS) attīstībai (apakšprogramma 45.01.00 “Veselības aprūpes finansējuma administrēšana un ekonomiskā novērtēšana”). - 2027. gadam un turpmāk ik gadu 127 878 euro apmērā plānota finanšu līdzekļu ekonomija, ko dienests plāno novirzīt Vadības informācijas sistēmas (VIS) attīstībai (apakšprogramma 45.01.00 “Veselības aprūpes finansējuma administrēšana un ekonomiskā novērtēšana”). (i)Dotācijas no vispārējiem ieņēmumiem samazinājums EVAK karšu nosūtīšanai pa pastu, lai uzlabotu fiskālo telpu atbilstoši MK 26.08.2025. sēdes prot. Nr.33 53.§ 8. punktam (ii) Noteikumu projekts paredz veikt grozījumus noteikumu Nr.555 “Veselības aprūpes pakalpojumu organizēšanas un samaksas kārtība” 131. , 132. un 134.punktā, paredzot, ka Dienests no 2026.gada 1.marta pa pastu personām EVAK izsūtīs tikai gadījumā, ja persona būs apmaksājusi šīs kartes nosūtīšanas izdevumus atbilstoši universālā pasta pakalpojuma sniedzēja tarifiem vēstuļu korespondences sūtījumiem.
