Workbook
Name iesniedzejs: [1]HIDDEN!$A$2:$A$124
Name men: [1]HIDDEN!$P$1:$P$13
Name nozare1: [1]HIDDEN!$N$2:$O$7
Name nozareIZV: [1]HIDDEN!$N$2:$N$7
Name SAM: [1]HIDDEN!$H$2:$H$4

Sheet Dati
A1: Nosaukums | C1: Izvēlieties dienu | D1: Izvēlieties mēnesi | E1: Izvēlieties gadu | G1: Izvēlieties nozari | H1: Pārskata periods (gadi) | J1: Projekta iesniedzēja un Sadarbības partnera veids | L1: ES fonds | N1: ES fonda atbalsta likme | P1: SAM | R1: Papildnosacījums | T1: VBD likmes
G2: Dzelzceļš | H2: 30
A3: Aizkraukles novada pašvaldība | C3: 1 | D3: janvāris | E3: 2019 | G3: Ūdensapgāde/sanitārija | H3: 30 | I3: 1 | J3: Pašvaldība vai tās izveidota iestāde | L3: Kohēzijas fonds | N3: 1 | P3: 1.1.1.6 | R3: JĀ | T3: 0.1
A4: Alūksnes novada pašvaldība | C4: 2 | D4: februāris | E4: 2020 | G4: Ceļi | H4: 25-30 | I4: 2 | J4: Tiešās pārvaldes iestāde | L4: Atveseļošanās fonds | N4: 0.85 | R4: NĒ | T4: 0.15
A5: Augšdaugavas novada pašvaldība | C5: 3 | D5: marts | E5: 2021 | G5: Atkritumu apsaimniekošana | H5: 25-30 | I5: 3 | J5: Kapitālsabiedrība | L5: Eiropas Reģionālās attīstības fonds | N5: 0.55 | T5: 0.2
A6: Ādažu novada pašvaldība | C6: 4 | D6: aprīlis | E6: 2022 | G6: Ostas un lidostas | H6: 25 | J6: Speciālās ekonomiskās zonas pārvalde | L6: Taisnīgas pārkārtošanās fonds | N6: 0.5 | T6: 0.25
A7: Balvu novada pašvaldība | C7: 5 | D7: maijs | E7: 2023 | G7: Pilsētas transports | H7: 25-30 | J7: Brīvostas pārvalde | L7: Eiropas Sociālais fonds plus | N7: 0.45 | T7: 0.3
A8: Bauskas novada pašvaldība | C8: 6 | D8: jūnijs | E8: 2024 | G8: Enerģija | H8: 15-25 | J8: Tiesu varas institūcija | N8: 0
A9: Cēsu novada pašvaldība | C9: 7 | D9: jūlijs | E9: 2025 | G9: Pētniecība un inovācija | H9: 15-25 | J9: Biedrība ar valsts deleģējumu
A10: Daugavpils valstspilsētas pašvaldība | C10: 8 | D10: augusts | E10: 2026 | G10: Platjosla | H10: 15-20
A11: Dienvidkurzemes novada pašvaldība | C11: 9 | D11: septembris | E11: 2027 | G11: Uzņēmējdarbības infrastruktūra | H11: 15-25
A12: Dobeles novada pašvaldība | C12: 10 | D12: oktobris | E12: 2028 | G12: Citas nozares | H12: 10-15
A13: Gulbenes novada pašvaldība | C13: 11 | D13: novembris | E13: 2029
A14: Jelgavas valstspilsētas pašvaldība | C14: 12 | D14: decembris | E14: 2030
A15: Jelgavas novada pašvaldība | C15: 13
A16: Jēkabpils novada pašvaldība | C16: 14
A17: Jūrmala valstspilsētas pašvaldība | C17: 15
A18: Kārsavas novada pašvaldība | C18: 16
A19: Kuldīgas novada pašvaldība | C19: 17
A20: Ķekavas novada pašvaldība | C20: 18
A21: Liepājas valstspilsētas pašvaldība | C21: 19
A22: Limbažu novada pašvaldība | C22: 20
A23: Līvānu novada pašvaldība | C23: 21
A24: Ludzas novada pašvaldība | C24: 22
A25: Madonas novada pašvaldība | C25: 23
A26: Mārupes novada pašvaldība | C26: 24
... A33: Ropažu novada pašvaldība | C33: 31
A34: Salaspils novada pašvaldība
A35: Saldus novada pašvaldība
A36: Saulkrastu novada pašvaldība
A37: Siguldas novada pašvaldība
A38: Smiltenes novada pašvaldība
A39: Talsu novada pašvaldība
A40: Tukuma novada pašvaldība
A41: Valkas novada pašvaldība
A42: Valmieras novada pašvaldība
A43: Varakļānu novada pašvaldība
A44: Ventspils valstspilsētas pašvaldība
A45: Ventspils novada pašvaldība

Sheet Dati par projektu
A1: IZMAKSU UN IEGUVUMU ANALĪZE
A2: 1.Dati par projektu
A4: 1.1. | B4: Projekta iesniedzējs: | C4: Biedrība "Augstākās izglītības un zinātnes informācijas teholoģijas koplietošanas centrs"
A5: 1.2. | B5: Projekta iesniedzēja veids: | C5: Tiešās pārvaldes iestāde
A6: 1.3. | B6: Projekta nosaukums: | C6: Zinātniskās darbības digitalizācija un dalība Eiropas Atvērtajā zinātnes mākonī
A7: 1.4. | B7: Specifiskais atbalsta mērķis: | C7: 1.1.1.6
A8: 1.5. | B8: Projekta iesniedzēja valsts budžeta dotācijas īpatsvars: | C8: 0.15 | F8: Saite valsts budžeta dotācijas noteikšanai (VARAM vietnē)
A9: 1.6. | B9: Sadarbības partneri:
A13: 1.7. | B13: Projekta uzsākšanas datums: | C13: 1 | D13: oktobris | E13: 2025
A14: 1.8. | B14: Projekta iesniegšanas datums: | C14: 1 | D14: jūlijs | E14: 2025
A15: 1.9. | B15: Nozare: | C15: Pētniecība un inovācija
A16: 1.10. | B16: Pārskata periods (projekta dzīves cikls) (gadi): | C16: 12 | F16: Saite uz Eiropas Komisijas izstrādātajām vadlīnijām “Guide to Cost-Benefit Analysis of Investment Projects Economic appraisal tool for Cohesion Policy 2014 – 2020”
A17: 1.11. | B17: SAM MK not.noteiktais maksimālais projekta īstenošanas ilgums | C17: 2029
B18: Krāsu apzīmējumi:
B19: 0 | C19: Dati jāievada projekta iesniedzējam
B20: 0 | C20: Dati tiek aprēķināti automātiski

Sheet 1.1.A. Iesniedzējs
A1: DARBA LAPA Nr.1.1.A. | D1: Aizpilda par projekta iesniedzēja darbībām, kas NAV saistītas ar komercdarbības atbalstu
A4: BUDŽETS (+) | H4: Iesniedzējs un partneri
A5: Nr. | B5: Izmaksu pozīcijas nosaukums | C5: Maksimālā ES fondu līdzfin. atbalsta likme (%) | D5: Kopējā summa | F5: Izmaksas kopā | H5: ='Dati par projektu'!E13 -> 2025 | J5: =IF(OR(H5>='Dati par projektu'!$C$17,H5="X"),"X",H5+1) -> 2026 | L5: =IF(OR(J5>='Dati par projektu'!$C$17,J5="X"),"X",J5+1) -> 2027 | N5: =IF(OR(L5>='Dati par projektu'!$C$17,L5="X"),"X",L5+1) -> 2028 | P5: =IF(OR(N5>='Dati par projektu'!$C$17,N5="X"),"X",N5+1) -> 2029 | R5: =IF(OR(P5>='Dati par projektu'!$C$17,P5="X"),"X",P5+1) -> X | T5: =IF(OR(R5>='Dati par projektu'!$C$17,R5="X"),"X",R5+1) -> X | V5: =IF(OR(T5>='Dati par projektu'!$C$17,T5="X"),"X",T5+1) -> X | X5: =IF(OR(V5>='Dati par projektu'!$C$17,V5="X"),"X",V5+1) -> X | AV5: 0.55
B6: Projekta netiešās izmaksas kopā: | D6: EUR | E6: % | F6: attiecināmas izmaksas | G6: ārpusprojekta izmaksas | H6: attiecināmas izmaksas | I6: ārpusprojekta izmaksas | J6: attiecināmas izmaksas | K6: ārpusprojekta izmaksas | L6: attiecināmas izmaksas | M6: ārpusprojekta izmaksas | N6: attiecināmas izmaksas | O6: ārpusprojekta izmaksas | P6: attiecināmas izmaksas | Q6: ārpusprojekta izmaksas | R6: attiecināmas izmaksas | S6: ārpusprojekta izmaksas | T6: attiecināmas izmaksas | U6: ārpusprojekta izmaksas | V6: attiecināmas izmaksas | W6: ārpusprojekta izmaksas | X6: attiecināmas izmaksas | Y6: ārpusprojekta izmaksas | AV6: 0.45
A7: 1 | B7: Projekta izmaksas saskaņā ar vienoto izmaksu likmi (netiešās izmaksas) | C7: 0.85 | D7: =F7+G7 -> 1013092.2 | E7: =D7/$D$24 -> 0.060511204 | F7: =ROUND(H7+J7+L7+N7+P7+R7+T7+V7+X7,2) -> 1013092.2 | G7: =ROUND(I7+K7+M7+O7+Q7+S7+U7+W7+Y7,2) -> 0 | H7: 50571.038 | J7: 240630.28 | L7: 240630.28 | N7: 240630.28 | P7: 240630.28 | AV7: 0.35
A8: 2 | B8: Projekta vadības izmaksas | C8: 0.85 | D8: =F8+G8 -> 369007.01 | E8: =D8/$D$24 -> 0.022040501 | F8: =ROUND(H8+J8+L8+N8+P8+R8+T8+V8+X8,2) -> 369007.01 | G8: =ROUND(I8+K8+M8+O8+Q8+S8+U8+W8+Y8,2) -> 0 | H8: 41000.779 | J8: 82001.558 | L8: 82001.558 | N8: 82001.558 | P8: 82001.558
A9: 3 | B9: Projekta īstenošanas personāla izmaksas | C9: 0.85 | D9: =F9+G9 -> 6384940.7 | E9: =D9/$D$24 -> 0.38136753 | F9: =ROUND(H9+J9+L9+N9+P9+R9+T9+V9+X9,2) -> 6384940.7 | G9: =ROUND(I9+K9+M9+O9+Q9+S9+U9+W9+Y9,2) -> 0 | H9: 296139.47 | J9: 1522200.3 | L9: 1522200.3 | N9: 1522200.3 | P9: 1522200.3
A10: 4 | B10: Mērķa grupas nodrošinājuma izmaksas | C10: 0.85 | D10: =F10+G10 -> 0 | E10: =D10/$D$24 -> 0 | F10: =ROUND(H10+J10+L10+N10+P10+R10+T10+V10+X10,2) -> 0 | G10: =ROUND(I10+K10+M10+O10+Q10+S10+U10+W10+Y10,2) -> 0
A11: 5 | B11: Informācijas sistēmu izstrādes, ieviešanas un kvalitātes kontroles izmaksas | C11: 0.85 | D11: =F11+G11 -> 1680161.6 | E11: =D11/$D$24 -> 0.10035474 | F11: =ROUND(H11+J11+L11+N11+P11+R11+T11+V11+X11,2) -> 1680161.6 | G11: =ROUND(I11+K11+M11+O11+Q11+S11+U11+W11+Y11,2) -> 0 | H11: 0 | J11: 606850.3 | L11: 540300 | N11: 291000 | P11: 242011.25
A12: 6 | B12: Materiālu, aprīkojuma un iekārtu izmaksas | C12: 0.85 | D12: =F12+G12 -> 4375753.9 | E12: =D12/$D$24 -> 0.26136037 | F12: =ROUND(H12+J12+L12+N12+P12+R12+T12+V12+X12,2) -> 4375753.9 | G12: =ROUND(I12+K12+M12+O12+Q12+S12+U12+W12+Y12,2) -> 0 | H12: 15000 | J12: 2014801.4 | L12: 1348900 | N12: 608500 | P12: 388552.5
A13: 7 | B13: Būvniecības izmaksas | C13: 0.85 | D13: =F13+G13 -> 0 | E13: =D13/$D$24 -> 0 | F13: =ROUND(H13+J13+L13+N13+P13+R13+T13+V13+X13,2) -> 0 | G13: =ROUND(I13+K13+M13+O13+Q13+S13+U13+W13+Y13,2) -> 0
A14: 7.1.
A15: 7.2.
A16: 8 | B16: Patenti, licences utml. | C16: 0.85 | D16: =F16+G16 -> 2284661.5 | E16: =D16/$D$24 -> 0.13646105 | F16: =ROUND(H16+J16+L16+N16+P16+R16+T16+V16+X16,2) -> 2284661.5 | G16: =ROUND(I16+K16+M16+O16+Q16+S16+U16+W16+Y16,2) -> 0 | H16: 0 | J16: 792350.3 | L16: 732300 | N16: 405500 | P16: 354511.25
A17: 9 | B17: Nekustamā īpašuma (piemēram, ēku un zemes) iegādes izmaksas | C17: 0.85 | D17: =F17+G17 -> 0 | E17: =D17/$D$24 -> 0 | F17: =ROUND(H17+J17+L17+N17+P17+R17+T17+V17+X17,2) -> 0 | G17: =ROUND(I17+K17+M17+O17+Q17+S17+U17+W17+Y17,2) -> 0
A18: 10 | B18: Informatīvo un publicitātes pasākumu izmaksas | C18: 0.85 | D18: =F18+G18 -> 363000 | E18: =D18/$D$24 -> 0.021681707 | F18: =ROUND(H18+J18+L18+N18+P18+R18+T18+V18+X18,2) -> 363000 | G18: =ROUND(I18+K18+M18+O18+Q18+S18+U18+W18+Y18,2) -> 0 | H18: 0 | J18: 60000 | L18: 63000 | N18: 190000 | P18: 50000
A19: 11 | B19: Projekta iesnieguma un to pamatojošās dokumentācijas sagatavošanas izmaksas | C19: 0.85 | D19: =F19+G19 -> 0 | E19: =D19/$D$24 -> 0 | F19: =ROUND(H19+J19+L19+N19+P19+R19+T19+V19+X19,2) -> 0 | G19: =ROUND(I19+K19+M19+O19+Q19+S19+U19+W19+Y19,2) -> 0
A20: 12 | B20: Ieguldījumi natūrā | C20: 0.85 | D20: =F20+G20 -> 0 | E20: =D20/$D$24 -> 0 | F20: =ROUND(H20+J20+L20+N20+P20+R20+T20+V20+X20,2) -> 0 | G20: =ROUND(I20+K20+M20+O20+Q20+S20+U20+W20+Y20,2) -> 0
A21: 13 | B21: Pārējās projekta īstenošanas izmaksas | C21: 0.85 | D21: =F21+G21 -> 271607.5 | E21: =D21/$D$24 -> 0.016222904 | F21: =ROUND(H21+J21+L21+N21+P21+R21+T21+V21+X21,2) -> 271607.5 | G21: =ROUND(I21+K21+M21+O21+Q21+S21+U21+W21+Y21,2) -> 0 | H21: 13000 | J21: 60000 | L21: 63000 | N21: 66150 | P21: 69457.5
A22: 14 | B22: Vienreizējais maksājums | C22: 0.85 | D22: =F22+G22 -> 0 | E22: =D22/$D$24 -> 0 | F22: =ROUND(H22+J22+L22+N22+P22+R22+T22+V22+X22,2) -> 0 | G22: =ROUND(I22+K22+M22+O22+Q22+S22+U22+W22+Y22,2) -> 0
A23: 15 | B23: Neparedzētie izdevumi | C23: 0.85 | D23: =F23+G23 -> 0 | E23: =D23/$D$24 -> 0 | F23: =ROUND(H23+J23+L23+N23+P23+R23+T23+V23+X23,2) -> 0 | G23: =ROUND(I23+K23+M23+O23+Q23+S23+U23+W23+Y23,2) -> 0
B24: KOPĀ | C24: 0.85 | D24: =F24+G24 -> 16742224 | E24: =D24/$D$24 -> 1 | F24: =F7+F8+F9+F10+F11+F12+F13+F16+F17+F18+F19+F20+F21+F22+F23 -> 16742224 | G24: =G7+G8+G9+G10+G11+G12+G13+G16+G17+G18+G19+G20+G21+G22+G23 -> 0 | H24: =H7+H8+H9+H10+H11+H12+H13+H16+H17+H18+H19+H20+H21+H22+H23 -> 415711.29 | I24: =I7+I8+I9+I10+I11+I12+I13+I16+I17+I18+I19+I20+I21+I22+I23 -> 0 | J24: =J7+J8+J9+J10+J11+J12+J13+J16+J17+J18+J19+J20+J21+J22+J23 -> 5378834.2 | K24: =K7+K8+K9+K10+K11+K12+K13+K16+K17+K18+K19+K20+K21+K22+K23 -> 0 | L24: =L7+L8+L9+L10+L11+L12+L13+L16+L17+L18+L19+L20+L21+L22+L23 -> 4592332.2 | M24: =M7+M8+M9+M10+M11+M12+M13+M16+M17+M18+M19+M20+M21+M22+M23 -> 0 | ... Y24: =Y7+Y8+Y9+Y10+Y11+Y12+Y13+Y16+Y17+Y18+Y19+Y20+Y21+Y22+Y23 -> 0
B25: t.sk. PVN
B26: Investīciju izmaksas bez neparedzētajiem izdevumiem un neatt. PVN | H26: =H24-H23 -> 415711.29 | I26: =I24-I23-I25 -> 0 | J26: =J24-J23 -> 5378834.2 | K26: =K24-K23-K25 -> 0 | L26: =L24-L23 -> 4592332.2 | M26: =M24-M23-M25 -> 0 | N26: =N24-N23 -> 3405982.2 | O26: =O24-O23 -> 0 | P26: =P24-P23 -> 2949364.7 | Q26: =Q24-Q23 -> 0 | R26: =R24-R23 -> 0 | S26: =S24-S23 -> 0 | T26: =T24-T23 -> 0 | U26: =U24-U23 -> 0 | ... Y26: =Y24-Y23 -> 0

Sheet 1.1.B. Iesniedzējs
A1: DARBA LAPA Nr.1.1.B. | D1: Aizpilda par projekta iesniedzēja darbībām, kas IR saistītas ar komercdarbības atbalstu
A4: BUDŽETS (+)
A5: Nr. | B5: Izmaksu pozīcijas nosaukums | C5: Maksimālā ES fondu līdzfin. atbalsta likme (%) | D5: Kopējā summa | F5: Izmaksas kopā | H5: ='Dati par projektu'!E13 -> 2025 | J5: =IF(OR(H5>='Dati par projektu'!$C$17,H5="X"),"X",H5+1) -> 2026 | L5: =IF(OR(J5>='Dati par projektu'!$C$17,J5="X"),"X",J5+1) -> 2027 | N5: =IF(OR(L5>='Dati par projektu'!$C$17,L5="X"),"X",L5+1) -> 2028 | P5: =IF(OR(N5>='Dati par projektu'!$C$17,N5="X"),"X",N5+1) -> 2029 | R5: =IF(OR(P5>='Dati par projektu'!$C$17,P5="X"),"X",P5+1) -> X | T5: =IF(OR(R5>='Dati par projektu'!$C$17,R5="X"),"X",R5+1) -> X | V5: =IF(OR(T5>='Dati par projektu'!$C$17,T5="X"),"X",T5+1) -> X | X5: =IF(OR(V5>='Dati par projektu'!$C$17,V5="X"),"X",V5+1) -> X | AV5: 0.55
B6: Projekta netiešās izmaksas kopā: | D6: EUR | E6: % | F6: attiecināmas izmaksas | G6: ārpusprojekta izmaksas | H6: attiecināmas izmaksas | I6: ārpusprojekta izmaksas | J6: attiecināmas izmaksas | K6: ārpusprojekta izmaksas | L6: attiecināmas izmaksas | M6: ārpusprojekta izmaksas | N6: attiecināmas izmaksas | O6: ārpusprojekta izmaksas | P6: attiecināmas izmaksas | Q6: ārpusprojekta izmaksas | R6: attiecināmas izmaksas | S6: ārpusprojekta izmaksas | T6: attiecināmas izmaksas | U6: ārpusprojekta izmaksas | V6: attiecināmas izmaksas | W6: ārpusprojekta izmaksas | X6: attiecināmas izmaksas | Y6: ārpusprojekta izmaksas | AV6: 0.45
A7: 1 | B7: Projekta izmaksas saskaņā ar vienoto izmaksu likmi (netiešās izmaksas) | C7: 0.85 | D7: =F7+G7 -> 0 | E7: =D7/$D$24 -> #DIV/0! | F7: =ROUND(H7+J7+L7+N7+P7+R7+T7+V7+X7,2) -> 0 | G7: =ROUND(I7+K7+M7+O7+Q7+S7+U7+W7+Y7,2) -> 0 | AV7: 0.35
A8: 2 | B8: Projekta vadības izmaksas | C8: 0.85 | D8: =F8+G8 -> 0 | E8: =D8/$D$24 -> #DIV/0! | F8: =ROUND(H8+J8+L8+N8+P8+R8+T8+V8+X8,2) -> 0 | G8: =ROUND(I8+K8+M8+O8+Q8+S8+U8+W8+Y8,2) -> 0
A9: 3 | B9: Projekta īstenošanas personāla izmaksas | C9: 0.85 | D9: =F9+G9 -> 0 | E9: =D9/$D$24 -> #DIV/0! | F9: =ROUND(H9+J9+L9+N9+P9+R9+T9+V9+X9,2) -> 0 | G9: =ROUND(I9+K9+M9+O9+Q9+S9+U9+W9+Y9,2) -> 0
A10: 4 | B10: Mērķa grupas nodrošinājuma izmaksas | C10: 0.85 | D10: =F10+G10 -> 0 | E10: =D10/$D$24 -> #DIV/0! | F10: =ROUND(H10+J10+L10+N10+P10+R10+T10+V10+X10,2) -> 0 | G10: =ROUND(I10+K10+M10+O10+Q10+S10+U10+W10+Y10,2) -> 0
A11: 5 | B11: Informācijas sistēmu izstrādes, ieviešanas un kvalitātes kontroles izmaksas | C11: 0.85 | D11: =F11+G11 -> 0 | E11: =D11/$D$24 -> #DIV/0! | F11: =ROUND(H11+J11+L11+N11+P11+R11+T11+V11+X11,2) -> 0 | G11: =ROUND(I11+K11+M11+O11+Q11+S11+U11+W11+Y11,2) -> 0
A12: 6 | B12: Materiālu, aprīkojuma un iekārtu izmaksas | C12: 0.85 | D12: =F12+G12 -> 0 | E12: =D12/$D$24 -> #DIV/0! | F12: =ROUND(H12+J12+L12+N12+P12+R12+T12+V12+X12,2) -> 0 | G12: =ROUND(I12+K12+M12+O12+Q12+S12+U12+W12+Y12,2) -> 0
A13: 7 | B13: Būvniecības izmaksas | D13: =F13+G13 -> 0 | E13: =D13/$D$24 -> #DIV/0! | F13: =ROUND(H13+J13+L13+N13+P13+R13+T13+V13+X13,2) -> 0 | G13: =ROUND(I13+K13+M13+O13+Q13+S13+U13+W13+Y13,2) -> 0 | H13: =SUM(H14:H15) -> 0 | I13: =SUM(I14:I15) -> 0 | J13: =SUM(J14:J15) -> 0 | K13: =SUM(K14:K15) -> 0 | L13: =SUM(L14:L15) -> 0 | M13: =SUM(M14:M15) -> 0 | N13: =SUM(N14:N15) -> 0 | O13: =SUM(O14:O15) -> 0 | ... Y13: =SUM(Y14:Y15) -> 0
A14: 7.1. | B14: Projektēšanas izmaksas (de minimis) | C14: 1 | D14: =F14+G14 -> 0 | E14: =D14/$D$24 -> #DIV/0! | F14: =ROUND(H14+J14+L14+N14+P14+R14+T14+V14+X14,2) -> 0 | G14: =ROUND(I14+K14+M14+O14+Q14+S14+U14+W14+Y14,2) -> 0
A15: 7.2. | B15: Pārējās būvniecības izmaksas | C15: 0.85 | D15: =F15+G15 -> 0 | E15: =D15/$D$24 -> #DIV/0! | F15: =ROUND(H15+J15+L15+N15+P15+R15+T15+V15+X15,2) -> 0 | G15: =ROUND(I15+K15+M15+O15+Q15+S15+U15+W15+Y15,2) -> 0
A16: 8 | B16: Patenti, licences utml. | C16: 0.85 | D16: =F16+G16 -> 0 | E16: =D16/$D$24 -> #DIV/0! | F16: =ROUND(H16+J16+L16+N16+P16+R16+T16+V16+X16,2) -> 0 | G16: =ROUND(I16+K16+M16+O16+Q16+S16+U16+W16+Y16,2) -> 0
A17: 9 | B17: Nekustamā īpašuma (piemēram, ēku un zemes) iegādes izmaksas | C17: 0.85 | D17: =F17+G17 -> 0 | E17: =D17/$D$24 -> #DIV/0! | F17: =ROUND(H17+J17+L17+N17+P17+R17+T17+V17+X17,2) -> 0 | G17: =ROUND(I17+K17+M17+O17+Q17+S17+U17+W17+Y17,2) -> 0
A18: 10 | B18: Informatīvo un publicitātes pasākumu izmaksas | C18: 0.85 | D18: =F18+G18 -> 0 | E18: =D18/$D$24 -> #DIV/0! | F18: =ROUND(H18+J18+L18+N18+P18+R18+T18+V18+X18,2) -> 0 | G18: =ROUND(I18+K18+M18+O18+Q18+S18+U18+W18+Y18,2) -> 0
A19: 11 | B19: Projekta iesnieguma un to pamatojošās dokumentācijas sagatavošanas izmaksas (de minimis) | C19: 1 | D19: =F19+G19 -> 0 | E19: =D19/$D$24 -> #DIV/0! | F19: =ROUND(H19+J19+L19+N19+P19+R19+T19+V19+X19,2) -> 0 | G19: =ROUND(I19+K19+M19+O19+Q19+S19+U19+W19+Y19,2) -> 0
A20: 12 | B20: Ieguldījumi natūrā | C20: 0.85 | D20: =F20+G20 -> 0 | E20: =D20/$D$24 -> #DIV/0! | F20: =ROUND(H20+J20+L20+N20+P20+R20+T20+V20+X20,2) -> 0 | G20: =ROUND(I20+K20+M20+O20+Q20+S20+U20+W20+Y20,2) -> 0
A21: 13 | B21: Pārējās projekta īstenošanas izmaksas | C21: 0.85 | D21: =F21+G21 -> 0 | E21: =D21/$D$24 -> #DIV/0! | F21: =ROUND(H21+J21+L21+N21+P21+R21+T21+V21+X21,2) -> 0 | G21: =ROUND(I21+K21+M21+O21+Q21+S21+U21+W21+Y21,2) -> 0
A22: 14 | B22: Vienreizējais maksājums | C22: 0.85 | D22: =F22+G22 -> 0 | E22: =D22/$D$24 -> #DIV/0! | F22: =ROUND(H22+J22+L22+N22+P22+R22+T22+V22+X22,2) -> 0 | G22: =ROUND(I22+K22+M22+O22+Q22+S22+U22+W22+Y22,2) -> 0
A23: 15 | B23: Neparedzētie izdevumi | C23: 0.85 | D23: =F23+G23 -> 0 | E23: =D23/$D$24 -> #DIV/0! | F23: =ROUND(H23+J23+L23+N23+P23+R23+T23+V23+X23,2) -> 0 | G23: =ROUND(I23+K23+M23+O23+Q23+S23+U23+W23+Y23,2) -> 0
B24: KOPĀ | C24: 0.85 | D24: =F24+G24 -> 0 | E24: =D24/$D$24 -> #DIV/0! | F24: =F7+F8+F9+F10+F11+F12+F13+F16+F17+F18+F19+F20+F21+F22+F23 -> 0 | G24: =G7+G8+G9+G10+G11+G12+G13+G16+G17+G18+G19+G20+G21+G22+G23 -> 0 | H24: =H7+H8+H9+H10+H11+H12+H13+H16+H17+H18+H19+H20+H21+H22+H23 -> 0 | I24: =I7+I8+I9+I10+I11+I12+I13+I16+I17+I18+I19+I20+I21+I22+I23 -> 0 | J24: =J7+J8+J9+J10+J11+J12+J13+J16+J17+J18+J19+J20+J21+J22+J23 -> 0 | K24: =K7+K8+K9+K10+K11+K12+K13+K16+K17+K18+K19+K20+K21+K22+K23 -> 0 | L24: =L7+L8+L9+L10+L11+L12+L13+L16+L17+L18+L19+L20+L21+L22+L23 -> 0 | M24: =M7+M8+M9+M10+M11+M12+M13+M16+M17+M18+M19+M20+M21+M22+M23 -> 0 | ... Y24: =Y7+Y8+Y9+Y10+Y11+Y12+Y13+Y16+Y17+Y18+Y19+Y20+Y21+Y22+Y23 -> 0
B25: t.sk. PVN
B26: Investīciju izmaksas bez neparedzētajiem izdevumiem un neatt. PVN | H26: =H24-H23 -> 0 | I26: =I24-I23-I25 -> 0 | J26: =J24-J23 -> 0 | K26: =K24-K23-K25 -> 0 | L26: =L24-L23 -> 0 | M26: =M24-M23-M25 -> 0 | N26: =N24-N23 -> 0 | O26: =O24-O23 -> 0 | P26: =P24-P23 -> 0 | Q26: =Q24-Q23 -> 0 | R26: =R24-R23 -> 0 | S26: =S24-S23 -> 0 | T26: =T24-T23 -> 0 | U26: =U24-U23 -> 0 | ... Y26: =Y24-Y23 -> 0
B27: Investīciju izmaksas bez de minimis izmaksām | H27: =H24-H14-H19 -> 0 | I27: =I24-I14-I19 -> 0 | J27: =J24-J14-J19 -> 0 | K27: =K24-K14-K19 -> 0 | L27: =L24-L14-L19 -> 0 | M27: =M24-M14-M19 -> 0 | N27: =N24-N14-N19 -> 0 | O27: =O24-O14-O19 -> 0 | ... Y27: =Y24-Y14-Y19 -> 0
B28: De minimis | H28: =H14+H19 -> 0 | I28: =I14+I19 -> 0 | J28: =J14+J19 -> 0 | K28: =K14+K19 -> 0 | L28: =L14+L19 -> 0 | M28: =M14+M19 -> 0 | N28: =N14+N19 -> 0 | O28: =O14+O19 -> 0 | ... Y28: =Y14+Y19 -> 0
B29: Investīciju izmaksas bez neparedzētajiem izd., de minimis un neatt. PVN | H29: =H26-H28 -> 0 | I29: =I26-I28 -> 0 | J29: =J26-J28 -> 0 | K29: =K26-K28 -> 0 | L29: =L26-L28 -> 0 | M29: =M26-M28 -> 0 | N29: =N26-N28 -> 0 | O29: =O26-O28 -> 0 | ... Y29: =Y26-Y28 -> 0

Sheet 1.1.C. Iesniedzējs
A1: DARBA LAPA Nr.1.1.C. | D1: Aizpilda par projekta iesniedzēja darbībām, kas IR saistītas ar komercdarbības atbalstu (VTNP)
A4: BUDŽETS (+)
A5: Nr. | B5: Izmaksu pozīcijas nosaukums | C5: Maksimālā ES fondu līdzfin. atbalsta likme (%) | D5: Kopējā summa | F5: Izmaksas kopā | H5: ='Dati par projektu'!E13 -> 2025 | J5: =IF(OR(H5>='Dati par projektu'!$C$17,H5="X"),"X",H5+1) -> 2026 | L5: =IF(OR(J5>='Dati par projektu'!$C$17,J5="X"),"X",J5+1) -> 2027 | N5: =IF(OR(L5>='Dati par projektu'!$C$17,L5="X"),"X",L5+1) -> 2028 | P5: =IF(OR(N5>='Dati par projektu'!$C$17,N5="X"),"X",N5+1) -> 2029 | R5: =IF(OR(P5>='Dati par projektu'!$C$17,P5="X"),"X",P5+1) -> X | T5: =IF(OR(R5>='Dati par projektu'!$C$17,R5="X"),"X",R5+1) -> X | V5: =IF(OR(T5>='Dati par projektu'!$C$17,T5="X"),"X",T5+1) -> X | X5: =IF(OR(V5>='Dati par projektu'!$C$17,V5="X"),"X",V5+1) -> X | AV5: 0.55
B6: Projekta netiešās izmaksas kopā: | D6: EUR | E6: % | F6: attiecināmas izmaksas | G6: ārpusprojekta izmaksas | H6: attiecināmas izmaksas | I6: ārpusprojekta izmaksas | J6: attiecināmas izmaksas | K6: ārpusprojekta izmaksas | L6: attiecināmas izmaksas | M6: ārpusprojekta izmaksas | N6: attiecināmas izmaksas | O6: ārpusprojekta izmaksas | P6: attiecināmas izmaksas | Q6: ārpusprojekta izmaksas | R6: attiecināmas izmaksas | S6: ārpusprojekta izmaksas | T6: attiecināmas izmaksas | U6: ārpusprojekta izmaksas | V6: attiecināmas izmaksas | W6: ārpusprojekta izmaksas | X6: attiecināmas izmaksas | Y6: ārpusprojekta izmaksas | AV6: 0.45
A7: 1 | B7: Projekta izmaksas saskaņā ar vienoto izmaksu likmi (netiešās izmaksas) | C7: 0.85 | D7: =F7+G7 -> 0 | E7: =D7/$D$24 -> #DIV/0! | F7: =ROUND(H7+J7+L7+N7+P7+R7+T7+V7+X7,2) -> 0 | G7: =ROUND(I7+K7+M7+O7+Q7+S7+U7+W7+Y7,2) -> 0 | AV7: 0.35
A8: 2 | B8: Projekta vadības izmaksas | C8: 0.85 | D8: =F8+G8 -> 0 | E8: =D8/$D$24 -> #DIV/0! | F8: =ROUND(H8+J8+L8+N8+P8+R8+T8+V8+X8,2) -> 0 | G8: =ROUND(I8+K8+M8+O8+Q8+S8+U8+W8+Y8,2) -> 0
A9: 3 | B9: Projekta īstenošanas personāla izmaksas | C9: 0.85 | D9: =F9+G9 -> 0 | E9: =D9/$D$24 -> #DIV/0! | F9: =ROUND(H9+J9+L9+N9+P9+R9+T9+V9+X9,2) -> 0 | G9: =ROUND(I9+K9+M9+O9+Q9+S9+U9+W9+Y9,2) -> 0
A10: 4 | B10: Mērķa grupas nodrošinājuma izmaksas | C10: 0.85 | D10: =F10+G10 -> 0 | E10: =D10/$D$24 -> #DIV/0! | F10: =ROUND(H10+J10+L10+N10+P10+R10+T10+V10+X10,2) -> 0 | G10: =ROUND(I10+K10+M10+O10+Q10+S10+U10+W10+Y10,2) -> 0
A11: 5 | B11: Informācijas sistēmu izstrādes, ieviešanas un kvalitātes kontroles izmaksas | C11: 0.85 | D11: =F11+G11 -> 0 | E11: =D11/$D$24 -> #DIV/0! | F11: =ROUND(H11+J11+L11+N11+P11+R11+T11+V11+X11,2) -> 0 | G11: =ROUND(I11+K11+M11+O11+Q11+S11+U11+W11+Y11,2) -> 0
A12: 6 | B12: Materiālu, aprīkojuma un iekārtu izmaksas | C12: 0.85 | D12: =F12+G12 -> 0 | E12: =D12/$D$24 -> #DIV/0! | F12: =ROUND(H12+J12+L12+N12+P12+R12+T12+V12+X12,2) -> 0 | G12: =ROUND(I12+K12+M12+O12+Q12+S12+U12+W12+Y12,2) -> 0
A13: 7 | B13: Būvniecības izmaksas | C13: 0.85 | D13: =F13+G13 -> 0 | E13: =D13/$D$24 -> #DIV/0! | F13: =ROUND(H13+J13+L13+N13+P13+R13+T13+V13+X13,2) -> 0 | G13: =ROUND(I13+K13+M13+O13+Q13+S13+U13+W13+Y13,2) -> 0
A16: 8 | B16: Patenti, licences utml. | C16: 0.85 | D16: =F16+G16 -> 0 | E16: =D16/$D$24 -> #DIV/0! | F16: =ROUND(H16+J16+L16+N16+P16+R16+T16+V16+X16,2) -> 0 | G16: =ROUND(I16+K16+M16+O16+Q16+S16+U16+W16+Y16,2) -> 0
A17: 9 | B17: Nekustamā īpašuma (piemēram, ēku un zemes) iegādes izmaksas | C17: 0.85 | D17: =F17+G17 -> 0 | E17: =D17/$D$24 -> #DIV/0! | F17: =ROUND(H17+J17+L17+N17+P17+R17+T17+V17+X17,2) -> 0 | G17: =ROUND(I17+K17+M17+O17+Q17+S17+U17+W17+Y17,2) -> 0
A18: 10 | B18: Informatīvo un publicitātes pasākumu izmaksas | C18: 0.85 | D18: =F18+G18 -> 0 | E18: =D18/$D$24 -> #DIV/0! | F18: =ROUND(H18+J18+L18+N18+P18+R18+T18+V18+X18,2) -> 0 | G18: =ROUND(I18+K18+M18+O18+Q18+S18+U18+W18+Y18,2) -> 0
A19: 11 | B19: Projekta iesnieguma un to pamatojošās dokumentācijas sagatavošanas izmaksas | C19: 0.85 | D19: =F19+G19 -> 0 | E19: =D19/$D$24 -> #DIV/0! | F19: =ROUND(H19+J19+L19+N19+P19+R19+T19+V19+X19,2) -> 0 | G19: =ROUND(I19+K19+M19+O19+Q19+S19+U19+W19+Y19,2) -> 0
A20: 12 | B20: Ieguldījumi natūrā | C20: 0.85 | D20: =F20+G20 -> 0 | E20: =D20/$D$24 -> #DIV/0! | F20: =ROUND(H20+J20+L20+N20+P20+R20+T20+V20+X20,2) -> 0 | G20: =ROUND(I20+K20+M20+O20+Q20+S20+U20+W20+Y20,2) -> 0
A21: 13 | B21: Pārējās projekta īstenošanas izmaksas | C21: 0.85 | D21: =F21+G21 -> 0 | E21: =D21/$D$24 -> #DIV/0! | F21: =ROUND(H21+J21+L21+N21+P21+R21+T21+V21+X21,2) -> 0 | G21: =ROUND(I21+K21+M21+O21+Q21+S21+U21+W21+Y21,2) -> 0
... A23: 15 | B23: Neparedzētie izdevumi | C23: 0.85 | D23: =F23+G23 -> 0 | E23: =D23/$D$24 -> #DIV/0! | F23: =ROUND(H23+J23+L23+N23+P23+R23+T23+V23+X23,2) -> 0 | G23: =ROUND(I23+K23+M23+O23+Q23+S23+U23+W23+Y23,2) -> 0
B24: KOPĀ | C24: 0.85 | D24: =F24+G24 -> 0 | E24: =D24/$D$24 -> #DIV/0! | F24: =F7+F8+F9+F10+F11+F12+F13+F16+F17+F18+F19+F20+F21+F22+F23 -> 0 | G24: =G7+G8+G9+G10+G11+G12+G13+G16+G17+G18+G19+G20+G21+G22+G23 -> 0 | H24: =H7+H8+H9+H10+H11+H12+H13+H16+H17+H18+H19+H20+H21+H22+H23 -> 0 | I24: =I7+I8+I9+I10+I11+I12+I13+I16+I17+I18+I19+I20+I21+I22+I23 -> 0 | J24: =J7+J8+J9+J10+J11+J12+J13+J16+J17+J18+J19+J20+J21+J22+J23 -> 0 | K24: =K7+K8+K9+K10+K11+K12+K13+K16+K17+K18+K19+K20+K21+K22+K23 -> 0 | L24: =L7+L8+L9+L10+L11+L12+L13+L16+L17+L18+L19+L20+L21+L22+L23 -> 0 | M24: =M7+M8+M9+M10+M11+M12+M13+M16+M17+M18+M19+M20+M21+M22+M23 -> 0 | ... Y24: =Y7+Y8+Y9+Y10+Y11+Y12+Y13+Y16+Y17+Y18+Y19+Y20+Y21+Y22+Y23 -> 0
B25: t.sk. PVN
B26: Investīciju izmaksas bez neparedzētajiem izdevumiem un neatt. PVN | H26: =H24-H23 -> 0 | I26: =I24-I23-I25 -> 0 | J26: =J24-J23 -> 0 | K26: =K24-K23-K25 -> 0 | L26: =L24-L23 -> 0 | M26: =M24-M23-M25 -> 0 | N26: =N24-N23 -> 0 | O26: =O24-O23 -> 0 | P26: =P24-P23 -> 0 | Q26: =Q24-Q23 -> 0 | R26: =R24-R23 -> 0 | S26: =S24-S23 -> 0 | T26: =T24-T23 -> 0 | U26: =U24-U23 -> 0 | ... Y26: =Y24-Y23 -> 0

Sheet 1.2.1.A. Partneris-1
A1: DARBA LAPA Nr.1.2.1.A. | D1: Aizpilda par projekta iesniedzēja sadarbības partnera darbībām, kas NAV saistītas ar komercdarbības atbalstu
B3: Sadarbības partneris: | G3: Veids: | K3: Valsts budžeta dotācijas īpatsvars (%): | P3: Saite valsts budžeta dotācijas noteikšanai (VARAM vietnē)
A4: BUDŽETS (+)
A5: Nr. | B5: Izmaksu pozīcijas nosaukums | C5: Maksimālā ES fondu līdzfin. atbalsta likme (%) | D5: Kopējā summa | F5: Izmaksas kopā | H5: ='Dati par projektu'!E13 -> 2025 | J5: =IF(OR(H5>='Dati par projektu'!$C$17,H5="X"),"X",H5+1) -> 2026 | L5: =IF(OR(J5>='Dati par projektu'!$C$17,J5="X"),"X",J5+1) -> 2027 | N5: =IF(OR(L5>='Dati par projektu'!$C$17,L5="X"),"X",L5+1) -> 2028 | P5: =IF(OR(N5>='Dati par projektu'!$C$17,N5="X"),"X",N5+1) -> 2029 | R5: =IF(OR(P5>='Dati par projektu'!$C$17,P5="X"),"X",P5+1) -> X | T5: =IF(OR(R5>='Dati par projektu'!$C$17,R5="X"),"X",R5+1) -> X | V5: =IF(OR(T5>='Dati par projektu'!$C$17,T5="X"),"X",T5+1) -> X | X5: =IF(OR(V5>='Dati par projektu'!$C$17,V5="X"),"X",V5+1) -> X | AV5: 0.55
B6: Projekta netiešās izmaksas kopā: | D6: EUR | E6: % | F6: attiecināmas izmaksas | G6: ārpusprojekta izmaksas | H6: attiecināmas izmaksas | I6: ārpusprojekta izmaksas | J6: attiecināmas izmaksas | K6: ārpusprojekta izmaksas | L6: attiecināmas izmaksas | M6: ārpusprojekta izmaksas | N6: attiecināmas izmaksas | O6: ārpusprojekta izmaksas | P6: attiecināmas izmaksas | Q6: ārpusprojekta izmaksas | R6: attiecināmas izmaksas | S6: ārpusprojekta izmaksas | T6: attiecināmas izmaksas | U6: ārpusprojekta izmaksas | V6: attiecināmas izmaksas | W6: ārpusprojekta izmaksas | X6: attiecināmas izmaksas | Y6: ārpusprojekta izmaksas | AV6: 0.45
A7: 1 | B7: Projekta izmaksas saskaņā ar vienoto izmaksu likmi (netiešās izmaksas) | C7: 0.85 | D7: =F7+G7 -> 0 | E7: =D7/$D$24 -> #DIV/0! | F7: =ROUND(H7+J7+L7+N7+P7+R7+T7+V7+X7,2) -> 0 | G7: =ROUND(I7+K7+M7+O7+Q7+S7+U7+W7+Y7,2) -> 0 | AV7: 0.35
A8: 2 | B8: Projekta vadības izmaksas | C8: 0.85 | D8: =F8+G8 -> 0 | E8: =D8/$D$24 -> #DIV/0! | F8: =ROUND(H8+J8+L8+N8+P8+R8+T8+V8+X8,2) -> 0 | G8: =ROUND(I8+K8+M8+O8+Q8+S8+U8+W8+Y8,2) -> 0
A9: 3 | B9: Projekta īstenošanas personāla izmaksas | C9: 0.85 | D9: =F9+G9 -> 0 | E9: =D9/$D$24 -> #DIV/0! | F9: =ROUND(H9+J9+L9+N9+P9+R9+T9+V9+X9,2) -> 0 | G9: =ROUND(I9+K9+M9+O9+Q9+S9+U9+W9+Y9,2) -> 0
A10: 4 | B10: Mērķa grupas nodrošinājuma izmaksas | C10: 0.85 | D10: =F10+G10 -> 0 | E10: =D10/$D$24 -> #DIV/0! | F10: =ROUND(H10+J10+L10+N10+P10+R10+T10+V10+X10,2) -> 0 | G10: =ROUND(I10+K10+M10+O10+Q10+S10+U10+W10+Y10,2) -> 0
A11: 5 | B11: Informācijas sistēmu izstrādes, ieviešanas un kvalitātes kontroles izmaksas | C11: 0.85 | D11: =F11+G11 -> 0 | E11: =D11/$D$24 -> #DIV/0! | F11: =ROUND(H11+J11+L11+N11+P11+R11+T11+V11+X11,2) -> 0 | G11: =ROUND(I11+K11+M11+O11+Q11+S11+U11+W11+Y11,2) -> 0
A12: 6 | B12: Materiālu, aprīkojuma un iekārtu izmaksas | C12: 0.85 | D12: =F12+G12 -> 0 | E12: =D12/$D$24 -> #DIV/0! | F12: =ROUND(H12+J12+L12+N12+P12+R12+T12+V12+X12,2) -> 0 | G12: =ROUND(I12+K12+M12+O12+Q12+S12+U12+W12+Y12,2) -> 0
A13: 7 | B13: Būvniecības izmaksas | C13: 0.85 | D13: =F13+G13 -> 0 | E13: =D13/$D$24 -> #DIV/0! | F13: =ROUND(H13+J13+L13+N13+P13+R13+T13+V13+X13,2) -> 0 | G13: =ROUND(I13+K13+M13+O13+Q13+S13+U13+W13+Y13,2) -> 0
A16: 8 | B16: Patenti, licences utml. | C16: 0.85 | D16: =F16+G16 -> 0 | E16: =D16/$D$24 -> #DIV/0! | F16: =ROUND(H16+J16+L16+N16+P16+R16+T16+V16+X16,2) -> 0 | G16: =ROUND(I16+K16+M16+O16+Q16+S16+U16+W16+Y16,2) -> 0
A17: 9 | B17: Nekustamā īpašuma (piemēram, ēku un zemes) iegādes izmaksas | C17: 0.85 | D17: =F17+G17 -> 0 | E17: =D17/$D$24 -> #DIV/0! | F17: =ROUND(H17+J17+L17+N17+P17+R17+T17+V17+X17,2) -> 0 | G17: =ROUND(I17+K17+M17+O17+Q17+S17+U17+W17+Y17,2) -> 0
A18: 10 | B18: Informatīvo un publicitātes pasākumu izmaksas | C18: 0.85 | D18: =F18+G18 -> 0 | E18: =D18/$D$24 -> #DIV/0! | F18: =ROUND(H18+J18+L18+N18+P18+R18+T18+V18+X18,2) -> 0 | G18: =ROUND(I18+K18+M18+O18+Q18+S18+U18+W18+Y18,2) -> 0
A19: 11 | B19: Projekta iesnieguma un to pamatojošās dokumentācijas sagatavošanas izmaksas | C19: 0.85 | D19: =F19+G19 -> 0 | E19: =D19/$D$24 -> #DIV/0! | F19: =ROUND(H19+J19+L19+N19+P19+R19+T19+V19+X19,2) -> 0 | G19: =ROUND(I19+K19+M19+O19+Q19+S19+U19+W19+Y19,2) -> 0
A20: 12 | B20: Ieguldījumi natūrā | C20: 0.85 | D20: =F20+G20 -> 0 | E20: =D20/$D$24 -> #DIV/0! | F20: =ROUND(H20+J20+L20+N20+P20+R20+T20+V20+X20,2) -> 0 | G20: =ROUND(I20+K20+M20+O20+Q20+S20+U20+W20+Y20,2) -> 0
A21: 13 | B21: Pārējās projekta īstenošanas izmaksas | C21: 0.85 | D21: =F21+G21 -> 0 | E21: =D21/$D$24 -> #DIV/0! | F21: =ROUND(H21+J21+L21+N21+P21+R21+T21+V21+X21,2) -> 0 | G21: =ROUND(I21+K21+M21+O21+Q21+S21+U21+W21+Y21,2) -> 0
... A23: 15 | B23: Neparedzētie izdevumi | C23: 0.85 | D23: =F23+G23 -> 0 | E23: =D23/$D$24 -> #DIV/0! | F23: =ROUND(H23+J23+L23+N23+P23+R23+T23+V23+X23,2) -> 0 | G23: =ROUND(I23+K23+M23+O23+Q23+S23+U23+W23+Y23,2) -> 0
B24: KOPĀ | C24: 0.85 | D24: =F24+G24 -> 0 | E24: =D24/$D$24 -> #DIV/0! | F24: =F7+F8+F9+F10+F11+F12+F13+F16+F17+F18+F19+F20+F21+F22+F23 -> 0 | G24: =G7+G8+G9+G10+G11+G12+G13+G16+G17+G18+G19+G20+G21+G22+G23 -> 0 | H24: =H7+H8+H9+H10+H11+H12+H13+H16+H17+H18+H19+H20+H21+H22+H23 -> 0 | I24: =I7+I8+I9+I10+I11+I12+I13+I16+I17+I18+I19+I20+I21+I22+I23 -> 0 | J24: =J7+J8+J9+J10+J11+J12+J13+J16+J17+J18+J19+J20+J21+J22+J23 -> 0 | K24: =K7+K8+K9+K10+K11+K12+K13+K16+K17+K18+K19+K20+K21+K22+K23 -> 0 | L24: =L7+L8+L9+L10+L11+L12+L13+L16+L17+L18+L19+L20+L21+L22+L23 -> 0 | M24: =M7+M8+M9+M10+M11+M12+M13+M16+M17+M18+M19+M20+M21+M22+M23 -> 0 | ... Y24: =Y7+Y8+Y9+Y10+Y11+Y12+Y13+Y16+Y17+Y18+Y19+Y20+Y21+Y22+Y23 -> 0
B25: t.sk. PVN
B26: Investīciju izmaksas bez neparedzētajiem izdevumiem un neatt. PVN | H26: =H24-H23 -> 0 | I26: =I24-I23-I25 -> 0 | J26: =J24-J23 -> 0 | K26: =K24-K23-K25 -> 0 | L26: =L24-L23 -> 0 | M26: =M24-M23-M25 -> 0 | N26: =N24-N23 -> 0 | O26: =O24-O23 -> 0 | P26: =P24-P23 -> 0 | Q26: =Q24-Q23 -> 0 | R26: =R24-R23 -> 0 | S26: =S24-S23 -> 0 | T26: =T24-T23 -> 0 | U26: =U24-U23 -> 0 | ... Y26: =Y24-Y23 -> 0

Sheet 1.2.1.B. Partneris-1
A1: DARBA LAPA Nr.1.2.1.B. | D1: Aizpilda par projekta iesniedzēja sadarbības partnera darbībām, kas IR saistītas ar komercdarbības atbalstu
B3: Sadarbības partneris: | G3: Veids: | K3: Valsts budžeta dotācijas īpatsvars (%): | P3: Saite valsts budžeta dotācijas noteikšanai (VARAM vietnē)
A4: BUDŽETS (+)
A5: Nr. | B5: Izmaksu pozīcijas nosaukums | C5: Maksimālā ES fondu līdzfin. atbalsta likme (%) | D5: Kopējā summa | F5: Izmaksas kopā | H5: ='Dati par projektu'!E13 -> 2025 | J5: =IF(OR(H5>='Dati par projektu'!$C$17,H5="X"),"X",H5+1) -> 2026 | L5: =IF(OR(J5>='Dati par projektu'!$C$17,J5="X"),"X",J5+1) -> 2027 | N5: =IF(OR(L5>='Dati par projektu'!$C$17,L5="X"),"X",L5+1) -> 2028 | P5: =IF(OR(N5>='Dati par projektu'!$C$17,N5="X"),"X",N5+1) -> 2029 | R5: =IF(OR(P5>='Dati par projektu'!$C$17,P5="X"),"X",P5+1) -> X | T5: =IF(OR(R5>='Dati par projektu'!$C$17,R5="X"),"X",R5+1) -> X | V5: =IF(OR(T5>='Dati par projektu'!$C$17,T5="X"),"X",T5+1) -> X | X5: =IF(OR(V5>='Dati par projektu'!$C$17,V5="X"),"X",V5+1) -> X | AV5: 0.55
B6: Projekta netiešās izmaksas kopā: | D6: EUR | E6: % | F6: attiecināmas izmaksas | G6: ārpusprojekta izmaksas | H6: attiecināmas izmaksas | I6: ārpusprojekta izmaksas | J6: attiecināmas izmaksas | K6: ārpusprojekta izmaksas | L6: attiecināmas izmaksas | M6: ārpusprojekta izmaksas | N6: attiecināmas izmaksas | O6: ārpusprojekta izmaksas | P6: attiecināmas izmaksas | Q6: ārpusprojekta izmaksas | R6: attiecināmas izmaksas | S6: ārpusprojekta izmaksas | T6: attiecināmas izmaksas | U6: ārpusprojekta izmaksas | V6: attiecināmas izmaksas | W6: ārpusprojekta izmaksas | X6: attiecināmas izmaksas | Y6: ārpusprojekta izmaksas | AV6: 0.45
A7: 1 | B7: Projekta izmaksas saskaņā ar vienoto izmaksu likmi (netiešās izmaksas) | C7: 0.85 | D7: =F7+G7 -> 0 | E7: =D7/$D$24 -> #DIV/0! | F7: =ROUND(H7+J7+L7+N7+P7+R7+T7+V7+X7,2) -> 0 | G7: =ROUND(I7+K7+M7+O7+Q7+S7+U7+W7+Y7,2) -> 0 | AV7: 0.35
A8: 2 | B8: Projekta vadības izmaksas | C8: 0.85 | D8: =F8+G8 -> 0 | E8: =D8/$D$24 -> #DIV/0! | F8: =ROUND(H8+J8+L8+N8+P8+R8+T8+V8+X8,2) -> 0 | G8: =ROUND(I8+K8+M8+O8+Q8+S8+U8+W8+Y8,2) -> 0
A9: 3 | B9: Projekta īstenošanas personāla izmaksas | C9: 0.85 | D9: =F9+G9 -> 0 | E9: =D9/$D$24 -> #DIV/0! | F9: =ROUND(H9+J9+L9+N9+P9+R9+T9+V9+X9,2) -> 0 | G9: =ROUND(I9+K9+M9+O9+Q9+S9+U9+W9+Y9,2) -> 0
A10: 4 | B10: Mērķa grupas nodrošinājuma izmaksas | C10: 0.85 | D10: =F10+G10 -> 0 | E10: =D10/$D$24 -> #DIV/0! | F10: =ROUND(H10+J10+L10+N10+P10+R10+T10+V10+X10,2) -> 0 | G10: =ROUND(I10+K10+M10+O10+Q10+S10+U10+W10+Y10,2) -> 0
A11: 5 | B11: Informācijas sistēmu izstrādes, ieviešanas un kvalitātes kontroles izmaksas | C11: 0.85 | D11: =F11+G11 -> 0 | E11: =D11/$D$24 -> #DIV/0! | F11: =ROUND(H11+J11+L11+N11+P11+R11+T11+V11+X11,2) -> 0 | G11: =ROUND(I11+K11+M11+O11+Q11+S11+U11+W11+Y11,2) -> 0
A12: 6 | B12: Materiālu, aprīkojuma un iekārtu izmaksas | C12: 0.85 | D12: =F12+G12 -> 0 | E12: =D12/$D$24 -> #DIV/0! | F12: =ROUND(H12+J12+L12+N12+P12+R12+T12+V12+X12,2) -> 0 | G12: =ROUND(I12+K12+M12+O12+Q12+S12+U12+W12+Y12,2) -> 0
A13: 7 | B13: Būvniecības izmaksas | D13: =F13+G13 -> 0 | E13: =D13/$D$24 -> #DIV/0! | F13: =ROUND(H13+J13+L13+N13+P13+R13+T13+V13+X13,2) -> 0 | G13: =ROUND(I13+K13+M13+O13+Q13+S13+U13+W13+Y13,2) -> 0 | H13: =SUM(H14:H15) -> 0 | I13: =SUM(I14:I15) -> 0 | J13: =SUM(J14:J15) -> 0 | K13: =SUM(K14:K15) -> 0 | L13: =SUM(L14:L15) -> 0 | M13: =SUM(M14:M15) -> 0 | N13: =SUM(N14:N15) -> 0 | O13: =SUM(O14:O15) -> 0 | ... Y13: =SUM(Y14:Y15) -> 0
A14: 7.1. | B14: Projektēšanas izmaksas (de minimis) | C14: 1 | D14: =F14+G14 -> 0 | E14: =D14/$D$24 -> #DIV/0! | F14: =ROUND(H14+J14+L14+N14+P14+R14+T14+V14+X14,2) -> 0 | G14: =ROUND(I14+K14+M14+O14+Q14+S14+U14+W14+Y14,2) -> 0
A15: 7.2. | B15: Pārējās būvniecības izmaksas | C15: 0.85 | D15: =F15+G15 -> 0 | E15: =D15/$D$24 -> #DIV/0! | F15: =ROUND(H15+J15+L15+N15+P15+R15+T15+V15+X15,2) -> 0 | G15: =ROUND(I15+K15+M15+O15+Q15+S15+U15+W15+Y15,2) -> 0
A16: 8 | B16: Patenti, licences utml. | C16: 0.85 | D16: =F16+G16 -> 0 | E16: =D16/$D$24 -> #DIV/0! | F16: =ROUND(H16+J16+L16+N16+P16+R16+T16+V16+X16,2) -> 0 | G16: =ROUND(I16+K16+M16+O16+Q16+S16+U16+W16+Y16,2) -> 0
A17: 9 | B17: Nekustamā īpašuma (piemēram, ēku un zemes) iegādes izmaksas | C17: 0.85 | D17: =F17+G17 -> 0 | E17: =D17/$D$24 -> #DIV/0! | F17: =ROUND(H17+J17+L17+N17+P17+R17+T17+V17+X17,2) -> 0 | G17: =ROUND(I17+K17+M17+O17+Q17+S17+U17+W17+Y17,2) -> 0
A18: 10 | B18: Informatīvo un publicitātes pasākumu izmaksas | C18: 0.85 | D18: =F18+G18 -> 0 | E18: =D18/$D$24 -> #DIV/0! | F18: =ROUND(H18+J18+L18+N18+P18+R18+T18+V18+X18,2) -> 0 | G18: =ROUND(I18+K18+M18+O18+Q18+S18+U18+W18+Y18,2) -> 0
A19: 11 | B19: Projekta iesnieguma un to pamatojošās dokumentācijas sagatavošanas izmaksas (de minimis) | C19: 1 | D19: =F19+G19 -> 0 | E19: =D19/$D$24 -> #DIV/0! | F19: =ROUND(H19+J19+L19+N19+P19+R19+T19+V19+X19,2) -> 0 | G19: =ROUND(I19+K19+M19+O19+Q19+S19+U19+W19+Y19,2) -> 0
A20: 12 | B20: Ieguldījumi natūrā | C20: 0.85 | D20: =F20+G20 -> 0 | E20: =D20/$D$24 -> #DIV/0! | F20: =ROUND(H20+J20+L20+N20+P20+R20+T20+V20+X20,2) -> 0 | G20: =ROUND(I20+K20+M20+O20+Q20+S20+U20+W20+Y20,2) -> 0
A21: 13 | B21: Pārējās projekta īstenošanas izmaksas | C21: 0.85 | D21: =F21+G21 -> 0 | E21: =D21/$D$24 -> #DIV/0! | F21: =ROUND(H21+J21+L21+N21+P21+R21+T21+V21+X21,2) -> 0 | G21: =ROUND(I21+K21+M21+O21+Q21+S21+U21+W21+Y21,2) -> 0
A22: 14 | B22: Vienreizējais maksājums | C22: 0.85 | D22: =F22+G22 -> 0 | E22: =D22/$D$24 -> #DIV/0! | F22: =ROUND(H22+J22+L22+N22+P22+R22+T22+V22+X22,2) -> 0 | G22: =ROUND(I22+K22+M22+O22+Q22+S22+U22+W22+Y22,2) -> 0
A23: 15 | B23: Neparedzētie izdevumi | C23: 0.85 | D23: =F23+G23 -> 0 | E23: =D23/$D$24 -> #DIV/0! | F23: =ROUND(H23+J23+L23+N23+P23+R23+T23+V23+X23,2) -> 0 | G23: =ROUND(I23+K23+M23+O23+Q23+S23+U23+W23+Y23,2) -> 0
B24: KOPĀ | C24: 0.85 | D24: =F24+G24 -> 0 | E24: =D24/$D$24 -> #DIV/0! | F24: =F7+F8+F9+F10+F11+F12+F13+F16+F17+F18+F19+F20+F21+F22+F23 -> 0 | G24: =G7+G8+G9+G10+G11+G12+G13+G16+G17+G18+G19+G20+G21+G22+G23 -> 0 | H24: =H7+H8+H9+H10+H11+H12+H13+H16+H17+H18+H19+H20+H21+H22+H23 -> 0 | I24: =I7+I8+I9+I10+I11+I12+I13+I16+I17+I18+I19+I20+I21+I22+I23 -> 0 | J24: =J7+J8+J9+J10+J11+J12+J13+J16+J17+J18+J19+J20+J21+J22+J23 -> 0 | K24: =K7+K8+K9+K10+K11+K12+K13+K16+K17+K18+K19+K20+K21+K22+K23 -> 0 | L24: =L7+L8+L9+L10+L11+L12+L13+L16+L17+L18+L19+L20+L21+L22+L23 -> 0 | M24: =M7+M8+M9+M10+M11+M12+M13+M16+M17+M18+M19+M20+M21+M22+M23 -> 0 | ... Y24: =Y7+Y8+Y9+Y10+Y11+Y12+Y13+Y16+Y17+Y18+Y19+Y20+Y21+Y22+Y23 -> 0
B25: t.sk. PVN
B26: Investīciju izmaksas bez neparedzētajiem izdevumiem un neatt. PVN | H26: =H24-H23 -> 0 | I26: =I24-I23-I25 -> 0 | J26: =J24-J23 -> 0 | K26: =K24-K23-K25 -> 0 | L26: =L24-L23 -> 0 | M26: =M24-M23-M25 -> 0 | N26: =N24-N23 -> 0 | O26: =O24-O23 -> 0 | P26: =P24-P23 -> 0 | Q26: =Q24-Q23 -> 0 | R26: =R24-R23 -> 0 | S26: =S24-S23 -> 0 | T26: =T24-T23 -> 0 | U26: =U24-U23 -> 0 | ... Y26: =Y24-Y23 -> 0
B27: Investīciju izmaksas bez de minimis izmaksām | H27: =H24-H14-H19 -> 0 | I27: =I24-I14-I19 -> 0 | J27: =J24-J14-J19 -> 0 | K27: =K24-K14-K19 -> 0 | L27: =L24-L14-L19 -> 0 | M27: =M24-M14-M19 -> 0 | N27: =N24-N14-N19 -> 0 | O27: =O24-O14-O19 -> 0 | ... Y27: =Y24-Y14-Y19 -> 0
B28: De minimis | H28: =H14+H19 -> 0 | I28: =I14+I19 -> 0 | J28: =J14+J19 -> 0 | K28: =K14+K19 -> 0 | L28: =L14+L19 -> 0 | M28: =M14+M19 -> 0 | N28: =N14+N19 -> 0 | O28: =O14+O19 -> 0 | ... Y28: =Y14+Y19 -> 0
B29: Investīciju izmaksas bez neparedzētajiem izd., de minimis un neatt. PVN | H29: =H26-H28 -> 0 | I29: =I26-I28 -> 0 | J29: =J26-J28 -> 0 | K29: =K26-K28 -> 0 | L29: =L26-L28 -> 0 | M29: =M26-M28 -> 0 | N29: =N26-N28 -> 0 | O29: =O26-O28 -> 0 | ... Y29: =Y26-Y28 -> 0

Sheet 1.2.1.C. Partneris-1
A1: DARBA LAPA Nr.1.2.1.C. | D1: Aizpilda par projekta iesniedzēja sadarbības partnera darbībām, kas IR saistītas ar komercdarbības atbalstu (VTNP)
B3: Sadarbības partneris: | G3: Veids: | K3: Valsts budžeta dotācijas īpatsvars (%): | P3: Saite valsts budžeta dotācijas noteikšanai (VARAM vietnē) | T3: Ja sadarbības partneris ir kapitālsabiedrība, vai pašvaldība sedz šo ieguldījumu līdzfinansējuma daļu: | AA3: =IF(X3="",0,IF(X3="Jā",2,1)) -> 0
A4: BUDŽETS (+)
A5: Nr. | B5: Izmaksu pozīcijas nosaukums | C5: Maksimālā ES fondu līdzfin. atbalsta likme (%) | D5: Kopējā summa | F5: Izmaksas kopā | H5: ='Dati par projektu'!E13 -> 2025 | J5: =IF(OR(H5>='Dati par projektu'!$C$17,H5="X"),"X",H5+1) -> 2026 | L5: =IF(OR(J5>='Dati par projektu'!$C$17,J5="X"),"X",J5+1) -> 2027 | N5: =IF(OR(L5>='Dati par projektu'!$C$17,L5="X"),"X",L5+1) -> 2028 | P5: =IF(OR(N5>='Dati par projektu'!$C$17,N5="X"),"X",N5+1) -> 2029 | R5: =IF(OR(P5>='Dati par projektu'!$C$17,P5="X"),"X",P5+1) -> X | T5: =IF(OR(R5>='Dati par projektu'!$C$17,R5="X"),"X",R5+1) -> X | V5: =IF(OR(T5>='Dati par projektu'!$C$17,T5="X"),"X",T5+1) -> X | X5: =IF(OR(V5>='Dati par projektu'!$C$17,V5="X"),"X",V5+1) -> X | AV5: 0.55
B6: Projekta netiešās izmaksas kopā: | D6: EUR | E6: % | F6: attiecināmas izmaksas | G6: ārpusprojekta izmaksas | H6: attiecināmas izmaksas | I6: ārpusprojekta izmaksas | J6: attiecināmas izmaksas | K6: ārpusprojekta izmaksas | L6: attiecināmas izmaksas | M6: ārpusprojekta izmaksas | N6: attiecināmas izmaksas | O6: ārpusprojekta izmaksas | P6: attiecināmas izmaksas | Q6: ārpusprojekta izmaksas | R6: attiecināmas izmaksas | S6: ārpusprojekta izmaksas | T6: attiecināmas izmaksas | U6: ārpusprojekta izmaksas | V6: attiecināmas izmaksas | W6: ārpusprojekta izmaksas | X6: attiecināmas izmaksas | Y6: ārpusprojekta izmaksas | AV6: 0.45
A7: 1 | B7: Projekta izmaksas saskaņā ar vienoto izmaksu likmi (netiešās izmaksas) | C7: 0.85 | D7: =F7+G7 -> 0 | E7: =D7/$D$24 -> #DIV/0! | F7: =ROUND(H7+J7+L7+N7+P7+R7+T7+V7+X7,2) -> 0 | G7: =ROUND(I7+K7+M7+O7+Q7+S7+U7+W7+Y7,2) -> 0 | AV7: 0.35
A8: 2 | B8: Projekta vadības izmaksas | C8: 0.85 | D8: =F8+G8 -> 0 | E8: =D8/$D$24 -> #DIV/0! | F8: =ROUND(H8+J8+L8+N8+P8+R8+T8+V8+X8,2) -> 0 | G8: =ROUND(I8+K8+M8+O8+Q8+S8+U8+W8+Y8,2) -> 0
A9: 3 | B9: Projekta īstenošanas personāla izmaksas | C9: 0.85 | D9: =F9+G9 -> 0 | E9: =D9/$D$24 -> #DIV/0! | F9: =ROUND(H9+J9+L9+N9+P9+R9+T9+V9+X9,2) -> 0 | G9: =ROUND(I9+K9+M9+O9+Q9+S9+U9+W9+Y9,2) -> 0
A10: 4 | B10: Mērķa grupas nodrošinājuma izmaksas | C10: 0.85 | D10: =F10+G10 -> 0 | E10: =D10/$D$24 -> #DIV/0! | F10: =ROUND(H10+J10+L10+N10+P10+R10+T10+V10+X10,2) -> 0 | G10: =ROUND(I10+K10+M10+O10+Q10+S10+U10+W10+Y10,2) -> 0
A11: 5 | B11: Informācijas sistēmu izstrādes, ieviešanas un kvalitātes kontroles izmaksas | C11: 0.85 | D11: =F11+G11 -> 0 | E11: =D11/$D$24 -> #DIV/0! | F11: =ROUND(H11+J11+L11+N11+P11+R11+T11+V11+X11,2) -> 0 | G11: =ROUND(I11+K11+M11+O11+Q11+S11+U11+W11+Y11,2) -> 0
A12: 6 | B12: Materiālu, aprīkojuma un iekārtu izmaksas | C12: 0.85 | D12: =F12+G12 -> 0 | E12: =D12/$D$24 -> #DIV/0! | F12: =ROUND(H12+J12+L12+N12+P12+R12+T12+V12+X12,2) -> 0 | G12: =ROUND(I12+K12+M12+O12+Q12+S12+U12+W12+Y12,2) -> 0
A13: 7 | B13: Būvniecības izmaksas | C13: 0.85 | D13: =F13+G13 -> 0 | E13: =D13/$D$24 -> #DIV/0! | F13: =ROUND(H13+J13+L13+N13+P13+R13+T13+V13+X13,2) -> 0 | G13: =ROUND(I13+K13+M13+O13+Q13+S13+U13+W13+Y13,2) -> 0
A16: 8 | B16: Patenti, licences utml. | C16: 0.85 | D16: =F16+G16 -> 0 | E16: =D16/$D$24 -> #DIV/0! | F16: =ROUND(H16+J16+L16+N16+P16+R16+T16+V16+X16,2) -> 0 | G16: =ROUND(I16+K16+M16+O16+Q16+S16+U16+W16+Y16,2) -> 0
A17: 9 | B17: Nekustamā īpašuma (piemēram, ēku un zemes) iegādes izmaksas | C17: 0.85 | D17: =F17+G17 -> 0 | E17: =D17/$D$24 -> #DIV/0! | F17: =ROUND(H17+J17+L17+N17+P17+R17+T17+V17+X17,2) -> 0 | G17: =ROUND(I17+K17+M17+O17+Q17+S17+U17+W17+Y17,2) -> 0
A18: 10 | B18: Informatīvo un publicitātes pasākumu izmaksas | C18: 0.85 | D18: =F18+G18 -> 0 | E18: =D18/$D$24 -> #DIV/0! | F18: =ROUND(H18+J18+L18+N18+P18+R18+T18+V18+X18,2) -> 0 | G18: =ROUND(I18+K18+M18+O18+Q18+S18+U18+W18+Y18,2) -> 0
A19: 11 | B19: Projekta iesnieguma un to pamatojošās dokumentācijas sagatavošanas izmaksas | C19: 0.85 | D19: =F19+G19 -> 0 | E19: =D19/$D$24 -> #DIV/0! | F19: =ROUND(H19+J19+L19+N19+P19+R19+T19+V19+X19,2) -> 0 | G19: =ROUND(I19+K19+M19+O19+Q19+S19+U19+W19+Y19,2) -> 0
A20: 12 | B20: Ieguldījumi natūrā | C20: 0.85 | D20: =F20+G20 -> 0 | E20: =D20/$D$24 -> #DIV/0! | F20: =ROUND(H20+J20+L20+N20+P20+R20+T20+V20+X20,2) -> 0 | G20: =ROUND(I20+K20+M20+O20+Q20+S20+U20+W20+Y20,2) -> 0
A21: 13 | B21: Pārējās projekta īstenošanas izmaksas | C21: 0.85 | D21: =F21+G21 -> 0 | E21: =D21/$D$24 -> #DIV/0! | F21: =ROUND(H21+J21+L21+N21+P21+R21+T21+V21+X21,2) -> 0 | G21: =ROUND(I21+K21+M21+O21+Q21+S21+U21+W21+Y21,2) -> 0
... A23: 15 | B23: Neparedzētie izdevumi | C23: 0.85 | D23: =F23+G23 -> 0 | E23: =D23/$D$24 -> #DIV/0! | F23: =ROUND(H23+J23+L23+N23+P23+R23+T23+V23+X23,2) -> 0 | G23: =ROUND(I23+K23+M23+O23+Q23+S23+U23+W23+Y23,2) -> 0
B24: KOPĀ | C24: 0.85 | D24: =F24+G24 -> 0 | E24: =D24/$D$24 -> #DIV/0! | F24: =F7+F8+F9+F10+F11+F12+F13+F16+F17+F18+F19+F20+F21+F22+F23 -> 0 | G24: =G7+G8+G9+G10+G11+G12+G13+G16+G17+G18+G19+G20+G21+G22+G23 -> 0 | H24: =H7+H8+H9+H10+H11+H12+H13+H16+H17+H18+H19+H20+H21+H22+H23 -> 0 | I24: =I7+I8+I9+I10+I11+I12+I13+I16+I17+I18+I19+I20+I21+I22+I23 -> 0 | J24: =J7+J8+J9+J10+J11+J12+J13+J16+J17+J18+J19+J20+J21+J22+J23 -> 0 | K24: =K7+K8+K9+K10+K11+K12+K13+K16+K17+K18+K19+K20+K21+K22+K23 -> 0 | L24: =L7+L8+L9+L10+L11+L12+L13+L16+L17+L18+L19+L20+L21+L22+L23 -> 0 | M24: =M7+M8+M9+M10+M11+M12+M13+M16+M17+M18+M19+M20+M21+M22+M23 -> 0 | ... Y24: =Y7+Y8+Y9+Y10+Y11+Y12+Y13+Y16+Y17+Y18+Y19+Y20+Y21+Y22+Y23 -> 0
B25: t.sk. PVN
B26: Investīciju izmaksas bez neparedzētajiem izdevumiem un neatt. PVN | H26: =H24-H23 -> 0 | I26: =I24-I23-I25 -> 0 | J26: =J24-J23 -> 0 | K26: =K24-K23-K25 -> 0 | L26: =L24-L23 -> 0 | M26: =M24-M23-M25 -> 0 | N26: =N24-N23 -> 0 | O26: =O24-O23 -> 0 | P26: =P24-P23 -> 0 | Q26: =Q24-Q23 -> 0 | R26: =R24-R23 -> 0 | S26: =S24-S23 -> 0 | T26: =T24-T23 -> 0 | U26: =U24-U23 -> 0 | ... Y26: =Y24-Y23 -> 0

Sheet 1.2.2.A. Partneris-2
A1: DARBA LAPA Nr.1.2.2.A. | D1: Aizpilda par projekta iesniedzēja sadarbības partnera darbībām, kas NAV saistītas ar komercdarbības atbalstu
B3: Sadarbības partneris: | G3: Veids: | K3: Valsts budžeta dotācijas īpatsvars (%): | P3: Saite valsts budžeta dotācijas noteikšanai (VARAM vietnē)
A4: BUDŽETS (+)
A5: Nr. | B5: Izmaksu pozīcijas nosaukums | C5: Maksimālā ES fondu līdzfin. atbalsta likme (%) | D5: Kopējā summa | F5: Izmaksas kopā | H5: ='Dati par projektu'!E13 -> 2025 | J5: =IF(OR(H5>='Dati par projektu'!$C$17,H5="X"),"X",H5+1) -> 2026 | L5: =IF(OR(J5>='Dati par projektu'!$C$17,J5="X"),"X",J5+1) -> 2027 | N5: =IF(OR(L5>='Dati par projektu'!$C$17,L5="X"),"X",L5+1) -> 2028 | P5: =IF(OR(N5>='Dati par projektu'!$C$17,N5="X"),"X",N5+1) -> 2029 | R5: =IF(OR(P5>='Dati par projektu'!$C$17,P5="X"),"X",P5+1) -> X | T5: =IF(OR(R5>='Dati par projektu'!$C$17,R5="X"),"X",R5+1) -> X | V5: =IF(OR(T5>='Dati par projektu'!$C$17,T5="X"),"X",T5+1) -> X | X5: =IF(OR(V5>='Dati par projektu'!$C$17,V5="X"),"X",V5+1) -> X | AV5: 0.55
B6: Projekta netiešās izmaksas kopā: | D6: EUR | E6: % | F6: attiecināmas izmaksas | G6: ārpusprojekta izmaksas | H6: attiecināmas izmaksas | I6: ārpusprojekta izmaksas | J6: attiecināmas izmaksas | K6: ārpusprojekta izmaksas | L6: attiecināmas izmaksas | M6: ārpusprojekta izmaksas | N6: attiecināmas izmaksas | O6: ārpusprojekta izmaksas | P6: attiecināmas izmaksas | Q6: ārpusprojekta izmaksas | R6: attiecināmas izmaksas | S6: ārpusprojekta izmaksas | T6: attiecināmas izmaksas | U6: ārpusprojekta izmaksas | V6: attiecināmas izmaksas | W6: ārpusprojekta izmaksas | X6: attiecināmas izmaksas | Y6: ārpusprojekta izmaksas | AV6: 0.45
A7: 1 | B7: Projekta izmaksas saskaņā ar vienoto izmaksu likmi (netiešās izmaksas) | C7: 0.85 | D7: =F7+G7 -> 0 | E7: =D7/$D$24 -> #DIV/0! | F7: =ROUND(H7+J7+L7+N7+P7+R7+T7+V7+X7,2) -> 0 | G7: =ROUND(I7+K7+M7+O7+Q7+S7+U7+W7+Y7,2) -> 0 | AV7: 0.35
A8: 2 | B8: Projekta vadības izmaksas | C8: 0.85 | D8: =F8+G8 -> 0 | E8: =D8/$D$24 -> #DIV/0! | F8: =ROUND(H8+J8+L8+N8+P8+R8+T8+V8+X8,2) -> 0 | G8: =ROUND(I8+K8+M8+O8+Q8+S8+U8+W8+Y8,2) -> 0
A9: 3 | B9: Projekta īstenošanas personāla izmaksas | C9: 0.85 | D9: =F9+G9 -> 0 | E9: =D9/$D$24 -> #DIV/0! | F9: =ROUND(H9+J9+L9+N9+P9+R9+T9+V9+X9,2) -> 0 | G9: =ROUND(I9+K9+M9+O9+Q9+S9+U9+W9+Y9,2) -> 0
A10: 4 | B10: Mērķa grupas nodrošinājuma izmaksas | C10: 0.85 | D10: =F10+G10 -> 0 | E10: =D10/$D$24 -> #DIV/0! | F10: =ROUND(H10+J10+L10+N10+P10+R10+T10+V10+X10,2) -> 0 | G10: =ROUND(I10+K10+M10+O10+Q10+S10+U10+W10+Y10,2) -> 0
A11: 5 | B11: Informācijas sistēmu izstrādes, ieviešanas un kvalitātes kontroles izmaksas | C11: 0.85 | D11: =F11+G11 -> 0 | E11: =D11/$D$24 -> #DIV/0! | F11: =ROUND(H11+J11+L11+N11+P11+R11+T11+V11+X11,2) -> 0 | G11: =ROUND(I11+K11+M11+O11+Q11+S11+U11+W11+Y11,2) -> 0
A12: 6 | B12: Materiālu, aprīkojuma un iekārtu izmaksas | C12: 0.85 | D12: =F12+G12 -> 0 | E12: =D12/$D$24 -> #DIV/0! | F12: =ROUND(H12+J12+L12+N12+P12+R12+T12+V12+X12,2) -> 0 | G12: =ROUND(I12+K12+M12+O12+Q12+S12+U12+W12+Y12,2) -> 0
A13: 7 | B13: Būvniecības izmaksas | C13: 0.85 | D13: =F13+G13 -> 0 | E13: =D13/$D$24 -> #DIV/0! | F13: =ROUND(H13+J13+L13+N13+P13+R13+T13+V13+X13,2) -> 0 | G13: =ROUND(I13+K13+M13+O13+Q13+S13+U13+W13+Y13,2) -> 0
A16: 8 | B16: Patenti, licences utml. | C16: 0.85 | D16: =F16+G16 -> 0 | E16: =D16/$D$24 -> #DIV/0! | F16: =ROUND(H16+J16+L16+N16+P16+R16+T16+V16+X16,2) -> 0 | G16: =ROUND(I16+K16+M16+O16+Q16+S16+U16+W16+Y16,2) -> 0
A17: 9 | B17: Nekustamā īpašuma (piemēram, ēku un zemes) iegādes izmaksas | C17: 0.85 | D17: =F17+G17 -> 0 | E17: =D17/$D$24 -> #DIV/0! | F17: =ROUND(H17+J17+L17+N17+P17+R17+T17+V17+X17,2) -> 0 | G17: =ROUND(I17+K17+M17+O17+Q17+S17+U17+W17+Y17,2) -> 0
A18: 10 | B18: Informatīvo un publicitātes pasākumu izmaksas | C18: 0.85 | D18: =F18+G18 -> 0 | E18: =D18/$D$24 -> #DIV/0! | F18: =ROUND(H18+J18+L18+N18+P18+R18+T18+V18+X18,2) -> 0 | G18: =ROUND(I18+K18+M18+O18+Q18+S18+U18+W18+Y18,2) -> 0
A19: 11 | B19: Projekta iesnieguma un to pamatojošās dokumentācijas sagatavošanas izmaksas | C19: 0.85 | D19: =F19+G19 -> 0 | E19: =D19/$D$24 -> #DIV/0! | F19: =ROUND(H19+J19+L19+N19+P19+R19+T19+V19+X19,2) -> 0 | G19: =ROUND(I19+K19+M19+O19+Q19+S19+U19+W19+Y19,2) -> 0
A20: 12 | B20: Ieguldījumi natūrā | C20: 0.85 | D20: =F20+G20 -> 0 | E20: =D20/$D$24 -> #DIV/0! | F20: =ROUND(H20+J20+L20+N20+P20+R20+T20+V20+X20,2) -> 0 | G20: =ROUND(I20+K20+M20+O20+Q20+S20+U20+W20+Y20,2) -> 0
A21: 13 | B21: Pārējās projekta īstenošanas izmaksas | C21: 0.85 | D21: =F21+G21 -> 0 | E21: =D21/$D$24 -> #DIV/0! | F21: =ROUND(H21+J21+L21+N21+P21+R21+T21+V21+X21,2) -> 0 | G21: =ROUND(I21+K21+M21+O21+Q21+S21+U21+W21+Y21,2) -> 0
... A23: 15 | B23: Neparedzētie izdevumi | C23: 0.85 | D23: =F23+G23 -> 0 | E23: =D23/$D$24 -> #DIV/0! | F23: =ROUND(H23+J23+L23+N23+P23+R23+T23+V23+X23,2) -> 0 | G23: =ROUND(I23+K23+M23+O23+Q23+S23+U23+W23+Y23,2) -> 0
B24: KOPĀ | C24: 0.85 | D24: =F24+G24 -> 0 | E24: =D24/$D$24 -> #DIV/0! | F24: =F7+F8+F9+F10+F11+F12+F13+F16+F17+F18+F19+F20+F21+F22+F23 -> 0 | G24: =G7+G8+G9+G10+G11+G12+G13+G16+G17+G18+G19+G20+G21+G22+G23 -> 0 | H24: =H7+H8+H9+H10+H11+H12+H13+H16+H17+H18+H19+H20+H21+H22+H23 -> 0 | I24: =I7+I8+I9+I10+I11+I12+I13+I16+I17+I18+I19+I20+I21+I22+I23 -> 0 | J24: =J7+J8+J9+J10+J11+J12+J13+J16+J17+J18+J19+J20+J21+J22+J23 -> 0 | K24: =K7+K8+K9+K10+K11+K12+K13+K16+K17+K18+K19+K20+K21+K22+K23 -> 0 | L24: =L7+L8+L9+L10+L11+L12+L13+L16+L17+L18+L19+L20+L21+L22+L23 -> 0 | M24: =M7+M8+M9+M10+M11+M12+M13+M16+M17+M18+M19+M20+M21+M22+M23 -> 0 | ... Y24: =Y7+Y8+Y9+Y10+Y11+Y12+Y13+Y16+Y17+Y18+Y19+Y20+Y21+Y22+Y23 -> 0
B25: t.sk. PVN
B26: Investīciju izmaksas bez neparedzētajiem izdevumiem un neatt. PVN | H26: =H24-H23 -> 0 | I26: =I24-I23-I25 -> 0 | J26: =J24-J23 -> 0 | K26: =K24-K23-K25 -> 0 | L26: =L24-L23 -> 0 | M26: =M24-M23-M25 -> 0 | N26: =N24-N23 -> 0 | O26: =O24-O23 -> 0 | P26: =P24-P23 -> 0 | Q26: =Q24-Q23 -> 0 | R26: =R24-R23 -> 0 | S26: =S24-S23 -> 0 | T26: =T24-T23 -> 0 | U26: =U24-U23 -> 0 | ... Y26: =Y24-Y23 -> 0

Sheet 1.2.2.B. Partneris-2
A1: DARBA LAPA Nr.1.2.2.B. | D1: Aizpilda par projekta iesniedzēja sadarbības partnera darbībām, kas IR saistītas ar komercdarbības atbalstu
B3: Sadarbības partneris: | G3: Veids: | K3: Valsts budžeta dotācijas īpatsvars (%): | P3: Saite valsts budžeta dotācijas noteikšanai (VARAM vietnē)
A4: BUDŽETS (+)
A5: Nr. | B5: Izmaksu pozīcijas nosaukums | C5: Maksimālā ES fondu līdzfin. atbalsta likme (%) | D5: Kopējā summa | F5: Izmaksas kopā | H5: ='Dati par projektu'!E13 -> 2025 | J5: =IF(OR(H5>='Dati par projektu'!$C$17,H5="X"),"X",H5+1) -> 2026 | L5: =IF(OR(J5>='Dati par projektu'!$C$17,J5="X"),"X",J5+1) -> 2027 | N5: =IF(OR(L5>='Dati par projektu'!$C$17,L5="X"),"X",L5+1) -> 2028 | P5: =IF(OR(N5>='Dati par projektu'!$C$17,N5="X"),"X",N5+1) -> 2029 | R5: =IF(OR(P5>='Dati par projektu'!$C$17,P5="X"),"X",P5+1) -> X | T5: =IF(OR(R5>='Dati par projektu'!$C$17,R5="X"),"X",R5+1) -> X | V5: =IF(OR(T5>='Dati par projektu'!$C$17,T5="X"),"X",T5+1) -> X | X5: =IF(OR(V5>='Dati par projektu'!$C$17,V5="X"),"X",V5+1) -> X | AV5: 0.55
B6: Projekta netiešās izmaksas kopā: | D6: EUR | E6: % | F6: attiecināmas izmaksas | G6: ārpusprojekta izmaksas | H6: attiecināmas izmaksas | I6: ārpusprojekta izmaksas | J6: attiecināmas izmaksas | K6: ārpusprojekta izmaksas | L6: attiecināmas izmaksas | M6: ārpusprojekta izmaksas | N6: attiecināmas izmaksas | O6: ārpusprojekta izmaksas | P6: attiecināmas izmaksas | Q6: ārpusprojekta izmaksas | R6: attiecināmas izmaksas | S6: ārpusprojekta izmaksas | T6: attiecināmas izmaksas | U6: ārpusprojekta izmaksas | V6: attiecināmas izmaksas | W6: ārpusprojekta izmaksas | X6: attiecināmas izmaksas | Y6: ārpusprojekta izmaksas | AV6: 0.45
A7: 1 | B7: Projekta izmaksas saskaņā ar vienoto izmaksu likmi (netiešās izmaksas) | C7: 0.85 | D7: =F7+G7 -> 0 | E7: =D7/$D$24 -> #DIV/0! | F7: =ROUND(H7+J7+L7+N7+P7+R7+T7+V7+X7,2) -> 0 | G7: =ROUND(I7+K7+M7+O7+Q7+S7+U7+W7+Y7,2) -> 0 | AV7: 0.35
A8: 2 | B8: Projekta vadības izmaksas | C8: 0.85 | D8: =F8+G8 -> 0 | E8: =D8/$D$24 -> #DIV/0! | F8: =ROUND(H8+J8+L8+N8+P8+R8+T8+V8+X8,2) -> 0 | G8: =ROUND(I8+K8+M8+O8+Q8+S8+U8+W8+Y8,2) -> 0
A9: 3 | B9: Projekta īstenošanas personāla izmaksas | C9: 0.85 | D9: =F9+G9 -> 0 | E9: =D9/$D$24 -> #DIV/0! | F9: =ROUND(H9+J9+L9+N9+P9+R9+T9+V9+X9,2) -> 0 | G9: =ROUND(I9+K9+M9+O9+Q9+S9+U9+W9+Y9,2) -> 0
A10: 4 | B10: Mērķa grupas nodrošinājuma izmaksas | C10: 0.85 | D10: =F10+G10 -> 0 | E10: =D10/$D$24 -> #DIV/0! | F10: =ROUND(H10+J10+L10+N10+P10+R10+T10+V10+X10,2) -> 0 | G10: =ROUND(I10+K10+M10+O10+Q10+S10+U10+W10+Y10,2) -> 0
A11: 5 | B11: Informācijas sistēmu izstrādes, ieviešanas un kvalitātes kontroles izmaksas | C11: 0.85 | D11: =F11+G11 -> 0 | E11: =D11/$D$24 -> #DIV/0! | F11: =ROUND(H11+J11+L11+N11+P11+R11+T11+V11+X11,2) -> 0 | G11: =ROUND(I11+K11+M11+O11+Q11+S11+U11+W11+Y11,2) -> 0
A12: 6 | B12: Materiālu, aprīkojuma un iekārtu izmaksas | C12: 0.85 | D12: =F12+G12 -> 0 | E12: =D12/$D$24 -> #DIV/0! | F12: =ROUND(H12+J12+L12+N12+P12+R12+T12+V12+X12,2) -> 0 | G12: =ROUND(I12+K12+M12+O12+Q12+S12+U12+W12+Y12,2) -> 0
A13: 7 | B13: Būvniecības izmaksas | D13: =F13+G13 -> 0 | E13: =D13/$D$24 -> #DIV/0! | F13: =ROUND(H13+J13+L13+N13+P13+R13+T13+V13+X13,2) -> 0 | G13: =ROUND(I13+K13+M13+O13+Q13+S13+U13+W13+Y13,2) -> 0 | H13: =SUM(H14:H15) -> 0 | I13: =SUM(I14:I15) -> 0 | J13: =SUM(J14:J15) -> 0 | K13: =SUM(K14:K15) -> 0 | L13: =SUM(L14:L15) -> 0 | M13: =SUM(M14:M15) -> 0 | N13: =SUM(N14:N15) -> 0 | O13: =SUM(O14:O15) -> 0 | ... Y13: =SUM(Y14:Y15) -> 0
A14: 7.1. | B14: Projektēšanas izmaksas (de minimis) | C14: 1 | D14: =F14+G14 -> 0 | E14: =D14/$D$24 -> #DIV/0! | F14: =ROUND(H14+J14+L14+N14+P14+R14+T14+V14+X14,2) -> 0 | G14: =ROUND(I14+K14+M14+O14+Q14+S14+U14+W14+Y14,2) -> 0
A15: 7.2. | B15: Pārējās būvniecības izmaksas | C15: 0.85 | D15: =F15+G15 -> 0 | E15: =D15/$D$24 -> #DIV/0! | F15: =ROUND(H15+J15+L15+N15+P15+R15+T15+V15+X15,2) -> 0 | G15: =ROUND(I15+K15+M15+O15+Q15+S15+U15+W15+Y15,2) -> 0
A16: 8 | B16: Patenti, licences utml. | C16: 0.85 | D16: =F16+G16 -> 0 | E16: =D16/$D$24 -> #DIV/0! | F16: =ROUND(H16+J16+L16+N16+P16+R16+T16+V16+X16,2) -> 0 | G16: =ROUND(I16+K16+M16+O16+Q16+S16+U16+W16+Y16,2) -> 0
A17: 9 | B17: Nekustamā īpašuma (piemēram, ēku un zemes) iegādes izmaksas | C17: 0.85 | D17: =F17+G17 -> 0 | E17: =D17/$D$24 -> #DIV/0! | F17: =ROUND(H17+J17+L17+N17+P17+R17+T17+V17+X17,2) -> 0 | G17: =ROUND(I17+K17+M17+O17+Q17+S17+U17+W17+Y17,2) -> 0
A18: 10 | B18: Informatīvo un publicitātes pasākumu izmaksas | C18: 0.85 | D18: =F18+G18 -> 0 | E18: =D18/$D$24 -> #DIV/0! | F18: =ROUND(H18+J18+L18+N18+P18+R18+T18+V18+X18,2) -> 0 | G18: =ROUND(I18+K18+M18+O18+Q18+S18+U18+W18+Y18,2) -> 0
A19: 11 | B19: Projekta iesnieguma un to pamatojošās dokumentācijas sagatavošanas izmaksas (de minimis) | C19: 1 | D19: =F19+G19 -> 0 | E19: =D19/$D$24 -> #DIV/0! | F19: =ROUND(H19+J19+L19+N19+P19+R19+T19+V19+X19,2) -> 0 | G19: =ROUND(I19+K19+M19+O19+Q19+S19+U19+W19+Y19,2) -> 0
A20: 12 | B20: Ieguldījumi natūrā | C20: 0.85 | D20: =F20+G20 -> 0 | E20: =D20/$D$24 -> #DIV/0! | F20: =ROUND(H20+J20+L20+N20+P20+R20+T20+V20+X20,2) -> 0 | G20: =ROUND(I20+K20+M20+O20+Q20+S20+U20+W20+Y20,2) -> 0
A21: 13 | B21: Pārējās projekta īstenošanas izmaksas | C21: 0.85 | D21: =F21+G21 -> 0 | E21: =D21/$D$24 -> #DIV/0! | F21: =ROUND(H21+J21+L21+N21+P21+R21+T21+V21+X21,2) -> 0 | G21: =ROUND(I21+K21+M21+O21+Q21+S21+U21+W21+Y21,2) -> 0
A22: 14 | B22: Vienreizējais maksājums | C22: 0.85 | D22: =F22+G22 -> 0 | E22: =D22/$D$24 -> #DIV/0! | F22: =ROUND(H22+J22+L22+N22+P22+R22+T22+V22+X22,2) -> 0 | G22: =ROUND(I22+K22+M22+O22+Q22+S22+U22+W22+Y22,2) -> 0
A23: 15 | B23: Neparedzētie izdevumi | C23: 0.85 | D23: =F23+G23 -> 0 | E23: =D23/$D$24 -> #DIV/0! | F23: =ROUND(H23+J23+L23+N23+P23+R23+T23+V23+X23,2) -> 0 | G23: =ROUND(I23+K23+M23+O23+Q23+S23+U23+W23+Y23,2) -> 0
B24: KOPĀ | C24: 0.85 | D24: =F24+G24 -> 0 | E24: =D24/$D$24 -> #DIV/0! | F24: =F7+F8+F9+F10+F11+F12+F13+F16+F17+F18+F19+F20+F21+F22+F23 -> 0 | G24: =G7+G8+G9+G10+G11+G12+G13+G16+G17+G18+G19+G20+G21+G22+G23 -> 0 | H24: =H7+H8+H9+H10+H11+H12+H13+H16+H17+H18+H19+H20+H21+H22+H23 -> 0 | I24: =I7+I8+I9+I10+I11+I12+I13+I16+I17+I18+I19+I20+I21+I22+I23 -> 0 | J24: =J7+J8+J9+J10+J11+J12+J13+J16+J17+J18+J19+J20+J21+J22+J23 -> 0 | K24: =K7+K8+K9+K10+K11+K12+K13+K16+K17+K18+K19+K20+K21+K22+K23 -> 0 | L24: =L7+L8+L9+L10+L11+L12+L13+L16+L17+L18+L19+L20+L21+L22+L23 -> 0 | M24: =M7+M8+M9+M10+M11+M12+M13+M16+M17+M18+M19+M20+M21+M22+M23 -> 0 | ... Y24: =Y7+Y8+Y9+Y10+Y11+Y12+Y13+Y16+Y17+Y18+Y19+Y20+Y21+Y22+Y23 -> 0
B25: t.sk. PVN
B26: Investīciju izmaksas bez neparedzētajiem izdevumiem un neatt. PVN | H26: =H24-H23 -> 0 | I26: =I24-I23-I25 -> 0 | J26: =J24-J23 -> 0 | K26: =K24-K23-K25 -> 0 | L26: =L24-L23 -> 0 | M26: =M24-M23-M25 -> 0 | N26: =N24-N23 -> 0 | O26: =O24-O23 -> 0 | P26: =P24-P23 -> 0 | Q26: =Q24-Q23 -> 0 | R26: =R24-R23 -> 0 | S26: =S24-S23 -> 0 | T26: =T24-T23 -> 0 | U26: =U24-U23 -> 0 | ... Y26: =Y24-Y23 -> 0
B27: Investīciju izmaksas bez de minimis izmaksām | H27: =H24-H14-H19 -> 0 | I27: =I24-I14-I19 -> 0 | J27: =J24-J14-J19 -> 0 | K27: =K24-K14-K19 -> 0 | L27: =L24-L14-L19 -> 0 | M27: =M24-M14-M19 -> 0 | N27: =N24-N14-N19 -> 0 | O27: =O24-O14-O19 -> 0 | ... Y27: =Y24-Y14-Y19 -> 0
B28: De minimis | H28: =H14+H19 -> 0 | I28: =I14+I19 -> 0 | J28: =J14+J19 -> 0 | K28: =K14+K19 -> 0 | L28: =L14+L19 -> 0 | M28: =M14+M19 -> 0 | N28: =N14+N19 -> 0 | O28: =O14+O19 -> 0 | ... Y28: =Y14+Y19 -> 0
B29: Investīciju izmaksas bez neparedzētajiem izd., de minimis un neatt. PVN | H29: =H26-H28 -> 0 | I29: =I26-I28 -> 0 | J29: =J26-J28 -> 0 | K29: =K26-K28 -> 0 | L29: =L26-L28 -> 0 | M29: =M26-M28 -> 0 | N29: =N26-N28 -> 0 | O29: =O26-O28 -> 0 | ... Y29: =Y26-Y28 -> 0
B34: v

Sheet 1.2.2.C. Partneris-2
A1: DARBA LAPA Nr.1.2.2.C. | D1: Aizpilda par projekta iesniedzēja sadarbības partnera darbībām, kas IR saistītas ar komercdarbības atbalstu (VTNP)
B3: Sadarbības partneris: | G3: Veids: | K3: Valsts budžeta dotācijas īpatsvars (%): | P3: Saite valsts budžeta dotācijas noteikšanai (VARAM vietnē) | T3: Ja sadarbības partneris ir kapitālsabiedrība, vai pašvaldība sedz šo ieguldījumu līdzfinansējuma daļu: | AA3: =IF(X3="",0,IF(X3="Jā",2,1)) -> 0
A4: BUDŽETS (+)
A5: Nr. | B5: Izmaksu pozīcijas nosaukums | C5: Maksimālā ES fondu līdzfin. atbalsta likme (%) | D5: Kopējā summa | F5: Izmaksas kopā | H5: ='Dati par projektu'!E13 -> 2025 | J5: =IF(OR(H5>='Dati par projektu'!$C$17,H5="X"),"X",H5+1) -> 2026 | L5: =IF(OR(J5>='Dati par projektu'!$C$17,J5="X"),"X",J5+1) -> 2027 | N5: =IF(OR(L5>='Dati par projektu'!$C$17,L5="X"),"X",L5+1) -> 2028 | P5: =IF(OR(N5>='Dati par projektu'!$C$17,N5="X"),"X",N5+1) -> 2029 | R5: =IF(OR(P5>='Dati par projektu'!$C$17,P5="X"),"X",P5+1) -> X | T5: =IF(OR(R5>='Dati par projektu'!$C$17,R5="X"),"X",R5+1) -> X | V5: =IF(OR(T5>='Dati par projektu'!$C$17,T5="X"),"X",T5+1) -> X | X5: =IF(OR(V5>='Dati par projektu'!$C$17,V5="X"),"X",V5+1) -> X | AV5: 0.55
B6: Projekta netiešās izmaksas kopā: | D6: EUR | E6: % | F6: attiecināmas izmaksas | G6: ārpusprojekta izmaksas | H6: attiecināmas izmaksas | I6: ārpusprojekta izmaksas | J6: attiecināmas izmaksas | K6: ārpusprojekta izmaksas | L6: attiecināmas izmaksas | M6: ārpusprojekta izmaksas | N6: attiecināmas izmaksas | O6: ārpusprojekta izmaksas | P6: attiecināmas izmaksas | Q6: ārpusprojekta izmaksas | R6: attiecināmas izmaksas | S6: ārpusprojekta izmaksas | T6: attiecināmas izmaksas | U6: ārpusprojekta izmaksas | V6: attiecināmas izmaksas | W6: ārpusprojekta izmaksas | X6: attiecināmas izmaksas | Y6: ārpusprojekta izmaksas | AV6: 0.45
A7: 1 | B7: Projekta izmaksas saskaņā ar vienoto izmaksu likmi (netiešās izmaksas) | C7: 0.85 | D7: =F7+G7 -> 0 | E7: =D7/$D$24 -> #DIV/0! | F7: =ROUND(H7+J7+L7+N7+P7+R7+T7+V7+X7,2) -> 0 | G7: =ROUND(I7+K7+M7+O7+Q7+S7+U7+W7+Y7,2) -> 0 | AV7: 0.35
A8: 2 | B8: Projekta vadības izmaksas | C8: 0.85 | D8: =F8+G8 -> 0 | E8: =D8/$D$24 -> #DIV/0! | F8: =ROUND(H8+J8+L8+N8+P8+R8+T8+V8+X8,2) -> 0 | G8: =ROUND(I8+K8+M8+O8+Q8+S8+U8+W8+Y8,2) -> 0
A9: 3 | B9: Projekta īstenošanas personāla izmaksas | C9: 0.85 | D9: =F9+G9 -> 0 | E9: =D9/$D$24 -> #DIV/0! | F9: =ROUND(H9+J9+L9+N9+P9+R9+T9+V9+X9,2) -> 0 | G9: =ROUND(I9+K9+M9+O9+Q9+S9+U9+W9+Y9,2) -> 0
A10: 4 | B10: Mērķa grupas nodrošinājuma izmaksas | C10: 0.85 | D10: =F10+G10 -> 0 | E10: =D10/$D$24 -> #DIV/0! | F10: =ROUND(H10+J10+L10+N10+P10+R10+T10+V10+X10,2) -> 0 | G10: =ROUND(I10+K10+M10+O10+Q10+S10+U10+W10+Y10,2) -> 0
A11: 5 | B11: Informācijas sistēmu izstrādes, ieviešanas un kvalitātes kontroles izmaksas | C11: 0.85 | D11: =F11+G11 -> 0 | E11: =D11/$D$24 -> #DIV/0! | F11: =ROUND(H11+J11+L11+N11+P11+R11+T11+V11+X11,2) -> 0 | G11: =ROUND(I11+K11+M11+O11+Q11+S11+U11+W11+Y11,2) -> 0
A12: 6 | B12: Materiālu, aprīkojuma un iekārtu izmaksas | C12: 0.85 | D12: =F12+G12 -> 0 | E12: =D12/$D$24 -> #DIV/0! | F12: =ROUND(H12+J12+L12+N12+P12+R12+T12+V12+X12,2) -> 0 | G12: =ROUND(I12+K12+M12+O12+Q12+S12+U12+W12+Y12,2) -> 0
A13: 7 | B13: Būvniecības izmaksas | C13: 0.85 | D13: =F13+G13 -> 0 | E13: =D13/$D$24 -> #DIV/0! | F13: =ROUND(H13+J13+L13+N13+P13+R13+T13+V13+X13,2) -> 0 | G13: =ROUND(I13+K13+M13+O13+Q13+S13+U13+W13+Y13,2) -> 0
A16: 8 | B16: Patenti, licences utml. | C16: 0.85 | D16: =F16+G16 -> 0 | E16: =D16/$D$24 -> #DIV/0! | F16: =ROUND(H16+J16+L16+N16+P16+R16+T16+V16+X16,2) -> 0 | G16: =ROUND(I16+K16+M16+O16+Q16+S16+U16+W16+Y16,2) -> 0
A17: 9 | B17: Nekustamā īpašuma (piemēram, ēku un zemes) iegādes izmaksas | C17: 0.85 | D17: =F17+G17 -> 0 | E17: =D17/$D$24 -> #DIV/0! | F17: =ROUND(H17+J17+L17+N17+P17+R17+T17+V17+X17,2) -> 0 | G17: =ROUND(I17+K17+M17+O17+Q17+S17+U17+W17+Y17,2) -> 0
A18: 10 | B18: Informatīvo un publicitātes pasākumu izmaksas | C18: 0.85 | D18: =F18+G18 -> 0 | E18: =D18/$D$24 -> #DIV/0! | F18: =ROUND(H18+J18+L18+N18+P18+R18+T18+V18+X18,2) -> 0 | G18: =ROUND(I18+K18+M18+O18+Q18+S18+U18+W18+Y18,2) -> 0
A19: 11 | B19: Projekta iesnieguma un to pamatojošās dokumentācijas sagatavošanas izmaksas | C19: 0.85 | D19: =F19+G19 -> 0 | E19: =D19/$D$24 -> #DIV/0! | F19: =ROUND(H19+J19+L19+N19+P19+R19+T19+V19+X19,2) -> 0 | G19: =ROUND(I19+K19+M19+O19+Q19+S19+U19+W19+Y19,2) -> 0
A20: 12 | B20: Ieguldījumi natūrā | C20: 0.85 | D20: =F20+G20 -> 0 | E20: =D20/$D$24 -> #DIV/0! | F20: =ROUND(H20+J20+L20+N20+P20+R20+T20+V20+X20,2) -> 0 | G20: =ROUND(I20+K20+M20+O20+Q20+S20+U20+W20+Y20,2) -> 0
A21: 13 | B21: Pārējās projekta īstenošanas izmaksas | C21: 0.85 | D21: =F21+G21 -> 0 | E21: =D21/$D$24 -> #DIV/0! | F21: =ROUND(H21+J21+L21+N21+P21+R21+T21+V21+X21,2) -> 0 | G21: =ROUND(I21+K21+M21+O21+Q21+S21+U21+W21+Y21,2) -> 0
... A23: 15 | B23: Neparedzētie izdevumi | C23: 0.85 | D23: =F23+G23 -> 0 | E23: =D23/$D$24 -> #DIV/0! | F23: =ROUND(H23+J23+L23+N23+P23+R23+T23+V23+X23,2) -> 0 | G23: =ROUND(I23+K23+M23+O23+Q23+S23+U23+W23+Y23,2) -> 0
B24: KOPĀ | C24: 0.85 | D24: =F24+G24 -> 0 | E24: =D24/$D$24 -> #DIV/0! | F24: =F7+F8+F9+F10+F11+F12+F13+F16+F17+F18+F19+F20+F21+F22+F23 -> 0 | G24: =G7+G8+G9+G10+G11+G12+G13+G16+G17+G18+G19+G20+G21+G22+G23 -> 0 | H24: =H7+H8+H9+H10+H11+H12+H13+H16+H17+H18+H19+H20+H21+H22+H23 -> 0 | I24: =I7+I8+I9+I10+I11+I12+I13+I16+I17+I18+I19+I20+I21+I22+I23 -> 0 | J24: =J7+J8+J9+J10+J11+J12+J13+J16+J17+J18+J19+J20+J21+J22+J23 -> 0 | K24: =K7+K8+K9+K10+K11+K12+K13+K16+K17+K18+K19+K20+K21+K22+K23 -> 0 | L24: =L7+L8+L9+L10+L11+L12+L13+L16+L17+L18+L19+L20+L21+L22+L23 -> 0 | M24: =M7+M8+M9+M10+M11+M12+M13+M16+M17+M18+M19+M20+M21+M22+M23 -> 0 | ... Y24: =Y7+Y8+Y9+Y10+Y11+Y12+Y13+Y16+Y17+Y18+Y19+Y20+Y21+Y22+Y23 -> 0
B25: t.sk. PVN
B26: Investīciju izmaksas bez neparedzētajiem izdevumiem un neatt. PVN | H26: =H24-H23 -> 0 | I26: =I24-I23-I25 -> 0 | J26: =J24-J23 -> 0 | K26: =K24-K23-K25 -> 0 | L26: =L24-L23 -> 0 | M26: =M24-M23-M25 -> 0 | N26: =N24-N23 -> 0 | O26: =O24-O23 -> 0 | P26: =P24-P23 -> 0 | Q26: =Q24-Q23 -> 0 | R26: =R24-R23 -> 0 | S26: =S24-S23 -> 0 | T26: =T24-T23 -> 0 | U26: =U24-U23 -> 0 | ... Y26: =Y24-Y23 -> 0

Sheet 1.3.1. Partneris-kom.-1
A1: DARBA LAPA Nr.1.3.1. | D1: Aizpilda par sadarbības partnera - privātā komersanta darbībām
B3: Sadarbības partneris: | G3: Veids:
A4: BUDŽETS (+)
A5: Nr. | B5: Izmaksu pozīcijas nosaukums | C5: Maksimālā ES fondu līdzfin. atbalsta likme (%) | D5: Kopējā summa | F5: Izmaksas kopā | H5: ='Dati par projektu'!E13 -> 2025 | J5: =IF(OR(H5>='Dati par projektu'!$C$17,H5="X"),"X",H5+1) -> 2026 | L5: =IF(OR(J5>='Dati par projektu'!$C$17,J5="X"),"X",J5+1) -> 2027 | N5: =IF(OR(L5>='Dati par projektu'!$C$17,L5="X"),"X",L5+1) -> 2028 | P5: =IF(OR(N5>='Dati par projektu'!$C$17,N5="X"),"X",N5+1) -> 2029 | R5: =IF(OR(P5>='Dati par projektu'!$C$17,P5="X"),"X",P5+1) -> X | T5: =IF(OR(R5>='Dati par projektu'!$C$17,R5="X"),"X",R5+1) -> X | V5: =IF(OR(T5>='Dati par projektu'!$C$17,T5="X"),"X",T5+1) -> X | X5: =IF(OR(V5>='Dati par projektu'!$C$17,V5="X"),"X",V5+1) -> X | AV5: 0.55
B6: Projekta netiešās izmaksas kopā: | D6: EUR | E6: % | F6: attiecināmas izmaksas | G6: ārpusprojekta izmaksas | H6: attiecināmas izmaksas | I6: ārpusprojekta izmaksas | J6: attiecināmas izmaksas | K6: ārpusprojekta izmaksas | L6: attiecināmas izmaksas | M6: ārpusprojekta izmaksas | N6: attiecināmas izmaksas | O6: ārpusprojekta izmaksas | P6: attiecināmas izmaksas | Q6: ārpusprojekta izmaksas | R6: attiecināmas izmaksas | S6: ārpusprojekta izmaksas | T6: attiecināmas izmaksas | U6: ārpusprojekta izmaksas | V6: attiecināmas izmaksas | W6: ārpusprojekta izmaksas | X6: attiecināmas izmaksas | Y6: ārpusprojekta izmaksas | AV6: 0.45
A7: 1 | B7: Projekta izmaksas saskaņā ar vienoto izmaksu likmi (netiešās izmaksas) | C7: 0.45 | D7: =F7+G7 -> 0 | E7: =D7/$D$24 -> #DIV/0! | F7: =ROUND(H7+J7+L7+N7+P7+R7+T7+V7+X7,2) -> 0 | G7: =ROUND(I7+K7+M7+O7+Q7+S7+U7+W7+Y7,2) -> 0 | AV7: 0.35
A8: 2 | B8: Projekta vadības izmaksas | C8: 0.45 | D8: =F8+G8 -> 0 | E8: =D8/$D$24 -> #DIV/0! | F8: =ROUND(H8+J8+L8+N8+P8+R8+T8+V8+X8,2) -> 0 | G8: =ROUND(I8+K8+M8+O8+Q8+S8+U8+W8+Y8,2) -> 0
A9: 3 | B9: Projekta īstenošanas personāla izmaksas | C9: 0.45 | D9: =F9+G9 -> 0 | E9: =D9/$D$24 -> #DIV/0! | F9: =ROUND(H9+J9+L9+N9+P9+R9+T9+V9+X9,2) -> 0 | G9: =ROUND(I9+K9+M9+O9+Q9+S9+U9+W9+Y9,2) -> 0
A10: 4 | B10: Mērķa grupas nodrošinājuma izmaksas | C10: 0.45 | D10: =F10+G10 -> 0 | E10: =D10/$D$24 -> #DIV/0! | F10: =ROUND(H10+J10+L10+N10+P10+R10+T10+V10+X10,2) -> 0 | G10: =ROUND(I10+K10+M10+O10+Q10+S10+U10+W10+Y10,2) -> 0
A11: 5 | B11: Informācijas sistēmu izstrādes, ieviešanas un kvalitātes kontroles izmaksas | C11: 0.45 | D11: =F11+G11 -> 0 | E11: =D11/$D$24 -> #DIV/0! | F11: =ROUND(H11+J11+L11+N11+P11+R11+T11+V11+X11,2) -> 0 | G11: =ROUND(I11+K11+M11+O11+Q11+S11+U11+W11+Y11,2) -> 0
A12: 6 | B12: Materiālu, aprīkojuma un iekārtu izmaksas | C12: 0.45 | D12: =F12+G12 -> 0 | E12: =D12/$D$24 -> #DIV/0! | F12: =ROUND(H12+J12+L12+N12+P12+R12+T12+V12+X12,2) -> 0 | G12: =ROUND(I12+K12+M12+O12+Q12+S12+U12+W12+Y12,2) -> 0
A13: 7 | B13: Būvniecības izmaksas | D13: =F13+G13 -> 0 | E13: =D13/$D$24 -> #DIV/0! | F13: =ROUND(H13+J13+L13+N13+P13+R13+T13+V13+X13,2) -> 0 | G13: =ROUND(I13+K13+M13+O13+Q13+S13+U13+W13+Y13,2) -> 0 | H13: =SUM(H14:H15) -> 0 | I13: =SUM(I14:I15) -> 0 | J13: =SUM(J14:J15) -> 0 | K13: =SUM(K14:K15) -> 0 | L13: =SUM(L14:L15) -> 0 | M13: =SUM(M14:M15) -> 0 | N13: =SUM(N14:N15) -> 0 | O13: =SUM(O14:O15) -> 0 | ... Y13: =SUM(Y14:Y15) -> 0
A14: 7.1. | B14: Projektēšanas izmaksas (de minimis) | C14: 1 | D14: =F14+G14 -> 0 | E14: =D14/$D$24 -> #DIV/0! | F14: =ROUND(H14+J14+L14+N14+P14+R14+T14+V14+X14,2) -> 0 | G14: =ROUND(I14+K14+M14+O14+Q14+S14+U14+W14+Y14,2) -> 0
A15: 7.2. | B15: Pārējās būvniecības izmaksas | C15: 0.45 | D15: =F15+G15 -> 0 | E15: =D15/$D$24 -> #DIV/0! | F15: =ROUND(H15+J15+L15+N15+P15+R15+T15+V15+X15,2) -> 0 | G15: =ROUND(I15+K15+M15+O15+Q15+S15+U15+W15+Y15,2) -> 0
A16: 8 | B16: Patenti, licences utml. | C16: 0.45 | D16: =F16+G16 -> 0 | E16: =D16/$D$24 -> #DIV/0! | F16: =ROUND(H16+J16+L16+N16+P16+R16+T16+V16+X16,2) -> 0 | G16: =ROUND(I16+K16+M16+O16+Q16+S16+U16+W16+Y16,2) -> 0
A17: 9 | B17: Nekustamā īpašuma (piemēram, ēku un zemes) iegādes izmaksas | C17: 0.45 | D17: =F17+G17 -> 0 | E17: =D17/$D$24 -> #DIV/0! | F17: =ROUND(H17+J17+L17+N17+P17+R17+T17+V17+X17,2) -> 0 | G17: =ROUND(I17+K17+M17+O17+Q17+S17+U17+W17+Y17,2) -> 0
A18: 10 | B18: Informatīvo un publicitātes pasākumu izmaksas | C18: 0.45 | D18: =F18+G18 -> 0 | E18: =D18/$D$24 -> #DIV/0! | F18: =ROUND(H18+J18+L18+N18+P18+R18+T18+V18+X18,2) -> 0 | G18: =ROUND(I18+K18+M18+O18+Q18+S18+U18+W18+Y18,2) -> 0
A19: 11 | B19: Projekta iesnieguma un to pamatojošās dokumentācijas sagatavošanas izmaksas (de minimis) | C19: 1 | D19: =F19+G19 -> 0 | E19: =D19/$D$24 -> #DIV/0! | F19: =ROUND(H19+J19+L19+N19+P19+R19+T19+V19+X19,2) -> 0 | G19: =ROUND(I19+K19+M19+O19+Q19+S19+U19+W19+Y19,2) -> 0
A20: 12 | B20: Ieguldījumi natūrā | C20: 0.45 | D20: =F20+G20 -> 0 | E20: =D20/$D$24 -> #DIV/0! | F20: =ROUND(H20+J20+L20+N20+P20+R20+T20+V20+X20,2) -> 0 | G20: =ROUND(I20+K20+M20+O20+Q20+S20+U20+W20+Y20,2) -> 0
A21: 13 | B21: Pārējās projekta īstenošanas izmaksas | C21: 0.45 | D21: =F21+G21 -> 0 | E21: =D21/$D$24 -> #DIV/0! | F21: =ROUND(H21+J21+L21+N21+P21+R21+T21+V21+X21,2) -> 0 | G21: =ROUND(I21+K21+M21+O21+Q21+S21+U21+W21+Y21,2) -> 0
A22: 14 | B22: Vienreizējais maksājums | C22: 0.45 | D22: =F22+G22 -> 0 | E22: =D22/$D$24 -> #DIV/0! | F22: =ROUND(H22+J22+L22+N22+P22+R22+T22+V22+X22,2) -> 0 | G22: =ROUND(I22+K22+M22+O22+Q22+S22+U22+W22+Y22,2) -> 0
A23: 15 | B23: Neparedzētie izdevumi | C23: 0.45 | D23: =F23+G23 -> 0 | E23: =D23/$D$24 -> #DIV/0! | F23: =ROUND(H23+J23+L23+N23+P23+R23+T23+V23+X23,2) -> 0 | G23: =ROUND(I23+K23+M23+O23+Q23+S23+U23+W23+Y23,2) -> 0
B24: KOPĀ | D24: =F24+G24 -> 0 | E24: =D24/$D$24 -> #DIV/0! | F24: =F7+F8+F9+F10+F11+F12+F13+F16+F17+F18+F19+F20+F21+F22+F23 -> 0 | G24: =G7+G8+G9+G10+G11+G12+G13+G16+G17+G18+G19+G20+G21+G22+G23 -> 0 | H24: =H7+H8+H9+H10+H11+H12+H13+H16+H17+H18+H19+H20+H21+H22+H23 -> 0 | I24: =I7+I8+I9+I10+I11+I12+I13+I16+I17+I18+I19+I20+I21+I22+I23 -> 0 | J24: =J7+J8+J9+J10+J11+J12+J13+J16+J17+J18+J19+J20+J21+J22+J23 -> 0 | K24: =K7+K8+K9+K10+K11+K12+K13+K16+K17+K18+K19+K20+K21+K22+K23 -> 0 | L24: =L7+L8+L9+L10+L11+L12+L13+L16+L17+L18+L19+L20+L21+L22+L23 -> 0 | M24: =M7+M8+M9+M10+M11+M12+M13+M16+M17+M18+M19+M20+M21+M22+M23 -> 0 | ... Y24: =Y7+Y8+Y9+Y10+Y11+Y12+Y13+Y16+Y17+Y18+Y19+Y20+Y21+Y22+Y23 -> 0
B25: t.sk. PVN
B26: Investīciju izmaksas bez neparedzētajiem izdevumiem un neatt. PVN | H26: =H24-H23 -> 0 | I26: =I24-I23-I25 -> 0 | J26: =J24-J23 -> 0 | K26: =K24-K23-K25 -> 0 | L26: =L24-L23 -> 0 | M26: =M24-M23-M25 -> 0 | N26: =N24-N23 -> 0 | O26: =O24-O23 -> 0 | P26: =P24-P23 -> 0 | Q26: =Q24-Q23 -> 0 | R26: =R24-R23 -> 0 | S26: =S24-S23 -> 0 | T26: =T24-T23 -> 0 | U26: =U24-U23 -> 0 | ... Y26: =Y24-Y23 -> 0
B27: Investīciju izmaksas bez de minimis izmaksām | H27: =H24-H14-H19 -> 0 | I27: =I24-I14-I19 -> 0 | J27: =J24-J14-J19 -> 0 | K27: =K24-K14-K19 -> 0 | L27: =L24-L14-L19 -> 0 | M27: =M24-M14-M19 -> 0 | N27: =N24-N14-N19 -> 0 | O27: =O24-O14-O19 -> 0 | ... Y27: =Y24-Y14-Y19 -> 0
B28: De minimis | H28: =H14+H19 -> 0 | I28: =I14+I19 -> 0 | J28: =J14+J19 -> 0 | K28: =K14+K19 -> 0 | L28: =L14+L19 -> 0 | M28: =M14+M19 -> 0 | N28: =N14+N19 -> 0 | O28: =O14+O19 -> 0 | ... Y28: =Y14+Y19 -> 0

Sheet 1.3.2. Partneris-kom.-2
A1: DARBA LAPA Nr.1.3.2. | D1: Aizpilda par sadarbības partnera - privātā komersanta darbībām
B3: Sadarbības partneris
A4: BUDŽETS (+)
A5: Nr. | B5: Izmaksu pozīcijas nosaukums | C5: Maksimālā ES fondu līdzfin. atbalsta likme (%) | D5: Kopējā summa | F5: Izmaksas kopā | H5: ='Dati par projektu'!E13 -> 2025 | J5: =IF(OR(H5>='Dati par projektu'!$C$17,H5="X"),"X",H5+1) -> 2026 | L5: =IF(OR(J5>='Dati par projektu'!$C$17,J5="X"),"X",J5+1) -> 2027 | N5: =IF(OR(L5>='Dati par projektu'!$C$17,L5="X"),"X",L5+1) -> 2028 | P5: =IF(OR(N5>='Dati par projektu'!$C$17,N5="X"),"X",N5+1) -> 2029 | R5: =IF(OR(P5>='Dati par projektu'!$C$17,P5="X"),"X",P5+1) -> X | T5: =IF(OR(R5>='Dati par projektu'!$C$17,R5="X"),"X",R5+1) -> X | V5: =IF(OR(T5>='Dati par projektu'!$C$17,T5="X"),"X",T5+1) -> X | X5: =IF(OR(V5>='Dati par projektu'!$C$17,V5="X"),"X",V5+1) -> X | AV5: 0.55
B6: Projekta netiešās izmaksas kopā: | D6: EUR | E6: % | F6: attiecināmas izmaksas | G6: ārpusprojekta izmaksas | H6: attiecināmas izmaksas | I6: ārpusprojekta izmaksas | J6: attiecināmas izmaksas | K6: ārpusprojekta izmaksas | L6: attiecināmas izmaksas | M6: ārpusprojekta izmaksas | N6: attiecināmas izmaksas | O6: ārpusprojekta izmaksas | P6: attiecināmas izmaksas | Q6: ārpusprojekta izmaksas | R6: attiecināmas izmaksas | S6: ārpusprojekta izmaksas | T6: attiecināmas izmaksas | U6: ārpusprojekta izmaksas | V6: attiecināmas izmaksas | W6: ārpusprojekta izmaksas | X6: attiecināmas izmaksas | Y6: ārpusprojekta izmaksas | AV6: 0.45
A7: 1 | B7: Projekta izmaksas saskaņā ar vienoto izmaksu likmi (netiešās izmaksas) | C7: 0.45 | D7: =F7+G7 -> 0 | E7: =D7/$D$24 -> #DIV/0! | F7: =ROUND(H7+J7+L7+N7+P7+R7+T7+V7+X7,2) -> 0 | G7: =ROUND(I7+K7+M7+O7+Q7+S7+U7+W7+Y7,2) -> 0 | AV7: 0.35
A8: 2 | B8: Projekta vadības izmaksas | C8: 0.45 | D8: =F8+G8 -> 0 | E8: =D8/$D$24 -> #DIV/0! | F8: =ROUND(H8+J8+L8+N8+P8+R8+T8+V8+X8,2) -> 0 | G8: =ROUND(I8+K8+M8+O8+Q8+S8+U8+W8+Y8,2) -> 0
A9: 3 | B9: Projekta īstenošanas personāla izmaksas | C9: 0.45 | D9: =F9+G9 -> 0 | E9: =D9/$D$24 -> #DIV/0! | F9: =ROUND(H9+J9+L9+N9+P9+R9+T9+V9+X9,2) -> 0 | G9: =ROUND(I9+K9+M9+O9+Q9+S9+U9+W9+Y9,2) -> 0
A10: 4 | B10: Mērķa grupas nodrošinājuma izmaksas | C10: 0.45 | D10: =F10+G10 -> 0 | E10: =D10/$D$24 -> #DIV/0! | F10: =ROUND(H10+J10+L10+N10+P10+R10+T10+V10+X10,2) -> 0 | G10: =ROUND(I10+K10+M10+O10+Q10+S10+U10+W10+Y10,2) -> 0
A11: 5 | B11: Informācijas sistēmu izstrādes, ieviešanas un kvalitātes kontroles izmaksas | C11: 0.45 | D11: =F11+G11 -> 0 | E11: =D11/$D$24 -> #DIV/0! | F11: =ROUND(H11+J11+L11+N11+P11+R11+T11+V11+X11,2) -> 0 | G11: =ROUND(I11+K11+M11+O11+Q11+S11+U11+W11+Y11,2) -> 0
A12: 6 | B12: Materiālu, aprīkojuma un iekārtu izmaksas | C12: 0.45 | D12: =F12+G12 -> 0 | E12: =D12/$D$24 -> #DIV/0! | F12: =ROUND(H12+J12+L12+N12+P12+R12+T12+V12+X12,2) -> 0 | G12: =ROUND(I12+K12+M12+O12+Q12+S12+U12+W12+Y12,2) -> 0
A13: 7 | B13: Būvniecības izmaksas | D13: =F13+G13 -> 0 | E13: =D13/$D$24 -> #DIV/0! | F13: =ROUND(H13+J13+L13+N13+P13+R13+T13+V13+X13,2) -> 0 | G13: =ROUND(I13+K13+M13+O13+Q13+S13+U13+W13+Y13,2) -> 0 | H13: =SUM(H14:H15) -> 0 | I13: =SUM(I14:I15) -> 0 | J13: =SUM(J14:J15) -> 0 | K13: =SUM(K14:K15) -> 0 | L13: =SUM(L14:L15) -> 0 | M13: =SUM(M14:M15) -> 0 | N13: =SUM(N14:N15) -> 0 | O13: =SUM(O14:O15) -> 0 | ... Y13: =SUM(Y14:Y15) -> 0
A14: 7.1. | B14: Projektēšanas izmaksas (de minimis) | C14: 1 | D14: =F14+G14 -> 0 | E14: =D14/$D$24 -> #DIV/0! | F14: =ROUND(H14+J14+L14+N14+P14+R14+T14+V14+X14,2) -> 0 | G14: =ROUND(I14+K14+M14+O14+Q14+S14+U14+W14+Y14,2) -> 0
A15: 7.2. | B15: Pārējās būvniecības izmaksas | C15: 0.45 | D15: =F15+G15 -> 0 | E15: =D15/$D$24 -> #DIV/0! | F15: =ROUND(H15+J15+L15+N15+P15+R15+T15+V15+X15,2) -> 0 | G15: =ROUND(I15+K15+M15+O15+Q15+S15+U15+W15+Y15,2) -> 0
A16: 8 | B16: Patenti, licences utml. | C16: 0.45 | D16: =F16+G16 -> 0 | E16: =D16/$D$24 -> #DIV/0! | F16: =ROUND(H16+J16+L16+N16+P16+R16+T16+V16+X16,2) -> 0 | G16: =ROUND(I16+K16+M16+O16+Q16+S16+U16+W16+Y16,2) -> 0
A17: 9 | B17: Nekustamā īpašuma (piemēram, ēku un zemes) iegādes izmaksas | C17: 0.45 | D17: =F17+G17 -> 0 | E17: =D17/$D$24 -> #DIV/0! | F17: =ROUND(H17+J17+L17+N17+P17+R17+T17+V17+X17,2) -> 0 | G17: =ROUND(I17+K17+M17+O17+Q17+S17+U17+W17+Y17,2) -> 0
A18: 10 | B18: Informatīvo un publicitātes pasākumu izmaksas | C18: 0.45 | D18: =F18+G18 -> 0 | E18: =D18/$D$24 -> #DIV/0! | F18: =ROUND(H18+J18+L18+N18+P18+R18+T18+V18+X18,2) -> 0 | G18: =ROUND(I18+K18+M18+O18+Q18+S18+U18+W18+Y18,2) -> 0
A19: 11 | B19: Projekta iesnieguma un to pamatojošās dokumentācijas sagatavošanas izmaksas (de minimis) | C19: 1 | D19: =F19+G19 -> 0 | E19: =D19/$D$24 -> #DIV/0! | F19: =ROUND(H19+J19+L19+N19+P19+R19+T19+V19+X19,2) -> 0 | G19: =ROUND(I19+K19+M19+O19+Q19+S19+U19+W19+Y19,2) -> 0
A20: 12 | B20: Ieguldījumi natūrā | C20: 0.45 | D20: =F20+G20 -> 0 | E20: =D20/$D$24 -> #DIV/0! | F20: =ROUND(H20+J20+L20+N20+P20+R20+T20+V20+X20,2) -> 0 | G20: =ROUND(I20+K20+M20+O20+Q20+S20+U20+W20+Y20,2) -> 0
A21: 13 | B21: Pārējās projekta īstenošanas izmaksas | C21: 0.45 | D21: =F21+G21 -> 0 | E21: =D21/$D$24 -> #DIV/0! | F21: =ROUND(H21+J21+L21+N21+P21+R21+T21+V21+X21,2) -> 0 | G21: =ROUND(I21+K21+M21+O21+Q21+S21+U21+W21+Y21,2) -> 0
A22: 14 | B22: Vienreizējais maksājums | C22: 0.45 | D22: =F22+G22 -> 0 | E22: =D22/$D$24 -> #DIV/0! | F22: =ROUND(H22+J22+L22+N22+P22+R22+T22+V22+X22,2) -> 0 | G22: =ROUND(I22+K22+M22+O22+Q22+S22+U22+W22+Y22,2) -> 0
A23: 15 | B23: Neparedzētie izdevumi | C23: 0.45 | D23: =F23+G23 -> 0 | E23: =D23/$D$24 -> #DIV/0! | F23: =ROUND(H23+J23+L23+N23+P23+R23+T23+V23+X23,2) -> 0 | G23: =ROUND(I23+K23+M23+O23+Q23+S23+U23+W23+Y23,2) -> 0
B24: KOPĀ | D24: =F24+G24 -> 0 | E24: =D24/$D$24 -> #DIV/0! | F24: =F7+F8+F9+F10+F11+F12+F13+F16+F17+F18+F19+F20+F21+F22+F23 -> 0 | G24: =G7+G8+G9+G10+G11+G12+G13+G16+G17+G18+G19+G20+G21+G22+G23 -> 0 | H24: =H7+H8+H9+H10+H11+H12+H13+H16+H17+H18+H19+H20+H21+H22+H23 -> 0 | I24: =I7+I8+I9+I10+I11+I12+I13+I16+I17+I18+I19+I20+I21+I22+I23 -> 0 | J24: =J7+J8+J9+J10+J11+J12+J13+J16+J17+J18+J19+J20+J21+J22+J23 -> 0 | K24: =K7+K8+K9+K10+K11+K12+K13+K16+K17+K18+K19+K20+K21+K22+K23 -> 0 | L24: =L7+L8+L9+L10+L11+L12+L13+L16+L17+L18+L19+L20+L21+L22+L23 -> 0 | M24: =M7+M8+M9+M10+M11+M12+M13+M16+M17+M18+M19+M20+M21+M22+M23 -> 0 | ... Y24: =Y7+Y8+Y9+Y10+Y11+Y12+Y13+Y16+Y17+Y18+Y19+Y20+Y21+Y22+Y23 -> 0
B25: t.sk. PVN
B26: Investīciju izmaksas bez neparedzētajiem izdevumiem un neatt. PVN | H26: =H24-H23 -> 0 | I26: =I24-I23-I25 -> 0 | J26: =J24-J23 -> 0 | K26: =K24-K23-K25 -> 0 | L26: =L24-L23 -> 0 | M26: =M24-M23-M25 -> 0 | N26: =N24-N23 -> 0 | O26: =O24-O23 -> 0 | P26: =P24-P23 -> 0 | Q26: =Q24-Q23 -> 0 | R26: =R24-R23 -> 0 | S26: =S24-S23 -> 0 | T26: =T24-T23 -> 0 | U26: =U24-U23 -> 0 | ... Y26: =Y24-Y23 -> 0
B27: Investīciju izmaksas bez de minimis izmaksām | H27: =H24-H14-H19 -> 0 | I27: =I24-I14-I19 -> 0 | J27: =J24-J14-J19 -> 0 | K27: =K24-K14-K19 -> 0 | L27: =L24-L14-L19 -> 0 | M27: =M24-M14-M19 -> 0 | N27: =N24-N14-N19 -> 0 | O27: =O24-O14-O19 -> 0 | ... Y27: =Y24-Y14-Y19 -> 0
B28: De minimis | H28: =H14+H19 -> 0 | I28: =I14+I19 -> 0 | J28: =J14+J19 -> 0 | K28: =K14+K19 -> 0 | L28: =L14+L19 -> 0 | M28: =M14+M19 -> 0 | N28: =N14+N19 -> 0 | O28: =O14+O19 -> 0 | ... Y28: =Y14+Y19 -> 0

Sheet 2. DL invest.n.pl.BEZ pr.
A1: DARBA LAPA Nr.2
A2: INVESTĪCIJU NAUDAS PLŪSMAS APRĒĶINS BEZ PROJEKTA
E4: 1 | F4: 2 | G4: 3 | H4: 4 | I4: 5 | J4: 6 | K4: 7 | L4: 8 | M4: 9 | N4: 10 | O4: 11 | P4: 12 | Q4: 13 | R4: 14 | S4: 15 | T4: 16 | U4: 17 | V4: 18 | W4: 19 | X4: 20 | Y4: 21 | Z4: 22 | AA4: 23 | AB4: 24 | AC4: 25 | AD4: 26 | AE4: 27 | AF4: 28 | AG4: 29 | AH4: 30
D5: Gads | E5: ='Dati par projektu'!E13 -> 2025 | F5: =E5+1 -> 2026 | G5: =F5+1 -> 2027 | H5: =G5+1 -> 2028 | I5: =H5+1 -> 2029 | J5: =I5+1 -> 2030 | K5: =J5+1 -> 2031 | L5: =K5+1 -> 2032 | M5: =L5+1 -> 2033 | ... AH5: =AG5+1 -> 2054 | AI5: Kopā
B7: Naudas plūsmas pozīcijas
B9: 1 | C9: Ieņēmumi BEZ projekta (+) | D9: EUR | E9: =SUM(E10:E15) -> 0 | F9: =SUM(F10:F15) -> 0 | G9: =SUM(G10:G15) -> 0 | H9: =SUM(H10:H15) -> 0 | I9: =SUM(I10:I15) -> 0 | J9: =SUM(J10:J15) -> 0 | K9: =SUM(K10:K15) -> 0 | L9: =SUM(L10:L15) -> 0 | ... AH9: =SUM(AH10:AH15) -> 0 | AI9: =SUM(E9:AH9) -> 0
B10: 1.1. | C10: ='3. DL invest.n.pl.AR pr.'!C10 -> Ieņēmumi ... | D10: EUR | AI10: =SUM(E10:AH10) -> 0
B11: 1.2. | C11: ='3. DL invest.n.pl.AR pr.'!C11 -> Ieņēmumi ... | D11: EUR | AI11: =SUM(E11:AH11) -> 0
B12: 1.3. | C12: ='3. DL invest.n.pl.AR pr.'!C12 -> Ieņēmumi ... | D12: EUR | AI12: =SUM(E12:AH12) -> 0
B13: 1.4. | C13: ='3. DL invest.n.pl.AR pr.'!C13 -> Ieņēmumi ... | D13: EUR | AI13: =SUM(E13:AH13) -> 0
B14: 1.5. | C14: ='3. DL invest.n.pl.AR pr.'!C14 -> Ieņēmumi ... | D14: EUR | AI14: =SUM(E14:AH14) -> 0
B15: 1.6. | C15: ='3. DL invest.n.pl.AR pr.'!C15 -> Ieņēmumi ... | D15: EUR | AI15: =SUM(E15:AH15) -> 0
B16: 2 | C16: Darbības izmaksas BEZ projekta (-) * | D16: EUR | E16: =SUM(E17:E24) -> 0 | F16: =SUM(F17:F24) -> 0 | G16: =SUM(G17:G24) -> 0 | H16: =SUM(H17:H24) -> 0 | I16: =SUM(I17:I24) -> 0 | J16: =SUM(J17:J24) -> 0 | K16: =SUM(K17:K24) -> 0 | L16: =SUM(L17:L24) -> 0 | ... AH16: =SUM(AH17:AH24) -> 0 | AI16: =SUM(E16:AH16) -> 0
B17: 2.1. | C17: ='3. DL invest.n.pl.AR pr.'!C17 -> Institucionālais nodrošinājums | D17: EUR | AI17: =SUM(E17:AH17) -> 0
B18: 2.2. | C18: ='3. DL invest.n.pl.AR pr.'!C18 -> Sistēmu uzturēšanas un atjaunošanas personāls | D18: EUR | AI18: =SUM(E18:AH18) -> 0
B19: 2.3. | C19: ='3. DL invest.n.pl.AR pr.'!C19 -> Sistēmu jaunos funkcionalitāšu izstrāde | D19: EUR | AI19: =SUM(E19:AH19) -> 0
B20: 2.4. | C20: ='3. DL invest.n.pl.AR pr.'!C20 -> Iekārtu atjaunošana | D20: EUR | AI20: =SUM(E20:AH20) -> 0
B21: 2.5. | C21: ='3. DL invest.n.pl.AR pr.'!C21 -> Sistēmu licences un līdzīgie pakalpojumi | D21: EUR | AI21: =SUM(E21:AH21) -> 0
B22: 2.6. | C22: ='3. DL invest.n.pl.AR pr.'!C22 -> Informatīvie un izglītojošie pasākumi | D22: EUR
B23: 2.7. | C23: ='3. DL invest.n.pl.AR pr.'!C23 -> Komandējumi | D23: EUR
B24: 2.8. | C24: ='3. DL invest.n.pl.AR pr.'!C24 -> 0 | D24: EUR | AI24: =SUM(E24:AH24) -> 0
B25: 3 | C25: Neto naudas plūsma | D25: EUR | E25: =SUM(E9,,E16,) -> 0 | F25: =SUM(F9,,F16,) -> 0 | G25: =SUM(G9,,G16,) -> 0 | H25: =SUM(H9,,H16,) -> 0 | I25: =SUM(I9,,I16,) -> 0 | J25: =SUM(J9,,J16,) -> 0 | K25: =SUM(K9,,K16,) -> 0 | L25: =SUM(L9,,L16,) -> 0 | ... AH25: =SUM(AH9,,AH16,) -> 0 | AI25: =SUM(E25:AH25) -> 0
C29: * Šajā tabulā darbības izmaksas jāatspoguļo ar mīnuss zīmi!

Sheet 3. DL invest.n.pl.AR pr.
A1: DARBA LAPA Nr.3
A2: DARBĪBAS IZMAKSU UN IEŅĒMUMU UN INVESTĪCIJU NAUDAS PLŪSMAS APRĒĶINS AR PROJEKTU
F4: ='2. DL invest.n.pl.BEZ pr.'!E4 -> 1 | G4: ='2. DL invest.n.pl.BEZ pr.'!F4 -> 2 | H4: ='2. DL invest.n.pl.BEZ pr.'!G4 -> 3 | I4: ='2. DL invest.n.pl.BEZ pr.'!H4 -> 4 | J4: ='2. DL invest.n.pl.BEZ pr.'!I4 -> 5 | K4: ='2. DL invest.n.pl.BEZ pr.'!J4 -> 6 | L4: ='2. DL invest.n.pl.BEZ pr.'!K4 -> 7 | M4: ='2. DL invest.n.pl.BEZ pr.'!L4 -> 8 | ... AI4: ='2. DL invest.n.pl.BEZ pr.'!AH4 -> 30
E5: Gads | F5: ='2. DL invest.n.pl.BEZ pr.'!E5 -> 2025 | G5: ='2. DL invest.n.pl.BEZ pr.'!F5 -> 2026 | H5: ='2. DL invest.n.pl.BEZ pr.'!G5 -> 2027 | I5: ='2. DL invest.n.pl.BEZ pr.'!H5 -> 2028 | J5: ='2. DL invest.n.pl.BEZ pr.'!I5 -> 2029 | K5: ='2. DL invest.n.pl.BEZ pr.'!J5 -> 2030 | L5: ='2. DL invest.n.pl.BEZ pr.'!K5 -> 2031 | M5: ='2. DL invest.n.pl.BEZ pr.'!L5 -> 2032 | ... AI5: ='2. DL invest.n.pl.BEZ pr.'!AH5 -> 2054 | AJ5: Kopā
B7: Naudas plūsmas pozīcijas
B9: 1 | C9: Ieņēmumi AR projektu (+) | E9: EUR | F9: =SUM(F10:F15) -> 0 | G9: =SUM(G10:G15) -> 0 | H9: =SUM(H10:H15) -> 0 | I9: =SUM(I10:I15) -> 0 | J9: =SUM(J10:J15) -> 0 | K9: =SUM(K10:K15) -> 0 | L9: =SUM(L10:L15) -> 0 | M9: =SUM(M10:M15) -> 0 | ... AI9: =SUM(AI10:AI15) -> 0 | AJ9: =SUM(F9:AI9) -> 0 | AK9: FALSE
B10: 1.1. | C10: Ieņēmumi ... | E10: EUR | AJ10: =SUM(F10:AI10) -> 0
B11: 1.2. | C11: Ieņēmumi ... | E11: EUR | AJ11: =SUM(F11:AI11) -> 0
B12: 1.3. | C12: Ieņēmumi ... | E12: EUR | AJ12: =SUM(F12:AI12) -> 0
B13: 1.4. | C13: Ieņēmumi ... | E13: EUR | AJ13: =SUM(F13:AI13) -> 0
B14: 1.5. | C14: Ieņēmumi ... | E14: EUR | AJ14: =SUM(F14:AI14) -> 0
B15: 1.6. | C15: Ieņēmumi ... | E15: EUR | AJ15: =SUM(F15:AI15) -> 0
B16: 2 | C16: Darbības izmaksas AR projektu (-) * | E16: EUR | F16: =SUM(F17:F26) -> 0 | G16: =SUM(G17:G26) -> 0 | H16: =SUM(H17:H26) -> 0 | I16: =SUM(I17:I26) -> 0 | J16: =SUM(J17:J26) -> 0 | K16: =SUM(K17:K26) -> -1230469.7 | L16: =SUM(L17:L26) -> -1255711 | M16: =SUM(M17:M26) -> -1281470.4 | ... AI16: =SUM(AI17:AI26) -> 0 | AJ16: =SUM(F16:AI16) -> -9161866.2
B17: 2.1. | C17: Institucionālais nodrošinājums | E17: EUR | K17: -164574.44 | L17: -167865.93 | M17: -171223.25 | N17: -174647.71 | O17: -178140.67 | P17: -181703.48 | Q17: -185337.55 | AJ17: =SUM(F17:AI17) -> -1223493
B18: 2.2. | C18: Sistēmu uzturēšanas un atjaunošanas personāls | E18: EUR | K18: -631946.59 | L18: -645217.47 | M18: -658767.04 | N18: -672601.15 | O18: -686725.77 | P18: -701147.01 | Q18: -715871.1 | AJ18: =SUM(F18:AI18) -> -4712276.1
B19: 2.3. | C19: Sistēmu jaunos funkcionalitāšu izstrāde | E19: EUR | K19: -64260 | L19: -65545.2 | M19: -66856.104 | N19: -68193.226 | O19: -69557.091 | P19: -70948.232 | Q19: -72367.197 | AJ19: =SUM(F19:AI19) -> -477727.05
B20: 2.4. | C20: Iekārtu atjaunošana | E20: EUR | K20: -56227.5 | L20: -57352.05 | M20: -58499.091 | N20: -59669.073 | O20: -60862.454 | P20: -62079.703 | Q20: -63321.297 | AJ20: =SUM(F20:AI20) -> -418011.17
B21: 2.5. | C21: Sistēmu licences un līdzīgie pakalpojumi | E21: EUR | K21: -263160 | L21: -268423.2 | M21: -273791.66 | N21: -279267.5 | O21: -284852.85 | P21: -290549.9 | Q21: -296360.9 | AJ21: =SUM(F21:AI21) -> -1956406
B22: 2.7. | C22: Informatīvie un izglītojošie pasākumi | E22: EUR | K22: -14877.797 | L22: -15175.352 | M22: -15478.859 | N22: -15788.437 | O22: -16104.205 | P22: -16426.29 | Q22: -16754.815
B23: 2.8. | C23: Komandējumi | E23: EUR | K23: -35423.325 | L23: -36131.791 | M23: -36854.427 | N23: -37591.516 | O23: -38343.346 | P23: -39110.213 | Q23: -39892.417
B24: 2.9. | E24: EUR
B25: 2.10.
B26: 2.11. | E26: EUR | AJ26: =SUM(F26:AI26) -> 0
B27: 3 | C27: Investīciju izmaksas (-) | E27: EUR | F27: =F28+F31 -> -415711.29 | G27: =G28+G31 -> -5378834.2 | H27: =H28+H31 -> -4592332.2 | I27: =I28+I31 -> -3405982.2 | J27: =J28+J31 -> -2949364.7 | K27: =K28+K31 -> 0 | L27: =L28+L31 -> 0 | M27: =M28+M31 -> 0 | N27: =N28+N31 -> 0 | AJ27: =SUM(F27:AI27) -> -16742224
B28: 3.1. | C28: Investīciju izmaksas bez neparedzētajām izmaksām | E28: EUR | F28: =SUM(F29:F29) -> -415711.29 | G28: =SUM(G29:G29) -> -5378834.2 | H28: =SUM(H29:H29) -> -4592332.2 | I28: =SUM(I29:I29) -> -3405982.2 | J28: =SUM(J29:J29) -> -2949364.7 | K28: =SUM(K29:K29) -> 0 | L28: =SUM(L29:L29) -> 0 | M28: =SUM(M29:M29) -> 0 | N28: =SUM(N29:N29) -> 0 | AJ28: =SUM(F28:AI28) -> -16742224
B29: 3.1.1. | C29: Investīciju izmaksas bez neparedzētajām izmaksām un neatt. PVN | E29: EUR | F29: =-SUM('1.1.A. Iesniedzējs:1.3.2. Partneris-kom.-2'!H26,'1.1.A. Iesniedzējs:1.3.2. Partneris-kom.-2'!I26) -> -415711.29 | G29: =-SUM('1.1.A. Iesniedzējs:1.3.2. Partneris-kom.-2'!J26,'1.1.A. Iesniedzējs:1.3.2. Partneris-kom.-2'!K26) -> -5378834.2 | H29: =-SUM('1.1.A. Iesniedzējs:1.3.2. Partneris-kom.-2'!L26,'1.1.A. Iesniedzējs:1.3.2. Partneris-kom.-2'!M26) -> -4592332.2 | I29: =-SUM('1.1.A. Iesniedzējs:1.3.2. Partneris-kom.-2'!N26,'1.1.A. Iesniedzējs:1.3.2. Partneris-kom.-2'!O26) -> -3405982.2 | J29: =-SUM('1.1.A. Iesniedzējs:1.3.2. Partneris-kom.-2'!P26,'1.1.A. Iesniedzējs:1.3.2. Partneris-kom.-2'!Q26) -> -2949364.7 | K29: =-SUM('1.1.A. Iesniedzējs:1.3.2. Partneris-kom.-2'!R26,'1.1.A. Iesniedzējs:1.3.2. Partneris-kom.-2'!S26) -> 0 | L29: =-SUM('1.1.A. Iesniedzējs:1.3.2. Partneris-kom.-2'!T26,'1.1.A. Iesniedzējs:1.3.2. Partneris-kom.-2'!U26) -> 0 | M29: =-SUM('1.1.A. Iesniedzējs:1.3.2. Partneris-kom.-2'!V26,'1.1.A. Iesniedzējs:1.3.2. Partneris-kom.-2'!W26) -> 0 | N29: =-SUM('1.1.A. Iesniedzējs:1.3.2. Partneris-kom.-2'!X26,'1.1.A. Iesniedzējs:1.3.2. Partneris-kom.-2'!Y26) -> 0 | AJ29: =SUM(F29:AI29) -> -16742224
B30: 3.1.2. | C30: Attiecināmās investīciju izmaksas bez neparedzētajiem izdevumiem | E30: EUR | F30: =-SUM('1.1.A. Iesniedzējs:1.3.2. Partneris-kom.-2'!H24)+SUM('1.1.A. Iesniedzējs:1.3.2. Partneris-kom.-2'!H23) -> -415711.29 | G30: =-SUM('1.1.A. Iesniedzējs:1.3.2. Partneris-kom.-2'!J24)+SUM('1.1.A. Iesniedzējs:1.3.2. Partneris-kom.-2'!J23) -> -5378834.2 | H30: =-SUM('1.1.A. Iesniedzējs:1.3.2. Partneris-kom.-2'!L24)+SUM('1.1.A. Iesniedzējs:1.3.2. Partneris-kom.-2'!L23) -> -4592332.2 | I30: =-SUM('1.1.A. Iesniedzējs:1.3.2. Partneris-kom.-2'!N24)+SUM('1.1.A. Iesniedzējs:1.3.2. Partneris-kom.-2'!N23) -> -3405982.2 | J30: =-SUM('1.1.A. Iesniedzējs:1.3.2. Partneris-kom.-2'!P24)+SUM('1.1.A. Iesniedzējs:1.3.2. Partneris-kom.-2'!P23) -> -2949364.7 | K30: =-SUM('1.1.A. Iesniedzējs:1.3.2. Partneris-kom.-2'!R24)+SUM('1.1.A. Iesniedzējs:1.3.2. Partneris-kom.-2'!R23) -> 0 | L30: =-SUM('1.1.A. Iesniedzējs:1.3.2. Partneris-kom.-2'!T24)+SUM('1.1.A. Iesniedzējs:1.3.2. Partneris-kom.-2'!T23) -> 0 | M30: =-SUM('1.1.A. Iesniedzējs:1.3.2. Partneris-kom.-2'!V24)+SUM('1.1.A. Iesniedzējs:1.3.2. Partneris-kom.-2'!V23) -> 0 | N30: =-SUM('1.1.A. Iesniedzējs:1.3.2. Partneris-kom.-2'!X24)+SUM('1.1.A. Iesniedzējs:1.3.2. Partneris-kom.-2'!X23) -> 0
B31: 3.2. | C31: Neparedzētās izmaksas | E31: EUR | F31: =F32 -> 0 | G31: =G32 -> 0 | H31: =H32 -> 0 | I31: =I32 -> 0 | J31: =J32 -> 0 | K31: =K32 -> 0 | L31: =L32 -> 0 | M31: =M32 -> 0 | N31: =N32 -> 0 | AJ31: =SUM(F31:AI31) -> 0
B32: 3.2.1. | C32: Neparedzētās izmaksas | E32: EUR | F32: =-SUM('1.1.A. Iesniedzējs:1.3.2. Partneris-kom.-2'!H23,'1.1.A. Iesniedzējs:1.3.2. Partneris-kom.-2'!I23) -> 0 | G32: =-SUM('1.1.A. Iesniedzējs:1.3.2. Partneris-kom.-2'!J23,'1.1.A. Iesniedzējs:1.3.2. Partneris-kom.-2'!K23) -> 0 | H32: =-SUM('1.1.A. Iesniedzējs:1.3.2. Partneris-kom.-2'!L23,'1.1.A. Iesniedzējs:1.3.2. Partneris-kom.-2'!M23) -> 0 | I32: =-SUM('1.1.A. Iesniedzējs:1.3.2. Partneris-kom.-2'!N23,'1.1.A. Iesniedzējs:1.3.2. Partneris-kom.-2'!O23) -> 0 | J32: =-SUM('1.1.A. Iesniedzējs:1.3.2. Partneris-kom.-2'!P23,'1.1.A. Iesniedzējs:1.3.2. Partneris-kom.-2'!Q23) -> 0 | K32: =-SUM('1.1.A. Iesniedzējs:1.3.2. Partneris-kom.-2'!R23,'1.1.A. Iesniedzējs:1.3.2. Partneris-kom.-2'!S23) -> 0 | L32: =-SUM('1.1.A. Iesniedzējs:1.3.2. Partneris-kom.-2'!T23,'1.1.A. Iesniedzējs:1.3.2. Partneris-kom.-2'!U23) -> 0 | M32: =-SUM('1.1.A. Iesniedzējs:1.3.2. Partneris-kom.-2'!V23,'1.1.A. Iesniedzējs:1.3.2. Partneris-kom.-2'!W23) -> 0 | N32: =-SUM('1.1.A. Iesniedzējs:1.3.2. Partneris-kom.-2'!X23,'1.1.A. Iesniedzējs:1.3.2. Partneris-kom.-2'!Y23) -> 0 | AJ32: =SUM(F32:AI32) -> 0
B33: 4 | C33: Projekta atlikusī vērtība (+) | E33: EUR | G33: =G34 -> 0 | H33: =H34 -> 0 | I33: =I34 -> 0 | J33: =J34 -> 0 | K33: =K34 -> 0 | L33: =L34 -> 0 | M33: =M34 -> 0 | N33: =N34 -> 0 | ... AI33: =AI34 -> 0 | AJ33: =SUM(F33:AI33) -> 0
B34: 4.1. | C34: Projekta atlikusī vērtība | E34: EUR | AJ34: =SUM(F34:AH34) -> 0
B35: 5 | C35: Neto naudas plūsma | E35: EUR | F35: =SUM(F9,,F16,F27,F33) -> -415711.29 | G35: =SUM(G9,,G16,G27,G33) -> -5378834.2 | H35: =SUM(H9,,H16,H27,H33) -> -4592332.2 | I35: =SUM(I9,,I16,I27,I33) -> -3405982.2 | J35: =SUM(J9,,J16,J27,J33) -> -2949364.7 | K35: =SUM(K9,,K16,K27,K33) -> -1230469.7 | L35: =SUM(L9,,L16,L27,L33) -> -1255711 | M35: =SUM(M9,,M16,M27,M33) -> -1281470.4 | ... AI35: =SUM(AI9,,AI16,AI27,AI33) -> 0 | AJ35: =SUM(F35:AI35) -> -25904091
C39: * Šajā tabulā darbības izmaksas jāatspoguļo ar mīnuss zīmi!

Sheet 4.DL Finansiālā ilgtspēja
A1: DARBA LAPA Nr.4
A2: FINANSIĀLĀ ILGTSPĒJA
E3: ='3. DL invest.n.pl.AR pr.'!F4 -> 1 | F3: ='3. DL invest.n.pl.AR pr.'!G4 -> 2 | G3: ='3. DL invest.n.pl.AR pr.'!H4 -> 3 | H3: ='3. DL invest.n.pl.AR pr.'!I4 -> 4 | I3: ='3. DL invest.n.pl.AR pr.'!J4 -> 5 | J3: ='3. DL invest.n.pl.AR pr.'!K4 -> 6 | K3: ='3. DL invest.n.pl.AR pr.'!L4 -> 7 | L3: ='3. DL invest.n.pl.AR pr.'!M4 -> 8 | ... AH3: ='3. DL invest.n.pl.AR pr.'!AI4 -> 30
D4: Gads | E4: ='3. DL invest.n.pl.AR pr.'!F5 -> 2025 | F4: ='3. DL invest.n.pl.AR pr.'!G5 -> 2026 | G4: ='3. DL invest.n.pl.AR pr.'!H5 -> 2027 | H4: ='3. DL invest.n.pl.AR pr.'!I5 -> 2028 | I4: ='3. DL invest.n.pl.AR pr.'!J5 -> 2029 | J4: ='3. DL invest.n.pl.AR pr.'!K5 -> 2030 | K4: ='3. DL invest.n.pl.AR pr.'!L5 -> 2031 | L4: ='3. DL invest.n.pl.AR pr.'!M5 -> 2032 | ... AH4: ='3. DL invest.n.pl.AR pr.'!AI5 -> 2054 | AI4: Kopā
B6: Naudas plūsmas pozīcijas
A7: 1. Kopējie ieņēmumi (+): | E7: =SUM(E8:E17) -> 415711.29 | F7: =SUM(F8:F17) -> 5378834.2 | G7: =SUM(G8:G17) -> 4592332.2 | H7: =SUM(H8:H17) -> 3405982.2 | I7: =SUM(I8:I17) -> 2949364.7 | J7: =SUM(J8:J17) -> 1230469.7 | K7: =SUM(K8:K17) -> 1255711 | L7: =SUM(L8:L17) -> 1281470.4 | ... AH7: =SUM(AH8:AH17) -> 0 | AI7: =SUM(E7:AH7) -> 25904091
B8: 1.1. | C8: Projekta ieņēmumi | D8: EUR | E8: ='3. DL invest.n.pl.AR pr.'!F9 -> 0 | F8: ='3. DL invest.n.pl.AR pr.'!G9 -> 0 | G8: ='3. DL invest.n.pl.AR pr.'!H9 -> 0 | H8: ='3. DL invest.n.pl.AR pr.'!I9 -> 0 | I8: ='3. DL invest.n.pl.AR pr.'!J9 -> 0 | J8: ='3. DL invest.n.pl.AR pr.'!K9 -> 0 | K8: ='3. DL invest.n.pl.AR pr.'!L9 -> 0 | L8: ='3. DL invest.n.pl.AR pr.'!M9 -> 0 | ... AH8: ='3. DL invest.n.pl.AR pr.'!AI9 -> 0 | AI8: =SUM(E8:AH8) -> 0
B9: 1.2. | C9: Aizņēmuma pamatsummas saņemšana | D9: EUR | AI9: =SUM(E9:AH9) -> 0
B10: 1.3. | C10: Publiskais finansējums | D10: EUR | J10: =-J18 -> 1230469.7 | K10: =-K18 -> 1255711 | L10: =-L18 -> 1281470.4 | M10: =-M18 -> 1307758.6 | N10: =-N18 -> 1334586.4 | O10: =-O18 -> 1361964.8 | P10: =-P18 -> 1389905.3 | AI10: =SUM(E10:AH10) -> 9161866.2
B11: 1.4. | C11: Privātais finansējums | D11: EUR | AI11: =SUM(E11:AH11) -> 0
B12: 1.5. | C12: ES fondu līdzfinansējums | D12: EUR | E12: ='9. DL PI Fin.plans'!B5 -> 353354.6 | F12: ='9. DL PI Fin.plans'!D5 -> 4572009 | G12: ='9. DL PI Fin.plans'!F5 -> 3903482.3 | H12: ='9. DL PI Fin.plans'!H5 -> 2895084.8 | I12: ='9. DL PI Fin.plans'!J5 -> 2506960 | J12: ='9. DL PI Fin.plans'!L5 -> 0 | K12: ='9. DL PI Fin.plans'!N5 -> 0 | L12: ='9. DL PI Fin.plans'!P5 -> 0 | M12: ='9. DL PI Fin.plans'!R5 -> 0 | AI12: =SUM(E12:AH12) -> 14230891
B13: 1.6. | C13: Attiecināmais valsts budžeta finansējums | D13: EUR | E13: ='9. DL PI Fin.plans'!B6 -> 62356.694 | F13: ='9. DL PI Fin.plans'!D6 -> 806825.12 | G13: ='9. DL PI Fin.plans'!F6 -> 688849.82 | H13: ='9. DL PI Fin.plans'!H6 -> 510897.32 | I13: ='9. DL PI Fin.plans'!J6 -> 442404.7 | J13: ='9. DL PI Fin.plans'!L6 -> 0 | K13: ='9. DL PI Fin.plans'!N6 -> 0 | L13: ='9. DL PI Fin.plans'!P6 -> 0 | M13: ='9. DL PI Fin.plans'!R6 -> 0
B14: 1.7. | C14: Valsts budžeta dotācija pašvaldībām | D14: EUR | E14: ='9. DL PI Fin.plans'!B7 -> 0 | F14: ='9. DL PI Fin.plans'!D7 -> 0 | G14: ='9. DL PI Fin.plans'!F7 -> 0 | H14: ='9. DL PI Fin.plans'!H7 -> 0 | I14: ='9. DL PI Fin.plans'!J7 -> 0 | J14: ='9. DL PI Fin.plans'!L7 -> 0 | K14: ='9. DL PI Fin.plans'!N7 -> 0 | L14: ='9. DL PI Fin.plans'!P7 -> 0 | M14: ='9. DL PI Fin.plans'!R7 -> 0
B15: 1.7. | C15: Pašvaldības finansējums (Invest. izmaksām) | D15: EUR | E15: ='9. DL PI Fin.plans'!B8 -> 0 | F15: ='9. DL PI Fin.plans'!D8 -> 0 | G15: ='9. DL PI Fin.plans'!F8 -> 0 | H15: ='9. DL PI Fin.plans'!H8 -> 0 | I15: ='9. DL PI Fin.plans'!J8 -> 0 | J15: ='9. DL PI Fin.plans'!L8 -> 0 | K15: ='9. DL PI Fin.plans'!N8 -> 0 | L15: ='9. DL PI Fin.plans'!P8 -> 0 | M15: ='9. DL PI Fin.plans'!R8 -> 0
B16: 1.9. | C16: ='9. DL PI Fin.plans'!A9 -> Elastības finansējuma apjoms | D16: EUR | E16: ='9. DL PI Fin.plans'!B9 -> 0 | F16: ='9. DL PI Fin.plans'!D9 -> 0 | G16: ='9. DL PI Fin.plans'!F9 -> 0 | H16: ='9. DL PI Fin.plans'!H9 -> 0 | I16: ='9. DL PI Fin.plans'!J9 -> 0 | J16: ='9. DL PI Fin.plans'!L9 -> 0 | K16: ='9. DL PI Fin.plans'!N9 -> 0 | L16: ='9. DL PI Fin.plans'!P9 -> 0 | M16: ='9. DL PI Fin.plans'!R9 -> 0
B17: 1.8. | C17: Projekta atlikusī vērtība | D17: EUR | E17: ='3. DL invest.n.pl.AR pr.'!F34 -> 0 | F17: ='3. DL invest.n.pl.AR pr.'!G34 -> 0 | G17: ='3. DL invest.n.pl.AR pr.'!H34 -> 0 | H17: ='3. DL invest.n.pl.AR pr.'!I34 -> 0 | I17: ='3. DL invest.n.pl.AR pr.'!J34 -> 0 | J17: ='3. DL invest.n.pl.AR pr.'!K34 -> 0 | K17: ='3. DL invest.n.pl.AR pr.'!L34 -> 0 | L17: ='3. DL invest.n.pl.AR pr.'!M34 -> 0 | ... AH17: ='3. DL invest.n.pl.AR pr.'!AI34 -> 0 | AI17: =SUM(E17:AH17) -> 0
A18: 2. Kopējās izmaksas (-): | E18: =SUM(E19:E23) -> -415711.29 | F18: =SUM(F19:F23) -> -5378834.2 | G18: =SUM(G19:G23) -> -4592332.2 | H18: =SUM(H19:H23) -> -3405982.2 | I18: =SUM(I19:I23) -> -2949364.7 | J18: =SUM(J19:J23) -> -1230469.7 | K18: =SUM(K19:K23) -> -1255711 | L18: =SUM(L19:L23) -> -1281470.4 | ... AH18: =SUM(AH19:AH23) -> 0 | AI18: =SUM(E18:AH18) -> -25904091
B19: 2.1. | C19: "Ar projektu" darbības izmaksas | D19: EUR | E19: ='3. DL invest.n.pl.AR pr.'!F16 -> 0 | F19: ='3. DL invest.n.pl.AR pr.'!G16 -> 0 | G19: ='3. DL invest.n.pl.AR pr.'!H16 -> 0 | H19: ='3. DL invest.n.pl.AR pr.'!I16 -> 0 | I19: ='3. DL invest.n.pl.AR pr.'!J16 -> 0 | J19: ='3. DL invest.n.pl.AR pr.'!K16 -> -1230469.7 | K19: ='3. DL invest.n.pl.AR pr.'!L16 -> -1255711 | L19: ='3. DL invest.n.pl.AR pr.'!M16 -> -1281470.4 | ... AH19: ='3. DL invest.n.pl.AR pr.'!AI16 -> 0 | AI19: =SUM(E19:AH19) -> -9161866.2
B20: 2.2. | C20: Investīciju izmaksas | D20: EUR | E20: ='3. DL invest.n.pl.AR pr.'!F29+'3. DL invest.n.pl.AR pr.'!F32 -> -415711.29 | F20: ='3. DL invest.n.pl.AR pr.'!G29+'3. DL invest.n.pl.AR pr.'!G32 -> -5378834.2 | G20: ='3. DL invest.n.pl.AR pr.'!H29+'3. DL invest.n.pl.AR pr.'!H32 -> -4592332.2 | H20: ='3. DL invest.n.pl.AR pr.'!I29+'3. DL invest.n.pl.AR pr.'!I32 -> -3405982.2 | I20: ='3. DL invest.n.pl.AR pr.'!J29+'3. DL invest.n.pl.AR pr.'!J32 -> -2949364.7 | J20: ='3. DL invest.n.pl.AR pr.'!K29+'3. DL invest.n.pl.AR pr.'!K32 -> 0 | K20: ='3. DL invest.n.pl.AR pr.'!L29+'3. DL invest.n.pl.AR pr.'!L32 -> 0 | L20: ='3. DL invest.n.pl.AR pr.'!M29+'3. DL invest.n.pl.AR pr.'!M32 -> 0 | ... AH20: ='3. DL invest.n.pl.AR pr.'!AI29+'3. DL invest.n.pl.AR pr.'!AI32 -> 0 | AI20: =SUM(E20:AH20) -> -16742224
B21: 2.3. | C21: Finansēšanas izmaksas | D21: EUR | AI21: =SUM(E21:AH21) -> 0
B22: 2.4. | C22: Aizņēmuma pamatsummas atmaksa | D22: EUR | F22: =-Pieņēmumi!E55 -> 0 | G22: =-Pieņēmumi!F55 -> 0 | H22: =-Pieņēmumi!G55 -> 0 | I22: =-Pieņēmumi!H55 -> 0 | J22: =-Pieņēmumi!I55 -> 0 | K22: =-Pieņēmumi!J55 -> 0 | L22: =-Pieņēmumi!K55 -> 0 | M22: =-Pieņēmumi!L55 -> 0 | ... AH22: =-Pieņēmumi!AG55 -> 0 | AI22: =SUM(E22:AH22) -> 0
B23: 2.5. | C23: Aizņēmuma procentu atmaksa | D23: EUR | F23: =-Pieņēmumi!E56 -> 0 | G23: =-Pieņēmumi!F56 -> 0 | H23: =-Pieņēmumi!G56 -> 0 | I23: =-Pieņēmumi!H56 -> 0 | J23: =-Pieņēmumi!I56 -> 0 | K23: =-Pieņēmumi!J56 -> 0 | L23: =-Pieņēmumi!K56 -> 0 | M23: =-Pieņēmumi!L56 -> 0 | ... AH23: =-Pieņēmumi!AG56 -> 0 | AI23: =SUM(E23:AH23) -> 0
A24: 3 | C24: Neto naudas plūsma | D24: EUR | E24: =SUM(E7,E18) -> 0 | F24: =SUM(F7,F18) -> 0 | G24: =SUM(G7,G18) -> 0 | H24: =SUM(H7,H18) -> 0 | I24: =SUM(I7,I18) -> 0 | J24: =SUM(J7,J18) -> 0 | K24: =SUM(K7,K18) -> 0 | L24: =SUM(L7,L18) -> 0 | ... AI24: =SUM(AI7,AI18) -> 0
A25: 4 | C25: Kumulatīvā neto naudas plūsma | D25: EUR | E25: =E24 -> 0 | F25: =E25+F24 -> 0 | G25: =F25+G24 -> 0 | H25: =G25+H24 -> 0 | I25: =H25+I24 -> 0 | J25: =I25+J24 -> 0 | K25: =J25+K24 -> 0 | L25: =K25+L24 -> 0 | M25: =L25+M24 -> 0 | ... AI25: =AH25+AI24 -> 0

Sheet 5.DL soc.econom. analīze
A1: DARBA LAPA Nr.5
A2: SOCIĀLEKONOMISKĀS ANALĪZES APRĒĶINI
B3: Reālā sociālā diskonta likme | C3: 0.05
D5: NPV | F5: ='4.DL Finansiālā ilgtspēja'!E3 -> 1 | G5: ='4.DL Finansiālā ilgtspēja'!F3 -> 2 | H5: ='4.DL Finansiālā ilgtspēja'!G3 -> 3 | I5: ='4.DL Finansiālā ilgtspēja'!H3 -> 4 | J5: ='4.DL Finansiālā ilgtspēja'!I3 -> 5 | K5: ='4.DL Finansiālā ilgtspēja'!J3 -> 6 | L5: ='4.DL Finansiālā ilgtspēja'!K3 -> 7 | M5: ='4.DL Finansiālā ilgtspēja'!L3 -> 8 | ... AI5: ='4.DL Finansiālā ilgtspēja'!AH3 -> 30 | AK5: =F5 -> 1 | AL5: =G5 -> 2 | AM5: =H5 -> 3 | AN5: =I5 -> 4 | AO5: =J5 -> 5 | AP5: =K5 -> 6 | AQ5: =L5 -> 7 | AR5: =M5 -> 8 | ... BN5: =AI5 -> 30
C6: gads | D6: Kopā | E6: Kopā | F6: ='4.DL Finansiālā ilgtspēja'!E4 -> 2025 | G6: ='4.DL Finansiālā ilgtspēja'!F4 -> 2026 | H6: ='4.DL Finansiālā ilgtspēja'!G4 -> 2027 | I6: ='4.DL Finansiālā ilgtspēja'!H4 -> 2028 | J6: ='4.DL Finansiālā ilgtspēja'!I4 -> 2029 | K6: ='4.DL Finansiālā ilgtspēja'!J4 -> 2030 | L6: ='4.DL Finansiālā ilgtspēja'!K4 -> 2031 | M6: ='4.DL Finansiālā ilgtspēja'!L4 -> 2032 | ... AI6: ='4.DL Finansiālā ilgtspēja'!AH4 -> 2054 | AK6: =F6 -> 2025 | AL6: =G6 -> 2026 | AM6: =H6 -> 2027 | AN6: =I6 -> 2028 | AO6: =J6 -> 2029 | AP6: =K6 -> 2030 | AQ6: =L6 -> 2031 | AR6: =M6 -> 2032 | ... BN6: =AI6 -> 2054
A8: 1 | B8: Sociālekonomiskie ieguvumi (+) | C8: EUR | D8: =AK8+NPV($C$3,AL8:BN8) -> 54781118 | E8: =SUM(F8:AI8) -> 77498000 | F8: =SUM(F12:F17) -> 0 | G8: =SUM(G12:G17) -> 0 | H8: =SUM(H9:H17) -> 0 | I8: =SUM(I9:I17) -> 7992000 | J8: =SUM(J9:J17) -> 7992000 | K8: =SUM(K9:K17) -> 7992000 | L8: =SUM(L9:L17) -> 7992000 | M8: =SUM(M9:M17) -> 7992000 | N8: =SUM(N9:N17) -> 7992000 | O8: =SUM(O9:O17) -> 7992000 | ... AI8: =SUM(AI9:AI17) -> 0 | AK8: =F8 -> 0 | AL8: =G8 -> 0 | AM8: =H8 -> 0 | AN8: =I8 -> 7992000 | AO8: =J8 -> 7992000 | AP8: =K8 -> 7992000 | AQ8: =L8 -> 7992000 | AR8: =M8 -> 7992000 | ... BN8: =AI8 -> 0
A9: 1.1. | B9: I.1) Papildus piesaistītais Apvārsnis Eiropa un IP10 finansējums (20% salīdzinot katrā budžeta periodā) | C9: EUR | D9: =AK9+NPV($C$3,AL9:BN9) -> 28126732 | E9: =SUM(F9:AI9) -> 40000000 | I9: =Pieņēmumi!$F$63*0.2*1000000 -> 4000000 | J9: =Pieņēmumi!$F$63*0.2*1000000 -> 4000000 | K9: =Pieņēmumi!$F$63*0.2*1000000 -> 4000000 | L9: =Pieņēmumi!$F$63*0.2*1000000 -> 4000000 | M9: =Pieņēmumi!$F$63*0.2*1000000 -> 4000000 | N9: =Pieņēmumi!$F$63*0.2*1000000 -> 4000000 | O9: =Pieņēmumi!$F$63*0.2*1000000 -> 4000000 | P9: =Pieņēmumi!$F$63*0.2*1000000 -> 4000000 | Q9: =Pieņēmumi!$F$63*0.4*1000000 -> 8000000 | AK9: =F9 -> 0 | AL9: =G9 -> 0 | AM9: =H9 -> 0 | AN9: =I9 -> 4000000 | AO9: =J9 -> 4000000 | AP9: =K9 -> 4000000 | AQ9: =L9 -> 4000000 | AR9: =M9 -> 4000000 | ... BN9: =AI9 -> 0
A10: 1.2. | B10: I. 2) Inovāciju un komercializācijas pieaugums pētniecības rezultātā (jaunuzņēmumumos piesaistītais papildus kapitāls). | D10: =AK10+NPV($C$3,AL10:BN10) -> 23031169 | E10: =SUM(F10:AI10) -> 32440000 | I10: =Pieņēmumi!$F$66*0.1*1000000 -> 3430000 | J10: =Pieņēmumi!$F$66*0.1*1000000 -> 3430000 | K10: =Pieņēmumi!$F$66*0.1*1000000 -> 3430000 | L10: =Pieņēmumi!$F$66*0.1*1000000 -> 3430000 | M10: =Pieņēmumi!$F$66*0.1*1000000 -> 3430000 | N10: =Pieņēmumi!$F$66*0.1*1000000 -> 3430000 | O10: =Pieņēmumi!$F$66*0.1*1000000 -> 3430000 | P10: =Pieņēmumi!$F$66*0.1*1000000 -> 3430000 | Q10: =Pieņēmumi!$F$65*0.1*1000000 -> 5000000 | AK10: =F10 -> 0 | AL10: =G10 -> 0 | AM10: =H10 -> 0 | AN10: =I10 -> 3430000 | AO10: =J10 -> 3430000 | AP10: =K10 -> 3430000 | AQ10: =L10 -> 3430000 | AR10: =M10 -> 3430000 | ... BN10: =AI10 -> 0
A11: 1.3. | B11: II.1) Efektīvāka tehnoloģiju pārnese starp pētniecības institūcijām un uzņēmumiem. | C11: EUR | D11: =AK11+NPV($C$3,AL11:BN11) -> 3623216.1 | E11: =SUM(F11:AI11) -> 5058000 | I11: =Pieņēmumi!$F$67*0.1*1000000 -> 562000 | J11: =Pieņēmumi!$F$67*0.1*1000000 -> 562000 | K11: =Pieņēmumi!$F$67*0.1*1000000 -> 562000 | L11: =Pieņēmumi!$F$67*0.1*1000000 -> 562000 | M11: =Pieņēmumi!$F$67*0.1*1000000 -> 562000 | N11: =Pieņēmumi!$F$67*0.1*1000000 -> 562000 | O11: =Pieņēmumi!$F$67*0.1*1000000 -> 562000 | P11: =Pieņēmumi!$F$67*0.1*1000000 -> 562000 | Q11: =Pieņēmumi!$F$67*0.1*1000000 -> 562000 | AL11: =G11 -> 0 | AM11: =H11 -> 0 | AN11: =I11 -> 562000 | AO11: =J11 -> 562000 | AP11: =K11 -> 562000 | AQ11: =L11 -> 562000 | AR11: =M11 -> 562000 | AS11: =N11 -> 562000 | ... BN11: =AI11 -> 0
A12: 1.4. | B12: Ieguvums ... | C12: EUR | D12: =AK12+NPV($C$3,AL12:BN12) -> 0 | E12: =SUM(F12:AI12) -> 0 | AK12: =F12 -> 0 | AL12: =G12 -> 0 | AM12: =H12 -> 0 | AN12: =I12 -> 0 | AO12: =J12 -> 0 | AP12: =K12 -> 0 | AQ12: =L12 -> 0 | AR12: =M12 -> 0 | ... BN12: =AI12 -> 0
A13: 1.5. | B13: Ieguvums ... | C13: EUR | D13: =AK13+NPV($C$3,AL13:BN13) -> 0 | E13: =SUM(F13:AI13) -> 0 | AK13: =F13 -> 0 | AL13: =G13 -> 0 | AM13: =H13 -> 0 | AN13: =I13 -> 0 | AO13: =J13 -> 0 | AP13: =K13 -> 0 | AQ13: =L13 -> 0 | AR13: =M13 -> 0 | ... BN13: =AI13 -> 0
A14: 1.6. | B14: Ieguvums ... | C14: EUR | D14: =AK14+NPV($C$3,AL14:BN14) -> 0 | E14: =SUM(F14:AI14) -> 0 | AK14: =F14 -> 0 | AL14: =G14 -> 0 | AM14: =H14 -> 0 | AN14: =I14 -> 0 | AO14: =J14 -> 0 | AP14: =K14 -> 0 | AQ14: =L14 -> 0 | AR14: =M14 -> 0 | ... BN14: =AI14 -> 0
A15: 1.7 | B15: Ieguvums ... | C15: EUR | D15: =AK15+NPV($C$3,AL15:BN15) -> 0 | E15: =SUM(F15:AI15) -> 0 | AK15: =F15 -> 0 | AL15: =G15 -> 0 | AM15: =H15 -> 0 | AN15: =I15 -> 0 | AO15: =J15 -> 0 | AP15: =K15 -> 0 | AQ15: =L15 -> 0 | AR15: =M15 -> 0 | ... BN15: =AI15 -> 0
A16: 1.8. | B16: Ieguvums ... | C16: EUR | D16: =AK16+NPV($C$3,AL16:BN16) -> 0 | E16: =SUM(F16:AI16) -> 0 | AK16: =F16 -> 0 | AL16: =G16 -> 0 | AM16: =H16 -> 0 | AN16: =I16 -> 0 | AO16: =J16 -> 0 | AP16: =K16 -> 0 | AQ16: =L16 -> 0 | AR16: =M16 -> 0 | ... BN16: =AI16 -> 0
A17: 1.9. | B17: Ieguvums ... | C17: EUR | D17: =AK17+NPV($C$3,AL17:BN17) -> 0 | E17: =SUM(F17:AI17) -> 0 | AK17: =F17 -> 0 | AL17: =G17 -> 0 | AM17: =H17 -> 0 | AN17: =I17 -> 0 | AO17: =J17 -> 0 | AP17: =K17 -> 0 | AQ17: =L17 -> 0 | AR17: =M17 -> 0 | ... BN17: =AI17 -> 0
A18: 2 | B18: Finanšu ieguvumi (+) | C18: EUR | D18: =AK18+NPV($C$3,AL18:BN18) -> 1134322.9 | E18: =SUM(F18:AI18) -> 1310000 | F18: =SUM(F19:F23) -> 0 | G18: =SUM(G19:G23) -> 262000 | H18: =SUM(H19:H23) -> 262000 | I18: =SUM(I19:I23) -> 262000 | J18: =SUM(J19:J23) -> 262000 | K18: =SUM(K19:K23) -> 262000 | L18: =SUM(L19:L23) -> 0 | M18: =SUM(M19:M23) -> 0 | ... AI18: =SUM(AI19:AI23) -> 0 | AK18: =F18 -> 0 | AL18: =G18 -> 262000 | AM18: =H18 -> 262000 | AN18: =I18 -> 262000 | AO18: =J18 -> 262000 | AP18: =K18 -> 262000 | AQ18: =L18 -> 0 | AR18: =M18 -> 0 | ... BN18: =AI18 -> 0
A19: 2.1. | B19: II.2) Izmaksu ietaupījums no vienotiem infrastruktūras iepirkumiem (10% ietaupījums) | C19: EUR | D19: =AK19+NPV($C$3,AL19:BN19) -> 1134322.9 | E19: =SUM(F19:AI19) -> 1310000 | G19: =((Pieņēmumi!$F$90*0.35/5) + Pieņēmumi!$F$91)*0.1 -> 262000 | H19: =((Pieņēmumi!$F$90*0.35/5) + Pieņēmumi!$F$91)*0.1 -> 262000 | I19: =((Pieņēmumi!$F$90*0.35/5) + Pieņēmumi!$F$91)*0.1 -> 262000 | J19: =((Pieņēmumi!$F$90*0.35/5) + Pieņēmumi!$F$91)*0.1 -> 262000 | K19: =((Pieņēmumi!$F$90*0.35/5) + Pieņēmumi!$F$91)*0.1 -> 262000 | AK19: =F19 -> 0 | AL19: =G19 -> 262000 | AM19: =H19 -> 262000 | AN19: =I19 -> 262000 | AO19: =J19 -> 262000 | AP19: =K19 -> 262000 | AQ19: =L19 -> 0 | AR19: =M19 -> 0 | ... BN19: =AI19 -> 0
A20: 2.2. | B20: Ieguvums ... | C20: EUR | D20: =AK20+NPV($C$3,AL20:BN20) -> 0 | E20: =SUM(F20:AI20) -> 0 | AK20: =F20 -> 0 | AL20: =G20 -> 0 | AM20: =H20 -> 0 | AN20: =I20 -> 0 | AO20: =J20 -> 0 | AP20: =K20 -> 0 | AQ20: =L20 -> 0 | AR20: =M20 -> 0 | ... BN20: =AI20 -> 0
A21: 2.3. | B21: Ieguvums ... | C21: EUR | D21: =AK21+NPV($C$3,AL21:BN21) -> 0 | E21: =SUM(F21:AI21) -> 0 | AK21: =F21 -> 0 | AL21: =G21 -> 0 | AM21: =H21 -> 0 | AN21: =I21 -> 0 | AO21: =J21 -> 0 | AP21: =K21 -> 0 | AQ21: =L21 -> 0 | AR21: =M21 -> 0 | ... BN21: =AI21 -> 0
A22: 2.4. | B22: Ieguvums ... | C22: EUR | D22: =AK22+NPV($C$3,AL22:BN22) -> 0 | E22: =SUM(F22:AI22) -> 0 | AK22: =F22 -> 0 | AL22: =G22 -> 0 | AM22: =H22 -> 0 | AN22: =I22 -> 0 | AO22: =J22 -> 0 | AP22: =K22 -> 0 | AQ22: =L22 -> 0 | AR22: =M22 -> 0 | ... BN22: =AI22 -> 0
A23: 2.5. | B23: Ieguvums ... | C23: EUR | D23: =AK23+NPV($C$3,AL23:BN23) -> 0 | E23: =SUM(F23:AI23) -> 0 | AK23: =F23 -> 0 | AL23: =G23 -> 0 | AM23: =H23 -> 0 | AN23: =I23 -> 0 | AO23: =J23 -> 0 | AP23: =K23 -> 0 | AQ23: =L23 -> 0 | AR23: =M23 -> 0 | ... BN23: =AI23 -> 0
A24: 3 | B24: Sociālekonomiskie zaudējumi (-) | C24: EUR | D24: =AK24+NPV($C$3,AL24:BN24) -> 0 | E24: =SUM(F24:AI24) -> 0 | F24: =SUM(F25:F33) -> 0 | G24: =SUM(G25:G33) -> 0 | H24: =SUM(H25:H33) -> 0 | I24: =SUM(I25:I33) -> 0 | J24: =SUM(J25:J33) -> 0 | K24: =SUM(K25:K33) -> 0 | L24: =SUM(L25:L33) -> 0 | M24: =SUM(M25:M33) -> 0 | ... AI24: =SUM(AI25:AI33) -> 0 | AK24: =F24 -> 0 | AL24: =G24 -> 0 | AM24: =H24 -> 0 | AN24: =I24 -> 0 | AO24: =J24 -> 0 | AP24: =K24 -> 0 | AQ24: =L24 -> 0 | AR24: =M24 -> 0 | ... BN24: =AI24 -> 0
A25: 3.1. | B25: Zaudējumi... | C25: EUR | D25: =AK25+NPV($C$3,AL25:BN25) -> 0 | E25: =SUM(F25:AI25) -> 0 | AK25: =F25 -> 0 | AL25: =G25 -> 0 | AM25: =H25 -> 0 | AN25: =I25 -> 0 | AO25: =J25 -> 0 | AP25: =K25 -> 0 | AQ25: =L25 -> 0 | AR25: =M25 -> 0 | ... BN25: =AI25 -> 0
A26: 3.2. | B26: Zaudējumi... | C26: EUR | D26: =AK26+NPV($C$3,AL26:BN26) -> 0 | E26: =SUM(F26:AI26) -> 0 | AK26: =F26 -> 0 | AL26: =G26 -> 0 | AM26: =H26 -> 0 | AN26: =I26 -> 0 | AO26: =J26 -> 0 | AP26: =K26 -> 0 | AQ26: =L26 -> 0 | AR26: =M26 -> 0 | ... BN26: =AI26 -> 0
A27: 3.3. | B27: Zaudējumi... | C27: EUR | D27: =AK27+NPV($C$3,AL27:BN27) -> 0 | E27: =SUM(F27:AI27) -> 0 | AK27: =F27 -> 0 | AL27: =G27 -> 0 | AM27: =H27 -> 0 | AN27: =I27 -> 0 | AO27: =J27 -> 0 | AP27: =K27 -> 0 | AQ27: =L27 -> 0 | AR27: =M27 -> 0 | ... BN27: =AI27 -> 0
A28: 3.4. | B28: Zaudējumi... | C28: EUR | D28: =AK28+NPV($C$3,AL28:BN28) -> 0 | E28: =SUM(F28:AI28) -> 0 | AK28: =F28 -> 0 | AL28: =G28 -> 0 | AM28: =H28 -> 0 | AN28: =I28 -> 0 | AO28: =J28 -> 0 | AP28: =K28 -> 0 | AQ28: =L28 -> 0 | AR28: =M28 -> 0 | ... BN28: =AI28 -> 0
A29: 3.5. | B29: Zaudējumi... | C29: EUR | D29: =AK29+NPV($C$3,AL29:BN29) -> 0 | E29: =SUM(F29:AI29) -> 0 | AK29: =F29 -> 0 | AL29: =G29 -> 0 | AM29: =H29 -> 0 | AN29: =I29 -> 0 | AO29: =J29 -> 0 | AP29: =K29 -> 0 | AQ29: =L29 -> 0 | AR29: =M29 -> 0 | ... BN29: =AI29 -> 0
A30: 3.6. | B30: Zaudējumi... | C30: EUR | D30: =AK30+NPV($C$3,AL30:BN30) -> 0 | E30: =SUM(F30:AI30) -> 0 | AK30: =F30 -> 0 | AL30: =G30 -> 0 | AM30: =H30 -> 0 | AN30: =I30 -> 0 | AO30: =J30 -> 0 | AP30: =K30 -> 0 | AQ30: =L30 -> 0 | AR30: =M30 -> 0 | ... BN30: =AI30 -> 0
A31: 3.7. | B31: Zaudējumi... | C31: EUR | D31: =AK31+NPV($C$3,AL31:BN31) -> 0 | E31: =SUM(F31:AI31) -> 0 | AK31: =F31 -> 0 | AL31: =G31 -> 0 | AM31: =H31 -> 0 | AN31: =I31 -> 0 | AO31: =J31 -> 0 | AP31: =K31 -> 0 | AQ31: =L31 -> 0 | AR31: =M31 -> 0 | ... BN31: =AI31 -> 0
A32: 3.8. | B32: Zaudējumi... | C32: EUR | D32: =AK32+NPV($C$3,AL32:BN32) -> 0 | E32: =SUM(F32:AI32) -> 0 | AK32: =F32 -> 0 | AL32: =G32 -> 0 | AM32: =H32 -> 0 | AN32: =I32 -> 0 | AO32: =J32 -> 0 | AP32: =K32 -> 0 | AQ32: =L32 -> 0 | AR32: =M32 -> 0 | ... BN32: =AI32 -> 0
A33: 3.9. | B33: Zaudējumi... | C33: EUR | D33: =AK33+NPV($C$3,AL33:BN33) -> 0 | E33: =SUM(F33:AI33) -> 0 | AK33: =F33 -> 0 | AL33: =G33 -> 0 | AM33: =H33 -> 0 | AN33: =I33 -> 0 | AO33: =J33 -> 0 | AP33: =K33 -> 0 | AQ33: =L33 -> 0 | AR33: =M33 -> 0 | ... BN33: =AI33 -> 0
A34: 4 | B34: Sociālekonomiskās izmaksas | C34: EUR | D34: =AK34+NPV($C$3,AL34:BN34) -> -21016927 | E34: =SUM(F34:AI34) -> -25613523 | F34: =SUM(F35:F38) -> -408496.47 | G34: =SUM(G35:G38) -> -5285482.5 | H34: =SUM(H35:H38) -> -4512630.5 | I34: =SUM(I35:I38) -> -3346870.1 | J34: =SUM(J35:J38) -> -2898177.3 | K34: =SUM(K35:K38) -> -1230469.7 | L34: =SUM(L35:L38) -> -1255711 | M34: =SUM(M35:M38) -> -1281470.4 | ... AI34: =SUM(AI35:AI38) -> 0 | AK34: =F34 -> -408496.47 | AL34: =G34 -> -5285482.5 | AM34: =H34 -> -4512630.5 | AN34: =I34 -> -3346870.1 | AO34: =J34 -> -2898177.3 | AP34: =K34 -> -1230469.7 | AQ34: =L34 -> -1255711 | AR34: =M34 -> -1281470.4 | ... BN34: =AI34 -> 0
A35: 4.1. | B35: Investīciju izmaksas (-) | C35: EUR | D35: =AK35+NPV($C$3,AL35:BN35) -> -15072456 | E35: =SUM(F35:AI35) -> -16742224 | F35: ='3. DL invest.n.pl.AR pr.'!F29+'3. DL invest.n.pl.AR pr.'!F32 -> -415711.29 | G35: ='3. DL invest.n.pl.AR pr.'!G29+'3. DL invest.n.pl.AR pr.'!G32 -> -5378834.2 | H35: ='3. DL invest.n.pl.AR pr.'!H29+'3. DL invest.n.pl.AR pr.'!H32 -> -4592332.2 | I35: ='3. DL invest.n.pl.AR pr.'!I29+'3. DL invest.n.pl.AR pr.'!I32 -> -3405982.2 | J35: ='3. DL invest.n.pl.AR pr.'!J29+'3. DL invest.n.pl.AR pr.'!J32 -> -2949364.7 | K35: ='3. DL invest.n.pl.AR pr.'!K29+'3. DL invest.n.pl.AR pr.'!K32 -> 0 | L35: ='3. DL invest.n.pl.AR pr.'!L29+'3. DL invest.n.pl.AR pr.'!L32 -> 0 | M35: ='3. DL invest.n.pl.AR pr.'!M29+'3. DL invest.n.pl.AR pr.'!M32 -> 0 | ... AI35: ='3. DL invest.n.pl.AR pr.'!AI29+'3. DL invest.n.pl.AR pr.'!AI32 -> 0 | AK35: =F35 -> -415711.29 | AL35: =G35 -> -5378834.2 | AM35: =H35 -> -4592332.2 | AN35: =I35 -> -3405982.2 | AO35: =J35 -> -2949364.7 | AP35: =K35 -> 0 | AQ35: =L35 -> 0 | AR35: =M35 -> 0 | ... BN35: =AI35 -> 0
A36: 4.2. | B36: Darbības izmaksas (+/-) | C36: EUR | D36: =AK36+NPV($C$3,AL36:BN36) -> -6206059 | E36: =SUM(F36:AI36) -> -9161866.2 | F36: ='3. DL invest.n.pl.AR pr.'!F16-'2. DL invest.n.pl.BEZ pr.'!E16 -> 0 | G36: ='3. DL invest.n.pl.AR pr.'!G16-'2. DL invest.n.pl.BEZ pr.'!F16 -> 0 | H36: ='3. DL invest.n.pl.AR pr.'!H16-'2. DL invest.n.pl.BEZ pr.'!G16 -> 0 | I36: ='3. DL invest.n.pl.AR pr.'!I16-'2. DL invest.n.pl.BEZ pr.'!H16 -> 0 | J36: ='3. DL invest.n.pl.AR pr.'!J16-'2. DL invest.n.pl.BEZ pr.'!I16 -> 0 | K36: ='3. DL invest.n.pl.AR pr.'!K16-'2. DL invest.n.pl.BEZ pr.'!J16 -> -1230469.7 | L36: ='3. DL invest.n.pl.AR pr.'!L16-'2. DL invest.n.pl.BEZ pr.'!K16 -> -1255711 | M36: ='3. DL invest.n.pl.AR pr.'!M16-'2. DL invest.n.pl.BEZ pr.'!L16 -> -1281470.4 | ... AI36: ='3. DL invest.n.pl.AR pr.'!AI16-'2. DL invest.n.pl.BEZ pr.'!AH16 -> 0 | AK36: =F36 -> 0 | AL36: =G36 -> 0 | AM36: =H36 -> 0 | AN36: =I36 -> 0 | AO36: =J36 -> 0 | AP36: =K36 -> -1230469.7 | AQ36: =L36 -> -1255711 | AR36: =M36 -> -1281470.4 | ... BN36: =AI36 -> 0
A37: 4.3. | B37: Projekta atlikusī vērtība (+) | C37: EUR | D37: =AK37+NPV($C$3,AL37:BN37) -> 0 | E37: =SUM(F37:AI37) -> 0 | F37: ='3. DL invest.n.pl.AR pr.'!F34 -> 0 | G37: ='3. DL invest.n.pl.AR pr.'!G34 -> 0 | H37: ='3. DL invest.n.pl.AR pr.'!H34 -> 0 | I37: ='3. DL invest.n.pl.AR pr.'!I34 -> 0 | J37: ='3. DL invest.n.pl.AR pr.'!J34 -> 0 | K37: ='3. DL invest.n.pl.AR pr.'!K34 -> 0 | L37: ='3. DL invest.n.pl.AR pr.'!L34 -> 0 | M37: ='3. DL invest.n.pl.AR pr.'!M34 -> 0 | ... AI37: ='3. DL invest.n.pl.AR pr.'!AI34 -> 0 | AK37: =F37 -> 0 | AL37: =G37 -> 0 | AM37: =H37 -> 0 | AN37: =I37 -> 0 | AO37: =J37 -> 0 | AP37: =K37 -> 0 | AQ37: =L37 -> 0 | AR37: =M37 -> 0 | ... BN37: =AI37 -> 0
A38: 5 | B38: Dati darba spēka izmaksām un citām fiskālajām korekcijām | C38: EUR | D38: =AK38+NPV($C$3,AL38:BN38) -> 261588.08 | E38: =SUM(F38:AI38) -> 290567.53 | F38: =SUM(F39:F41) -> 7214.8241 | G38: =SUM(G39:G41) -> 93351.667 | H38: =SUM(H39:H41) -> 79701.632 | I38: =SUM(I39:I41) -> 59112.087 | J38: =SUM(J39:J41) -> 51187.32 | K38: =SUM(K39:K41) -> 0 | L38: =SUM(L39:L41) -> 0 | M38: =SUM(M39:M41) -> 0 | ... AI38: =SUM(AI39:AI41) -> 0 | AK38: =F38 -> 7214.8241 | AL38: =G38 -> 93351.667 | AM38: =H38 -> 79701.632 | AN38: =I38 -> 59112.087 | AO38: =J38 -> 51187.32 | AP38: =K38 -> 0 | AQ38: =L38 -> 0 | AR38: =M38 -> 0 | ... BN38: =AI38 -> 0
A39: 5.1. | B39: Projekta darbības izmaksu darbaspēka izmaksas (+/-)** | C39: EUR | D39: =AK39+NPV($C$3,AL39:BN39) -> 0 | E39: =SUM(F39:AI39) -> 0 | AK39: =F39 -> 0 | AL39: =G39 -> 0 | AM39: =H39 -> 0 | AN39: =I39 -> 0 | AO39: =J39 -> 0 | AP39: =K39 -> 0 | AQ39: =L39 -> 0 | AR39: =M39 -> 0 | ... BN39: =AI39 -> 0
A40: 5.2. | B40: Investīciju darba spēka izmaksas (+)** | C40: EUR | D40: =AK40+NPV($C$3,AL40:BN40) -> 0 | E40: =SUM(F40:AI40) -> 0 | AK40: =F40 -> 0 | AL40: =G40 -> 0 | AM40: =H40 -> 0 | AN40: =I40 -> 0 | AO40: =J40 -> 0 | AP40: =K40 -> 0 | AQ40: =L40 -> 0 | AR40: =M40 -> 0 | ... BN40: =AI40 -> 0
A41: 5.3. | B41: Citas fiskālās korekcijas (+)* | C41: EUR | D41: =AK41+NPV($C$3,AL41:BN41) -> 261588.08 | E41: =SUM(F41:AI41) -> 290567.53 | F41: =-F35*0.1/121*21 -> 7214.8241 | G41: =-G35*0.1/121*21 -> 93351.667 | H41: =-H35*0.1/121*21 -> 79701.632 | I41: =-I35*0.1/121*21 -> 59112.087 | J41: =-J35*0.1/121*21 -> 51187.32 | K41: =-K35*0.1/121*21 -> 0 | L41: =-L35*0.1/121*21 -> 0 | AK41: =F41 -> 7214.8241 | AL41: =G41 -> 93351.667 | AM41: =H41 -> 79701.632 | AN41: =I41 -> 59112.087 | AO41: =J41 -> 51187.32 | AP41: =K41 -> 0 | AQ41: =L41 -> 0 | AR41: =M41 -> 0 | ... BN41: =AI41 -> 0
B42: Neto naudas plūsma | D42: =AK42+NPV($C$3,AL42:BN42) -> 34898514 | E42: =SUM(F42:AI42) -> 53194477 | F42: =F8+F18+F24+F34 -> -408496.47 | G42: =G8+G18+G24+G34 -> -5023482.5 | H42: =H8+H18+H24+H34 -> -4250630.5 | I42: =I8+I18+I24+I34 -> 4907129.9 | J42: =J8+J18+J24+J34 -> 5355822.7 | K42: =K8+K18+K24+K34 -> 7023530.3 | L42: =L8+L18+L24+L34 -> 6736289 | M42: =M8+M18+M24+M34 -> 6710529.6 | ... AI42: =AI8+AI18+AI24+AI34 -> 0 | AK42: =F42 -> -408496.47 | AL42: =G42 -> -5023482.5 | AM42: =H42 -> -4250630.5 | AN42: =I42 -> 4907129.9 | AO42: =J42 -> 5355822.7 | AP42: =K42 -> 7023530.3 | AQ42: =L42 -> 6736289 | AR42: =M42 -> 6710529.6 | ... BN42: =AI42 -> 0
A43: 6 | B43: Rādītāju aprēķināšana
A44: 6.1. | B44: Ekonomiskā neto pašreizējā vērtība (ENPV) | D44: =D42 -> 34898514
A45: 6.2. | B45: Ekonomiskā ienesīguma norma (ERR) | D45: =IRR(F42:AI42) -> 0.46164145
A46: 6.3. | B46: Ieguvumu un izmaksu attiecība (B/C) | D46: =(D8+D18)/-(D24+D34) -> 2.6604955
A48: 7 | B48: Projektā plānotie iznākuma rādītāji
A49: 7.1. | AI49: =SUM(F49:AH49) -> 0
A50: 7.2. | AI50: =SUM(F50:AH50) -> 0
A51: 7.3. | AI51: =SUM(F51:AH51) -> 0
A52: 7.4. | AI52: =SUM(F52:AH52) -> 0
A55: * Ja projekta investīcijās iekļautais PVN nav atgūstams, tad norāda investīciju izmaksās ietverto PVN atbilstoši projekta iesnieguma 3.pielikumā "Projekta budžeta kopsavilkums" norādītajam. Ja projekta investīcijās iekļautais PVN ir atgūstams pilnībā PVN nenorāda, jo par to jau investīciju izmaksas ir jau samazinātas finanšu analīzē norādot neattiecināmo PVN izklājlapās 1.1.A Iesniedzējs-1.3.2. partneris-kom-2 37.rindā
A56: ** Norāda izmaksās iekļauto darba devēja valsts sociālās apdrošināšanas obligāto iemaksu daļu

Sheet 6. DL finanšu_analīze
A1: REZULTĀTU LAPA Nr.6
B3: Reālā finansiālā diskonta likme | F3: 0.04
A4: KAPITĀLA NAUDAS PLŪSMA
F5: NPV | H5: ='5.DL soc.econom. analīze'!F5 -> 1 | I5: ='5.DL soc.econom. analīze'!G5 -> 2 | J5: ='5.DL soc.econom. analīze'!H5 -> 3 | K5: ='5.DL soc.econom. analīze'!I5 -> 4 | L5: ='5.DL soc.econom. analīze'!J5 -> 5 | M5: ='5.DL soc.econom. analīze'!K5 -> 6 | N5: ='5.DL soc.econom. analīze'!L5 -> 7 | O5: ='5.DL soc.econom. analīze'!M5 -> 8 | ... AK5: ='5.DL soc.econom. analīze'!AI5 -> 30
A6: 1 | B6: Naudas plūsmas pozīcijas | E6: Gads | F6: Kopā | G6: Kopā | H6: ='5.DL soc.econom. analīze'!F6 -> 2025 | I6: ='5.DL soc.econom. analīze'!G6 -> 2026 | J6: ='5.DL soc.econom. analīze'!H6 -> 2027 | K6: ='5.DL soc.econom. analīze'!I6 -> 2028 | L6: ='5.DL soc.econom. analīze'!J6 -> 2029 | M6: ='5.DL soc.econom. analīze'!K6 -> 2030 | N6: ='5.DL soc.econom. analīze'!L6 -> 2031 | O6: ='5.DL soc.econom. analīze'!M6 -> 2032 | ... AK6: ='5.DL soc.econom. analīze'!AI6 -> 2054
B7: 1.1. | C7: Projekta ieņēmumi | E7: EUR | F7: =H7+NPV($F$3,I7:AK7) -> 0 | G7: =SUM(H7:AK7) -> 0 | H7: ='3. DL invest.n.pl.AR pr.'!F9-'2. DL invest.n.pl.BEZ pr.'!E9 -> 0 | I7: ='3. DL invest.n.pl.AR pr.'!G9-'2. DL invest.n.pl.BEZ pr.'!F9 -> 0 | J7: ='3. DL invest.n.pl.AR pr.'!H9-'2. DL invest.n.pl.BEZ pr.'!G9 -> 0 | K7: ='3. DL invest.n.pl.AR pr.'!I9-'2. DL invest.n.pl.BEZ pr.'!H9 -> 0 | L7: ='3. DL invest.n.pl.AR pr.'!J9-'2. DL invest.n.pl.BEZ pr.'!I9 -> 0 | M7: ='3. DL invest.n.pl.AR pr.'!K9-'2. DL invest.n.pl.BEZ pr.'!J9 -> 0 | N7: ='3. DL invest.n.pl.AR pr.'!L9-'2. DL invest.n.pl.BEZ pr.'!K9 -> 0 | O7: ='3. DL invest.n.pl.AR pr.'!M9-'2. DL invest.n.pl.BEZ pr.'!L9 -> 0 | ... AK7: ='3. DL invest.n.pl.AR pr.'!AI9-'2. DL invest.n.pl.BEZ pr.'!AH9 -> 0
B8: 1.2. | C8: Projekta atlikusī vērtība | E8: EUR | F8: =H8+NPV($F$3,I8:AK8) -> 0 | G8: =SUM(H8:AK8) -> 0 | H8: ='3. DL invest.n.pl.AR pr.'!F33 -> 0 | I8: ='3. DL invest.n.pl.AR pr.'!G33 -> 0 | J8: ='3. DL invest.n.pl.AR pr.'!H33 -> 0 | K8: ='3. DL invest.n.pl.AR pr.'!I33 -> 0 | L8: ='3. DL invest.n.pl.AR pr.'!J33 -> 0 | M8: ='3. DL invest.n.pl.AR pr.'!K33 -> 0 | N8: ='3. DL invest.n.pl.AR pr.'!L33 -> 0 | O8: ='3. DL invest.n.pl.AR pr.'!M33 -> 0 | ... AK8: ='3. DL invest.n.pl.AR pr.'!AI33 -> 0
B9: 1.3. | C9: Projekta darbības izmaksas | E9: EUR | F9: =H9+NPV($F$3,I9:AK9) -> -6693754.9 | G9: =SUM(H9:AK9) -> -9161866.2 | H9: ='3. DL invest.n.pl.AR pr.'!F16-'2. DL invest.n.pl.BEZ pr.'!E16 -> 0 | I9: ='3. DL invest.n.pl.AR pr.'!G16-'2. DL invest.n.pl.BEZ pr.'!F16 -> 0 | J9: ='3. DL invest.n.pl.AR pr.'!H16-'2. DL invest.n.pl.BEZ pr.'!G16 -> 0 | K9: ='3. DL invest.n.pl.AR pr.'!I16-'2. DL invest.n.pl.BEZ pr.'!H16 -> 0 | L9: ='3. DL invest.n.pl.AR pr.'!J16-'2. DL invest.n.pl.BEZ pr.'!I16 -> 0 | M9: ='3. DL invest.n.pl.AR pr.'!K16-'2. DL invest.n.pl.BEZ pr.'!J16 -> -1230469.7 | N9: ='3. DL invest.n.pl.AR pr.'!L16-'2. DL invest.n.pl.BEZ pr.'!K16 -> -1255711 | O9: ='3. DL invest.n.pl.AR pr.'!M16-'2. DL invest.n.pl.BEZ pr.'!L16 -> -1281470.4 | ... AK9: ='3. DL invest.n.pl.AR pr.'!AI16-'2. DL invest.n.pl.BEZ pr.'!AH16 -> 0
B10: 1.4. | C10: Finansēšanas izmaksas | E10: EUR | F10: =H10+NPV($F$3,I10:AK10) -> 0 | G10: =SUM(H10:AK10) -> 0 | H10: ='4.DL Finansiālā ilgtspēja'!E21 -> 0 | I10: ='4.DL Finansiālā ilgtspēja'!F21 -> 0 | J10: ='4.DL Finansiālā ilgtspēja'!G21 -> 0 | K10: ='4.DL Finansiālā ilgtspēja'!H21 -> 0 | L10: ='4.DL Finansiālā ilgtspēja'!I21 -> 0 | M10: ='4.DL Finansiālā ilgtspēja'!J21 -> 0 | N10: ='4.DL Finansiālā ilgtspēja'!K21 -> 0 | O10: ='4.DL Finansiālā ilgtspēja'!L21 -> 0 | ... AK10: ='4.DL Finansiālā ilgtspēja'!AH21 -> 0
B11: 1.5. | C11: Aizņēmuma pamatsumma un procenti | E11: EUR | F11: =H11+NPV($F$3,I11:AK11) -> 0 | G11: =SUM(H11:AK11) -> 0 | H11: ='4.DL Finansiālā ilgtspēja'!E22+'4.DL Finansiālā ilgtspēja'!E23 -> 0 | I11: ='4.DL Finansiālā ilgtspēja'!F22+'4.DL Finansiālā ilgtspēja'!F23 -> 0 | J11: ='4.DL Finansiālā ilgtspēja'!G22+'4.DL Finansiālā ilgtspēja'!G23 -> 0 | K11: ='4.DL Finansiālā ilgtspēja'!H22+'4.DL Finansiālā ilgtspēja'!H23 -> 0 | L11: ='4.DL Finansiālā ilgtspēja'!I22+'4.DL Finansiālā ilgtspēja'!I23 -> 0 | M11: ='4.DL Finansiālā ilgtspēja'!J22+'4.DL Finansiālā ilgtspēja'!J23 -> 0 | N11: ='4.DL Finansiālā ilgtspēja'!K22+'4.DL Finansiālā ilgtspēja'!K23 -> 0 | O11: ='4.DL Finansiālā ilgtspēja'!L22+'4.DL Finansiālā ilgtspēja'!L23 -> 0 | ... AK11: ='4.DL Finansiālā ilgtspēja'!AH22+'4.DL Finansiālā ilgtspēja'!AH23 -> 0
B12: 1.6. | C12: Projektā ieguldītais kapitāls | E12: EUR | F12: =H12+NPV($F$3,I12:AK12) -> -2307385.7 | G12: =SUM(H12:AK12) -> -2511333.7 | H12: =-('9. DL PI Fin.plans'!B6+'9. DL PI Fin.plans'!B7+'9. DL PI Fin.plans'!B8+'9. DL PI Fin.plans'!B9+'9. DL PI Fin.plans'!B11) -> -62356.694 | I12: =-('9. DL PI Fin.plans'!D6+'9. DL PI Fin.plans'!D7+'9. DL PI Fin.plans'!D8+'9. DL PI Fin.plans'!D9+'9. DL PI Fin.plans'!D11) -> -806825.12 | J12: =-('9. DL PI Fin.plans'!F6+'9. DL PI Fin.plans'!F7+'9. DL PI Fin.plans'!F8+'9. DL PI Fin.plans'!F9+'9. DL PI Fin.plans'!F11) -> -688849.82 | K12: =-('9. DL PI Fin.plans'!H6+'9. DL PI Fin.plans'!H7+'9. DL PI Fin.plans'!H8+'9. DL PI Fin.plans'!H9+'9. DL PI Fin.plans'!H11) -> -510897.32 | L12: =-('9. DL PI Fin.plans'!J6+'9. DL PI Fin.plans'!J7+'9. DL PI Fin.plans'!J8+'9. DL PI Fin.plans'!J9+'9. DL PI Fin.plans'!J11) -> -442404.7 | M12: =-('9. DL PI Fin.plans'!L6+'9. DL PI Fin.plans'!L7+'9. DL PI Fin.plans'!L8+'9. DL PI Fin.plans'!L9+'9. DL PI Fin.plans'!L11) -> 0 | N12: =-('9. DL PI Fin.plans'!N6+'9. DL PI Fin.plans'!N7+'9. DL PI Fin.plans'!N8+'9. DL PI Fin.plans'!N9+'9. DL PI Fin.plans'!N11) -> 0 | O12: =-('9. DL PI Fin.plans'!P6+'9. DL PI Fin.plans'!P7+'9. DL PI Fin.plans'!P8+'9. DL PI Fin.plans'!P9+'9. DL PI Fin.plans'!P11) -> 0 | P12: =-('9. DL PI Fin.plans'!R6+'9. DL PI Fin.plans'!R7+'9. DL PI Fin.plans'!R8+'9. DL PI Fin.plans'!R9+'9. DL PI Fin.plans'!R11) -> 0
B13: 1.7. | C13: Neto naudas plūsma | E13: EUR | F13: =H13+NPV($F$3,I13:AK13) -> -9001140.6 | G13: =SUM(H13:AK13) -> -11673200 | H13: =SUM(H7:H12) -> -62356.694 | I13: =SUM(I7:I12) -> -806825.12 | J13: =SUM(J7:J12) -> -688849.82 | K13: =SUM(K7:K12) -> -510897.32 | L13: =SUM(L7:L12) -> -442404.7 | M13: =SUM(M7:M12) -> -1230469.7 | N13: =SUM(N7:N12) -> -1255711 | O13: =SUM(O7:O12) -> -1281470.4 | ... AK13: =SUM(AK7:AK12) -> 0
A15: 2 | B15: Rādītāju aprēķināšana
B16: 2.1. | C16: Finansiālais kapitāla neto tagadnes ienesīgums (FNPVk) | I16: =F13 -> -9001140.6
B17: 2.2. | C17: Finanšu iekšējā kapitāla peļņas norma (FRRk) | I17: =IRR(H13:AK13,K17) -> #NUM! | K17: -0.5 | L17: Ja šūnā I17 neaprēķina rezultātu, šūnā K17 norādiet aptuveno rezultāta prognozi, līdz aprēķins tiek veikts korekti
A19: INVESTĪCIJU NAUDAS PLŪSMA
F20: NPV | H20: =H5 -> 1 | I20: =I5 -> 2 | J20: =J5 -> 3 | K20: =K5 -> 4 | L20: =L5 -> 5 | M20: =M5 -> 6 | N20: =N5 -> 7 | O20: =O5 -> 8 | ... AK20: =AK5 -> 30
A21: 3 | B21: Naudas plūsmas pozīcijas | E21: Gads | F21: Kopā | G21: Kopā | H21: =H6 -> 2025 | I21: =I6 -> 2026 | J21: =J6 -> 2027 | K21: =K6 -> 2028 | L21: =L6 -> 2029 | M21: =M6 -> 2030 | N21: =N6 -> 2031 | O21: =O6 -> 2032 | ... AK21: =AK6 -> 2054
B22: 3.1. | C22: Projekta ieņēmumi | E22: EUR | F22: =H22+NPV($F$3,I22:AK22) -> 0 | G22: =SUM(H22:AK22) -> 0 | H22: =H7 -> 0 | I22: =I7 -> 0 | J22: =J7 -> 0 | K22: =K7 -> 0 | L22: =L7 -> 0 | M22: =M7 -> 0 | N22: =N7 -> 0 | O22: =O7 -> 0 | ... AK22: =AK7 -> 0 | AL22: #REF!
B23: 3.2. | C23: Projekta darbības izmaksas | E23: EUR | F23: =H23+NPV($F$3,I23:AK23) -> -6693754.9 | G23: =SUM(H23:AK23) -> -9161866.2 | H23: =H9 -> 0 | I23: =I9 -> 0 | J23: =J9 -> 0 | K23: =K9 -> 0 | L23: =L9 -> 0 | M23: =M9 -> -1230469.7 | N23: =N9 -> -1255711 | O23: =O9 -> -1281470.4 | ... AK23: =AK9 -> 0 | AL23: #REF!
B24: 3.3. | C24: Investīciju izmaksas (bez neatt.PVN un neparedzēt.izdevumiem) | E24: EUR | F24: =H24+NPV($F$3,I24:AK24) -> -15382571 | G24: =SUM(H24:AK24) -> -16742224 | H24: ='3. DL invest.n.pl.AR pr.'!F29 -> -415711.29 | I24: ='3. DL invest.n.pl.AR pr.'!G29 -> -5378834.2 | J24: ='3. DL invest.n.pl.AR pr.'!H29 -> -4592332.2 | K24: ='3. DL invest.n.pl.AR pr.'!I29 -> -3405982.2 | L24: ='3. DL invest.n.pl.AR pr.'!J29 -> -2949364.7 | M24: ='3. DL invest.n.pl.AR pr.'!K29 -> 0 | N24: ='3. DL invest.n.pl.AR pr.'!L29 -> 0 | O24: ='3. DL invest.n.pl.AR pr.'!M29 -> 0 | ... AK24: ='3. DL invest.n.pl.AR pr.'!AI29 -> 0
B25: 3.3.1. | C25: Attiecināmās Investīciju izmaksas bez neparedzētajiem izdevumiem | E25: EUR | F25: =H25+NPV($F$3,I25:AK25) -> -15382571 | G25: =SUM(H25:AK25) -> -16742224 | H25: ='3. DL invest.n.pl.AR pr.'!F30 -> -415711.29 | I25: ='3. DL invest.n.pl.AR pr.'!G30 -> -5378834.2 | J25: ='3. DL invest.n.pl.AR pr.'!H30 -> -4592332.2 | K25: ='3. DL invest.n.pl.AR pr.'!I30 -> -3405982.2 | L25: ='3. DL invest.n.pl.AR pr.'!J30 -> -2949364.7 | M25: ='3. DL invest.n.pl.AR pr.'!K30 -> 0 | N25: ='3. DL invest.n.pl.AR pr.'!L30 -> 0 | O25: ='3. DL invest.n.pl.AR pr.'!M30 -> 0 | ... AK25: ='3. DL invest.n.pl.AR pr.'!AI30 -> 0
B26: 3.4. | C26: Projekta atlikusī vērtība | E26: EUR | F26: =H26+NPV($F$3,I26:AK26) -> 0 | G26: =SUM(H26:AK26) -> 0 | H26: =H8 -> 0 | I26: =I8 -> 0 | J26: =J8 -> 0 | K26: =K8 -> 0 | L26: =L8 -> 0 | M26: =M8 -> 0 | N26: =N8 -> 0 | O26: =O8 -> 0 | ... AK26: =AK8 -> 0
B27: 3.5. | C27: Neto naudas plūsma | E27: EUR | F27: =H27+NPV($F$3,I27:AK27) -> -22076326 | G27: =SUM(H27:AK27) -> -25904091 | H27: =H22+H23+H24+H26 -> -415711.29 | I27: =I22+I23+I24+I26 -> -5378834.2 | J27: =J22+J23+J24+J26 -> -4592332.2 | K27: =K22+K23+K24+K26 -> -3405982.2 | L27: =L22+L23+L24+L26 -> -2949364.7 | M27: =M22+M23+M24+M26 -> -1230469.7 | N27: =N22+N23+N24+N26 -> -1255711 | O27: =O22+O23+O24+O26 -> -1281470.4 | ... AK27: =AK22+AK23+AK24+AK26 -> 0
A29: 4 | B29: Rādītāju aprēķināšana
B30: 4.1. | C30: Investīciju finansiālais neto tagadnes ienesīgums (FNPVc) | I30: =F27 -> -22076326
B31: 4.2. | C31: Investīciju finansiālā peļņas norma (FRRc) | I31: =IRR(H27:AK27,K31) -> #NUM! | K31: -0.5 | L31: Ja šūnā I31 neaprēķina rezultātu, šūnā K31 norādiet aptuveno rezultāta prognozi, līdz aprēķins tiek veikts korekti
A33: NAUDAS PLŪSMA NETO IEŅĒMUMU APRĒĶINAM (komercdarbības darbībām atbilstoši 651/2014 regulas 56.pantam)
F34: NPV | H34: =H20 -> 1 | I34: =I20 -> 2 | J34: =J20 -> 3 | K34: =K20 -> 4 | L34: =L20 -> 5 | M34: =M20 -> 6 | N34: =N20 -> 7 | O34: =O20 -> 8 | ... AK34: =AK20 -> 30
A35: 5 | B35: Naudas plūsmas pozīcijas | E35: Gads | F35: Kopā | G35: Kopā | H35: =H21 -> 2025 | I35: =I21 -> 2026 | J35: =J21 -> 2027 | K35: =K21 -> 2028 | L35: =L21 -> 2029 | M35: =M21 -> 2030 | N35: =N21 -> 2031 | O35: =O21 -> 2032 | ... AK35: =AK21 -> 2054
B36: 5.1. | C36: Attiecināmās Investīciju izmaksas bez neparedzētajiem izdevumiem, atg.PVN un bet de minimis, darbībām atbilstoši 651/2014 regulas 56.pantam | E36: EUR | F36: =H36+NPV($F$3,I36:Q36) -> 0 | G36: =SUM(H36:Q36) -> 0 | H36: ='1.1.B. Iesniedzējs'!H29+'1.1.B. Iesniedzējs'!I29+'1.2.1.B. Partneris-1'!H29+'1.2.1.B. Partneris-1'!I29+'1.2.2.B. Partneris-2'!H29+'1.2.2.B. Partneris-2'!I29 -> 0 | I36: ='1.1.B. Iesniedzējs'!J29+'1.1.B. Iesniedzējs'!K29+'1.2.1.B. Partneris-1'!J29+'1.2.1.B. Partneris-1'!K29+'1.2.2.B. Partneris-2'!J29+'1.2.2.B. Partneris-2'!K29 -> 0 | J36: ='1.1.B. Iesniedzējs'!L29+'1.1.B. Iesniedzējs'!M29+'1.2.1.B. Partneris-1'!L29+'1.2.1.B. Partneris-1'!M29+'1.2.2.B. Partneris-2'!L29+'1.2.2.B. Partneris-2'!M29 -> 0 | K36: ='1.1.B. Iesniedzējs'!N29+'1.1.B. Iesniedzējs'!O29+'1.2.1.B. Partneris-1'!N29+'1.2.1.B. Partneris-1'!O29+'1.2.2.B. Partneris-2'!N29+'1.2.2.B. Partneris-2'!O29 -> 0 | L36: ='1.1.B. Iesniedzējs'!P29+'1.1.B. Iesniedzējs'!Q29+'1.2.1.B. Partneris-1'!P29+'1.2.1.B. Partneris-1'!Q29+'1.2.2.B. Partneris-2'!P29+'1.2.2.B. Partneris-2'!Q29 -> 0 | M36: ='1.1.B. Iesniedzējs'!R29+'1.1.B. Iesniedzējs'!S29+'1.2.1.B. Partneris-1'!R29+'1.2.1.B. Partneris-1'!S29+'1.2.2.B. Partneris-2'!R29+'1.2.2.B. Partneris-2'!S29 -> 0 | N36: ='1.1.B. Iesniedzējs'!T29+'1.1.B. Iesniedzējs'!U29+'1.2.1.B. Partneris-1'!T29+'1.2.1.B. Partneris-1'!U29+'1.2.2.B. Partneris-2'!T29+'1.2.2.B. Partneris-2'!U29 -> 0 | O36: ='1.1.B. Iesniedzējs'!V29+'1.1.B. Iesniedzējs'!W29+'1.2.1.B. Partneris-1'!V29+'1.2.1.B. Partneris-1'!W29+'1.2.2.B. Partneris-2'!V29+'1.2.2.B. Partneris-2'!W29 -> 0 | P36: ='1.1.B. Iesniedzējs'!X29+'1.1.B. Iesniedzējs'!Y29+'1.2.1.B. Partneris-1'!X29+'1.2.1.B. Partneris-1'!Y29+'1.2.2.B. Partneris-2'!X29+'1.2.2.B. Partneris-2'!Y29 -> 0 | Q36: 0 | R36: 0 | S36: 0 | T36: 0 | U36: 0 | V36: 0 | W36: 0 | X36: 0 | Y36: 0 | Z36: 0 | AA36: 0 | AB36: 0 | AC36: 0 | AD36: 0 | AE36: 0 | AF36: 0 | AG36: 0 | AH36: 0 | AI36: 0 | AJ36: 0 | AK36: 0

Sheet 7. DL jut. analīze-Soc.
A1: DARBA LAPA Nr.7
A2: JUTĪGUMA ANALĪZE SOCIĀLEKONOMISKAJAI ANALĪZEI
B3: Reālā sociālā diskonta likme | C3: ='5.DL soc.econom. analīze'!C3 -> 0.05
E5: NPV | G5: ='4.DL Finansiālā ilgtspēja'!E3 -> 1 | H5: ='4.DL Finansiālā ilgtspēja'!F3 -> 2 | I5: ='4.DL Finansiālā ilgtspēja'!G3 -> 3 | J5: ='4.DL Finansiālā ilgtspēja'!H3 -> 4 | K5: ='4.DL Finansiālā ilgtspēja'!I3 -> 5 | L5: ='4.DL Finansiālā ilgtspēja'!J3 -> 6 | M5: ='4.DL Finansiālā ilgtspēja'!K3 -> 7 | N5: ='4.DL Finansiālā ilgtspēja'!L3 -> 8 | ... AJ5: ='4.DL Finansiālā ilgtspēja'!AH3 -> 30
C6: gads | D6: Var. | E6: Kopā | F6: Kopā | G6: ='4.DL Finansiālā ilgtspēja'!E4 -> 2025 | H6: ='4.DL Finansiālā ilgtspēja'!F4 -> 2026 | I6: ='4.DL Finansiālā ilgtspēja'!G4 -> 2027 | J6: ='4.DL Finansiālā ilgtspēja'!H4 -> 2028 | K6: ='4.DL Finansiālā ilgtspēja'!I4 -> 2029 | L6: ='4.DL Finansiālā ilgtspēja'!J4 -> 2030 | M6: ='4.DL Finansiālā ilgtspēja'!K4 -> 2031 | N6: ='4.DL Finansiālā ilgtspēja'!L4 -> 2032 | ... AJ6: ='4.DL Finansiālā ilgtspēja'!AH4 -> 2054
A8: 1 | B8: Sociālekonomiskie ieguvumi (+) | C8: EUR | D8: 0 | E8: =G8+NPV($C$3,H8:AJ8) -> 54781118 | F8: =SUM(G8:AJ8) -> 77498000 | G8: =SUM(G9:G17) -> 0 | H8: =SUM(H9:H17) -> 0 | I8: =SUM(I9:I17) -> 0 | J8: =SUM(J9:J17) -> 7992000 | K8: =SUM(K9:K17) -> 7992000 | L8: =SUM(L9:L17) -> 7992000 | M8: =SUM(M9:M17) -> 7992000 | N8: =SUM(N9:N17) -> 7992000 | ... AJ8: =SUM(AJ9:AJ17) -> 0
A9: 1.1. | B9: ='5.DL soc.econom. analīze'!B9 -> I.1) Papildus piesaistītais Apvārsnis Eiropa un IP10 finansējums (20% salīdzinot katrā budžeta periodā) | C9: EUR | D9: 0 | E9: =G9+NPV($C$3,H9:AJ9) -> 28126732 | F9: =SUM(G9:AJ9) -> 40000000 | G9: ='5.DL soc.econom. analīze'!F9*(1+'7. DL jut. analīze-Soc.'!$D9) -> 0 | H9: ='5.DL soc.econom. analīze'!G9*(1+'7. DL jut. analīze-Soc.'!$D9) -> 0 | I9: ='5.DL soc.econom. analīze'!H9*(1+'7. DL jut. analīze-Soc.'!$D9) -> 0 | J9: ='5.DL soc.econom. analīze'!I9*(1+'7. DL jut. analīze-Soc.'!$D9) -> 4000000 | K9: ='5.DL soc.econom. analīze'!J9*(1+'7. DL jut. analīze-Soc.'!$D9) -> 4000000 | L9: ='5.DL soc.econom. analīze'!K9*(1+'7. DL jut. analīze-Soc.'!$D9) -> 4000000 | M9: ='5.DL soc.econom. analīze'!L9*(1+'7. DL jut. analīze-Soc.'!$D9) -> 4000000 | N9: ='5.DL soc.econom. analīze'!M9*(1+'7. DL jut. analīze-Soc.'!$D9) -> 4000000 | ... AJ9: ='5.DL soc.econom. analīze'!AI9*(1+'7. DL jut. analīze-Soc.'!$D9) -> 0
A10: 1.2. | B10: ='5.DL soc.econom. analīze'!B10 -> I. 2) Inovāciju un komercializācijas pieaugums pētniecības rezultātā (jaunuzņēmumumos piesaistītais papildus kapitāls). | C10: EUR | D10: 0 | E10: =G10+NPV($C$3,H10:AJ10) -> 23031169 | F10: =SUM(G10:AJ10) -> 32440000 | G10: ='5.DL soc.econom. analīze'!F10*(1+'7. DL jut. analīze-Soc.'!$D10) -> 0 | H10: ='5.DL soc.econom. analīze'!G10*(1+'7. DL jut. analīze-Soc.'!$D10) -> 0 | I10: ='5.DL soc.econom. analīze'!H10*(1+'7. DL jut. analīze-Soc.'!$D10) -> 0 | J10: ='5.DL soc.econom. analīze'!I10*(1+'7. DL jut. analīze-Soc.'!$D10) -> 3430000 | K10: ='5.DL soc.econom. analīze'!J10*(1+'7. DL jut. analīze-Soc.'!$D10) -> 3430000 | L10: ='5.DL soc.econom. analīze'!K10*(1+'7. DL jut. analīze-Soc.'!$D10) -> 3430000 | M10: ='5.DL soc.econom. analīze'!L10*(1+'7. DL jut. analīze-Soc.'!$D10) -> 3430000 | N10: ='5.DL soc.econom. analīze'!M10*(1+'7. DL jut. analīze-Soc.'!$D10) -> 3430000 | ... AJ10: ='5.DL soc.econom. analīze'!AI10*(1+'7. DL jut. analīze-Soc.'!$D10) -> 0
A11: 1.3. | B11: ='5.DL soc.econom. analīze'!B11 -> II.1) Efektīvāka tehnoloģiju pārnese starp pētniecības institūcijām un uzņēmumiem. | C11: EUR | D11: 0 | E11: =G11+NPV($C$3,H11:AJ11) -> 3623216.1 | F11: =SUM(G11:AJ11) -> 5058000 | G11: ='5.DL soc.econom. analīze'!F11*(1+'7. DL jut. analīze-Soc.'!$D11) -> 0 | H11: ='5.DL soc.econom. analīze'!G11*(1+'7. DL jut. analīze-Soc.'!$D11) -> 0 | I11: ='5.DL soc.econom. analīze'!H11*(1+'7. DL jut. analīze-Soc.'!$D11) -> 0 | J11: ='5.DL soc.econom. analīze'!I11*(1+'7. DL jut. analīze-Soc.'!$D11) -> 562000 | K11: ='5.DL soc.econom. analīze'!J11*(1+'7. DL jut. analīze-Soc.'!$D11) -> 562000 | L11: ='5.DL soc.econom. analīze'!K11*(1+'7. DL jut. analīze-Soc.'!$D11) -> 562000 | M11: ='5.DL soc.econom. analīze'!L11*(1+'7. DL jut. analīze-Soc.'!$D11) -> 562000 | N11: ='5.DL soc.econom. analīze'!M11*(1+'7. DL jut. analīze-Soc.'!$D11) -> 562000 | ... AJ11: ='5.DL soc.econom. analīze'!AI11*(1+'7. DL jut. analīze-Soc.'!$D11) -> 0
A12: 1.4. | B12: ='5.DL soc.econom. analīze'!B12 -> Ieguvums ... | C12: EUR | D12: 0 | E12: =G12+NPV($C$3,H12:AJ12) -> 0 | F12: =SUM(G12:AJ12) -> 0 | G12: ='5.DL soc.econom. analīze'!F12*(1+'7. DL jut. analīze-Soc.'!$D12) -> 0 | H12: ='5.DL soc.econom. analīze'!G12*(1+'7. DL jut. analīze-Soc.'!$D12) -> 0 | I12: ='5.DL soc.econom. analīze'!H12*(1+'7. DL jut. analīze-Soc.'!$D12) -> 0 | J12: ='5.DL soc.econom. analīze'!I12*(1+'7. DL jut. analīze-Soc.'!$D12) -> 0 | K12: ='5.DL soc.econom. analīze'!J12*(1+'7. DL jut. analīze-Soc.'!$D12) -> 0 | L12: ='5.DL soc.econom. analīze'!K12*(1+'7. DL jut. analīze-Soc.'!$D12) -> 0 | M12: ='5.DL soc.econom. analīze'!L12*(1+'7. DL jut. analīze-Soc.'!$D12) -> 0 | N12: ='5.DL soc.econom. analīze'!M12*(1+'7. DL jut. analīze-Soc.'!$D12) -> 0 | ... AJ12: ='5.DL soc.econom. analīze'!AI12*(1+'7. DL jut. analīze-Soc.'!$D12) -> 0
A13: 1.5. | B13: ='5.DL soc.econom. analīze'!B13 -> Ieguvums ... | C13: EUR | D13: 0 | E13: =G13+NPV($C$3,H13:AJ13) -> 0 | F13: =SUM(G13:AJ13) -> 0 | G13: ='5.DL soc.econom. analīze'!F13*(1+'7. DL jut. analīze-Soc.'!$D13) -> 0 | H13: ='5.DL soc.econom. analīze'!G13*(1+'7. DL jut. analīze-Soc.'!$D13) -> 0 | I13: ='5.DL soc.econom. analīze'!H13*(1+'7. DL jut. analīze-Soc.'!$D13) -> 0 | J13: ='5.DL soc.econom. analīze'!I13*(1+'7. DL jut. analīze-Soc.'!$D13) -> 0 | K13: ='5.DL soc.econom. analīze'!J13*(1+'7. DL jut. analīze-Soc.'!$D13) -> 0 | L13: ='5.DL soc.econom. analīze'!K13*(1+'7. DL jut. analīze-Soc.'!$D13) -> 0 | M13: ='5.DL soc.econom. analīze'!L13*(1+'7. DL jut. analīze-Soc.'!$D13) -> 0 | N13: ='5.DL soc.econom. analīze'!M13*(1+'7. DL jut. analīze-Soc.'!$D13) -> 0 | ... AJ13: ='5.DL soc.econom. analīze'!AI13*(1+'7. DL jut. analīze-Soc.'!$D13) -> 0
A14: 1.6. | B14: ='5.DL soc.econom. analīze'!B14 -> Ieguvums ... | C14: EUR | D14: 0 | E14: =G14+NPV($C$3,H14:AJ14) -> 0 | F14: =SUM(G14:AJ14) -> 0 | G14: ='5.DL soc.econom. analīze'!F14*(1+'7. DL jut. analīze-Soc.'!$D14) -> 0 | H14: ='5.DL soc.econom. analīze'!G14*(1+'7. DL jut. analīze-Soc.'!$D14) -> 0 | I14: ='5.DL soc.econom. analīze'!H14*(1+'7. DL jut. analīze-Soc.'!$D14) -> 0 | J14: ='5.DL soc.econom. analīze'!I14*(1+'7. DL jut. analīze-Soc.'!$D14) -> 0 | K14: ='5.DL soc.econom. analīze'!J14*(1+'7. DL jut. analīze-Soc.'!$D14) -> 0 | L14: ='5.DL soc.econom. analīze'!K14*(1+'7. DL jut. analīze-Soc.'!$D14) -> 0 | M14: ='5.DL soc.econom. analīze'!L14*(1+'7. DL jut. analīze-Soc.'!$D14) -> 0 | N14: ='5.DL soc.econom. analīze'!M14*(1+'7. DL jut. analīze-Soc.'!$D14) -> 0 | ... AJ14: ='5.DL soc.econom. analīze'!AI14*(1+'7. DL jut. analīze-Soc.'!$D14) -> 0
A15: 1.7. | B15: ='5.DL soc.econom. analīze'!B15 -> Ieguvums ... | C15: EUR | D15: 0 | E15: =G15+NPV($C$3,H15:AJ15) -> 0 | F15: =SUM(G15:AJ15) -> 0 | G15: ='5.DL soc.econom. analīze'!F15*(1+'7. DL jut. analīze-Soc.'!$D15) -> 0 | H15: ='5.DL soc.econom. analīze'!G15*(1+'7. DL jut. analīze-Soc.'!$D15) -> 0 | I15: ='5.DL soc.econom. analīze'!H15*(1+'7. DL jut. analīze-Soc.'!$D15) -> 0 | J15: ='5.DL soc.econom. analīze'!I15*(1+'7. DL jut. analīze-Soc.'!$D15) -> 0 | K15: ='5.DL soc.econom. analīze'!J15*(1+'7. DL jut. analīze-Soc.'!$D15) -> 0 | L15: ='5.DL soc.econom. analīze'!K15*(1+'7. DL jut. analīze-Soc.'!$D15) -> 0 | M15: ='5.DL soc.econom. analīze'!L15*(1+'7. DL jut. analīze-Soc.'!$D15) -> 0 | N15: ='5.DL soc.econom. analīze'!M15*(1+'7. DL jut. analīze-Soc.'!$D15) -> 0 | ... AJ15: ='5.DL soc.econom. analīze'!AI15*(1+'7. DL jut. analīze-Soc.'!$D15) -> 0
A16: 1.8. | B16: ='5.DL soc.econom. analīze'!B16 -> Ieguvums ... | C16: EUR | D16: 0 | E16: =G16+NPV($C$3,H16:AJ16) -> 0 | F16: =SUM(G16:AJ16) -> 0 | G16: ='5.DL soc.econom. analīze'!F16*(1+'7. DL jut. analīze-Soc.'!$D16) -> 0 | H16: ='5.DL soc.econom. analīze'!G16*(1+'7. DL jut. analīze-Soc.'!$D16) -> 0 | I16: ='5.DL soc.econom. analīze'!H16*(1+'7. DL jut. analīze-Soc.'!$D16) -> 0 | J16: ='5.DL soc.econom. analīze'!I16*(1+'7. DL jut. analīze-Soc.'!$D16) -> 0 | K16: ='5.DL soc.econom. analīze'!J16*(1+'7. DL jut. analīze-Soc.'!$D16) -> 0 | L16: ='5.DL soc.econom. analīze'!K16*(1+'7. DL jut. analīze-Soc.'!$D16) -> 0 | M16: ='5.DL soc.econom. analīze'!L16*(1+'7. DL jut. analīze-Soc.'!$D16) -> 0 | N16: ='5.DL soc.econom. analīze'!M16*(1+'7. DL jut. analīze-Soc.'!$D16) -> 0 | ... AJ16: ='5.DL soc.econom. analīze'!AI16*(1+'7. DL jut. analīze-Soc.'!$D16) -> 0
A17: 1.9. | B17: ='5.DL soc.econom. analīze'!B17 -> Ieguvums ... | C17: EUR | D17: 0 | E17: =G17+NPV($C$3,H17:AJ17) -> 0 | F17: =SUM(G17:AJ17) -> 0 | G17: ='5.DL soc.econom. analīze'!F17*(1+'7. DL jut. analīze-Soc.'!$D17) -> 0 | H17: ='5.DL soc.econom. analīze'!G17*(1+'7. DL jut. analīze-Soc.'!$D17) -> 0 | I17: ='5.DL soc.econom. analīze'!H17*(1+'7. DL jut. analīze-Soc.'!$D17) -> 0 | J17: ='5.DL soc.econom. analīze'!I17*(1+'7. DL jut. analīze-Soc.'!$D17) -> 0 | K17: ='5.DL soc.econom. analīze'!J17*(1+'7. DL jut. analīze-Soc.'!$D17) -> 0 | L17: ='5.DL soc.econom. analīze'!K17*(1+'7. DL jut. analīze-Soc.'!$D17) -> 0 | M17: ='5.DL soc.econom. analīze'!L17*(1+'7. DL jut. analīze-Soc.'!$D17) -> 0 | N17: ='5.DL soc.econom. analīze'!M17*(1+'7. DL jut. analīze-Soc.'!$D17) -> 0 | ... AJ17: ='5.DL soc.econom. analīze'!AI17*(1+'7. DL jut. analīze-Soc.'!$D17) -> 0
A18: 2 | B18: Finanšu ieguvumi (+) | C18: EUR | D18: 0 | E18: =G18+NPV($C$3,H18:AJ18) -> 1134322.9 | F18: =SUM(G18:AJ18) -> 1310000 | G18: =SUM(G19:G23) -> 0 | H18: =SUM(H19:H23) -> 262000 | I18: =SUM(I19:I23) -> 262000 | J18: =SUM(J19:J23) -> 262000 | K18: =SUM(K19:K23) -> 262000 | L18: =SUM(L19:L23) -> 262000 | M18: =SUM(M19:M23) -> 0 | N18: =SUM(N19:N23) -> 0 | ... AJ18: =SUM(AJ19:AJ23) -> 0
A19: 2.1. | B19: ='5.DL soc.econom. analīze'!B19 -> II.2) Izmaksu ietaupījums no vienotiem infrastruktūras iepirkumiem (10% ietaupījums) | C19: EUR | D19: 0 | E19: =G19+NPV($C$3,H19:AJ19) -> 1134322.9 | F19: =SUM(G19:AJ19) -> 1310000 | G19: ='5.DL soc.econom. analīze'!F19*(1+'7. DL jut. analīze-Soc.'!$D19) -> 0 | H19: ='5.DL soc.econom. analīze'!G19*(1+'7. DL jut. analīze-Soc.'!$D19) -> 262000 | I19: ='5.DL soc.econom. analīze'!H19*(1+'7. DL jut. analīze-Soc.'!$D19) -> 262000 | J19: ='5.DL soc.econom. analīze'!I19*(1+'7. DL jut. analīze-Soc.'!$D19) -> 262000 | K19: ='5.DL soc.econom. analīze'!J19*(1+'7. DL jut. analīze-Soc.'!$D19) -> 262000 | L19: ='5.DL soc.econom. analīze'!K19*(1+'7. DL jut. analīze-Soc.'!$D19) -> 262000 | M19: ='5.DL soc.econom. analīze'!L19*(1+'7. DL jut. analīze-Soc.'!$D19) -> 0 | N19: ='5.DL soc.econom. analīze'!M19*(1+'7. DL jut. analīze-Soc.'!$D19) -> 0 | ... AJ19: ='5.DL soc.econom. analīze'!AI19*(1+'7. DL jut. analīze-Soc.'!$D19) -> 0
A20: 2.2. | B20: ='5.DL soc.econom. analīze'!B20 -> Ieguvums ... | C20: EUR | D20: 0 | E20: =G20+NPV($C$3,H20:AJ20) -> 0 | F20: =SUM(G20:AJ20) -> 0 | G20: ='5.DL soc.econom. analīze'!F20*(1+'7. DL jut. analīze-Soc.'!$D20) -> 0 | H20: ='5.DL soc.econom. analīze'!G20*(1+'7. DL jut. analīze-Soc.'!$D20) -> 0 | I20: ='5.DL soc.econom. analīze'!H20*(1+'7. DL jut. analīze-Soc.'!$D20) -> 0 | J20: ='5.DL soc.econom. analīze'!I20*(1+'7. DL jut. analīze-Soc.'!$D20) -> 0 | K20: ='5.DL soc.econom. analīze'!J20*(1+'7. DL jut. analīze-Soc.'!$D20) -> 0 | L20: ='5.DL soc.econom. analīze'!K20*(1+'7. DL jut. analīze-Soc.'!$D20) -> 0 | M20: ='5.DL soc.econom. analīze'!L20*(1+'7. DL jut. analīze-Soc.'!$D20) -> 0 | N20: ='5.DL soc.econom. analīze'!M20*(1+'7. DL jut. analīze-Soc.'!$D20) -> 0 | ... AJ20: ='5.DL soc.econom. analīze'!AI20*(1+'7. DL jut. analīze-Soc.'!$D20) -> 0
A21: 2.3. | B21: ='5.DL soc.econom. analīze'!B21 -> Ieguvums ... | C21: EUR | D21: 0 | E21: =G21+NPV($C$3,H21:AJ21) -> 0 | F21: =SUM(G21:AJ21) -> 0 | G21: ='5.DL soc.econom. analīze'!F21*(1+'7. DL jut. analīze-Soc.'!$D21) -> 0 | H21: ='5.DL soc.econom. analīze'!G21*(1+'7. DL jut. analīze-Soc.'!$D21) -> 0 | I21: ='5.DL soc.econom. analīze'!H21*(1+'7. DL jut. analīze-Soc.'!$D21) -> 0 | J21: ='5.DL soc.econom. analīze'!I21*(1+'7. DL jut. analīze-Soc.'!$D21) -> 0 | K21: ='5.DL soc.econom. analīze'!J21*(1+'7. DL jut. analīze-Soc.'!$D21) -> 0 | L21: ='5.DL soc.econom. analīze'!K21*(1+'7. DL jut. analīze-Soc.'!$D21) -> 0 | M21: ='5.DL soc.econom. analīze'!L21*(1+'7. DL jut. analīze-Soc.'!$D21) -> 0 | N21: ='5.DL soc.econom. analīze'!M21*(1+'7. DL jut. analīze-Soc.'!$D21) -> 0 | ... AJ21: ='5.DL soc.econom. analīze'!AI21*(1+'7. DL jut. analīze-Soc.'!$D21) -> 0
A22: 2.4. | B22: ='5.DL soc.econom. analīze'!B22 -> Ieguvums ... | C22: EUR | D22: 0 | E22: =G22+NPV($C$3,H22:AJ22) -> 0 | F22: =SUM(G22:AJ22) -> 0 | G22: ='5.DL soc.econom. analīze'!F22*(1+'7. DL jut. analīze-Soc.'!$D22) -> 0 | H22: ='5.DL soc.econom. analīze'!G22*(1+'7. DL jut. analīze-Soc.'!$D22) -> 0 | I22: ='5.DL soc.econom. analīze'!H22*(1+'7. DL jut. analīze-Soc.'!$D22) -> 0 | J22: ='5.DL soc.econom. analīze'!I22*(1+'7. DL jut. analīze-Soc.'!$D22) -> 0 | K22: ='5.DL soc.econom. analīze'!J22*(1+'7. DL jut. analīze-Soc.'!$D22) -> 0 | L22: ='5.DL soc.econom. analīze'!K22*(1+'7. DL jut. analīze-Soc.'!$D22) -> 0 | M22: ='5.DL soc.econom. analīze'!L22*(1+'7. DL jut. analīze-Soc.'!$D22) -> 0 | N22: ='5.DL soc.econom. analīze'!M22*(1+'7. DL jut. analīze-Soc.'!$D22) -> 0 | ... AJ22: ='5.DL soc.econom. analīze'!AI22*(1+'7. DL jut. analīze-Soc.'!$D22) -> 0
A23: 2.5. | B23: ='5.DL soc.econom. analīze'!B23 -> Ieguvums ... | C23: EUR | D23: 0 | E23: =G23+NPV($C$3,H23:AJ23) -> 0 | F23: =SUM(G23:AJ23) -> 0 | G23: ='5.DL soc.econom. analīze'!F23*(1+'7. DL jut. analīze-Soc.'!$D23) -> 0 | H23: ='5.DL soc.econom. analīze'!G23*(1+'7. DL jut. analīze-Soc.'!$D23) -> 0 | I23: ='5.DL soc.econom. analīze'!H23*(1+'7. DL jut. analīze-Soc.'!$D23) -> 0 | J23: ='5.DL soc.econom. analīze'!I23*(1+'7. DL jut. analīze-Soc.'!$D23) -> 0 | K23: ='5.DL soc.econom. analīze'!J23*(1+'7. DL jut. analīze-Soc.'!$D23) -> 0 | L23: ='5.DL soc.econom. analīze'!K23*(1+'7. DL jut. analīze-Soc.'!$D23) -> 0 | M23: ='5.DL soc.econom. analīze'!L23*(1+'7. DL jut. analīze-Soc.'!$D23) -> 0 | N23: ='5.DL soc.econom. analīze'!M23*(1+'7. DL jut. analīze-Soc.'!$D23) -> 0 | ... AJ23: ='5.DL soc.econom. analīze'!AI23*(1+'7. DL jut. analīze-Soc.'!$D23) -> 0
A24: 3 | B24: Sociālekonomiskie zaudējumi (-) | C24: EUR | D24: 0 | E24: =G24+NPV($C$3,H24:AJ24) -> 0 | F24: =SUM(G24:AJ24) -> 0 | G24: =SUM(G25:G33) -> 0 | H24: =SUM(H25:H33) -> 0 | I24: =SUM(I25:I33) -> 0 | J24: =SUM(J25:J33) -> 0 | K24: =SUM(K25:K33) -> 0 | L24: =SUM(L25:L33) -> 0 | M24: =SUM(M25:M33) -> 0 | N24: =SUM(N25:N33) -> 0 | ... AJ24: =SUM(AJ25:AJ33) -> 0
A25: 3.1. | B25: ='5.DL soc.econom. analīze'!B25 -> Zaudējumi... | C25: EUR | D25: 0 | E25: =G25+NPV($C$3,H25:AJ25) -> 0 | F25: =SUM(G25:AJ25) -> 0 | G25: ='5.DL soc.econom. analīze'!F25*(1+'7. DL jut. analīze-Soc.'!$D25) -> 0 | H25: ='5.DL soc.econom. analīze'!G25*(1+'7. DL jut. analīze-Soc.'!$D25) -> 0 | I25: ='5.DL soc.econom. analīze'!H25*(1+'7. DL jut. analīze-Soc.'!$D25) -> 0 | J25: ='5.DL soc.econom. analīze'!I25*(1+'7. DL jut. analīze-Soc.'!$D25) -> 0 | K25: ='5.DL soc.econom. analīze'!J25*(1+'7. DL jut. analīze-Soc.'!$D25) -> 0 | L25: ='5.DL soc.econom. analīze'!K25*(1+'7. DL jut. analīze-Soc.'!$D25) -> 0 | M25: ='5.DL soc.econom. analīze'!L25*(1+'7. DL jut. analīze-Soc.'!$D25) -> 0 | N25: ='5.DL soc.econom. analīze'!M25*(1+'7. DL jut. analīze-Soc.'!$D25) -> 0 | ... AJ25: ='5.DL soc.econom. analīze'!AI25*(1+'7. DL jut. analīze-Soc.'!$D25) -> 0
A26: 3.2. | B26: ='5.DL soc.econom. analīze'!B26 -> Zaudējumi... | C26: EUR | D26: 0 | E26: =G26+NPV($C$3,H26:AJ26) -> 0 | F26: =SUM(G26:AJ26) -> 0 | G26: ='5.DL soc.econom. analīze'!F26*(1+'7. DL jut. analīze-Soc.'!$D26) -> 0 | H26: ='5.DL soc.econom. analīze'!G26*(1+'7. DL jut. analīze-Soc.'!$D26) -> 0 | I26: ='5.DL soc.econom. analīze'!H26*(1+'7. DL jut. analīze-Soc.'!$D26) -> 0 | J26: ='5.DL soc.econom. analīze'!I26*(1+'7. DL jut. analīze-Soc.'!$D26) -> 0 | K26: ='5.DL soc.econom. analīze'!J26*(1+'7. DL jut. analīze-Soc.'!$D26) -> 0 | L26: ='5.DL soc.econom. analīze'!K26*(1+'7. DL jut. analīze-Soc.'!$D26) -> 0 | M26: ='5.DL soc.econom. analīze'!L26*(1+'7. DL jut. analīze-Soc.'!$D26) -> 0 | N26: ='5.DL soc.econom. analīze'!M26*(1+'7. DL jut. analīze-Soc.'!$D26) -> 0 | ... AJ26: ='5.DL soc.econom. analīze'!AI26*(1+'7. DL jut. analīze-Soc.'!$D26) -> 0
A27: 3.3. | B27: ='5.DL soc.econom. analīze'!B27 -> Zaudējumi... | C27: EUR | D27: 0 | E27: =G27+NPV($C$3,H27:AJ27) -> 0 | F27: =SUM(G27:AJ27) -> 0 | G27: ='5.DL soc.econom. analīze'!F27*(1+'7. DL jut. analīze-Soc.'!$D27) -> 0 | H27: ='5.DL soc.econom. analīze'!G27*(1+'7. DL jut. analīze-Soc.'!$D27) -> 0 | I27: ='5.DL soc.econom. analīze'!H27*(1+'7. DL jut. analīze-Soc.'!$D27) -> 0 | J27: ='5.DL soc.econom. analīze'!I27*(1+'7. DL jut. analīze-Soc.'!$D27) -> 0 | K27: ='5.DL soc.econom. analīze'!J27*(1+'7. DL jut. analīze-Soc.'!$D27) -> 0 | L27: ='5.DL soc.econom. analīze'!K27*(1+'7. DL jut. analīze-Soc.'!$D27) -> 0 | M27: ='5.DL soc.econom. analīze'!L27*(1+'7. DL jut. analīze-Soc.'!$D27) -> 0 | N27: ='5.DL soc.econom. analīze'!M27*(1+'7. DL jut. analīze-Soc.'!$D27) -> 0 | ... AJ27: ='5.DL soc.econom. analīze'!AI27*(1+'7. DL jut. analīze-Soc.'!$D27) -> 0
A28: 3.4. | B28: ='5.DL soc.econom. analīze'!B28 -> Zaudējumi... | C28: EUR | D28: 0 | E28: =G28+NPV($C$3,H28:AJ28) -> 0 | F28: =SUM(G28:AJ28) -> 0 | G28: ='5.DL soc.econom. analīze'!F28*(1+'7. DL jut. analīze-Soc.'!$D28) -> 0 | H28: ='5.DL soc.econom. analīze'!G28*(1+'7. DL jut. analīze-Soc.'!$D28) -> 0 | I28: ='5.DL soc.econom. analīze'!H28*(1+'7. DL jut. analīze-Soc.'!$D28) -> 0 | J28: ='5.DL soc.econom. analīze'!I28*(1+'7. DL jut. analīze-Soc.'!$D28) -> 0 | K28: ='5.DL soc.econom. analīze'!J28*(1+'7. DL jut. analīze-Soc.'!$D28) -> 0 | L28: ='5.DL soc.econom. analīze'!K28*(1+'7. DL jut. analīze-Soc.'!$D28) -> 0 | M28: ='5.DL soc.econom. analīze'!L28*(1+'7. DL jut. analīze-Soc.'!$D28) -> 0 | N28: ='5.DL soc.econom. analīze'!M28*(1+'7. DL jut. analīze-Soc.'!$D28) -> 0 | ... AJ28: ='5.DL soc.econom. analīze'!AI28*(1+'7. DL jut. analīze-Soc.'!$D28) -> 0
A29: 3.5. | B29: ='5.DL soc.econom. analīze'!B29 -> Zaudējumi... | C29: EUR | D29: 0 | E29: =G29+NPV($C$3,H29:AJ29) -> 0 | F29: =SUM(G29:AJ29) -> 0 | G29: ='5.DL soc.econom. analīze'!F29*(1+'7. DL jut. analīze-Soc.'!$D29) -> 0 | H29: ='5.DL soc.econom. analīze'!G29*(1+'7. DL jut. analīze-Soc.'!$D29) -> 0 | I29: ='5.DL soc.econom. analīze'!H29*(1+'7. DL jut. analīze-Soc.'!$D29) -> 0 | J29: ='5.DL soc.econom. analīze'!I29*(1+'7. DL jut. analīze-Soc.'!$D29) -> 0 | K29: ='5.DL soc.econom. analīze'!J29*(1+'7. DL jut. analīze-Soc.'!$D29) -> 0 | L29: ='5.DL soc.econom. analīze'!K29*(1+'7. DL jut. analīze-Soc.'!$D29) -> 0 | M29: ='5.DL soc.econom. analīze'!L29*(1+'7. DL jut. analīze-Soc.'!$D29) -> 0 | N29: ='5.DL soc.econom. analīze'!M29*(1+'7. DL jut. analīze-Soc.'!$D29) -> 0 | ... AJ29: ='5.DL soc.econom. analīze'!AI29*(1+'7. DL jut. analīze-Soc.'!$D29) -> 0
A30: 3.6. | B30: ='5.DL soc.econom. analīze'!B30 -> Zaudējumi... | C30: EUR | D30: 0 | E30: =G30+NPV($C$3,H30:AJ30) -> 0 | F30: =SUM(G30:AJ30) -> 0 | G30: ='5.DL soc.econom. analīze'!F30*(1+'7. DL jut. analīze-Soc.'!$D30) -> 0 | H30: ='5.DL soc.econom. analīze'!G30*(1+'7. DL jut. analīze-Soc.'!$D30) -> 0 | I30: ='5.DL soc.econom. analīze'!H30*(1+'7. DL jut. analīze-Soc.'!$D30) -> 0 | J30: ='5.DL soc.econom. analīze'!I30*(1+'7. DL jut. analīze-Soc.'!$D30) -> 0 | K30: ='5.DL soc.econom. analīze'!J30*(1+'7. DL jut. analīze-Soc.'!$D30) -> 0 | L30: ='5.DL soc.econom. analīze'!K30*(1+'7. DL jut. analīze-Soc.'!$D30) -> 0 | M30: ='5.DL soc.econom. analīze'!L30*(1+'7. DL jut. analīze-Soc.'!$D30) -> 0 | N30: ='5.DL soc.econom. analīze'!M30*(1+'7. DL jut. analīze-Soc.'!$D30) -> 0 | ... AJ30: ='5.DL soc.econom. analīze'!AI30*(1+'7. DL jut. analīze-Soc.'!$D30) -> 0
A31: 3.7. | B31: ='5.DL soc.econom. analīze'!B31 -> Zaudējumi... | C31: EUR | D31: 0 | E31: =G31+NPV($C$3,H31:AJ31) -> 0 | F31: =SUM(G31:AJ31) -> 0 | G31: ='5.DL soc.econom. analīze'!F31*(1+'7. DL jut. analīze-Soc.'!$D31) -> 0 | H31: ='5.DL soc.econom. analīze'!G31*(1+'7. DL jut. analīze-Soc.'!$D31) -> 0 | I31: ='5.DL soc.econom. analīze'!H31*(1+'7. DL jut. analīze-Soc.'!$D31) -> 0 | J31: ='5.DL soc.econom. analīze'!I31*(1+'7. DL jut. analīze-Soc.'!$D31) -> 0 | K31: ='5.DL soc.econom. analīze'!J31*(1+'7. DL jut. analīze-Soc.'!$D31) -> 0 | L31: ='5.DL soc.econom. analīze'!K31*(1+'7. DL jut. analīze-Soc.'!$D31) -> 0 | M31: ='5.DL soc.econom. analīze'!L31*(1+'7. DL jut. analīze-Soc.'!$D31) -> 0 | N31: ='5.DL soc.econom. analīze'!M31*(1+'7. DL jut. analīze-Soc.'!$D31) -> 0 | ... AJ31: ='5.DL soc.econom. analīze'!AI31*(1+'7. DL jut. analīze-Soc.'!$D31) -> 0
A32: 3.8. | B32: ='5.DL soc.econom. analīze'!B32 -> Zaudējumi... | C32: EUR | D32: 0 | E32: =G32+NPV($C$3,H32:AJ32) -> 0 | F32: =SUM(G32:AJ32) -> 0 | G32: ='5.DL soc.econom. analīze'!F32*(1+'7. DL jut. analīze-Soc.'!$D32) -> 0 | H32: ='5.DL soc.econom. analīze'!G32*(1+'7. DL jut. analīze-Soc.'!$D32) -> 0 | I32: ='5.DL soc.econom. analīze'!H32*(1+'7. DL jut. analīze-Soc.'!$D32) -> 0 | J32: ='5.DL soc.econom. analīze'!I32*(1+'7. DL jut. analīze-Soc.'!$D32) -> 0 | K32: ='5.DL soc.econom. analīze'!J32*(1+'7. DL jut. analīze-Soc.'!$D32) -> 0 | L32: ='5.DL soc.econom. analīze'!K32*(1+'7. DL jut. analīze-Soc.'!$D32) -> 0 | M32: ='5.DL soc.econom. analīze'!L32*(1+'7. DL jut. analīze-Soc.'!$D32) -> 0 | N32: ='5.DL soc.econom. analīze'!M32*(1+'7. DL jut. analīze-Soc.'!$D32) -> 0 | ... AJ32: ='5.DL soc.econom. analīze'!AI32*(1+'7. DL jut. analīze-Soc.'!$D32) -> 0
A33: 3.9. | B33: ='5.DL soc.econom. analīze'!B33 -> Zaudējumi... | C33: EUR | D33: 0 | E33: =G33+NPV($C$3,H33:AJ33) -> 0 | F33: =SUM(G33:AJ33) -> 0 | G33: ='5.DL soc.econom. analīze'!F33*(1+'7. DL jut. analīze-Soc.'!$D33) -> 0 | H33: ='5.DL soc.econom. analīze'!G33*(1+'7. DL jut. analīze-Soc.'!$D33) -> 0 | I33: ='5.DL soc.econom. analīze'!H33*(1+'7. DL jut. analīze-Soc.'!$D33) -> 0 | J33: ='5.DL soc.econom. analīze'!I33*(1+'7. DL jut. analīze-Soc.'!$D33) -> 0 | K33: ='5.DL soc.econom. analīze'!J33*(1+'7. DL jut. analīze-Soc.'!$D33) -> 0 | L33: ='5.DL soc.econom. analīze'!K33*(1+'7. DL jut. analīze-Soc.'!$D33) -> 0 | M33: ='5.DL soc.econom. analīze'!L33*(1+'7. DL jut. analīze-Soc.'!$D33) -> 0 | N33: ='5.DL soc.econom. analīze'!M33*(1+'7. DL jut. analīze-Soc.'!$D33) -> 0 | ... AJ33: ='5.DL soc.econom. analīze'!AI33*(1+'7. DL jut. analīze-Soc.'!$D33) -> 0
A34: 4 | B34: Sociālekonomiskās izmaksas | C34: EUR | D34: 0 | E34: =G34+NPV($C$3,H34:AJ34) -> -21016927 | F34: =SUM(G34:AJ34) -> -25613523 | G34: =SUM(G35:G38) -> -408496.47 | H34: =SUM(H35:H38) -> -5285482.5 | I34: =SUM(I35:I38) -> -4512630.5 | J34: =SUM(J35:J38) -> -3346870.1 | K34: =SUM(K35:K38) -> -2898177.3 | L34: =SUM(L35:L38) -> -1230469.7 | M34: =SUM(M35:M38) -> -1255711 | N34: =SUM(N35:N38) -> -1281470.4 | ... AJ34: =SUM(AJ35:AJ38) -> 0
A35: 4.1. | B35: ='5.DL soc.econom. analīze'!B35 -> Investīciju izmaksas (-) | C35: EUR | D35: 0 | E35: =G35+NPV($C$3,H35:AJ35) -> -15072456 | F35: =SUM(G35:AJ35) -> -16742224 | G35: ='5.DL soc.econom. analīze'!F35*(1+'7. DL jut. analīze-Soc.'!$D35) -> -415711.29 | H35: ='5.DL soc.econom. analīze'!G35*(1+'7. DL jut. analīze-Soc.'!$D35) -> -5378834.2 | I35: ='5.DL soc.econom. analīze'!H35*(1+'7. DL jut. analīze-Soc.'!$D35) -> -4592332.2 | J35: ='5.DL soc.econom. analīze'!I35*(1+'7. DL jut. analīze-Soc.'!$D35) -> -3405982.2 | K35: ='5.DL soc.econom. analīze'!J35*(1+'7. DL jut. analīze-Soc.'!$D35) -> -2949364.7 | L35: ='5.DL soc.econom. analīze'!K35*(1+'7. DL jut. analīze-Soc.'!$D35) -> 0 | M35: ='5.DL soc.econom. analīze'!L35*(1+'7. DL jut. analīze-Soc.'!$D35) -> 0 | N35: ='5.DL soc.econom. analīze'!M35*(1+'7. DL jut. analīze-Soc.'!$D35) -> 0 | ... AJ35: ='5.DL soc.econom. analīze'!AI35*(1+'7. DL jut. analīze-Soc.'!$D35) -> 0
A36: 4.2. | B36: ='5.DL soc.econom. analīze'!B36 -> Darbības izmaksas (+/-) | C36: EUR | D36: 0 | E36: =G36+NPV($C$3,H36:AJ36) -> -6206059 | F36: =SUM(G36:AJ36) -> -9161866.2 | G36: ='5.DL soc.econom. analīze'!F36*(1+'7. DL jut. analīze-Soc.'!$D36) -> 0 | H36: ='5.DL soc.econom. analīze'!G36*(1+'7. DL jut. analīze-Soc.'!$D36) -> 0 | I36: ='5.DL soc.econom. analīze'!H36*(1+'7. DL jut. analīze-Soc.'!$D36) -> 0 | J36: ='5.DL soc.econom. analīze'!I36*(1+'7. DL jut. analīze-Soc.'!$D36) -> 0 | K36: ='5.DL soc.econom. analīze'!J36*(1+'7. DL jut. analīze-Soc.'!$D36) -> 0 | L36: ='5.DL soc.econom. analīze'!K36*(1+'7. DL jut. analīze-Soc.'!$D36) -> -1230469.7 | M36: ='5.DL soc.econom. analīze'!L36*(1+'7. DL jut. analīze-Soc.'!$D36) -> -1255711 | N36: ='5.DL soc.econom. analīze'!M36*(1+'7. DL jut. analīze-Soc.'!$D36) -> -1281470.4 | ... AJ36: ='5.DL soc.econom. analīze'!AI36*(1+'7. DL jut. analīze-Soc.'!$D36) -> 0
A37: 4.3. | B37: ='5.DL soc.econom. analīze'!B37 -> Projekta atlikusī vērtība (+) | C37: EUR | D37: 0 | E37: =G37+NPV($C$3,H37:AJ37) -> 0 | F37: =SUM(G37:AJ37) -> 0 | G37: ='5.DL soc.econom. analīze'!F37*(1+'7. DL jut. analīze-Soc.'!$D37) -> 0 | H37: ='5.DL soc.econom. analīze'!G37*(1+'7. DL jut. analīze-Soc.'!$D37) -> 0 | I37: ='5.DL soc.econom. analīze'!H37*(1+'7. DL jut. analīze-Soc.'!$D37) -> 0 | J37: ='5.DL soc.econom. analīze'!I37*(1+'7. DL jut. analīze-Soc.'!$D37) -> 0 | K37: ='5.DL soc.econom. analīze'!J37*(1+'7. DL jut. analīze-Soc.'!$D37) -> 0 | L37: ='5.DL soc.econom. analīze'!K37*(1+'7. DL jut. analīze-Soc.'!$D37) -> 0 | M37: ='5.DL soc.econom. analīze'!L37*(1+'7. DL jut. analīze-Soc.'!$D37) -> 0 | N37: ='5.DL soc.econom. analīze'!M37*(1+'7. DL jut. analīze-Soc.'!$D37) -> 0 | ... AJ37: ='5.DL soc.econom. analīze'!AI37*(1+'7. DL jut. analīze-Soc.'!$D37) -> 0
A38: 5 | B38: Dati darba spēka izmaksām un citām fiskālajām korekcijām | C38: EUR | D38: 0 | E38: =G38+NPV($C$3,H38:AJ38) -> 261588.08 | F38: =SUM(G38:AJ38) -> 290567.53 | G38: =SUM(G39:G41) -> 7214.8241 | H38: =SUM(H39:H41) -> 93351.667 | I38: =SUM(I39:I41) -> 79701.632 | J38: =SUM(J39:J41) -> 59112.087 | K38: =SUM(K39:K41) -> 51187.32 | L38: =SUM(L39:L41) -> 0 | M38: =SUM(M39:M41) -> 0 | N38: =SUM(N39:N41) -> 0 | ... AJ38: =SUM(AJ39:AJ41) -> 0
A39: 5.1. | B39: ='5.DL soc.econom. analīze'!B39 -> Projekta darbības izmaksu darbaspēka izmaksas (+/-)** | C39: EUR | D39: 0 | E39: =G39+NPV($C$3,H39:AJ39) -> 0 | F39: =SUM(G39:AJ39) -> 0 | G39: ='5.DL soc.econom. analīze'!F39*(1+'7. DL jut. analīze-Soc.'!$D39) -> 0 | H39: ='5.DL soc.econom. analīze'!G39*(1+'7. DL jut. analīze-Soc.'!$D39) -> 0 | I39: ='5.DL soc.econom. analīze'!H39*(1+'7. DL jut. analīze-Soc.'!$D39) -> 0 | J39: ='5.DL soc.econom. analīze'!I39*(1+'7. DL jut. analīze-Soc.'!$D39) -> 0 | K39: ='5.DL soc.econom. analīze'!J39*(1+'7. DL jut. analīze-Soc.'!$D39) -> 0 | L39: ='5.DL soc.econom. analīze'!K39*(1+'7. DL jut. analīze-Soc.'!$D39) -> 0 | M39: ='5.DL soc.econom. analīze'!L39*(1+'7. DL jut. analīze-Soc.'!$D39) -> 0 | N39: ='5.DL soc.econom. analīze'!M39*(1+'7. DL jut. analīze-Soc.'!$D39) -> 0 | ... AJ39: ='5.DL soc.econom. analīze'!AI39*(1+'7. DL jut. analīze-Soc.'!$D39) -> 0
A40: 5.2. | B40: ='5.DL soc.econom. analīze'!B40 -> Investīciju darba spēka izmaksas (+)** | C40: EUR | D40: 0 | E40: =G40+NPV($C$3,H40:AJ40) -> 0 | F40: =SUM(G40:AJ40) -> 0 | G40: ='5.DL soc.econom. analīze'!F40*(1+'7. DL jut. analīze-Soc.'!$D40) -> 0 | H40: ='5.DL soc.econom. analīze'!G40*(1+'7. DL jut. analīze-Soc.'!$D40) -> 0 | I40: ='5.DL soc.econom. analīze'!H40*(1+'7. DL jut. analīze-Soc.'!$D40) -> 0 | J40: ='5.DL soc.econom. analīze'!I40*(1+'7. DL jut. analīze-Soc.'!$D40) -> 0 | K40: ='5.DL soc.econom. analīze'!J40*(1+'7. DL jut. analīze-Soc.'!$D40) -> 0 | L40: ='5.DL soc.econom. analīze'!K40*(1+'7. DL jut. analīze-Soc.'!$D40) -> 0 | M40: ='5.DL soc.econom. analīze'!L40*(1+'7. DL jut. analīze-Soc.'!$D40) -> 0 | N40: ='5.DL soc.econom. analīze'!M40*(1+'7. DL jut. analīze-Soc.'!$D40) -> 0 | ... AJ40: ='5.DL soc.econom. analīze'!AI40*(1+'7. DL jut. analīze-Soc.'!$D40) -> 0
A41: 5.3. | B41: ='5.DL soc.econom. analīze'!B41 -> Citas fiskālās korekcijas (+)* | C41: EUR | D41: 0 | E41: =G41+NPV($C$3,H41:AJ41) -> 261588.08 | F41: =SUM(G41:AJ41) -> 290567.53 | G41: ='5.DL soc.econom. analīze'!F41*(1+'7. DL jut. analīze-Soc.'!$D41) -> 7214.8241 | H41: ='5.DL soc.econom. analīze'!G41*(1+'7. DL jut. analīze-Soc.'!$D41) -> 93351.667 | I41: ='5.DL soc.econom. analīze'!H41*(1+'7. DL jut. analīze-Soc.'!$D41) -> 79701.632 | J41: ='5.DL soc.econom. analīze'!I41*(1+'7. DL jut. analīze-Soc.'!$D41) -> 59112.087 | K41: ='5.DL soc.econom. analīze'!J41*(1+'7. DL jut. analīze-Soc.'!$D41) -> 51187.32 | L41: ='5.DL soc.econom. analīze'!K41*(1+'7. DL jut. analīze-Soc.'!$D41) -> 0 | M41: ='5.DL soc.econom. analīze'!L41*(1+'7. DL jut. analīze-Soc.'!$D41) -> 0 | N41: ='5.DL soc.econom. analīze'!M41*(1+'7. DL jut. analīze-Soc.'!$D41) -> 0 | ... AJ41: ='5.DL soc.econom. analīze'!AI41*(1+'7. DL jut. analīze-Soc.'!$D41) -> 0
B42: Neto naudas plūsma | E42: =G42+NPV($C$3,H42:AJ42) -> 34898514 | F42: =SUM(G42:AJ42) -> 53194477 | G42: =G8+G18+G24+G34 -> -408496.47 | H42: =H8+H18+H24+H34 -> -5023482.5 | I42: =I8+I18+I24+I34 -> -4250630.5 | J42: =J8+J18+J24+J34 -> 4907129.9 | K42: =K8+K18+K24+K34 -> 5355822.7 | L42: =L8+L18+L24+L34 -> 7023530.3 | M42: =M8+M18+M24+M34 -> 6736289 | N42: =N8+N18+N24+N34 -> 6710529.6 | ... AJ42: =AJ8+AJ18+AJ24+AJ34 -> 0
A44: 6 | B44: Rādītāju aprēķināšana | E44: Vērtība bez mainīgā izmaiņām | G44: Vērtība pēc mainīgā izmaiņām | I44: Novirze
A45: 6.1. | B45: Ekonomiskā neto pašreizējā vērtība (ENPV) | E45: ='5.DL soc.econom. analīze'!D44 -> 34898514 | G45: =E42 -> 34898514 | I45: =G45/E45-1 -> 0

Sheet 8. DL jut. analize-Fin.
A1: REZULTĀTU LAPA Nr.6
B3: Reālā finansiālā diskonta likme | E3: ='6. DL finanšu_analīze'!F3 -> 0.04
A4: KAPITĀLA NAUDAS PLŪSMA
G5: NPV | I5: ='5.DL soc.econom. analīze'!F5 -> 1 | J5: ='5.DL soc.econom. analīze'!G5 -> 2 | K5: ='5.DL soc.econom. analīze'!H5 -> 3 | L5: ='5.DL soc.econom. analīze'!I5 -> 4 | M5: ='5.DL soc.econom. analīze'!J5 -> 5 | N5: ='5.DL soc.econom. analīze'!K5 -> 6 | O5: ='5.DL soc.econom. analīze'!L5 -> 7 | P5: ='5.DL soc.econom. analīze'!M5 -> 8 | ... AL5: ='5.DL soc.econom. analīze'!AI5 -> 30
A6: 1 | B6: Naudas plūsmas pozīcijas | E6: Gads | F6: Var. | G6: Kopā | H6: Kopā | I6: ='5.DL soc.econom. analīze'!F6 -> 2025 | J6: ='5.DL soc.econom. analīze'!G6 -> 2026 | K6: ='5.DL soc.econom. analīze'!H6 -> 2027 | L6: ='5.DL soc.econom. analīze'!I6 -> 2028 | M6: ='5.DL soc.econom. analīze'!J6 -> 2029 | N6: ='5.DL soc.econom. analīze'!K6 -> 2030 | O6: ='5.DL soc.econom. analīze'!L6 -> 2031 | P6: ='5.DL soc.econom. analīze'!M6 -> 2032 | ... AL6: ='5.DL soc.econom. analīze'!AI6 -> 2054
B7: 1.1. | C7: Projekta ieņēmumi | E7: EUR | F7: 0 | G7: =I7+NPV($E$3,J7:AL7) -> 0 | H7: =SUM(I7:AL7) -> 0 | I7: ='6. DL finanšu_analīze'!H7*(1+'8. DL jut. analize-Fin.'!$F7) -> 0 | J7: ='6. DL finanšu_analīze'!I7*(1+'8. DL jut. analize-Fin.'!$F7) -> 0 | K7: ='6. DL finanšu_analīze'!J7*(1+'8. DL jut. analize-Fin.'!$F7) -> 0 | L7: ='6. DL finanšu_analīze'!K7*(1+'8. DL jut. analize-Fin.'!$F7) -> 0 | M7: ='6. DL finanšu_analīze'!L7*(1+'8. DL jut. analize-Fin.'!$F7) -> 0 | N7: ='6. DL finanšu_analīze'!M7*(1+'8. DL jut. analize-Fin.'!$F7) -> 0 | O7: ='6. DL finanšu_analīze'!N7*(1+'8. DL jut. analize-Fin.'!$F7) -> 0 | P7: ='6. DL finanšu_analīze'!O7*(1+'8. DL jut. analize-Fin.'!$F7) -> 0 | ... AL7: ='6. DL finanšu_analīze'!AK7*(1+'8. DL jut. analize-Fin.'!$F7) -> 0
B8: 1.2. | C8: Projekta atlikusī vērtība | E8: EUR | F8: 0 | G8: =I8+NPV($E$3,J8:AL8) -> 0 | H8: =SUM(I8:AL8) -> 0 | I8: ='6. DL finanšu_analīze'!H8*(1+'8. DL jut. analize-Fin.'!$F8) -> 0 | J8: ='6. DL finanšu_analīze'!I8*(1+'8. DL jut. analize-Fin.'!$F8) -> 0 | K8: ='6. DL finanšu_analīze'!J8*(1+'8. DL jut. analize-Fin.'!$F8) -> 0 | L8: ='6. DL finanšu_analīze'!K8*(1+'8. DL jut. analize-Fin.'!$F8) -> 0 | M8: ='6. DL finanšu_analīze'!L8*(1+'8. DL jut. analize-Fin.'!$F8) -> 0 | N8: ='6. DL finanšu_analīze'!M8*(1+'8. DL jut. analize-Fin.'!$F8) -> 0 | O8: ='6. DL finanšu_analīze'!N8*(1+'8. DL jut. analize-Fin.'!$F8) -> 0 | P8: ='6. DL finanšu_analīze'!O8*(1+'8. DL jut. analize-Fin.'!$F8) -> 0 | ... AL8: ='6. DL finanšu_analīze'!AK8*(1+'8. DL jut. analize-Fin.'!$F8) -> 0
B9: 1.3. | C9: Projekta darbības izmaksas | E9: EUR | F9: 0 | G9: =I9+NPV($E$3,J9:AL9) -> -6693754.9 | H9: =SUM(I9:AL9) -> -9161866.2 | I9: ='6. DL finanšu_analīze'!H9*(1+'8. DL jut. analize-Fin.'!$F9) -> 0 | J9: ='6. DL finanšu_analīze'!I9*(1+'8. DL jut. analize-Fin.'!$F9) -> 0 | K9: ='6. DL finanšu_analīze'!J9*(1+'8. DL jut. analize-Fin.'!$F9) -> 0 | L9: ='6. DL finanšu_analīze'!K9*(1+'8. DL jut. analize-Fin.'!$F9) -> 0 | M9: ='6. DL finanšu_analīze'!L9*(1+'8. DL jut. analize-Fin.'!$F9) -> 0 | N9: ='6. DL finanšu_analīze'!M9*(1+'8. DL jut. analize-Fin.'!$F9) -> -1230469.7 | O9: ='6. DL finanšu_analīze'!N9*(1+'8. DL jut. analize-Fin.'!$F9) -> -1255711 | P9: ='6. DL finanšu_analīze'!O9*(1+'8. DL jut. analize-Fin.'!$F9) -> -1281470.4 | ... AL9: ='6. DL finanšu_analīze'!AK9*(1+'8. DL jut. analize-Fin.'!$F9) -> 0
B10: 1.4. | C10: Finansēšanas izmaksas | E10: EUR | F10: 0 | G10: =I10+NPV($E$3,J10:AL10) -> 0 | H10: =SUM(I10:AL10) -> 0 | I10: ='6. DL finanšu_analīze'!H10*(1+'8. DL jut. analize-Fin.'!$F10) -> 0 | J10: ='6. DL finanšu_analīze'!I10*(1+'8. DL jut. analize-Fin.'!$F10) -> 0 | K10: ='6. DL finanšu_analīze'!J10*(1+'8. DL jut. analize-Fin.'!$F10) -> 0 | L10: ='6. DL finanšu_analīze'!K10*(1+'8. DL jut. analize-Fin.'!$F10) -> 0 | M10: ='6. DL finanšu_analīze'!L10*(1+'8. DL jut. analize-Fin.'!$F10) -> 0 | N10: ='6. DL finanšu_analīze'!M10*(1+'8. DL jut. analize-Fin.'!$F10) -> 0 | O10: ='6. DL finanšu_analīze'!N10*(1+'8. DL jut. analize-Fin.'!$F10) -> 0 | P10: ='6. DL finanšu_analīze'!O10*(1+'8. DL jut. analize-Fin.'!$F10) -> 0 | ... AL10: ='6. DL finanšu_analīze'!AK10*(1+'8. DL jut. analize-Fin.'!$F10) -> 0
B11: 1.5. | C11: Aizņēmuma pamatsumma un procenti | E11: EUR | F11: 0 | G11: =I11+NPV($E$3,J11:AL11) -> 0 | H11: =SUM(I11:AL11) -> 0 | I11: ='6. DL finanšu_analīze'!H11*(1+'8. DL jut. analize-Fin.'!$F11) -> 0 | J11: ='6. DL finanšu_analīze'!I11*(1+'8. DL jut. analize-Fin.'!$F11) -> 0 | K11: ='6. DL finanšu_analīze'!J11*(1+'8. DL jut. analize-Fin.'!$F11) -> 0 | L11: ='6. DL finanšu_analīze'!K11*(1+'8. DL jut. analize-Fin.'!$F11) -> 0 | M11: ='6. DL finanšu_analīze'!L11*(1+'8. DL jut. analize-Fin.'!$F11) -> 0 | N11: ='6. DL finanšu_analīze'!M11*(1+'8. DL jut. analize-Fin.'!$F11) -> 0 | O11: ='6. DL finanšu_analīze'!N11*(1+'8. DL jut. analize-Fin.'!$F11) -> 0 | P11: ='6. DL finanšu_analīze'!O11*(1+'8. DL jut. analize-Fin.'!$F11) -> 0 | ... AL11: ='6. DL finanšu_analīze'!AK11*(1+'8. DL jut. analize-Fin.'!$F11) -> 0
B12: 1.6. | C12: Projektā ieguldītais kapitāls | E12: EUR | F12: 0 | G12: =I12+NPV($E$3,J12:AL12) -> -2307385.7 | H12: =SUM(I12:AL12) -> -2511333.7 | I12: ='6. DL finanšu_analīze'!H12*(1+'8. DL jut. analize-Fin.'!$F12) -> -62356.694 | J12: ='6. DL finanšu_analīze'!I12*(1+'8. DL jut. analize-Fin.'!$F12) -> -806825.12 | K12: ='6. DL finanšu_analīze'!J12*(1+'8. DL jut. analize-Fin.'!$F12) -> -688849.82 | L12: ='6. DL finanšu_analīze'!K12*(1+'8. DL jut. analize-Fin.'!$F12) -> -510897.32 | M12: ='6. DL finanšu_analīze'!L12*(1+'8. DL jut. analize-Fin.'!$F12) -> -442404.7 | N12: ='6. DL finanšu_analīze'!M12*(1+'8. DL jut. analize-Fin.'!$F12) -> 0 | O12: ='6. DL finanšu_analīze'!N12*(1+'8. DL jut. analize-Fin.'!$F12) -> 0 | P12: ='6. DL finanšu_analīze'!O12*(1+'8. DL jut. analize-Fin.'!$F12) -> 0 | ... AL12: ='6. DL finanšu_analīze'!AK12*(1+'8. DL jut. analize-Fin.'!$F12) -> 0
B13: 1.7. | C13: Neto naudas plūsma | E13: EUR | G13: =I13+NPV($E$3,J13:AL13) -> -9001140.6 | H13: =SUM(I13:AL13) -> -11673200 | I13: =SUM(I7:I12) -> -62356.694 | J13: =SUM(J7:J12) -> -806825.12 | K13: =SUM(K7:K12) -> -688849.82 | L13: =SUM(L7:L12) -> -510897.32 | M13: =SUM(M7:M12) -> -442404.7 | N13: =SUM(N7:N12) -> -1230469.7 | O13: =SUM(O7:O12) -> -1255711 | P13: =SUM(P7:P12) -> -1281470.4 | ... AL13: =SUM(AL7:AL12) -> 0
A15: 2 | B15: Rādītāju aprēķināšana | G15: Vērtība bez mainīgā izmaiņām | I15: Vērtība pēc mainīgā izmaiņām | K15: Novirze
B16: 2.1. | C16: Finansiālais kapitāla neto tagadnes ienesīgums (FNPVk) | G16: ='6. DL finanšu_analīze'!I16 -> -9001140.6 | I16: =G13 -> -9001140.6 | K16: =I16/G16-1 -> 0
A18: INVESTĪCIJU NAUDAS PLŪSMA
G19: NPV | I19: =I5 -> 1 | J19: =J5 -> 2 | K19: =K5 -> 3 | L19: =L5 -> 4 | M19: =M5 -> 5 | N19: =N5 -> 6 | O19: =O5 -> 7 | P19: =P5 -> 8 | ... AL19: =AL5 -> 30
A20: 3 | B20: Naudas plūsmas pozīcijas | E20: Gads | G20: Kopā | H20: Kopā | I20: =I6 -> 2025 | J20: =J6 -> 2026 | K20: =K6 -> 2027 | L20: =L6 -> 2028 | M20: =M6 -> 2029 | N20: =N6 -> 2030 | O20: =O6 -> 2031 | P20: =P6 -> 2032 | ... AL20: =AL6 -> 2054
B21: 3.1. | C21: Projekta ieņēmumi | E21: EUR | F21: 0 | G21: =I21+NPV($E$3,J21:AL21) -> 0 | H21: =SUM(I21:AL21) -> 0 | I21: ='6. DL finanšu_analīze'!H22*(1+'8. DL jut. analize-Fin.'!$F21) -> 0 | J21: ='6. DL finanšu_analīze'!I22*(1+'8. DL jut. analize-Fin.'!$F21) -> 0 | K21: ='6. DL finanšu_analīze'!J22*(1+'8. DL jut. analize-Fin.'!$F21) -> 0 | L21: ='6. DL finanšu_analīze'!K22*(1+'8. DL jut. analize-Fin.'!$F21) -> 0 | M21: ='6. DL finanšu_analīze'!L22*(1+'8. DL jut. analize-Fin.'!$F21) -> 0 | N21: ='6. DL finanšu_analīze'!M22*(1+'8. DL jut. analize-Fin.'!$F21) -> 0 | O21: ='6. DL finanšu_analīze'!N22*(1+'8. DL jut. analize-Fin.'!$F21) -> 0 | P21: ='6. DL finanšu_analīze'!O22*(1+'8. DL jut. analize-Fin.'!$F21) -> 0 | ... AL21: ='6. DL finanšu_analīze'!AK22*(1+'8. DL jut. analize-Fin.'!$F21) -> 0 | AM21: #REF!
B22: 3.2. | C22: Projekta darbības izmaksas | E22: EUR | F22: 0 | G22: =I22+NPV($E$3,J22:AL22) -> -6693754.9 | H22: =SUM(I22:AL22) -> -9161866.2 | I22: ='6. DL finanšu_analīze'!H23*(1+'8. DL jut. analize-Fin.'!$F22) -> 0 | J22: ='6. DL finanšu_analīze'!I23*(1+'8. DL jut. analize-Fin.'!$F22) -> 0 | K22: ='6. DL finanšu_analīze'!J23*(1+'8. DL jut. analize-Fin.'!$F22) -> 0 | L22: ='6. DL finanšu_analīze'!K23*(1+'8. DL jut. analize-Fin.'!$F22) -> 0 | M22: ='6. DL finanšu_analīze'!L23*(1+'8. DL jut. analize-Fin.'!$F22) -> 0 | N22: ='6. DL finanšu_analīze'!M23*(1+'8. DL jut. analize-Fin.'!$F22) -> -1230469.7 | O22: ='6. DL finanšu_analīze'!N23*(1+'8. DL jut. analize-Fin.'!$F22) -> -1255711 | P22: ='6. DL finanšu_analīze'!O23*(1+'8. DL jut. analize-Fin.'!$F22) -> -1281470.4 | ... AL22: ='6. DL finanšu_analīze'!AK23*(1+'8. DL jut. analize-Fin.'!$F22) -> 0 | AM22: #REF!
B23: 3.3. | C23: Investīciju izmaksas (bez neparedzētajiem izdevumiem un neatt.PVN) | E23: EUR | F23: 0 | G23: =I23+NPV($E$3,J23:AL23) -> -15382571 | H23: =SUM(I23:AL23) -> -16742224 | I23: ='6. DL finanšu_analīze'!H24*(1+'8. DL jut. analize-Fin.'!$F23) -> -415711.29 | J23: ='6. DL finanšu_analīze'!I24*(1+'8. DL jut. analize-Fin.'!$F23) -> -5378834.2 | K23: ='6. DL finanšu_analīze'!J24*(1+'8. DL jut. analize-Fin.'!$F23) -> -4592332.2 | L23: ='6. DL finanšu_analīze'!K24*(1+'8. DL jut. analize-Fin.'!$F23) -> -3405982.2 | M23: ='6. DL finanšu_analīze'!L24*(1+'8. DL jut. analize-Fin.'!$F23) -> -2949364.7 | N23: ='6. DL finanšu_analīze'!M24*(1+'8. DL jut. analize-Fin.'!$F23) -> 0 | O23: ='6. DL finanšu_analīze'!N24*(1+'8. DL jut. analize-Fin.'!$F23) -> 0 | P23: ='6. DL finanšu_analīze'!O24*(1+'8. DL jut. analize-Fin.'!$F23) -> 0 | ... AL23: ='6. DL finanšu_analīze'!AK24*(1+'8. DL jut. analize-Fin.'!$F23) -> 0
B24: 3.4. | C24: Projekta atlikusī vērtība | E24: EUR | F24: 0 | G24: =I24+NPV($E$3,J24:AL24) -> 0 | H24: =SUM(I24:AL24) -> 0 | I24: ='6. DL finanšu_analīze'!H26*(1+'8. DL jut. analize-Fin.'!$F24) -> 0 | J24: ='6. DL finanšu_analīze'!I26*(1+'8. DL jut. analize-Fin.'!$F24) -> 0 | K24: ='6. DL finanšu_analīze'!J26*(1+'8. DL jut. analize-Fin.'!$F24) -> 0 | L24: ='6. DL finanšu_analīze'!K26*(1+'8. DL jut. analize-Fin.'!$F24) -> 0 | M24: ='6. DL finanšu_analīze'!L26*(1+'8. DL jut. analize-Fin.'!$F24) -> 0 | N24: ='6. DL finanšu_analīze'!M26*(1+'8. DL jut. analize-Fin.'!$F24) -> 0 | O24: ='6. DL finanšu_analīze'!N26*(1+'8. DL jut. analize-Fin.'!$F24) -> 0 | P24: ='6. DL finanšu_analīze'!O26*(1+'8. DL jut. analize-Fin.'!$F24) -> 0 | ... AL24: ='6. DL finanšu_analīze'!AK26*(1+'8. DL jut. analize-Fin.'!$F24) -> 0
B25: 3.5. | C25: Neto naudas plūsma | E25: EUR | G25: =I25+NPV($E$3,J25:AL25) -> -22076326 | H25: =SUM(I25:AL25) -> -25904091 | I25: =I21+I22+I23+I24 -> -415711.29 | J25: =J21+J22+J23+J24 -> -5378834.2 | K25: =K21+K22+K23+K24 -> -4592332.2 | L25: =L21+L22+L23+L24 -> -3405982.2 | M25: =M21+M22+M23+M24 -> -2949364.7 | N25: =N21+N22+N23+N24 -> -1230469.7 | O25: =O21+O22+O23+O24 -> -1255711 | P25: =P21+P22+P23+P24 -> -1281470.4 | ... AL25: =AL21+AL22+AL23+AL24 -> 0
A27: 4 | B27: Rādītāju aprēķināšana | G27: Vērtība bez mainīgā izmaiņām | I27: Vērtība pēc mainīgā izmaiņām | K27: Novirze
B28: 4.1. | C28: ='6. DL finanšu_analīze'!C30 -> Investīciju finansiālais neto tagadnes ienesīgums (FNPVc) | G28: ='6. DL finanšu_analīze'!I30 -> -22076326 | I28: =G25 -> -22076326 | K28: =I28/G28-1 -> 0

Sheet PIV 2.piel.-1
A1: PIV 2.pielikums
A2: Finansēšanas plāns
A3: Finansējuma avots | B3: ='4.DL Finansiālā ilgtspēja'!E4 -> 2025 | D3: =IF(OR(B3>='Dati par projektu'!$C$17,B3="X"),"X",B3+1) -> 2026 | F3: =IF(OR(D3>='Dati par projektu'!$C$17,D3="X"),"X",D3+1) -> 2027 | H3: =IF(OR(F3>='Dati par projektu'!$C$17,F3="X"),"X",F3+1) -> 2028 | J3: =IF(OR(H3>='Dati par projektu'!$C$17,H3="X"),"X",H3+1) -> 2029 | L3: =IF(OR(J3>='Dati par projektu'!$C$17,J3="X"),"X",J3+1) -> X | N3: =IF(OR(L3>='Dati par projektu'!$C$17,L3="X"),"X",L3+1) -> X | P3: =IF(OR(N3>='Dati par projektu'!$C$17,N3="X"),"X",N3+1) -> X | R3: =IF(OR(P3>='Dati par projektu'!$C$17,P3="X"),"X",P3+1) -> X
B4: Summa | D4: Summa | F4: Summa | H4: Summa | J4: Summa | L4: Summa | N4: Summa | P4: Summa | R4: Summa | T4: Kopā | U4: %
A5: ='9. DL PI Fin.plans'!A5 -> Eiropas Reģionālās attīstības fonds | B5: =SUM(B29,B45,B61,B77,B93,B109,B125,B141,B159,B175,B191,B207,B225,B257,B241,B273) -> 353354.6 | D5: =SUM(D29,D45,D61,D77,D93,D109,D125,D141,D159,D175,D191,D207,D225,D257,D241,D273) -> 4572009 | F5: =SUM(F29,F45,F61,F77,F93,F109,F125,F141,F159,F175,F191,F207,F225,F257,F241,F273) -> 3903482.3 | H5: =SUM(H29,H45,H61,H77,H93,H109,H125,H141,H159,H175,H191,H207,H225,H257,H241,H273) -> 2895084.8 | J5: =SUM(J29,J45,J61,J77,J93,J109,J125,J141,J159,J175,J191,J207,J225,J257,J241,J273) -> 2506960 | L5: =SUM(L29,L45,L61,L77,L93,L109,L125,L141,L159,L175,L191,L207,L225,L257,L241,L273) -> 0 | N5: =SUM(N29,N45,N61,N77,N93,N109,N125,N141,N159,N175,N191,N207,N225,N257,N241,N273) -> 0 | P5: =SUM(P29,P45,P61,P77,P93,P109,P125,P141,P159,P175,P191,P207,P225,P257,P241,P273) -> 0 | R5: =SUM(R29,R45,R61,R77,R93,R109,R125,R141,R159,R175,R191,R207,R225,R257,R241,R273) -> 0 | T5: =SUM(B5:R5) -> 14230891 | U5: =T5/$T$12 -> 0.85
A6: Attiecināmais valsts budžeta finansējums | B6: =SUM(B30,B46,B62,B78,B94,B110,B126,B142,B160,B176,B192,B208,B226,B258,B242,B274) -> 62356.694 | D6: =SUM(D30,D46,D62,D78,D94,D110,D126,D142,D160,D176,D192,D208,D226,D258,D242,D274) -> 806825.12 | F6: =SUM(F30,F46,F62,F78,F94,F110,F126,F142,F160,F176,F192,F208,F226,F258,F242,F274) -> 688849.82 | H6: =SUM(H30,H46,H62,H78,H94,H110,H126,H142,H160,H176,H192,H208,H226,H258,H242,H274) -> 510897.32 | J6: =SUM(J30,J46,J62,J78,J94,J110,J126,J142,J160,J176,J192,J208,J226,J258,J242,J274) -> 442404.7 | L6: =SUM(L30,L46,L62,L78,L94,L110,L126,L142,L160,L176,L192,L208,L226,L258,L242,L274) -> 0 | N6: =SUM(N30,N46,N62,N78,N94,N110,N126,N142,N160,N176,N192,N208,N226,N258,N242,N274) -> 0 | P6: =SUM(P30,P46,P62,P78,P94,P110,P126,P142,P160,P176,P192,P208,P226,P258,P242,P274) -> 0 | R6: =SUM(R30,R46,R62,R78,R94,R110,R126,R142,R160,R176,R192,R208,R226,R258,R242,R274) -> 0 | T6: =SUM(B6:R6) -> 2511333.7 | U6: =T6/$T$12 -> 0.15
A7: Valsts budžeta dotācija pašvaldībām | B7: =SUM(B31,B47,B63,B79,B95,B111,B127,B143,B161,B177,B193,B209,B227,B259,B243,B275) -> 0 | D7: =SUM(D31,D47,D63,D79,D95,D111,D127,D143,D161,D177,D193,D209,D227,D259,D243,D275) -> 0 | F7: =SUM(F31,F47,F63,F79,F95,F111,F127,F143,F161,F177,F193,F209,F227,F259,F243,F275) -> 0 | H7: =SUM(H31,H47,H63,H79,H95,H111,H127,H143,H161,H177,H193,H209,H227,H259,H243,H275) -> 0 | J7: =SUM(J31,J47,J63,J79,J95,J111,J127,J143,J161,J177,J193,J209,J227,J259,J243,J275) -> 0 | L7: =SUM(L31,L47,L63,L79,L95,L111,L127,L143,L161,L177,L193,L209,L227,L259,L243,L275) -> 0 | N7: =SUM(N31,N47,N63,N79,N95,N111,N127,N143,N161,N177,N193,N209,N227,N259,N243,N275) -> 0 | P7: =SUM(P31,P47,P63,P79,P95,P111,P127,P143,P161,P177,P193,P209,P227,P259,P243,P275) -> 0 | R7: =SUM(R31,R47,R63,R79,R95,R111,R127,R143,R161,R177,R193,R209,R227,R259,R243,R275) -> 0 | T7: =SUM(B7:R7) -> 0 | U7: =T7/$T$12 -> 0
A8: Pašvaldības finansējums | B8: =SUM(B32,B48,B64,B80,B96,B112,B128,B144,B162,B178,B194,B210,B228,B260,B244,B276) -> 0 | D8: =SUM(D32,D48,D64,D80,D96,D112,D128,D144,D162,D178,D194,D210,D228,D260,D244,D276) -> 0 | F8: =SUM(F32,F48,F64,F80,F96,F112,F128,F144,F162,F178,F194,F210,F228,F260,F244,F276) -> 0 | H8: =SUM(H32,H48,H64,H80,H96,H112,H128,H144,H162,H178,H194,H210,H228,H260,H244,H276) -> 0 | J8: =SUM(J32,J48,J64,J80,J96,J112,J128,J144,J162,J178,J194,J210,J228,J260,J244,J276) -> 0 | L8: =SUM(L32,L48,L64,L80,L96,L112,L128,L144,L162,L178,L194,L210,L228,L260,L244,L276) -> 0 | N8: =SUM(N32,N48,N64,N80,N96,N112,N128,N144,N162,N178,N194,N210,N228,N260,N244,N276) -> 0 | P8: =SUM(P32,P48,P64,P80,P96,P112,P128,P144,P162,P178,P194,P210,P228,P260,P244,P276) -> 0 | R8: =SUM(R32,R48,R64,R80,R96,R112,R128,R144,R162,R178,R194,R210,R228,R260,R244,R276) -> 0 | T8: =SUM(B8:R8) -> 0 | U8: =T8/$T$12 -> 0
A9: Cits publiskais finansējums | B9: =SUM(B33,B49,B65,B81,B97,B113,B129,B145,B163,B179,B195,B211,B229,B261,B245,B277) -> 0 | D9: =SUM(D33,D49,D65,D81,D97,D113,D129,D145,D163,D179,D195,D211,D229,D261,D245,D277) -> 0 | F9: =SUM(F33,F49,F65,F81,F97,F113,F129,F145,F163,F179,F195,F211,F229,F261,F245,F277) -> 0 | H9: =SUM(H33,H49,H65,H81,H97,H113,H129,H145,H163,H179,H195,H211,H229,H261,H245,H277) -> 0 | J9: =SUM(J33,J49,J65,J81,J97,J113,J129,J145,J163,J179,J195,J211,J229,J261,J245,J277) -> 0 | L9: =SUM(L33,L49,L65,L81,L97,L113,L129,L145,L163,L179,L195,L211,L229,L261,L245,L277) -> 0 | N9: =SUM(N33,N49,N65,N81,N97,N113,N129,N145,N163,N179,N195,N211,N229,N261,N245,N277) -> 0 | P9: =SUM(P33,P49,P65,P81,P97,P113,P129,P145,P163,P179,P195,P211,P229,P261,P245,P277) -> 0 | R9: =SUM(R33,R49,R65,R81,R97,R113,R129,R145,R163,R179,R195,R211,R229,R261,R245,R277) -> 0 | T9: =SUM(B9:R9) -> 0 | U9: =T9/$T$12 -> 0
A10: Publiskās attiecināmās izmaksas | B10: =SUM(B5:B9) -> 415711.29 | D10: =SUM(D5:D9) -> 5378834.2 | F10: =SUM(F5:F9) -> 4592332.2 | H10: =SUM(H5:H9) -> 3405982.2 | J10: =SUM(J5:J9) -> 2949364.7 | L10: =SUM(L5:L9) -> 0 | N10: =SUM(N5:N9) -> 0 | P10: =SUM(P5:P9) -> 0 | R10: =SUM(R5:R9) -> 0 | T10: =SUM(B10:R10) -> 16742224 | U10: =T10/$T$12 -> 1
A11: Privātās attiecināmās izmaksas | B11: =SUM(B35,B51,B67,B83,B99,B115,B131,B147,B165,B181,B197,B213,B231,B263,B247,B279) -> 0 | D11: =SUM(D35,D51,D67,D83,D99,D115,D131,D147,D165,D181,D197,D213,D231,D263,D247,D279) -> 0 | F11: =SUM(F35,F51,F67,F83,F99,F115,F131,F147,F165,F181,F197,F213,F231,F263,F247,F279) -> 0 | H11: =SUM(H35,H51,H67,H83,H99,H115,H131,H147,H165,H181,H197,H213,H231,H263,H247,H279) -> 0 | J11: =SUM(J35,J51,J67,J83,J99,J115,J131,J147,J165,J181,J197,J213,J231,J263,J247,J279) -> 0 | L11: =SUM(L35,L51,L67,L83,L99,L115,L131,L147,L165,L181,L197,L213,L231,L263,L247,L279) -> 0 | N11: =SUM(N35,N51,N67,N83,N99,N115,N131,N147,N165,N181,N197,N213,N231,N263,N247,N279) -> 0 | P11: =SUM(P35,P51,P67,P83,P99,P115,P131,P147,P165,P181,P197,P213,P231,P263,P247,P279) -> 0 | R11: =SUM(R35,R51,R67,R83,R99,R115,R131,R147,R165,R181,R197,R213,R231,R263,R247,R279) -> 0 | T11: =SUM(B11:R11) -> 0 | U11: =T11/$T$12 -> 0
A12: Kopējās attiecināmās izmaksas | B12: =B10+B11 -> 415711.29 | D12: =D10+D11 -> 5378834.2 | F12: =F10+F11 -> 4592332.2 | H12: =H10+H11 -> 3405982.2 | J12: =J10+J11 -> 2949364.7 | L12: =L10+L11 -> 0 | N12: =N10+N11 -> 0 | P12: =P10+P11 -> 0 | R12: =R10+R11 -> 0 | T12: =SUM(B12:R12) -> 16742224 | U12: =T12/$T$12 -> 1 | W12: =IF(T12='10. DL PI Budz.kops.'!C23,"Dati pareizi","Kļūda") -> Kļūda
A13: Publiskās neattiecināmās izmaksas | B13: =SUM(B37,B53,B69,B85,B101,B117,B133,B149,B167,B183,B199,B215,B233,B265,B249,B281) -> 0 | D13: =SUM(D37,D53,D69,D85,D101,D117,D133,D149,D167,D183,D199,D215,D233,D265,D249,D281) -> 0 | F13: =SUM(F37,F53,F69,F85,F101,F117,F133,F149,F167,F183,F199,F215,F233,F265,F249,F281) -> 0 | H13: =SUM(H37,H53,H69,H85,H101,H117,H133,H149,H167,H183,H199,H215,H233,H265,H249,H281) -> 0 | J13: =SUM(J37,J53,J69,J85,J101,J117,J133,J149,J167,J183,J199,J215,J233,J265,J249,J281) -> 0 | L13: =SUM(L37,L53,L69,L85,L101,L117,L133,L149,L167,L183,L199,L215,L233,L265,L249,L281) -> 0 | N13: =SUM(N37,N53,N69,N85,N101,N117,N133,N149,N167,N183,N199,N215,N233,N265,N249,N281) -> 0 | P13: =SUM(P37,P53,P69,P85,P101,P117,P133,P149,P167,P183,P199,P215,P233,P265,P249,P281) -> 0 | R13: =SUM(R37,R53,R69,R85,R101,R117,R133,R149,R167,R183,R199,R215,R233,R265,R249,R281) -> 0 | T13: =SUM(B13:R13) -> 0 | U13: X
A14: Privātās neattiecināmās izmaksas | B14: =SUM(B38,B54,B70,B86,B102,B118,B134,B150,B168,B184,B200,B216,B234,B266,B250,B282) -> 0 | D14: =SUM(D38,D54,D70,D86,D102,D118,D134,D150,D168,D184,D200,D216,D234,D266,D250,D282) -> 0 | F14: =SUM(F38,F54,F70,F86,F102,F118,F134,F150,F168,F184,F200,F216,F234,F266,F250,F282) -> 0 | H14: =SUM(H38,H54,H70,H86,H102,H118,H134,H150,H168,H184,H200,H216,H234,H266,H250,H282) -> 0 | J14: =SUM(J38,J54,J70,J86,J102,J118,J134,J150,J168,J184,J200,J216,J234,J266,J250,J282) -> 0 | L14: =SUM(L38,L54,L70,L86,L102,L118,L134,L150,L168,L184,L200,L216,L234,L266,L250,L282) -> 0 | N14: =SUM(N38,N54,N70,N86,N102,N118,N134,N150,N168,N184,N200,N216,N234,N266,N250,N282) -> 0 | P14: =SUM(P38,P54,P70,P86,P102,P118,P134,P150,P168,P184,P200,P216,P234,P266,P250,P282) -> 0 | R14: =SUM(R38,R54,R70,R86,R102,R118,R134,R150,R168,R184,R200,R216,R234,R266,R250,R282) -> 0 | T14: =SUM(B14:R14) -> 0 | U14: X
A15: Neattiecināmās izmaksas kopā | B15: =SUM(B13:B14) -> 0 | D15: =SUM(D13:D14) -> 0 | F15: =SUM(F13:F14) -> 0 | H15: =SUM(H13:H14) -> 0 | J15: =SUM(J13:J14) -> 0 | L15: =SUM(L13:L14) -> 0 | N15: =SUM(N13:N14) -> 0 | P15: =SUM(P13:P14) -> 0 | R15: =SUM(R13:R14) -> 0 | T15: =SUM(B15:R15) -> 0 | U15: X | W15: =IF(T15='10. DL PI Budz.kops.'!D23,"Dati pareizi","Kļūda") -> Dati pareizi
A16: Kopējās izmaksas | B16: =B12+B15 -> 415711.29 | D16: =D12+D15 -> 5378834.2 | F16: =F12+F15 -> 4592332.2 | H16: =H12+H15 -> 3405982.2 | J16: =J12+J15 -> 2949364.7 | L16: =L12+L15 -> 0 | N16: =N12+N15 -> 0 | P16: =P12+P15 -> 0 | R16: =R12+R15 -> 0 | T16: =SUM(B16:R16) -> 16742224 | U16: X
A21: Projekta apstiprināšanas gads | B21: ='9. DL PI Fin.plans'!B21 -> 0 | D21: Norāda, ja projekta apstiprināšanas gads atšķiras no projekta uzsākšanas gada (pēc noklusējuma projekta uzsākšanas un apstiprināšanas gads sakrīt)
B23: =IF($B$21=0,1,IF($B$21>B27,0,IF($B$21=B27,2,1))) -> 1 | D23: =IF($B$21=0,1,IF($B$21>D27,0,IF($B$21=D27,2,1))) -> 1 | F23: =IF($B$21=0,1,IF($B$21>F27,0,IF($B$21=F27,2,1))) -> 1 | H23: =IF($B$21=0,1,IF($B$21>H27,0,IF($B$21=H27,2,1))) -> 1 | J23: =IF($B$21=0,1,IF($B$21>J27,0,IF($B$21=J27,2,1))) -> 1 | L23: =IF($B$21=0,1,IF($B$21>L27,0,IF($B$21=L27,2,1))) -> 1 | N23: =IF($B$21=0,1,IF($B$21>N27,0,IF($B$21=N27,2,1))) -> 1 | P23: =IF($B$21=0,1,IF($B$21>P27,0,IF($B$21=P27,2,1))) -> 1 | R23: =IF($B$21=0,1,IF($B$21>R27,0,IF($B$21=R27,2,1))) -> 1
A25: Projekta iesniedzēja un sadarbības partneru individuālie finansēšanas plāni
A26: Projekta iesniedzējs: | B26: ='Dati par projektu'!$C$4 -> Biedrība "Augstākās izglītības un zinātnes informācijas teholoģijas koplietošanas centrs" | F26: ='Dati par projektu'!$C$5 -> Tiešās pārvaldes iestāde | J26: Max ES atbalsts | L26: ='1.1.A. Iesniedzējs'!C24 -> 0.85 | N26: Projekta iesniedzēja darbībām, kas NAV saistītas ar komercdarbības atbalstu | W26: =IF(F26=Dati!$J$3,1,IF(F26=Dati!$J$4,2,IF(F26=Dati!$J$5,3,0))) -> 2
A27: Finansējuma avots | B27: =B$3 -> 2025 | D27: =D$3 -> 2026 | F27: =F$3 -> 2027 | H27: =H$3 -> 2028 | J27: =J$3 -> 2029 | L27: =L$3 -> X | N27: =N$3 -> X | P27: =P$3 -> X | R27: =R$3 -> X
B28: Summa | D28: Summa | F28: Summa | H28: Summa | J28: Summa | L28: Summa | N28: Summa | P28: Summa | R28: Summa | T28: Kopā | U28: %
A29: =A$5 -> Eiropas Reģionālās attīstības fonds | B29: =B36*$L$26 -> 353354.6 | D29: =D36*$L$26 -> 4572009 | F29: =F36*$L$26 -> 3903482.3 | H29: =H36*$L$26 -> 2895084.8 | J29: =J36*$L$26 -> 2506960 | L29: =L36*$L$26 -> 0 | N29: =N36*$L$26 -> 0 | P29: =P36*$L$26 -> 0 | R29: =R36*$L$26 -> 0 | T29: =SUM(B29:R29) -> 14230891 | U29: =T29/T$36 -> 0.85
A30: =A$6 -> Attiecināmais valsts budžeta finansējums | B30: =IF($W26=2,B36-B29,0) -> 62356.694 | D30: =IF($W26=2,D36-D29,0) -> 806825.12 | F30: =IF($W26=2,F36-F29,0) -> 688849.82 | H30: =IF($W26=2,H36-H29,0) -> 510897.32 | J30: =IF($W26=2,J36-J29,0) -> 442404.7 | L30: =IF($W26=2,L36-L29,0) -> 0 | N30: =IF($W26=2,N36-N29,0) -> 0 | P30: =IF($W26=2,P36-P29,0) -> 0 | R30: =IF($W26=2,R36-R29,0) -> 0 | T30: =SUM(B30:R30) -> 2511333.7 | U30: =T30/T$36 -> 0.15
A31: =A$7 -> Valsts budžeta dotācija pašvaldībām | B31: =IF($W26=1,(B29/0.85*0.15+B29)*0.15*'Dati par projektu'!$C$8,0) -> 0 | D31: =IF($W26=1,(D29/0.85*0.15+D29)*0.15*'Dati par projektu'!$C$8,0) -> 0 | F31: =IF($W26=1,(F29/0.85*0.15+F29)*0.15*'Dati par projektu'!$C$8,0) -> 0 | H31: =IF($W26=1,(H29/0.85*0.15+H29)*0.15*'Dati par projektu'!$C$8,0) -> 0 | J31: =IF($W26=1,(J29/0.85*0.15+J29)*0.15*'Dati par projektu'!$C$8,0) -> 0 | L31: =IF($W26=1,(L29/0.85*0.15+L29)*0.15*'Dati par projektu'!$C$8,0) -> 0 | N31: =IF($W26=1,(N29/0.85*0.15+N29)*0.15*'Dati par projektu'!$C$8,0) -> 0 | P31: =IF($W26=1,(P29/0.85*0.15+P29)*0.15*'Dati par projektu'!$C$8,0) -> 0 | R31: =IF($W26=1,(R29/0.85*0.15+R29)*0.15*'Dati par projektu'!$C$8,0) -> 0 | T31: =SUM(B31:R31) -> 0 | U31: =T31/T$36 -> 0
A32: =A$8 -> Pašvaldības finansējums | B32: =IF($W$26=1,B36-B29-B31,0) -> 0 | D32: =IF($W$26=1,D36-D29-D31,0) -> 0 | F32: =IF($W$26=1,F36-F29-F31,0) -> 0 | H32: =IF($W$26=1,H36-H29-H31,0) -> 0 | J32: =IF($W$26=1,J36-J29-J31,0) -> 0 | L32: =IF($W$26=1,L36-L29-L31,0) -> 0 | N32: =IF($W$26=1,N36-N29-N31,0) -> 0 | P32: =IF($W$26=1,P36-P29-P31,0) -> 0 | R32: =IF($W$26=1,R36-R29-R31,0) -> 0 | T32: =SUM(B32:R32) -> 0 | U32: =T32/T$36 -> 0
A33: =A$9 -> Cits publiskais finansējums | T33: =SUM(B33:R33) -> 0 | U33: =T33/T$36 -> 0
A34: =A$10 -> Publiskās attiecināmās izmaksas | B34: =SUM(B29:B33) -> 415711.29 | D34: =SUM(D29:D33) -> 5378834.2 | F34: =SUM(F29:F33) -> 4592332.2 | H34: =SUM(H29:H33) -> 3405982.2 | J34: =SUM(J29:J33) -> 2949364.7 | L34: =SUM(L29:L33) -> 0 | N34: =SUM(N29:N33) -> 0 | P34: =SUM(P29:P33) -> 0 | R34: =SUM(R29:R33) -> 0 | T34: =SUM(B34:R34) -> 16742224 | U34: =T34/T$36 -> 1
A35: =A$11 -> Privātās attiecināmās izmaksas | T35: =SUM(B35:R35) -> 0 | U35: =T35/T$36 -> 0
A36: =A$12 -> Kopējās attiecināmās izmaksas | B36: =IF(B23=2,'1.1.A. Iesniedzējs'!H24,'1.1.A. Iesniedzējs'!H24*B23) -> 415711.29 | D36: =IF(D23=2,'1.1.A. Iesniedzējs'!J24+'1.1.A. Iesniedzējs'!H24,'1.1.A. Iesniedzējs'!J24*D23) -> 5378834.2 | F36: =IF(F23=2,'1.1.A. Iesniedzējs'!L24+'1.1.A. Iesniedzējs'!J24+'1.1.A. Iesniedzējs'!H24,'1.1.A. Iesniedzējs'!L24*F23) -> 4592332.2 | H36: =IF(H23=2,'1.1.A. Iesniedzējs'!N24+'1.1.A. Iesniedzējs'!L24+'1.1.A. Iesniedzējs'!J24+'1.1.A. Iesniedzējs'!H24,'1.1.A. Iesniedzējs'!N24*H23) -> 3405982.2 | J36: =IF(J23=2,'1.1.A. Iesniedzējs'!P24,'1.1.A. Iesniedzējs'!P24*J23) -> 2949364.7 | L36: =IF(L23=2,'1.1.A. Iesniedzējs'!R24,'1.1.A. Iesniedzējs'!R24*L23) -> 0 | N36: =IF(N23=2,'1.1.A. Iesniedzējs'!T24,'1.1.A. Iesniedzējs'!T24*N23) -> 0 | P36: =IF(P23=2,'1.1.A. Iesniedzējs'!V24,'1.1.A. Iesniedzējs'!V24*P23) -> 0 | R36: =IF(R23=2,'1.1.A. Iesniedzējs'!X24,'1.1.A. Iesniedzējs'!X24*R23) -> 0 | T36: =SUM(B36:R36) -> 16742224 | U36: =T36/T$36 -> 1
A37: =A$13 -> Publiskās neattiecināmās izmaksas | B37: =IF(B23=2,'1.1.A. Iesniedzējs'!I24,'1.1.A. Iesniedzējs'!I24*B23) -> 0 | D37: =IF(D23=2,'1.1.A. Iesniedzējs'!K24+'1.1.A. Iesniedzējs'!I24,'1.1.A. Iesniedzējs'!K24*D23) -> 0 | F37: =IF(F23=2,'1.1.A. Iesniedzējs'!M24+'1.1.A. Iesniedzējs'!K24+'1.1.A. Iesniedzējs'!I24,'1.1.A. Iesniedzējs'!M24*F23) -> 0 | H37: =IF(H23=2,'1.1.A. Iesniedzējs'!O24+'1.1.A. Iesniedzējs'!M24+'1.1.A. Iesniedzējs'!K24+'1.1.A. Iesniedzējs'!I24,'1.1.A. Iesniedzējs'!O24*H23) -> 0 | J37: =IF(J23=2,'1.1.A. Iesniedzējs'!Q24,'1.1.A. Iesniedzējs'!Q24*J23) -> 0 | L37: =IF(L23=2,'1.1.A. Iesniedzējs'!S24,'1.1.A. Iesniedzējs'!S24*L23) -> 0 | N37: =IF(N23=2,'1.1.A. Iesniedzējs'!U24,'1.1.A. Iesniedzējs'!U24*N23) -> 0 | P37: =IF(P23=2,'1.1.A. Iesniedzējs'!W24,'1.1.A. Iesniedzējs'!W24*P23) -> 0 | R37: =IF(R23=2,'1.1.A. Iesniedzējs'!Y24,'1.1.A. Iesniedzējs'!Y24*R23) -> 0 | T37: =SUM(B37:R37) -> 0 | U37: X
A38: =A$14 -> Privātās neattiecināmās izmaksas | T38: =SUM(B38:R38) -> 0 | U38: X
A39: =A$15 -> Neattiecināmās izmaksas kopā | B39: =SUM(B37:B38) -> 0 | D39: =SUM(D37:D38) -> 0 | F39: =SUM(F37:F38) -> 0 | H39: =SUM(H37:H38) -> 0 | J39: =SUM(J37:J38) -> 0 | L39: =SUM(L37:L38) -> 0 | N39: =SUM(N37:N38) -> 0 | P39: =SUM(P37:P38) -> 0 | R39: =SUM(R37:R38) -> 0 | T39: =SUM(B39:R39) -> 0 | U39: X
A40: =A$16 -> Kopējās izmaksas | B40: =B36+B39 -> 415711.29 | D40: =D36+D39 -> 5378834.2 | F40: =F36+F39 -> 4592332.2 | H40: =H36+H39 -> 3405982.2 | J40: =J36+J39 -> 2949364.7 | L40: =L36+L39 -> 0 | N40: =N36+N39 -> 0 | P40: =P36+P39 -> 0 | R40: =R36+R39 -> 0 | T40: =SUM(B40:R40) -> 16742224 | U40: X
A42: Projekta iesniedzējs: | B42: ='Dati par projektu'!$C$4 -> Biedrība "Augstākās izglītības un zinātnes informācijas teholoģijas koplietošanas centrs" | F42: ='Dati par projektu'!$C$5 -> Tiešās pārvaldes iestāde | J42: Max ES atbalsts | L42: ='11. DL 4.pielikums'!$E$43 -> 0 | N42: Projekta iesniedzēja darbībām, kas IR saistītas ar komercdarbības atbalstu | W42: =IF(F42=Dati!$J$3,1,IF(F42=Dati!$J$4,2,IF(F42=Dati!$J$5,3,0))) -> 2
A43: Finansējuma avots | B43: =B$3 -> 2025 | D43: =D$3 -> 2026 | F43: =F$3 -> 2027 | H43: =H$3 -> 2028 | J43: =J$3 -> 2029 | L43: =L$3 -> X | N43: =N$3 -> X | P43: =P$3 -> X | R43: =R$3 -> X
B44: Summa | D44: Summa | F44: Summa | H44: Summa | J44: Summa | L44: Summa | N44: Summa | P44: Summa | R44: Summa | T44: Kopā | U44: %
A45: =A$5 -> Eiropas Reģionālās attīstības fonds | B45: =B52*$L$42 -> 0 | D45: =D52*$L$42 -> 0 | F45: =F52*$L$42 -> 0 | H45: =H52*$L$42 -> 0 | J45: =J52*$L$42 -> 0 | L45: =L52*$L$42 -> 0 | N45: =N52*$L$42 -> 0 | P45: =P52*$L$42 -> 0 | R45: =R52*$L$42 -> 0 | T45: =SUM(B45:R45) -> 0 | U45: =T45/T$52 -> #DIV/0!
A46: =A$6 -> Attiecināmais valsts budžeta finansējums | B46: =IF($W42=2,B52-B45,0) -> 0 | D46: =IF($W42=2,D52-D45,0) -> 0 | F46: =IF($W42=2,F52-F45,0) -> 0 | H46: =IF($W42=2,H52-H45,0) -> 0 | J46: =IF($W42=2,J52-J45,0) -> 0 | L46: =IF($W42=2,L52-L45,0) -> 0 | N46: =IF($W42=2,N52-N45,0) -> 0 | P46: =IF($W42=2,P52-P45,0) -> 0 | R46: =IF($W42=2,R52-R45,0) -> 0 | T46: =SUM(B46:R46) -> 0 | U46: =T46/T$52 -> #DIV/0!
A47: =A$7 -> Valsts budžeta dotācija pašvaldībām | B47: =IF($W42=1,(B45/0.85*0.15+B45)*0.15*'Dati par projektu'!$C$8,0) -> 0 | D47: =IF($W42=1,(D45/0.85*0.15+D45)*0.15*'Dati par projektu'!$C$8,0) -> 0 | F47: =IF($W42=1,(F45/0.85*0.15+F45)*0.15*'Dati par projektu'!$C$8,0) -> 0 | H47: =IF($W42=1,(H45/0.85*0.15+H45)*0.15*'Dati par projektu'!$C$8,0) -> 0 | J47: =IF($W42=1,(J45/0.85*0.15+J45)*0.15*'Dati par projektu'!$C$8,0) -> 0 | L47: =IF($W42=1,(L45/0.85*0.15+L45)*0.15*'Dati par projektu'!$C$8,0) -> 0 | N47: =IF($W42=1,(N45/0.85*0.15+N45)*0.15*'Dati par projektu'!$C$8,0) -> 0 | P47: =IF($W42=1,(P45/0.85*0.15+P45)*0.15*'Dati par projektu'!$C$8,0) -> 0 | R47: =IF($W42=1,(R45/0.85*0.15+R45)*0.15*'Dati par projektu'!$C$8,0) -> 0 | T47: =SUM(B47:R47) -> 0 | U47: =T47/T$52 -> #DIV/0!
A48: =A$8 -> Pašvaldības finansējums | B48: =IF($W42=1,B52-B45-B47-B51,0) -> 0 | D48: =IF($W42=1,D52-D45-D47-D51,0) -> 0 | F48: =IF($W42=1,F52-F45-F47-F51,0) -> 0 | H48: =IF($W42=1,H52-H45-H47-H51,0) -> 0 | J48: =IF($W42=1,J52-J45-J47-J51,0) -> 0 | L48: =IF($W42=1,L52-L45-L47-L51,0) -> 0 | N48: =IF($W42=1,N52-N45-N47-N51,0) -> 0 | P48: =IF($W42=1,P52-P45-P47-P51,0) -> 0 | R48: =IF($W42=1,R52-R45-R47-R51,0) -> 0 | T48: =SUM(B48:R48) -> 0 | U48: =T48/T$52 -> #DIV/0!
A49: =A$9 -> Cits publiskais finansējums | T49: =SUM(B49:R49) -> 0 | U49: =T49/T$52 -> #DIV/0!
A50: =A$10 -> Publiskās attiecināmās izmaksas | B50: =SUM(B45:B49) -> 0 | D50: =SUM(D45:D49) -> 0 | F50: =SUM(F45:F49) -> 0 | H50: =SUM(H45:H49) -> 0 | J50: =SUM(J45:J49) -> 0 | L50: =SUM(L45:L49) -> 0 | N50: =SUM(N45:N49) -> 0 | P50: =SUM(P45:P49) -> 0 | R50: =SUM(R45:R49) -> 0 | T50: =SUM(B50:R50) -> 0 | U50: =T50/T$52 -> #DIV/0!
A51: =A$11 -> Privātās attiecināmās izmaksas | B51: =B52*0.85-B45 -> 0 | D51: =D52*0.85-D45 -> 0 | F51: =F52*0.85-F45 -> 0 | H51: =H52*0.85-H45 -> 0 | J51: =J52*0.85-J45 -> 0 | L51: =L52*0.85-L45 -> 0 | N51: =N52*0.85-N45 -> 0 | P51: =P52*0.85-P45 -> 0 | R51: =R52*0.85-R45 -> 0 | T51: =SUM(B51:R51) -> 0 | U51: =T51/T$52 -> #DIV/0!
A52: =A$12 -> Kopējās attiecināmās izmaksas | B52: =IF(B23=2,'1.1.B. Iesniedzējs'!H27,'1.1.B. Iesniedzējs'!H27*B23) -> 0 | D52: =IF(D23=2,'1.1.B. Iesniedzējs'!J27+'1.1.B. Iesniedzējs'!H27,'1.1.B. Iesniedzējs'!J27*D23) -> 0 | F52: =IF(F23=2,'1.1.B. Iesniedzējs'!L27+'1.1.B. Iesniedzējs'!J27+'1.1.B. Iesniedzējs'!H27,'1.1.B. Iesniedzējs'!L27*F23) -> 0 | H52: =IF(H23=2,'1.1.B. Iesniedzējs'!N27+'1.1.B. Iesniedzējs'!L27+'1.1.B. Iesniedzējs'!J27+'1.1.B. Iesniedzējs'!H27,'1.1.B. Iesniedzējs'!N27*H23) -> 0 | J52: =IF(J23=2,'1.1.B. Iesniedzējs'!P27,'1.1.B. Iesniedzējs'!P27*J23) -> 0 | L52: =IF(L23=2,'1.1.B. Iesniedzējs'!R27,'1.1.B. Iesniedzējs'!R27*L23) -> 0 | N52: =IF(N23=2,'1.1.B. Iesniedzējs'!T27,'1.1.B. Iesniedzējs'!T27*N23) -> 0 | P52: =IF(P23=2,'1.1.B. Iesniedzējs'!V27,'1.1.B. Iesniedzējs'!V27*P23) -> 0 | R52: =IF(R23=2,'1.1.B. Iesniedzējs'!X27,'1.1.B. Iesniedzējs'!X27*R23) -> 0 | T52: =SUM(B52:R52) -> 0 | U52: =T52/T$52 -> #DIV/0!
A53: =A$13 -> Publiskās neattiecināmās izmaksas | T53: =SUM(B53:R53) -> 0 | U53: X
A54: =A$14 -> Privātās neattiecināmās izmaksas | B54: =IF(B23=2,'1.1.B. Iesniedzējs'!I27,'1.1.B. Iesniedzējs'!I27*B23) -> 0 | D54: =IF(D23=2,'1.1.B. Iesniedzējs'!K27+'1.1.B. Iesniedzējs'!I27,'1.1.B. Iesniedzējs'!K27*D23) -> 0 | F54: =IF(F23=2,'1.1.B. Iesniedzējs'!M27+'1.1.B. Iesniedzējs'!K27+'1.1.B. Iesniedzējs'!I27,'1.1.B. Iesniedzējs'!M27*F23) -> 0 | H54: =IF(H23=2,'1.1.B. Iesniedzējs'!O27+'1.1.B. Iesniedzējs'!M27+'1.1.B. Iesniedzējs'!K27+'1.1.B. Iesniedzējs'!I27,'1.1.B. Iesniedzējs'!O27*H23) -> 0 | J54: =IF(J23=2,'1.1.B. Iesniedzējs'!Q27,'1.1.B. Iesniedzējs'!Q27*J23) -> 0 | L54: =IF(L23=2,'1.1.B. Iesniedzējs'!S27,'1.1.B. Iesniedzējs'!S27*L23) -> 0 | N54: =IF(N23=2,'1.1.B. Iesniedzējs'!U27,'1.1.B. Iesniedzējs'!U27*N23) -> 0 | P54: =IF(P23=2,'1.1.B. Iesniedzējs'!W27,'1.1.B. Iesniedzējs'!W27*P23) -> 0 | R54: =IF(R23=2,'1.1.B. Iesniedzējs'!Y27,'1.1.B. Iesniedzējs'!Y27*R23) -> 0 | T54: =SUM(B54:R54) -> 0 | U54: X
A55: =A$15 -> Neattiecināmās izmaksas kopā | B55: =SUM(B53:B54) -> 0 | D55: =SUM(D53:D54) -> 0 | F55: =SUM(F53:F54) -> 0 | H55: =SUM(H53:H54) -> 0 | J55: =SUM(J53:J54) -> 0 | L55: =SUM(L53:L54) -> 0 | N55: =SUM(N53:N54) -> 0 | P55: =SUM(P53:P54) -> 0 | R55: =SUM(R53:R54) -> 0 | T55: =SUM(B55:R55) -> 0 | U55: X
A56: =A$16 -> Kopējās izmaksas | B56: =B52+B55 -> 0 | D56: =D52+D55 -> 0 | F56: =F52+F55 -> 0 | H56: =H52+H55 -> 0 | J56: =J52+J55 -> 0 | L56: =L52+L55 -> 0 | N56: =N52+N55 -> 0 | P56: =P52+P55 -> 0 | R56: =R52+R55 -> 0 | T56: =SUM(B56:R56) -> 0 | U56: X
A58: Projekta iesniedzējs: | B58: ='Dati par projektu'!$C$4 -> Biedrība "Augstākās izglītības un zinātnes informācijas teholoģijas koplietošanas centrs" | F58: ='Dati par projektu'!$C$5 -> Tiešās pārvaldes iestāde | J58: Max ES atbalsts | L58: ='1.1.B. Iesniedzējs'!C14 -> 1 | N58: De minimis atbalsts | W58: =IF(F58=Dati!$J$3,1,IF(F58=Dati!$J$4,2,IF(F58=Dati!$J$5,3,0))) -> 2
A59: Finansējuma avots | B59: =B$3 -> 2025 | D59: =D$3 -> 2026 | F59: =F$3 -> 2027 | H59: =H$3 -> 2028 | J59: =J$3 -> 2029 | L59: =L$3 -> X | N59: =N$3 -> X | P59: =P$3 -> X | R59: =R$3 -> X
B60: Summa | D60: Summa | F60: Summa | H60: Summa | J60: Summa | L60: Summa | N60: Summa | P60: Summa | R60: Summa | T60: Kopā | U60: %
A61: =A$5 -> Eiropas Reģionālās attīstības fonds | B61: =B68*$L$58 -> 0 | D61: =D68*$L$58 -> 0 | F61: =F68*$L$58 -> 0 | H61: =H68*$L$58 -> 0 | J61: =J68*$L$58 -> 0 | L61: =L68*$L$58 -> 0 | N61: =N68*$L$58 -> 0 | P61: =P68*$L$58 -> 0 | R61: =R68*$L$58 -> 0 | T61: =SUM(B61:R61) -> 0 | U61: =T61/$T$68 -> #DIV/0!
A62: =A$6 -> Attiecināmais valsts budžeta finansējums | T62: =SUM(B62:R62) -> 0 | U62: =T62/$T$68 -> #DIV/0!
A63: =A$7 -> Valsts budžeta dotācija pašvaldībām | T63: =SUM(B63:R63) -> 0 | U63: =T63/$T$68 -> #DIV/0!
A64: =A$8 -> Pašvaldības finansējums | T64: =SUM(B64:R64) -> 0 | U64: =T64/$T$68 -> #DIV/0!
A65: =A$9 -> Cits publiskais finansējums | T65: =SUM(B65:R65) -> 0 | U65: =T65/$T$68 -> #DIV/0!
A66: =A$10 -> Publiskās attiecināmās izmaksas | B66: =SUM(B61:B65) -> 0 | D66: =SUM(D61:D65) -> 0 | F66: =SUM(F61:F65) -> 0 | H66: =SUM(H61:H65) -> 0 | J66: =SUM(J61:J65) -> 0 | L66: =SUM(L61:L65) -> 0 | N66: =SUM(N61:N65) -> 0 | P66: =SUM(P61:P65) -> 0 | R66: =SUM(R61:R65) -> 0 | T66: =SUM(B66:R66) -> 0 | U66: =T66/$T$68 -> #DIV/0!
A67: =A$11 -> Privātās attiecināmās izmaksas | T67: =SUM(B67:R67) -> 0 | U67: =T67/$T$68 -> #DIV/0!
A68: =A$12 -> Kopējās attiecināmās izmaksas | B68: =IF(B$23=2,'1.1.B. Iesniedzējs'!H28,'1.1.B. Iesniedzējs'!H28*B$23) -> 0 | D68: =IF(D$23=2,'1.1.B. Iesniedzējs'!J28+'1.1.B. Iesniedzējs'!H28,'1.1.B. Iesniedzējs'!J28*D$23) -> 0 | F68: =IF(F$23=2,'1.1.B. Iesniedzējs'!L28+'1.1.B. Iesniedzējs'!J28+'1.1.B. Iesniedzējs'!H28,'1.1.B. Iesniedzējs'!L28*F$23) -> 0 | H68: =IF(H$23=2,'1.1.B. Iesniedzējs'!N28+'1.1.B. Iesniedzējs'!L28+'1.1.B. Iesniedzējs'!J28+'1.1.B. Iesniedzējs'!H28,'1.1.B. Iesniedzējs'!N28*H$23) -> 0 | J68: =IF(J$23=2,'1.1.B. Iesniedzējs'!P28,'1.1.B. Iesniedzējs'!P28*J$23) -> 0 | L68: =IF(L$23=2,'1.1.B. Iesniedzējs'!R28,'1.1.B. Iesniedzējs'!R28*L$23) -> 0 | N68: =IF(N$23=2,'1.1.B. Iesniedzējs'!T28,'1.1.B. Iesniedzējs'!T28*N$23) -> 0 | P68: =IF(P$23=2,'1.1.B. Iesniedzējs'!V28,'1.1.B. Iesniedzējs'!V28*P$23) -> 0 | R68: =IF(R$23=2,'1.1.B. Iesniedzējs'!X28,'1.1.B. Iesniedzējs'!X28*R$23) -> 0 | T68: =SUM(B68:R68) -> 0 | U68: =T68/$T$68 -> #DIV/0!
A69: =A$13 -> Publiskās neattiecināmās izmaksas | T69: =SUM(B69:R69) -> 0 | U69: X
A70: =A$14 -> Privātās neattiecināmās izmaksas | B70: =IF(B$23=2,'1.1.B. Iesniedzējs'!I28,'1.1.B. Iesniedzējs'!I28*B$23) -> 0 | D70: =IF(D$23=2,'1.1.B. Iesniedzējs'!K28+'1.1.B. Iesniedzējs'!I28,'1.1.B. Iesniedzējs'!K28*D$23) -> 0 | F70: =IF(F$23=2,'1.1.B. Iesniedzējs'!M28+'1.1.B. Iesniedzējs'!K28+'1.1.B. Iesniedzējs'!I28,'1.1.B. Iesniedzējs'!M28*F$23) -> 0 | H70: =IF(H$23=2,'1.1.B. Iesniedzējs'!O28+'1.1.B. Iesniedzējs'!M28+'1.1.B. Iesniedzējs'!K28+'1.1.B. Iesniedzējs'!I28,'1.1.B. Iesniedzējs'!O28*H$23) -> 0 | J70: =IF(J$23=2,'1.1.B. Iesniedzējs'!Q28,'1.1.B. Iesniedzējs'!Q28*J$23) -> 0 | L70: =IF(L$23=2,'1.1.B. Iesniedzējs'!S28,'1.1.B. Iesniedzējs'!S28*L$23) -> 0 | N70: =IF(N$23=2,'1.1.B. Iesniedzējs'!U28,'1.1.B. Iesniedzējs'!U28*N$23) -> 0 | P70: =IF(P$23=2,'1.1.B. Iesniedzējs'!W28,'1.1.B. Iesniedzējs'!W28*P$23) -> 0 | R70: =IF(R$23=2,'1.1.B. Iesniedzējs'!Y28,'1.1.B. Iesniedzējs'!Y28*R$23) -> 0 | T70: =SUM(B70:R70) -> 0 | U70: X
A71: =A$15 -> Neattiecināmās izmaksas kopā | B71: =SUM(B69:B70) -> 0 | D71: =SUM(D69:D70) -> 0 | F71: =SUM(F69:F70) -> 0 | H71: =SUM(H69:H70) -> 0 | J71: =SUM(J69:J70) -> 0 | L71: =SUM(L69:L70) -> 0 | N71: =SUM(N69:N70) -> 0 | P71: =SUM(P69:P70) -> 0 | R71: =SUM(R69:R70) -> 0 | T71: =SUM(B71:R71) -> 0 | U71: X
A72: =A$16 -> Kopējās izmaksas | B72: =B68+B71 -> 0 | D72: =D68+D71 -> 0 | F72: =F68+F71 -> 0 | H72: =H68+H71 -> 0 | J72: =J68+J71 -> 0 | L72: =L68+L71 -> 0 | N72: =N68+N71 -> 0 | P72: =P68+P71 -> 0 | R72: =R68+R71 -> 0 | T72: =SUM(B72:R72) -> 0 | U72: X
A74: Projekta iesniedzējs: | B74: ='Dati par projektu'!$C$4 -> Biedrība "Augstākās izglītības un zinātnes informācijas teholoģijas koplietošanas centrs" | F74: ='Dati par projektu'!$C$5 -> Tiešās pārvaldes iestāde | J74: Max ES atbalsts | L74: ='1.1.C. Iesniedzējs'!C24 -> 0.85 | N74: Projekta iesniedzēja darbībām, kas IR saistītas ar komercdarbības atbalstu (VTNP) | W74: =IF(F74=Dati!$J$3,1,IF(F74=Dati!$J$4,2,IF(F74=Dati!$J$5,3,0))) -> 2
A75: Finansējuma avots | B75: =B$3 -> 2025 | D75: =D$3 -> 2026 | F75: =F$3 -> 2027 | H75: =H$3 -> 2028 | J75: =J$3 -> 2029 | L75: =L$3 -> X | N75: =N$3 -> X | P75: =P$3 -> X | R75: =R$3 -> X
B76: Summa | D76: Summa | F76: Summa | H76: Summa | J76: Summa | L76: Summa | N76: Summa | P76: Summa | R76: Summa | T76: Kopā | U76: %
A77: =A$5 -> Eiropas Reģionālās attīstības fonds | B77: =B84*$L$74 -> 0 | D77: =D84*$L$74 -> 0 | F77: =F84*$L$74 -> 0 | H77: =H84*$L$74 -> 0 | J77: =J84*$L$74 -> 0 | L77: =L84*$L$74 -> 0 | N77: =N84*$L$74 -> 0 | P77: =P84*$L$74 -> 0 | R77: =R84*$L$74 -> 0 | T77: =SUM(B77:R77) -> 0 | U77: =T77/$T$84 -> #DIV/0!
A78: =A$6 -> Attiecināmais valsts budžeta finansējums | B78: =IF($W74=2,B84-B77,0) -> 0 | D78: =IF($W74=2,D84-D77,0) -> 0 | F78: =IF($W74=2,F84-F77,0) -> 0 | H78: =IF($W74=2,H84-H77,0) -> 0 | J78: =IF($W74=2,J84-J77,0) -> 0 | L78: =IF($W74=2,L84-L77,0) -> 0 | N78: =IF($W74=2,N84-N77,0) -> 0 | P78: =IF($W74=2,P84-P77,0) -> 0 | R78: =IF($W74=2,R84-R77,0) -> 0 | T78: =SUM(B78:R78) -> 0 | U78: =T78/$T$84 -> #DIV/0!
