Workbook
Name iesniedzejs: [1]HIDDEN!$A$2:$A$124
Name men: [1]HIDDEN!$P$1:$P$13
Name nozare1: [1]HIDDEN!$N$2:$O$7
Name nozareIZV: [1]HIDDEN!$N$2:$N$7
Name SAM: [1]HIDDEN!$H$2:$H$4

Sheet Dati
A1: Nosaukums | C1: Izvēlieties dienu | D1: Izvēlieties mēnesi | E1: Izvēlieties gadu | G1: Izvēlieties nozari | H1: Pārskata periods (gadi) | J1: Projekta iesniedzēja un Sadarbības partnera veids | L1: ES fonds | N1: ES fonda atbalsta likme | P1: SAM | R1: Papildnosacījums | T1: VBD likmes
G2: Dzelzceļš | H2: 30
A3: Aizkraukles novada pašvaldība | C3: 1 | D3: janvāris | E3: 2019 | G3: Ūdensapgāde/sanitārija | H3: 30 | I3: 1 | J3: Pašvaldība vai tās izveidota iestāde | L3: Kohēzijas fonds | N3: 1 | P3: 1.1.1.6 | R3: JĀ | T3: 0.1
A4: Alūksnes novada pašvaldība | C4: 2 | D4: februāris | E4: 2020 | G4: Ceļi | H4: 25-30 | I4: 2 | J4: Tiešās pārvaldes iestāde | L4: Atveseļošanās fonds | N4: 0.85 | R4: NĒ | T4: 0.15
A5: Augšdaugavas novada pašvaldība | C5: 3 | D5: marts | E5: 2021 | G5: Atkritumu apsaimniekošana | H5: 25-30 | I5: 3 | J5: Kapitālsabiedrība | L5: Eiropas Reģionālās attīstības fonds | N5: 0.55 | T5: 0.2
A6: Ādažu novada pašvaldība | C6: 4 | D6: aprīlis | E6: 2022 | G6: Ostas un lidostas | H6: 25 | J6: Speciālās ekonomiskās zonas pārvalde | L6: Taisnīgas pārkārtošanās fonds | N6: 0.5 | T6: 0.25
A7: Balvu novada pašvaldība | C7: 5 | D7: maijs | E7: 2023 | G7: Pilsētas transports | H7: 25-30 | J7: Brīvostas pārvalde | L7: Eiropas Sociālais fonds plus | N7: 0.45 | T7: 0.3
A8: Bauskas novada pašvaldība | C8: 6 | D8: jūnijs | E8: 2024 | G8: Enerģija | H8: 15-25 | J8: Tiesu varas institūcija | N8: 0
A9: Cēsu novada pašvaldība | C9: 7 | D9: jūlijs | E9: 2025 | G9: Pētniecība un inovācija | H9: 15-25 | J9: Biedrība ar valsts deleģējumu
A10: Daugavpils valstspilsētas pašvaldība | C10: 8 | D10: augusts | E10: 2026 | G10: Platjosla | H10: 15-20
A11: Dienvidkurzemes novada pašvaldība | C11: 9 | D11: septembris | E11: 2027 | G11: Uzņēmējdarbības infrastruktūra | H11: 15-25
A12: Dobeles novada pašvaldība | C12: 10 | D12: oktobris | E12: 2028 | G12: Citas nozares | H12: 10-15
A13: Gulbenes novada pašvaldība | C13: 11 | D13: novembris | E13: 2029
A14: Jelgavas valstspilsētas pašvaldība | C14: 12 | D14: decembris | E14: 2030
A15: Jelgavas novada pašvaldība | C15: 13
A16: Jēkabpils novada pašvaldība | C16: 14
A17: Jūrmala valstspilsētas pašvaldība | C17: 15
A18: Kārsavas novada pašvaldība | C18: 16
A19: Kuldīgas novada pašvaldība | C19: 17
A20: Ķekavas novada pašvaldība | C20: 18
A21: Liepājas valstspilsētas pašvaldība | C21: 19
A22: Limbažu novada pašvaldība | C22: 20
A23: Līvānu novada pašvaldība | C23: 21
A24: Ludzas novada pašvaldība | C24: 22
A25: Madonas novada pašvaldība | C25: 23
A26: Mārupes novada pašvaldība | C26: 24
... A33: Ropažu novada pašvaldība | C33: 31
A34: Salaspils novada pašvaldība
A35: Saldus novada pašvaldība
A36: Saulkrastu novada pašvaldība
A37: Siguldas novada pašvaldība
A38: Smiltenes novada pašvaldība
A39: Talsu novada pašvaldība
A40: Tukuma novada pašvaldība
A41: Valkas novada pašvaldība
A42: Valmieras novada pašvaldība
A43: Varakļānu novada pašvaldība
A44: Ventspils valstspilsētas pašvaldība
A45: Ventspils novada pašvaldība

Sheet Dati par projektu
A1: IZMAKSU UN IEGUVUMU ANALĪZE
A2: 1.Dati par projektu
A4: 1.1. | B4: Projekta iesniedzējs: | C4: Biedrība "Augstākās izglītības un zinātnes informācijas teholoģijas koplietošanas centrs"
A5: 1.2. | B5: Projekta iesniedzēja veids: | C5: Tiešās pārvaldes iestāde
A6: 1.3. | B6: Projekta nosaukums: | C6: Zinātniskās darbības digitalizācija un dalība Eiropas Atvērtajā zinātnes mākonī
A7: 1.4. | B7: Specifiskais atbalsta mērķis: | C7: 1.1.1.6
A8: 1.5. | B8: Projekta iesniedzēja valsts budžeta dotācijas īpatsvars: | C8: 0.15 | F8: Saite valsts budžeta dotācijas noteikšanai (VARAM vietnē)
A9: 1.6. | B9: Sadarbības partneri:
A13: 1.7. | B13: Projekta uzsākšanas datums: | C13: 1 | D13: oktobris | E13: 2025
A14: 1.8. | B14: Projekta iesniegšanas datums: | C14: 1 | D14: jūlijs | E14: 2025
A15: 1.9. | B15: Nozare: | C15: Pētniecība un inovācija
A16: 1.10. | B16: Pārskata periods (projekta dzīves cikls) (gadi): | C16: 12 | F16: Saite uz Eiropas Komisijas izstrādātajām vadlīnijām “Guide to Cost-Benefit Analysis of Investment Projects Economic appraisal tool for Cohesion Policy 2014 – 2020”
A17: 1.11. | B17: SAM MK not.noteiktais maksimālais projekta īstenošanas ilgums | C17: 2029
B18: Krāsu apzīmējumi:
B19: 0 | C19: Dati jāievada projekta iesniedzējam
B20: 0 | C20: Dati tiek aprēķināti automātiski

Sheet 1.1.A. Iesniedzējs
A1: DARBA LAPA Nr.1.1.A. | D1: Aizpilda par projekta iesniedzēja darbībām, kas NAV saistītas ar komercdarbības atbalstu
A4: BUDŽETS (+) | H4: Iesniedzējs un partneri
A5: Nr. | B5: Izmaksu pozīcijas nosaukums | C5: Maksimālā ES fondu līdzfin. atbalsta likme (%) | D5: Kopējā summa | F5: Izmaksas kopā | H5: ='Dati par projektu'!E13 -> 2025 | J5: =IF(OR(H5>='Dati par projektu'!$C$17,H5="X"),"X",H5+1) -> 2026 | L5: =IF(OR(J5>='Dati par projektu'!$C$17,J5="X"),"X",J5+1) -> 2027 | N5: =IF(OR(L5>='Dati par projektu'!$C$17,L5="X"),"X",L5+1) -> 2028 | P5: =IF(OR(N5>='Dati par projektu'!$C$17,N5="X"),"X",N5+1) -> 2029 | R5: =IF(OR(P5>='Dati par projektu'!$C$17,P5="X"),"X",P5+1) -> X | T5: =IF(OR(R5>='Dati par projektu'!$C$17,R5="X"),"X",R5+1) -> X | V5: =IF(OR(T5>='Dati par projektu'!$C$17,T5="X"),"X",T5+1) -> X | X5: =IF(OR(V5>='Dati par projektu'!$C$17,V5="X"),"X",V5+1) -> X | AV5: 0.55
B6: Projekta netiešās izmaksas kopā: | D6: EUR | E6: % | F6: attiecināmas izmaksas | G6: ārpusprojekta izmaksas | H6: attiecināmas izmaksas | I6: ārpusprojekta izmaksas | J6: attiecināmas izmaksas | K6: ārpusprojekta izmaksas | L6: attiecināmas izmaksas | M6: ārpusprojekta izmaksas | N6: attiecināmas izmaksas | O6: ārpusprojekta izmaksas | P6: attiecināmas izmaksas | Q6: ārpusprojekta izmaksas | R6: attiecināmas izmaksas | S6: ārpusprojekta izmaksas | T6: attiecināmas izmaksas | U6: ārpusprojekta izmaksas | V6: attiecināmas izmaksas | W6: ārpusprojekta izmaksas | X6: attiecināmas izmaksas | Y6: ārpusprojekta izmaksas | AV6: 0.45
A7: 1 | B7: Projekta izmaksas saskaņā ar vienoto izmaksu likmi (netiešās izmaksas) | C7: 0.85 | D7: =F7+G7 -> 1013092.2 | E7: =D7/$D$24 -> 0.060511204 | F7: =ROUND(H7+J7+L7+N7+P7+R7+T7+V7+X7,2) -> 1013092.2 | G7: =ROUND(I7+K7+M7+O7+Q7+S7+U7+W7+Y7,2) -> 0 | H7: 50571.038 | J7: 240630.28 | L7: 240630.28 | N7: 240630.28 | P7: 240630.28 | AV7: 0.35
A8: 2 | B8: Projekta vadības izmaksas | C8: 0.85 | D8: =F8+G8 -> 369007.01 | E8: =D8/$D$24 -> 0.022040501 | F8: =ROUND(H8+J8+L8+N8+P8+R8+T8+V8+X8,2) -> 369007.01 | G8: =ROUND(I8+K8+M8+O8+Q8+S8+U8+W8+Y8,2) -> 0 | H8: 41000.779 | J8: 82001.558 | L8: 82001.558 | N8: 82001.558 | P8: 82001.558
A9: 3 | B9: Projekta īstenošanas personāla izmaksas | C9: 0.85 | D9: =F9+G9 -> 6384940.7 | E9: =D9/$D$24 -> 0.38136753 | F9: =ROUND(H9+J9+L9+N9+P9+R9+T9+V9+X9,2) -> 6384940.7 | G9: =ROUND(I9+K9+M9+O9+Q9+S9+U9+W9+Y9,2) -> 0 | H9: 296139.47 | J9: 1522200.3 | L9: 1522200.3 | N9: 1522200.3 | P9: 1522200.3
A10: 4 | B10: Mērķa grupas nodrošinājuma izmaksas | C10: 0.85 | D10: =F10+G10 -> 0 | E10: =D10/$D$24 -> 0 | F10: =ROUND(H10+J10+L10+N10+P10+R10+T10+V10+X10,2) -> 0 | G10: =ROUND(I10+K10+M10+O10+Q10+S10+U10+W10+Y10,2) -> 0
A11: 5 | B11: Informācijas sistēmu izstrādes, ieviešanas un kvalitātes kontroles izmaksas | C11: 0.85 | D11: =F11+G11 -> 1680161.6 | E11: =D11/$D$24 -> 0.10035474 | F11: =ROUND(H11+J11+L11+N11+P11+R11+T11+V11+X11,2) -> 1680161.6 | G11: =ROUND(I11+K11+M11+O11+Q11+S11+U11+W11+Y11,2) -> 0 | H11: 0 | J11: 606850.3 | L11: 540300 | N11: 291000 | P11: 242011.25
A12: 6 | B12: Materiālu, aprīkojuma un iekārtu izmaksas | C12: 0.85 | D12: =F12+G12 -> 4375753.9 | E12: =D12/$D$24 -> 0.26136037 | F12: =ROUND(H12+J12+L12+N12+P12+R12+T12+V12+X12,2) -> 4375753.9 | G12: =ROUND(I12+K12+M12+O12+Q12+S12+U12+W12+Y12,2) -> 0 | H12: 15000 | J12: 2014801.4 | L12: 1348900 | N12: 608500 | P12: 388552.5
A13: 7 | B13: Būvniecības izmaksas | C13: 0.85 | D13: =F13+G13 -> 0 | E13: =D13/$D$24 -> 0 | F13: =ROUND(H13+J13+L13+N13+P13+R13+T13+V13+X13,2) -> 0 | G13: =ROUND(I13+K13+M13+O13+Q13+S13+U13+W13+Y13,2) -> 0
A14: 7.1.
A15: 7.2.
A16: 8 | B16: Patenti, licences utml. | C16: 0.85 | D16: =F16+G16 -> 2284661.5 | E16: =D16/$D$24 -> 0.13646105 | F16: =ROUND(H16+J16+L16+N16+P16+R16+T16+V16+X16,2) -> 2284661.5 | G16: =ROUND(I16+K16+M16+O16+Q16+S16+U16+W16+Y16,2) -> 0 | H16: 0 | J16: 792350.3 | L16: 732300 | N16: 405500 | P16: 354511.25
A17: 9 | B17: Nekustamā īpašuma (piemēram, ēku un zemes) iegādes izmaksas | C17: 0.85 | D17: =F17+G17 -> 0 | E17: =D17/$D$24 -> 0 | F17: =ROUND(H17+J17+L17+N17+P17+R17+T17+V17+X17,2) -> 0 | G17: =ROUND(I17+K17+M17+O17+Q17+S17+U17+W17+Y17,2) -> 0
A18: 10 | B18: Informatīvo un publicitātes pasākumu izmaksas | C18: 0.85 | D18: =F18+G18 -> 363000 | E18: =D18/$D$24 -> 0.021681707 | F18: =ROUND(H18+J18+L18+N18+P18+R18+T18+V18+X18,2) -> 363000 | G18: =ROUND(I18+K18+M18+O18+Q18+S18+U18+W18+Y18,2) -> 0 | H18: 0 | J18: 60000 | L18: 63000 | N18: 190000 | P18: 50000
A19: 11 | B19: Projekta iesnieguma un to pamatojošās dokumentācijas sagatavošanas izmaksas | C19: 0.85 | D19: =F19+G19 -> 0 | E19: =D19/$D$24 -> 0 | F19: =ROUND(H19+J19+L19+N19+P19+R19+T19+V19+X19,2) -> 0 | G19: =ROUND(I19+K19+M19+O19+Q19+S19+U19+W19+Y19,2) -> 0
A20: 12 | B20: Ieguldījumi natūrā | C20: 0.85 | D20: =F20+G20 -> 0 | E20: =D20/$D$24 -> 0 | F20: =ROUND(H20+J20+L20+N20+P20+R20+T20+V20+X20,2) -> 0 | G20: =ROUND(I20+K20+M20+O20+Q20+S20+U20+W20+Y20,2) -> 0
A21: 13 | B21: Pārējās projekta īstenošanas izmaksas | C21: 0.85 | D21: =F21+G21 -> 271607.5 | E21: =D21/$D$24 -> 0.016222904 | F21: =ROUND(H21+J21+L21+N21+P21+R21+T21+V21+X21,2) -> 271607.5 | G21: =ROUND(I21+K21+M21+O21+Q21+S21+U21+W21+Y21,2) -> 0 | H21: 13000 | J21: 60000 | L21: 63000 | N21: 66150 | P21: 69457.5
A22: 14 | B22: Vienreizējais maksājums | C22: 0.85 | D22: =F22+G22 -> 0 | E22: =D22/$D$24 -> 0 | F22: =ROUND(H22+J22+L22+N22+P22+R22+T22+V22+X22,2) -> 0 | G22: =ROUND(I22+K22+M22+O22+Q22+S22+U22+W22+Y22,2) -> 0
A23: 15 | B23: Neparedzētie izdevumi | C23: 0.85 | D23: =F23+G23 -> 0 | E23: =D23/$D$24 -> 0 | F23: =ROUND(H23+J23+L23+N23+P23+R23+T23+V23+X23,2) -> 0 | G23: =ROUND(I23+K23+M23+O23+Q23+S23+U23+W23+Y23,2) -> 0
B24: KOPĀ | C24: 0.85 | D24: =F24+G24 -> 16742224 | E24: =D24/$D$24 -> 1 | F24: =F7+F8+F9+F10+F11+F12+F13+F16+F17+F18+F19+F20+F21+F22+F23 -> 16742224 | G24: =G7+G8+G9+G10+G11+G12+G13+G16+G17+G18+G19+G20+G21+G22+G23 -> 0 | H24: =H7+H8+H9+H10+H11+H12+H13+H16+H17+H18+H19+H20+H21+H22+H23 -> 415711.29 | I24: =I7+I8+I9+I10+I11+I12+I13+I16+I17+I18+I19+I20+I21+I22+I23 -> 0 | J24: =J7+J8+J9+J10+J11+J12+J13+J16+J17+J18+J19+J20+J21+J22+J23 -> 5378834.2 | K24: =K7+K8+K9+K10+K11+K12+K13+K16+K17+K18+K19+K20+K21+K22+K23 -> 0 | L24: =L7+L8+L9+L10+L11+L12+L13+L16+L17+L18+L19+L20+L21+L22+L23 -> 4592332.2 | M24: =M7+M8+M9+M10+M11+M12+M13+M16+M17+M18+M19+M20+M21+M22+M23 -> 0 | ... Y24: =Y7+Y8+Y9+Y10+Y11+Y12+Y13+Y16+Y17+Y18+Y19+Y20+Y21+Y22+Y23 -> 0
B25: t.sk. PVN
B26: Investīciju izmaksas bez neparedzētajiem izdevumiem un neatt. PVN | H26: =H24-H23 -> 415711.29 | I26: =I24-I23-I25 -> 0 | J26: =J24-J23 -> 5378834.2 | K26: =K24-K23-K25 -> 0 | L26: =L24-L23 -> 4592332.2 | M26: =M24-M23-M25 -> 0 | N26: =N24-N23 -> 3405982.2 | O26: =O24-O23 -> 0 | P26: =P24-P23 -> 2949364.7 | Q26: =Q24-Q23 -> 0 | R26: =R24-R23 -> 0 | S26: =S24-S23 -> 0 | T26: =T24-T23 -> 0 | U26: =U24-U23 -> 0 | ... Y26: =Y24-Y23 -> 0

Sheet 1.1.B. Iesniedzējs
A1: DARBA LAPA Nr.1.1.B. | D1: Aizpilda par projekta iesniedzēja darbībām, kas IR saistītas ar komercdarbības atbalstu
A4: BUDŽETS (+)
A5: Nr. | B5: Izmaksu pozīcijas nosaukums | C5: Maksimālā ES fondu līdzfin. atbalsta likme (%) | D5: Kopējā summa | F5: Izmaksas kopā | H5: ='Dati par projektu'!E13 -> 2025 | J5: =IF(OR(H5>='Dati par projektu'!$C$17,H5="X"),"X",H5+1) -> 2026 | L5: =IF(OR(J5>='Dati par projektu'!$C$17,J5="X"),"X",J5+1) -> 2027 | N5: =IF(OR(L5>='Dati par projektu'!$C$17,L5="X"),"X",L5+1) -> 2028 | P5: =IF(OR(N5>='Dati par projektu'!$C$17,N5="X"),"X",N5+1) -> 2029 | R5: =IF(OR(P5>='Dati par projektu'!$C$17,P5="X"),"X",P5+1) -> X | T5: =IF(OR(R5>='Dati par projektu'!$C$17,R5="X"),"X",R5+1) -> X | V5: =IF(OR(T5>='Dati par projektu'!$C$17,T5="X"),"X",T5+1) -> X | X5: =IF(OR(V5>='Dati par projektu'!$C$17,V5="X"),"X",V5+1) -> X | AV5: 0.55
B6: Projekta netiešās izmaksas kopā: | D6: EUR | E6: % | F6: attiecināmas izmaksas | G6: ārpusprojekta izmaksas | H6: attiecināmas izmaksas | I6: ārpusprojekta izmaksas | J6: attiecināmas izmaksas | K6: ārpusprojekta izmaksas | L6: attiecināmas izmaksas | M6: ārpusprojekta izmaksas | N6: attiecināmas izmaksas | O6: ārpusprojekta izmaksas | P6: attiecināmas izmaksas | Q6: ārpusprojekta izmaksas | R6: attiecināmas izmaksas | S6: ārpusprojekta izmaksas | T6: attiecināmas izmaksas | U6: ārpusprojekta izmaksas | V6: attiecināmas izmaksas | W6: ārpusprojekta izmaksas | X6: attiecināmas izmaksas | Y6: ārpusprojekta izmaksas | AV6: 0.45
A7: 1 | B7: Projekta izmaksas saskaņā ar vienoto izmaksu likmi (netiešās izmaksas) | C7: 0.85 | D7: =F7+G7 -> 0 | E7: =D7/$D$24 -> #DIV/0! | F7: =ROUND(H7+J7+L7+N7+P7+R7+T7+V7+X7,2) -> 0 | G7: =ROUND(I7+K7+M7+O7+Q7+S7+U7+W7+Y7,2) -> 0 | AV7: 0.35
A8: 2 | B8: Projekta vadības izmaksas | C8: 0.85 | D8: =F8+G8 -> 0 | E8: =D8/$D$24 -> #DIV/0! | F8: =ROUND(H8+J8+L8+N8+P8+R8+T8+V8+X8,2) -> 0 | G8: =ROUND(I8+K8+M8+O8+Q8+S8+U8+W8+Y8,2) -> 0
A9: 3 | B9: Projekta īstenošanas personāla izmaksas | C9: 0.85 | D9: =F9+G9 -> 0 | E9: =D9/$D$24 -> #DIV/0! | F9: =ROUND(H9+J9+L9+N9+P9+R9+T9+V9+X9,2) -> 0 | G9: =ROUND(I9+K9+M9+O9+Q9+S9+U9+W9+Y9,2) -> 0
A10: 4 | B10: Mērķa grupas nodrošinājuma izmaksas | C10: 0.85 | D10: =F10+G10 -> 0 | E10: =D10/$D$24 -> #DIV/0! | F10: =ROUND(H10+J10+L10+N10+P10+R10+T10+V10+X10,2) -> 0 | G10: =ROUND(I10+K10+M10+O10+Q10+S10+U10+W10+Y10,2) -> 0
A11: 5 | B11: Informācijas sistēmu izstrādes, ieviešanas un kvalitātes kontroles izmaksas | C11: 0.85 | D11: =F11+G11 -> 0 | E11: =D11/$D$24 -> #DIV/0! | F11: =ROUND(H11+J11+L11+N11+P11+R11+T11+V11+X11,2) -> 0 | G11: =ROUND(I11+K11+M11+O11+Q11+S11+U11+W11+Y11,2) -> 0
A12: 6 | B12: Materiālu, aprīkojuma un iekārtu izmaksas | C12: 0.85 | D12: =F12+G12 -> 0 | E12: =D12/$D$24 -> #DIV/0! | F12: =ROUND(H12+J12+L12+N12+P12+R12+T12+V12+X12,2) -> 0 | G12: =ROUND(I12+K12+M12+O12+Q12+S12+U12+W12+Y12,2) -> 0
A13: 7 | B13: Būvniecības izmaksas | D13: =F13+G13 -> 0 | E13: =D13/$D$24 -> #DIV/0! | F13: =ROUND(H13+J13+L13+N13+P13+R13+T13+V13+X13,2) -> 0 | G13: =ROUND(I13+K13+M13+O13+Q13+S13+U13+W13+Y13,2) -> 0 | H13: =SUM(H14:H15) -> 0 | I13: =SUM(I14:I15) -> 0 | J13: =SUM(J14:J15) -> 0 | K13: =SUM(K14:K15) -> 0 | L13: =SUM(L14:L15) -> 0 | M13: =SUM(M14:M15) -> 0 | N13: =SUM(N14:N15) -> 0 | O13: =SUM(O14:O15) -> 0 | ... Y13: =SUM(Y14:Y15) -> 0
A14: 7.1. | B14: Projektēšanas izmaksas (de minimis) | C14: 1 | D14: =F14+G14 -> 0 | E14: =D14/$D$24 -> #DIV/0! | F14: =ROUND(H14+J14+L14+N14+P14+R14+T14+V14+X14,2) -> 0 | G14: =ROUND(I14+K14+M14+O14+Q14+S14+U14+W14+Y14,2) -> 0
A15: 7.2. | B15: Pārējās būvniecības izmaksas | C15: 0.85 | D15: =F15+G15 -> 0 | E15: =D15/$D$24 -> #DIV/0! | F15: =ROUND(H15+J15+L15+N15+P15+R15+T15+V15+X15,2) -> 0 | G15: =ROUND(I15+K15+M15+O15+Q15+S15+U15+W15+Y15,2) -> 0
A16: 8 | B16: Patenti, licences utml. | C16: 0.85 | D16: =F16+G16 -> 0 | E16: =D16/$D$24 -> #DIV/0! | F16: =ROUND(H16+J16+L16+N16+P16+R16+T16+V16+X16,2) -> 0 | G16: =ROUND(I16+K16+M16+O16+Q16+S16+U16+W16+Y16,2) -> 0
A17: 9 | B17: Nekustamā īpašuma (piemēram, ēku un zemes) iegādes izmaksas | C17: 0.85 | D17: =F17+G17 -> 0 | E17: =D17/$D$24 -> #DIV/0! | F17: =ROUND(H17+J17+L17+N17+P17+R17+T17+V17+X17,2) -> 0 | G17: =ROUND(I17+K17+M17+O17+Q17+S17+U17+W17+Y17,2) -> 0
A18: 10 | B18: Informatīvo un publicitātes pasākumu izmaksas | C18: 0.85 | D18: =F18+G18 -> 0 | E18: =D18/$D$24 -> #DIV/0! | F18: =ROUND(H18+J18+L18+N18+P18+R18+T18+V18+X18,2) -> 0 | G18: =ROUND(I18+K18+M18+O18+Q18+S18+U18+W18+Y18,2) -> 0
A19: 11 | B19: Projekta iesnieguma un to pamatojošās dokumentācijas sagatavošanas izmaksas (de minimis) | C19: 1 | D19: =F19+G19 -> 0 | E19: =D19/$D$24 -> #DIV/0! | F19: =ROUND(H19+J19+L19+N19+P19+R19+T19+V19+X19,2) -> 0 | G19: =ROUND(I19+K19+M19+O19+Q19+S19+U19+W19+Y19,2) -> 0
A20: 12 | B20: Ieguldījumi natūrā | C20: 0.85 | D20: =F20+G20 -> 0 | E20: =D20/$D$24 -> #DIV/0! | F20: =ROUND(H20+J20+L20+N20+P20+R20+T20+V20+X20,2) -> 0 | G20: =ROUND(I20+K20+M20+O20+Q20+S20+U20+W20+Y20,2) -> 0
A21: 13 | B21: Pārējās projekta īstenošanas izmaksas | C21: 0.85 | D21: =F21+G21 -> 0 | E21: =D21/$D$24 -> #DIV/0! | F21: =ROUND(H21+J21+L21+N21+P21+R21+T21+V21+X21,2) -> 0 | G21: =ROUND(I21+K21+M21+O21+Q21+S21+U21+W21+Y21,2) -> 0
A22: 14 | B22: Vienreizējais maksājums | C22: 0.85 | D22: =F22+G22 -> 0 | E22: =D22/$D$24 -> #DIV/0! | F22: =ROUND(H22+J22+L22+N22+P22+R22+T22+V22+X22,2) -> 0 | G22: =ROUND(I22+K22+M22+O22+Q22+S22+U22+W22+Y22,2) -> 0
A23: 15 | B23: Neparedzētie izdevumi | C23: 0.85 | D23: =F23+G23 -> 0 | E23: =D23/$D$24 -> #DIV/0! | F23: =ROUND(H23+J23+L23+N23+P23+R23+T23+V23+X23,2) -> 0 | G23: =ROUND(I23+K23+M23+O23+Q23+S23+U23+W23+Y23,2) -> 0
B24: KOPĀ | C24: 0.85 | D24: =F24+G24 -> 0 | E24: =D24/$D$24 -> #DIV/0! | F24: =F7+F8+F9+F10+F11+F12+F13+F16+F17+F18+F19+F20+F21+F22+F23 -> 0 | G24: =G7+G8+G9+G10+G11+G12+G13+G16+G17+G18+G19+G20+G21+G22+G23 -> 0 | H24: =H7+H8+H9+H10+H11+H12+H13+H16+H17+H18+H19+H20+H21+H22+H23 -> 0 | I24: =I7+I8+I9+I10+I11+I12+I13+I16+I17+I18+I19+I20+I21+I22+I23 -> 0 | J24: =J7+J8+J9+J10+J11+J12+J13+J16+J17+J18+J19+J20+J21+J22+J23 -> 0 | K24: =K7+K8+K9+K10+K11+K12+K13+K16+K17+K18+K19+K20+K21+K22+K23 -> 0 | L24: =L7+L8+L9+L10+L11+L12+L13+L16+L17+L18+L19+L20+L21+L22+L23 -> 0 | M24: =M7+M8+M9+M10+M11+M12+M13+M16+M17+M18+M19+M20+M21+M22+M23 -> 0 | ... Y24: =Y7+Y8+Y9+Y10+Y11+Y12+Y13+Y16+Y17+Y18+Y19+Y20+Y21+Y22+Y23 -> 0
B25: t.sk. PVN
B26: Investīciju izmaksas bez neparedzētajiem izdevumiem un neatt. PVN | H26: =H24-H23 -> 0 | I26: =I24-I23-I25 -> 0 | J26: =J24-J23 -> 0 | K26: =K24-K23-K25 -> 0 | L26: =L24-L23 -> 0 | M26: =M24-M23-M25 -> 0 | N26: =N24-N23 -> 0 | O26: =O24-O23 -> 0 | P26: =P24-P23 -> 0 | Q26: =Q24-Q23 -> 0 | R26: =R24-R23 -> 0 | S26: =S24-S23 -> 0 | T26: =T24-T23 -> 0 | U26: =U24-U23 -> 0 | ... Y26: =Y24-Y23 -> 0
B27: Investīciju izmaksas bez de minimis izmaksām | H27: =H24-H14-H19 -> 0 | I27: =I24-I14-I19 -> 0 | J27: =J24-J14-J19 -> 0 | K27: =K24-K14-K19 -> 0 | L27: =L24-L14-L19 -> 0 | M27: =M24-M14-M19 -> 0 | N27: =N24-N14-N19 -> 0 | O27: =O24-O14-O19 -> 0 | ... Y27: =Y24-Y14-Y19 -> 0
B28: De minimis | H28: =H14+H19 -> 0 | I28: =I14+I19 -> 0 | J28: =J14+J19 -> 0 | K28: =K14+K19 -> 0 | L28: =L14+L19 -> 0 | M28: =M14+M19 -> 0 | N28: =N14+N19 -> 0 | O28: =O14+O19 -> 0 | ... Y28: =Y14+Y19 -> 0
B29: Investīciju izmaksas bez neparedzētajiem izd., de minimis un neatt. PVN | H29: =H26-H28 -> 0 | I29: =I26-I28 -> 0 | J29: =J26-J28 -> 0 | K29: =K26-K28 -> 0 | L29: =L26-L28 -> 0 | M29: =M26-M28 -> 0 | N29: =N26-N28 -> 0 | O29: =O26-O28 -> 0 | ... Y29: =Y26-Y28 -> 0

Sheet 1.1.C. Iesniedzējs
A1: DARBA LAPA Nr.1.1.C. | D1: Aizpilda par projekta iesniedzēja darbībām, kas IR saistītas ar komercdarbības atbalstu (VTNP)
A4: BUDŽETS (+)
A5: Nr. | B5: Izmaksu pozīcijas nosaukums | C5: Maksimālā ES fondu līdzfin. atbalsta likme (%) | D5: Kopējā summa | F5: Izmaksas kopā | H5: ='Dati par projektu'!E13 -> 2025 | J5: =IF(OR(H5>='Dati par projektu'!$C$17,H5="X"),"X",H5+1) -> 2026 | L5: =IF(OR(J5>='Dati par projektu'!$C$17,J5="X"),"X",J5+1) -> 2027 | N5: =IF(OR(L5>='Dati par projektu'!$C$17,L5="X"),"X",L5+1) -> 2028 | P5: =IF(OR(N5>='Dati par projektu'!$C$17,N5="X"),"X",N5+1) -> 2029 | R5: =IF(OR(P5>='Dati par projektu'!$C$17,P5="X"),"X",P5+1) -> X | T5: =IF(OR(R5>='Dati par projektu'!$C$17,R5="X"),"X",R5+1) -> X | V5: =IF(OR(T5>='Dati par projektu'!$C$17,T5="X"),"X",T5+1) -> X | X5: =IF(OR(V5>='Dati par projektu'!$C$17,V5="X"),"X",V5+1) -> X | AV5: 0.55
B6: Projekta netiešās izmaksas kopā: | D6: EUR | E6: % | F6: attiecināmas izmaksas | G6: ārpusprojekta izmaksas | H6: attiecināmas izmaksas | I6: ārpusprojekta izmaksas | J6: attiecināmas izmaksas | K6: ārpusprojekta izmaksas | L6: attiecināmas izmaksas | M6: ārpusprojekta izmaksas | N6: attiecināmas izmaksas | O6: ārpusprojekta izmaksas | P6: attiecināmas izmaksas | Q6: ārpusprojekta izmaksas | R6: attiecināmas izmaksas | S6: ārpusprojekta izmaksas | T6: attiecināmas izmaksas | U6: ārpusprojekta izmaksas | V6: attiecināmas izmaksas | W6: ārpusprojekta izmaksas | X6: attiecināmas izmaksas | Y6: ārpusprojekta izmaksas | AV6: 0.45
A7: 1 | B7: Projekta izmaksas saskaņā ar vienoto izmaksu likmi (netiešās izmaksas) | C7: 0.85 | D7: =F7+G7 -> 0 | E7: =D7/$D$24 -> #DIV/0! | F7: =ROUND(H7+J7+L7+N7+P7+R7+T7+V7+X7,2) -> 0 | G7: =ROUND(I7+K7+M7+O7+Q7+S7+U7+W7+Y7,2) -> 0 | AV7: 0.35
A8: 2 | B8: Projekta vadības izmaksas | C8: 0.85 | D8: =F8+G8 -> 0 | E8: =D8/$D$24 -> #DIV/0! | F8: =ROUND(H8+J8+L8+N8+P8+R8+T8+V8+X8,2) -> 0 | G8: =ROUND(I8+K8+M8+O8+Q8+S8+U8+W8+Y8,2) -> 0
A9: 3 | B9: Projekta īstenošanas personāla izmaksas | C9: 0.85 | D9: =F9+G9 -> 0 | E9: =D9/$D$24 -> #DIV/0! | F9: =ROUND(H9+J9+L9+N9+P9+R9+T9+V9+X9,2) -> 0 | G9: =ROUND(I9+K9+M9+O9+Q9+S9+U9+W9+Y9,2) -> 0
A10: 4 | B10: Mērķa grupas nodrošinājuma izmaksas | C10: 0.85 | D10: =F10+G10 -> 0 | E10: =D10/$D$24 -> #DIV/0! | F10: =ROUND(H10+J10+L10+N10+P10+R10+T10+V10+X10,2) -> 0 | G10: =ROUND(I10+K10+M10+O10+Q10+S10+U10+W10+Y10,2) -> 0
A11: 5 | B11: Informācijas sistēmu izstrādes, ieviešanas un kvalitātes kontroles izmaksas | C11: 0.85 | D11: =F11+G11 -> 0 | E11: =D11/$D$24 -> #DIV/0! | F11: =ROUND(H11+J11+L11+N11+P11+R11+T11+V11+X11,2) -> 0 | G11: =ROUND(I11+K11+M11+O11+Q11+S11+U11+W11+Y11,2) -> 0
A12: 6 | B12: Materiālu, aprīkojuma un iekārtu izmaksas | C12: 0.85 | D12: =F12+G12 -> 0 | E12: =D12/$D$24 -> #DIV/0! | F12: =ROUND(H12+J12+L12+N12+P12+R12+T12+V12+X12,2) -> 0 | G12: =ROUND(I12+K12+M12+O12+Q12+S12+U12+W12+Y12,2) -> 0
A13: 7 | B13: Būvniecības izmaksas | C13: 0.85 | D13: =F13+G13 -> 0 | E13: =D13/$D$24 -> #DIV/0! | F13: =ROUND(H13+J13+L13+N13+P13+R13+T13+V13+X13,2) -> 0 | G13: =ROUND(I13+K13+M13+O13+Q13+S13+U13+W13+Y13,2) -> 0
A16: 8 | B16: Patenti, licences utml. | C16: 0.85 | D16: =F16+G16 -> 0 | E16: =D16/$D$24 -> #DIV/0! | F16: =ROUND(H16+J16+L16+N16+P16+R16+T16+V16+X16,2) -> 0 | G16: =ROUND(I16+K16+M16+O16+Q16+S16+U16+W16+Y16,2) -> 0
A17: 9 | B17: Nekustamā īpašuma (piemēram, ēku un zemes) iegādes izmaksas | C17: 0.85 | D17: =F17+G17 -> 0 | E17: =D17/$D$24 -> #DIV/0! | F17: =ROUND(H17+J17+L17+N17+P17+R17+T17+V17+X17,2) -> 0 | G17: =ROUND(I17+K17+M17+O17+Q17+S17+U17+W17+Y17,2) -> 0
A18: 10 | B18: Informatīvo un publicitātes pasākumu izmaksas | C18: 0.85 | D18: =F18+G18 -> 0 | E18: =D18/$D$24 -> #DIV/0! | F18: =ROUND(H18+J18+L18+N18+P18+R18+T18+V18+X18,2) -> 0 | G18: =ROUND(I18+K18+M18+O18+Q18+S18+U18+W18+Y18,2) -> 0
A19: 11 | B19: Projekta iesnieguma un to pamatojošās dokumentācijas sagatavošanas izmaksas | C19: 0.85 | D19: =F19+G19 -> 0 | E19: =D19/$D$24 -> #DIV/0! | F19: =ROUND(H19+J19+L19+N19+P19+R19+T19+V19+X19,2) -> 0 | G19: =ROUND(I19+K19+M19+O19+Q19+S19+U19+W19+Y19,2) -> 0
A20: 12 | B20: Ieguldījumi natūrā | C20: 0.85 | D20: =F20+G20 -> 0 | E20: =D20/$D$24 -> #DIV/0! | F20: =ROUND(H20+J20+L20+N20+P20+R20+T20+V20+X20,2) -> 0 | G20: =ROUND(I20+K20+M20+O20+Q20+S20+U20+W20+Y20,2) -> 0
A21: 13 | B21: Pārējās projekta īstenošanas izmaksas | C21: 0.85 | D21: =F21+G21 -> 0 | E21: =D21/$D$24 -> #DIV/0! | F21: =ROUND(H21+J21+L21+N21+P21+R21+T21+V21+X21,2) -> 0 | G21: =ROUND(I21+K21+M21+O21+Q21+S21+U21+W21+Y21,2) -> 0
... A23: 15 | B23: Neparedzētie izdevumi | C23: 0.85 | D23: =F23+G23 -> 0 | E23: =D23/$D$24 -> #DIV/0! | F23: =ROUND(H23+J23+L23+N23+P23+R23+T23+V23+X23,2) -> 0 | G23: =ROUND(I23+K23+M23+O23+Q23+S23+U23+W23+Y23,2) -> 0
B24: KOPĀ | C24: 0.85 | D24: =F24+G24 -> 0 | E24: =D24/$D$24 -> #DIV/0! | F24: =F7+F8+F9+F10+F11+F12+F13+F16+F17+F18+F19+F20+F21+F22+F23 -> 0 | G24: =G7+G8+G9+G10+G11+G12+G13+G16+G17+G18+G19+G20+G21+G22+G23 -> 0 | H24: =H7+H8+H9+H10+H11+H12+H13+H16+H17+H18+H19+H20+H21+H22+H23 -> 0 | I24: =I7+I8+I9+I10+I11+I12+I13+I16+I17+I18+I19+I20+I21+I22+I23 -> 0 | J24: =J7+J8+J9+J10+J11+J12+J13+J16+J17+J18+J19+J20+J21+J22+J23 -> 0 | K24: =K7+K8+K9+K10+K11+K12+K13+K16+K17+K18+K19+K20+K21+K22+K23 -> 0 | L24: =L7+L8+L9+L10+L11+L12+L13+L16+L17+L18+L19+L20+L21+L22+L23 -> 0 | M24: =M7+M8+M9+M10+M11+M12+M13+M16+M17+M18+M19+M20+M21+M22+M23 -> 0 | ... Y24: =Y7+Y8+Y9+Y10+Y11+Y12+Y13+Y16+Y17+Y18+Y19+Y20+Y21+Y22+Y23 -> 0
B25: t.sk. PVN
B26: Investīciju izmaksas bez neparedzētajiem izdevumiem un neatt. PVN | H26: =H24-H23 -> 0 | I26: =I24-I23-I25 -> 0 | J26: =J24-J23 -> 0 | K26: =K24-K23-K25 -> 0 | L26: =L24-L23 -> 0 | M26: =M24-M23-M25 -> 0 | N26: =N24-N23 -> 0 | O26: =O24-O23 -> 0 | P26: =P24-P23 -> 0 | Q26: =Q24-Q23 -> 0 | R26: =R24-R23 -> 0 | S26: =S24-S23 -> 0 | T26: =T24-T23 -> 0 | U26: =U24-U23 -> 0 | ... Y26: =Y24-Y23 -> 0

Sheet 1.2.1.A. Partneris-1
A1: DARBA LAPA Nr.1.2.1.A. | D1: Aizpilda par projekta iesniedzēja sadarbības partnera darbībām, kas NAV saistītas ar komercdarbības atbalstu
B3: Sadarbības partneris: | G3: Veids: | K3: Valsts budžeta dotācijas īpatsvars (%): | P3: Saite valsts budžeta dotācijas noteikšanai (VARAM vietnē)
A4: BUDŽETS (+)
A5: Nr. | B5: Izmaksu pozīcijas nosaukums | C5: Maksimālā ES fondu līdzfin. atbalsta likme (%) | D5: Kopējā summa | F5: Izmaksas kopā | H5: ='Dati par projektu'!E13 -> 2025 | J5: =IF(OR(H5>='Dati par projektu'!$C$17,H5="X"),"X",H5+1) -> 2026 | L5: =IF(OR(J5>='Dati par projektu'!$C$17,J5="X"),"X",J5+1) -> 2027 | N5: =IF(OR(L5>='Dati par projektu'!$C$17,L5="X"),"X",L5+1) -> 2028 | P5: =IF(OR(N5>='Dati par projektu'!$C$17,N5="X"),"X",N5+1) -> 2029 | R5: =IF(OR(P5>='Dati par projektu'!$C$17,P5="X"),"X",P5+1) -> X | T5: =IF(OR(R5>='Dati par projektu'!$C$17,R5="X"),"X",R5+1) -> X | V5: =IF(OR(T5>='Dati par projektu'!$C$17,T5="X"),"X",T5+1) -> X | X5: =IF(OR(V5>='Dati par projektu'!$C$17,V5="X"),"X",V5+1) -> X | AV5: 0.55
B6: Projekta netiešās izmaksas kopā: | D6: EUR | E6: % | F6: attiecināmas izmaksas | G6: ārpusprojekta izmaksas | H6: attiecināmas izmaksas | I6: ārpusprojekta izmaksas | J6: attiecināmas izmaksas | K6: ārpusprojekta izmaksas | L6: attiecināmas izmaksas | M6: ārpusprojekta izmaksas | N6: attiecināmas izmaksas | O6: ārpusprojekta izmaksas | P6: attiecināmas izmaksas | Q6: ārpusprojekta izmaksas | R6: attiecināmas izmaksas | S6: ārpusprojekta izmaksas | T6: attiecināmas izmaksas | U6: ārpusprojekta izmaksas | V6: attiecināmas izmaksas | W6: ārpusprojekta izmaksas | X6: attiecināmas izmaksas | Y6: ārpusprojekta izmaksas | AV6: 0.45
A7: 1 | B7: Projekta izmaksas saskaņā ar vienoto izmaksu likmi (netiešās izmaksas) | C7: 0.85 | D7: =F7+G7 -> 0 | E7: =D7/$D$24 -> #DIV/0! | F7: =ROUND(H7+J7+L7+N7+P7+R7+T7+V7+X7,2) -> 0 | G7: =ROUND(I7+K7+M7+O7+Q7+S7+U7+W7+Y7,2) -> 0 | AV7: 0.35
A8: 2 | B8: Projekta vadības izmaksas | C8: 0.85 | D8: =F8+G8 -> 0 | E8: =D8/$D$24 -> #DIV/0! | F8: =ROUND(H8+J8+L8+N8+P8+R8+T8+V8+X8,2) -> 0 | G8: =ROUND(I8+K8+M8+O8+Q8+S8+U8+W8+Y8,2) -> 0
A9: 3 | B9: Projekta īstenošanas personāla izmaksas | C9: 0.85 | D9: =F9+G9 -> 0 | E9: =D9/$D$24 -> #DIV/0! | F9: =ROUND(H9+J9+L9+N9+P9+R9+T9+V9+X9,2) -> 0 | G9: =ROUND(I9+K9+M9+O9+Q9+S9+U9+W9+Y9,2) -> 0
A10: 4 | B10: Mērķa grupas nodrošinājuma izmaksas | C10: 0.85 | D10: =F10+G10 -> 0 | E10: =D10/$D$24 -> #DIV/0! | F10: =ROUND(H10+J10+L10+N10+P10+R10+T10+V10+X10,2) -> 0 | G10: =ROUND(I10+K10+M10+O10+Q10+S10+U10+W10+Y10,2) -> 0
A11: 5 | B11: Informācijas sistēmu izstrādes, ieviešanas un kvalitātes kontroles izmaksas | C11: 0.85 | D11: =F11+G11 -> 0 | E11: =D11/$D$24 -> #DIV/0! | F11: =ROUND(H11+J11+L11+N11+P11+R11+T11+V11+X11,2) -> 0 | G11: =ROUND(I11+K11+M11+O11+Q11+S11+U11+W11+Y11,2) -> 0
A12: 6 | B12: Materiālu, aprīkojuma un iekārtu izmaksas | C12: 0.85 | D12: =F12+G12 -> 0 | E12: =D12/$D$24 -> #DIV/0! | F12: =ROUND(H12+J12+L12+N12+P12+R12+T12+V12+X12,2) -> 0 | G12: =ROUND(I12+K12+M12+O12+Q12+S12+U12+W12+Y12,2) -> 0
A13: 7 | B13: Būvniecības izmaksas | C13: 0.85 | D13: =F13+G13 -> 0 | E13: =D13/$D$24 -> #DIV/0! | F13: =ROUND(H13+J13+L13+N13+P13+R13+T13+V13+X13,2) -> 0 | G13: =ROUND(I13+K13+M13+O13+Q13+S13+U13+W13+Y13,2) -> 0
A16: 8 | B16: Patenti, licences utml. | C16: 0.85 | D16: =F16+G16 -> 0 | E16: =D16/$D$24 -> #DIV/0! | F16: =ROUND(H16+J16+L16+N16+P16+R16+T16+V16+X16,2) -> 0 | G16: =ROUND(I16+K16+M16+O16+Q16+S16+U16+W16+Y16,2) -> 0
A17: 9 | B17: Nekustamā īpašuma (piemēram, ēku un zemes) iegādes izmaksas | C17: 0.85 | D17: =F17+G17 -> 0 | E17: =D17/$D$24 -> #DIV/0! | F17: =ROUND(H17+J17+L17+N17+P17+R17+T17+V17+X17,2) -> 0 | G17: =ROUND(I17+K17+M17+O17+Q17+S17+U17+W17+Y17,2) -> 0
A18: 10 | B18: Informatīvo un publicitātes pasākumu izmaksas | C18: 0.85 | D18: =F18+G18 -> 0 | E18: =D18/$D$24 -> #DIV/0! | F18: =ROUND(H18+J18+L18+N18+P18+R18+T18+V18+X18,2) -> 0 | G18: =ROUND(I18+K18+M18+O18+Q18+S18+U18+W18+Y18,2) -> 0
A19: 11 | B19: Projekta iesnieguma un to pamatojošās dokumentācijas sagatavošanas izmaksas | C19: 0.85 | D19: =F19+G19 -> 0 | E19: =D19/$D$24 -> #DIV/0! | F19: =ROUND(H19+J19+L19+N19+P19+R19+T19+V19+X19,2) -> 0 | G19: =ROUND(I19+K19+M19+O19+Q19+S19+U19+W19+Y19,2) -> 0
A20: 12 | B20: Ieguldījumi natūrā | C20: 0.85 | D20: =F20+G20 -> 0 | E20: =D20/$D$24 -> #DIV/0! | F20: =ROUND(H20+J20+L20+N20+P20+R20+T20+V20+X20,2) -> 0 | G20: =ROUND(I20+K20+M20+O20+Q20+S20+U20+W20+Y20,2) -> 0
A21: 13 | B21: Pārējās projekta īstenošanas izmaksas | C21: 0.85 | D21: =F21+G21 -> 0 | E21: =D21/$D$24 -> #DIV/0! | F21: =ROUND(H21+J21+L21+N21+P21+R21+T21+V21+X21,2) -> 0 | G21: =ROUND(I21+K21+M21+O21+Q21+S21+U21+W21+Y21,2) -> 0
... A23: 15 | B23: Neparedzētie izdevumi | C23: 0.85 | D23: =F23+G23 -> 0 | E23: =D23/$D$24 -> #DIV/0! | F23: =ROUND(H23+J23+L23+N23+P23+R23+T23+V23+X23,2) -> 0 | G23: =ROUND(I23+K23+M23+O23+Q23+S23+U23+W23+Y23,2) -> 0
B24: KOPĀ | C24: 0.85 | D24: =F24+G24 -> 0 | E24: =D24/$D$24 -> #DIV/0! | F24: =F7+F8+F9+F10+F11+F12+F13+F16+F17+F18+F19+F20+F21+F22+F23 -> 0 | G24: =G7+G8+G9+G10+G11+G12+G13+G16+G17+G18+G19+G20+G21+G22+G23 -> 0 | H24: =H7+H8+H9+H10+H11+H12+H13+H16+H17+H18+H19+H20+H21+H22+H23 -> 0 | I24: =I7+I8+I9+I10+I11+I12+I13+I16+I17+I18+I19+I20+I21+I22+I23 -> 0 | J24: =J7+J8+J9+J10+J11+J12+J13+J16+J17+J18+J19+J20+J21+J22+J23 -> 0 | K24: =K7+K8+K9+K10+K11+K12+K13+K16+K17+K18+K19+K20+K21+K22+K23 -> 0 | L24: =L7+L8+L9+L10+L11+L12+L13+L16+L17+L18+L19+L20+L21+L22+L23 -> 0 | M24: =M7+M8+M9+M10+M11+M12+M13+M16+M17+M18+M19+M20+M21+M22+M23 -> 0 | ... Y24: =Y7+Y8+Y9+Y10+Y11+Y12+Y13+Y16+Y17+Y18+Y19+Y20+Y21+Y22+Y23 -> 0
B25: t.sk. PVN
B26: Investīciju izmaksas bez neparedzētajiem izdevumiem un neatt. PVN | H26: =H24-H23 -> 0 | I26: =I24-I23-I25 -> 0 | J26: =J24-J23 -> 0 | K26: =K24-K23-K25 -> 0 | L26: =L24-L23 -> 0 | M26: =M24-M23-M25 -> 0 | N26: =N24-N23 -> 0 | O26: =O24-O23 -> 0 | P26: =P24-P23 -> 0 | Q26: =Q24-Q23 -> 0 | R26: =R24-R23 -> 0 | S26: =S24-S23 -> 0 | T26: =T24-T23 -> 0 | U26: =U24-U23 -> 0 | ... Y26: =Y24-Y23 -> 0

Sheet 1.2.1.B. Partneris-1
A1: DARBA LAPA Nr.1.2.1.B. | D1: Aizpilda par projekta iesniedzēja sadarbības partnera darbībām, kas IR saistītas ar komercdarbības atbalstu
B3: Sadarbības partneris: | G3: Veids: | K3: Valsts budžeta dotācijas īpatsvars (%): | P3: Saite valsts budžeta dotācijas noteikšanai (VARAM vietnē)
A4: BUDŽETS (+)
A5: Nr. | B5: Izmaksu pozīcijas nosaukums | C5: Maksimālā ES fondu līdzfin. atbalsta likme (%) | D5: Kopējā summa | F5: Izmaksas kopā | H5: ='Dati par projektu'!E13 -> 2025 | J5: =IF(OR(H5>='Dati par projektu'!$C$17,H5="X"),"X",H5+1) -> 2026 | L5: =IF(OR(J5>='Dati par projektu'!$C$17,J5="X"),"X",J5+1) -> 2027 | N5: =IF(OR(L5>='Dati par projektu'!$C$17,L5="X"),"X",L5+1) -> 2028 | P5: =IF(OR(N5>='Dati par projektu'!$C$17,N5="X"),"X",N5+1) -> 2029 | R5: =IF(OR(P5>='Dati par projektu'!$C$17,P5="X"),"X",P5+1) -> X | T5: =IF(OR(R5>='Dati par projektu'!$C$17,R5="X"),"X",R5+1) -> X | V5: =IF(OR(T5>='Dati par projektu'!$C$17,T5="X"),"X",T5+1) -> X | X5: =IF(OR(V5>='Dati par projektu'!$C$17,V5="X"),"X",V5+1) -> X | AV5: 0.55
B6: Projekta netiešās izmaksas kopā: | D6: EUR | E6: % | F6: attiecināmas izmaksas | G6: ārpusprojekta izmaksas | H6: attiecināmas izmaksas | I6: ārpusprojekta izmaksas | J6: attiecināmas izmaksas | K6: ārpusprojekta izmaksas | L6: attiecināmas izmaksas | M6: ārpusprojekta izmaksas | N6: attiecināmas izmaksas | O6: ārpusprojekta izmaksas | P6: attiecināmas izmaksas | Q6: ārpusprojekta izmaksas | R6: attiecināmas izmaksas | S6: ārpusprojekta izmaksas | T6: attiecināmas izmaksas | U6: ārpusprojekta izmaksas | V6: attiecināmas izmaksas | W6: ārpusprojekta izmaksas | X6: attiecināmas izmaksas | Y6: ārpusprojekta izmaksas | AV6: 0.45
A7: 1 | B7: Projekta izmaksas saskaņā ar vienoto izmaksu likmi (netiešās izmaksas) | C7: 0.85 | D7: =F7+G7 -> 0 | E7: =D7/$D$24 -> #DIV/0! | F7: =ROUND(H7+J7+L7+N7+P7+R7+T7+V7+X7,2) -> 0 | G7: =ROUND(I7+K7+M7+O7+Q7+S7+U7+W7+Y7,2) -> 0 | AV7: 0.35
A8: 2 | B8: Projekta vadības izmaksas | C8: 0.85 | D8: =F8+G8 -> 0 | E8: =D8/$D$24 -> #DIV/0! | F8: =ROUND(H8+J8+L8+N8+P8+R8+T8+V8+X8,2) -> 0 | G8: =ROUND(I8+K8+M8+O8+Q8+S8+U8+W8+Y8,2) -> 0
A9: 3 | B9: Projekta īstenošanas personāla izmaksas | C9: 0.85 | D9: =F9+G9 -> 0 | E9: =D9/$D$24 -> #DIV/0! | F9: =ROUND(H9+J9+L9+N9+P9+R9+T9+V9+X9,2) -> 0 | G9: =ROUND(I9+K9+M9+O9+Q9+S9+U9+W9+Y9,2) -> 0
A10: 4 | B10: Mērķa grupas nodrošinājuma izmaksas | C10: 0.85 | D10: =F10+G10 -> 0 | E10: =D10/$D$24 -> #DIV/0! | F10: =ROUND(H10+J10+L10+N10+P10+R10+T10+V10+X10,2) -> 0 | G10: =ROUND(I10+K10+M10+O10+Q10+S10+U10+W10+Y10,2) -> 0
A11: 5 | B11: Informācijas sistēmu izstrādes, ieviešanas un kvalitātes kontroles izmaksas | C11: 0.85 | D11: =F11+G11 -> 0 | E11: =D11/$D$24 -> #DIV/0! | F11: =ROUND(H11+J11+L11+N11+P11+R11+T11+V11+X11,2) -> 0 | G11: =ROUND(I11+K11+M11+O11+Q11+S11+U11+W11+Y11,2) -> 0
A12: 6 | B12: Materiālu, aprīkojuma un iekārtu izmaksas | C12: 0.85 | D12: =F12+G12 -> 0 | E12: =D12/$D$24 -> #DIV/0! | F12: =ROUND(H12+J12+L12+N12+P12+R12+T12+V12+X12,2) -> 0 | G12: =ROUND(I12+K12+M12+O12+Q12+S12+U12+W12+Y12,2) -> 0
A13: 7 | B13: Būvniecības izmaksas | D13: =F13+G13 -> 0 | E13: =D13/$D$24 -> #DIV/0! | F13: =ROUND(H13+J13+L13+N13+P13+R13+T13+V13+X13,2) -> 0 | G13: =ROUND(I13+K13+M13+O13+Q13+S13+U13+W13+Y13,2) -> 0 | H13: =SUM(H14:H15) -> 0 | I13: =SUM(I14:I15) -> 0 | J13: =SUM(J14:J15) -> 0 | K13: =SUM(K14:K15) -> 0 | L13: =SUM(L14:L15) -> 0 | M13: =SUM(M14:M15) -> 0 | N13: =SUM(N14:N15) -> 0 | O13: =SUM(O14:O15) -> 0 | ... Y13: =SUM(Y14:Y15) -> 0
A14: 7.1. | B14: Projektēšanas izmaksas (de minimis) | C14: 1 | D14: =F14+G14 -> 0 | E14: =D14/$D$24 -> #DIV/0! | F14: =ROUND(H14+J14+L14+N14+P14+R14+T14+V14+X14,2) -> 0 | G14: =ROUND(I14+K14+M14+O14+Q14+S14+U14+W14+Y14,2) -> 0
A15: 7.2. | B15: Pārējās būvniecības izmaksas | C15: 0.85 | D15: =F15+G15 -> 0 | E15: =D15/$D$24 -> #DIV/0! | F15: =ROUND(H15+J15+L15+N15+P15+R15+T15+V15+X15,2) -> 0 | G15: =ROUND(I15+K15+M15+O15+Q15+S15+U15+W15+Y15,2) -> 0
A16: 8 | B16: Patenti, licences utml. | C16: 0.85 | D16: =F16+G16 -> 0 | E16: =D16/$D$24 -> #DIV/0! | F16: =ROUND(H16+J16+L16+N16+P16+R16+T16+V16+X16,2) -> 0 | G16: =ROUND(I16+K16+M16+O16+Q16+S16+U16+W16+Y16,2) -> 0
A17: 9 | B17: Nekustamā īpašuma (piemēram, ēku un zemes) iegādes izmaksas | C17: 0.85 | D17: =F17+G17 -> 0 | E17: =D17/$D$24 -> #DIV/0! | F17: =ROUND(H17+J17+L17+N17+P17+R17+T17+V17+X17,2) -> 0 | G17: =ROUND(I17+K17+M17+O17+Q17+S17+U17+W17+Y17,2) -> 0
A18: 10 | B18: Informatīvo un publicitātes pasākumu izmaksas | C18: 0.85 | D18: =F18+G18 -> 0 | E18: =D18/$D$24 -> #DIV/0! | F18: =ROUND(H18+J18+L18+N18+P18+R18+T18+V18+X18,2) -> 0 | G18: =ROUND(I18+K18+M18+O18+Q18+S18+U18+W18+Y18,2) -> 0
A19: 11 | B19: Projekta iesnieguma un to pamatojošās dokumentācijas sagatavošanas izmaksas (de minimis) | C19: 1 | D19: =F19+G19 -> 0 | E19: =D19/$D$24 -> #DIV/0! | F19: =ROUND(H19+J19+L19+N19+P19+R19+T19+V19+X19,2) -> 0 | G19: =ROUND(I19+K19+M19+O19+Q19+S19+U19+W19+Y19,2) -> 0
A20: 12 | B20: Ieguldījumi natūrā | C20: 0.85 | D20: =F20+G20 -> 0 | E20: =D20/$D$24 -> #DIV/0! | F20: =ROUND(H20+J20+L20+N20+P20+R20+T20+V20+X20,2) -> 0 | G20: =ROUND(I20+K20+M20+O20+Q20+S20+U20+W20+Y20,2) -> 0
A21: 13 | B21: Pārējās projekta īstenošanas izmaksas | C21: 0.85 | D21: =F21+G21 -> 0 | E21: =D21/$D$24 -> #DIV/0! | F21: =ROUND(H21+J21+L21+N21+P21+R21+T21+V21+X21,2) -> 0 | G21: =ROUND(I21+K21+M21+O21+Q21+S21+U21+W21+Y21,2) -> 0
A22: 14 | B22: Vienreizējais maksājums | C22: 0.85 | D22: =F22+G22 -> 0 | E22: =D22/$D$24 -> #DIV/0! | F22: =ROUND(H22+J22+L22+N22+P22+R22+T22+V22+X22,2) -> 0 | G22: =ROUND(I22+K22+M22+O22+Q22+S22+U22+W22+Y22,2) -> 0
A23: 15 | B23: Neparedzētie izdevumi | C23: 0.85 | D23: =F23+G23 -> 0 | E23: =D23/$D$24 -> #DIV/0! | F23: =ROUND(H23+J23+L23+N23+P23+R23+T23+V23+X23,2) -> 0 | G23: =ROUND(I23+K23+M23+O23+Q23+S23+U23+W23+Y23,2) -> 0
B24: KOPĀ | C24: 0.85 | D24: =F24+G24 -> 0 | E24: =D24/$D$24 -> #DIV/0! | F24: =F7+F8+F9+F10+F11+F12+F13+F16+F17+F18+F19+F20+F21+F22+F23 -> 0 | G24: =G7+G8+G9+G10+G11+G12+G13+G16+G17+G18+G19+G20+G21+G22+G23 -> 0 | H24: =H7+H8+H9+H10+H11+H12+H13+H16+H17+H18+H19+H20+H21+H22+H23 -> 0 | I24: =I7+I8+I9+I10+I11+I12+I13+I16+I17+I18+I19+I20+I21+I22+I23 -> 0 | J24: =J7+J8+J9+J10+J11+J12+J13+J16+J17+J18+J19+J20+J21+J22+J23 -> 0 | K24: =K7+K8+K9+K10+K11+K12+K13+K16+K17+K18+K19+K20+K21+K22+K23 -> 0 | L24: =L7+L8+L9+L10+L11+L12+L13+L16+L17+L18+L19+L20+L21+L22+L23 -> 0 | M24: =M7+M8+M9+M10+M11+M12+M13+M16+M17+M18+M19+M20+M21+M22+M23 -> 0 | ... Y24: =Y7+Y8+Y9+Y10+Y11+Y12+Y13+Y16+Y17+Y18+Y19+Y20+Y21+Y22+Y23 -> 0
B25: t.sk. PVN
B26: Investīciju izmaksas bez neparedzētajiem izdevumiem un neatt. PVN | H26: =H24-H23 -> 0 | I26: =I24-I23-I25 -> 0 | J26: =J24-J23 -> 0 | K26: =K24-K23-K25 -> 0 | L26: =L24-L23 -> 0 | M26: =M24-M23-M25 -> 0 | N26: =N24-N23 -> 0 | O26: =O24-O23 -> 0 | P26: =P24-P23 -> 0 | Q26: =Q24-Q23 -> 0 | R26: =R24-R23 -> 0 | S26: =S24-S23 -> 0 | T26: =T24-T23 -> 0 | U26: =U24-U23 -> 0 | ... Y26: =Y24-Y23 -> 0
B27: Investīciju izmaksas bez de minimis izmaksām | H27: =H24-H14-H19 -> 0 | I27: =I24-I14-I19 -> 0 | J27: =J24-J14-J19 -> 0 | K27: =K24-K14-K19 -> 0 | L27: =L24-L14-L19 -> 0 | M27: =M24-M14-M19 -> 0 | N27: =N24-N14-N19 -> 0 | O27: =O24-O14-O19 -> 0 | ... Y27: =Y24-Y14-Y19 -> 0
B28: De minimis | H28: =H14+H19 -> 0 | I28: =I14+I19 -> 0 | J28: =J14+J19 -> 0 | K28: =K14+K19 -> 0 | L28: =L14+L19 -> 0 | M28: =M14+M19 -> 0 | N28: =N14+N19 -> 0 | O28: =O14+O19 -> 0 | ... Y28: =Y14+Y19 -> 0
B29: Investīciju izmaksas bez neparedzētajiem izd., de minimis un neatt. PVN | H29: =H26-H28 -> 0 | I29: =I26-I28 -> 0 | J29: =J26-J28 -> 0 | K29: =K26-K28 -> 0 | L29: =L26-L28 -> 0 | M29: =M26-M28 -> 0 | N29: =N26-N28 -> 0 | O29: =O26-O28 -> 0 | ... Y29: =Y26-Y28 -> 0

Sheet 1.2.1.C. Partneris-1
A1: DARBA LAPA Nr.1.2.1.C. | D1: Aizpilda par projekta iesniedzēja sadarbības partnera darbībām, kas IR saistītas ar komercdarbības atbalstu (VTNP)
B3: Sadarbības partneris: | G3: Veids: | K3: Valsts budžeta dotācijas īpatsvars (%): | P3: Saite valsts budžeta dotācijas noteikšanai (VARAM vietnē) | T3: Ja sadarbības partneris ir kapitālsabiedrība, vai pašvaldība sedz šo ieguldījumu līdzfinansējuma daļu: | AA3: =IF(X3="",0,IF(X3="Jā",2,1)) -> 0
A4: BUDŽETS (+)
A5: Nr. | B5: Izmaksu pozīcijas nosaukums | C5: Maksimālā ES fondu līdzfin. atbalsta likme (%) | D5: Kopējā summa | F5: Izmaksas kopā | H5: ='Dati par projektu'!E13 -> 2025 | J5: =IF(OR(H5>='Dati par projektu'!$C$17,H5="X"),"X",H5+1) -> 2026 | L5: =IF(OR(J5>='Dati par projektu'!$C$17,J5="X"),"X",J5+1) -> 2027 | N5: =IF(OR(L5>='Dati par projektu'!$C$17,L5="X"),"X",L5+1) -> 2028 | P5: =IF(OR(N5>='Dati par projektu'!$C$17,N5="X"),"X",N5+1) -> 2029 | R5: =IF(OR(P5>='Dati par projektu'!$C$17,P5="X"),"X",P5+1) -> X | T5: =IF(OR(R5>='Dati par projektu'!$C$17,R5="X"),"X",R5+1) -> X | V5: =IF(OR(T5>='Dati par projektu'!$C$17,T5="X"),"X",T5+1) -> X | X5: =IF(OR(V5>='Dati par projektu'!$C$17,V5="X"),"X",V5+1) -> X | AV5: 0.55
B6: Projekta netiešās izmaksas kopā: | D6: EUR | E6: % | F6: attiecināmas izmaksas | G6: ārpusprojekta izmaksas | H6: attiecināmas izmaksas | I6: ārpusprojekta izmaksas | J6: attiecināmas izmaksas | K6: ārpusprojekta izmaksas | L6: attiecināmas izmaksas | M6: ārpusprojekta izmaksas | N6: attiecināmas izmaksas | O6: ārpusprojekta izmaksas | P6: attiecināmas izmaksas | Q6: ārpusprojekta izmaksas | R6: attiecināmas izmaksas | S6: ārpusprojekta izmaksas | T6: attiecināmas izmaksas | U6: ārpusprojekta izmaksas | V6: attiecināmas izmaksas | W6: ārpusprojekta izmaksas | X6: attiecināmas izmaksas | Y6: ārpusprojekta izmaksas | AV6: 0.45
A7: 1 | B7: Projekta izmaksas saskaņā ar vienoto izmaksu likmi (netiešās izmaksas) | C7: 0.85 | D7: =F7+G7 -> 0 | E7: =D7/$D$24 -> #DIV/0! | F7: =ROUND(H7+J7+L7+N7+P7+R7+T7+V7+X7,2) -> 0 | G7: =ROUND(I7+K7+M7+O7+Q7+S7+U7+W7+Y7,2) -> 0 | AV7: 0.35
A8: 2 | B8: Projekta vadības izmaksas | C8: 0.85 | D8: =F8+G8 -> 0 | E8: =D8/$D$24 -> #DIV/0! | F8: =ROUND(H8+J8+L8+N8+P8+R8+T8+V8+X8,2) -> 0 | G8: =ROUND(I8+K8+M8+O8+Q8+S8+U8+W8+Y8,2) -> 0
A9: 3 | B9: Projekta īstenošanas personāla izmaksas | C9: 0.85 | D9: =F9+G9 -> 0 | E9: =D9/$D$24 -> #DIV/0! | F9: =ROUND(H9+J9+L9+N9+P9+R9+T9+V9+X9,2) -> 0 | G9: =ROUND(I9+K9+M9+O9+Q9+S9+U9+W9+Y9,2) -> 0
A10: 4 | B10: Mērķa grupas nodrošinājuma izmaksas | C10: 0.85 | D10: =F10+G10 -> 0 | E10: =D10/$D$24 -> #DIV/0! | F10: =ROUND(H10+J10+L10+N10+P10+R10+T10+V10+X10,2) -> 0 | G10: =ROUND(I10+K10+M10+O10+Q10+S10+U10+W10+Y10,2) -> 0
A11: 5 | B11: Informācijas sistēmu izstrādes, ieviešanas un kvalitātes kontroles izmaksas | C11: 0.85 | D11: =F11+G11 -> 0 | E11: =D11/$D$24 -> #DIV/0! | F11: =ROUND(H11+J11+L11+N11+P11+R11+T11+V11+X11,2) -> 0 | G11: =ROUND(I11+K11+M11+O11+Q11+S11+U11+W11+Y11,2) -> 0
A12: 6 | B12: Materiālu, aprīkojuma un iekārtu izmaksas | C12: 0.85 | D12: =F12+G12 -> 0 | E12: =D12/$D$24 -> #DIV/0! | F12: =ROUND(H12+J12+L12+N12+P12+R12+T12+V12+X12,2) -> 0 | G12: =ROUND(I12+K12+M12+O12+Q12+S12+U12+W12+Y12,2) -> 0
A13: 7 | B13: Būvniecības izmaksas | C13: 0.85 | D13: =F13+G13 -> 0 | E13: =D13/$D$24 -> #DIV/0! | F13: =ROUND(H13+J13+L13+N13+P13+R13+T13+V13+X13,2) -> 0 | G13: =ROUND(I13+K13+M13+O13+Q13+S13+U13+W13+Y13,2) -> 0
A16: 8 | B16: Patenti, licences utml. | C16: 0.85 | D16: =F16+G16 -> 0 | E16: =D16/$D$24 -> #DIV/0! | F16: =ROUND(H16+J16+L16+N16+P16+R16+T16+V16+X16,2) -> 0 | G16: =ROUND(I16+K16+M16+O16+Q16+S16+U16+W16+Y16,2) -> 0
A17: 9 | B17: Nekustamā īpašuma (piemēram, ēku un zemes) iegādes izmaksas | C17: 0.85 | D17: =F17+G17 -> 0 | E17: =D17/$D$24 -> #DIV/0! | F17: =ROUND(H17+J17+L17+N17+P17+R17+T17+V17+X17,2) -> 0 | G17: =ROUND(I17+K17+M17+O17+Q17+S17+U17+W17+Y17,2) -> 0
A18: 10 | B18: Informatīvo un publicitātes pasākumu izmaksas | C18: 0.85 | D18: =F18+G18 -> 0 | E18: =D18/$D$24 -> #DIV/0! | F18: =ROUND(H18+J18+L18+N18+P18+R18+T18+V18+X18,2) -> 0 | G18: =ROUND(I18+K18+M18+O18+Q18+S18+U18+W18+Y18,2) -> 0
A19: 11 | B19: Projekta iesnieguma un to pamatojošās dokumentācijas sagatavošanas izmaksas | C19: 0.85 | D19: =F19+G19 -> 0 | E19: =D19/$D$24 -> #DIV/0! | F19: =ROUND(H19+J19+L19+N19+P19+R19+T19+V19+X19,2) -> 0 | G19: =ROUND(I19+K19+M19+O19+Q19+S19+U19+W19+Y19,2) -> 0
A20: 12 | B20: Ieguldījumi natūrā | C20: 0.85 | D20: =F20+G20 -> 0 | E20: =D20/$D$24 -> #DIV/0! | F20: =ROUND(H20+J20+L20+N20+P20+R20+T20+V20+X20,2) -> 0 | G20: =ROUND(I20+K20+M20+O20+Q20+S20+U20+W20+Y20,2) -> 0
A21: 13 | B21: Pārējās projekta īstenošanas izmaksas | C21: 0.85 | D21: =F21+G21 -> 0 | E21: =D21/$D$24 -> #DIV/0! | F21: =ROUND(H21+J21+L21+N21+P21+R21+T21+V21+X21,2) -> 0 | G21: =ROUND(I21+K21+M21+O21+Q21+S21+U21+W21+Y21,2) -> 0
... A23: 15 | B23: Neparedzētie izdevumi | C23: 0.85 | D23: =F23+G23 -> 0 | E23: =D23/$D$24 -> #DIV/0! | F23: =ROUND(H23+J23+L23+N23+P23+R23+T23+V23+X23,2) -> 0 | G23: =ROUND(I23+K23+M23+O23+Q23+S23+U23+W23+Y23,2) -> 0
B24: KOPĀ | C24: 0.85 | D24: =F24+G24 -> 0 | E24: =D24/$D$24 -> #DIV/0! | F24: =F7+F8+F9+F10+F11+F12+F13+F16+F17+F18+F19+F20+F21+F22+F23 -> 0 | G24: =G7+G8+G9+G10+G11+G12+G13+G16+G17+G18+G19+G20+G21+G22+G23 -> 0 | H24: =H7+H8+H9+H10+H11+H12+H13+H16+H17+H18+H19+H20+H21+H22+H23 -> 0 | I24: =I7+I8+I9+I10+I11+I12+I13+I16+I17+I18+I19+I20+I21+I22+I23 -> 0 | J24: =J7+J8+J9+J10+J11+J12+J13+J16+J17+J18+J19+J20+J21+J22+J23 -> 0 | K24: =K7+K8+K9+K10+K11+K12+K13+K16+K17+K18+K19+K20+K21+K22+K23 -> 0 | L24: =L7+L8+L9+L10+L11+L12+L13+L16+L17+L18+L19+L20+L21+L22+L23 -> 0 | M24: =M7+M8+M9+M10+M11+M12+M13+M16+M17+M18+M19+M20+M21+M22+M23 -> 0 | ... Y24: =Y7+Y8+Y9+Y10+Y11+Y12+Y13+Y16+Y17+Y18+Y19+Y20+Y21+Y22+Y23 -> 0
B25: t.sk. PVN
B26: Investīciju izmaksas bez neparedzētajiem izdevumiem un neatt. PVN | H26: =H24-H23 -> 0 | I26: =I24-I23-I25 -> 0 | J26: =J24-J23 -> 0 | K26: =K24-K23-K25 -> 0 | L26: =L24-L23 -> 0 | M26: =M24-M23-M25 -> 0 | N26: =N24-N23 -> 0 | O26: =O24-O23 -> 0 | P26: =P24-P23 -> 0 | Q26: =Q24-Q23 -> 0 | R26: =R24-R23 -> 0 | S26: =S24-S23 -> 0 | T26: =T24-T23 -> 0 | U26: =U24-U23 -> 0 | ... Y26: =Y24-Y23 -> 0

Sheet 1.2.2.A. Partneris-2
A1: DARBA LAPA Nr.1.2.2.A. | D1: Aizpilda par projekta iesniedzēja sadarbības partnera darbībām, kas NAV saistītas ar komercdarbības atbalstu
B3: Sadarbības partneris: | G3: Veids: | K3: Valsts budžeta dotācijas īpatsvars (%): | P3: Saite valsts budžeta dotācijas noteikšanai (VARAM vietnē)
A4: BUDŽETS (+)
A5: Nr. | B5: Izmaksu pozīcijas nosaukums | C5: Maksimālā ES fondu līdzfin. atbalsta likme (%) | D5: Kopējā summa | F5: Izmaksas kopā | H5: ='Dati par projektu'!E13 -> 2025 | J5: =IF(OR(H5>='Dati par projektu'!$C$17,H5="X"),"X",H5+1) -> 2026 | L5: =IF(OR(J5>='Dati par projektu'!$C$17,J5="X"),"X",J5+1) -> 2027 | N5: =IF(OR(L5>='Dati par projektu'!$C$17,L5="X"),"X",L5+1) -> 2028 | P5: =IF(OR(N5>='Dati par projektu'!$C$17,N5="X"),"X",N5+1) -> 2029 | R5: =IF(OR(P5>='Dati par projektu'!$C$17,P5="X"),"X",P5+1) -> X | T5: =IF(OR(R5>='Dati par projektu'!$C$17,R5="X"),"X",R5+1) -> X | V5: =IF(OR(T5>='Dati par projektu'!$C$17,T5="X"),"X",T5+1) -> X | X5: =IF(OR(V5>='Dati par projektu'!$C$17,V5="X"),"X",V5+1) -> X | AV5: 0.55
B6: Projekta netiešās izmaksas kopā: | D6: EUR | E6: % | F6: attiecināmas izmaksas | G6: ārpusprojekta izmaksas | H6: attiecināmas izmaksas | I6: ārpusprojekta izmaksas | J6: attiecināmas izmaksas | K6: ārpusprojekta izmaksas | L6: attiecināmas izmaksas | M6: ārpusprojekta izmaksas | N6: attiecināmas izmaksas | O6: ārpusprojekta izmaksas | P6: attiecināmas izmaksas | Q6: ārpusprojekta izmaksas | R6: attiecināmas izmaksas | S6: ārpusprojekta izmaksas | T6: attiecināmas izmaksas | U6: ārpusprojekta izmaksas | V6: attiecināmas izmaksas | W6: ārpusprojekta izmaksas | X6: attiecināmas izmaksas | Y6: ārpusprojekta izmaksas | AV6: 0.45
A7: 1 | B7: Projekta izmaksas saskaņā ar vienoto izmaksu likmi (netiešās izmaksas) | C7: 0.85 | D7: =F7+G7 -> 0 | E7: =D7/$D$24 -> #DIV/0! | F7: =ROUND(H7+J7+L7+N7+P7+R7+T7+V7+X7,2) -> 0 | G7: =ROUND(I7+K7+M7+O7+Q7+S7+U7+W7+Y7,2) -> 0 | AV7: 0.35
A8: 2 | B8: Projekta vadības izmaksas | C8: 0.85 | D8: =F8+G8 -> 0 | E8: =D8/$D$24 -> #DIV/0! | F8: =ROUND(H8+J8+L8+N8+P8+R8+T8+V8+X8,2) -> 0 | G8: =ROUND(I8+K8+M8+O8+Q8+S8+U8+W8+Y8,2) -> 0
A9: 3 | B9: Projekta īstenošanas personāla izmaksas | C9: 0.85 | D9: =F9+G9 -> 0 | E9: =D9/$D$24 -> #DIV/0! | F9: =ROUND(H9+J9+L9+N9+P9+R9+T9+V9+X9,2) -> 0 | G9: =ROUND(I9+K9+M9+O9+Q9+S9+U9+W9+Y9,2) -> 0
A10: 4 | B10: Mērķa grupas nodrošinājuma izmaksas | C10: 0.85 | D10: =F10+G10 -> 0 | E10: =D10/$D$24 -> #DIV/0! | F10: =ROUND(H10+J10+L10+N10+P10+R10+T10+V10+X10,2) -> 0 | G10: =ROUND(I10+K10+M10+O10+Q10+S10+U10+W10+Y10,2) -> 0
A11: 5 | B11: Informācijas sistēmu izstrādes, ieviešanas un kvalitātes kontroles izmaksas | C11: 0.85 | D11: =F11+G11 -> 0 | E11: =D11/$D$24 -> #DIV/0! | F11: =ROUND(H11+J11+L11+N11+P11+R11+T11+V11+X11,2) -> 0 | G11: =ROUND(I11+K11+M11+O11+Q11+S11+U11+W11+Y11,2) -> 0
A12: 6 | B12: Materiālu, aprīkojuma un iekārtu izmaksas | C12: 0.85 | D12: =F12+G12 -> 0 | E12: =D12/$D$24 -> #DIV/0! | F12: =ROUND(H12+J12+L12+N12+P12+R12+T12+V12+X12,2) -> 0 | G12: =ROUND(I12+K12+M12+O12+Q12+S12+U12+W12+Y12,2) -> 0
A13: 7 | B13: Būvniecības izmaksas | C13: 0.85 | D13: =F13+G13 -> 0 | E13: =D13/$D$24 -> #DIV/0! | F13: =ROUND(H13+J13+L13+N13+P13+R13+T13+V13+X13,2) -> 0 | G13: =ROUND(I13+K13+M13+O13+Q13+S13+U13+W13+Y13,2) -> 0
A16: 8 | B16: Patenti, licences utml. | C16: 0.85 | D16: =F16+G16 -> 0 | E16: =D16/$D$24 -> #DIV/0! | F16: =ROUND(H16+J16+L16+N16+P16+R16+T16+V16+X16,2) -> 0 | G16: =ROUND(I16+K16+M16+O16+Q16+S16+U16+W16+Y16,2) -> 0
A17: 9 | B17: Nekustamā īpašuma (piemēram, ēku un zemes) iegādes izmaksas | C17: 0.85 | D17: =F17+G17 -> 0 | E17: =D17/$D$24 -> #DIV/0! | F17: =ROUND(H17+J17+L17+N17+P17+R17+T17+V17+X17,2) -> 0 | G17: =ROUND(I17+K17+M17+O17+Q17+S17+U17+W17+Y17,2) -> 0
A18: 10 | B18: Informatīvo un publicitātes pasākumu izmaksas | C18: 0.85 | D18: =F18+G18 -> 0 | E18: =D18/$D$24 -> #DIV/0! | F18: =ROUND(H18+J18+L18+N18+P18+R18+T18+V18+X18,2) -> 0 | G18: =ROUND(I18+K18+M18+O18+Q18+S18+U18+W18+Y18,2) -> 0
A19: 11 | B19: Projekta iesnieguma un to pamatojošās dokumentācijas sagatavošanas izmaksas | C19: 0.85 | D19: =F19+G19 -> 0 | E19: =D19/$D$24 -> #DIV/0! | F19: =ROUND(H19+J19+L19+N19+P19+R19+T19+V19+X19,2) -> 0 | G19: =ROUND(I19+K19+M19+O19+Q19+S19+U19+W19+Y19,2) -> 0
A20: 12 | B20: Ieguldījumi natūrā | C20: 0.85 | D20: =F20+G20 -> 0 | E20: =D20/$D$24 -> #DIV/0! | F20: =ROUND(H20+J20+L20+N20+P20+R20+T20+V20+X20,2) -> 0 | G20: =ROUND(I20+K20+M20+O20+Q20+S20+U20+W20+Y20,2) -> 0
A21: 13 | B21: Pārējās projekta īstenošanas izmaksas | C21: 0.85 | D21: =F21+G21 -> 0 | E21: =D21/$D$24 -> #DIV/0! | F21: =ROUND(H21+J21+L21+N21+P21+R21+T21+V21+X21,2) -> 0 | G21: =ROUND(I21+K21+M21+O21+Q21+S21+U21+W21+Y21,2) -> 0
... A23: 15 | B23: Neparedzētie izdevumi | C23: 0.85 | D23: =F23+G23 -> 0 | E23: =D23/$D$24 -> #DIV/0! | F23: =ROUND(H23+J23+L23+N23+P23+R23+T23+V23+X23,2) -> 0 | G23: =ROUND(I23+K23+M23+O23+Q23+S23+U23+W23+Y23,2) -> 0
B24: KOPĀ | C24: 0.85 | D24: =F24+G24 -> 0 | E24: =D24/$D$24 -> #DIV/0! | F24: =F7+F8+F9+F10+F11+F12+F13+F16+F17+F18+F19+F20+F21+F22+F23 -> 0 | G24: =G7+G8+G9+G10+G11+G12+G13+G16+G17+G18+G19+G20+G21+G22+G23 -> 0 | H24: =H7+H8+H9+H10+H11+H12+H13+H16+H17+H18+H19+H20+H21+H22+H23 -> 0 | I24: =I7+I8+I9+I10+I11+I12+I13+I16+I17+I18+I19+I20+I21+I22+I23 -> 0 | J24: =J7+J8+J9+J10+J11+J12+J13+J16+J17+J18+J19+J20+J21+J22+J23 -> 0 | K24: =K7+K8+K9+K10+K11+K12+K13+K16+K17+K18+K19+K20+K21+K22+K23 -> 0 | L24: =L7+L8+L9+L10+L11+L12+L13+L16+L17+L18+L19+L20+L21+L22+L23 -> 0 | M24: =M7+M8+M9+M10+M11+M12+M13+M16+M17+M18+M19+M20+M21+M22+M23 -> 0 | ... Y24: =Y7+Y8+Y9+Y10+Y11+Y12+Y13+Y16+Y17+Y18+Y19+Y20+Y21+Y22+Y23 -> 0
B25: t.sk. PVN
B26: Investīciju izmaksas bez neparedzētajiem izdevumiem un neatt. PVN | H26: =H24-H23 -> 0 | I26: =I24-I23-I25 -> 0 | J26: =J24-J23 -> 0 | K26: =K24-K23-K25 -> 0 | L26: =L24-L23 -> 0 | M26: =M24-M23-M25 -> 0 | N26: =N24-N23 -> 0 | O26: =O24-O23 -> 0 | P26: =P24-P23 -> 0 | Q26: =Q24-Q23 -> 0 | R26: =R24-R23 -> 0 | S26: =S24-S23 -> 0 | T26: =T24-T23 -> 0 | U26: =U24-U23 -> 0 | ... Y26: =Y24-Y23 -> 0

Sheet 1.2.2.B. Partneris-2
A1: DARBA LAPA Nr.1.2.2.B. | D1: Aizpilda par projekta iesniedzēja sadarbības partnera darbībām, kas IR saistītas ar komercdarbības atbalstu
B3: Sadarbības partneris: | G3: Veids: | K3: Valsts budžeta dotācijas īpatsvars (%): | P3: Saite valsts budžeta dotācijas noteikšanai (VARAM vietnē)
A4: BUDŽETS (+)
A5: Nr. | B5: Izmaksu pozīcijas nosaukums | C5: Maksimālā ES fondu līdzfin. atbalsta likme (%) | D5: Kopējā summa | F5: Izmaksas kopā | H5: ='Dati par projektu'!E13 -> 2025 | J5: =IF(OR(H5>='Dati par projektu'!$C$17,H5="X"),"X",H5+1) -> 2026 | L5: =IF(OR(J5>='Dati par projektu'!$C$17,J5="X"),"X",J5+1) -> 2027 | N5: =IF(OR(L5>='Dati par projektu'!$C$17,L5="X"),"X",L5+1) -> 2028 | P5: =IF(OR(N5>='Dati par projektu'!$C$17,N5="X"),"X",N5+1) -> 2029 | R5: =IF(OR(P5>='Dati par projektu'!$C$17,P5="X"),"X",P5+1) -> X | T5: =IF(OR(R5>='Dati par projektu'!$C$17,R5="X"),"X",R5+1) -> X | V5: =IF(OR(T5>='Dati par projektu'!$C$17,T5="X"),"X",T5+1) -> X | X5: =IF(OR(V5>='Dati par projektu'!$C$17,V5="X"),"X",V5+1) -> X | AV5: 0.55
B6: Projekta netiešās izmaksas kopā: | D6: EUR | E6: % | F6: attiecināmas izmaksas | G6: ārpusprojekta izmaksas | H6: attiecināmas izmaksas | I6: ārpusprojekta izmaksas | J6: attiecināmas izmaksas | K6: ārpusprojekta izmaksas | L6: attiecināmas izmaksas | M6: ārpusprojekta izmaksas | N6: attiecināmas izmaksas | O6: ārpusprojekta izmaksas | P6: attiecināmas izmaksas | Q6: ārpusprojekta izmaksas | R6: attiecināmas izmaksas | S6: ārpusprojekta izmaksas | T6: attiecināmas izmaksas | U6: ārpusprojekta izmaksas | V6: attiecināmas izmaksas | W6: ārpusprojekta izmaksas | X6: attiecināmas izmaksas | Y6: ārpusprojekta izmaksas | AV6: 0.45
A7: 1 | B7: Projekta izmaksas saskaņā ar vienoto izmaksu likmi (netiešās izmaksas) | C7: 0.85 | D7: =F7+G7 -> 0 | E7: =D7/$D$24 -> #DIV/0! | F7: =ROUND(H7+J7+L7+N7+P7+R7+T7+V7+X7,2) -> 0 | G7: =ROUND(I7+K7+M7+O7+Q7+S7+U7+W7+Y7,2) -> 0 | AV7: 0.35
A8: 2 | B8: Projekta vadības izmaksas | C8: 0.85 | D8: =F8+G8 -> 0 | E8: =D8/$D$24 -> #DIV/0! | F8: =ROUND(H8+J8+L8+N8+P8+R8+T8+V8+X8,2) -> 0 | G8: =ROUND(I8+K8+M8+O8+Q8+S8+U8+W8+Y8,2) -> 0
A9: 3 | B9: Projekta īstenošanas personāla izmaksas | C9: 0.85 | D9: =F9+G9 -> 0 | E9: =D9/$D$24 -> #DIV/0! | F9: =ROUND(H9+J9+L9+N9+P9+R9+T9+V9+X9,2) -> 0 | G9: =ROUND(I9+K9+M9+O9+Q9+S9+U9+W9+Y9,2) -> 0
A10: 4 | B10: Mērķa grupas nodrošinājuma izmaksas | C10: 0.85 | D10: =F10+G10 -> 0 | E10: =D10/$D$24 -> #DIV/0! | F10: =ROUND(H10+J10+L10+N10+P10+R10+T10+V10+X10,2) -> 0 | G10: =ROUND(I10+K10+M10+O10+Q10+S10+U10+W10+Y10,2) -> 0
A11: 5 | B11: Informācijas sistēmu izstrādes, ieviešanas un kvalitātes kontroles izmaksas | C11: 0.85 | D11: =F11+G11 -> 0 | E11: =D11/$D$24 -> #DIV/0! | F11: =ROUND(H11+J11+L11+N11+P11+R11+T11+V11+X11,2) -> 0 | G11: =ROUND(I11+K11+M11+O11+Q11+S11+U11+W11+Y11,2) -> 0
A12: 6 | B12: Materiālu, aprīkojuma un iekārtu izmaksas | C12: 0.85 | D12: =F12+G12 -> 0 | E12: =D12/$D$24 -> #DIV/0! | F12: =ROUND(H12+J12+L12+N12+P12+R12+T12+V12+X12,2) -> 0 | G12: =ROUND(I12+K12+M12+O12+Q12+S12+U12+W12+Y12,2) -> 0
A13: 7 | B13: Būvniecības izmaksas | D13: =F13+G13 -> 0 | E13: =D13/$D$24 -> #DIV/0! | F13: =ROUND(H13+J13+L13+N13+P13+R13+T13+V13+X13,2) -> 0 | G13: =ROUND(I13+K13+M13+O13+Q13+S13+U13+W13+Y13,2) -> 0 | H13: =SUM(H14:H15) -> 0 | I13: =SUM(I14:I15) -> 0 | J13: =SUM(J14:J15) -> 0 | K13: =SUM(K14:K15) -> 0 | L13: =SUM(L14:L15) -> 0 | M13: =SUM(M14:M15) -> 0 | N13: =SUM(N14:N15) -> 0 | O13: =SUM(O14:O15) -> 0 | ... Y13: =SUM(Y14:Y15) -> 0
A14: 7.1. | B14: Projektēšanas izmaksas (de minimis) | C14: 1 | D14: =F14+G14 -> 0 | E14: =D14/$D$24 -> #DIV/0! | F14: =ROUND(H14+J14+L14+N14+P14+R14+T14+V14+X14,2) -> 0 | G14: =ROUND(I14+K14+M14+O14+Q14+S14+U14+W14+Y14,2) -> 0
A15: 7.2. | B15: Pārējās būvniecības izmaksas | C15: 0.85 | D15: =F15+G15 -> 0 | E15: =D15/$D$24 -> #DIV/0! | F15: =ROUND(H15+J15+L15+N15+P15+R15+T15+V15+X15,2) -> 0 | G15: =ROUND(I15+K15+M15+O15+Q15+S15+U15+W15+Y15,2) -> 0
A16: 8 | B16: Patenti, licences utml. | C16: 0.85 | D16: =F16+G16 -> 0 | E16: =D16/$D$24 -> #DIV/0! | F16: =ROUND(H16+J16+L16+N16+P16+R16+T16+V16+X16,2) -> 0 | G16: =ROUND(I16+K16+M16+O16+Q16+S16+U16+W16+Y16,2) -> 0
A17: 9 | B17: Nekustamā īpašuma (piemēram, ēku un zemes) iegādes izmaksas | C17: 0.85 | D17: =F17+G17 -> 0 | E17: =D17/$D$24 -> #DIV/0! | F17: =ROUND(H17+J17+L17+N17+P17+R17+T17+V17+X17,2) -> 0 | G17: =ROUND(I17+K17+M17+O17+Q17+S17+U17+W17+Y17,2) -> 0
A18: 10 | B18: Informatīvo un publicitātes pasākumu izmaksas | C18: 0.85 | D18: =F18+G18 -> 0 | E18: =D18/$D$24 -> #DIV/0! | F18: =ROUND(H18+J18+L18+N18+P18+R18+T18+V18+X18,2) -> 0 | G18: =ROUND(I18+K18+M18+O18+Q18+S18+U18+W18+Y18,2) -> 0
A19: 11 | B19: Projekta iesnieguma un to pamatojošās dokumentācijas sagatavošanas izmaksas (de minimis) | C19: 1 | D19: =F19+G19 -> 0 | E19: =D19/$D$24 -> #DIV/0! | F19: =ROUND(H19+J19+L19+N19+P19+R19+T19+V19+X19,2) -> 0 | G19: =ROUND(I19+K19+M19+O19+Q19+S19+U19+W19+Y19,2) -> 0
A20: 12 | B20: Ieguldījumi natūrā | C20: 0.85 | D20: =F20+G20 -> 0 | E20: =D20/$D$24 -> #DIV/0! | F20: =ROUND(H20+J20+L20+N20+P20+R20+T20+V20+X20,2) -> 0 | G20: =ROUND(I20+K20+M20+O20+Q20+S20+U20+W20+Y20,2) -> 0
A21: 13 | B21: Pārējās projekta īstenošanas izmaksas | C21: 0.85 | D21: =F21+G21 -> 0 | E21: =D21/$D$24 -> #DIV/0! | F21: =ROUND(H21+J21+L21+N21+P21+R21+T21+V21+X21,2) -> 0 | G21: =ROUND(I21+K21+M21+O21+Q21+S21+U21+W21+Y21,2) -> 0
A22: 14 | B22: Vienreizējais maksājums | C22: 0.85 | D22: =F22+G22 -> 0 | E22: =D22/$D$24 -> #DIV/0! | F22: =ROUND(H22+J22+L22+N22+P22+R22+T22+V22+X22,2) -> 0 | G22: =ROUND(I22+K22+M22+O22+Q22+S22+U22+W22+Y22,2) -> 0
A23: 15 | B23: Neparedzētie izdevumi | C23: 0.85 | D23: =F23+G23 -> 0 | E23: =D23/$D$24 -> #DIV/0! | F23: =ROUND(H23+J23+L23+N23+P23+R23+T23+V23+X23,2) -> 0 | G23: =ROUND(I23+K23+M23+O23+Q23+S23+U23+W23+Y23,2) -> 0
B24: KOPĀ | C24: 0.85 | D24: =F24+G24 -> 0 | E24: =D24/$D$24 -> #DIV/0! | F24: =F7+F8+F9+F10+F11+F12+F13+F16+F17+F18+F19+F20+F21+F22+F23 -> 0 | G24: =G7+G8+G9+G10+G11+G12+G13+G16+G17+G18+G19+G20+G21+G22+G23 -> 0 | H24: =H7+H8+H9+H10+H11+H12+H13+H16+H17+H18+H19+H20+H21+H22+H23 -> 0 | I24: =I7+I8+I9+I10+I11+I12+I13+I16+I17+I18+I19+I20+I21+I22+I23 -> 0 | J24: =J7+J8+J9+J10+J11+J12+J13+J16+J17+J18+J19+J20+J21+J22+J23 -> 0 | K24: =K7+K8+K9+K10+K11+K12+K13+K16+K17+K18+K19+K20+K21+K22+K23 -> 0 | L24: =L7+L8+L9+L10+L11+L12+L13+L16+L17+L18+L19+L20+L21+L22+L23 -> 0 | M24: =M7+M8+M9+M10+M11+M12+M13+M16+M17+M18+M19+M20+M21+M22+M23 -> 0 | ... Y24: =Y7+Y8+Y9+Y10+Y11+Y12+Y13+Y16+Y17+Y18+Y19+Y20+Y21+Y22+Y23 -> 0
B25: t.sk. PVN
B26: Investīciju izmaksas bez neparedzētajiem izdevumiem un neatt. PVN | H26: =H24-H23 -> 0 | I26: =I24-I23-I25 -> 0 | J26: =J24-J23 -> 0 | K26: =K24-K23-K25 -> 0 | L26: =L24-L23 -> 0 | M26: =M24-M23-M25 -> 0 | N26: =N24-N23 -> 0 | O26: =O24-O23 -> 0 | P26: =P24-P23 -> 0 | Q26: =Q24-Q23 -> 0 | R26: =R24-R23 -> 0 | S26: =S24-S23 -> 0 | T26: =T24-T23 -> 0 | U26: =U24-U23 -> 0 | ... Y26: =Y24-Y23 -> 0
B27: Investīciju izmaksas bez de minimis izmaksām | H27: =H24-H14-H19 -> 0 | I27: =I24-I14-I19 -> 0 | J27: =J24-J14-J19 -> 0 | K27: =K24-K14-K19 -> 0 | L27: =L24-L14-L19 -> 0 | M27: =M24-M14-M19 -> 0 | N27: =N24-N14-N19 -> 0 | O27: =O24-O14-O19 -> 0 | ... Y27: =Y24-Y14-Y19 -> 0
B28: De minimis | H28: =H14+H19 -> 0 | I28: =I14+I19 -> 0 | J28: =J14+J19 -> 0 | K28: =K14+K19 -> 0 | L28: =L14+L19 -> 0 | M28: =M14+M19 -> 0 | N28: =N14+N19 -> 0 | O28: =O14+O19 -> 0 | ... Y28: =Y14+Y19 -> 0
B29: Investīciju izmaksas bez neparedzētajiem izd., de minimis un neatt. PVN | H29: =H26-H28 -> 0 | I29: =I26-I28 -> 0 | J29: =J26-J28 -> 0 | K29: =K26-K28 -> 0 | L29: =L26-L28 -> 0 | M29: =M26-M28 -> 0 | N29: =N26-N28 -> 0 | O29: =O26-O28 -> 0 | ... Y29: =Y26-Y28 -> 0
B34: v

Sheet 1.2.2.C. Partneris-2
A1: DARBA LAPA Nr.1.2.2.C. | D1: Aizpilda par projekta iesniedzēja sadarbības partnera darbībām, kas IR saistītas ar komercdarbības atbalstu (VTNP)
B3: Sadarbības partneris: | G3: Veids: | K3: Valsts budžeta dotācijas īpatsvars (%): | P3: Saite valsts budžeta dotācijas noteikšanai (VARAM vietnē) | T3: Ja sadarbības partneris ir kapitālsabiedrība, vai pašvaldība sedz šo ieguldījumu līdzfinansējuma daļu: | AA3: =IF(X3="",0,IF(X3="Jā",2,1)) -> 0
A4: BUDŽETS (+)
A5: Nr. | B5: Izmaksu pozīcijas nosaukums | C5: Maksimālā ES fondu līdzfin. atbalsta likme (%) | D5: Kopējā summa | F5: Izmaksas kopā | H5: ='Dati par projektu'!E13 -> 2025 | J5: =IF(OR(H5>='Dati par projektu'!$C$17,H5="X"),"X",H5+1) -> 2026 | L5: =IF(OR(J5>='Dati par projektu'!$C$17,J5="X"),"X",J5+1) -> 2027 | N5: =IF(OR(L5>='Dati par projektu'!$C$17,L5="X"),"X",L5+1) -> 2028 | P5: =IF(OR(N5>='Dati par projektu'!$C$17,N5="X"),"X",N5+1) -> 2029 | R5: =IF(OR(P5>='Dati par projektu'!$C$17,P5="X"),"X",P5+1) -> X | T5: =IF(OR(R5>='Dati par projektu'!$C$17,R5="X"),"X",R5+1) -> X | V5: =IF(OR(T5>='Dati par projektu'!$C$17,T5="X"),"X",T5+1) -> X | X5: =IF(OR(V5>='Dati par projektu'!$C$17,V5="X"),"X",V5+1) -> X | AV5: 0.55
