Workbook

Sheet VP maijs
D1: 2.pielikums
D2: Ministru kabineta rīkojuma projekta “Par apropriācijas pārdali no budžeta resora
D3: “74. Gadskārtējā valsts budžeta izpildes procesā pārdalāmais finansējums”
D4: programmas 22.00.00 “Valsts ārējās robežas drošības pasākumu nodrošināšana””
D5: sākotnējās ietekmes novērtējuma ziņojumam (anotācijai)
A7: Valsts policijas izdevumi
A8: Kopasavilkums
A10: Kods | B10: Koda nosaukums | C10: Detalizēts izdevumu aprēķins | D10: Izdevumi, euro
A11: Izdevumi kopā ar vidējās izpeļņas pieauguma kompensēšanu | D11: =D12+D15 -> 83174
A12: 1000 | B12: Atlīdzība | C12: × | D12: =D18+D37 -> 69593
A13: 1100 | B13: Atalgojums | C13: × | D13: =D38+D19 -> 56311.86
A14: 1210 | B14: Darba devēja valsts sociālās apdrošināšanas obligātās iemaksas | C14: × | D14: =D40+D26 -> 13280.77
A15: 2000 | B15: Preces un pakalpojumi | C15: × | D15: =D27 -> 13581
A17: 1) Izdevumi saistībā ar rīkojuma Nr. 184 izpildei nepieciešamo pasākumu īstenošanu | D17: =D18+D27 -> 77823
A18: 1000 | B18: Atlīdzība | C18: × | D18: =ROUNDUP(D19+D26,0) -> 64242
A19: 1100 | B19: Atalgojums | C19: × | D19: =SUM(D20:D25) -> 51981.86
A20: 1116 | B20: Mēnešalga amatpersonām ar speciālajām dienesta pakāpēm
A21: 1141
A22: 1141 | B22: Piemaksa par nakts darbu | C22: Detalizēts aprēķins par laika periodu no 2024. gada 01. maija līdz 31. maijam 1.tabulā. Iesaistītas 229 personas, kopējais iesaistes laiks 3 455,50 stundas. | D22: ='1.tabula'!G6 -> 16024.64
A23: 1142 | B23: Samaksa par virsstundu darbu un darbu svētku dienās | C23: 1) Piemaksa par virsstundu darbu Detalizēts aprēķins par laika periodu no 2024. gada 01. maija līdz 31. maijam 2.tabulā. Iesaistītas ___ personas, kopējais iesaistes laiks _________ stundas. | D23: =' 2.tabula'!G6 -> 0
C24: Piemaksa par darbu svētku dienās (01.05., 04.05., 12.05., 19.05.) Detalizēts aprēķins par laika periodu no no 2024. gada 01. maija līdz 31. maijam 2.tabulā. Iesaistītas 128 personas, kopējais iesaistes laiks 1 678,50 stundas. | D24: ='2.tabula'!G6 -> 15798.05
A25: 1145 | B25: Piemaksa par darbu īpašos apstākļos, speciālās piemaksas | C25: Detalizēts aprēķins par laika periodu no 2024. gada 01. maija līdz 31. maijam 3.tabulā. Iesaistītas 382 personas, kopējais iesaistes laiks 10 329 stundas. | D25: ='3.tabula'!H7 -> 20159.17
A26: 1210 | B26: Darba devēja valsts sociālās apdrošināšanas obligātās iemaksas | C26: 23,59% no aprēķinātā atalgojuma * izņemot 2 personas, kurām tiek piemērota nodokļu likme 21,94% (izdienas pensionārs) | D26: ='3.tabula'!I7+'1.tabula'!H6+'2.tabula'!H6+' 2.tabula'!H6 -> 12259.3
A27: 2000 | B27: Preces un pakalpojumi | C27: × | D27: =ROUNDUP(SUM(D28:D34),0) -> 13581
A28: 2112 | B28: Pārējie komandējumu un darba braucienu izdevumi | C28: Dienesta viesnīcas pakalpojumi Naktsmītnes izdevumi Daugavpilī: 2 nakts x 10 gultasvietas x 15,00 euro = 300,00 euro; 6 nakts x 11 gultasvietas × 15,00 euro = 990,00 euro; Aprēķins veikts par dienesta viesnīcas pakalpojumiem (naktsmītni), kas tika nodrošināti no 2024.gada 23. aprīļa līdz 30. aprīlim, izdevumi pakalpojuma sniedzējam tika apmaksāti 2024.gada maijā. | D28: =(2*10*15)+(6*11*15) -> 1290
A29: 2271 | B29: Izdevumi, kas saistīti ar operatīvo darbību | C29: Izdevumi, kas saistīti ar operatīvo darbību _____________________
A30: 2312 | B30: Inventārs
A31: 2322 | B31: Degviela | C31: Detalizēts aprēķins par laika periodu no 2024. gada 01. maija līdz 31. maijam 4.tabulā. Pasākuma nodrošināšanai tika iesaistīti 61 transportlīdzekļi; Vidēji viena transportlīdzekļa nobraukums 1488,8 km; Vidējā degvielas cena 1,465 euro/l; Vidējais degvielas patēriņš 7,42 l/km uz 100 km. 61 t-ldz. x 1 488,8 km x 1,465 euro/l x 7,42 l/km ÷ 100 km = 9 872,33 euro | D31: ='4.tabula'!F6 -> 9872.33
A32: 2350 | B32: Kārtējā remonta un iestāžu uzturēšanas materiāli | C32: Papīra dvieļi / 72 gab. x 2,0933 euro = 150,72 euro | D32: =ROUNDUP(72*2.0933,2) -> 150.72
A33: 2363 | B33: Ēdināšanas izdevumi | C33: Aprēķins veikts par ēdināšanas pakalpojumiem, kas tika nodrošināti 2024.gada 23. aprīļa līdz 30. aprīlim, izdevumi pakalpojuma sniedzējam tika apmaksāti 2024.gada maijā. Ēdināšanas pakalpojumi Daugavpilī: brokastis 49 porcijas × 8,00 euro = 392,00 euro; pusdienas 60 porcijas × 9,00 euro = 540,00 euro; vakariņas 57 porcijas × 10,00 euro = 570,00 euro; launags (sausā uztura paka uz 24 stundam) 27 pakas × 27,00 euro = 729,00 euro; launags (sausā uztura paka) 2 pakas × 18,00 euro = 36,00 euro. Saskaņā ar līgumu par izmitināšanu un ēdināšanu Daugavpilī ir noteikts, ka ēdināšana 3 reizes dienā nedrīkst pārsniegt 27,00 euro: Ēdināšanas izmaksas sastāda: Brokastis 8 euro /1 pers Pusdienas 9 euro /1 pers Vakariņas 10 euro /1 pers Amatpersonām, kuras ir maiņā uz robežas un tām nav iespējams atgriezties uz pusdienām un vakariņām, tad, lai nodrošinātu ēdināšanu amatpersonām dod līdzi pārtikas pakas: sausie produkti uz 24 stundām - 27 euro /1 pers. sausie produkti (vakariņaas un brokastis) - 18 euro /1 pers. Pārtikas pakas tiek dotas arī Latgales reģiona pārvaldes amatpersonām, kuras arī tiek norīkotas uz robežu, augstākminēto iemeslu dēļ, komandējama izdevumi un dienas nauda viņām nav. Papildus jāatzīmē, ka dienas nauda dienās, kad nodrošināta 3 reižu ēdināšana sastāda 30% no Ministru kabineta noteikumos par komandējumu paredzētā limita. | D33: =(49*8)+(60*9)+(57*10)+(27*27)+(2*18) -> 2267
A34: 2390 | B34: Pārējās preces | C34: Negazēts dzeramais ūdens 5 L / 408 gab. x 0,6869 euro = 280,26 euro Lietusmētelis 49 gab. x 10,77 euro = 527,73 euro
A36: 2) Vidējās izpeļņas pieauguma kompensēšanai | D36: =D37 -> 5351
A37: 1000 | B37: Atlīdzība | C37: × | D37: =ROUND(D38+D40,0) -> 5351
A38: 1100 | B38: Atalgojums | C38: × | D38: =ROUND(D39,0) -> 4330
A39: 1116 | B39: Mēnešalga amatpersonām ar speciālajām dienesta pakāpēm | C39: 51 981,86 euro × 8,33% = 4 330,09 euro. | D39: =ROUND(D19*8.33%,2) -> 4330.09
A40: 1210 | B40: Darba devēja valsts sociālās apdrošināšanas obligātās iemaksas | C40: 23,59% no aprēķinātā atalgojuma | D40: =ROUND(D39*0.2359,2) -> 1021.47

Sheet 1.tabula
I1: 1.tabula
A2: Valsts policija
A3: Piemaksa par nakts darbu amatpersonām ar speciālajām dienesta pakāpēm, kuras laika periodā no 2024. gada 01. maija līdz 31. maijam tika iesaistītas atbalsta sniegšanā Valsts robežsardzei Latvijas Republikas-Baltkrievijas Republikas valsts robežas robežuzraudzības nodrošināšanā
E4: 166.92
A5: Nr. p.k. | B5: Struktūrvienība | C5: Amats | D5: Mēnešalga amatpersonām ar speciālajām pakāpēm | E5: Stundas likme | F5: Stundu skaits | G5: Piemaksa par nakts darbu | H5: DD VSAOI | I5: Atlīdzība
A6: kopā | F6: =SUM(F7:F235) -> 3455.5 | G6: =SUM(G7:G235) -> 16024.64 | H6: =SUM(H7:H235) -> 3779.6 | I6: =SUM(I7:I235) -> 19804.24
A7: 1 | B7: VP LATGALES RP ZIEMEĻLATGALES IECIRKNIS | C7: iecirkņa priekšnieka vietnieks, Reaģēšanas nodaļas priekšnieks | D7: 2305 | E7: =ROUND(D7/$E$4,3) -> 13.809 | F7: 10 | G7: 69.05 | H7: =ROUND(G7*0.2359,2)-0.01 -> 16.28 | I7: =G7+H7 -> 85.33
A8: =A7+1 -> 2 | B8: VP LATGALES RP DIENVIDLATGALES IECIRKŅA REAĢĒŠANAS NODAĻAS 3.GRUPA | C8: vecākais inspektors | D8: 1495 | E8: =ROUND(D8/$E$4,3) -> 8.956 | F8: 10 | G8: 44.78 | H8: =ROUND(G8*0.2359,2) -> 10.56 | I8: =G8+H8 -> 55.34
A9: =A8+1 -> 3 | B9: VP LATGALES RP DIENVIDLATGALES IECIRKŅA REAĢĒŠANAS NODAĻAS 7.GRUPA | C9: inspektors | D9: 1425 | E9: =ROUND(D9/$E$4,3) -> 8.537 | F9: 10 | G9: 42.69 | H9: =ROUND(G9*0.2359,2) -> 10.07 | I9: =G9+H9 -> 52.76
A10: =A9+1 -> 4 | B10: VP LATGALES RP DIENVIDLATGALES IECIRKŅA REAĢĒŠANAS NODAĻAS 7.GRUPA | C10: jaunākais inspektors | D10: 1242 | E10: =ROUND(D10/$E$4,3) -> 7.441 | F10: 16 | G10: 59.53 | H10: =ROUND(G10*0.2359,2) -> 14.04 | I10: =G10+H10 -> 73.57
A11: =A10+1 -> 5 | B11: VP LATGALES RP DIENVIDLATGALES IECIRKŅA IZMEKLĒŠANAS NODAĻAS 5.GRUPA | C11: inspektors | D11: 1553 | E11: =ROUND(D11/$E$4,3) -> 9.304 | F11: 16 | G11: 74.43 | H11: =ROUND(G11*0.2359,2) -> 17.56 | I11: =G11+H11 -> 91.99
A12: =A11+1 -> 6 | B12: VP LATGALES RP DIENVIDLATGALES IECIRKŅA REAĢĒŠANAS NODAĻAS 1.GRUPA | C12: inspektors | D12: 1425 | E12: =ROUND(D12/$E$4,3) -> 8.537 | F12: 16 | G12: 68.3 | H12: =ROUND(G12*0.2359,2) -> 16.11 | I12: =G12+H12 -> 84.41
A13: =A12+1 -> 7 | B13: VP LATGALES RP ZIEMEĻLATGALES IECIRKŅA PREVENCIJAS GRUPA | C13: vecākais inspektors | D13: 1523 | E13: =ROUND(D13/$E$4,3) -> 9.124 | F13: 8 | G13: 36.5 | H13: =ROUND(G13*0.2359,2) -> 8.61 | I13: =G13+H13 -> 45.11
A14: =A13+1 -> 8 | B14: VP LATGALES RP ZIEMEĻLATGALES IECIRKŅA REAĢĒŠANAS NODAĻAS 9.GRUPA | C14: inspektors | D14: 1425 | E14: =ROUND(D14/$E$4,3) -> 8.537 | F14: 8 | G14: 34.15 | H14: =ROUND(G14*0.2359,2) -> 8.06 | I14: =G14+H14 -> 42.21
A15: =A14+1 -> 9 | B15: VP LATGALES RP KĀRTPB ATĻAUJU SISTĒMAS GRUPA | C15: inspektors | D15: 1297 | E15: =ROUND(D15/$E$4,3) -> 7.77 | F15: 32 | G15: 124.32 | H15: =ROUND(G15*0.2359,2) -> 29.33 | I15: =G15+H15 -> 153.65
A16: =A15+1 -> 10 | B16: VP LATGALES RP DIENVIDLATGALES IECIRKŅA IZMEKLĒŠANAS NODAĻAS 7.GRUPA | C16: vecākais inspektors | D16: 1495 | E16: =ROUND(D16/$E$4,3) -> 8.956 | F16: 8 | G16: 35.82 | H16: =ROUND(G16*0.2359,2) -> 8.45 | I16: =G16+H16 -> 44.27
A17: =A16+1 -> 11 | B17: VP LATGALES RP ZIEMEĻLATGALES IECIRKŅA REAĢĒŠANAS NODAĻAS 10.GRUPA | C17: galvenais inspektors | D17: 1680 | E17: =ROUND(D17/$E$4,3) -> 10.065 | F17: 6 | G17: 30.2 | H17: =ROUND(G17*0.2359,2) -> 7.12 | I17: =G17+H17 -> 37.32
A18: =A17+1 -> 12 | B18: VP LATGALES RP DIENVIDLATGALES IECIRKŅA REAĢĒŠANAS NODAĻAS 6.GRUPA | C18: jaunākais inspektors | D18: 1242 | E18: =ROUND(D18/$E$4,3) -> 7.441 | F18: 8 | G18: 29.76 | H18: =ROUND(G18*0.2359,2) -> 7.02 | I18: =G18+H18 -> 36.78
A19: =A18+1 -> 13 | B19: VP LATGALES RP ZIEMEĻLATGALES IECIRKŅA IZMEKLĒŠANAS NODAĻAS 2.GRUPA | C19: galvenais inspektors | D19: 2040 | E19: =ROUND(D19/$E$4,3) -> 12.221 | F19: 8 | G19: 48.88 | H19: =ROUND(G19*0.2359,2) -> 11.53 | I19: =G19+H19 -> 60.41
... A56: =A55+1 -> 50 | B56: VP LATGALES RP ZIEMEĻLATGALES IECIRKŅA REAĢĒŠANAS NODAĻAS 9.GRUPA | C56: vecākais inspektors | D56: 1765 | E56: =ROUND(D56/$E$4,3) -> 10.574 | F56: 8 | G56: 42.3 | H56: =ROUND(G56*0.2359,2) -> 9.98 | I56: =G56+H56 -> 52.28
A57: =A56+1 -> 51 | B57: VP LATGALES RP DIENVIDLATGALES IECIRKŅA REAĢĒŠANAS NODAĻAS 4.GRUPA | C57: vecākais inspektors | D57: 1765 | E57: =ROUND(D57/$E$4,3) -> 10.574 | F57: 8 | G57: 42.3 | H57: 9.28 | I57: =G57+H57 -> 51.58 | J57: ***
A58: =A57+1 -> 52 | B58: VP LATGALES RP ZIEMEĻLATGALES IECIRKŅA REAĢĒŠANAS NODAĻAS 2.GRUPA | C58: galvenais inspektors | D58: 1882 | E58: =ROUND(D58/$E$4,3) -> 11.275 | F58: 8 | G58: 45.1 | H58: =ROUND(G58*0.2359,2) -> 10.64 | I58: =G58+H58 -> 55.74
A59: =A58+1 -> 53 | B59: VP LATGALES RP ZIEMEĻLATGALES IECIRKŅA REAĢĒŠANAS NODAĻAS 4.GRUPA | C59: jaunākais inspektors | D59: 1222 | E59: =ROUND(D59/$E$4,3) -> 7.321 | F59: 8 | G59: 29.28 | H59: =ROUND(G59*0.2359,2) -> 6.91 | I59: =G59+H59 -> 36.19
A60: =A59+1 -> 54 | B60: VP LATGALES RP ZIEMEĻLATGALES IECIRKŅA REAĢĒŠANAS NODAĻAS 10.GRUPA | C60: inspektors | D60: 1425 | E60: =ROUND(D60/$E$4,3) -> 8.537 | F60: 8 | G60: 34.15 | H60: =ROUND(G60*0.2359,2) -> 8.06 | I60: =G60+H60 -> 42.21
A61: =A60+1 -> 55 | B61: VP LATGALES RP KĀRTPB ATĻAUJU SISTĒMAS GRUPA | C61: inspektors | D61: 1547 | E61: =ROUND(D61/$E$4,3) -> 9.268 | F61: 8 | G61: 37.07 | H61: =ROUND(G61*0.2359,2) -> 8.74 | I61: =G61+H61 -> 45.81
A62: =A61+1 -> 56 | B62: VP LATGALES RP ZIEMEĻLATGALES IECIRKŅA IZMEKLĒŠANAS NODAĻAS 3.GRUPA | C62: galvenais inspektors | D62: 2165 | E62: =ROUND(D62/$E$4,3) -> 12.97 | F62: 10 | G62: 64.85 | H62: =ROUND(G62*0.2359,2) -> 15.3 | I62: =G62+H62 -> 80.15
A63: =A62+1 -> 57 | B63: VP LATGALES RP DIENVIDLATGALES IECIRKŅA IZMEKLĒŠANAS NODAĻAS 1.GRUPA | C63: inspektors | D63: 1561 | E63: =ROUND(D63/$E$4,3) -> 9.352 | F63: 8 | G63: 37.41 | H63: =ROUND(G63*0.2359,2) -> 8.83 | I63: =G63+H63 -> 46.24
A64: =A63+1 -> 58 | B64: VP LATGALES RP ZIEMEĻLATGALES IECIRKŅA PREVENCIJAS GRUPA | C64: inspektors | D64: 1472 | E64: =ROUND(D64/$E$4,3) -> 8.819 | F64: 8 | G64: 35.28 | H64: =ROUND(G64*0.2359,2) -> 8.32 | I64: =G64+H64 -> 43.6
A65: =A64+1 -> 59 | B65: VP LATGALES RP KRIMPB RĒZEKNES REĢIONĀLĀ NODAĻA | C65: vecākais inspektors | D65: 1722 | E65: =ROUND(D65/$E$4,3) -> 10.316 | F65: 8 | G65: 41.26 | H65: =ROUND(G65*0.2359,2) -> 9.73 | I65: =G65+H65 -> 50.99
A66: =A65+1 -> 60 | B66: VP LATGALES REĢIONA PĀRVALDES VADĪBA | C66: reģiona pārvaldes priekšnieka vietnieks, kārtības policijas biroja priekšnieks | D66: 2653 | E66: =ROUND(D66/$E$4,3) -> 15.894 | F66: 4.5 | G66: 35.76 | H66: =ROUND(G66*0.2359,2) -> 8.44 | I66: =G66+H66 -> 44.2
A67: =A66+1 -> 61 | B67: VP LATGALES RP ZIEMEĻLATGALES IECIRKŅA REAĢĒŠANAS NODAĻAS 9.GRUPA | C67: inspektors | D67: 1425 | E67: =ROUND(D67/$E$4,3) -> 8.537 | F67: 8 | G67: 34.15 | H67: =ROUND(G67*0.2359,2) -> 8.06 | I67: =G67+H67 -> 42.21
A68: =A67+1 -> 62 | B68: VP LATGALES RP ZIEMEĻLATGALES IECIRKŅA IZMEKLĒŠANAS NODAĻAS 2.GRUPA | C68: vecākais inspektors | D68: 1640 | E68: =ROUND(D68/$E$4,3) -> 9.825 | F68: 16 | G68: 78.6 | H68: =ROUND(G68*0.2359,2) -> 18.54 | I68: =G68+H68 -> 97.14
A69: =A68+1 -> 63 | B69: VP LATGALES RP DIENVIDLATGALES IECIRKŅA IZMEKLĒŠANAS NODAĻAS 7.GRUPA | C69: inspektors | D69: 1472 | E69: =ROUND(D69/$E$4,3) -> 8.819 | F69: 8 | G69: 35.28 | H69: =ROUND(G69*0.2359,2) -> 8.32 | I69: =G69+H69 -> 43.6
... A235: =A234+1 -> 229 | B235: VP LATGALES RP DIENVIDLATGALES IECIRKŅA IZMEKLĒŠANAS NODAĻAS 5.GRUPA | C235: inspektors | D235: 1501 | E235: =ROUND(D235/$E$4,3) -> 8.992 | F235: 8 | G235: 35.97 | H235: =ROUND(G235*0.2359,2) -> 8.49 | I235: =G235+H235 -> 44.46
B237: *** - izdienas pensionārs

Sheet  2.tabula
I1: 2.tabula
A2: Valsts policija
A3: Detalizēts aprēķins samaksai par virsstundu darbu amatpersonām ar speciālo dienesta pakāpi, sniedzot atbalstu Valsts robežsardzei Latvijas Republikas-Baltkrievijas Republikas valsts robežas nelikumīgas šķērsošanas nodrošināšanā, par laika periodu no 2024. gada 01. maija līdz 31. maijam.
E4: 166.92
A5: Nr. p.k. | B5: Struktūrvienība | C5: Amats | D5: Mēnešalga amatpersonām ar speciālajām pakāpēm | E5: Stundas likme | F5: Stundu skaits | G5: Samaksa par virsstundu darbu | H5: DD VSAOI | I5: Atlīdzība
A6: kopā | F6: =SUM(F7:F608) -> 0 | G6: =SUM(G7:G608) -> 0 | H6: =SUM(H7:H608) -> 0 | I6: =SUM(I7:I608) -> 0
A7: 1 | E7: =ROUND(D7/$E$4,3) -> 0 | H7: =ROUND(G7*0.2359,2) -> 0 | I7: =G7+H7 -> 0
A8: =A7+1 -> 2 | E8: =ROUND(D8/$E$4,3) -> 0 | H8: =ROUND(G8*0.2359,2) -> 0 | I8: =G8+H8 -> 0
A9: =A8+1 -> 3 | E9: =ROUND(D9/$E$4,3) -> 0 | H9: =ROUND(G9*0.2359,2) -> 0 | I9: =G9+H9 -> 0
A10: =A9+1 -> 4 | E10: =ROUND(D10/$E$4,3) -> 0 | H10: =ROUND(G10*0.2359,2) -> 0 | I10: =G10+H10 -> 0
A11: =A10+1 -> 5 | E11: =ROUND(D11/$E$4,3) -> 0 | H11: =ROUND(G11*0.2359,2) -> 0 | I11: =G11+H11 -> 0
A12: =A11+1 -> 6 | E12: =ROUND(D12/$E$4,3) -> 0 | H12: =ROUND(G12*0.2359,2) -> 0 | I12: =G12+H12 -> 0
A13: =A12+1 -> 7 | E13: =ROUND(D13/$E$4,3) -> 0 | H13: =ROUND(G13*0.2359,2) -> 0 | I13: =G13+H13 -> 0
A14: =A13+1 -> 8 | E14: =ROUND(D14/$E$4,3) -> 0 | H14: =ROUND(G14*0.2359,2) -> 0 | I14: =G14+H14 -> 0
A15: =A14+1 -> 9 | E15: =ROUND(D15/$E$4,3) -> 0 | H15: =ROUND(G15*0.2359,2) -> 0 | I15: =G15+H15 -> 0
A16: =A15+1 -> 10 | E16: =ROUND(D16/$E$4,3) -> 0 | H16: =ROUND(G16*0.2359,2) -> 0 | I16: =G16+H16 -> 0
A17: =A16+1 -> 11 | E17: =ROUND(D17/$E$4,3) -> 0 | H17: =ROUND(G17*0.2359,2) -> 0 | I17: =G17+H17 -> 0
A18: =A17+1 -> 12 | E18: =ROUND(D18/$E$4,3) -> 0 | H18: =ROUND(G18*0.2359,2) -> 0 | I18: =G18+H18 -> 0
A19: =A18+1 -> 13 | E19: =ROUND(D19/$E$4,3) -> 0 | H19: =ROUND(G19*0.2359,2) -> 0 | I19: =G19+H19 -> 0
... A608: =A607+1 -> 602 | E608: =ROUND(D608/$E$4,3) -> 0 | H608: =ROUND(G608*0.2359,2) -> 0 | I608: =G608+H608 -> 0

Sheet 2.tabula
I1: 2.tabula
A2: Valsts policija
A3: Detalizēts aprēķins piemaksai par darbu svētku dienās amatpersonām ar speciālo dienesta pakāpi, sniedzot atbalstu Valsts robežsardzei Latvijas Republikas-Baltkrievijas Republikas valsts robežas nelikumīgas šķērsošanas nodrošināšanā, par laika periodu no 2024. gada 01. maija līdz 31. maijam (par 01.05., 04.05., 12.05., 19.05.)
E4: 166.92
A5: Nr. p.k. | B5: Struktūrvienība | C5: Amats | D5: Mēnešalga amatpersonām ar speciālajām pakāpēm | E5: Stundas likme | F5: Stundu skaits | G5: Piemaksa par darbu svētku dienās | H5: DD VSAOI | I5: Atlīdzība
A6: kopā | F6: =SUM(F7:F134) -> 1678.5 | G6: =SUM(G7:G134) -> 15798.05 | H6: =SUM(H7:H134) -> 3726.04 | I6: =SUM(I7:I134) -> 19524.09
A7: 1 | B7: VP LATGALES RP ZIEMEĻLATGALES IECIRKNIS | C7: iecirkņa priekšnieka vietnieks, Reaģēšanas nodaļas priekšnieks | D7: 2305 | E7: 13.809 | F7: 10 | G7: 138.09 | H7: 32.58 | I7: 170.67
A8: 2 | B8: VP LATGALES RP DIENVIDLATGALES IECIRKŅA REAĢĒŠANAS NODAĻAS 7.GRUPA | C8: inspektors | D8: 1425 | E8: 8.537 | F8: 24.5 | G8: 209.16 | H8: 49.34 | I8: 258.5
A9: 3 | B9: VP LATGALES RP DIENVIDLATGALES IECIRKŅA REAĢĒŠANAS NODAĻAS 7.GRUPA | C9: jaunākais inspektors | D9: 1242 | E9: 7.441 | F9: 5.5 | G9: 40.93 | H9: 9.66 | I9: 50.59
A10: 4 | B10: VP LATGALES RP DIENVIDLATGALES IECIRKŅA REAĢĒŠANAS NODAĻAS 4.GRUPA | C10: vecākais inspektors | D10: 1523 | E10: 9.124 | F10: 13 | G10: 118.61 | H10: 27.98 | I10: 146.59
A11: 5 | B11: VP LATGALES RP ZIEMEĻLATGALES IECIRKŅA REAĢĒŠANAS NODAĻAS 10.GRUPA | C11: galvenais inspektors | D11: 1680 | E11: 10.065 | F11: 11.5 | G11: 115.75 | H11: 27.31 | I11: 143.06
A12: 6 | B12: VP LATGALES RP ZIEMEĻLATGALES IECIRKŅA IZMEKLĒŠANAS NODAĻAS 3.GRUPA | C12: inspektors | D12: 1561 | E12: 9.352 | F12: 10 | G12: 93.52 | H12: 22.06 | I12: 115.58
A13: 7 | B13: VP LATGALES RP KĀRTPB RESURSU UN KRĪZES VADĪBAS NODAĻA | C13: nodaļas priekšnieks | D13: 1898 | E13: 11.371 | F13: 9 | G13: 102.34 | H13: 24.14 | I13: 126.48
A14: 8 | B14: VP LATGALES RP DIENVIDLATGALES IECIRKŅA REAĢĒŠANAS NODAĻAS 10.GRUPA | C14: inspektors | D14: 1445 | E14: 8.657 | F14: 14 | G14: 121.2 | H14: 28.59 | I14: 149.79
A15: 9 | B15: VP LATGALES RP ZIEMEĻLATGALES IECIRKŅA REAĢĒŠANAS NODAĻAS 6.GRUPA | C15: galvenais inspektors | D15: 1744 | E15: 10.448 | F15: 14 | G15: 146.27 | H15: 34.51 | I15: 180.78
A16: 10 | B16: VP LATGALES RP DIENVIDLATGALES IECIRKŅA IZMEKLĒŠANAS NODAĻAS 6.GRUPA | C16: inspektors | D16: 1445 | E16: 8.657 | F16: 9.5 | G16: 82.24 | H16: 19.4 | I16: 101.64
A17: 11 | B17: VP LATGALES RP ZIEMEĻLATGALES IECIRKŅA REAĢĒŠANAS NODAĻAS 8.GRUPA | C17: inspektors | D17: 1445 | E17: 8.657 | F17: 16.5 | G17: 142.84 | H17: 33.7 | I17: 176.54
A18: 12 | B18: VP LATGALES RP KĀRTPB PREVENCIJAS GRUPA | C18: galvenais inspektors | D18: 2043 | E18: 12.239 | F18: 19 | G18: 232.54 | H18: 54.86 | I18: 287.4
... A29: 23 | B29: VP LATGALES RP ZIEMEĻLATGALES IECIRKŅA REAĢĒŠANAS NODAĻAS 9.GRUPA | C29: vecākais inspektors | D29: 1765 | E29: 10.574 | F29: 11 | G29: 116.31 | H29: 27.44 | I29: 143.75
A30: 24 | B30: VP LATGALES RP DIENVIDLATGALES IECIRKŅA REAĢĒŠANAS NODAĻAS 4.GRUPA | C30: vecākais inspektors | D30: 1765 | E30: 10.574 | F30: 4.5 | G30: 47.58 | H30: 10.44 | I30: 58.02 | J30: ***
A31: 25 | B31: VP LATGALES RP ZIEMEĻLATGALES IECIRKŅA REAĢĒŠANAS NODAĻAS 10.GRUPA | C31: inspektors | D31: 1425 | E31: 8.537 | F31: 11.5 | G31: 98.18 | H31: 23.16 | I31: 121.34
A32: 26 | B32: VP LATGALES RP ZIEMEĻLATGALES IECIRKŅA IZMEKLĒŠANAS NODAĻAS 3.GRUPA | C32: galvenais inspektors | D32: 2165 | E32: 12.97 | F32: 10 | G32: 129.7 | H32: 30.6 | I32: 160.3
A33: 27 | B33: VP LATGALES RP KRIMPB RĒZEKNES REĢIONĀLĀ NODAĻA | C33: vecākais inspektors | D33: 1722 | E33: 10.316 | F33: 10 | G33: 103.16 | H33: 24.34 | I33: 127.5
A34: 28 | B34: VP LATGALES RP ZIEMEĻLATGALES IECIRKŅA PREVENCIJAS GRUPA | C34: inspektors | D34: 1472 | E34: 8.819 | F34: 16.5 | G34: 145.51 | H34: 34.33 | I34: 179.84
A35: 29 | B35: VP LATGALES RP KRIMPB EKONOMISKO NOZIEGUMU APKAROŠANAS NODAĻA | C35: galvenais inspektors | D35: 1791 | E35: 10.73 | F35: 5 | G35: 53.65 | H35: 12.66 | I35: 66.31
A36: 30 | B36: VP GKĀRTPP RKVP SPECIĀLO UZDEVUMU BATALJONA 7.ROTA (KURZEMES REĢIONA) | C36: rotas komandieris | D36: 2146 | E36: 12.856 | F36: 15 | G36: 192.84 | H36: 45.49 | I36: 238.33
A37: 31 | B37: VP LATGALES RP ZIEMEĻLATGALES IECIRKŅA IZMEKLĒŠANAS NODAĻAS 1.GRUPA | C37: vecākais inspektors | D37: 1640 | E37: 9.825 | F37: 11.5 | G37: 112.99 | H37: 26.65 | I37: 139.64
A38: 32 | B38: VP LATGALES RP DIENVIDLATGALES IECIRKŅA REAĢĒŠANAS NODAĻAS 8.GRUPA | C38: inspektors | D38: 1425 | E38: 8.537 | F38: 13 | G38: 110.98 | H38: 26.18 | I38: 137.16
A39: 33 | B39: VP GKĀRTPP RKVP SPECIĀLO UZDEVUMU BATALJONA 5.ROTA (VIDZEMES REĢIONA) | C39: rotas komandiera vietnieks | D39: 1981 | E39: 11.868 | F39: 36 | G39: 427.25 | H39: 100.79 | I39: 528.04
A40: 34 | B40: VP LATGALES RP ZIEMEĻLATGALES IECIRKŅA IZMEKLĒŠANAS NODAĻAS 2.GRUPA | C40: inspektors | D40: 1553 | E40: 9.304 | F40: 15 | G40: 139.56 | H40: 32.92 | I40: 172.48
A41: 35 | B41: VP LATGALES RP ZIEMEĻLATGALES IECIRKŅA IZMEKLĒŠANAS NODAĻAS 1.GRUPA | C41: inspektors | D41: 1581 | E41: 9.472 | F41: 4 | G41: 37.89 | H41: 8.94 | I41: 46.83
A42: 36 | B42: VP LATGALES RP ZIEMEĻLATGALES IECIRKŅA REAĢĒŠANAS NODAĻAS 7.GRUPA | C42: inspektors | D42: 1472 | E42: 8.819 | F42: 4.5 | G42: 39.69 | H42: 9.36 | I42: 49.05
... A134: 128 | B134: VP GKĀRTPP RKVP SPECIĀLO UZDEVUMU BATALJONA 6.ROTA (ZEMGALES REĢIONA) | C134: jaunākais inspektors | D134: 1390 | E134: 8.327 | F134: 13 | G134: 108.25 | H134: 25.54 | I134: 133.79
B136: *** - izdienas pensionārs

Sheet 3.tabula
J1: 3.tabula
A2: Valsts policija
A3: Piemaksa par darbu īpašos apstākļos amatpersonām ar speciālajām dienesta pakāpēm, kuras laika periodā no 2024. gada 01. maija līdz 31. maijam tika iesaistītas atbalsta sniegšanā Valsts robežsardzei Latvijas Republikas-Baltkrievijas Republikas valsts robežas robežuzraudzības nodrošināšanā
F4: 166.92
A5: Nr. p.k. | B5: Struktūrvienība | C5: Amats | D5: Mēnešalga amatpersonām ar speciālajām pakāpēm | E5: Piemaksas apmērs % | F5: Stundas likme | G5: Stundu skaits | H5: Piemaksa par darbu īpašos apstākļos | I5: DD VSAOI | J5: Atlīdzība
A7: kopā | G7: =SUM(G8:G389) -> 10329 | H7: =SUM(H8:H389) -> 20159.17 | I7: =SUM(I8:I389) -> 4753.66 | J7: =SUM(J8:J389) -> 24912.83
A8: 1 | B8: VP LATGALES RP DIENVIDLATGALES IECIRKŅA REAĢĒŠANAS NODAĻAS 3.GRUPA | C8: vecākais inspektors | D8: 1495 | E8: 20% | F8: =ROUND(D8/$F$4,3) -> 8.956 | G8: 28 | H8: 50.15 | I8: =ROUND(H8*23.59%,2) -> 11.83 | J8: =H8+I8 -> 61.98
A9: =A8+1 -> 2 | B9: VP LATGALES RP DIENVIDLATGALES IECIRKŅA REAĢĒŠANAS NODAĻAS 7.GRUPA | C9: inspektors | D9: 1425 | E9: 20% | F9: =ROUND(D9/$F$4,3) -> 8.537 | G9: 42 | H9: 71.71 | I9: =ROUND(H9*23.59%,2) -> 16.92 | J9: =H9+I9 -> 88.63
A10: =A9+1 -> 3 | B10: VP LATGALES RP DIENVIDLATGALES IECIRKŅA REAĢĒŠANAS NODAĻAS 7.GRUPA | C10: jaunākais inspektors | D10: 1242 | E10: 20% | F10: =ROUND(D10/$F$4,3) -> 7.441 | G10: 25 | H10: 37.21 | I10: =ROUND(H10*23.59%,2) -> 8.78 | J10: =H10+I10 -> 45.99
A11: =A10+1 -> 4 | B11: VP LATGALES RP DIENVIDLATGALES IECIRKŅA IZMEKLĒŠANAS NODAĻAS 5.GRUPA | C11: inspektors | D11: 1553 | E11: 20% | F11: =ROUND(D11/$F$4,3) -> 9.304 | G11: 23 | H11: 42.8 | I11: =ROUND(H11*23.59%,2) -> 10.1 | J11: =H11+I11 -> 52.9
A12: =A11+1 -> 5 | B12: VP LATGALES RP DIENVIDLATGALES IECIRKŅA REAĢĒŠANAS NODAĻAS 1.GRUPA | C12: inspektors | D12: 1425 | E12: 20% | F12: =ROUND(D12/$F$4,3) -> 8.537 | G12: 24 | H12: 40.98 | I12: =ROUND(H12*23.59%,2) -> 9.67 | J12: =H12+I12 -> 50.65
A13: =A12+1 -> 6 | B13: VP LATGALES RP ZIEMEĻLATGALES IECIRKŅA PREVENCIJAS GRUPA | C13: vecākais inspektors | D13: 1523 | E13: 20% | F13: =ROUND(D13/$F$4,3) -> 9.124 | G13: 36 | H13: 65.69 | I13: =ROUND(H13*23.59%,2) -> 15.5 | J13: =H13+I13 -> 81.19
A14: =A13+1 -> 7 | B14: VP LATGALES RP DIENVIDLATGALES IECIRKŅA REAĢĒŠANAS NODAĻAS 4.GRUPA | C14: vecākais inspektors | D14: 1523 | E14: 20% | F14: =ROUND(D14/$F$4,3) -> 9.124 | G14: 12 | H14: 21.9 | I14: =ROUND(H14*23.59%,2) -> 5.17 | J14: =H14+I14 -> 27.07
A15: =A14+1 -> 8 | B15: VP LATGALES RP ZIEMEĻLATGALES IECIRKŅA REAĢĒŠANAS NODAĻAS 9.GRUPA | C15: inspektors | D15: 1425 | E15: 20% | F15: =ROUND(D15/$F$4,3) -> 8.537 | G15: 12 | H15: 20.49 | I15: =ROUND(H15*23.59%,2) -> 4.83 | J15: =H15+I15 -> 25.32
A16: =A15+1 -> 9 | B16: VP LATGALES RP KĀRTPB ATĻAUJU SISTĒMAS GRUPA | C16: inspektors | D16: 1297 | E16: 20% | F16: =ROUND(D16/$F$4,3) -> 7.77 | G16: 48 | H16: 74.59 | I16: =ROUND(H16*23.59%,2) -> 17.6 | J16: =H16+I16 -> 92.19
A17: =A16+1 -> 10 | B17: VP LATGALES RP KRIMPB KRIMINĀLIZLŪKOŠANAS INFORMĀCIJAS ANALĪZES GRUPA | C17: vecākais inspektors | D17: 1672 | E17: 20% | F17: =ROUND(D17/$F$4,3) -> 10.017 | G17: 12 | H17: 24.04 | I17: =ROUND(H17*23.59%,2) -> 5.67 | J17: =H17+I17 -> 29.71
A18: =A17+1 -> 11 | B18: VP LATGALES RP DIENVIDLATGALES IECIRKŅA IZMEKLĒŠANAS NODAĻAS 7.GRUPA | C18: vecākais inspektors | D18: 1495 | E18: 20% | F18: =ROUND(D18/$F$4,3) -> 8.956 | G18: 12 | H18: 21.49 | I18: =ROUND(H18*23.59%,2) -> 5.07 | J18: =H18+I18 -> 26.56
A19: =A18+1 -> 12 | B19: VP LATGALES RP ZIEMEĻLATGALES IECIRKŅA REAĢĒŠANAS NODAĻAS 10.GRUPA | C19: galvenais inspektors | D19: 1680 | E19: 20% | F19: =ROUND(D19/$F$4,3) -> 10.065 | G19: 9 | H19: 18.12 | I19: =ROUND(H19*23.59%,2) -> 4.27 | J19: =H19+I19 -> 22.39
A20: =A19+1 -> 13 | B20: VP LATGALES RP ZIEMEĻLATGALES IECIRKŅA REAĢĒŠANAS NODAĻAS 7.GRUPA | C20: vecākais inspektors | D20: 1495 | E20: 20% | F20: =ROUND(D20/$F$4,3) -> 8.956 | G20: 12 | H20: 21.49 | I20: =ROUND(H20*23.59%,2) -> 5.07 | J20: =H20+I20 -> 26.56
... A79: =A78+1 -> 72 | B79: VP LATGALES RP ZIEMEĻLATGALES IECIRKŅA REAĢĒŠANAS NODAĻAS 9.GRUPA | C79: vecākais inspektors | D79: 1765 | E79: 20% | F79: =ROUND(D79/$F$4,3) -> 10.574 | G79: 12 | H79: 25.38 | I79: =ROUND(H79*23.59%,2) -> 5.99 | J79: =H79+I79 -> 31.37
A80: =A79+1 -> 73 | B80: VP LATGALES RP DIENVIDLATGALES IECIRKŅA REAĢĒŠANAS NODAĻAS 4.GRUPA | C80: vecākais inspektors | D80: 1765 | E80: 20% | F80: =ROUND(D80/$F$4,3) -> 10.574 | G80: 24 | H80: 50.76 | I80: =ROUND(H80*21.94%,2) -> 11.14 | J80: =H80+I80 -> 61.9 | K80: ***
A81: =A80+1 -> 74 | B81: VP LATGALES RP ZIEMEĻLATGALES IECIRKŅA REAĢĒŠANAS NODAĻAS 2.GRUPA | C81: galvenais inspektors | D81: 1882 | E81: 20% | F81: =ROUND(D81/$F$4,3) -> 11.275 | G81: 24 | H81: 54.12 | I81: =ROUND(H81*23.59%,2) -> 12.77 | J81: =H81+I81 -> 66.89
A82: =A81+1 -> 75 | B82: VP LATGALES RP DIENVIDLATGALES IECIRKŅA PREVENCIJAS GRUPA | C82: vecākais inspektors | D82: 1503 | E82: 20% | F82: =ROUND(D82/$F$4,3) -> 9.004 | G82: 13 | H82: 23.41 | I82: =ROUND(H82*23.59%,2) -> 5.52 | J82: =H82+I82 -> 28.93
A83: =A82+1 -> 76 | B83: VP LATGALES RP ZIEMEĻLATGALES IECIRKŅA REAĢĒŠANAS NODAĻAS 4.GRUPA | C83: jaunākais inspektors | D83: 1222 | E83: 20% | F83: =ROUND(D83/$F$4,3) -> 7.321 | G83: 36 | H83: 52.71 | I83: =ROUND(H83*23.59%,2) -> 12.43 | J83: =H83+I83 -> 65.14
A84: =A83+1 -> 77 | B84: VP LATGALES RP ZIEMEĻLATGALES IECIRKŅA REAĢĒŠANAS NODAĻAS 10.GRUPA | C84: inspektors | D84: 1425 | E84: 20% | F84: =ROUND(D84/$F$4,3) -> 8.537 | G84: 12 | H84: 20.49 | I84: =ROUND(H84*23.59%,2) -> 4.83 | J84: =H84+I84 -> 25.32
A85: =A84+1 -> 78 | B85: VP LATGALES RP KĀRTPB ATĻAUJU SISTĒMAS GRUPA | C85: inspektors | D85: 1547 | E85: 20% | F85: =ROUND(D85/$F$4,3) -> 9.268 | G85: 36 | H85: 66.73 | I85: =ROUND(H85*23.59%,2) -> 15.74 | J85: =H85+I85 -> 82.47
A86: =A85+1 -> 79 | B86: VP LATGALES RP ZIEMEĻLATGALES IECIRKŅA REAĢĒŠANAS NODAĻAS 4.GRUPA | C86: inspektors | D86: 1405 | E86: 20% | F86: =ROUND(D86/$F$4,3) -> 8.417 | G86: 12 | H86: 20.2 | I86: =ROUND(H86*23.59%,2) -> 4.77 | J86: =H86+I86 -> 24.97
A87: =A86+1 -> 80 | B87: VP LATGALES RP ZIEMEĻLATGALES IECIRKŅA IZMEKLĒŠANAS NODAĻAS 3.GRUPA | C87: galvenais inspektors | D87: 2165 | E87: 20% | F87: =ROUND(D87/$F$4,3) -> 12.97 | G87: 15 | H87: 38.91 | I87: =ROUND(H87*23.59%,2) -> 9.18 | J87: =H87+I87 -> 48.09
A88: =A87+1 -> 81 | B88: VP LATGALES RP DIENVIDLATGALES IECIRKŅA IZMEKLĒŠANAS NODAĻAS 1.GRUPA | C88: inspektors | D88: 1561 | E88: 20% | F88: =ROUND(D88/$F$4,3) -> 9.352 | G88: 25 | H88: 46.76 | I88: =ROUND(H88*23.59%,2) -> 11.03 | J88: =H88+I88 -> 57.79
A89: =A88+1 -> 82 | B89: VP LATGALES RP KĀRTPB RESURSU UN KRĪZES VADĪBAS NODAĻA | C89: operatīvais dežurants | D89: 1656 | E89: 20% | F89: =ROUND(D89/$F$4,3) -> 9.921 | G89: 36 | H89: 71.43 | I89: =ROUND(H89*23.59%,2) -> 16.85 | J89: =H89+I89 -> 88.28
A90: =A89+1 -> 83 | B90: VP LATGALES RP ZIEMEĻLATGALES IECIRKŅA PREVENCIJAS GRUPA | C90: inspektors | D90: 1472 | E90: 20% | F90: =ROUND(D90/$F$4,3) -> 8.819 | G90: 12 | H90: 21.17 | I90: =ROUND(H90*23.59%,2) -> 4.99 | J90: =H90+I90 -> 26.16
A91: =A90+1 -> 84 | B91: VP LATGALES RP KRIMPB RĒZEKNES REĢIONĀLĀ NODAĻA | C91: vecākais inspektors | D91: 1722 | E91: 20% | F91: =ROUND(D91/$F$4,3) -> 10.316 | G91: 12 | H91: 24.76 | I91: =ROUND(H91*23.59%,2)-0.01 -> 5.83 | J91: =H91+I91 -> 30.59
A92: =A91+1 -> 85 | B92: VP LATGALES RP DIENVIDLATGALES IECIRKŅA IZMEKLĒŠANAS NODAĻAS 1.GRUPA | C92: inspektors | D92: 1533 | E92: 20% | F92: =ROUND(D92/$F$4,3) -> 9.184 | G92: 13 | H92: 23.88 | I92: =ROUND(H92*23.59%,2) -> 5.63 | J92: =H92+I92 -> 29.51
A93: =A92+1 -> 86 | B93: VP LATGALES RP KRIMPB RĒZEKNES REĢIONĀLĀ NODAĻA | C93: vecākais inspektors | D93: 1722 | E93: 20% | F93: =ROUND(D93/$F$4,3) -> 10.316 | G93: 12 | H93: 24.76 | I93: =ROUND(H93*23.59%,2) -> 5.84 | J93: =H93+I93 -> 30.6
A94: =A93+1 -> 87 | B94: VP LATGALES RP ZIEMEĻLATGALES IECIRKŅA REAĢĒŠANAS NODAĻAS 3.GRUPA | C94: inspektors | D94: 1425 | E94: 20% | F94: =ROUND(D94/$F$4,3) -> 8.537 | G94: 12 | H94: 20.49 | I94: =ROUND(H94*23.59%,2) -> 4.83 | J94: =H94+I94 -> 25.32
A95: =A94+1 -> 88 | B95: VP LATGALES RP DIENVIDLATGALES IECIRKŅA REAĢĒŠANAS NODAĻAS 1.GRUPA | C95: galvenais inspektors | D95: 1680 | E95: 20% | F95: =ROUND(D95/$F$4,3) -> 10.065 | G95: 36 | H95: 72.47 | I95: =ROUND(H95*23.59%,2) -> 17.1 | J95: =H95+I95 -> 89.57
A96: =A95+1 -> 89 | B96: VP LATGALES RP DIENVIDLATGALES IECIRKŅA IZMEKLĒŠANAS NODAĻAS 2.GRUPA | C96: inspektors | D96: 1581 | E96: 20% | F96: =ROUND(D96/$F$4,3) -> 9.472 | G96: 36 | H96: 68.2 | I96: =ROUND(H96*23.59%,2)-0.01 -> 16.08 | J96: =H96+I96 -> 84.28
A97: =A96+1 -> 90 | B97: VP LATGALES RP ZIEMEĻLATGALES IECIRKŅA REAĢĒŠANAS NODAĻAS 9.GRUPA | C97: inspektors | D97: 1425 | E97: 20% | F97: =ROUND(D97/$F$4,3) -> 8.537 | G97: 48 | H97: 81.96 | I97: =ROUND(H97*23.59%,2)-0.01 -> 19.32 | J97: =H97+I97 -> 101.28
A98: =A97+1 -> 91 | B98: VP LATGALES RP ZIEMEĻLATGALES IECIRKŅA IZMEKLĒŠANAS NODAĻAS 2.GRUPA | C98: vecākais inspektors | D98: 1640 | E98: 20% | F98: =ROUND(D98/$F$4,3) -> 9.825 | G98: 24 | H98: 47.16 | I98: =ROUND(H98*23.59%,2) -> 11.13 | J98: =H98+I98 -> 58.29
A99: =A98+1 -> 92 | B99: VP LATGALES RP DIENVIDLATGALES IECIRKŅA IZMEKLĒŠANAS NODAĻAS 7.GRUPA | C99: inspektors | D99: 1472 | E99: 20% | F99: =ROUND(D99/$F$4,3) -> 8.819 | G99: 12 | H99: 21.17 | I99: =ROUND(H99*23.59%,2)-0.01 -> 4.98 | J99: =H99+I99 -> 26.15
A100: =A99+1 -> 93 | B100: VP LATGALES RP ZIEMEĻLATGALES IECIRKŅA IZMEKLĒŠANAS NODAĻAS 1.GRUPA | C100: inspektors | D100: 1581 | E100: 20% | F100: =ROUND(D100/$F$4,3) -> 9.472 | G100: 24 | H100: 45.47 | I100: =ROUND(H100*23.59%,2)-0.01 -> 10.72 | J100: =H100+I100 -> 56.19
A101: =A100+1 -> 94 | B101: VP LATGALES RP ZIEMEĻLATGALES IECIRKŅA IZMEKLĒŠANAS NODAĻAS 3.GRUPA | C101: vecākais inspektors | D101: 1640 | E101: 20% | F101: =ROUND(D101/$F$4,3) -> 9.825 | G101: 27 | H101: 53.06 | I101: =ROUND(H101*23.59%,2) -> 12.52 | J101: =H101+I101 -> 65.58
A102: =A101+1 -> 95 | B102: VP LATGALES RP ZIEMEĻLATGALES IECIRKŅA PREVENCIJAS GRUPA | C102: inspektors | D102: 1472 | E102: 20% | F102: =ROUND(D102/$F$4,3) -> 8.819 | G102: 24 | H102: 42.33 | I102: =ROUND(H102*23.59%,2)-0.01 -> 9.98 | J102: =H102+I102 -> 52.31
A103: =A102+1 -> 96 | B103: VP LATGALES RP ZIEMEĻLATGALES IECIRKŅA REAĢĒŠANAS NODAĻAS 1.GRUPA | C103: inspektors | D103: 1425 | E103: 20% | F103: =ROUND(D103/$F$4,3) -> 8.537 | G103: 24 | H103: 40.98 | I103: =ROUND(H103*23.59%,2) -> 9.67 | J103: =H103+I103 -> 50.65
A104: =A103+1 -> 97 | B104: VP LATGALES RP DIENVIDLATGALES IECIRKŅA IZMEKLĒŠANAS NODAĻAS 1.GRUPA | C104: vecākais inspektors | D104: 1611 | E104: 20% | F104: =ROUND(D104/$F$4,3) -> 9.651 | G104: 26 | H104: 50.19 | I104: =ROUND(H104*23.59%,2) -> 11.84 | J104: =H104+I104 -> 62.03
A105: =A104+1 -> 98 | B105: VP LATGALES RP DIENVIDLATGALES IECIRKŅA IZMEKLĒŠANAS NODAĻAS 3.GRUPA | C105: vecākais inspektors | D105: 1591 | E105: 20% | F105: =ROUND(D105/$F$4,3) -> 9.532 | G105: 12 | H105: 22.88 | I105: =ROUND(H105*23.59%,2) -> 5.4 | J105: =H105+I105 -> 28.28
A106: =A105+1 -> 99 | B106: VP LATGALES RP KRIMPB EKONOMISKO NOZIEGUMU APKAROŠANAS NODAĻA | C106: galvenais inspektors | D106: 1791 | E106: 20% | F106: =ROUND(D106/$F$4,3) -> 10.73 | G106: 12 | H106: 25.75 | I106: =ROUND(H106*23.59%,2) -> 6.07 | J106: =H106+I106 -> 31.82
A107: =A106+1 -> 100 | B107: VP LATGALES RP KĀRTPB RESURSU UN KRĪZES VADĪBAS NODAĻA | C107: jaunākais inspektors | D107: 1206 | E107: 20% | F107: =ROUND(D107/$F$4,3) -> 7.225 | G107: 36 | H107: 52.02 | I107: =ROUND(H107*23.59%,2) -> 12.27 | J107: =H107+I107 -> 64.29
A108: =A107+1 -> 101 | B108: VP LATGALES RP ZIEMEĻLATGALES IECIRKŅA REAĢĒŠANAS NODAĻAS 2.GRUPA | C108: jaunākais inspektors | D108: 1268 | E108: 20% | F108: =ROUND(D108/$F$4,3) -> 7.596 | G108: 12 | H108: 18.23 | I108: =ROUND(H108*23.59%,2) -> 4.3 | J108: =H108+I108 -> 22.53
A109: =A108+1 -> 102 | B109: VP LATGALES RP ZIEMEĻLATGALES IECIRKŅA REAĢĒŠANAS NODAĻAS 9.GRUPA | C109: inspektors | D109: 1425 | E109: 20% | F109: =ROUND(D109/$F$4,3) -> 8.537 | G109: 12 | H109: 20.49 | I109: =ROUND(H109*23.59%,2) -> 4.83 | J109: =H109+I109 -> 25.32
A110: =A109+1 -> 103 | B110: VP LATGALES RP DIENVIDLATGALES IECIRKŅA REAĢĒŠANAS NODAĻAS 4.GRUPA | C110: inspektors | D110: 1546 | E110: 20% | F110: =ROUND(D110/$F$4,3) -> 9.262 | G110: 12 | H110: 22.23 | I110: =ROUND(H110*23.59%,2) -> 5.24 | J110: =H110+I110 -> 27.47
A111: =A110+1 -> 104 | B111: VP GKĀRTPP RKVP SPECIĀLO UZDEVUMU BATALJONA 7.ROTA (KURZEMES REĢIONA) | C111: rotas komandieris | D111: 2146 | E111: 20% | F111: =ROUND(D111/$F$4,3) -> 12.856 | G111: 116 | H111: 298.26 | I111: =ROUND(H111*23.59%,2) -> 70.36 | J111: =H111+I111 -> 368.62
A112: =A111+1 -> 105 | B112: VP GKĀRTPP RKVP SPECIĀLO UZDEVUMU BATALJONA 7.ROTA (KURZEMES REĢIONA) | C112: rotas komandieris | D112: 2146 | E112: 50% | F112: =ROUND(D112/$F$4,3) -> 12.856 | G112: 17 | H112: 109.28 | I112: =ROUND(H112*23.59%,2)-0.01 -> 25.77 | J112: =H112+I112 -> 135.05
A113: =A112+1 -> 106 | B113: VP LATGALES RP DIENVIDLATGALES IECIRKŅA IZMEKLĒŠANAS NODAĻAS 5.GRUPA | C113: inspektors | D113: 1561 | E113: 20% | F113: =ROUND(D113/$F$4,3) -> 9.352 | G113: 12 | H113: 22.44 | I113: =ROUND(H113*23.59%,2)-0.01 -> 5.28 | J113: =H113+I113 -> 27.72
A114: =A113+1 -> 107 | B114: VP LATGALES RP DIENVIDLATGALES IECIRKŅA PREVENCIJAS GRUPA | C114: inspektors | D114: 1452 | E114: 20% | F114: =ROUND(D114/$F$4,3) -> 8.699 | G114: 27 | H114: 46.97 | I114: =ROUND(H114*23.59%,2) -> 11.08 | J114: =H114+I114 -> 58.05
A115: =A114+1 -> 108 | B115: VP LATGALES RP DIENVIDLATGALES IECIRKŅA IZMEKLĒŠANAS NODAĻAS 5.GRUPA | C115: galvenais inspektors | D115: 1861 | E115: 20% | F115: =ROUND(D115/$F$4,3) -> 11.149 | G115: 22 | H115: 49.06 | I115: =ROUND(H115*23.59%,2) -> 11.57 | J115: =H115+I115 -> 60.63
A116: =A115+1 -> 109 | B116: VP LATGALES RP DIENVIDLATGALES IECIRKŅA REAĢĒŠANAS NODAĻAS 10.GRUPA | C116: vecākais inspektors | D116: 1475 | E116: 20% | F116: =ROUND(D116/$F$4,3) -> 8.837 | G116: 12 | H116: 21.21 | I116: =ROUND(H116*23.59%,2) -> 5 | J116: =H116+I116 -> 26.21
A117: =A116+1 -> 110 | B117: VP LATGALES RP ZIEMEĻLATGALES IECIRKŅA IZMEKLĒŠANAS NODAĻAS 1.GRUPA | C117: vecākais inspektors | D117: 1640 | E117: 20% | F117: =ROUND(D117/$F$4,3) -> 9.825 | G117: 9 | H117: 17.69 | I117: =ROUND(H117*23.59%,2) -> 4.17 | J117: =H117+I117 -> 21.86
A118: =A117+1 -> 111 | B118: VP LATGALES RP ZIEMEĻLATGALES IECIRKŅA IZMEKLĒŠANAS NODAĻAS 7.GRUPA | C118: vecākais inspektors | D118: 1475 | E118: 20% | F118: =ROUND(D118/$F$4,3) -> 8.837 | G118: 12 | H118: 21.21 | I118: =ROUND(H118*23.59%,2) -> 5 | J118: =H118+I118 -> 26.21
A119: =A118+1 -> 112 | B119: VP LATGALES RP DIENVIDLATGALES IECIRKŅA IZMEKLĒŠANAS NODAĻAS 6.GRUPA | C119: vecākais inspektors | D119: 1495 | E119: 50% | F119: =ROUND(D119/$F$4,3) -> 8.956 | G119: 0.5 | H119: 2.24 | I119: =ROUND(H119*23.59%,2) -> 0.53 | J119: =H119+I119 -> 2.77
A120: =A119+1 -> 113 | B120: VP LATGALES RP DIENVIDLATGALES IECIRKŅA IZMEKLĒŠANAS NODAĻAS 6.GRUPA | C120: vecākais inspektors | D120: 1495 | E120: 20% | F120: =ROUND(D120/$F$4,3) -> 8.956 | G120: 11.5 | H120: 20.6 | I120: =ROUND(H120*23.59%,2) -> 4.86 | J120: =H120+I120 -> 25.46
A121: =A120+1 -> 114 | B121: VP LATGALES RP DIENVIDLATGALES IECIRKŅA IZMEKLĒŠANAS NODAĻAS 9.GRUPA | C121: inspektors | D121: 1452 | E121: 20% | F121: =ROUND(D121/$F$4,3) -> 8.699 | G121: 12 | H121: 20.88 | I121: =ROUND(H121*23.59%,2) -> 4.93 | J121: =H121+I121 -> 25.81
A122: =A121+1 -> 115 | B122: VP LATGALES RP ZIEMEĻLATGALES IECIRKŅA IZMEKLĒŠANAS NODAĻAS 1.GRUPA | C122: inspektors | D122: 1581 | E122: 20% | F122: =ROUND(D122/$F$4,3) -> 9.472 | G122: 36 | H122: 68.2 | I122: =ROUND(H122*23.59%,2) -> 16.09 | J122: =H122+I122 -> 84.29
A123: =A122+1 -> 116 | B123: VP LATGALES RP DIENVIDLATGALES IECIRKŅA REAĢĒŠANAS NODAĻAS 8.GRUPA | C123: inspektors | D123: 1425 | E123: 20% | F123: =ROUND(D123/$F$4,3) -> 8.537 | G123: 60 | H123: 102.44 | I123: =ROUND(H123*23.59%,2)-0.01 -> 24.16 | J123: =H123+I123 -> 126.6
A124: =A123+1 -> 117 | B124: VP LATGALES RP KRIMPB ORGANIZĒTĀS NOZIEDZĪBAS SMAGO UN SĒRIJVEIDA NOZIEGUMU APKAROŠANAS NODAĻA | C124: inspektors | D124: 1553 | E124: 20% | F124: =ROUND(D124/$F$4,3) -> 9.304 | G124: 12 | H124: 22.33 | I124: =ROUND(H124*23.59%,2) -> 5.27 | J124: =H124+I124 -> 27.6
A125: =A124+1 -> 118 | B125: VP GKĀRTPP RKVP SPECIĀLO UZDEVUMU BATALJONA 5.ROTA (VIDZEMES REĢIONA) | C125: rotas komandiera vietnieks | D125: 1981 | E125: 50% | F125: =ROUND(D125/$F$4,3) -> 11.868 | G125: 20 | H125: 118.68 | I125: =ROUND(H125*23.59%,2) -> 28 | J125: =H125+I125 -> 146.68
A126: =A125+1 -> 119 | B126: VP GKĀRTPP RKVP SPECIĀLO UZDEVUMU BATALJONA 5.ROTA (VIDZEMES REĢIONA) | C126: rotas komandiera vietnieks | D126: 1981 | E126: 20% | F126: =ROUND(D126/$F$4,3) -> 11.868 | G126: 100 | H126: 237.36 | I126: =ROUND(H126*23.59%,2) -> 55.99 | J126: =H126+I126 -> 293.35
A127: =A126+1 -> 120 | B127: VP LATGALES RP DIENVIDLATGALES IECIRKNIS | C127: iecirkņa priekšnieka vietnieks, Izmeklēšanas nodaļas priekšnieks | D127: 2305 | E127: 20% | F127: =ROUND(D127/$F$4,3) -> 13.809 | G127: 24 | H127: 66.28 | I127: =ROUND(H127*23.59%,2) -> 15.64 | J127: =H127+I127 -> 81.92
A128: =A127+1 -> 121 | B128: VP LATGALES RP ZIEMEĻLATGALES IECIRKŅA IZMEKLĒŠANAS NODAĻAS 7.GRUPA | C128: inspektors | D128: 1472 | E128: 20% | F128: =ROUND(D128/$F$4,3) -> 8.819 | G128: 24 | H128: 42.33 | I128: =ROUND(H128*23.59%,2) -> 9.99 | J128: =H128+I128 -> 52.32
A129: =A128+1 -> 122 | B129: VP LATGALES RP ZIEMEĻLATGALES IECIRKŅA IZMEKLĒŠANAS NODAĻAS 2.GRUPA | C129: inspektors | D129: 1553 | E129: 20% | F129: =ROUND(D129/$F$4,3) -> 9.304 | G129: 24 | H129: 44.66 | I129: =ROUND(H129*23.59%,2) -> 10.54 | J129: =H129+I129 -> 55.2
A130: =A129+1 -> 123 | B130: VP LATGALES RP DIENVIDLATGALES IECIRKŅA PREVENCIJAS GRUPA | C130: inspektors | D130: 1445 | E130: 20% | F130: =ROUND(D130/$F$4,3) -> 8.657 | G130: 15 | H130: 25.97 | I130: =ROUND(H130*23.59%,2) -> 6.13 | J130: =H130+I130 -> 32.1
A131: =A130+1 -> 124 | B131: VP LATGALES RP ZIEMEĻLATGALES IECIRKŅA IZMEKLĒŠANAS NODAĻAS 1.GRUPA | C131: inspektors | D131: 1581 | E131: 20% | F131: =ROUND(D131/$F$4,3) -> 9.472 | G131: 36 | H131: 68.2 | I131: =ROUND(H131*23.59%,2) -> 16.09 | J131: =H131+I131 -> 84.29
A132: =A131+1 -> 125 | B132: VP LATGALES RP ZIEMEĻLATGALES IECIRKŅA REAĢĒŠANAS NODAĻAS 7.GRUPA | C132: inspektors | D132: 1472 | E132: 20% | F132: =ROUND(D132/$F$4,3) -> 8.819 | G132: 24 | H132: 42.33 | I132: =ROUND(H132*23.59%,2) -> 9.99 | J132: =H132+I132 -> 52.32
A133: =A132+1 -> 126 | B133: VP LATGALES RP KĀRTPB SŪDZĪBU IZSKATĪŠANAS GRUPA | C133: vecākais inspektors | D133: 1630 | E133: 20% | F133: =ROUND(D133/$F$4,3) -> 9.765 | G133: 52 | H133: 101.56 | I133: =ROUND(H133*23.59%,2) -> 23.96 | J133: =H133+I133 -> 125.52
A134: =A133+1 -> 127 | B134: VP LATGALES RP DIENVIDLATGALES IECIRKNIS | C134: iecirkņa priekšnieka vietnieks, Reaģēšanas nodaļas priekšnieks | D134: 2244 | E134: 20% | F134: =ROUND(D134/$F$4,3) -> 13.444 | G134: 43 | H134: 115.62 | I134: =ROUND(H134*23.59%,2) -> 27.27 | J134: =H134+I134 -> 142.89
A135: =A134+1 -> 128 | B135: VP LATGALES RP KRIMPB RĒZEKNES REĢIONĀLĀ NODAĻA | C135: galvenais inspektors | D135: 1759 | E135: 20% | F135: =ROUND(D135/$F$4,3) -> 10.538 | G135: 12 | H135: 25.29 | I135: =ROUND(H135*23.59%,2) -> 5.97 | J135: =H135+I135 -> 31.26
... A139: =A138+1 -> 132 | B139: VP GKĀRTPP RKVP SPECIĀLO UZDEVUMU BATALJONA 7.ROTA (KURZEMES REĢIONA) | C139: rotas komandiera vietnieks | D139: 1961 | E139: 50% | F139: =ROUND(D139/$F$4,3) -> 11.748 | G139: 24.5 | H139: 143.91 | I139: =ROUND(H139*23.59%,2) -> 33.95 | J139: =H139+I139 -> 177.86
A140: =A139+1 -> 133 | B140: VP GKĀRTPP RKVP SPECIĀLO UZDEVUMU BATALJONA 7.ROTA (KURZEMES REĢIONA) | C140: rotas komandiera vietnieks | D140: 1961 | E140: 20% | F140: =ROUND(D140/$F$4,3) -> 11.748 | G140: 95.5 | H140: 224.39 | I140: =ROUND(H140*23.59%,2)-0.01 -> 52.92 | J140: =H140+I140 -> 277.31
A141: =A140+1 -> 134 | B141: VP LATGALES RP KĀRTPB SŪDZĪBU IZSKATĪŠANAS GRUPA | C141: galvenais inspektors | D141: 1738 | E141: 20% | F141: =ROUND(D141/$F$4,3) -> 10.412 | G141: 12 | H141: 24.99 | I141: =ROUND(H141*23.59%,2) -> 5.9 | J141: =H141+I141 -> 30.89
A142: =A141+1 -> 135 | B142: VP LATGALES RP DIENVIDLATGALES IECIRKŅA REAĢĒŠANAS NODAĻAS 10.GRUPA | C142: galvenais inspektors | D142: 1838 | E142: 20% | F142: =ROUND(D142/$F$4,3) -> 11.011 | G142: 28 | H142: 61.66 | I142: =ROUND(H142*23.59%,2) -> 14.55 | J142: =H142+I142 -> 76.21
A143: =A142+1 -> 136 | B143: VP LATGALES RP DIENVIDLATGALES IECIRKŅA IZMEKLĒŠANAS NODAĻAS 1.GRUPA | C143: inspektors | D143: 1581 | E143: 20% | F143: =ROUND(D143/$F$4,3) -> 9.472 | G143: 12 | H143: 22.73 | I143: =ROUND(H143*23.59%,2) -> 5.36 | J143: =H143+I143 -> 28.09
A144: =A143+1 -> 137 | B144: VP LATGALES RP KRIMPB ORGANIZĒTĀS NOZIEDZĪBAS SMAGO UN SĒRIJVEIDA NOZIEGUMU APKAROŠANAS NODAĻA | C144: galvenais inspektors | D144: 1811 | E144: 20% | F144: =ROUND(D144/$F$4,3) -> 10.85 | G144: 12 | H144: 26.04 | I144: =ROUND(H144*23.59%,2) -> 6.14 | J144: =H144+I144 -> 32.18
A145: =A144+1 -> 138 | B145: VP LATGALES RP ZIEMEĻLATGALES IECIRKŅA IZMEKLĒŠANAS NODAĻAS 5.GRUPA | C145: inspektors | D145: 1581 | E145: 20% | F145: =ROUND(D145/$F$4,3) -> 9.472 | G145: 24 | H145: 45.47 | I145: =ROUND(H145*23.59%,2) -> 10.73 | J145: =H145+I145 -> 56.2
A146: =A145+1 -> 139 | B146: VP LATGALES RP DIENVIDLATGALES IECIRKŅA REAĢĒŠANAS NODAĻAS 7.GRUPA | C146: jaunākais inspektors | D146: 1242 | E146: 20% | F146: =ROUND(D146/$F$4,3) -> 7.441 | G146: 49.5 | H146: 73.67 | I146: =ROUND(H146*23.59%,2) -> 17.38 | J146: =H146+I146 -> 91.05
A147: =A146+1 -> 140 | B147: VP LATGALES RP KRIMPB ORGANIZĒTĀS NOZIEDZĪBAS SMAGO UN SĒRIJVEIDA NOZIEGUMU APKAROŠANAS NODAĻA | C147: vecākais inspektors | D147: 1702 | E147: 20% | F147: =ROUND(D147/$F$4,3) -> 10.197 | G147: 12 | H147: 24.47 | I147: =ROUND(H147*23.59%,2) -> 5.77 | J147: =H147+I147 -> 30.24
A148: =A147+1 -> 141 | B148: VP GKĀRTPP RKVP SPECIĀLO UZDEVUMU BATALJONA 7.ROTA (KURZEMES REĢIONA) | C148: jaunākais inspektors | D148: 1450 | E148: 20% | F148: =ROUND(D148/$F$4,3) -> 8.687 | G148: 95.5 | H148: 165.92 | I148: =ROUND(H148*23.59%,2) -> 39.14 | J148: =H148+I148 -> 205.06
A149: =A148+1 -> 142 | B149: VP GKĀRTPP RKVP SPECIĀLO UZDEVUMU BATALJONA 7.ROTA (KURZEMES REĢIONA) | C149: jaunākais inspektors | D149: 1450 | E149: 50% | F149: =ROUND(D149/$F$4,3) -> 8.687 | G149: 24.5 | H149: 106.42 | I149: =ROUND(H149*23.59%,2) -> 25.1 | J149: =H149+I149 -> 131.52
A150: =A149+1 -> 143 | B150: VP LATGALES RP DIENVIDLATGALES IECIRKŅA IZMEKLĒŠANAS NODAĻAS 5.GRUPA | C150: vecākais inspektors | D150: 1620 | E150: 20% | F150: =ROUND(D150/$F$4,3) -> 9.705 | G150: 12 | H150: 23.29 | I150: =ROUND(H150*23.59%,2) -> 5.49 | J150: =H150+I150 -> 28.78
A151: =A150+1 -> 144 | B151: VP LATGALES RP DIENVIDLATGALES IECIRKŅA REAĢĒŠANAS NODAĻAS 4.GRUPA | C151: inspektors | D151: 1445 | E151: 20% | F151: =ROUND(D151/$F$4,3) -> 8.657 | G151: 50 | H151: 86.57 | I151: =ROUND(H151*23.59%,2) -> 20.42 | J151: =H151+I151 -> 106.99
A152: =A151+1 -> 145 | B152: VP LATGALES RP DIENVIDLATGALES IECIRKŅA PREVENCIJAS GRUPA | C152: vecākais inspektors | D152: 1475 | E152: 20% | F152: =ROUND(D152/$F$4,3) -> 8.837 | G152: 16 | H152: 28.28 | I152: =ROUND(H152*23.59%,2) -> 6.67 | J152: =H152+I152 -> 34.95
A153: =A152+1 -> 146 | B153: VP LATGALES RP DIENVIDLATGALES IECIRKŅA REAĢĒŠANAS NODAĻAS 7.GRUPA | C153: jaunākais inspektors | D153: 1739 | E153: 20% | F153: =ROUND(D153/$F$4,3) -> 10.418 | G153: 37.5 | H153: 78.14 | I153: =ROUND(H153*23.59%,2)-0.01 -> 18.42 | J153: =H153+I153 -> 96.56
A154: =A153+1 -> 147 | B154: VP LATGALES RP KĀRTPB ATĻAUJU SISTĒMAS GRUPA | C154: galvenais inspektors | D154: 1559 | E154: 50% | F154: =ROUND(D154/$F$4,3) -> 9.34 | G154: 1 | H154: 4.67 | I154: =ROUND(H154*23.59%,2) -> 1.1 | J154: =H154+I154 -> 5.77
A155: =A154+1 -> 148 | B155: VP LATGALES RP KĀRTPB ATĻAUJU SISTĒMAS GRUPA | C155: galvenais inspektors | D155: 1559 | E155: 20% | F155: =ROUND(D155/$F$4,3) -> 9.34 | G155: 55 | H155: 102.74 | I155: =ROUND(H155*23.59%,2) -> 24.24 | J155: =H155+I155 -> 126.98
A156: =A155+1 -> 149 | B156: VP LATGALES RP DIENVIDLATGALES IECIRKŅA IZMEKLĒŠANAS NODAĻAS 9.GRUPA | C156: inspektors | D156: 1445 | E156: 20% | F156: =ROUND(D156/$F$4,3) -> 8.657 | G156: 24 | H156: 41.55 | I156: =ROUND(H156*23.59%,2) -> 9.8 | J156: =H156+I156 -> 51.35
A157: =A156+1 -> 150 | B157: VP LATGALES RP ZIEMEĻLATGALES IECIRKŅA REAĢĒŠANAS NODAĻAS 1.GRUPA | C157: inspektors | D157: 1445 | E157: 20% | F157: =ROUND(D157/$F$4,3) -> 8.657 | G157: 36 | H157: 62.33 | I157: =ROUND(H157*23.59%,2) -> 14.7 | J157: =H157+I157 -> 77.03
A158: =A157+1 -> 151 | B158: VP LATGALES RP ZIEMEĻLATGALES IECIRKŅA REAĢĒŠANAS NODAĻAS 4.GRUPA | C158: vecākais inspektors | D158: 1531 | E158: 20% | F158: =ROUND(D158/$F$4,3) -> 9.172 | G158: 12 | H158: 22.01 | I158: =ROUND(H158*23.59%,2) -> 5.19 | J158: =H158+I158 -> 27.2
A159: =A158+1 -> 152 | B159: VP LATGALES RP ZIEMEĻLATGALES IECIRKNIS | C159: iecirkņa priekšnieks | D159: 2483 | E159: 20% | F159: =ROUND(D159/$F$4,3) -> 14.875 | G159: 24 | H159: 71.4 | I159: =ROUND(H159*23.59%,2) -> 16.84 | J159: =H159+I159 -> 88.24
A160: =A159+1 -> 153 | B160: VP LATGALES RP ZIEMEĻLATGALES IECIRKŅA IZMEKLĒŠANAS NODAĻAS 8.GRUPA | C160: vecākais inspektors | D160: 1503 | E160: 20% | F160: =ROUND(D160/$F$4,3) -> 9.004 | G160: 9 | H160: 16.21 | I160: =ROUND(H160*23.59%,2) -> 3.82 | J160: =H160+I160 -> 20.03
A161: =A160+1 -> 154 | B161: VP LATGALES RP ZIEMEĻLATGALES IECIRKŅA REAĢĒŠANAS NODAĻAS 8.GRUPA | C161: vecākais inspektors | D161: 1475 | E161: 20% | F161: =ROUND(D161/$F$4,3) -> 8.837 | G161: 24 | H161: 42.42 | I161: =ROUND(H161*23.59%,2) -> 10.01 | J161: =H161+I161 -> 52.43
A162: =A161+1 -> 155 | B162: VP LATGALES RP KĀRTPB PREVENCIJAS GRUPA | C162: vecākais inspektors | D162: 1475 | E162: 20% | F162: =ROUND(D162/$F$4,3) -> 8.837 | G162: 24 | H162: 42.42 | I162: =ROUND(H162*23.59%,2) -> 10.01 | J162: =H162+I162 -> 52.43
...

Sheet 4.tabula
F1: 4.tabula
A2: Valsts policija
A3: Degvielas izmaksu aprēķins degvielas izdevumiem sniedzot atbalstu Valsts robežsardzei Latvijas Republikas-Baltkrievijas Republikas valsts robežas nelikumīgas šķērsošanas nodrošināšanā par laika periodu no 2024. gada 01. maija līdz 31. maijam.
A5: Nr.p.k. | B5: Transportlīdzekļa marka | C5: Iesaistīto transportlīdzekļu skaits | D5: Faktiskais nobraukums pasākumā (km) | E5: Pasākuma laikā patērētā degviela (l) | F5: Summa euro
A6: Kopā: | C6: =ROUNDUP(SUM(C8:C54),2) -> 61 | D6: =ROUNDUP(SUM(D8:D54),2) -> 90815 | E6: =ROUNDUP(SUM(E8:E54),2) -> 6740.28 | F6: =ROUNDUP(SUM(F8:F54),2) -> 9872.33
A7: Vidzemes reģiona pārvalde
A8: 1 | B8: Peugeot Boxer | C8: 2 | D8: 2107 | E8: 216.24 | F8: 318.6
A9: 2 | B9: VW Crafter | C9: 1 | D9: 2233 | E9: 245.63 | F9: 371.41
A10: 3 | B10: VW Tiguan | C10: 1 | D10: 1158 | E10: 77.59 | F10: 113.04
A15: Latgales reģiona pārvalde
A16: 4 | B16: Citroen Berlingo | C16: 1 | D16: 1251 | E16: 70.06 | F16: 102.29
A17: =A16+1 -> 5 | B17: Citroen Jumper | C17: 1 | D17: 307 | E17: 27.94 | F17: 40.8
A18: =A17+1 -> 6 | B18: Hyundai Santa Fe | C18: 1 | D18: 127 | E18: 13.21 | F18: 19.29
A19: =A18+1 -> 7 | B19: KIA Cee'd | C19: 5 | D19: 1314 | E19: 82.66 | F19: 125.7
A20: =A19+1 -> 8 | B20: Opel Mokka | C20: 28 | D20: 41608 | E20: 2725.04 | F20: 3995.69
A21: =A20+1 -> 9 | B21: Opel Combo Van | C21: 1 | D21: 5590 | E21: 374.53 | F21: 546.82
A22: =A21+1 -> 10 | B22: Opel Insignia Limousine | C22: 3 | D22: 1283 | E22: 78.98 | F22: 115.85
A23: =A22+1 -> 11 | B23: Renault Kangoo | C23: 6 | D23: 12372 | E23: 903.16 | F23: 1318.64
A24: =A23+1 -> 12 | B24: Renault Laguna | C24: 2 | D24: 3348 | E24: 202.87 | F24: 296.19
A25: =A24+1 -> 13 | B25: Renault Trafic | C25: 2 | D25: 9135 | E25: 783.02 | F25: 1143.07
A26: =A25+1 -> 14 | B26: Toyota RAV4 | C26: 2 | D26: 1369 | E26: 87.34 | F26: 134.51
A27: =A26+1 -> 15
A28: =A27+1 -> 16
A29: =A28+1 -> 17
A30: =A29+1 -> 18
A31: =A30+1 -> 19
A32: =A31+1 -> 20
A33: =A32+1 -> 21
A34: =A33+1 -> 22
A35: =A34+1 -> 23
A36: =A35+1 -> 24
A37: Zemgales reģiona pārvalde
A38: 15 | B38: Renault Trafic | C38: 1 | D38: 2543 | E38: 300 | F38: 433.22
A39: 16 | B39: VW Crafter | C39: 1 | D39: 797 | E39: 106.24 | F39: 152.89
A40: 17 | B40: Ford Transit Custom | C40: 1 | D40: 1347 | E40: 157.47 | F40: 225.34
A43: Kurzemes reģiona pārvalde
A44: 18 | B44: Peugeot Boxer | C44: 1 | D44: 1821 | E44: 171.17 | F44: 249.73
A45: 19 | B45: VW Crafter | C45: 1 | D45: 1105 | E45: 117.13 | F45: 169.25
A48: Rīgas reģiona pārvalde

Sheet 6.tabula
G1: 6.tabula
A2: Valsts policija
A3: Detalizēts aprēķins dienas naudas samaksai amatpersonām ar speciālajām dienesta pakāpēm, sniedzot atbalstu Valsts robežsardzei Latvijas Republikas-Baltkrievijas Republikas valsts robežas robežuzraudzības nodrošināšanā par laika perioduno 2024. gada 01. maija līdz 31. maijam
A5: Nr. p.k. | B5: Struktūrvienība | C5: Amats | D5: Laika periods | E5: Dienu skaits | F5: Likme | G5: Dienas nauda (kopsumma)
A6: kopā: | G6: =SUM(G7:G84) -> 2527.2
A7: 1 | D7: 03.09.2023.-26.09.2023/ | E7: 2 | F7: 8 | G7: =ROUND(E7*F7,2) -> 16
E8: 22 | F8: 2.4 | G8: =ROUND(E8*F8,2) -> 52.8
A9: 2 | D9: 03.09.2023.-26.09.2023/ | E9: 2 | F9: 8 | G9: =ROUND(E9*F9,2) -> 16
E10: 22 | F10: 2.4 | G10: =ROUND(E10*F10,2) -> 52.8
A11: 3 | D11: 03.09.2023.-26.09.2023/ | E11: 2 | F11: 8 | G11: =ROUND(E11*F11,2) -> 16
E12: 22 | F12: 2.4 | G12: =ROUND(E12*F12,2) -> 52.8
A13: 4 | D13: 03.09.2023.-26.09.2023/ | E13: 2 | F13: 8 | G13: =ROUND(E13*F13,2) -> 16
E14: 22 | F14: 2.4 | G14: =ROUND(E14*F14,2) -> 52.8
A15: 5 | D15: 03.09.2023.-26.09.2023/ | E15: 2 | F15: 8 | G15: =ROUND(E15*F15,2) -> 16
E16: 22 | F16: 2.4 | G16: =ROUND(E16*F16,2) -> 52.8
A17: 6 | D17: 03.09.2023.-26.09.2023/ | E17: 2 | F17: 8 | G17: =ROUND(E17*F17,2) -> 16
E18: 22 | F18: 2.4 | G18: =ROUND(E18*F18,2) -> 52.8
A19: 7 | D19: 03.09.2023.-26.09.2023/ | E19: 2 | F19: 8 | G19: =ROUND(E19*F19,2) -> 16
E20: 22 | F20: 2.4 | G20: =ROUND(E20*F20,2) -> 52.8
A21: 8 | D21: 03.09.2023.-26.09.2023/ | E21: 2 | F21: 8 | G21: =ROUND(E21*F21,2) -> 16
E22: 22 | F22: 2.4 | G22: =ROUND(E22*F22,2) -> 52.8
A23: 9 | D23: 03.09.2023.-26.09.2023/ | E23: 2 | F23: 8 | G23: =ROUND(E23*F23,2) -> 16
E24: 22 | F24: 2.4 | G24: =ROUND(E24*F24,2) -> 52.8
A25: 10 | D25: 03.09.2023.-26.09.2023/ | E25: 2 | F25: 8 | G25: =ROUND(E25*F25,2) -> 16
E26: 22 | F26: 2.4 | G26: =ROUND(E26*F26,2) -> 52.8
A27: 11 | D27: 03.09.2023.-26.09.2023/ | E27: 2 | F27: 8 | G27: =ROUND(E27*F27,2) -> 16
E28: 22 | F28: 2.4 | G28: =ROUND(E28*F28,2) -> 52.8
A29: 12 | D29: 03.09.2023.-26.09.2023/ | E29: 2 | F29: 8 | G29: =ROUND(E29*F29,2) -> 16
E30: 22 | F30: 2.4 | G30: =ROUND(E30*F30,2) -> 52.8
A31: 13 | D31: 03.09.2023.-26.09.2023/ | E31: 2 | F31: 8 | G31: =ROUND(E31*F31,2) -> 16
E32: 22 | F32: 2.4 | G32: =ROUND(E32*F32,2) -> 52.8
A33: 14 | D33: 26.09.2023.-17.10.2023/ | E33: 2 | F33: 8 | G33: =ROUND(E33*F33,2) -> 16
E34: 20 | F34: 2.4 | G34: =ROUND(E34*F34,2) -> 48
A35: 15 | D35: 26.09.2023.-17.10.2023/ | E35: 2 | F35: 8 | G35: =ROUND(E35*F35,2) -> 16
E36: 20 | F36: 2.4 | G36: =ROUND(E36*F36,2) -> 48
A37: 16 | D37: 26.09.2023.-17.10.2023/ | E37: 2 | F37: 8 | G37: =ROUND(E37*F37,2) -> 16
E38: 20 | F38: 2.4 | G38: =ROUND(E38*F38,2) -> 48
A39: 17 | D39: 26.09.2023.-17.10.2023/ | E39: 2 | F39: 8 | G39: =ROUND(E39*F39,2) -> 16
E40: 20 | F40: 2.4 | G40: =ROUND(E40*F40,2) -> 48
A41: 18 | D41: 26.09.2023.-17.10.2023/ | E41: 2 | F41: 8 | G41: =ROUND(E41*F41,2) -> 16
E42: 20 | F42: 2.4 | G42: =ROUND(E42*F42,2) -> 48
A43: 19 | D43: 26.09.2023.-17.10.2023/ | E43: 2 | F43: 8 | G43: =ROUND(E43*F43,2) -> 16
E44: 20 | F44: 2.4 | G44: =ROUND(E44*F44,2) -> 48
A45: 20 | D45: 26.09.2023.-17.10.2023/ | E45: 2 | F45: 8 | G45: =ROUND(E45*F45,2) -> 16
E46: 20 | F46: 2.4 | G46: =ROUND(E46*F46,2) -> 48
A47: 21 | D47: 26.09.2023.-17.10.2023/ | E47: 2 | F47: 8 | G47: =ROUND(E47*F47,2) -> 16
E48: 20 | F48: 2.4 | G48: =ROUND(E48*F48,2) -> 48
A49: 22 | D49: 26.09.2023.-17.10.2023/ | E49: 2 | F49: 8 | G49: =ROUND(E49*F49,2) -> 16
E50: 20 | F50: 2.4 | G50: =ROUND(E50*F50,2) -> 48
A51: 23 | D51: 26.09.2023.-17.10.2023/ | E51: 2 | F51: 8 | G51: =ROUND(E51*F51,2) -> 16
E52: 20 | F52: 2.4 | G52: =ROUND(E52*F52,2) -> 48
A53: 24 | D53: 26.09.2023.-17.10.2023/ | E53: 2 | F53: 8 | G53: =ROUND(E53*F53,2) -> 16
E54: 20 | F54: 2.4 | G54: =ROUND(E54*F54,2) -> 48
A55: 25 | D55: 26.09.2023.-17.10.2023/ | E55: 2 | F55: 8 | G55: =ROUND(E55*F55,2) -> 16
E56: 20 | F56: 2.4 | G56: =ROUND(E56*F56,2) -> 48
A57: 26 | D57: 26.09.2023.-17.10.2023/ | E57: 2 | F57: 8 | G57: =ROUND(E57*F57,2) -> 16
E58: 20 | F58: 2.4 | G58: =ROUND(E58*F58,2) -> 48
A59: 27 | D59: 26.09.2023.-17.10.2023/ | E59: 2 | F59: 8 | G59: =ROUND(E59*F59,2) -> 16
E60: 20 | F60: 2.4 | G60: =ROUND(E60*F60,2) -> 48
A61: 28 | D61: 26.09.2023.-17.10.2023/ | E61: 2 | F61: 8 | G61: =ROUND(E61*F61,2) -> 16
E62: 20 | F62: 2.4 | G62: =ROUND(E62*F62,2) -> 48
A63: 29 | D63: 26.09.2023.-17.10.2023/ | E63: 2 | F63: 8 | G63: =ROUND(E63*F63,2) -> 16
E64: 20 | F64: 2.4 | G64: =ROUND(E64*F64,2) -> 48
A65: 30 | D65: 26.09.2023.-17.10.2023/ | E65: 2 | F65: 8 | G65: =ROUND(E65*F65,2) -> 16
E66: 20 | F66: 2.4 | G66: =ROUND(E66*F66,2) -> 48
A67: 31 | D67: 26.09.2023.-17.10.2023/ | E67: 2 | F67: 8 | G67: =ROUND(E67*F67,2) -> 16
E68: 20 | F68: 2.4 | G68: =ROUND(E68*F68,2) -> 48
A69: 32 | D69: 26.09.2023.-17.10.2023/ | E69: 2 | F69: 8 | G69: =ROUND(E69*F69,2) -> 16
E70: 20 | F70: 2.4 | G70: =ROUND(E70*F70,2) -> 48
A71: 33 | D71: 26.09.2023.-17.10.2023/ | E71: 2 | F71: 8 | G71: =ROUND(E71*F71,2) -> 16
E72: 20 | F72: 2.4 | G72: =ROUND(E72*F72,2) -> 48
A73: 34 | D73: 26.09.2023.-17.10.2023/ | E73: 2 | F73: 8 | G73: =ROUND(E73*F73,2) -> 16
E74: 20 | F74: 2.4 | G74: =ROUND(E74*F74,2) -> 48
A75: 35 | D75: 26.09.2023.-17.10.2023/ | E75: 2 | F75: 8 | G75: =ROUND(E75*F75,2) -> 16
E76: 20 | F76: 2.4 | G76: =ROUND(E76*F76,2) -> 48
A77: 36 | D77: 26.09.2023.-17.10.2023/ | E77: 2 | F77: 8 | G77: =ROUND(E77*F77,2) -> 16
E78: 20 | F78: 2.4 | G78: =ROUND(E78*F78,2) -> 48
A79: 37 | D79: 26.09.2023.-17.10.2023/ | E79: 2 | F79: 8 | G79: =ROUND(E79*F79,2) -> 16
E80: 20 | F80: 2.4 | G80: =ROUND(E80*F80,2) -> 48
A81: 38 | D81: 30.09.2023.-17.10.2023/ | E81: 2 | F81: 8 | G81: =ROUND(E81*F81,2) -> 16
E82: 16 | F82: 2.4 | G82: =ROUND(E82*F82,2) -> 38.4
A83: 39 | D83: 26.09.2023.-08.10.2023/ | E83: 2 | F83: 8 | G83: =ROUND(E83*F83,2) -> 16
E84: 11 | F84: 2.4 | G84: =ROUND(E84*F84,2) -> 26.4
