Workbook

Sheet VP maijs
D1: 2.pielikums
D2: Ministru kabineta rīkojuma projekta “Par apropriācijas pārdali no budžeta resora
D3: “74. Gadskārtējā valsts budžeta izpildes procesā pārdalāmais finansējums”
D4: programmas 22.00.00 “Valsts ārējās robežas drošības pasākumu nodrošināšana””
D5: sākotnējās ietekmes novērtējuma ziņojumam (anotācijai)
A7: Valsts policijas izdevumi
A8: Kopasavilkums
A10: Kods | B10: Koda nosaukums | C10: Detalizēts izdevumu aprēķins | D10: Izdevumi, euro
A11: Izdevumi kopā ar vidējās izpeļņas pieauguma kompensēšanu | D11: =D12+D15 -> 83174
A12: 1000 | B12: Atlīdzība | C12: × | D12: =D18+D37 -> 69593
A13: 1100 | B13: Atalgojums | C13: × | D13: =D38+D19 -> 56311.86
A14: 1210 | B14: Darba devēja valsts sociālās apdrošināšanas obligātās iemaksas | C14: × | D14: =D40+D26 -> 13280.77
A15: 2000 | B15: Preces un pakalpojumi | C15: × | D15: =D27 -> 13581
A17: 1) Izdevumi saistībā ar rīkojuma Nr. 184 izpildei nepieciešamo pasākumu īstenošanu | D17: =D18+D27 -> 77823
A18: 1000 | B18: Atlīdzība | C18: × | D18: =ROUNDUP(D19+D26,0) -> 64242
A19: 1100 | B19: Atalgojums | C19: × | D19: =SUM(D20:D25) -> 51981.86
A20: 1116 | B20: Mēnešalga amatpersonām ar speciālajām dienesta pakāpēm
A21: 1141
A22: 1141 | B22: Piemaksa par nakts darbu | C22: Detalizēts aprēķins par laika periodu no 2024. gada 01. maija līdz 31. maijam 1.tabulā. Iesaistītas 229 personas, kopējais iesaistes laiks 3 455,50 stundas. | D22: ='1.tabula'!G6 -> 16024.64
A23: 1142 | B23: Samaksa par virsstundu darbu un darbu svētku dienās | C23: 1) Piemaksa par virsstundu darbu Detalizēts aprēķins par laika periodu no 2024. gada 01. maija līdz 31. maijam 2.tabulā. Iesaistītas ___ personas, kopējais iesaistes laiks _________ stundas. | D23: =' 2.tabula'!G6 -> 0
C24: Piemaksa par darbu svētku dienās (01.05., 04.05., 12.05., 19.05.) Detalizēts aprēķins par laika periodu no no 2024. gada 01. maija līdz 31. maijam 2.tabulā. Iesaistītas 128 personas, kopējais iesaistes laiks 1 678,50 stundas. | D24: ='2.tabula'!G6 -> 15798.05
A25: 1145 | B25: Piemaksa par darbu īpašos apstākļos, speciālās piemaksas | C25: Detalizēts aprēķins par laika periodu no 2024. gada 01. maija līdz 31. maijam 3.tabulā. Iesaistītas 382 personas, kopējais iesaistes laiks 10 329 stundas. | D25: ='3.tabula'!H7 -> 20159.17
A26: 1210 | B26: Darba devēja valsts sociālās apdrošināšanas obligātās iemaksas | C26: 23,59% no aprēķinātā atalgojuma * izņemot 2 personas, kurām tiek piemērota nodokļu likme 21,94% (izdienas pensionārs) | D26: ='3.tabula'!I7+'1.tabula'!H6+'2.tabula'!H6+' 2.tabula'!H6 -> 12259.3
A27: 2000 | B27: Preces un pakalpojumi | C27: × | D27: =ROUNDUP(SUM(D28:D34),0) -> 13581
A28: 2112 | B28: Pārējie komandējumu un darba braucienu izdevumi | C28: Dienesta viesnīcas pakalpojumi Naktsmītnes izdevumi Daugavpilī: 2 nakts x 10 gultasvietas x 15,00 euro = 300,00 euro; 6 nakts x 11 gultasvietas × 15,00 euro = 990,00 euro; Aprēķins veikts par dienesta viesnīcas pakalpojumiem (naktsmītni), kas tika nodrošināti no 2024.gada 23. aprīļa līdz 30. aprīlim, izdevumi pakalpojuma sniedzējam tika apmaksāti 2024.gada maijā. | D28: =(2*10*15)+(6*11*15) -> 1290
A29: 2271 | B29: Izdevumi, kas saistīti ar operatīvo darbību | C29: Izdevumi, kas saistīti ar operatīvo darbību _____________________
A30: 2312 | B30: Inventārs
A31: 2322 | B31: Degviela | C31: Detalizēts aprēķins par laika periodu no 2024. gada 01. maija līdz 31. maijam 4.tabulā. Pasākuma nodrošināšanai tika iesaistīti 61 transportlīdzekļi; Vidēji viena transportlīdzekļa nobraukums 1488,8 km; Vidējā degvielas cena 1,465 euro/l; Vidējais degvielas patēriņš 7,42 l/km uz 100 km. 61 t-ldz. x 1 488,8 km x 1,465 euro/l x 7,42 l/km ÷ 100 km = 9 872,33 euro | D31: ='4.tabula'!F6 -> 9872.33
A32: 2350 | B32: Kārtējā remonta un iestāžu uzturēšanas materiāli | C32: Papīra dvieļi / 72 gab. x 2,0933 euro = 150,72 euro | D32: =ROUNDUP(72*2.0933,2) -> 150.72
A33: 2363 | B33: Ēdināšanas izdevumi | C33: Aprēķins veikts par ēdināšanas pakalpojumiem, kas tika nodrošināti 2024.gada 23. aprīļa līdz 30. aprīlim, izdevumi pakalpojuma sniedzējam tika apmaksāti 2024.gada maijā. Ēdināšanas pakalpojumi Daugavpilī: brokastis 49 porcijas × 8,00 euro = 392,00 euro; pusdienas 60 porcijas × 9,00 euro = 540,00 euro; vakariņas 57 porcijas × 10,00 euro = 570,00 euro; launags (sausā uztura paka uz 24 stundam) 27 pakas × 27,00 euro = 729,00 euro; launags (sausā uztura paka) 2 pakas × 18,00 euro = 36,00 euro. Saskaņā ar līgumu par izmitināšanu un ēdināšanu Daugavpilī ir noteikts, ka ēdināšana 3 reizes dienā nedrīkst pārsniegt 27,00 euro: Ēdināšanas izmaksas sastāda: Brokastis 8 euro /1 pers Pusdienas 9 euro /1 pers Vakariņas 10 euro /1 pers Amatpersonām, kuras ir maiņā uz robežas un tām nav iespējams atgriezties uz pusdienām un vakariņām, tad, lai nodrošinātu ēdināšanu amatpersonām dod līdzi pārtikas pakas: sausie produkti uz 24 stundām - 27 euro /1 pers. sausie produkti (vakariņaas un brokastis) - 18 euro /1 pers. Pārtikas pakas tiek dotas arī Latgales reģiona pārvaldes amatpersonām, kuras arī tiek norīkotas uz robežu, augstākminēto iemeslu dēļ, komandējama izdevumi un dienas nauda viņām nav. Papildus jāatzīmē, ka dienas nauda dienās, kad nodrošināta 3 reižu ēdināšana sastāda 30% no Ministru kabineta noteikumos par komandējumu paredzētā limita. | D33: =(49*8)+(60*9)+(57*10)+(27*27)+(2*18) -> 2267
A34: 2390 | B34: Pārējās preces | C34: Negazēts dzeramais ūdens 5 L / 408 gab. x 0,6869 euro = 280,26 euro Lietusmētelis 49 gab. x 10,77 euro = 527,73 euro
A36: 2) Vidējās izpeļņas pieauguma kompensēšanai | D36: =D37 -> 5351
A37: 1000 | B37: Atlīdzība | C37: × | D37: =ROUND(D38+D40,0) -> 5351
A38: 1100 | B38: Atalgojums | C38: × | D38: =ROUND(D39,0) -> 4330
A39: 1116 | B39: Mēnešalga amatpersonām ar speciālajām dienesta pakāpēm | C39: 51 981,86 euro × 8,33% = 4 330,09 euro. | D39: =ROUND(D19*8.33%,2) -> 4330.09
A40: 1210 | B40: Darba devēja valsts sociālās apdrošināšanas obligātās iemaksas | C40: 23,59% no aprēķinātā atalgojuma | D40: =ROUND(D39*0.2359,2) -> 1021.47

Sheet 1.tabula
I1: 1.tabula
A2: Valsts policija
A3: Piemaksa par nakts darbu amatpersonām ar speciālajām dienesta pakāpēm, kuras laika periodā no 2024. gada 01. maija līdz 31. maijam tika iesaistītas atbalsta sniegšanā Valsts robežsardzei Latvijas Republikas-Baltkrievijas Republikas valsts robežas robežuzraudzības nodrošināšanā
E4: 166.92
A5: Nr. p.k. | B5: Struktūrvienība | C5: Amats | D5: Mēnešalga amatpersonām ar speciālajām pakāpēm | E5: Stundas likme | F5: Stundu skaits | G5: Piemaksa par nakts darbu | H5: DD VSAOI | I5: Atlīdzība
A6: kopā | F6: =SUM(F7:F235) -> 3455.5 | G6: =SUM(G7:G235) -> 16024.64 | H6: =SUM(H7:H235) -> 3779.6 | I6: =SUM(I7:I235) -> 19804.24
A7: 1 | B7: VP LATGALES RP ZIEMEĻLATGALES IECIRKNIS | C7: iecirkņa priekšnieka vietnieks, Reaģēšanas nodaļas priekšnieks | D7: 2305 | E7: =ROUND(D7/$E$4,3) -> 13.809 | F7: 10 | G7: 69.05 | H7: =ROUND(G7*0.2359,2)-0.01 -> 16.28 | I7: =G7+H7 -> 85.33
A8: =A7+1 -> 2 | B8: VP LATGALES RP DIENVIDLATGALES IECIRKŅA REAĢĒŠANAS NODAĻAS 3.GRUPA | C8: vecākais inspektors | D8: 1495 | E8: =ROUND(D8/$E$4,3) -> 8.956 | F8: 10 | G8: 44.78 | H8: =ROUND(G8*0.2359,2) -> 10.56 | I8: =G8+H8 -> 55.34
A9: =A8+1 -> 3 | B9: VP LATGALES RP DIENVIDLATGALES IECIRKŅA REAĢĒŠANAS NODAĻAS 7.GRUPA | C9: inspektors | D9: 1425 | E9: =ROUND(D9/$E$4,3) -> 8.537 | F9: 10 | G9: 42.69 | H9: =ROUND(G9*0.2359,2) -> 10.07 | I9: =G9+H9 -> 52.76
A10: =A9+1 -> 4 | B10: VP LATGALES RP DIENVIDLATGALES IECIRKŅA REAĢĒŠANAS NODAĻAS 7.GRUPA | C10: jaunākais inspektors | D10: 1242 | E10: =ROUND(D10/$E$4,3) -> 7.441 | F10: 16 | G10: 59.53 | H10: =ROUND(G10*0.2359,2) -> 14.04 | I10: =G10+H10 -> 73.57
A11: =A10+1 -> 5 | B11: VP LATGALES RP DIENVIDLATGALES IECIRKŅA IZMEKLĒŠANAS NODAĻAS 5.GRUPA | C11: inspektors | D11: 1553 | E11: =ROUND(D11/$E$4,3) -> 9.304 | F11: 16 | G11: 74.43 | H11: =ROUND(G11*0.2359,2) -> 17.56 | I11: =G11+H11 -> 91.99
A12: =A11+1 -> 6 | B12: VP LATGALES RP DIENVIDLATGALES IECIRKŅA REAĢĒŠANAS NODAĻAS 1.GRUPA | C12: inspektors | D12: 1425 | E12: =ROUND(D12/$E$4,3) -> 8.537 | F12: 16 | G12: 68.3 | H12: =ROUND(G12*0.2359,2) -> 16.11 | I12: =G12+H12 -> 84.41
A13: =A12+1 -> 7 | B13: VP LATGALES RP ZIEMEĻLATGALES IECIRKŅA PREVENCIJAS GRUPA | C13: vecākais inspektors | D13: 1523 | E13: =ROUND(D13/$E$4,3) -> 9.124 | F13: 8 | G13: 36.5 | H13: =ROUND(G13*0.2359,2) -> 8.61 | I13: =G13+H13 -> 45.11
A14: =A13+1 -> 8 | B14: VP LATGALES RP ZIEMEĻLATGALES IECIRKŅA REAĢĒŠANAS NODAĻAS 9.GRUPA | C14: inspektors | D14: 1425 | E14: =ROUND(D14/$E$4,3) -> 8.537 | F14: 8 | G14: 34.15 | H14: =ROUND(G14*0.2359,2) -> 8.06 | I14: =G14+H14 -> 42.21
A15: =A14+1 -> 9 | B15: VP LATGALES RP KĀRTPB ATĻAUJU SISTĒMAS GRUPA | C15: inspektors | D15: 1297 | E15: =ROUND(D15/$E$4,3) -> 7.77 | F15: 32 | G15: 124.32 | H15: =ROUND(G15*0.2359,2) -> 29.33 | I15: =G15+H15 -> 153.65
A16: =A15+1 -> 10 | B16: VP LATGALES RP DIENVIDLATGALES IECIRKŅA IZMEKLĒŠANAS NODAĻAS 7.GRUPA | C16: vecākais inspektors | D16: 1495 | E16: =ROUND(D16/$E$4,3) -> 8.956 | F16: 8 | G16: 35.82 | H16: =ROUND(G16*0.2359,2) -> 8.45 | I16: =G16+H16 -> 44.27
A17: =A16+1 -> 11 | B17: VP LATGALES RP ZIEMEĻLATGALES IECIRKŅA REAĢĒŠANAS NODAĻAS 10.GRUPA | C17: galvenais inspektors | D17: 1680 | E17: =ROUND(D17/$E$4,3) -> 10.065 | F17: 6 | G17: 30.2 | H17: =ROUND(G17*0.2359,2) -> 7.12 | I17: =G17+H17 -> 37.32
A18: =A17+1 -> 12 | B18: VP LATGALES RP DIENVIDLATGALES IECIRKŅA REAĢĒŠANAS NODAĻAS 6.GRUPA | C18: jaunākais inspektors | D18: 1242 | E18: =ROUND(D18/$E$4,3) -> 7.441 | F18: 8 | G18: 29.76 | H18: =ROUND(G18*0.2359,2) -> 7.02 | I18: =G18+H18 -> 36.78
A19: =A18+1 -> 13 | B19: VP LATGALES RP ZIEMEĻLATGALES IECIRKŅA IZMEKLĒŠANAS NODAĻAS 2.GRUPA | C19: galvenais inspektors | D19: 2040 | E19: =ROUND(D19/$E$4,3) -> 12.221 | F19: 8 | G19: 48.88 | H19: =ROUND(G19*0.2359,2) -> 11.53 | I19: =G19+H19 -> 60.41
... A56: =A55+1 -> 50 | B56: VP LATGALES RP ZIEMEĻLATGALES IECIRKŅA REAĢĒŠANAS NODAĻAS 9.GRUPA | C56: vecākais inspektors | D56: 1765 | E56: =ROUND(D56/$E$4,3) -> 10.574 | F56: 8 | G56: 42.3 | H56: =ROUND(G56*0.2359,2) -> 9.98 | I56: =G56+H56 -> 52.28
A57: =A56+1 -> 51 | B57: VP LATGALES RP DIENVIDLATGALES IECIRKŅA REAĢĒŠANAS NODAĻAS 4.GRUPA | C57: vecākais inspektors | D57: 1765 | E57: =ROUND(D57/$E$4,3) -> 10.574 | F57: 8 | G57: 42.3 | H57: 9.28 | I57: =G57+H57 -> 51.58 | J57: ***
A58: =A57+1 -> 52 | B58: VP LATGALES RP ZIEMEĻLATGALES IECIRKŅA REAĢĒŠANAS NODAĻAS 2.GRUPA | C58: galvenais inspektors | D58: 1882 | E58: =ROUND(D58/$E$4,3) -> 11.275 | F58: 8 | G58: 45.1 | H58: =ROUND(G58*0.2359,2) -> 10.64 | I58: =G58+H58 -> 55.74
A59: =A58+1 -> 53 | B59: VP LATGALES RP ZIEMEĻLATGALES IECIRKŅA REAĢĒŠANAS NODAĻAS 4.GRUPA | C59: jaunākais inspektors | D59: 1222 | E59: =ROUND(D59/$E$4,3) -> 7.321 | F59: 8 | G59: 29.28 | H59: =ROUND(G59*0.2359,2) -> 6.91 | I59: =G59+H59 -> 36.19
A60: =A59+1 -> 54 | B60: VP LATGALES RP ZIEMEĻLATGALES IECIRKŅA REAĢĒŠANAS NODAĻAS 10.GRUPA | C60: inspektors | D60: 1425 | E60: =ROUND(D60/$E$4,3) -> 8.537 | F60: 8 | G60: 34.15 | H60: =ROUND(G60*0.2359,2) -> 8.06 | I60: =G60+H60 -> 42.21
A61: =A60+1 -> 55 | B61: VP LATGALES RP KĀRTPB ATĻAUJU SISTĒMAS GRUPA | C61: inspektors | D61: 1547 | E61: =ROUND(D61/$E$4,3) -> 9.268 | F61: 8 | G61: 37.07 | H61: =ROUND(G61*0.2359,2) -> 8.74 | I61: =G61+H61 -> 45.81
A62: =A61+1 -> 56 | B62: VP LATGALES RP ZIEMEĻLATGALES IECIRKŅA IZMEKLĒŠANAS NODAĻAS 3.GRUPA | C62: galvenais inspektors | D62: 2165 | E62: =ROUND(D62/$E$4,3) -> 12.97 | F62: 10 | G62: 64.85 | H62: =ROUND(G62*0.2359,2) -> 15.3 | I62: =G62+H62 -> 80.15
A63: =A62+1 -> 57 | B63: VP LATGALES RP DIENVIDLATGALES IECIRKŅA IZMEKLĒŠANAS NODAĻAS 1.GRUPA | C63: inspektors | D63: 1561 | E63: =ROUND(D63/$E$4,3) -> 9.352 | F63: 8 | G63: 37.41 | H63: =ROUND(G63*0.2359,2) -> 8.83 | I63: =G63+H63 -> 46.24
A64: =A63+1 -> 58 | B64: VP LATGALES RP ZIEMEĻLATGALES IECIRKŅA PREVENCIJAS GRUPA | C64: inspektors | D64: 1472 | E64: =ROUND(D64/$E$4,3) -> 8.819 | F64: 8 | G64: 35.28 | H64: =ROUND(G64*0.2359,2) -> 8.32 | I64: =G64+H64 -> 43.6
A65: =A64+1 -> 59 | B65: VP LATGALES RP KRIMPB RĒZEKNES REĢIONĀLĀ NODAĻA | C65: vecākais inspektors | D65: 1722 | E65: =ROUND(D65/$E$4,3) -> 10.316 | F65: 8 | G65: 41.26 | H65: =ROUND(G65*0.2359,2) -> 9.73 | I65: =G65+H65 -> 50.99
A66: =A65+1 -> 60 | B66: VP LATGALES REĢIONA PĀRVALDES VADĪBA | C66: reģiona pārvaldes priekšnieka vietnieks, kārtības policijas biroja priekšnieks | D66: 2653 | E66: =ROUND(D66/$E$4,3) -> 15.894 | F66: 4.5 | G66: 35.76 | H66: =ROUND(G66*0.2359,2) -> 8.44 | I66: =G66+H66 -> 44.2
A67: =A66+1 -> 61 | B67: VP LATGALES RP ZIEMEĻLATGALES IECIRKŅA REAĢĒŠANAS NODAĻAS 9.GRUPA | C67: inspektors | D67: 1425 | E67: =ROUND(D67/$E$4,3) -> 8.537 | F67: 8 | G67: 34.15 | H67: =ROUND(G67*0.2359,2) -> 8.06 | I67: =G67+H67 -> 42.21
A68: =A67+1 -> 62 | B68: VP LATGALES RP ZIEMEĻLATGALES IECIRKŅA IZMEKLĒŠANAS NODAĻAS 2.GRUPA | C68: vecākais inspektors | D68: 1640 | E68: =ROUND(D68/$E$4,3) -> 9.825 | F68: 16 | G68: 78.6 | H68: =ROUND(G68*0.2359,2) -> 18.54 | I68: =G68+H68 -> 97.14
A69: =A68+1 -> 63 | B69: VP LATGALES RP DIENVIDLATGALES IECIRKŅA IZMEKLĒŠANAS NODAĻAS 7.GRUPA | C69: inspektors | D69: 1472 | E69: =ROUND(D69/$E$4,3) -> 8.819 | F69: 8 | G69: 35.28 | H69: =ROUND(G69*0.2359,2) -> 8.32 | I69: =G69+H69 -> 43.6
... A235: =A234+1 -> 229 | B235: VP LATGALES RP DIENVIDLATGALES IECIRKŅA IZMEKLĒŠANAS NODAĻAS 5.GRUPA | C235: inspektors | D235: 1501 | E235: =ROUND(D235/$E$4,3) -> 8.992 | F235: 8 | G235: 35.97 | H235: =ROUND(G235*0.2359,2) -> 8.49 | I235: =G235+H235 -> 44.46
B237: *** - izdienas pensionārs

Sheet  2.tabula
I1: 2.tabula
A2: Valsts policija
A3: Detalizēts aprēķins samaksai par virsstundu darbu amatpersonām ar speciālo dienesta pakāpi, sniedzot atbalstu Valsts robežsardzei Latvijas Republikas-Baltkrievijas Republikas valsts robežas nelikumīgas šķērsošanas nodrošināšanā, par laika periodu no 2024. gada 01. maija līdz 31. maijam.
E4: 166.92
A5: Nr. p.k. | B5: Struktūrvienība | C5: Amats | D5: Mēnešalga amatpersonām ar speciālajām pakāpēm | E5: Stundas likme | F5: Stundu skaits | G5: Samaksa par virsstundu darbu | H5: DD VSAOI | I5: Atlīdzība
A6: kopā | F6: =SUM(F7:F608) -> 0 | G6: =SUM(G7:G608) -> 0 | H6: =SUM(H7:H608) -> 0 | I6: =SUM(I7:I608) -> 0
A7: 1 | E7: =ROUND(D7/$E$4,3) -> 0 | H7: =ROUND(G7*0.2359,2) -> 0 | I7: =G7+H7 -> 0
A8: =A7+1 -> 2 | E8: =ROUND(D8/$E$4,3) -> 0 | H8: =ROUND(G8*0.2359,2) -> 0 | I8: =G8+H8 -> 0
A9: =A8+1 -> 3 | E9: =ROUND(D9/$E$4,3) -> 0 | H9: =ROUND(G9*0.2359,2) -> 0 | I9: =G9+H9 -> 0
A10: =A9+1 -> 4 | E10: =ROUND(D10/$E$4,3) -> 0 | H10: =ROUND(G10*0.2359,2) -> 0 | I10: =G10+H10 -> 0
A11: =A10+1 -> 5 | E11: =ROUND(D11/$E$4,3) -> 0 | H11: =ROUND(G11*0.2359,2) -> 0 | I11: =G11+H11 -> 0
A12: =A11+1 -> 6 | E12: =ROUND(D12/$E$4,3) -> 0 | H12: =ROUND(G12*0.2359,2) -> 0 | I12: =G12+H12 -> 0
A13: =A12+1 -> 7 | E13: =ROUND(D13/$E$4,3) -> 0 | H13: =ROUND(G13*0.2359,2) -> 0 | I13: =G13+H13 -> 0
A14: =A13+1 -> 8 | E14: =ROUND(D14/$E$4,3) -> 0 | H14: =ROUND(G14*0.2359,2) -> 0 | I14: =G14+H14 -> 0
A15: =A14+1 -> 9 | E15: =ROUND(D15/$E$4,3) -> 0 | H15: =ROUND(G15*0.2359,2) -> 0 | I15: =G15+H15 -> 0
A16: =A15+1 -> 10 | E16: =ROUND(D16/$E$4,3) -> 0 | H16: =ROUND(G16*0.2359,2) -> 0 | I16: =G16+H16 -> 0
A17: =A16+1 -> 11 | E17: =ROUND(D17/$E$4,3) -> 0 | H17: =ROUND(G17*0.2359,2) -> 0 | I17: =G17+H17 -> 0
A18: =A17+1 -> 12 | E18: =ROUND(D18/$E$4,3) -> 0 | H18: =ROUND(G18*0.2359,2) -> 0 | I18: =G18+H18 -> 0
A19: =A18+1 -> 13 | E19: =ROUND(D19/$E$4,3) -> 0 | H19: =ROUND(G19*0.2359,2) -> 0 | I19: =G19+H19 -> 0
... A608: =A607+1 -> 602 | E608: =ROUND(D608/$E$4,3) -> 0 | H608: =ROUND(G608*0.2359,2) -> 0 | I608: =G608+H608 -> 0

Sheet 2.tabula
I1: 2.tabula
A2: Valsts policija
A3: Detalizēts aprēķins piemaksai par darbu svētku dienās amatpersonām ar speciālo dienesta pakāpi, sniedzot atbalstu Valsts robežsardzei Latvijas Republikas-Baltkrievijas Republikas valsts robežas nelikumīgas šķērsošanas nodrošināšanā, par laika periodu no 2024. gada 01. maija līdz 31. maijam (par 01.05., 04.05., 12.05., 19.05.)
E4: 166.92
A5: Nr. p.k. | B5: Struktūrvienība | C5: Amats | D5: Mēnešalga amatpersonām ar speciālajām pakāpēm | E5: Stundas likme | F5: Stundu skaits | G5: Piemaksa par darbu svētku dienās | H5: DD VSAOI | I5: Atlīdzība
A6: kopā | F6: =SUM(F7:F134) -> 1678.5 | G6: =SUM(G7:G134) -> 15798.05 | H6: =SUM(H7:H134) -> 3726.04 | I6: =SUM(I7:I134) -> 19524.09
A7: 1 | B7: VP LATGALES RP ZIEMEĻLATGALES IECIRKNIS | C7: iecirkņa priekšnieka vietnieks, Reaģēšanas nodaļas priekšnieks | D7: 2305 | E7: 13.809 | F7: 10 | G7: 138.09 | H7: 32.58 | I7: 170.67
A8: 2 | B8: VP LATGALES RP DIENVIDLATGALES IECIRKŅA REAĢĒŠANAS NODAĻAS 7.GRUPA | C8: inspektors | D8: 1425 | E8: 8.537 | F8: 24.5 | G8: 209.16 | H8: 49.34 | I8: 258.5
A9: 3 | B9: VP LATGALES RP DIENVIDLATGALES IECIRKŅA REAĢĒŠANAS NODAĻAS 7.GRUPA | C9: jaunākais inspektors | D9: 1242 | E9: 7.441 | F9: 5.5 | G9: 40.93 | H9: 9.66 | I9: 50.59
A10: 4 | B10: VP LATGALES RP DIENVIDLATGALES IECIRKŅA REAĢĒŠANAS NODAĻAS 4.GRUPA | C10: vecākais inspektors | D10: 1523 | E10: 9.124 | F10: 13 | G10: 118.61 | H10: 27.98 | I10: 146.59
A11: 5 | B11: VP LATGALES RP ZIEMEĻLATGALES IECIRKŅA REAĢĒŠANAS NODAĻAS 10.GRUPA | C11: galvenais inspektors | D11: 1680 | E11: 10.065 | F11: 11.5 | G11: 115.75 | H11: 27.31 | I11: 143.06
A12: 6 | B12: VP LATGALES RP ZIEMEĻLATGALES IECIRKŅA IZMEKLĒŠANAS NODAĻAS 3.GRUPA | C12: inspektors | D12: 1561 | E12: 9.352 | F12: 10 | G12: 93.52 | H12: 22.06 | I12: 115.58
A13: 7 | B13: VP LATGALES RP KĀRTPB RESURSU UN KRĪZES VADĪBAS NODAĻA | C13: nodaļas priekšnieks | D13: 1898 | E13: 11.371 | F13: 9 | G13: 102.34 | H13: 24.14 | I13: 126.48
A14: 8 | B14: VP LATGALES RP DIENVIDLATGALES IECIRKŅA REAĢĒŠANAS NODAĻAS 10.GRUPA | C14: inspektors | D14: 1445 | E14: 8.657 | F14: 14 | G14: 121.2 | H14: 28.59 | I14: 149.79
A15: 9 | B15: VP LATGALES RP ZIEMEĻLATGALES IECIRKŅA REAĢĒŠANAS NODAĻAS 6.GRUPA | C15: galvenais inspektors | D15: 1744 | E15: 10.448 | F15: 14 | G15: 146.27 | H15: 34.51 | I15: 180.78
A16: 10 | B16: VP LATGALES RP DIENVIDLATGALES IECIRKŅA IZMEKLĒŠANAS NODAĻAS 6.GRUPA | C16: inspektors | D16: 1445 | E16: 8.657 | F16: 9.5 | G16: 82.24 | H16: 19.4 | I16: 101.64
A17: 11 | B17: VP LATGALES RP ZIEMEĻLATGALES IECIRKŅA REAĢĒŠANAS NODAĻAS 8.GRUPA | C17: inspektors | D17: 1445 | E17: 8.657 | F17: 16.5 | G17: 142.84 | H17: 33.7 | I17: 176.54
A18: 12 | B18: VP LATGALES RP KĀRTPB PREVENCIJAS GRUPA | C18: galvenais inspektors | D18: 2043 | E18: 12.239 | F18: 19 | G18: 232.54 | H18: 54.86 | I18: 287.4
... A29: 23 | B29: VP LATGALES RP ZIEMEĻLATGALES IECIRKŅA REAĢĒŠANAS NODAĻAS 9.GRUPA | C29: vecākais inspektors | D29: 1765 | E29: 10.574 | F29: 11 | G29: 116.31 | H29: 27.44 | I29: 143.75
A30: 24 | B30: VP LATGALES RP DIENVIDLATGALES IECIRKŅA REAĢĒŠANAS NODAĻAS 4.GRUPA | C30: vecākais inspektors | D30: 1765 | E30: 10.574 | F30: 4.5 | G30: 47.58 | H30: 10.44 | I30: 58.02 | J30: ***
A31: 25 | B31: VP LATGALES RP ZIEMEĻLATGALES IECIRKŅA REAĢĒŠANAS NODAĻAS 10.GRUPA | C31: inspektors | D31: 1425 | E31: 8.537 | F31: 11.5 | G31: 98.18 | H31: 23.16 | I31: 121.34
A32: 26 | B32: VP LATGALES RP ZIEMEĻLATGALES IECIRKŅA IZMEKLĒŠANAS NODAĻAS 3.GRUPA | C32: galvenais inspektors | D32: 2165 | E32: 12.97 | F32: 10 | G32: 129.7 | H32: 30.6 | I32: 160.3
A33: 27 | B33: VP LATGALES RP KRIMPB RĒZEKNES REĢIONĀLĀ NODAĻA | C33: vecākais inspektors | D33: 1722 | E33: 10.316 | F33: 10 | G33: 103.16 | H33: 24.34 | I33: 127.5
A34: 28 | B34: VP LATGALES RP ZIEMEĻLATGALES IECIRKŅA PREVENCIJAS GRUPA | C34: inspektors | D34: 1472 | E34: 8.819 | F34: 16.5 | G34: 145.51 | H34: 34.33 | I34: 179.84
A35: 29 | B35: VP LATGALES RP KRIMPB EKONOMISKO NOZIEGUMU APKAROŠANAS NODAĻA | C35: galvenais inspektors | D35: 1791 | E35: 10.73 | F35: 5 | G35: 53.65 | H35: 12.66 | I35: 66.31
A36: 30 | B36: VP GKĀRTPP RKVP SPECIĀLO UZDEVUMU BATALJONA 7.ROTA (KURZEMES REĢIONA) | C36: rotas komandieris | D36: 2146 | E36: 12.856 | F36: 15 | G36: 192.84 | H36: 45.49 | I36: 238.33
A37: 31 | B37: VP LATGALES RP ZIEMEĻLATGALES IECIRKŅA IZMEKLĒŠANAS NODAĻAS 1.GRUPA | C37: vecākais inspektors | D37: 1640 | E37: 9.825 | F37: 11.5 | G37: 112.99 | H37: 26.65 | I37: 139.64
A38: 32 | B38: VP LATGALES RP DIENVIDLATGALES IECIRKŅA REAĢĒŠANAS NODAĻAS 8.GRUPA | C38: inspektors | D38: 1425 | E38: 8.537 | F38: 13 | G38: 110.98 | H38: 26.18 | I38: 137.16
A39: 33 | B39: VP GKĀRTPP RKVP SPECIĀLO UZDEVUMU BATALJONA 5.ROTA (VIDZEMES REĢIONA) | C39: rotas komandiera vietnieks | D39: 1981 | E39: 11.868 | F39: 36 | G39: 427.25 | H39: 100.79 | I39: 528.04
A40: 34 | B40: VP LATGALES RP ZIEMEĻLATGALES IECIRKŅA IZMEKLĒŠANAS NODAĻAS 2.GRUPA | C40: inspektors | D40: 1553 | E40: 9.304 | F40: 15 | G40: 139.56 | H40: 32.92 | I40: 172.48
A41: 35 | B41: VP LATGALES RP ZIEMEĻLATGALES IECIRKŅA IZMEKLĒŠANAS NODAĻAS 1.GRUPA | C41: inspektors | D41: 1581 | E41: 9.472 | F41: 4 | G41: 37.89 | H41: 8.94 | I41: 46.83
A42: 36 | B42: VP LATGALES RP ZIEMEĻLATGALES IECIRKŅA REAĢĒŠANAS NODAĻAS 7.GRUPA | C42: inspektors | D42: 1472 | E42: 8.819 | F42: 4.5 | G42: 39.69 | H42: 9.36 | I42: 49.05
... A134: 128 | B134: VP GKĀRTPP RKVP SPECIĀLO UZDEVUMU BATALJONA 6.ROTA (ZEMGALES REĢIONA) | C134: jaunākais inspektors | D134: 1390 | E134: 8.327 | F134: 13 | G134: 108.25 | H134: 25.54 | I134: 133.79
B136: *** - izdienas pensionārs

Sheet 3.tabula
J1: 3.tabula
A2: Valsts policija
A3: Piemaksa par darbu īpašos apstākļos amatpersonām ar speciālajām dienesta pakāpēm, kuras laika periodā no 2024. gada 01. maija līdz 31. maijam tika iesaistītas atbalsta sniegšanā Valsts robežsardzei Latvijas Republikas-Baltkrievijas Republikas valsts robežas robežuzraudzības nodrošināšanā
F4: 166.92
A5: Nr. p.k. | B5: Struktūrvienība | C5: Amats | D5: Mēnešalga amatpersonām ar speciālajām pakāpēm | E5: Piemaksas apmērs % | F5: Stundas likme | G5: Stundu skaits | H5: Piemaksa par darbu īpašos apstākļos | I5: DD VSAOI | J5: Atlīdzība
A7: kopā | G7: =SUM(G8:G389) -> 10329 | H7: =SUM(H8:H389) -> 20159.17 | I7: =SUM(I8:I389) -> 4753.66 | J7: =SUM(J8:J389) -> 24912.83
A8: 1 | B8: VP LATGALES RP DIENVIDLATGALES IECIRKŅA REAĢĒŠANAS NODAĻAS 3.GRUPA | C8: vecākais inspektors | D8: 1495 | E8: 20% | F8: =ROUND(D8/$F$4,3) -> 8.956 | G8: 28 | H8: 50.15 | I8: =ROUND(H8*23.59%,2) -> 11.83 | J8: =H8+I8 -> 61.98
A9: =A8+1 -> 2 | B9: VP LATGALES RP DIENVIDLATGALES IECIRKŅA REAĢĒŠANAS NODAĻAS 7.GRUPA | C9: inspektors | D9: 1425 | E9: 20% | F9: =ROUND(D9/$F$4,3) -> 8.537 | G9: 42 | H9: 71.71 | I9: =ROUND(H9*23.59%,2) -> 16.92 | J9: =H9+I9 -> 88.63
A10: =A9+1 -> 3 | B10: VP LATGALES RP DIENVIDLATGALES IECIRKŅA REAĢĒŠANAS NODAĻAS 7.GRUPA | C10: jaunākais inspektors | D10: 1242 | E10: 20% | F10: =ROUND(D10/$F$4,3) -> 7.441 | G10: 25 | H10: 37.21 | I10: =ROUND(H10*23.59%,2) -> 8.78 | J10: =H10+I10 -> 45.99
A11: =A10+1 -> 4 | B11: VP LATGALES RP DIENVIDLATGALES IECIRKŅA IZMEKLĒŠANAS NODAĻAS 5.GRUPA | C11: inspektors | D11: 1553 | E11: 20% | F11: =ROUND(D11/$F$4,3) -> 9.304 | G11: 23 | H11: 42.8 | I11: =ROUND(H11*23.59%,2) -> 10.1 | J11: =H11+I11 -> 52.9
A12: =A11+1 -> 5 | B12: VP LATGALES RP DIENVIDLATGALES IECIRKŅA REAĢĒŠANAS NODAĻAS 1.GRUPA | C12: inspektors | D12: 1425 | E12: 20% | F12: =ROUND(D12/$F$4,3) -> 8.537 | G12: 24 | H12: 40.98 | I12: =ROUND(H12*23.59%,2) -> 9.67 | J12: =H12+I12 -> 50.65
A13: =A12+1 -> 6 | B13: VP LATGALES RP ZIEMEĻLATGALES IECIRKŅA PREVENCIJAS GRUPA | C13: vecākais inspektors | D13: 1523 | E13: 20% | F13: =ROUND(D13/$F$4,3) -> 9.124 | G13: 36 | H13: 65.69 | I13: =ROUND(H13*23.59%,2) -> 15.5 | J13: =H13+I13 -> 81.19
A14: =A13+1 -> 7 | B14: VP LATGALES RP DIENVIDLATGALES IECIRKŅA REAĢĒŠANAS NODAĻAS 4.GRUPA | C14: vecākais inspektors | D14: 1523 | E14: 20% | F14: =ROUND(D14/$F$4,3) -> 9.124 | G14: 12 | H14: 21.9 | I14: =ROUND(H14*23.59%,2) -> 5.17 | J14: =H14+I14 -> 27.07
A15: =A14+1 -> 8 | B15: VP LATGALES RP ZIEMEĻLATGALES IECIRKŅA REAĢĒŠANAS NODAĻAS 9.GRUPA | C15: inspektors | D15: 1425 | E15: 20% | F15: =ROUND(D15/$F$4,3) -> 8.537 | G15: 12 | H15: 20.49 | I15: =ROUND(H15*23.59%,2) -> 4.83 | J15: =H15+I15 -> 25.32
A16: =A15+1 -> 9 | B16: VP LATGALES RP KĀRTPB ATĻAUJU SISTĒMAS GRUPA | C16: inspektors | D16: 1297 | E16: 20% | F16: =ROUND(D16/$F$4,3) -> 7.77 | G16: 48 | H16: 74.59 | I16: =ROUND(H16*23.59%,2) -> 17.6 | J16: =H16+I16 -> 92.19
A17: =A16+1 -> 10 | B17: VP LATGALES RP KRIMPB KRIMINĀLIZLŪKOŠANAS INFORMĀCIJAS ANALĪZES GRUPA | C17: vecākais inspektors | D17: 1672 | E17: 20% | F17: =ROUND(D17/$F$4,3) -> 10.017 | G17: 12 | H17: 24.04 | I17: =ROUND(H17*23.59%,2) -> 5.67 | J17: =H17+I17 -> 29.71
A18: =A17+1 -> 11 | B18: VP LATGALES RP DIENVIDLATGALES IECIRKŅA IZMEKLĒŠANAS NODAĻAS 7.GRUPA | C18: vecākais inspektors | D18: 1495 | E18: 20% | F18: =ROUND(D18/$F$4,3) -> 8.956 | G18: 12 | H18: 21.49 | I18: =ROUND(H18*23.59%,2) -> 5.07 | J18: =H18+I18 -> 26.56
A19: =A18+1 -> 12 | B19: VP LATGALES RP ZIEMEĻLATGALES IECIRKŅA REAĢĒŠANAS NODAĻAS 10.GRUPA | C19: galvenais inspektors | D19: 1680 | E19: 20% | F19: =ROUND(D19/$F$4,3) -> 10.065 | G19: 9 | H19: 18.12 | I19: =ROUND(H19*23.59%,2) -> 4.27 | J19: =H19+I19 -> 22.39
A20: =A19+1 -> 13 | B20: VP LATGALES RP ZIEMEĻLATGALES IECIRKŅA REAĢĒŠANAS NODAĻAS 7.GRUPA | C20: vecākais inspektors | D20: 1495 | E20: 20% | F20: =ROUND(D20/$F$4,3) -> 8.956 | G20: 12 | H20: 21.49 | I20: =ROUND(H20*23.59%,2) -> 5.07 | J20: =H20+I20 -> 26.56
... A79: =A78+1 -> 72 | B79: VP LATGALES RP ZIEMEĻLATGALES IECIRKŅA REAĢĒŠANAS NODAĻAS 9.GRUPA | C79: vecākais inspektors | D79: 1765 | E79: 20% | F79: =ROUND(D79/$F$4,3) -> 10.574 | G79: 12 | H79: 25.38 | I79: =ROUND(H79*23.59%,2) -> 5.99 | J79: =H79+I79 -> 31.37
A80: =A79+1 -> 73 | B80: VP LATGALES RP DIENVIDLATGALES IECIRKŅA REAĢĒŠANAS NODAĻAS 4.GRUPA | C80: vecākais inspektors | D80: 1765 | E80: 20% | F80: =ROUND(D80/$F$4,3) -> 10.574 | G80: 24 | H80: 50.76 | I80: =ROUND(H80*21.94%,2) -> 11.14 | J80: =H80+I80 -> 61.9 | K80: ***
A81: =A80+1 -> 74 | B81: VP LATGALES RP ZIEMEĻLATGALES IECIRKŅA REAĢĒŠANAS NODAĻAS 2.GRUPA | C81: galvenais inspektors | D81: 1882 | E81: 20% | F81: =ROUND(D81/$F$4,3) -> 11.275 | G81: 24 | H81: 54.12 | I81: =ROUND(H81*23.59%,2) -> 12.77 | J81: =H81+I81 -> 66.89
A82: =A81+1 -> 75 | B82: VP LATGALES RP DIENVIDLATGALES IECIRKŅA PREVENCIJAS GRUPA | C82: vecākais inspektors | D82: 1503 | E82: 20% | F82: =ROUND(D82/$F$4,3) -> 9.004 | G82: 13 | H82: 23.41 | I82: =ROUND(H82*23.59%,2) -> 5.52 | J82: =H82+I82 -> 28.93
A83: =A82+1 -> 76 | B83: VP LATGALES RP ZIEMEĻLATGALES IECIRKŅA REAĢĒŠANAS NODAĻAS 4.GRUPA | C83: jaunākais inspektors | D83: 1222 | E83: 20% | F83: =ROUND(D83/$F$4,3) -> 7.321 | G83: 36 | H83: 52.71 | I83: =ROUND(H83*23.59%,2) -> 12.43 | J83: =H83+I83 -> 65.14
A84: =A83+1 -> 77 | B84: VP LATGALES RP ZIEMEĻLATGALES IECIRKŅA REAĢĒŠANAS NODAĻAS 10.GRUPA | C84: inspektors | D84: 1425 | E84: 20% | F84: =ROUND(D84/$F$4,3) -> 8.537 | G84: 12 | H84: 20.49 | I84: =ROUND(H84*23.59%,2) -> 4.83 | J84: =H84+I84 -> 25.32
A85: =A84+1 -> 78 | B85: VP LATGALES RP KĀRTPB ATĻAUJU SISTĒMAS GRUPA | C85: inspektors | D85: 1547 | E85: 20% | F85: =ROUND(D85/$F$4,3) -> 9.268 | G85: 36 | H85: 66.73 | I85: =ROUND(H85*23.59%,2) -> 15.74 | J85: =H85+I85 -> 82.47
A86: =A85+1 -> 79 | B86: VP LATGALES RP ZIEMEĻLATGALES IECIRKŅA REAĢĒŠANAS NODAĻAS 4.GRUPA | C86: inspektors | D86: 1405 | E86: 20% | F86: =ROUND(D86/$F$4,3) -> 8.417 | G86: 12 | H86: 20.2 | I86: =ROUND(H86*23.59%,2) -> 4.77 | J86: =H86+I86 -> 24.97
A87: =A86+1 -> 80 | B87: VP LATGALES RP ZIEMEĻLATGALES IECIRKŅA IZMEKLĒŠANAS NODAĻAS 3.GRUPA | C87: galvenais inspektors | D87: 2165 | E87: 20% | F87: =ROUND(D87/$F$4,3) -> 12.97 | G87: 15 | H87: 38.91 | I87: =ROUND(H87*23.59%,2) -> 9.18 | J87: =H87+I87 -> 48.09
A88: =A87+1 -> 81 | B88: VP LATGALES RP DIENVIDLATGALES IECIRKŅA IZMEKLĒŠANAS NODAĻAS 1.GRUPA | C88: inspektors | D88: 1561 | E88: 20% | F88: =ROUND(D88/$F$4,3) -> 9.352 | G88: 25 | H88: 46.76 | I88: =ROUND(H88*23.59%,2) -> 11.03 | J88: =H88+I88 -> 57.79
A89: =A88+1 -> 82 | B89: VP LATGALES RP KĀRTPB RESURSU UN KRĪZES VADĪBAS NODAĻA | C89: operatīvais dežurants | D89: 1656 | E89: 20% | F89: =ROUND(D89/$F$4,3) -> 9.921 | G89: 36 | H89: 71.43 | I89: =ROUND(H89*23.59%,2) -> 16.85 | J89: =H89+I89 -> 88.28
A90: =A89+1 -> 83 | B90: VP LATGALES RP ZIEMEĻLATGALES IECIRKŅA PREVENCIJAS GRUPA | C90: inspektors | D90: 1472 | E90: 20% | F90: =ROUND(D90/$F$4,3) -> 8.819 | G90: 12 | H90: 21.17 | I90: =ROUND(H90*23.59%,2) -> 4.99 | J90: =H90+I90 -> 26.16
A91: =A90+1 -> 84 | B91: VP LATGALES RP KRIMPB RĒZEKNES REĢIONĀLĀ NODAĻA | C91: vecākais inspektors | D91: 1722 | E91: 20% | F91: =ROUND(D91/$F$4,3) -> 10.316 | G91: 12 | H91: 24.76 | I91: =ROUND(H91*23.59%,2)-0.01 -> 5.83 | J91: =H91+I91 -> 30.59
A92: =A91+1 -> 85 | B92: VP LATGALES RP DIENVIDLATGALES IECIRKŅA IZMEKLĒŠANAS NODAĻAS 1.GRUPA | C92: inspektors | D92: 1533 | E92: 20% | F92: =ROUND(D92/$F$4,3) -> 9.184 | G92: 13 | H92: 23.88 | I92: =ROUND(H92*23.59%,2) -> 5.63 | J92: =H92+I92 -> 29.51
A93: =A92+1 -> 86 | B93: VP LATGALES RP KRIMPB RĒZEKNES REĢIONĀLĀ NODAĻA | C93: vecākais inspektors | D93: 1722 | E93: 20% | F93: =ROUND(D93/$F$4,3) -> 10.316 | G93: 12 | H93: 24.76 | I93: =ROUND(H93*23.59%,2) -> 5.84 | J93: =H93+I93 -> 30.6
A94: =A93+1 -> 87 | B94: VP LATGALES RP ZIEMEĻLATGALES IECIRKŅA REAĢĒŠANAS NODAĻAS 3.GRUPA | C94: inspektors | D94: 1425 | E94: 20% | F94: =ROUND(D94/$F$4,3) -> 8.537 | G94: 12 | H94: 20.49 | I94: =ROUND(H94*23.59%,2) -> 4.83 | J94: =H94+I94 -> 25.32
A95: =A94+1 -> 88 | B95: VP LATGALES RP DIENVIDLATGALES IECIRKŅA REAĢĒŠANAS NODAĻAS 1.GRUPA | C95: galvenais inspektors | D95: 1680 | E95: 20% | F95: =ROUND(D95/$F$4,3) -> 10.065 | G95: 36 | H95: 72.47 | I95: =ROUND(H95*23.59%,2) -> 17.1 | J95: =H95+I95 -> 89.57
A96: =A95+1 -> 89 | B96: VP LATGALES RP DIENVIDLATGALES IECIRKŅA IZMEKLĒŠANAS NODAĻAS 2.GRUPA | C96: inspektors | D96: 1581 | E96: 20% | F96: =ROUND(D96/$F$4,3) -> 9.472 | G96: 36 | H96: 68.2 | I96: =ROUND(H96*23.59%,2)-0.01 -> 16.08 | J96: =H96+I96 -> 84.28
A97: =A96+1 -> 90 | B97: VP LATGALES RP ZIEMEĻLATGALES IECIRKŅA REAĢĒŠANAS NODAĻAS 9.GRUPA | C97: inspektors | D97: 1425 | E97: 20% | F97: =ROUND(D97/$F$4,3) -> 8.537 | G97: 48 | H97: 81.96 | I97: =ROUND(H97*23.59%,2)-0.01 -> 19.32 | J97: =H97+I97 -> 101.28
A98: =A97+1 -> 91 | B98: VP LATGALES RP ZIEMEĻLATGALES IECIRKŅA IZMEKLĒŠANAS NODAĻAS 2.GRUPA | C98: vecākais inspektors | D98: 1640 | E98: 20% | F98: =ROUND(D98/$F$4,3) -> 9.825 | G98: 24 | H98: 47.16 | I98: =ROUND(H98*23.59%,2) -> 11.13 | J98: =H98+I98 -> 58.29
A99: =A98+1 -> 92 | B99: VP LATGALES RP DIENVIDLATGALES IECIRKŅA IZMEKLĒŠANAS NODAĻAS 7.GRUPA | C99: inspektors | D99: 1472 | E99: 20% | F99: =ROUND(D99/$F$4,3) -> 8.819 | G99: 12 | H99: 21.17 | I99: =ROUND(H99*23.59%,2)-0.01 -> 4.98 | J99: =H99+I99 -> 26.15
...

Sheet 4.tabula
F1: 4.tabula
A2: Valsts policija
A3: Degvielas izmaksu aprēķins degvielas izdevumiem sniedzot atbalstu Valsts robežsardzei Latvijas Republikas-Baltkrievijas Republikas valsts robežas nelikumīgas šķērsošanas nodrošināšanā par laika periodu no 2024. gada 01. maija līdz 31. maijam.
A5: Nr.p.k. | B5: Transportlīdzekļa marka | C5: Iesaistīto transportlīdzekļu skaits | D5: Faktiskais nobraukums pasākumā (km) | E5: Pasākuma laikā patērētā degviela (l) | F5: Summa euro
A6: Kopā: | C6: =ROUNDUP(SUM(C8:C54),2) -> 61 | D6: =ROUNDUP(SUM(D8:D54),2) -> 90815 | E6: =ROUNDUP(SUM(E8:E54),2) -> 6740.28 | F6: =ROUNDUP(SUM(F8:F54),2) -> 9872.33
A7: Vidzemes reģiona pārvalde
A8: 1 | B8: Peugeot Boxer | C8: 2 | D8: 2107 | E8: 216.24 | F8: 318.6
A9: 2 | B9: VW Crafter | C9: 1 | D9: 2233 | E9: 245.63 | F9: 371.41
A10: 3 | B10: VW Tiguan | C10: 1 | D10: 1158 | E10: 77.59 | F10: 113.04
A15: Latgales reģiona pārvalde
A16: 4 | B16: Citroen Berlingo | C16: 1 | D16: 1251 | E16: 70.06 | F16: 102.29
A17: =A16+1 -> 5 | B17: Citroen Jumper | C17: 1 | D17: 307 | E17: 27.94 | F17: 40.8
A18: =A17+1 -> 6 | B18: Hyundai Santa Fe | C18: 1 | D18: 127 | E18: 13.21 | F18: 19.29
A19: =A18+1 -> 7 | B19: KIA Cee'd | C19: 5 | D19: 1314 | E19: 82.66 | F19: 125.7
A20: =A19+1 -> 8 | B20: Opel Mokka | C20: 28 | D20: 41608 | E20: 2725.04 | F20: 3995.69
A21: =A20+1 -> 9 | B21: Opel Combo Van | C21: 1 | D21: 5590 | E21: 374.53 | F21: 546.82
A22: =A21+1 -> 10 | B22: Opel Insignia Limousine | C22: 3 | D22: 1283 | E22: 78.98 | F22: 115.85
A23: =A22+1 -> 11 | B23: Renault Kangoo | C23: 6 | D23: 12372 | E23: 903.16 | F23: 1318.64
A24: =A23+1 -> 12 | B24: Renault Laguna | C24: 2 | D24: 3348 | E24: 202.87 | F24: 296.19
A25: =A24+1 -> 13 | B25: Renault Trafic | C25: 2 | D25: 9135 | E25: 783.02 | F25: 1143.07
A26: =A25+1 -> 14 | B26: Toyota RAV4 | C26: 2 | D26: 1369 | E26: 87.34 | F26: 134.51
A27: =A26+1 -> 15
A28: =A27+1 -> 16
A29: =A28+1 -> 17
A30: =A29+1 -> 18
A31: =A30+1 -> 19
A32: =A31+1 -> 20
A33: =A32+1 -> 21
A34: =A33+1 -> 22
A35: =A34+1 -> 23
A36: =A35+1 -> 24
A37: Zemgales reģiona pārvalde
A38: 15 | B38: Renault Trafic | C38: 1 | D38: 2543 | E38: 300 | F38: 433.22
A39: 16 | B39: VW Crafter | C39: 1 | D39: 797 | E39: 106.24 | F39: 152.89
A40: 17 | B40: Ford Transit Custom | C40: 1 | D40: 1347 | E40: 157.47 | F40: 225.34
A43: Kurzemes reģiona pārvalde
A44: 18 | B44: Peugeot Boxer | C44: 1 | D44: 1821 | E44: 171.17 | F44: 249.73
A45: 19 | B45: VW Crafter | C45: 1 | D45: 1105 | E45: 117.13 | F45: 169.25
A48: Rīgas reģiona pārvalde

Sheet 6.tabula
G1: 6.tabula
A2: Valsts policija
A3: Detalizēts aprēķins dienas naudas samaksai amatpersonām ar speciālajām dienesta pakāpēm, sniedzot atbalstu Valsts robežsardzei Latvijas Republikas-Baltkrievijas Republikas valsts robežas robežuzraudzības nodrošināšanā par laika perioduno 2024. gada 01. maija līdz 31. maijam
A5: Nr. p.k. | B5: Struktūrvienība | C5: Amats | D5: Laika periods | E5: Dienu skaits | F5: Likme | G5: Dienas nauda (kopsumma)
A6: kopā: | G6: =SUM(G7:G84) -> 2527.2
A7: 1 | D7: 03.09.2023.-26.09.2023/ | E7: 2 | F7: 8 | G7: =ROUND(E7*F7,2) -> 16
E8: 22 | F8: 2.4 | G8: =ROUND(E8*F8,2) -> 52.8
A9: 2 | D9: 03.09.2023.-26.09.2023/ | E9: 2 | F9: 8 | G9: =ROUND(E9*F9,2) -> 16
E10: 22 | F10: 2.4 | G10: =ROUND(E10*F10,2) -> 52.8
A11: 3 | D11: 03.09.2023.-26.09.2023/ | E11: 2 | F11: 8 | G11: =ROUND(E11*F11,2) -> 16
E12: 22 | F12: 2.4 | G12: =ROUND(E12*F12,2) -> 52.8
A13: 4 | D13: 03.09.2023.-26.09.2023/ | E13: 2 | F13: 8 | G13: =ROUND(E13*F13,2) -> 16
E14: 22 | F14: 2.4 | G14: =ROUND(E14*F14,2) -> 52.8
A15: 5 | D15: 03.09.2023.-26.09.2023/ | E15: 2 | F15: 8 | G15: =ROUND(E15*F15,2) -> 16
E16: 22 | F16: 2.4 | G16: =ROUND(E16*F16,2) -> 52.8
A17: 6 | D17: 03.09.2023.-26.09.2023/ | E17: 2 | F17: 8 | G17: =ROUND(E17*F17,2) -> 16
E18: 22 | F18: 2.4 | G18: =ROUND(E18*F18,2) -> 52.8
A19: 7 | D19: 03.09.2023.-26.09.2023/ | E19: 2 | F19: 8 | G19: =ROUND(E19*F19,2) -> 16
E20: 22 | F20: 2.4 | G20: =ROUND(E20*F20,2) -> 52.8
A21: 8 | D21: 03.09.2023.-26.09.2023/ | E21: 2 | F21: 8 | G21: =ROUND(E21*F21,2) -> 16
E22: 22 | F22: 2.4 | G22: =ROUND(E22*F22,2) -> 52.8
A23: 9 | D23: 03.09.2023.-26.09.2023/ | E23: 2 | F23: 8 | G23: =ROUND(E23*F23,2) -> 16
E24: 22 | F24: 2.4 | G24: =ROUND(E24*F24,2) -> 52.8
A25: 10 | D25: 03.09.2023.-26.09.2023/ | E25: 2 | F25: 8 | G25: =ROUND(E25*F25,2) -> 16
E26: 22 | F26: 2.4 | G26: =ROUND(E26*F26,2) -> 52.8
A27: 11 | D27: 03.09.2023.-26.09.2023/ | E27: 2 | F27: 8 | G27: =ROUND(E27*F27,2) -> 16
E28: 22 | F28: 2.4 | G28: =ROUND(E28*F28,2) -> 52.8
A29: 12 | D29: 03.09.2023.-26.09.2023/ | E29: 2 | F29: 8 | G29: =ROUND(E29*F29,2) -> 16
E30: 22 | F30: 2.4 | G30: =ROUND(E30*F30,2) -> 52.8
A31: 13 | D31: 03.09.2023.-26.09.2023/ | E31: 2 | F31: 8 | G31: =ROUND(E31*F31,2) -> 16
E32: 22 | F32: 2.4 | G32: =ROUND(E32*F32,2) -> 52.8
A33: 14 | D33: 26.09.2023.-17.10.2023/ | E33: 2 | F33: 8 | G33: =ROUND(E33*F33,2) -> 16
E34: 20 | F34: 2.4 | G34: =ROUND(E34*F34,2) -> 48
A35: 15 | D35: 26.09.2023.-17.10.2023/ | E35: 2 | F35: 8 | G35: =ROUND(E35*F35,2) -> 16
E36: 20 | F36: 2.4 | G36: =ROUND(E36*F36,2) -> 48
A37: 16 | D37: 26.09.2023.-17.10.2023/ | E37: 2 | F37: 8 | G37: =ROUND(E37*F37,2) -> 16
E38: 20 | F38: 2.4 | G38: =ROUND(E38*F38,2) -> 48
A39: 17 | D39: 26.09.2023.-17.10.2023/ | E39: 2 | F39: 8 | G39: =ROUND(E39*F39,2) -> 16
E40: 20 | F40: 2.4 | G40: =ROUND(E40*F40,2) -> 48
A41: 18 | D41: 26.09.2023.-17.10.2023/ | E41: 2 | F41: 8 | G41: =ROUND(E41*F41,2) -> 16
...
