Workbook
Name iesniedzejs: [1]HIDDEN!$A$2:$A$124
Name men: [1]HIDDEN!$P$1:$P$13
Name nozare1: [1]HIDDEN!$N$2:$O$7
Name nozareIZV: [1]HIDDEN!$N$2:$N$7
Name SAM: [1]HIDDEN!$H$2:$H$4

Sheet Dati
A1: Nosaukums | C1: Izvēlieties dienu | D1: Izvēlieties mēnesi | E1: Izvēlieties gadu | G1: Izvēlieties nozari | H1: Pārskata periods (gadi) | J1: Projekta iesniedzēja un Sadarbības partnera veids | L1: ES fonds | N1: ES fonda atbalsta likme | P1: SAM | R1: Papildnosacījums | T1: VBD likmes
G2: Dzelzceļš | H2: 30 | P2: 4.2.3.4.
A3: Aizkraukles novada pašvaldība | C3: 1 | D3: janvāris | E3: 2019 | G3: Ūdensapgāde/sanitārija | H3: 30 | I3: 1 | J3: Pašvaldība vai tās izveidota iestāde | L3: Kohēzijas fonds | N3: 1 | R3: JĀ | T3: 0.1
A4: Alūksnes novada pašvaldība | C4: 2 | D4: februāris | E4: 2020 | G4: Ceļi | H4: 25-30 | I4: 2 | J4: Tiešās pārvaldes iestāde | L4: Atveseļošanās fonds vai ESF + | N4: 0.85 | R4: NĒ | T4: 0.15
A5: Augšdaugavas novada pašvaldība | C5: 3 | D5: marts | E5: 2021 | G5: Atkritumu apsaimniekošana | H5: 25-30 | I5: 3 | J5: Kapitālsabiedrība | L5: Eiropas Reģionālās attīstības fonds | N5: 0.55 | T5: 0.2
A6: Ādažu novada pašvaldība | C6: 4 | D6: aprīlis | E6: 2022 | G6: Ostas un lidostas | H6: 25 | J6: Speciālās ekonomiskās zonas pārvalde | N6: 0.5 | T6: 0.25
A7: Balvu novada pašvaldība | C7: 5 | D7: maijs | E7: 2023 | G7: Pilsētas transports | H7: 25-30 | J7: Brīvostas pārvalde | N7: 0.45 | T7: 0.3
A8: Bauskas novada pašvaldība | C8: 6 | D8: jūnijs | E8: 2024 | G8: Enerģija | H8: 15-25 | J8: Tiesu varas institūcija | N8: 0
A9: Cēsu novada pašvaldība | C9: 7 | D9: jūlijs | E9: 2025 | G9: Pētniecība un inovācija | H9: 15-25
A10: Daugavpils valstspilsētas pašvaldība | C10: 8 | D10: augusts | E10: 2026 | G10: Platjosla | H10: 15-20
A11: Dienvidkurzemes novada pašvaldība | C11: 9 | D11: septembris | E11: 2027 | G11: Uzņēmējdarbības infrastruktūra | H11: 15-25
A12: Dobeles novada pašvaldība | C12: 10 | D12: oktobris | E12: 2028 | G12: Citas nozares | H12: 10-15
A13: Gulbenes novada pašvaldība | C13: 11 | D13: novembris | E13: 2029
A14: Jelgavas valstspilsētas pašvaldība | C14: 12 | D14: decembris | E14: 2030
A15: Jelgavas novada pašvaldība | C15: 13
A16: Jēkabpils novada pašvaldība | C16: 14
A17: Jūrmala valstspilsētas pašvaldība | C17: 15
A18: Kārsavas novada pašvaldība | C18: 16
A19: Kuldīgas novada pašvaldība | C19: 17
A20: Ķekavas novada pašvaldība | C20: 18
A21: Liepājas valstspilsētas pašvaldība | C21: 19
A22: Limbažu novada pašvaldība | C22: 20
A23: Līvānu novada pašvaldība | C23: 21
A24: Ludzas novada pašvaldība | C24: 22
A25: Madonas novada pašvaldība | C25: 23
A26: Mārupes novada pašvaldība | C26: 24
... A33: Ropažu novada pašvaldība | C33: 31
A34: Salaspils novada pašvaldība
A35: Saldus novada pašvaldība
A36: Saulkrastu novada pašvaldība
A37: Siguldas novada pašvaldība
A38: Smiltenes novada pašvaldība
A39: Talsu novada pašvaldība
A40: Tukuma novada pašvaldība
A41: Valkas novada pašvaldība
A42: Valmieras novada pašvaldība
A43: Varakļānu novada pašvaldība
A44: Ventspils valstspilsētas pašvaldība
A45: Ventspils novada pašvaldība

Sheet Dati par projektu
A1: IZMAKSU UN IEGUVUMU ANALĪZE
A2: 1.Dati par projektu
A4: 1.1. | B4: Projekta iesniedzējs: | C4: Izglītības un zinātnes ministrija
A5: 1.2. | B5: Projekta iesniedzēja veids: | C5: Tiešās pārvaldes iestāde
A6: 1.3. | B6: Projekta nosaukums: | C6: 4.2.3.4. pasākums “Sekmēt NEET jauniešu integrēšanos izglītībā un nodarbinātībā”
A7: 1.4. | B7: Specifiskais atbalsta mērķis: | C7: 4.2.3.4.
A8: 1.5. | B8: Projekta iesniedzēja valsts budžeta dotācijas īpatsvars: | F8: Saite valsts budžeta dotācijas noteikšanai (VARAM vietnē)
A9: 1.6. | B9: Sadarbības partneri:
A13: 1.7. | B13: Projekta uzsākšanas datums: | C13: 1 | D13: janvāris | E13: 2024
A14: 1.8. | B14: Projekta iesniegšanas datums: | C14: 1 | D14: novembris | E14: 2023
A15: 1.9. | B15: Nozare: | C15: Citas nozares
A16: 1.10. | B16: Pārskata periods (projekta dzīves cikls) (gadi): | C16: 10 | F16: Saite uz Komisijas Deleģēto regulu (ES) Nr. 480/2014
A17: 1.11. | B17: SAM MK noteiktais max projekta īstenošanas ilgums | C17: 2029
B18: Krāsu apzīmējumi:
B19: 0 | C19: Dati jāievada projekta iesniedzējam
B20: 0 | C20: Dati tiek aprēķināti automātiski
B24: C16
B25: Regula: Citas nozares 10-15 gadi
B26: Sociālajām nozarēm nav noteikts ( 4.2.3.4.p. - 10gadi)

Sheet 1.1.A. Iesniedzējs
A1: DARBA LAPA Nr.1.1.A. | D1: Aizpilda par projekta iesniedzēja darbībām, kas NAV saistītas ar valsts atbalstu
A4: BUDŽETS (+)
A5: Nr. | B5: Izmaksu pozīcijas nosaukums | C5: Maksimālā ES fondu līdzfin. atbalsta likme (%) | D5: Kopējā summa | F5: Izmaksas kopā | H5: ='Dati par projektu'!E13 -> 2024 | J5: =IF(OR(H5>='Dati par projektu'!$C$17,H5="X"),"X",H5+1) -> 2025 | L5: =IF(OR(J5>='Dati par projektu'!$C$17,J5="X"),"X",J5+1) -> 2026 | N5: =IF(OR(L5>='Dati par projektu'!$C$17,L5="X"),"X",L5+1) -> 2027 | P5: =IF(OR(N5>='Dati par projektu'!$C$17,N5="X"),"X",N5+1) -> 2028 | R5: =IF(OR(P5>='Dati par projektu'!$C$17,P5="X"),"X",P5+1) -> 2029 | T5: =IF(OR(R5>='Dati par projektu'!$C$17,R5="X"),"X",R5+1) -> X | V5: =IF(OR(T5>='Dati par projektu'!$C$17,T5="X"),"X",T5+1) -> X | X5: =IF(OR(V5>='Dati par projektu'!$C$17,V5="X"),"X",V5+1) -> X | AV5: 0.55
B6: Projekta netiešās izmaksas kopā: | D6: EUR | E6: % | F6: attiecināmas | G6: neattiecināmas | H6: attiecināmas izmaksas | I6: neattiecināmas izmaksas | J6: attiecināmas izmaksas | K6: neattiecināmas izmaksas | L6: attiecināmas izmaksas | M6: neattiecināmas izmaksas | N6: attiecināmas izmaksas | O6: neattiecināmas izmaksas | P6: attiecināmas izmaksas | Q6: neattiecināmas izmaksas | R6: attiecināmas izmaksas | S6: neattiecināmas izmaksas | T6: attiecināmas izmaksas | U6: neattiecināmas izmaksas | V6: attiecināmas izmaksas | W6: neattiecināmas izmaksas | X6: attiecināmas izmaksas | Y6: neattiecināmas izmaksas | AV6: 0.45
A7: 1 | B7: Projekta izmaksas saskaņā ar vienoto izmaksu likmi (netiešās izmaksas) | C7: 0.85 | D7: =F7+G7 -> 145000 | E7: =D7/$D$36 -> 0.022222222 | F7: =ROUND(H7+J7+L7+N7+P7+R7+T7+V7+X7,2) -> 145000 | G7: =ROUND(I7+K7+M7+O7+Q7+S7+U7+W7+Y7,2) -> 0 | H7: 25000 | J7: 30000 | L7: 30000 | N7: 30000 | P7: 30000 | AV7: 0.35
A8: 2 | B8: Projekta vadības izmaksas | D8: =F8+G8 -> 1315750 | E8: =D8/$D$36 -> 0.20164751 | F8: =ROUND(H8+J8+L8+N8+P8+R8+T8+V8+X8,2) -> 1315750 | G8: =ROUND(I8+K8+M8+O8+Q8+S8+U8+W8+Y8,2) -> 0 | H8: =SUM(H9:H10) -> 246750 | I8: =SUM(I9:I10) -> 0 | J8: =SUM(J9:J10) -> 267250 | K8: =SUM(K9:K10) -> 0 | L8: =SUM(L9:L10) -> 267250 | M8: =SUM(M9:M10) -> 0 | N8: =SUM(N9:N10) -> 267250 | O8: =SUM(O9:O10) -> 0 | ... Y8: =SUM(Y9:Y10) -> 0
A9: 2.1. | B9: Projekta vadības personāla atlīdzības izmaksas | C9: 0.85 | D9: =F9+G9 -> 1280000 | E9: =D9/$D$36 -> 0.19616858 | F9: =ROUND(H9+J9+L9+N9+P9+R9+T9+V9+X9,2) -> 1280000 | G9: =ROUND(I9+K9+M9+O9+Q9+S9+U9+W9+Y9,2) -> 0 | H9: 240000 | J9: 260000 | L9: 260000 | N9: 260000 | P9: 260000
A10: 2.2. | B10: Pārējās vadības izmaksas | C10: 0.85 | D10: =F10+G10 -> 35750 | E10: =D10/$D$36 -> 0.0054789272 | F10: =ROUND(H10+J10+L10+N10+P10+R10+T10+V10+X10,2) -> 35750 | G10: =ROUND(I10+K10+M10+O10+Q10+S10+U10+W10+Y10,2) -> 0 | H10: 6750 | J10: 7250 | L10: 7250 | N10: 7250 | P10: 7250
A11: 3 | B11: Projekta īstenošanas personāla izmaksas | D11: =F11+G11 -> 0 | E11: =D11/$D$36 -> 0 | F11: =ROUND(H11+J11+L11+N11+P11+R11+T11+V11+X11,2) -> 0 | G11: =ROUND(I11+K11+M11+O11+Q11+S11+U11+W11+Y11,2) -> 0 | H11: =SUM(H12:H13) -> 0 | I11: =SUM(I12:I13) -> 0 | J11: =SUM(J12:J13) -> 0 | K11: =SUM(K12:K13) -> 0 | L11: =SUM(L12:L13) -> 0 | M11: =SUM(M12:M13) -> 0 | N11: =SUM(N12:N13) -> 0 | O11: =SUM(O12:O13) -> 0 | ... Y11: =SUM(Y12:Y13) -> 0
A12: 3.1. | B12: Projekta īstenošanas personāla atlīdzības izmaksas | C12: 0.85 | D12: =F12+G12 -> 0 | E12: =D12/$D$36 -> 0 | F12: =ROUND(H12+J12+L12+N12+P12+R12+T12+V12+X12,2) -> 0 | G12: =ROUND(I12+K12+M12+O12+Q12+S12+U12+W12+Y12,2) -> 0
A13: 3.2. | B13: Pārējās projekta īstenošanas personāla izmaksas | C13: 0.85 | D13: =F13+G13 -> 0 | E13: =D13/$D$36 -> 0 | F13: =ROUND(H13+J13+L13+N13+P13+R13+T13+V13+X13,2) -> 0 | G13: =ROUND(I13+K13+M13+O13+Q13+S13+U13+W13+Y13,2) -> 0
A14: 4 | B14: Mērķa grupas nodrošinājuma izmaksas | C14: 0.85 | D14: =F14+G14 -> 0 | E14: =D14/$D$36 -> 0 | F14: =ROUND(H14+J14+L14+N14+P14+R14+T14+V14+X14,2) -> 0 | G14: =ROUND(I14+K14+M14+O14+Q14+S14+U14+W14+Y14,2) -> 0
A15: 5 | B15: Informācijas sistēmu izstrādes, ieviešanas un kvalitātes kontroles izmaksas | C15: 0.85 | D15: =F15+G15 -> 0 | E15: =D15/$D$36 -> 0 | F15: =ROUND(H15+J15+L15+N15+P15+R15+T15+V15+X15,2) -> 0 | G15: =ROUND(I15+K15+M15+O15+Q15+S15+U15+W15+Y15,2) -> 0
A16: 6 | B16: Materiālu, aprīkojuma un iekārtu izmaksas | D16: =F16+G16 -> 145000 | E16: =D16/$D$36 -> 0.022222222 | F16: =ROUND(H16+J16+L16+N16+P16+R16+T16+V16+X16,2) -> 145000 | G16: =ROUND(I16+K16+M16+O16+Q16+S16+U16+W16+Y16,2) -> 0 | H16: =SUM(H17:H20) -> 25000 | I16: =SUM(I17:I20) -> 0 | J16: =SUM(J17:J20) -> 30000 | K16: =SUM(K17:K20) -> 0 | L16: =SUM(L17:L20) -> 30000 | M16: =SUM(M17:M20) -> 0 | N16: =SUM(N17:N20) -> 30000 | O16: =SUM(O17:O20) -> 0 | ... Y16: =SUM(Y17:Y20) -> 0
A17: 6.1. | B17: Materiālu un izjevielu izmaksas | C17: 0.85 | D17: =F17+G17 -> 0 | E17: =D17/$D$36 -> 0 | F17: =ROUND(H17+J17+L17+N17+P17+R17+T17+V17+X17,2) -> 0 | G17: =ROUND(I17+K17+M17+O17+Q17+S17+U17+W17+Y17,2) -> 0
A18: 6.2. | B18: Pārējās projekta īstenošanas personāla izmaksas | C18: 0.85 | D18: =F18+G18 -> 0 | E18: =D18/$D$36 -> 0 | F18: =ROUND(H18+J18+L18+N18+P18+R18+T18+V18+X18,2) -> 0 | G18: =ROUND(I18+K18+M18+O18+Q18+S18+U18+W18+Y18,2) -> 0
A19: 6.3. | B19: Transportlīdzekļu izmaksas | C19: 0.85 | D19: =F19+G19 -> 0 | E19: =D19/$D$36 -> 0 | F19: =ROUND(H19+J19+L19+N19+P19+R19+T19+V19+X19,2) -> 0 | G19: =ROUND(I19+K19+M19+O19+Q19+S19+U19+W19+Y19,2) -> 0
A20: 6.4. | B20: Citas izmaksas | C20: 0.85 | D20: =F20+G20 -> 145000 | E20: =D20/$D$36 -> 0.022222222 | F20: =ROUND(H20+J20+L20+N20+P20+R20+T20+V20+X20,2) -> 145000 | G20: =ROUND(I20+K20+M20+O20+Q20+S20+U20+W20+Y20,2) -> 0 | H20: 25000 | J20: 30000 | L20: 30000 | N20: 30000 | P20: 30000
A21: 7 | B21: Būvniecības izmaksas | D21: =F21+G21 -> 0 | E21: =D21/$D$36 -> 0 | F21: =ROUND(H21+J21+L21+N21+P21+R21+T21+V21+X21,2) -> 0 | G21: =ROUND(I21+K21+M21+O21+Q21+S21+U21+W21+Y21,2) -> 0 | H21: =SUM(H22:H27) -> 0 | I21: =SUM(I22:I27) -> 0 | J21: =SUM(J22:J27) -> 0 | K21: =SUM(K22:K27) -> 0 | L21: =SUM(L22:L27) -> 0 | M21: =SUM(M22:M27) -> 0 | N21: =SUM(N22:N27) -> 0 | O21: =SUM(O22:O27) -> 0 | ... Y21: =SUM(Y22:Y27) -> 0
A22: 7.1. | B22: Projektēšanas izmaksas | C22: 0.85 | D22: =F22+G22 -> 0 | E22: =D22/$D$36 -> 0 | F22: =ROUND(H22+J22+L22+N22+P22+R22+T22+V22+X22,2) -> 0 | G22: =ROUND(I22+K22+M22+O22+Q22+S22+U22+W22+Y22,2) -> 0
A23: 7.2. | B23: Autoruzraudzības izmaksas | C23: 0.85 | D23: =F23+G23 -> 0 | E23: =D23/$D$36 -> 0 | F23: =ROUND(H23+J23+L23+N23+P23+R23+T23+V23+X23,2) -> 0 | G23: =ROUND(I23+K23+M23+O23+Q23+S23+U23+W23+Y23,2) -> 0
A24: 7.3. | B24: Būvuzraudzības izmaksas | C24: 0.85 | D24: =F24+G24 -> 0 | E24: =D24/$D$36 -> 0 | F24: =ROUND(H24+J24+L24+N24+P24+R24+T24+V24+X24,2) -> 0 | G24: =ROUND(I24+K24+M24+O24+Q24+S24+U24+W24+Y24,2) -> 0
A25: 7.4. | B25: Būvdarbu izmaksas (infrastruktūra, tai skaitā labiekārtošanas izmaksas) | C25: 0.85 | D25: =F25+G25 -> 0 | E25: =D25/$D$36 -> 0 | F25: =ROUND(H25+J25+L25+N25+P25+R25+T25+V25+X25,2) -> 0 | G25: =ROUND(I25+K25+M25+O25+Q25+S25+U25+W25+Y25,2) -> 0
A26: 7.5. | B26: Būvdarbu izmaksas (ēkas), tai skaitā labiekārtošanas izmaksas | C26: 0.85 | D26: =F26+G26 -> 0 | E26: =D26/$D$36 -> 0 | F26: =ROUND(H26+J26+L26+N26+P26+R26+T26+V26+X26,2) -> 0 | G26: =ROUND(I26+K26+M26+O26+Q26+S26+U26+W26+Y26,2) -> 0
A27: 7.6. | B27: Citas izmaksas | C27: 0.85 | D27: =F27+G27 -> 0 | E27: =D27/$D$36 -> 0 | F27: =ROUND(H27+J27+L27+N27+P27+R27+T27+V27+X27,2) -> 0 | G27: =ROUND(I27+K27+M27+O27+Q27+S27+U27+W27+Y27,2) -> 0
A28: 8 | B28: Patenti, licences utml. | C28: 0.85 | D28: =F28+G28 -> 0 | E28: =D28/$D$36 -> 0 | F28: =ROUND(H28+J28+L28+N28+P28+R28+T28+V28+X28,2) -> 0 | G28: =ROUND(I28+K28+M28+O28+Q28+S28+U28+W28+Y28,2) -> 0
A29: 9 | B29: Nekustamā īpašuma (piemēram, ēku un zemes) iegādes izmaksas | C29: 0.85 | D29: =F29+G29 -> 0 | E29: =D29/$D$36 -> 0 | F29: =ROUND(H29+J29+L29+N29+P29+R29+T29+V29+X29,2) -> 0 | G29: =ROUND(I29+K29+M29+O29+Q29+S29+U29+W29+Y29,2) -> 0
A30: 10 | B30: Informatīvo un publicitātes pasākumu izmaksas | C30: 0.85 | D30: =F30+G30 -> 8200 | E30: =D30/$D$36 -> 0.001256705 | F30: =ROUND(H30+J30+L30+N30+P30+R30+T30+V30+X30,2) -> 8200 | G30: =ROUND(I30+K30+M30+O30+Q30+S30+U30+W30+Y30,2) -> 0 | H30: 2600 | J30: 1400 | L30: 1400 | N30: 1400 | P30: 1400
A31: 11 | B31: Projekta iesnieguma un to pamatojošās dokumentācijas sagatavošanas izmaksas | C31: 0.85 | D31: =F31+G31 -> 0 | E31: =D31/$D$36 -> 0 | F31: =ROUND(H31+J31+L31+N31+P31+R31+T31+V31+X31,2) -> 0 | G31: =ROUND(I31+K31+M31+O31+Q31+S31+U31+W31+Y31,2) -> 0
A32: 12 | B32: Ieguldījumi natūrā | C32: 0.85 | D32: =F32+G32 -> 0 | E32: =D32/$D$36 -> 0 | F32: =ROUND(H32+J32+L32+N32+P32+R32+T32+V32+X32,2) -> 0 | G32: =ROUND(I32+K32+M32+O32+Q32+S32+U32+W32+Y32,2) -> 0
A33: 13 | B33: Pārējās projekta īstenošanas izmaksas | C33: 0.85 | D33: =F33+G33 -> 99250 | E33: =D33/$D$36 -> 0.015210728 | F33: =ROUND(H33+J33+L33+N33+P33+R33+T33+V33+X33,2) -> 99250 | G33: =ROUND(I33+K33+M33+O33+Q33+S33+U33+W33+Y33,2) -> 0 | H33: 28850 | J33: 17600 | L33: 17600 | N33: 17600 | P33: 17600
A34: 14 | B34: Vienreizējais maksājums (saskaņā ar VVIM) | C34: 0.85 | D34: =F34+G34 -> 4541769 | E34: =D34/$D$36 -> 0.69605655 | F34: =ROUND(H34+J34+L34+N34+P34+R34+T34+V34+X34,2) -> 4541769 | G34: =ROUND(I34+K34+M34+O34+Q34+S34+U34+W34+Y34,2) -> 0 | H34: 597297 | J34: 986118 | L34: 986118 | N34: 986118 | P34: 986118
A35: 15 | B35: Neparedzētie izdevumi | C35: 0.85 | D35: =F35+G35 -> 270031 | E35: =D35/$D$36 -> 0.041384061 | F35: =ROUND(H35+J35+L35+N35+P35+R35+T35+V35+X35,2) -> 270031 | G35: =ROUND(I35+K35+M35+O35+Q35+S35+U35+W35+Y35,2) -> 0 | H35: 50000 | J35: 60000 | L35: 55000 | N35: 55031 | P35: 50000
B36: KOPĀ | C36: 0.85 | D36: =F36+G36 -> 6525000 | E36: =D36/$D$36 -> 1 | F36: =F7+F8+F11+F14+F15+F16+F21+F28+F29+F30+F31+F32+F33+F34+F35 -> 6525000 | G36: =G7+G8+G11+G14+G15+G16+G21+G28+G29+G30+G31+G32+G33+G34+G35 -> 0 | H36: =H7+H8+H11+H14+H15+H16+H21+H28+H29+H30+H31+H32+H33+H34+H35 -> 975497 | I36: =I7+I8+I11+I14+I15+I16+I21+I28+I29+I30+I31+I32+I33+I34+I35 -> 0 | J36: =J7+J8+J11+J14+J15+J16+J21+J28+J29+J30+J31+J32+J33+J34+J35 -> 1392368 | K36: =K7+K8+K11+K14+K15+K16+K21+K28+K29+K30+K31+K32+K33+K34+K35 -> 0 | L36: =L7+L8+L11+L14+L15+L16+L21+L28+L29+L30+L31+L32+L33+L34+L35 -> 1387368 | M36: =M7+M8+M11+M14+M15+M16+M21+M28+M29+M30+M31+M32+M33+M34+M35 -> 0 | ... Y36: =Y7+Y8+Y11+Y14+Y15+Y16+Y21+Y28+Y29+Y30+Y31+Y32+Y33+Y34+Y35 -> 0
B37: t.sk. PVN
B38: Investīciju izmaksas bez neparedzētajiem izdevumiem un neatt. PVN | H38: =H36-H35 -> 925497 | I38: =I36-I35-I37 -> 0 | J38: =J36-J35 -> 1332368 | K38: =K36-K35-K37 -> 0 | L38: =L36-L35 -> 1332368 | M38: =M36-M35-M37 -> 0 | N38: =N36-N35 -> 1332368 | O38: =O36-O35 -> 0 | P38: =P36-P35 -> 1332368 | Q38: =Q36-Q35 -> 0 | R38: =R36-R35 -> 0 | S38: =S36-S35 -> 0 | T38: =T36-T35 -> 0 | U38: =U36-U35 -> 0 | ... Y38: =Y36-Y35 -> 0

Sheet 1.1.B. Iesniedzējs
A1: DARBA LAPA Nr.1.1.B. | D1: Aizpilda par projekta iesniedzēja darbībām, kas IR saistītas ar valsts atbalstu
A4: BUDŽETS (+)
A5: Nr. | B5: Izmaksu pozīcijas nosaukums | C5: Maksimālā ES fondu līdzfin. atbalsta likme (%) | D5: Kopējā summa | F5: Izmaksas kopā | H5: ='Dati par projektu'!E13 -> 2024 | J5: =IF(OR(H5>='Dati par projektu'!$C$17,H5="X"),"X",H5+1) -> 2025 | L5: =IF(OR(J5>='Dati par projektu'!$C$17,J5="X"),"X",J5+1) -> 2026 | N5: =IF(OR(L5>='Dati par projektu'!$C$17,L5="X"),"X",L5+1) -> 2027 | P5: =IF(OR(N5>='Dati par projektu'!$C$17,N5="X"),"X",N5+1) -> 2028 | R5: =IF(OR(P5>='Dati par projektu'!$C$17,P5="X"),"X",P5+1) -> 2029 | T5: =IF(OR(R5>='Dati par projektu'!$C$17,R5="X"),"X",R5+1) -> X | V5: =IF(OR(T5>='Dati par projektu'!$C$17,T5="X"),"X",T5+1) -> X | X5: =IF(OR(V5>='Dati par projektu'!$C$17,V5="X"),"X",V5+1) -> X | AV5: 0.55
B6: Projekta netiešās izmaksas kopā: | D6: EUR | E6: % | F6: attiecināmas | G6: neattiecināmas | H6: attiecināmas izmaksas | I6: neattiecināmas izmaksas | J6: attiecināmas izmaksas | K6: neattiecināmas izmaksas | L6: attiecināmas izmaksas | M6: neattiecināmas izmaksas | N6: attiecināmas izmaksas | O6: neattiecināmas izmaksas | P6: attiecināmas izmaksas | Q6: neattiecināmas izmaksas | R6: attiecināmas izmaksas | S6: neattiecināmas izmaksas | T6: attiecināmas izmaksas | U6: neattiecināmas izmaksas | V6: attiecināmas izmaksas | W6: neattiecināmas izmaksas | X6: attiecināmas izmaksas | Y6: neattiecināmas izmaksas | AV6: 0.45
A7: 1 | B7: Projekta izmaksas saskaņā ar vienoto izmaksu likmi (netiešās izmaksas) | C7: 0.85 | D7: =F7+G7 -> 0 | E7: =D7/$D$36 -> #DIV/0! | F7: =ROUND(H7+J7+L7+N7+P7+R7+T7+V7+X7,2) -> 0 | G7: =ROUND(I7+K7+M7+O7+Q7+S7+U7+W7+Y7,2) -> 0 | AV7: 0.35
A8: 2 | B8: Projekta vadības izmaksas | D8: =F8+G8 -> 0 | E8: =D8/$D$36 -> #DIV/0! | F8: =ROUND(H8+J8+L8+N8+P8+R8+T8+V8+X8,2) -> 0 | G8: =ROUND(I8+K8+M8+O8+Q8+S8+U8+W8+Y8,2) -> 0 | H8: =SUM(H9:H10) -> 0 | I8: =SUM(I9:I10) -> 0 | J8: =SUM(J9:J10) -> 0 | K8: =SUM(K9:K10) -> 0 | L8: =SUM(L9:L10) -> 0 | M8: =SUM(M9:M10) -> 0 | N8: =SUM(N9:N10) -> 0 | O8: =SUM(O9:O10) -> 0 | ... Y8: =SUM(Y9:Y10) -> 0
A9: 2.1. | B9: Projekta vadības personāla atlīdzības izmaksas | C9: 0.85 | D9: =F9+G9 -> 0 | E9: =D9/$D$36 -> #DIV/0! | F9: =ROUND(H9+J9+L9+N9+P9+R9+T9+V9+X9,2) -> 0 | G9: =ROUND(I9+K9+M9+O9+Q9+S9+U9+W9+Y9,2) -> 0
A10: 2.2. | B10: Pārējās vadības izmaksas | C10: 0.85 | D10: =F10+G10 -> 0 | E10: =D10/$D$36 -> #DIV/0! | F10: =ROUND(H10+J10+L10+N10+P10+R10+T10+V10+X10,2) -> 0 | G10: =ROUND(I10+K10+M10+O10+Q10+S10+U10+W10+Y10,2) -> 0
A11: 3 | B11: Projekta īstenošanas personāla izmaksas | D11: =F11+G11 -> 0 | E11: =D11/$D$36 -> #DIV/0! | F11: =ROUND(H11+J11+L11+N11+P11+R11+T11+V11+X11,2) -> 0 | G11: =ROUND(I11+K11+M11+O11+Q11+S11+U11+W11+Y11,2) -> 0 | H11: =SUM(H12:H13) -> 0 | I11: =SUM(I12:I13) -> 0 | J11: =SUM(J12:J13) -> 0 | K11: =SUM(K12:K13) -> 0 | L11: =SUM(L12:L13) -> 0 | M11: =SUM(M12:M13) -> 0 | N11: =SUM(N12:N13) -> 0 | O11: =SUM(O12:O13) -> 0 | ... Y11: =SUM(Y12:Y13) -> 0
A12: 3.1. | B12: Projekta īstenošanas personāla atlīdzības izmaksas | C12: 0.85 | D12: =F12+G12 -> 0 | E12: =D12/$D$36 -> #DIV/0! | F12: =ROUND(H12+J12+L12+N12+P12+R12+T12+V12+X12,2) -> 0 | G12: =ROUND(I12+K12+M12+O12+Q12+S12+U12+W12+Y12,2) -> 0
A13: 3.2. | B13: Pārējās projekta īstenošanas personāla izmaksas | C13: 0.85 | D13: =F13+G13 -> 0 | E13: =D13/$D$36 -> #DIV/0! | F13: =ROUND(H13+J13+L13+N13+P13+R13+T13+V13+X13,2) -> 0 | G13: =ROUND(I13+K13+M13+O13+Q13+S13+U13+W13+Y13,2) -> 0
A14: 4 | B14: Mērķa grupas nodrošinājuma izmaksas | C14: 0.85 | D14: =F14+G14 -> 0 | E14: =D14/$D$36 -> #DIV/0! | F14: =ROUND(H14+J14+L14+N14+P14+R14+T14+V14+X14,2) -> 0 | G14: =ROUND(I14+K14+M14+O14+Q14+S14+U14+W14+Y14,2) -> 0
A15: 5 | B15: Informācijas sistēmu izstrādes, ieviešanas un kvalitātes kontroles izmaksas | C15: 0.85 | D15: =F15+G15 -> 0 | E15: =D15/$D$36 -> #DIV/0! | F15: =ROUND(H15+J15+L15+N15+P15+R15+T15+V15+X15,2) -> 0 | G15: =ROUND(I15+K15+M15+O15+Q15+S15+U15+W15+Y15,2) -> 0
A16: 6 | B16: Materiālu, aprīkojuma un iekārtu izmaksas | D16: =F16+G16 -> 0 | E16: =D16/$D$36 -> #DIV/0! | F16: =ROUND(H16+J16+L16+N16+P16+R16+T16+V16+X16,2) -> 0 | G16: =ROUND(I16+K16+M16+O16+Q16+S16+U16+W16+Y16,2) -> 0 | H16: =SUM(H17:H20) -> 0 | I16: =SUM(I17:I20) -> 0 | J16: =SUM(J17:J20) -> 0 | K16: =SUM(K17:K20) -> 0 | L16: =SUM(L17:L20) -> 0 | M16: =SUM(M17:M20) -> 0 | N16: =SUM(N17:N20) -> 0 | O16: =SUM(O17:O20) -> 0 | ... Y16: =SUM(Y17:Y20) -> 0
A17: 6.1. | B17: Materiālu un izjevielu izmaksas | C17: 0.85 | D17: =F17+G17 -> 0 | E17: =D17/$D$36 -> #DIV/0! | F17: =ROUND(H17+J17+L17+N17+P17+R17+T17+V17+X17,2) -> 0 | G17: =ROUND(I17+K17+M17+O17+Q17+S17+U17+W17+Y17,2) -> 0
A18: 6.2. | B18: Pārējās projekta īstenošanas personāla izmaksas | C18: 0.85 | D18: =F18+G18 -> 0 | E18: =D18/$D$36 -> #DIV/0! | F18: =ROUND(H18+J18+L18+N18+P18+R18+T18+V18+X18,2) -> 0 | G18: =ROUND(I18+K18+M18+O18+Q18+S18+U18+W18+Y18,2) -> 0
A19: 6.3. | B19: Transportlīdzekļu izmaksas | C19: 0.85 | D19: =F19+G19 -> 0 | E19: =D19/$D$36 -> #DIV/0! | F19: =ROUND(H19+J19+L19+N19+P19+R19+T19+V19+X19,2) -> 0 | G19: =ROUND(I19+K19+M19+O19+Q19+S19+U19+W19+Y19,2) -> 0
A20: 6.4. | B20: Citas izmaksas | C20: 0.85 | D20: =F20+G20 -> 0 | E20: =D20/$D$36 -> #DIV/0! | F20: =ROUND(H20+J20+L20+N20+P20+R20+T20+V20+X20,2) -> 0 | G20: =ROUND(I20+K20+M20+O20+Q20+S20+U20+W20+Y20,2) -> 0
A21: 7 | B21: Būvniecības izmaksas | D21: =F21+G21 -> 0 | E21: =D21/$D$36 -> #DIV/0! | F21: =ROUND(H21+J21+L21+N21+P21+R21+T21+V21+X21,2) -> 0 | G21: =ROUND(I21+K21+M21+O21+Q21+S21+U21+W21+Y21,2) -> 0 | H21: =SUM(H22:H27) -> 0 | I21: =SUM(I22:I27) -> 0 | J21: =SUM(J22:J27) -> 0 | K21: =SUM(K22:K27) -> 0 | L21: =SUM(L22:L27) -> 0 | M21: =SUM(M22:M27) -> 0 | N21: =SUM(N22:N27) -> 0 | O21: =SUM(O22:O27) -> 0 | ... Y21: =SUM(Y22:Y27) -> 0
A22: 7.1. | B22: Projektēšanas izmaksas (de minimis) | C22: 1 | D22: =F22+G22 -> 0 | E22: =D22/$D$36 -> #DIV/0! | F22: =ROUND(H22+J22+L22+N22+P22+R22+T22+V22+X22,2) -> 0 | G22: =ROUND(I22+K22+M22+O22+Q22+S22+U22+W22+Y22,2) -> 0
A23: 7.2. | B23: Autoruzraudzības izmaksas | C23: 0.85 | D23: =F23+G23 -> 0 | E23: =D23/$D$36 -> #DIV/0! | F23: =ROUND(H23+J23+L23+N23+P23+R23+T23+V23+X23,2) -> 0 | G23: =ROUND(I23+K23+M23+O23+Q23+S23+U23+W23+Y23,2) -> 0
A24: 7.3. | B24: Būvuzraudzības izmaksas | C24: 0.85 | D24: =F24+G24 -> 0 | E24: =D24/$D$36 -> #DIV/0! | F24: =ROUND(H24+J24+L24+N24+P24+R24+T24+V24+X24,2) -> 0 | G24: =ROUND(I24+K24+M24+O24+Q24+S24+U24+W24+Y24,2) -> 0
A25: 7.4. | B25: Būvdarbu izmaksas (infrastruktūra, tai skaitā labiekārtošanas izmaksas) | C25: 0.85 | D25: =F25+G25 -> 0 | E25: =D25/$D$36 -> #DIV/0! | F25: =ROUND(H25+J25+L25+N25+P25+R25+T25+V25+X25,2) -> 0 | G25: =ROUND(I25+K25+M25+O25+Q25+S25+U25+W25+Y25,2) -> 0
A26: 7.5. | B26: Būvdarbu izmaksas (ēkas), tai skaitā labiekārtošanas izmaksas | C26: 0.85 | D26: =F26+G26 -> 0 | E26: =D26/$D$36 -> #DIV/0! | F26: =ROUND(H26+J26+L26+N26+P26+R26+T26+V26+X26,2) -> 0 | G26: =ROUND(I26+K26+M26+O26+Q26+S26+U26+W26+Y26,2) -> 0
A27: 7.6. | B27: Citas izmaksas | C27: 0.85 | D27: =F27+G27 -> 0 | E27: =D27/$D$36 -> #DIV/0! | F27: =ROUND(H27+J27+L27+N27+P27+R27+T27+V27+X27,2) -> 0 | G27: =ROUND(I27+K27+M27+O27+Q27+S27+U27+W27+Y27,2) -> 0
A28: 8 | B28: Patenti, licences utml. | C28: 0.85 | D28: =F28+G28 -> 0 | E28: =D28/$D$36 -> #DIV/0! | F28: =ROUND(H28+J28+L28+N28+P28+R28+T28+V28+X28,2) -> 0 | G28: =ROUND(I28+K28+M28+O28+Q28+S28+U28+W28+Y28,2) -> 0
A29: 9 | B29: Nekustamā īpašuma (piemēram, ēku un zemes) iegādes izmaksas | C29: 0.85 | D29: =F29+G29 -> 0 | E29: =D29/$D$36 -> #DIV/0! | F29: =ROUND(H29+J29+L29+N29+P29+R29+T29+V29+X29,2) -> 0 | G29: =ROUND(I29+K29+M29+O29+Q29+S29+U29+W29+Y29,2) -> 0
A30: 10 | B30: Informatīvo un publicitātes pasākumu izmaksas | C30: 0.85 | D30: =F30+G30 -> 0 | E30: =D30/$D$36 -> #DIV/0! | F30: =ROUND(H30+J30+L30+N30+P30+R30+T30+V30+X30,2) -> 0 | G30: =ROUND(I30+K30+M30+O30+Q30+S30+U30+W30+Y30,2) -> 0
A31: 11 | B31: Projekta iesnieguma un to pamatojošās dokumentācijas sagatavošanas izmaksas (de minimis) | C31: 1 | D31: =F31+G31 -> 0 | E31: =D31/$D$36 -> #DIV/0! | F31: =ROUND(H31+J31+L31+N31+P31+R31+T31+V31+X31,2) -> 0 | G31: =ROUND(I31+K31+M31+O31+Q31+S31+U31+W31+Y31,2) -> 0
A32: 12 | B32: Ieguldījumi natūrā | C32: 0.85 | D32: =F32+G32 -> 0 | E32: =D32/$D$36 -> #DIV/0! | F32: =ROUND(H32+J32+L32+N32+P32+R32+T32+V32+X32,2) -> 0 | G32: =ROUND(I32+K32+M32+O32+Q32+S32+U32+W32+Y32,2) -> 0
A33: 13 | B33: Pārējās projekta īstenošanas izmaksas | C33: 0.85 | D33: =F33+G33 -> 0 | E33: =D33/$D$36 -> #DIV/0! | F33: =ROUND(H33+J33+L33+N33+P33+R33+T33+V33+X33,2) -> 0 | G33: =ROUND(I33+K33+M33+O33+Q33+S33+U33+W33+Y33,2) -> 0
A34: 14 | B34: Vienreizējais maksājums | C34: 0.85 | D34: =F34+G34 -> 0 | E34: =D34/$D$36 -> #DIV/0! | F34: =ROUND(H34+J34+L34+N34+P34+R34+T34+V34+X34,2) -> 0 | G34: =ROUND(I34+K34+M34+O34+Q34+S34+U34+W34+Y34,2) -> 0
A35: 15 | B35: Neparedzētie izdevumi | C35: 0.85 | D35: =F35+G35 -> 0 | E35: =D35/$D$36 -> #DIV/0! | F35: =ROUND(H35+J35+L35+N35+P35+R35+T35+V35+X35,2) -> 0 | G35: =ROUND(I35+K35+M35+O35+Q35+S35+U35+W35+Y35,2) -> 0 | H35: 0 | J35: 0 | L35: 0 | N35: 0 | P35: 0 | R35: 0 | T35: 0 | V35: 0 | X35: 0
B36: KOPĀ | C36: 0.85 | D36: =F36+G36 -> 0 | E36: =D36/$D$36 -> #DIV/0! | F36: =F7+F8+F11+F14+F15+F16+F21+F28+F29+F30+F31+F32+F33+F34+F35 -> 0 | G36: =G7+G8+G11+G14+G15+G16+G21+G28+G29+G30+G31+G32+G33+G34+G35 -> 0 | H36: =H7+H8+H11+H14+H15+H16+H21+H28+H29+H30+H31+H32+H33+H34+H35 -> 0 | I36: =I7+I8+I11+I14+I15+I16+I21+I28+I29+I30+I31+I32+I33+I34+I35 -> 0 | J36: =J7+J8+J11+J14+J15+J16+J21+J28+J29+J30+J31+J32+J33+J34+J35 -> 0 | K36: =K7+K8+K11+K14+K15+K16+K21+K28+K29+K30+K31+K32+K33+K34+K35 -> 0 | L36: =L7+L8+L11+L14+L15+L16+L21+L28+L29+L30+L31+L32+L33+L34+L35 -> 0 | M36: =M7+M8+M11+M14+M15+M16+M21+M28+M29+M30+M31+M32+M33+M34+M35 -> 0 | ... Y36: =Y7+Y8+Y11+Y14+Y15+Y16+Y21+Y28+Y29+Y30+Y31+Y32+Y33+Y34+Y35 -> 0
B37: t.sk. PVN
B38: Investīciju izmaksas bez neparedzētajiem izdevumiem un neatt. PVN | H38: =H36-H35 -> 0 | I38: =I36-I35-I37 -> 0 | J38: =J36-J35 -> 0 | K38: =K36-K35-K37 -> 0 | L38: =L36-L35 -> 0 | M38: =M36-M35-M37 -> 0 | N38: =N36-N35 -> 0 | O38: =O36-O35 -> 0 | P38: =P36-P35 -> 0 | Q38: =Q36-Q35 -> 0 | R38: =R36-R35 -> 0 | S38: =S36-S35 -> 0 | T38: =T36-T35 -> 0 | U38: =U36-U35 -> 0 | ... Y38: =Y36-Y35 -> 0
B39: Investīciju izmaksas bez de minimis izmaksām | H39: =H36-H22-H31 -> 0 | I39: =I36-I22-I31 -> 0 | J39: =J36-J22-J31 -> 0 | K39: =K36-K22-K31 -> 0 | L39: =L36-L22-L31 -> 0 | M39: =M36-M22-M31 -> 0 | N39: =N36-N22-N31 -> 0 | O39: =O36-O22-O31 -> 0 | ... Y39: =Y36-Y22-Y31 -> 0
B40: De minimis | H40: =H22+H31 -> 0 | I40: =I22+I31 -> 0 | J40: =J22+J31 -> 0 | K40: =K22+K31 -> 0 | L40: =L22+L31 -> 0 | M40: =M22+M31 -> 0 | N40: =N22+N31 -> 0 | O40: =O22+O31 -> 0 | ... Y40: =Y22+Y31 -> 0

Sheet 1.1.C. Iesniedzējs
A1: DARBA LAPA Nr.1.1.C. | D1: Aizpilda par projekta iesniedzēja darbībām, kas IR saistītas ar valsts atbalstu (VTNP)
A4: BUDŽETS (+)
A5: Nr. | B5: Izmaksu pozīcijas nosaukums | C5: Maksimālā ES fondu līdzfin. atbalsta likme (%) | D5: Kopējā summa | F5: Izmaksas kopā | H5: ='Dati par projektu'!E13 -> 2024 | J5: =IF(OR(H5>='Dati par projektu'!$C$17,H5="X"),"X",H5+1) -> 2025 | L5: =IF(OR(J5>='Dati par projektu'!$C$17,J5="X"),"X",J5+1) -> 2026 | N5: =IF(OR(L5>='Dati par projektu'!$C$17,L5="X"),"X",L5+1) -> 2027 | P5: =IF(OR(N5>='Dati par projektu'!$C$17,N5="X"),"X",N5+1) -> 2028 | R5: =IF(OR(P5>='Dati par projektu'!$C$17,P5="X"),"X",P5+1) -> 2029 | T5: =IF(OR(R5>='Dati par projektu'!$C$17,R5="X"),"X",R5+1) -> X | V5: =IF(OR(T5>='Dati par projektu'!$C$17,T5="X"),"X",T5+1) -> X | X5: =IF(OR(V5>='Dati par projektu'!$C$17,V5="X"),"X",V5+1) -> X | AV5: 0.55
B6: Projekta netiešās izmaksas kopā: | D6: EUR | E6: % | F6: attiecināmas | G6: neattiecināmas | H6: attiecināmas izmaksas | I6: neattiecināmas izmaksas | J6: attiecināmas izmaksas | K6: neattiecināmas izmaksas | L6: attiecināmas izmaksas | M6: neattiecināmas izmaksas | N6: attiecināmas izmaksas | O6: neattiecināmas izmaksas | P6: attiecināmas izmaksas | Q6: neattiecināmas izmaksas | R6: attiecināmas izmaksas | S6: neattiecināmas izmaksas | T6: attiecināmas izmaksas | U6: neattiecināmas izmaksas | V6: attiecināmas izmaksas | W6: neattiecināmas izmaksas | X6: attiecināmas izmaksas | Y6: neattiecināmas izmaksas | AV6: 0.45
A7: 1 | B7: Projekta izmaksas saskaņā ar vienoto izmaksu likmi (netiešās izmaksas) | C7: 0.85 | D7: =F7+G7 -> 0 | E7: =D7/$D$36 -> #DIV/0! | F7: =ROUND(H7+J7+L7+N7+P7+R7+T7+V7+X7,2) -> 0 | G7: =ROUND(I7+K7+M7+O7+Q7+S7+U7+W7+Y7,2) -> 0 | AV7: 0.35
A8: 2 | B8: Projekta vadības izmaksas | D8: =F8+G8 -> 0 | E8: =D8/$D$36 -> #DIV/0! | F8: =ROUND(H8+J8+L8+N8+P8+R8+T8+V8+X8,2) -> 0 | G8: =ROUND(I8+K8+M8+O8+Q8+S8+U8+W8+Y8,2) -> 0 | H8: =SUM(H9:H10) -> 0 | I8: =SUM(I9:I10) -> 0 | J8: =SUM(J9:J10) -> 0 | K8: =SUM(K9:K10) -> 0 | L8: =SUM(L9:L10) -> 0 | M8: =SUM(M9:M10) -> 0 | N8: =SUM(N9:N10) -> 0 | O8: =SUM(O9:O10) -> 0 | ... Y8: =SUM(Y9:Y10) -> 0
A9: 2.1. | B9: Projekta vadības personāla atlīdzības izmaksas | C9: 0.85 | D9: =F9+G9 -> 0 | E9: =D9/$D$36 -> #DIV/0! | F9: =ROUND(H9+J9+L9+N9+P9+R9+T9+V9+X9,2) -> 0 | G9: =ROUND(I9+K9+M9+O9+Q9+S9+U9+W9+Y9,2) -> 0
A10: 2.2. | B10: Pārējās vadības izmaksas | C10: 0.85 | D10: =F10+G10 -> 0 | E10: =D10/$D$36 -> #DIV/0! | F10: =ROUND(H10+J10+L10+N10+P10+R10+T10+V10+X10,2) -> 0 | G10: =ROUND(I10+K10+M10+O10+Q10+S10+U10+W10+Y10,2) -> 0
A11: 3 | B11: Projekta īstenošanas personāla izmaksas | D11: =F11+G11 -> 0 | E11: =D11/$D$36 -> #DIV/0! | F11: =ROUND(H11+J11+L11+N11+P11+R11+T11+V11+X11,2) -> 0 | G11: =ROUND(I11+K11+M11+O11+Q11+S11+U11+W11+Y11,2) -> 0 | H11: =SUM(H12:H13) -> 0 | I11: =SUM(I12:I13) -> 0 | J11: =SUM(J12:J13) -> 0 | K11: =SUM(K12:K13) -> 0 | L11: =SUM(L12:L13) -> 0 | M11: =SUM(M12:M13) -> 0 | N11: =SUM(N12:N13) -> 0 | O11: =SUM(O12:O13) -> 0 | ... Y11: =SUM(Y12:Y13) -> 0
A12: 3.1. | B12: Projekta īstenošanas personāla atlīdzības izmaksas | C12: 0.85 | D12: =F12+G12 -> 0 | E12: =D12/$D$36 -> #DIV/0! | F12: =ROUND(H12+J12+L12+N12+P12+R12+T12+V12+X12,2) -> 0 | G12: =ROUND(I12+K12+M12+O12+Q12+S12+U12+W12+Y12,2) -> 0
A13: 3.2. | B13: Pārējās projekta īstenošanas personāla izmaksas | C13: 0.85 | D13: =F13+G13 -> 0 | E13: =D13/$D$36 -> #DIV/0! | F13: =ROUND(H13+J13+L13+N13+P13+R13+T13+V13+X13,2) -> 0 | G13: =ROUND(I13+K13+M13+O13+Q13+S13+U13+W13+Y13,2) -> 0
A14: 4 | B14: Mērķa grupas nodrošinājuma izmaksas | C14: 0.85 | D14: =F14+G14 -> 0 | E14: =D14/$D$36 -> #DIV/0! | F14: =ROUND(H14+J14+L14+N14+P14+R14+T14+V14+X14,2) -> 0 | G14: =ROUND(I14+K14+M14+O14+Q14+S14+U14+W14+Y14,2) -> 0
A15: 5 | B15: Informācijas sistēmu izstrādes, ieviešanas un kvalitātes kontroles izmaksas | C15: 0.85 | D15: =F15+G15 -> 0 | E15: =D15/$D$36 -> #DIV/0! | F15: =ROUND(H15+J15+L15+N15+P15+R15+T15+V15+X15,2) -> 0 | G15: =ROUND(I15+K15+M15+O15+Q15+S15+U15+W15+Y15,2) -> 0
A16: 6 | B16: Materiālu, aprīkojuma un iekārtu izmaksas | D16: =F16+G16 -> 0 | E16: =D16/$D$36 -> #DIV/0! | F16: =ROUND(H16+J16+L16+N16+P16+R16+T16+V16+X16,2) -> 0 | G16: =ROUND(I16+K16+M16+O16+Q16+S16+U16+W16+Y16,2) -> 0 | H16: =SUM(H17:H20) -> 0 | I16: =SUM(I17:I20) -> 0 | J16: =SUM(J17:J20) -> 0 | K16: =SUM(K17:K20) -> 0 | L16: =SUM(L17:L20) -> 0 | M16: =SUM(M17:M20) -> 0 | N16: =SUM(N17:N20) -> 0 | O16: =SUM(O17:O20) -> 0 | ... Y16: =SUM(Y17:Y20) -> 0
A17: 6.1. | B17: Materiālu un izjevielu izmaksas | C17: 0.85 | D17: =F17+G17 -> 0 | E17: =D17/$D$36 -> #DIV/0! | F17: =ROUND(H17+J17+L17+N17+P17+R17+T17+V17+X17,2) -> 0 | G17: =ROUND(I17+K17+M17+O17+Q17+S17+U17+W17+Y17,2) -> 0
A18: 6.2. | B18: Pārējās projekta īstenošanas personāla izmaksas | C18: 0.85 | D18: =F18+G18 -> 0 | E18: =D18/$D$36 -> #DIV/0! | F18: =ROUND(H18+J18+L18+N18+P18+R18+T18+V18+X18,2) -> 0 | G18: =ROUND(I18+K18+M18+O18+Q18+S18+U18+W18+Y18,2) -> 0
A19: 6.3. | B19: Transportlīdzekļu izmaksas | C19: 0.85 | D19: =F19+G19 -> 0 | E19: =D19/$D$36 -> #DIV/0! | F19: =ROUND(H19+J19+L19+N19+P19+R19+T19+V19+X19,2) -> 0 | G19: =ROUND(I19+K19+M19+O19+Q19+S19+U19+W19+Y19,2) -> 0
A20: 6.4. | B20: Citas izmaksas | C20: 0.85 | D20: =F20+G20 -> 0 | E20: =D20/$D$36 -> #DIV/0! | F20: =ROUND(H20+J20+L20+N20+P20+R20+T20+V20+X20,2) -> 0 | G20: =ROUND(I20+K20+M20+O20+Q20+S20+U20+W20+Y20,2) -> 0
A21: 7 | B21: Būvniecības izmaksas | D21: =F21+G21 -> 0 | E21: =D21/$D$36 -> #DIV/0! | F21: =ROUND(H21+J21+L21+N21+P21+R21+T21+V21+X21,2) -> 0 | G21: =ROUND(I21+K21+M21+O21+Q21+S21+U21+W21+Y21,2) -> 0 | H21: =SUM(H22:H27) -> 0 | I21: =SUM(I22:I27) -> 0 | J21: =SUM(J22:J27) -> 0 | K21: =SUM(K22:K27) -> 0 | L21: =SUM(L22:L27) -> 0 | M21: =SUM(M22:M27) -> 0 | N21: =SUM(N22:N27) -> 0 | O21: =SUM(O22:O27) -> 0 | ... Y21: =SUM(Y22:Y27) -> 0
A22: 7.1. | B22: Projektēšanas izmaksas | C22: 0.85 | D22: =F22+G22 -> 0 | E22: =D22/$D$36 -> #DIV/0! | F22: =ROUND(H22+J22+L22+N22+P22+R22+T22+V22+X22,2) -> 0 | G22: =ROUND(I22+K22+M22+O22+Q22+S22+U22+W22+Y22,2) -> 0
A23: 7.2. | B23: Autoruzraudzības izmaksas | C23: 0.85 | D23: =F23+G23 -> 0 | E23: =D23/$D$36 -> #DIV/0! | F23: =ROUND(H23+J23+L23+N23+P23+R23+T23+V23+X23,2) -> 0 | G23: =ROUND(I23+K23+M23+O23+Q23+S23+U23+W23+Y23,2) -> 0
A24: 7.3. | B24: Būvuzraudzības izmaksas | C24: 0.85 | D24: =F24+G24 -> 0 | E24: =D24/$D$36 -> #DIV/0! | F24: =ROUND(H24+J24+L24+N24+P24+R24+T24+V24+X24,2) -> 0 | G24: =ROUND(I24+K24+M24+O24+Q24+S24+U24+W24+Y24,2) -> 0
A25: 7.4. | B25: Būvdarbu izmaksas (infrastruktūra, tai skaitā labiekārtošanas izmaksas) | C25: 0.85 | D25: =F25+G25 -> 0 | E25: =D25/$D$36 -> #DIV/0! | F25: =ROUND(H25+J25+L25+N25+P25+R25+T25+V25+X25,2) -> 0 | G25: =ROUND(I25+K25+M25+O25+Q25+S25+U25+W25+Y25,2) -> 0
A26: 7.5. | B26: Būvdarbu izmaksas (ēkas), tai skaitā labiekārtošanas izmaksas | C26: 0.85 | D26: =F26+G26 -> 0 | E26: =D26/$D$36 -> #DIV/0! | F26: =ROUND(H26+J26+L26+N26+P26+R26+T26+V26+X26,2) -> 0 | G26: =ROUND(I26+K26+M26+O26+Q26+S26+U26+W26+Y26,2) -> 0
A27: 7.6. | B27: Citas izmaksas | C27: 0.85 | D27: =F27+G27 -> 0 | E27: =D27/$D$36 -> #DIV/0! | F27: =ROUND(H27+J27+L27+N27+P27+R27+T27+V27+X27,2) -> 0 | G27: =ROUND(I27+K27+M27+O27+Q27+S27+U27+W27+Y27,2) -> 0
A28: 8 | B28: Patenti, licences utml. | C28: 0.85 | D28: =F28+G28 -> 0 | E28: =D28/$D$36 -> #DIV/0! | F28: =ROUND(H28+J28+L28+N28+P28+R28+T28+V28+X28,2) -> 0 | G28: =ROUND(I28+K28+M28+O28+Q28+S28+U28+W28+Y28,2) -> 0
A29: 9 | B29: Nekustamā īpašuma (piemēram, ēku un zemes) iegādes izmaksas | C29: 0.85 | D29: =F29+G29 -> 0 | E29: =D29/$D$36 -> #DIV/0! | F29: =ROUND(H29+J29+L29+N29+P29+R29+T29+V29+X29,2) -> 0 | G29: =ROUND(I29+K29+M29+O29+Q29+S29+U29+W29+Y29,2) -> 0
A30: 10 | B30: Informatīvo un publicitātes pasākumu izmaksas | C30: 0.85 | D30: =F30+G30 -> 0 | E30: =D30/$D$36 -> #DIV/0! | F30: =ROUND(H30+J30+L30+N30+P30+R30+T30+V30+X30,2) -> 0 | G30: =ROUND(I30+K30+M30+O30+Q30+S30+U30+W30+Y30,2) -> 0
A31: 11 | B31: Projekta iesnieguma un to pamatojošās dokumentācijas sagatavošanas izmaksas | C31: 0.85 | D31: =F31+G31 -> 0 | E31: =D31/$D$36 -> #DIV/0! | F31: =ROUND(H31+J31+L31+N31+P31+R31+T31+V31+X31,2) -> 0 | G31: =ROUND(I31+K31+M31+O31+Q31+S31+U31+W31+Y31,2) -> 0
A32: 12 | B32: Ieguldījumi natūrā | C32: 0.85 | D32: =F32+G32 -> 0 | E32: =D32/$D$36 -> #DIV/0! | F32: =ROUND(H32+J32+L32+N32+P32+R32+T32+V32+X32,2) -> 0 | G32: =ROUND(I32+K32+M32+O32+Q32+S32+U32+W32+Y32,2) -> 0
A33: 13 | B33: Pārējās projekta īstenošanas izmaksas | C33: 0.85 | D33: =F33+G33 -> 0 | E33: =D33/$D$36 -> #DIV/0! | F33: =ROUND(H33+J33+L33+N33+P33+R33+T33+V33+X33,2) -> 0 | G33: =ROUND(I33+K33+M33+O33+Q33+S33+U33+W33+Y33,2) -> 0
A34: 14 | B34: Vienreizējais maksājums | C34: 0.85 | D34: =F34+G34 -> 0 | E34: =D34/$D$36 -> #DIV/0! | F34: =ROUND(H34+J34+L34+N34+P34+R34+T34+V34+X34,2) -> 0 | G34: =ROUND(I34+K34+M34+O34+Q34+S34+U34+W34+Y34,2) -> 0
A35: 15 | B35: Neparedzētie izdevumi | C35: 0.85 | D35: =F35+G35 -> 0 | E35: =D35/$D$36 -> #DIV/0! | F35: =ROUND(H35+J35+L35+N35+P35+R35+T35+V35+X35,2) -> 0 | G35: =ROUND(I35+K35+M35+O35+Q35+S35+U35+W35+Y35,2) -> 0
B36: KOPĀ | C36: 0.85 | D36: =F36+G36 -> 0 | E36: =D36/$D$36 -> #DIV/0! | F36: =F7+F8+F11+F14+F15+F16+F21+F28+F29+F30+F31+F32+F33+F34+F35 -> 0 | G36: =G7+G8+G11+G14+G15+G16+G21+G28+G29+G30+G31+G32+G33+G34+G35 -> 0 | H36: =H7+H8+H11+H14+H15+H16+H21+H28+H29+H30+H31+H32+H33+H34+H35 -> 0 | I36: =I7+I8+I11+I14+I15+I16+I21+I28+I29+I30+I31+I32+I33+I34+I35 -> 0 | J36: =J7+J8+J11+J14+J15+J16+J21+J28+J29+J30+J31+J32+J33+J34+J35 -> 0 | K36: =K7+K8+K11+K14+K15+K16+K21+K28+K29+K30+K31+K32+K33+K34+K35 -> 0 | L36: =L7+L8+L11+L14+L15+L16+L21+L28+L29+L30+L31+L32+L33+L34+L35 -> 0 | M36: =M7+M8+M11+M14+M15+M16+M21+M28+M29+M30+M31+M32+M33+M34+M35 -> 0 | ... Y36: =Y7+Y8+Y11+Y14+Y15+Y16+Y21+Y28+Y29+Y30+Y31+Y32+Y33+Y34+Y35 -> 0
B37: t.sk. PVN
B38: Investīciju izmaksas bez neparedzētajiem izdevumiem un neatt. PVN | H38: =H36-H35 -> 0 | I38: =I36-I35-I37 -> 0 | J38: =J36-J35 -> 0 | K38: =K36-K35-K37 -> 0 | L38: =L36-L35 -> 0 | M38: =M36-M35-M37 -> 0 | N38: =N36-N35 -> 0 | O38: =O36-O35 -> 0 | P38: =P36-P35 -> 0 | Q38: =Q36-Q35 -> 0 | R38: =R36-R35 -> 0 | S38: =S36-S35 -> 0 | T38: =T36-T35 -> 0 | U38: =U36-U35 -> 0 | ... Y38: =Y36-Y35 -> 0

Sheet 1.2.1.A. Partneris-1
A1: DARBA LAPA Nr.1.2.1.A. | D1: Aizpilda par projekta iesniedzēja sadarbības partnera darbībām, kas NAV saistītas ar valsts atbalstu
B3: Sadarbības partneris | K3: Valsts budžeta dotācijas īpatsvars (%): | P3: Saite valsts budžeta dotācijas noteikšanai (VARAM vietnē)
A4: BUDŽETS (+)
A5: Nr. | B5: Izmaksu pozīcijas nosaukums | C5: Maksimālā ES fondu līdzfin. atbalsta likme (%) | D5: Kopējā summa | F5: Izmaksas kopā | H5: ='Dati par projektu'!E13 -> 2024 | J5: =IF(OR(H5>='Dati par projektu'!$C$17,H5="X"),"X",H5+1) -> 2025 | L5: =IF(OR(J5>='Dati par projektu'!$C$17,J5="X"),"X",J5+1) -> 2026 | N5: =IF(OR(L5>='Dati par projektu'!$C$17,L5="X"),"X",L5+1) -> 2027 | P5: =IF(OR(N5>='Dati par projektu'!$C$17,N5="X"),"X",N5+1) -> 2028 | R5: =IF(OR(P5>='Dati par projektu'!$C$17,P5="X"),"X",P5+1) -> 2029 | T5: =IF(OR(R5>='Dati par projektu'!$C$17,R5="X"),"X",R5+1) -> X | V5: =IF(OR(T5>='Dati par projektu'!$C$17,T5="X"),"X",T5+1) -> X | X5: =IF(OR(V5>='Dati par projektu'!$C$17,V5="X"),"X",V5+1) -> X | AV5: 0.55
B6: Projekta netiešās izmaksas kopā: | D6: EUR | E6: % | F6: attiecināmas | G6: neattiecināmas | H6: attiecināmas izmaksas | I6: neattiecināmas izmaksas | J6: attiecināmas izmaksas | K6: neattiecināmas izmaksas | L6: attiecināmas izmaksas | M6: neattiecināmas izmaksas | N6: attiecināmas izmaksas | O6: neattiecināmas izmaksas | P6: attiecināmas izmaksas | Q6: neattiecināmas izmaksas | R6: attiecināmas izmaksas | S6: neattiecināmas izmaksas | T6: attiecināmas izmaksas | U6: neattiecināmas izmaksas | V6: attiecināmas izmaksas | W6: neattiecināmas izmaksas | X6: attiecināmas izmaksas | Y6: neattiecināmas izmaksas | AV6: 0.45
A7: 1 | B7: Projekta izmaksas saskaņā ar vienoto izmaksu likmi (netiešās izmaksas) | C7: 0.85 | D7: =F7+G7 -> 0 | E7: =D7/$D$36 -> #DIV/0! | F7: =ROUND(H7+J7+L7+N7+P7+R7+T7+V7+X7,2) -> 0 | G7: =ROUND(I7+K7+M7+O7+Q7+S7+U7+W7+Y7,2) -> 0 | AV7: 0.35
A8: 2 | B8: Projekta vadības izmaksas | D8: =F8+G8 -> 0 | E8: =D8/$D$36 -> #DIV/0! | F8: =ROUND(H8+J8+L8+N8+P8+R8+T8+V8+X8,2) -> 0 | G8: =ROUND(I8+K8+M8+O8+Q8+S8+U8+W8+Y8,2) -> 0 | H8: =SUM(H9:H10) -> 0 | I8: =SUM(I9:I10) -> 0 | J8: =SUM(J9:J10) -> 0 | K8: =SUM(K9:K10) -> 0 | L8: =SUM(L9:L10) -> 0 | M8: =SUM(M9:M10) -> 0 | N8: =SUM(N9:N10) -> 0 | O8: =SUM(O9:O10) -> 0 | ... Y8: =SUM(Y9:Y10) -> 0
A9: 2.1. | B9: Projekta vadības personāla atlīdzības izmaksas | C9: 0.85 | D9: =F9+G9 -> 0 | E9: =D9/$D$36 -> #DIV/0! | F9: =ROUND(H9+J9+L9+N9+P9+R9+T9+V9+X9,2) -> 0 | G9: =ROUND(I9+K9+M9+O9+Q9+S9+U9+W9+Y9,2) -> 0
A10: 2.2. | B10: Pārējās vadības izmaksas | C10: 0.85 | D10: =F10+G10 -> 0 | E10: =D10/$D$36 -> #DIV/0! | F10: =ROUND(H10+J10+L10+N10+P10+R10+T10+V10+X10,2) -> 0 | G10: =ROUND(I10+K10+M10+O10+Q10+S10+U10+W10+Y10,2) -> 0
A11: 3 | B11: Projekta īstenošanas personāla izmaksas | D11: =F11+G11 -> 0 | E11: =D11/$D$36 -> #DIV/0! | F11: =ROUND(H11+J11+L11+N11+P11+R11+T11+V11+X11,2) -> 0 | G11: =ROUND(I11+K11+M11+O11+Q11+S11+U11+W11+Y11,2) -> 0 | H11: =SUM(H12:H13) -> 0 | I11: =SUM(I12:I13) -> 0 | J11: =SUM(J12:J13) -> 0 | K11: =SUM(K12:K13) -> 0 | L11: =SUM(L12:L13) -> 0 | M11: =SUM(M12:M13) -> 0 | N11: =SUM(N12:N13) -> 0 | O11: =SUM(O12:O13) -> 0 | ... Y11: =SUM(Y12:Y13) -> 0
A12: 3.1. | B12: Projekta īstenošanas personāla atlīdzības izmaksas | C12: 0.85 | D12: =F12+G12 -> 0 | E12: =D12/$D$36 -> #DIV/0! | F12: =ROUND(H12+J12+L12+N12+P12+R12+T12+V12+X12,2) -> 0 | G12: =ROUND(I12+K12+M12+O12+Q12+S12+U12+W12+Y12,2) -> 0
A13: 3.2. | B13: Pārējās projekta īstenošanas personāla izmaksas | C13: 0.85 | D13: =F13+G13 -> 0 | E13: =D13/$D$36 -> #DIV/0! | F13: =ROUND(H13+J13+L13+N13+P13+R13+T13+V13+X13,2) -> 0 | G13: =ROUND(I13+K13+M13+O13+Q13+S13+U13+W13+Y13,2) -> 0
A14: 4 | B14: Mērķa grupas nodrošinājuma izmaksas | C14: 0.85 | D14: =F14+G14 -> 0 | E14: =D14/$D$36 -> #DIV/0! | F14: =ROUND(H14+J14+L14+N14+P14+R14+T14+V14+X14,2) -> 0 | G14: =ROUND(I14+K14+M14+O14+Q14+S14+U14+W14+Y14,2) -> 0
A15: 5 | B15: Informācijas sistēmu izstrādes, ieviešanas un kvalitātes kontroles izmaksas | C15: 0.85 | D15: =F15+G15 -> 0 | E15: =D15/$D$36 -> #DIV/0! | F15: =ROUND(H15+J15+L15+N15+P15+R15+T15+V15+X15,2) -> 0 | G15: =ROUND(I15+K15+M15+O15+Q15+S15+U15+W15+Y15,2) -> 0
A16: 6 | B16: Materiālu, aprīkojuma un iekārtu izmaksas | D16: =F16+G16 -> 0 | E16: =D16/$D$36 -> #DIV/0! | F16: =ROUND(H16+J16+L16+N16+P16+R16+T16+V16+X16,2) -> 0 | G16: =ROUND(I16+K16+M16+O16+Q16+S16+U16+W16+Y16,2) -> 0 | H16: =SUM(H17:H20) -> 0 | I16: =SUM(I17:I20) -> 0 | J16: =SUM(J17:J20) -> 0 | K16: =SUM(K17:K20) -> 0 | L16: =SUM(L17:L20) -> 0 | M16: =SUM(M17:M20) -> 0 | N16: =SUM(N17:N20) -> 0 | O16: =SUM(O17:O20) -> 0 | ... Y16: =SUM(Y17:Y20) -> 0
A17: 6.1. | B17: Materiālu un izjevielu izmaksas | C17: 0.85 | D17: =F17+G17 -> 0 | E17: =D17/$D$36 -> #DIV/0! | F17: =ROUND(H17+J17+L17+N17+P17+R17+T17+V17+X17,2) -> 0 | G17: =ROUND(I17+K17+M17+O17+Q17+S17+U17+W17+Y17,2) -> 0
A18: 6.2. | B18: Pārējās projekta īstenošanas personāla izmaksas | C18: 0.85 | D18: =F18+G18 -> 0 | E18: =D18/$D$36 -> #DIV/0! | F18: =ROUND(H18+J18+L18+N18+P18+R18+T18+V18+X18,2) -> 0 | G18: =ROUND(I18+K18+M18+O18+Q18+S18+U18+W18+Y18,2) -> 0
A19: 6.3. | B19: Transportlīdzekļu izmaksas | C19: 0.85 | D19: =F19+G19 -> 0 | E19: =D19/$D$36 -> #DIV/0! | F19: =ROUND(H19+J19+L19+N19+P19+R19+T19+V19+X19,2) -> 0 | G19: =ROUND(I19+K19+M19+O19+Q19+S19+U19+W19+Y19,2) -> 0
A20: 6.4. | B20: Citas izmaksas | C20: 0.85 | D20: =F20+G20 -> 0 | E20: =D20/$D$36 -> #DIV/0! | F20: =ROUND(H20+J20+L20+N20+P20+R20+T20+V20+X20,2) -> 0 | G20: =ROUND(I20+K20+M20+O20+Q20+S20+U20+W20+Y20,2) -> 0
A21: 7 | B21: Būvniecības izmaksas | D21: =F21+G21 -> 0 | E21: =D21/$D$36 -> #DIV/0! | F21: =ROUND(H21+J21+L21+N21+P21+R21+T21+V21+X21,2) -> 0 | G21: =ROUND(I21+K21+M21+O21+Q21+S21+U21+W21+Y21,2) -> 0 | H21: =SUM(H22:H27) -> 0 | I21: =SUM(I22:I27) -> 0 | J21: =SUM(J22:J27) -> 0 | K21: =SUM(K22:K27) -> 0 | L21: =SUM(L22:L27) -> 0 | M21: =SUM(M22:M27) -> 0 | N21: =SUM(N22:N27) -> 0 | O21: =SUM(O22:O27) -> 0 | ... Y21: =SUM(Y22:Y27) -> 0
A22: 7.1. | B22: Projektēšanas izmaksas | C22: 0.85 | D22: =F22+G22 -> 0 | E22: =D22/$D$36 -> #DIV/0! | F22: =ROUND(H22+J22+L22+N22+P22+R22+T22+V22+X22,2) -> 0 | G22: =ROUND(I22+K22+M22+O22+Q22+S22+U22+W22+Y22,2) -> 0
A23: 7.2. | B23: Autoruzraudzības izmaksas | C23: 0.85 | D23: =F23+G23 -> 0 | E23: =D23/$D$36 -> #DIV/0! | F23: =ROUND(H23+J23+L23+N23+P23+R23+T23+V23+X23,2) -> 0 | G23: =ROUND(I23+K23+M23+O23+Q23+S23+U23+W23+Y23,2) -> 0
A24: 7.3. | B24: Būvuzraudzības izmaksas | C24: 0.85 | D24: =F24+G24 -> 0 | E24: =D24/$D$36 -> #DIV/0! | F24: =ROUND(H24+J24+L24+N24+P24+R24+T24+V24+X24,2) -> 0 | G24: =ROUND(I24+K24+M24+O24+Q24+S24+U24+W24+Y24,2) -> 0
A25: 7.4. | B25: Būvdarbu izmaksas (infrastruktūra, tai skaitā labiekārtošanas izmaksas) | C25: 0.85 | D25: =F25+G25 -> 0 | E25: =D25/$D$36 -> #DIV/0! | F25: =ROUND(H25+J25+L25+N25+P25+R25+T25+V25+X25,2) -> 0 | G25: =ROUND(I25+K25+M25+O25+Q25+S25+U25+W25+Y25,2) -> 0
A26: 7.5. | B26: Būvdarbu izmaksas (ēkas), tai skaitā labiekārtošanas izmaksas | C26: 0.85 | D26: =F26+G26 -> 0 | E26: =D26/$D$36 -> #DIV/0! | F26: =ROUND(H26+J26+L26+N26+P26+R26+T26+V26+X26,2) -> 0 | G26: =ROUND(I26+K26+M26+O26+Q26+S26+U26+W26+Y26,2) -> 0
A27: 7.6. | B27: Citas izmaksas | C27: 0.85 | D27: =F27+G27 -> 0 | E27: =D27/$D$36 -> #DIV/0! | F27: =ROUND(H27+J27+L27+N27+P27+R27+T27+V27+X27,2) -> 0 | G27: =ROUND(I27+K27+M27+O27+Q27+S27+U27+W27+Y27,2) -> 0
A28: 8 | B28: Patenti, licences utml. | C28: 0.85 | D28: =F28+G28 -> 0 | E28: =D28/$D$36 -> #DIV/0! | F28: =ROUND(H28+J28+L28+N28+P28+R28+T28+V28+X28,2) -> 0 | G28: =ROUND(I28+K28+M28+O28+Q28+S28+U28+W28+Y28,2) -> 0
A29: 9 | B29: Nekustamā īpašuma (piemēram, ēku un zemes) iegādes izmaksas | C29: 0.85 | D29: =F29+G29 -> 0 | E29: =D29/$D$36 -> #DIV/0! | F29: =ROUND(H29+J29+L29+N29+P29+R29+T29+V29+X29,2) -> 0 | G29: =ROUND(I29+K29+M29+O29+Q29+S29+U29+W29+Y29,2) -> 0
A30: 10 | B30: Informatīvo un publicitātes pasākumu izmaksas | C30: 0.85 | D30: =F30+G30 -> 0 | E30: =D30/$D$36 -> #DIV/0! | F30: =ROUND(H30+J30+L30+N30+P30+R30+T30+V30+X30,2) -> 0 | G30: =ROUND(I30+K30+M30+O30+Q30+S30+U30+W30+Y30,2) -> 0
A31: 11 | B31: Projekta iesnieguma un to pamatojošās dokumentācijas sagatavošanas izmaksas | C31: 0.85 | D31: =F31+G31 -> 0 | E31: =D31/$D$36 -> #DIV/0! | F31: =ROUND(H31+J31+L31+N31+P31+R31+T31+V31+X31,2) -> 0 | G31: =ROUND(I31+K31+M31+O31+Q31+S31+U31+W31+Y31,2) -> 0
A32: 12 | B32: Ieguldījumi natūrā | C32: 0.85 | D32: =F32+G32 -> 0 | E32: =D32/$D$36 -> #DIV/0! | F32: =ROUND(H32+J32+L32+N32+P32+R32+T32+V32+X32,2) -> 0 | G32: =ROUND(I32+K32+M32+O32+Q32+S32+U32+W32+Y32,2) -> 0
A33: 13 | B33: Pārējās projekta īstenošanas izmaksas | C33: 0.85 | D33: =F33+G33 -> 0 | E33: =D33/$D$36 -> #DIV/0! | F33: =ROUND(H33+J33+L33+N33+P33+R33+T33+V33+X33,2) -> 0 | G33: =ROUND(I33+K33+M33+O33+Q33+S33+U33+W33+Y33,2) -> 0
A34: 14 | B34: Vienreizējais maksājums | C34: 0.85 | D34: =F34+G34 -> 0 | E34: =D34/$D$36 -> #DIV/0! | F34: =ROUND(H34+J34+L34+N34+P34+R34+T34+V34+X34,2) -> 0 | G34: =ROUND(I34+K34+M34+O34+Q34+S34+U34+W34+Y34,2) -> 0
A35: 15 | B35: Neparedzētie izdevumi | C35: 0.85 | D35: =F35+G35 -> 0 | E35: =D35/$D$36 -> #DIV/0! | F35: =ROUND(H35+J35+L35+N35+P35+R35+T35+V35+X35,2) -> 0 | G35: =ROUND(I35+K35+M35+O35+Q35+S35+U35+W35+Y35,2) -> 0
B36: KOPĀ | C36: 0.85 | D36: =F36+G36 -> 0 | E36: =D36/$D$36 -> #DIV/0! | F36: =F7+F8+F11+F14+F15+F16+F21+F28+F29+F30+F31+F32+F33+F34+F35 -> 0 | G36: =G7+G8+G11+G14+G15+G16+G21+G28+G29+G30+G31+G32+G33+G34+G35 -> 0 | H36: =H7+H8+H11+H14+H15+H16+H21+H28+H29+H30+H31+H32+H33+H34+H35 -> 0 | I36: =I7+I8+I11+I14+I15+I16+I21+I28+I29+I30+I31+I32+I33+I34+I35 -> 0 | J36: =J7+J8+J11+J14+J15+J16+J21+J28+J29+J30+J31+J32+J33+J34+J35 -> 0 | K36: =K7+K8+K11+K14+K15+K16+K21+K28+K29+K30+K31+K32+K33+K34+K35 -> 0 | L36: =L7+L8+L11+L14+L15+L16+L21+L28+L29+L30+L31+L32+L33+L34+L35 -> 0 | M36: =M7+M8+M11+M14+M15+M16+M21+M28+M29+M30+M31+M32+M33+M34+M35 -> 0 | ... Y36: =Y7+Y8+Y11+Y14+Y15+Y16+Y21+Y28+Y29+Y30+Y31+Y32+Y33+Y34+Y35 -> 0
B37: t.sk. PVN
B38: Investīciju izmaksas bez neparedzētajiem izdevumiem un neatt. PVN | H38: =H36-H35 -> 0 | I38: =I36-I35-I37 -> 0 | J38: =J36-J35 -> 0 | K38: =K36-K35-K37 -> 0 | L38: =L36-L35 -> 0 | M38: =M36-M35-M37 -> 0 | N38: =N36-N35 -> 0 | O38: =O36-O35 -> 0 | P38: =P36-P35 -> 0 | Q38: =Q36-Q35 -> 0 | R38: =R36-R35 -> 0 | S38: =S36-S35 -> 0 | T38: =T36-T35 -> 0 | U38: =U36-U35 -> 0 | ... Y38: =Y36-Y35 -> 0

Sheet 1.2.1.B. Partneris-1
A1: DARBA LAPA Nr.1.2.1.B. | D1: Aizpilda par projekta iesniedzēja sadarbības partnera darbībām, kas IR saistītas ar valsts atbalstu
B3: Sadarbības partneris | K3: Valsts budžeta dotācijas īpatsvars (%): | P3: Saite valsts budžeta dotācijas noteikšanai (VARAM vietnē)
A4: BUDŽETS (+)
A5: Nr. | B5: Izmaksu pozīcijas nosaukums | C5: Maksimālā ES fondu līdzfin. atbalsta likme (%) | D5: Kopējā summa | F5: Izmaksas kopā | H5: ='Dati par projektu'!E13 -> 2024 | J5: =IF(OR(H5>='Dati par projektu'!$C$17,H5="X"),"X",H5+1) -> 2025 | L5: =IF(OR(J5>='Dati par projektu'!$C$17,J5="X"),"X",J5+1) -> 2026 | N5: =IF(OR(L5>='Dati par projektu'!$C$17,L5="X"),"X",L5+1) -> 2027 | P5: =IF(OR(N5>='Dati par projektu'!$C$17,N5="X"),"X",N5+1) -> 2028 | R5: =IF(OR(P5>='Dati par projektu'!$C$17,P5="X"),"X",P5+1) -> 2029 | T5: =IF(OR(R5>='Dati par projektu'!$C$17,R5="X"),"X",R5+1) -> X | V5: =IF(OR(T5>='Dati par projektu'!$C$17,T5="X"),"X",T5+1) -> X | X5: =IF(OR(V5>='Dati par projektu'!$C$17,V5="X"),"X",V5+1) -> X | AV5: 0.55
B6: Projekta netiešās izmaksas kopā: | D6: EUR | E6: % | F6: attiecināmas | G6: neattiecināmas | H6: attiecināmas izmaksas | I6: neattiecināmas izmaksas | J6: attiecināmas izmaksas | K6: neattiecināmas izmaksas | L6: attiecināmas izmaksas | M6: neattiecināmas izmaksas | N6: attiecināmas izmaksas | O6: neattiecināmas izmaksas | P6: attiecināmas izmaksas | Q6: neattiecināmas izmaksas | R6: attiecināmas izmaksas | S6: neattiecināmas izmaksas | T6: attiecināmas izmaksas | U6: neattiecināmas izmaksas | V6: attiecināmas izmaksas | W6: neattiecināmas izmaksas | X6: attiecināmas izmaksas | Y6: neattiecināmas izmaksas | AV6: 0.45
A7: 1 | B7: Projekta izmaksas saskaņā ar vienoto izmaksu likmi (netiešās izmaksas) | C7: 0.85 | D7: =F7+G7 -> 0 | E7: =D7/$D$36 -> #DIV/0! | F7: =ROUND(H7+J7+L7+N7+P7+R7+T7+V7+X7,2) -> 0 | G7: =ROUND(I7+K7+M7+O7+Q7+S7+U7+W7+Y7,2) -> 0 | AV7: 0.35
A8: 2 | B8: Projekta vadības izmaksas | D8: =F8+G8 -> 0 | E8: =D8/$D$36 -> #DIV/0! | F8: =ROUND(H8+J8+L8+N8+P8+R8+T8+V8+X8,2) -> 0 | G8: =ROUND(I8+K8+M8+O8+Q8+S8+U8+W8+Y8,2) -> 0 | H8: =SUM(H9:H10) -> 0 | I8: =SUM(I9:I10) -> 0 | J8: =SUM(J9:J10) -> 0 | K8: =SUM(K9:K10) -> 0 | L8: =SUM(L9:L10) -> 0 | M8: =SUM(M9:M10) -> 0 | N8: =SUM(N9:N10) -> 0 | O8: =SUM(O9:O10) -> 0 | ... Y8: =SUM(Y9:Y10) -> 0
A9: 2.1. | B9: Projekta vadības personāla atlīdzības izmaksas | C9: 0.85 | D9: =F9+G9 -> 0 | E9: =D9/$D$36 -> #DIV/0! | F9: =ROUND(H9+J9+L9+N9+P9+R9+T9+V9+X9,2) -> 0 | G9: =ROUND(I9+K9+M9+O9+Q9+S9+U9+W9+Y9,2) -> 0
A10: 2.2. | B10: Pārējās vadības izmaksas | C10: 0.85 | D10: =F10+G10 -> 0 | E10: =D10/$D$36 -> #DIV/0! | F10: =ROUND(H10+J10+L10+N10+P10+R10+T10+V10+X10,2) -> 0 | G10: =ROUND(I10+K10+M10+O10+Q10+S10+U10+W10+Y10,2) -> 0
A11: 3 | B11: Projekta īstenošanas personāla izmaksas | D11: =F11+G11 -> 0 | E11: =D11/$D$36 -> #DIV/0! | F11: =ROUND(H11+J11+L11+N11+P11+R11+T11+V11+X11,2) -> 0 | G11: =ROUND(I11+K11+M11+O11+Q11+S11+U11+W11+Y11,2) -> 0 | H11: =SUM(H12:H13) -> 0 | I11: =SUM(I12:I13) -> 0 | J11: =SUM(J12:J13) -> 0 | K11: =SUM(K12:K13) -> 0 | L11: =SUM(L12:L13) -> 0 | M11: =SUM(M12:M13) -> 0 | N11: =SUM(N12:N13) -> 0 | O11: =SUM(O12:O13) -> 0 | ... Y11: =SUM(Y12:Y13) -> 0
A12: 3.1. | B12: Projekta īstenošanas personāla atlīdzības izmaksas | C12: 0.85 | D12: =F12+G12 -> 0 | E12: =D12/$D$36 -> #DIV/0! | F12: =ROUND(H12+J12+L12+N12+P12+R12+T12+V12+X12,2) -> 0 | G12: =ROUND(I12+K12+M12+O12+Q12+S12+U12+W12+Y12,2) -> 0
A13: 3.2. | B13: Pārējās projekta īstenošanas personāla izmaksas | C13: 0.85 | D13: =F13+G13 -> 0 | E13: =D13/$D$36 -> #DIV/0! | F13: =ROUND(H13+J13+L13+N13+P13+R13+T13+V13+X13,2) -> 0 | G13: =ROUND(I13+K13+M13+O13+Q13+S13+U13+W13+Y13,2) -> 0
A14: 4 | B14: Mērķa grupas nodrošinājuma izmaksas | C14: 0.85 | D14: =F14+G14 -> 0 | E14: =D14/$D$36 -> #DIV/0! | F14: =ROUND(H14+J14+L14+N14+P14+R14+T14+V14+X14,2) -> 0 | G14: =ROUND(I14+K14+M14+O14+Q14+S14+U14+W14+Y14,2) -> 0
A15: 5 | B15: Informācijas sistēmu izstrādes, ieviešanas un kvalitātes kontroles izmaksas | C15: 0.85 | D15: =F15+G15 -> 0 | E15: =D15/$D$36 -> #DIV/0! | F15: =ROUND(H15+J15+L15+N15+P15+R15+T15+V15+X15,2) -> 0 | G15: =ROUND(I15+K15+M15+O15+Q15+S15+U15+W15+Y15,2) -> 0
A16: 6 | B16: Materiālu, aprīkojuma un iekārtu izmaksas | D16: =F16+G16 -> 0 | E16: =D16/$D$36 -> #DIV/0! | F16: =ROUND(H16+J16+L16+N16+P16+R16+T16+V16+X16,2) -> 0 | G16: =ROUND(I16+K16+M16+O16+Q16+S16+U16+W16+Y16,2) -> 0 | H16: =SUM(H17:H20) -> 0 | I16: =SUM(I17:I20) -> 0 | J16: =SUM(J17:J20) -> 0 | K16: =SUM(K17:K20) -> 0 | L16: =SUM(L17:L20) -> 0 | M16: =SUM(M17:M20) -> 0 | N16: =SUM(N17:N20) -> 0 | O16: =SUM(O17:O20) -> 0 | ... Y16: =SUM(Y17:Y20) -> 0
A17: 6.1. | B17: Materiālu un izjevielu izmaksas | C17: 0.85 | D17: =F17+G17 -> 0 | E17: =D17/$D$36 -> #DIV/0! | F17: =ROUND(H17+J17+L17+N17+P17+R17+T17+V17+X17,2) -> 0 | G17: =ROUND(I17+K17+M17+O17+Q17+S17+U17+W17+Y17,2) -> 0
A18: 6.2. | B18: Pārējās projekta īstenošanas personāla izmaksas | C18: 0.85 | D18: =F18+G18 -> 0 | E18: =D18/$D$36 -> #DIV/0! | F18: =ROUND(H18+J18+L18+N18+P18+R18+T18+V18+X18,2) -> 0 | G18: =ROUND(I18+K18+M18+O18+Q18+S18+U18+W18+Y18,2) -> 0
A19: 6.3. | B19: Transportlīdzekļu izmaksas | C19: 0.85 | D19: =F19+G19 -> 0 | E19: =D19/$D$36 -> #DIV/0! | F19: =ROUND(H19+J19+L19+N19+P19+R19+T19+V19+X19,2) -> 0 | G19: =ROUND(I19+K19+M19+O19+Q19+S19+U19+W19+Y19,2) -> 0
A20: 6.4. | B20: Citas izmaksas | C20: 0.85 | D20: =F20+G20 -> 0 | E20: =D20/$D$36 -> #DIV/0! | F20: =ROUND(H20+J20+L20+N20+P20+R20+T20+V20+X20,2) -> 0 | G20: =ROUND(I20+K20+M20+O20+Q20+S20+U20+W20+Y20,2) -> 0
A21: 7 | B21: Būvniecības izmaksas | D21: =F21+G21 -> 0 | E21: =D21/$D$36 -> #DIV/0! | F21: =ROUND(H21+J21+L21+N21+P21+R21+T21+V21+X21,2) -> 0 | G21: =ROUND(I21+K21+M21+O21+Q21+S21+U21+W21+Y21,2) -> 0 | H21: =SUM(H22:H27) -> 0 | I21: =SUM(I22:I27) -> 0 | J21: =SUM(J22:J27) -> 0 | K21: =SUM(K22:K27) -> 0 | L21: =SUM(L22:L27) -> 0 | M21: =SUM(M22:M27) -> 0 | N21: =SUM(N22:N27) -> 0 | O21: =SUM(O22:O27) -> 0 | ... Y21: =SUM(Y22:Y27) -> 0
A22: 7.1. | B22: Projektēšanas izmaksas (de minimis) | C22: 1 | D22: =F22+G22 -> 0 | E22: =D22/$D$36 -> #DIV/0! | F22: =ROUND(H22+J22+L22+N22+P22+R22+T22+V22+X22,2) -> 0 | G22: =ROUND(I22+K22+M22+O22+Q22+S22+U22+W22+Y22,2) -> 0
A23: 7.2. | B23: Autoruzraudzības izmaksas | C23: 0.85 | D23: =F23+G23 -> 0 | E23: =D23/$D$36 -> #DIV/0! | F23: =ROUND(H23+J23+L23+N23+P23+R23+T23+V23+X23,2) -> 0 | G23: =ROUND(I23+K23+M23+O23+Q23+S23+U23+W23+Y23,2) -> 0
A24: 7.3. | B24: Būvuzraudzības izmaksas | C24: 0.85 | D24: =F24+G24 -> 0 | E24: =D24/$D$36 -> #DIV/0! | F24: =ROUND(H24+J24+L24+N24+P24+R24+T24+V24+X24,2) -> 0 | G24: =ROUND(I24+K24+M24+O24+Q24+S24+U24+W24+Y24,2) -> 0
A25: 7.4. | B25: Būvdarbu izmaksas (infrastruktūra, tai skaitā labiekārtošanas izmaksas) | C25: 0.85 | D25: =F25+G25 -> 0 | E25: =D25/$D$36 -> #DIV/0! | F25: =ROUND(H25+J25+L25+N25+P25+R25+T25+V25+X25,2) -> 0 | G25: =ROUND(I25+K25+M25+O25+Q25+S25+U25+W25+Y25,2) -> 0
A26: 7.5. | B26: Būvdarbu izmaksas (ēkas), tai skaitā labiekārtošanas izmaksas | C26: 0.85 | D26: =F26+G26 -> 0 | E26: =D26/$D$36 -> #DIV/0! | F26: =ROUND(H26+J26+L26+N26+P26+R26+T26+V26+X26,2) -> 0 | G26: =ROUND(I26+K26+M26+O26+Q26+S26+U26+W26+Y26,2) -> 0
A27: 7.6. | B27: Citas izmaksas | C27: 0.85 | D27: =F27+G27 -> 0 | E27: =D27/$D$36 -> #DIV/0! | F27: =ROUND(H27+J27+L27+N27+P27+R27+T27+V27+X27,2) -> 0 | G27: =ROUND(I27+K27+M27+O27+Q27+S27+U27+W27+Y27,2) -> 0
A28: 8 | B28: Patenti, licences utml. | C28: 0.85 | D28: =F28+G28 -> 0 | E28: =D28/$D$36 -> #DIV/0! | F28: =ROUND(H28+J28+L28+N28+P28+R28+T28+V28+X28,2) -> 0 | G28: =ROUND(I28+K28+M28+O28+Q28+S28+U28+W28+Y28,2) -> 0
A29: 9 | B29: Nekustamā īpašuma (piemēram, ēku un zemes) iegādes izmaksas | C29: 0.85 | D29: =F29+G29 -> 0 | E29: =D29/$D$36 -> #DIV/0! | F29: =ROUND(H29+J29+L29+N29+P29+R29+T29+V29+X29,2) -> 0 | G29: =ROUND(I29+K29+M29+O29+Q29+S29+U29+W29+Y29,2) -> 0
A30: 10 | B30: Informatīvo un publicitātes pasākumu izmaksas | C30: 0.85 | D30: =F30+G30 -> 0 | E30: =D30/$D$36 -> #DIV/0! | F30: =ROUND(H30+J30+L30+N30+P30+R30+T30+V30+X30,2) -> 0 | G30: =ROUND(I30+K30+M30+O30+Q30+S30+U30+W30+Y30,2) -> 0
A31: 11 | B31: Projekta iesnieguma un to pamatojošās dokumentācijas sagatavošanas izmaksas (de minimis) | C31: 1 | D31: =F31+G31 -> 0 | E31: =D31/$D$36 -> #DIV/0! | F31: =ROUND(H31+J31+L31+N31+P31+R31+T31+V31+X31,2) -> 0 | G31: =ROUND(I31+K31+M31+O31+Q31+S31+U31+W31+Y31,2) -> 0
A32: 12 | B32: Ieguldījumi natūrā | C32: 0.85 | D32: =F32+G32 -> 0 | E32: =D32/$D$36 -> #DIV/0! | F32: =ROUND(H32+J32+L32+N32+P32+R32+T32+V32+X32,2) -> 0 | G32: =ROUND(I32+K32+M32+O32+Q32+S32+U32+W32+Y32,2) -> 0
A33: 13 | B33: Pārējās projekta īstenošanas izmaksas | C33: 0.85 | D33: =F33+G33 -> 0 | E33: =D33/$D$36 -> #DIV/0! | F33: =ROUND(H33+J33+L33+N33+P33+R33+T33+V33+X33,2) -> 0 | G33: =ROUND(I33+K33+M33+O33+Q33+S33+U33+W33+Y33,2) -> 0
A34: 14 | B34: Vienreizējais maksājums | C34: 0.85 | D34: =F34+G34 -> 0 | E34: =D34/$D$36 -> #DIV/0! | F34: =ROUND(H34+J34+L34+N34+P34+R34+T34+V34+X34,2) -> 0 | G34: =ROUND(I34+K34+M34+O34+Q34+S34+U34+W34+Y34,2) -> 0
A35: 15 | B35: Neparedzētie izdevumi | C35: 0.85 | D35: =F35+G35 -> 0 | E35: =D35/$D$36 -> #DIV/0! | F35: =ROUND(H35+J35+L35+N35+P35+R35+T35+V35+X35,2) -> 0 | G35: =ROUND(I35+K35+M35+O35+Q35+S35+U35+W35+Y35,2) -> 0 | H35: 0 | J35: 0 | L35: 0 | N35: 0 | P35: 0 | R35: 0 | T35: 0 | V35: 0 | X35: 0
B36: KOPĀ | C36: 0.85 | D36: =F36+G36 -> 0 | E36: =D36/$D$36 -> #DIV/0! | F36: =F7+F8+F11+F14+F15+F16+F21+F28+F29+F30+F31+F32+F33+F34+F35 -> 0 | G36: =G7+G8+G11+G14+G15+G16+G21+G28+G29+G30+G31+G32+G33+G34+G35 -> 0 | H36: =H7+H8+H11+H14+H15+H16+H21+H28+H29+H30+H31+H32+H33+H34+H35 -> 0 | I36: =I7+I8+I11+I14+I15+I16+I21+I28+I29+I30+I31+I32+I33+I34+I35 -> 0 | J36: =J7+J8+J11+J14+J15+J16+J21+J28+J29+J30+J31+J32+J33+J34+J35 -> 0 | K36: =K7+K8+K11+K14+K15+K16+K21+K28+K29+K30+K31+K32+K33+K34+K35 -> 0 | L36: =L7+L8+L11+L14+L15+L16+L21+L28+L29+L30+L31+L32+L33+L34+L35 -> 0 | M36: =M7+M8+M11+M14+M15+M16+M21+M28+M29+M30+M31+M32+M33+M34+M35 -> 0 | ... Y36: =Y7+Y8+Y11+Y14+Y15+Y16+Y21+Y28+Y29+Y30+Y31+Y32+Y33+Y34+Y35 -> 0
B37: t.sk. PVN
B38: Investīciju izmaksas bez neparedzētajiem izdevumiem un neatt. PVN | H38: =H36-H35 -> 0 | I38: =I36-I35-I37 -> 0 | J38: =J36-J35 -> 0 | K38: =K36-K35-K37 -> 0 | L38: =L36-L35 -> 0 | M38: =M36-M35-M37 -> 0 | N38: =N36-N35 -> 0 | O38: =O36-O35 -> 0 | P38: =P36-P35 -> 0 | Q38: =Q36-Q35 -> 0 | R38: =R36-R35 -> 0 | S38: =S36-S35 -> 0 | T38: =T36-T35 -> 0 | U38: =U36-U35 -> 0 | ... Y38: =Y36-Y35 -> 0
B39: Investīciju izmaksas bez de minimis izmaksām | H39: =H36-H22-H31 -> 0 | I39: =I36-I22-I31 -> 0 | J39: =J36-J22-J31 -> 0 | K39: =K36-K22-K31 -> 0 | L39: =L36-L22-L31 -> 0 | M39: =M36-M22-M31 -> 0 | N39: =N36-N22-N31 -> 0 | O39: =O36-O22-O31 -> 0 | ... Y39: =Y36-Y22-Y31 -> 0
B40: De minimis | H40: =H22+H31 -> 0 | I40: =I22+I31 -> 0 | J40: =J22+J31 -> 0 | K40: =K22+K31 -> 0 | L40: =L22+L31 -> 0 | M40: =M22+M31 -> 0 | N40: =N22+N31 -> 0 | O40: =O22+O31 -> 0 | ... Y40: =Y22+Y31 -> 0

Sheet 1.2.1.C. Partneris-1
A1: DARBA LAPA Nr.1.2.1.C. | D1: Aizpilda par projekta iesniedzēja sadarbības partnera darbībām, kas IR saistītas ar valsts atbalstu (VTNP)
B3: Sadarbības partneris | K3: Valsts budžeta dotācijas īpatsvars (%): | P3: Saite valsts budžeta dotācijas noteikšanai (VARAM vietnē) | T3: Ja sadarbības partneris ir kapitālsabiedrība, vai pašvaldība sedz šo ieguldījumu līdzfinansējuma daļu: | AA3: =IF(X3="",0,IF(X3="Jā",2,1)) -> 0
A4: BUDŽETS (+)
A5: Nr. | B5: Izmaksu pozīcijas nosaukums | C5: Maksimālā ES fondu līdzfin. atbalsta likme (%) | D5: Kopējā summa | F5: Izmaksas kopā | H5: ='Dati par projektu'!E13 -> 2024 | J5: =IF(OR(H5>='Dati par projektu'!$C$17,H5="X"),"X",H5+1) -> 2025 | L5: =IF(OR(J5>='Dati par projektu'!$C$17,J5="X"),"X",J5+1) -> 2026 | N5: =IF(OR(L5>='Dati par projektu'!$C$17,L5="X"),"X",L5+1) -> 2027 | P5: =IF(OR(N5>='Dati par projektu'!$C$17,N5="X"),"X",N5+1) -> 2028 | R5: =IF(OR(P5>='Dati par projektu'!$C$17,P5="X"),"X",P5+1) -> 2029 | T5: =IF(OR(R5>='Dati par projektu'!$C$17,R5="X"),"X",R5+1) -> X | V5: =IF(OR(T5>='Dati par projektu'!$C$17,T5="X"),"X",T5+1) -> X | X5: =IF(OR(V5>='Dati par projektu'!$C$17,V5="X"),"X",V5+1) -> X | AV5: 0.55
B6: Projekta netiešās izmaksas kopā: | D6: EUR | E6: % | F6: attiecināmas | G6: neattiecināmas | H6: attiecināmas izmaksas | I6: neattiecināmas izmaksas | J6: attiecināmas izmaksas | K6: neattiecināmas izmaksas | L6: attiecināmas izmaksas | M6: neattiecināmas izmaksas | N6: attiecināmas izmaksas | O6: neattiecināmas izmaksas | P6: attiecināmas izmaksas | Q6: neattiecināmas izmaksas | R6: attiecināmas izmaksas | S6: neattiecināmas izmaksas | T6: attiecināmas izmaksas | U6: neattiecināmas izmaksas | V6: attiecināmas izmaksas | W6: neattiecināmas izmaksas | X6: attiecināmas izmaksas | Y6: neattiecināmas izmaksas | AV6: 0.45
A7: 1 | B7: Projekta izmaksas saskaņā ar vienoto izmaksu likmi (netiešās izmaksas) | C7: 0.85 | D7: =F7+G7 -> 0 | E7: =D7/$D$36 -> #DIV/0! | F7: =ROUND(H7+J7+L7+N7+P7+R7+T7+V7+X7,2) -> 0 | G7: =ROUND(I7+K7+M7+O7+Q7+S7+U7+W7+Y7,2) -> 0 | AV7: 0.35
A8: 2 | B8: Projekta vadības izmaksas | D8: =F8+G8 -> 0 | E8: =D8/$D$36 -> #DIV/0! | F8: =ROUND(H8+J8+L8+N8+P8+R8+T8+V8+X8,2) -> 0 | G8: =ROUND(I8+K8+M8+O8+Q8+S8+U8+W8+Y8,2) -> 0 | H8: =SUM(H9:H10) -> 0 | I8: =SUM(I9:I10) -> 0 | J8: =SUM(J9:J10) -> 0 | K8: =SUM(K9:K10) -> 0 | L8: =SUM(L9:L10) -> 0 | M8: =SUM(M9:M10) -> 0 | N8: =SUM(N9:N10) -> 0 | O8: =SUM(O9:O10) -> 0 | ... Y8: =SUM(Y9:Y10) -> 0
A9: 2.1. | B9: Projekta vadības personāla atlīdzības izmaksas | C9: 0.85 | D9: =F9+G9 -> 0 | E9: =D9/$D$36 -> #DIV/0! | F9: =ROUND(H9+J9+L9+N9+P9+R9+T9+V9+X9,2) -> 0 | G9: =ROUND(I9+K9+M9+O9+Q9+S9+U9+W9+Y9,2) -> 0
A10: 2.2. | B10: Pārējās vadības izmaksas | C10: 0.85 | D10: =F10+G10 -> 0 | E10: =D10/$D$36 -> #DIV/0! | F10: =ROUND(H10+J10+L10+N10+P10+R10+T10+V10+X10,2) -> 0 | G10: =ROUND(I10+K10+M10+O10+Q10+S10+U10+W10+Y10,2) -> 0
A11: 3 | B11: Projekta īstenošanas personāla izmaksas | D11: =F11+G11 -> 0 | E11: =D11/$D$36 -> #DIV/0! | F11: =ROUND(H11+J11+L11+N11+P11+R11+T11+V11+X11,2) -> 0 | G11: =ROUND(I11+K11+M11+O11+Q11+S11+U11+W11+Y11,2) -> 0 | H11: =SUM(H12:H13) -> 0 | I11: =SUM(I12:I13) -> 0 | J11: =SUM(J12:J13) -> 0 | K11: =SUM(K12:K13) -> 0 | L11: =SUM(L12:L13) -> 0 | M11: =SUM(M12:M13) -> 0 | N11: =SUM(N12:N13) -> 0 | O11: =SUM(O12:O13) -> 0 | ... Y11: =SUM(Y12:Y13) -> 0
A12: 3.1. | B12: Projekta īstenošanas personāla atlīdzības izmaksas | C12: 0.85 | D12: =F12+G12 -> 0 | E12: =D12/$D$36 -> #DIV/0! | F12: =ROUND(H12+J12+L12+N12+P12+R12+T12+V12+X12,2) -> 0 | G12: =ROUND(I12+K12+M12+O12+Q12+S12+U12+W12+Y12,2) -> 0
A13: 3.2. | B13: Pārējās projekta īstenošanas personāla izmaksas | C13: 0.85 | D13: =F13+G13 -> 0 | E13: =D13/$D$36 -> #DIV/0! | F13: =ROUND(H13+J13+L13+N13+P13+R13+T13+V13+X13,2) -> 0 | G13: =ROUND(I13+K13+M13+O13+Q13+S13+U13+W13+Y13,2) -> 0
A14: 4 | B14: Mērķa grupas nodrošinājuma izmaksas | C14: 0.85 | D14: =F14+G14 -> 0 | E14: =D14/$D$36 -> #DIV/0! | F14: =ROUND(H14+J14+L14+N14+P14+R14+T14+V14+X14,2) -> 0 | G14: =ROUND(I14+K14+M14+O14+Q14+S14+U14+W14+Y14,2) -> 0
A15: 5 | B15: Informācijas sistēmu izstrādes, ieviešanas un kvalitātes kontroles izmaksas | C15: 0.85 | D15: =F15+G15 -> 0 | E15: =D15/$D$36 -> #DIV/0! | F15: =ROUND(H15+J15+L15+N15+P15+R15+T15+V15+X15,2) -> 0 | G15: =ROUND(I15+K15+M15+O15+Q15+S15+U15+W15+Y15,2) -> 0
A16: 6 | B16: Materiālu, aprīkojuma un iekārtu izmaksas | D16: =F16+G16 -> 0 | E16: =D16/$D$36 -> #DIV/0! | F16: =ROUND(H16+J16+L16+N16+P16+R16+T16+V16+X16,2) -> 0 | G16: =ROUND(I16+K16+M16+O16+Q16+S16+U16+W16+Y16,2) -> 0 | H16: =SUM(H17:H20) -> 0 | I16: =SUM(I17:I20) -> 0 | J16: =SUM(J17:J20) -> 0 | K16: =SUM(K17:K20) -> 0 | L16: =SUM(L17:L20) -> 0 | M16: =SUM(M17:M20) -> 0 | N16: =SUM(N17:N20) -> 0 | O16: =SUM(O17:O20) -> 0 | ... Y16: =SUM(Y17:Y20) -> 0
A17: 6.1. | B17: Materiālu un izjevielu izmaksas | C17: 0.85 | D17: =F17+G17 -> 0 | E17: =D17/$D$36 -> #DIV/0! | F17: =ROUND(H17+J17+L17+N17+P17+R17+T17+V17+X17,2) -> 0 | G17: =ROUND(I17+K17+M17+O17+Q17+S17+U17+W17+Y17,2) -> 0
A18: 6.2. | B18: Pārējās projekta īstenošanas personāla izmaksas | C18: 0.85 | D18: =F18+G18 -> 0 | E18: =D18/$D$36 -> #DIV/0! | F18: =ROUND(H18+J18+L18+N18+P18+R18+T18+V18+X18,2) -> 0 | G18: =ROUND(I18+K18+M18+O18+Q18+S18+U18+W18+Y18,2) -> 0
A19: 6.3. | B19: Transportlīdzekļu izmaksas | C19: 0.85 | D19: =F19+G19 -> 0 | E19: =D19/$D$36 -> #DIV/0! | F19: =ROUND(H19+J19+L19+N19+P19+R19+T19+V19+X19,2) -> 0 | G19: =ROUND(I19+K19+M19+O19+Q19+S19+U19+W19+Y19,2) -> 0
A20: 6.4. | B20: Citas izmaksas | C20: 0.85 | D20: =F20+G20 -> 0 | E20: =D20/$D$36 -> #DIV/0! | F20: =ROUND(H20+J20+L20+N20+P20+R20+T20+V20+X20,2) -> 0 | G20: =ROUND(I20+K20+M20+O20+Q20+S20+U20+W20+Y20,2) -> 0
A21: 7 | B21: Būvniecības izmaksas | D21: =F21+G21 -> 0 | E21: =D21/$D$36 -> #DIV/0! | F21: =ROUND(H21+J21+L21+N21+P21+R21+T21+V21+X21,2) -> 0 | G21: =ROUND(I21+K21+M21+O21+Q21+S21+U21+W21+Y21,2) -> 0 | H21: =SUM(H22:H27) -> 0 | I21: =SUM(I22:I27) -> 0 | J21: =SUM(J22:J27) -> 0 | K21: =SUM(K22:K27) -> 0 | L21: =SUM(L22:L27) -> 0 | M21: =SUM(M22:M27) -> 0 | N21: =SUM(N22:N27) -> 0 | O21: =SUM(O22:O27) -> 0 | ... Y21: =SUM(Y22:Y27) -> 0
A22: 7.1. | B22: Projektēšanas izmaksas | C22: 0.85 | D22: =F22+G22 -> 0 | E22: =D22/$D$36 -> #DIV/0! | F22: =ROUND(H22+J22+L22+N22+P22+R22+T22+V22+X22,2) -> 0 | G22: =ROUND(I22+K22+M22+O22+Q22+S22+U22+W22+Y22,2) -> 0
A23: 7.2. | B23: Autoruzraudzības izmaksas | C23: 0.85 | D23: =F23+G23 -> 0 | E23: =D23/$D$36 -> #DIV/0! | F23: =ROUND(H23+J23+L23+N23+P23+R23+T23+V23+X23,2) -> 0 | G23: =ROUND(I23+K23+M23+O23+Q23+S23+U23+W23+Y23,2) -> 0
A24: 7.3. | B24: Būvuzraudzības izmaksas | C24: 0.85 | D24: =F24+G24 -> 0 | E24: =D24/$D$36 -> #DIV/0! | F24: =ROUND(H24+J24+L24+N24+P24+R24+T24+V24+X24,2) -> 0 | G24: =ROUND(I24+K24+M24+O24+Q24+S24+U24+W24+Y24,2) -> 0
A25: 7.4. | B25: Būvdarbu izmaksas (infrastruktūra, tai skaitā labiekārtošanas izmaksas) | C25: 0.85 | D25: =F25+G25 -> 0 | E25: =D25/$D$36 -> #DIV/0! | F25: =ROUND(H25+J25+L25+N25+P25+R25+T25+V25+X25,2) -> 0 | G25: =ROUND(I25+K25+M25+O25+Q25+S25+U25+W25+Y25,2) -> 0
A26: 7.5. | B26: Būvdarbu izmaksas (ēkas), tai skaitā labiekārtošanas izmaksas | C26: 0.85 | D26: =F26+G26 -> 0 | E26: =D26/$D$36 -> #DIV/0! | F26: =ROUND(H26+J26+L26+N26+P26+R26+T26+V26+X26,2) -> 0 | G26: =ROUND(I26+K26+M26+O26+Q26+S26+U26+W26+Y26,2) -> 0
A27: 7.6. | B27: Citas izmaksas | C27: 0.85 | D27: =F27+G27 -> 0 | E27: =D27/$D$36 -> #DIV/0! | F27: =ROUND(H27+J27+L27+N27+P27+R27+T27+V27+X27,2) -> 0 | G27: =ROUND(I27+K27+M27+O27+Q27+S27+U27+W27+Y27,2) -> 0
A28: 8 | B28: Patenti, licences utml. | C28: 0.85 | D28: =F28+G28 -> 0 | E28: =D28/$D$36 -> #DIV/0! | F28: =ROUND(H28+J28+L28+N28+P28+R28+T28+V28+X28,2) -> 0 | G28: =ROUND(I28+K28+M28+O28+Q28+S28+U28+W28+Y28,2) -> 0
A29: 9 | B29: Nekustamā īpašuma (piemēram, ēku un zemes) iegādes izmaksas | C29: 0.85 | D29: =F29+G29 -> 0 | E29: =D29/$D$36 -> #DIV/0! | F29: =ROUND(H29+J29+L29+N29+P29+R29+T29+V29+X29,2) -> 0 | G29: =ROUND(I29+K29+M29+O29+Q29+S29+U29+W29+Y29,2) -> 0
A30: 10 | B30: Informatīvo un publicitātes pasākumu izmaksas | C30: 0.85 | D30: =F30+G30 -> 0 | E30: =D30/$D$36 -> #DIV/0! | F30: =ROUND(H30+J30+L30+N30+P30+R30+T30+V30+X30,2) -> 0 | G30: =ROUND(I30+K30+M30+O30+Q30+S30+U30+W30+Y30,2) -> 0
A31: 11 | B31: Projekta iesnieguma un to pamatojošās dokumentācijas sagatavošanas izmaksas | C31: 0.85 | D31: =F31+G31 -> 0 | E31: =D31/$D$36 -> #DIV/0! | F31: =ROUND(H31+J31+L31+N31+P31+R31+T31+V31+X31,2) -> 0 | G31: =ROUND(I31+K31+M31+O31+Q31+S31+U31+W31+Y31,2) -> 0
A32: 12 | B32: Ieguldījumi natūrā | C32: 0.85 | D32: =F32+G32 -> 0 | E32: =D32/$D$36 -> #DIV/0! | F32: =ROUND(H32+J32+L32+N32+P32+R32+T32+V32+X32,2) -> 0 | G32: =ROUND(I32+K32+M32+O32+Q32+S32+U32+W32+Y32,2) -> 0
A33: 13 | B33: Pārējās projekta īstenošanas izmaksas | C33: 0.85 | D33: =F33+G33 -> 0 | E33: =D33/$D$36 -> #DIV/0! | F33: =ROUND(H33+J33+L33+N33+P33+R33+T33+V33+X33,2) -> 0 | G33: =ROUND(I33+K33+M33+O33+Q33+S33+U33+W33+Y33,2) -> 0
A34: 14 | B34: Vienreizējais maksājums | C34: 0.85 | D34: =F34+G34 -> 0 | E34: =D34/$D$36 -> #DIV/0! | F34: =ROUND(H34+J34+L34+N34+P34+R34+T34+V34+X34,2) -> 0 | G34: =ROUND(I34+K34+M34+O34+Q34+S34+U34+W34+Y34,2) -> 0
A35: 15 | B35: Neparedzētie izdevumi | C35: 0.85 | D35: =F35+G35 -> 0 | E35: =D35/$D$36 -> #DIV/0! | F35: =ROUND(H35+J35+L35+N35+P35+R35+T35+V35+X35,2) -> 0 | G35: =ROUND(I35+K35+M35+O35+Q35+S35+U35+W35+Y35,2) -> 0
B36: KOPĀ | C36: 0.85 | D36: =F36+G36 -> 0 | E36: =D36/$D$36 -> #DIV/0! | F36: =F7+F8+F11+F14+F15+F16+F21+F28+F29+F30+F31+F32+F33+F34+F35 -> 0 | G36: =G7+G8+G11+G14+G15+G16+G21+G28+G29+G30+G31+G32+G33+G34+G35 -> 0 | H36: =H7+H8+H11+H14+H15+H16+H21+H28+H29+H30+H31+H32+H33+H34+H35 -> 0 | I36: =I7+I8+I11+I14+I15+I16+I21+I28+I29+I30+I31+I32+I33+I34+I35 -> 0 | J36: =J7+J8+J11+J14+J15+J16+J21+J28+J29+J30+J31+J32+J33+J34+J35 -> 0 | K36: =K7+K8+K11+K14+K15+K16+K21+K28+K29+K30+K31+K32+K33+K34+K35 -> 0 | L36: =L7+L8+L11+L14+L15+L16+L21+L28+L29+L30+L31+L32+L33+L34+L35 -> 0 | M36: =M7+M8+M11+M14+M15+M16+M21+M28+M29+M30+M31+M32+M33+M34+M35 -> 0 | ... Y36: =Y7+Y8+Y11+Y14+Y15+Y16+Y21+Y28+Y29+Y30+Y31+Y32+Y33+Y34+Y35 -> 0
B37: t.sk. PVN
B38: Investīciju izmaksas bez neparedzētajiem izdevumiem un neatt. PVN | H38: =H36-H35 -> 0 | I38: =I36-I35-I37 -> 0 | J38: =J36-J35 -> 0 | K38: =K36-K35-K37 -> 0 | L38: =L36-L35 -> 0 | M38: =M36-M35-M37 -> 0 | N38: =N36-N35 -> 0 | O38: =O36-O35 -> 0 | P38: =P36-P35 -> 0 | Q38: =Q36-Q35 -> 0 | R38: =R36-R35 -> 0 | S38: =S36-S35 -> 0 | T38: =T36-T35 -> 0 | U38: =U36-U35 -> 0 | ... Y38: =Y36-Y35 -> 0

Sheet 1.2.2.A. Partneris-2
A1: DARBA LAPA Nr.1.2.2.A. | D1: Aizpilda par projekta iesniedzēja sadarbības partnera darbībām, kas NAV saistītas ar valsts atbalstu
B3: Sadarbības partneris | K3: Valsts budžeta dotācijas īpatsvars (%): | P3: Saite valsts budžeta dotācijas noteikšanai (VARAM vietnē)
A4: BUDŽETS (+)
A5: Nr. | B5: Izmaksu pozīcijas nosaukums | C5: Maksimālā ES fondu līdzfin. atbalsta likme (%) | D5: Kopējā summa | F5: Izmaksas kopā | H5: ='Dati par projektu'!E13 -> 2024 | J5: =IF(OR(H5>='Dati par projektu'!$C$17,H5="X"),"X",H5+1) -> 2025 | L5: =IF(OR(J5>='Dati par projektu'!$C$17,J5="X"),"X",J5+1) -> 2026 | N5: =IF(OR(L5>='Dati par projektu'!$C$17,L5="X"),"X",L5+1) -> 2027 | P5: =IF(OR(N5>='Dati par projektu'!$C$17,N5="X"),"X",N5+1) -> 2028 | R5: =IF(OR(P5>='Dati par projektu'!$C$17,P5="X"),"X",P5+1) -> 2029 | T5: =IF(OR(R5>='Dati par projektu'!$C$17,R5="X"),"X",R5+1) -> X | V5: =IF(OR(T5>='Dati par projektu'!$C$17,T5="X"),"X",T5+1) -> X | X5: =IF(OR(V5>='Dati par projektu'!$C$17,V5="X"),"X",V5+1) -> X | AV5: 0.55
B6: Projekta netiešās izmaksas kopā: | D6: EUR | E6: % | F6: attiecināmas | G6: neattiecināmas | H6: attiecināmas izmaksas | I6: neattiecināmas izmaksas | J6: attiecināmas izmaksas | K6: neattiecināmas izmaksas | L6: attiecināmas izmaksas | M6: neattiecināmas izmaksas | N6: attiecināmas izmaksas | O6: neattiecināmas izmaksas | P6: attiecināmas izmaksas | Q6: neattiecināmas izmaksas | R6: attiecināmas izmaksas | S6: neattiecināmas izmaksas | T6: attiecināmas izmaksas | U6: neattiecināmas izmaksas | V6: attiecināmas izmaksas | W6: neattiecināmas izmaksas | X6: attiecināmas izmaksas | Y6: neattiecināmas izmaksas | AV6: 0.45
A7: 1 | B7: Projekta izmaksas saskaņā ar vienoto izmaksu likmi (netiešās izmaksas) | C7: 0.85 | D7: =F7+G7 -> 0 | E7: =D7/$D$36 -> #DIV/0! | F7: =ROUND(H7+J7+L7+N7+P7+R7+T7+V7+X7,2) -> 0 | G7: =ROUND(I7+K7+M7+O7+Q7+S7+U7+W7+Y7,2) -> 0 | AV7: 0.35
A8: 2 | B8: Projekta vadības izmaksas | D8: =F8+G8 -> 0 | E8: =D8/$D$36 -> #DIV/0! | F8: =ROUND(H8+J8+L8+N8+P8+R8+T8+V8+X8,2) -> 0 | G8: =ROUND(I8+K8+M8+O8+Q8+S8+U8+W8+Y8,2) -> 0 | H8: =SUM(H9:H10) -> 0 | I8: =SUM(I9:I10) -> 0 | J8: =SUM(J9:J10) -> 0 | K8: =SUM(K9:K10) -> 0 | L8: =SUM(L9:L10) -> 0 | M8: =SUM(M9:M10) -> 0 | N8: =SUM(N9:N10) -> 0 | O8: =SUM(O9:O10) -> 0 | ... Y8: =SUM(Y9:Y10) -> 0
A9: 2.1. | B9: Projekta vadības personāla atlīdzības izmaksas | C9: 0.85 | D9: =F9+G9 -> 0 | E9: =D9/$D$36 -> #DIV/0! | F9: =ROUND(H9+J9+L9+N9+P9+R9+T9+V9+X9,2) -> 0 | G9: =ROUND(I9+K9+M9+O9+Q9+S9+U9+W9+Y9,2) -> 0
A10: 2.2. | B10: Pārējās vadības izmaksas | C10: 0.85 | D10: =F10+G10 -> 0 | E10: =D10/$D$36 -> #DIV/0! | F10: =ROUND(H10+J10+L10+N10+P10+R10+T10+V10+X10,2) -> 0 | G10: =ROUND(I10+K10+M10+O10+Q10+S10+U10+W10+Y10,2) -> 0
A11: 3 | B11: Projekta īstenošanas personāla izmaksas | D11: =F11+G11 -> 0 | E11: =D11/$D$36 -> #DIV/0! | F11: =ROUND(H11+J11+L11+N11+P11+R11+T11+V11+X11,2) -> 0 | G11: =ROUND(I11+K11+M11+O11+Q11+S11+U11+W11+Y11,2) -> 0 | H11: =SUM(H12:H13) -> 0 | I11: =SUM(I12:I13) -> 0 | J11: =SUM(J12:J13) -> 0 | K11: =SUM(K12:K13) -> 0 | L11: =SUM(L12:L13) -> 0 | M11: =SUM(M12:M13) -> 0 | N11: =SUM(N12:N13) -> 0 | O11: =SUM(O12:O13) -> 0 | ... Y11: =SUM(Y12:Y13) -> 0
A12: 3.1. | B12: Projekta īstenošanas personāla atlīdzības izmaksas | C12: 0.85 | D12: =F12+G12 -> 0 | E12: =D12/$D$36 -> #DIV/0! | F12: =ROUND(H12+J12+L12+N12+P12+R12+T12+V12+X12,2) -> 0 | G12: =ROUND(I12+K12+M12+O12+Q12+S12+U12+W12+Y12,2) -> 0
A13: 3.2. | B13: Pārējās projekta īstenošanas personāla izmaksas | C13: 0.85 | D13: =F13+G13 -> 0 | E13: =D13/$D$36 -> #DIV/0! | F13: =ROUND(H13+J13+L13+N13+P13+R13+T13+V13+X13,2) -> 0 | G13: =ROUND(I13+K13+M13+O13+Q13+S13+U13+W13+Y13,2) -> 0
A14: 4 | B14: Mērķa grupas nodrošinājuma izmaksas | C14: 0.85 | D14: =F14+G14 -> 0 | E14: =D14/$D$36 -> #DIV/0! | F14: =ROUND(H14+J14+L14+N14+P14+R14+T14+V14+X14,2) -> 0 | G14: =ROUND(I14+K14+M14+O14+Q14+S14+U14+W14+Y14,2) -> 0
A15: 5 | B15: Informācijas sistēmu izstrādes, ieviešanas un kvalitātes kontroles izmaksas | C15: 0.85 | D15: =F15+G15 -> 0 | E15: =D15/$D$36 -> #DIV/0! | F15: =ROUND(H15+J15+L15+N15+P15+R15+T15+V15+X15,2) -> 0 | G15: =ROUND(I15+K15+M15+O15+Q15+S15+U15+W15+Y15,2) -> 0
A16: 6 | B16: Materiālu, aprīkojuma un iekārtu izmaksas | D16: =F16+G16 -> 0 | E16: =D16/$D$36 -> #DIV/0! | F16: =ROUND(H16+J16+L16+N16+P16+R16+T16+V16+X16,2) -> 0 | G16: =ROUND(I16+K16+M16+O16+Q16+S16+U16+W16+Y16,2) -> 0 | H16: =SUM(H17:H20) -> 0 | I16: =SUM(I17:I20) -> 0 | J16: =SUM(J17:J20) -> 0 | K16: =SUM(K17:K20) -> 0 | L16: =SUM(L17:L20) -> 0 | M16: =SUM(M17:M20) -> 0 | N16: =SUM(N17:N20) -> 0 | O16: =SUM(O17:O20) -> 0 | ... Y16: =SUM(Y17:Y20) -> 0
A17: 6.1. | B17: Materiālu un izjevielu izmaksas | C17: 0.85 | D17: =F17+G17 -> 0 | E17: =D17/$D$36 -> #DIV/0! | F17: =ROUND(H17+J17+L17+N17+P17+R17+T17+V17+X17,2) -> 0 | G17: =ROUND(I17+K17+M17+O17+Q17+S17+U17+W17+Y17,2) -> 0
A18: 6.2. | B18: Pārējās projekta īstenošanas personāla izmaksas | C18: 0.85 | D18: =F18+G18 -> 0 | E18: =D18/$D$36 -> #DIV/0! | F18: =ROUND(H18+J18+L18+N18+P18+R18+T18+V18+X18,2) -> 0 | G18: =ROUND(I18+K18+M18+O18+Q18+S18+U18+W18+Y18,2) -> 0
A19: 6.3. | B19: Transportlīdzekļu izmaksas | C19: 0.85 | D19: =F19+G19 -> 0 | E19: =D19/$D$36 -> #DIV/0! | F19: =ROUND(H19+J19+L19+N19+P19+R19+T19+V19+X19,2) -> 0 | G19: =ROUND(I19+K19+M19+O19+Q19+S19+U19+W19+Y19,2) -> 0
A20: 6.4. | B20: Citas izmaksas | C20: 0.85 | D20: =F20+G20 -> 0 | E20: =D20/$D$36 -> #DIV/0! | F20: =ROUND(H20+J20+L20+N20+P20+R20+T20+V20+X20,2) -> 0 | G20: =ROUND(I20+K20+M20+O20+Q20+S20+U20+W20+Y20,2) -> 0
A21: 7 | B21: Būvniecības izmaksas | D21: =F21+G21 -> 0 | E21: =D21/$D$36 -> #DIV/0! | F21: =ROUND(H21+J21+L21+N21+P21+R21+T21+V21+X21,2) -> 0 | G21: =ROUND(I21+K21+M21+O21+Q21+S21+U21+W21+Y21,2) -> 0 | H21: =SUM(H22:H27) -> 0 | I21: =SUM(I22:I27) -> 0 | J21: =SUM(J22:J27) -> 0 | K21: =SUM(K22:K27) -> 0 | L21: =SUM(L22:L27) -> 0 | M21: =SUM(M22:M27) -> 0 | N21: =SUM(N22:N27) -> 0 | O21: =SUM(O22:O27) -> 0 | ... Y21: =SUM(Y22:Y27) -> 0
A22: 7.1. | B22: Projektēšanas izmaksas | C22: 0.85 | D22: =F22+G22 -> 0 | E22: =D22/$D$36 -> #DIV/0! | F22: =ROUND(H22+J22+L22+N22+P22+R22+T22+V22+X22,2) -> 0 | G22: =ROUND(I22+K22+M22+O22+Q22+S22+U22+W22+Y22,2) -> 0
A23: 7.2. | B23: Autoruzraudzības izmaksas | C23: 0.85 | D23: =F23+G23 -> 0 | E23: =D23/$D$36 -> #DIV/0! | F23: =ROUND(H23+J23+L23+N23+P23+R23+T23+V23+X23,2) -> 0 | G23: =ROUND(I23+K23+M23+O23+Q23+S23+U23+W23+Y23,2) -> 0
A24: 7.3. | B24: Būvuzraudzības izmaksas | C24: 0.85 | D24: =F24+G24 -> 0 | E24: =D24/$D$36 -> #DIV/0! | F24: =ROUND(H24+J24+L24+N24+P24+R24+T24+V24+X24,2) -> 0 | G24: =ROUND(I24+K24+M24+O24+Q24+S24+U24+W24+Y24,2) -> 0
A25: 7.4. | B25: Būvdarbu izmaksas (infrastruktūra, tai skaitā labiekārtošanas izmaksas) | C25: 0.85 | D25: =F25+G25 -> 0 | E25: =D25/$D$36 -> #DIV/0! | F25: =ROUND(H25+J25+L25+N25+P25+R25+T25+V25+X25,2) -> 0 | G25: =ROUND(I25+K25+M25+O25+Q25+S25+U25+W25+Y25,2) -> 0
A26: 7.5. | B26: Būvdarbu izmaksas (ēkas), tai skaitā labiekārtošanas izmaksas | C26: 0.85 | D26: =F26+G26 -> 0 | E26: =D26/$D$36 -> #DIV/0! | F26: =ROUND(H26+J26+L26+N26+P26+R26+T26+V26+X26,2) -> 0 | G26: =ROUND(I26+K26+M26+O26+Q26+S26+U26+W26+Y26,2) -> 0
A27: 7.6. | B27: Citas izmaksas | C27: 0.85 | D27: =F27+G27 -> 0 | E27: =D27/$D$36 -> #DIV/0! | F27: =ROUND(H27+J27+L27+N27+P27+R27+T27+V27+X27,2) -> 0 | G27: =ROUND(I27+K27+M27+O27+Q27+S27+U27+W27+Y27,2) -> 0
A28: 8 | B28: Patenti, licences utml. | C28: 0.85 | D28: =F28+G28 -> 0 | E28: =D28/$D$36 -> #DIV/0! | F28: =ROUND(H28+J28+L28+N28+P28+R28+T28+V28+X28,2) -> 0 | G28: =ROUND(I28+K28+M28+O28+Q28+S28+U28+W28+Y28,2) -> 0
A29: 9 | B29: Nekustamā īpašuma (piemēram, ēku un zemes) iegādes izmaksas | C29: 0.85 | D29: =F29+G29 -> 0 | E29: =D29/$D$36 -> #DIV/0! | F29: =ROUND(H29+J29+L29+N29+P29+R29+T29+V29+X29,2) -> 0 | G29: =ROUND(I29+K29+M29+O29+Q29+S29+U29+W29+Y29,2) -> 0
A30: 10 | B30: Informatīvo un publicitātes pasākumu izmaksas | C30: 0.85 | D30: =F30+G30 -> 0 | E30: =D30/$D$36 -> #DIV/0! | F30: =ROUND(H30+J30+L30+N30+P30+R30+T30+V30+X30,2) -> 0 | G30: =ROUND(I30+K30+M30+O30+Q30+S30+U30+W30+Y30,2) -> 0
A31: 11 | B31: Projekta iesnieguma un to pamatojošās dokumentācijas sagatavošanas izmaksas | C31: 0.85 | D31: =F31+G31 -> 0 | E31: =D31/$D$36 -> #DIV/0! | F31: =ROUND(H31+J31+L31+N31+P31+R31+T31+V31+X31,2) -> 0 | G31: =ROUND(I31+K31+M31+O31+Q31+S31+U31+W31+Y31,2) -> 0
A32: 12 | B32: Ieguldījumi natūrā | C32: 0.85 | D32: =F32+G32 -> 0 | E32: =D32/$D$36 -> #DIV/0! | F32: =ROUND(H32+J32+L32+N32+P32+R32+T32+V32+X32,2) -> 0 | G32: =ROUND(I32+K32+M32+O32+Q32+S32+U32+W32+Y32,2) -> 0
A33: 13 | B33: Pārējās projekta īstenošanas izmaksas | C33: 0.85 | D33: =F33+G33 -> 0 | E33: =D33/$D$36 -> #DIV/0! | F33: =ROUND(H33+J33+L33+N33+P33+R33+T33+V33+X33,2) -> 0 | G33: =ROUND(I33+K33+M33+O33+Q33+S33+U33+W33+Y33,2) -> 0
A34: 14 | B34: Vienreizējais maksājums | C34: 0.85 | D34: =F34+G34 -> 0 | E34: =D34/$D$36 -> #DIV/0! | F34: =ROUND(H34+J34+L34+N34+P34+R34+T34+V34+X34,2) -> 0 | G34: =ROUND(I34+K34+M34+O34+Q34+S34+U34+W34+Y34,2) -> 0
A35: 15 | B35: Neparedzētie izdevumi | C35: 0.85 | D35: =F35+G35 -> 0 | E35: =D35/$D$36 -> #DIV/0! | F35: =ROUND(H35+J35+L35+N35+P35+R35+T35+V35+X35,2) -> 0 | G35: =ROUND(I35+K35+M35+O35+Q35+S35+U35+W35+Y35,2) -> 0
B36: KOPĀ | C36: 0.85 | D36: =F36+G36 -> 0 | E36: =D36/$D$36 -> #DIV/0! | F36: =F7+F8+F11+F14+F15+F16+F21+F28+F29+F30+F31+F32+F33+F34+F35 -> 0 | G36: =G7+G8+G11+G14+G15+G16+G21+G28+G29+G30+G31+G32+G33+G34+G35 -> 0 | H36: =H7+H8+H11+H14+H15+H16+H21+H28+H29+H30+H31+H32+H33+H34+H35 -> 0 | I36: =I7+I8+I11+I14+I15+I16+I21+I28+I29+I30+I31+I32+I33+I34+I35 -> 0 | J36: =J7+J8+J11+J14+J15+J16+J21+J28+J29+J30+J31+J32+J33+J34+J35 -> 0 | K36: =K7+K8+K11+K14+K15+K16+K21+K28+K29+K30+K31+K32+K33+K34+K35 -> 0 | L36: =L7+L8+L11+L14+L15+L16+L21+L28+L29+L30+L31+L32+L33+L34+L35 -> 0 | M36: =M7+M8+M11+M14+M15+M16+M21+M28+M29+M30+M31+M32+M33+M34+M35 -> 0 | ... Y36: =Y7+Y8+Y11+Y14+Y15+Y16+Y21+Y28+Y29+Y30+Y31+Y32+Y33+Y34+Y35 -> 0
B37: t.sk. PVN
B38: Investīciju izmaksas bez neparedzētajiem izdevumiem un neatt. PVN | H38: =H36-H35 -> 0 | I38: =I36-I35-I37 -> 0 | J38: =J36-J35 -> 0 | K38: =K36-K35-K37 -> 0 | L38: =L36-L35 -> 0 | M38: =M36-M35-M37 -> 0 | N38: =N36-N35 -> 0 | O38: =O36-O35 -> 0 | P38: =P36-P35 -> 0 | Q38: =Q36-Q35 -> 0 | R38: =R36-R35 -> 0 | S38: =S36-S35 -> 0 | T38: =T36-T35 -> 0 | U38: =U36-U35 -> 0 | ... Y38: =Y36-Y35 -> 0

Sheet 1.2.2.B. Partneris-2
A1: DARBA LAPA Nr.1.2.2.B. | D1: Aizpilda par projekta iesniedzēja sadarbības partnera darbībām, kas IR saistītas ar valsts atbalstu
B3: Sadarbības partneris | K3: Valsts budžeta dotācijas īpatsvars (%): | P3: Saite valsts budžeta dotācijas noteikšanai (VARAM vietnē)
A4: BUDŽETS (+)
A5: Nr. | B5: Izmaksu pozīcijas nosaukums | C5: Maksimālā ES fondu līdzfin. atbalsta likme (%) | D5: Kopējā summa | F5: Izmaksas kopā | H5: ='Dati par projektu'!E13 -> 2024 | J5: =IF(OR(H5>='Dati par projektu'!$C$17,H5="X"),"X",H5+1) -> 2025 | L5: =IF(OR(J5>='Dati par projektu'!$C$17,J5="X"),"X",J5+1) -> 2026 | N5: =IF(OR(L5>='Dati par projektu'!$C$17,L5="X"),"X",L5+1) -> 2027 | P5: =IF(OR(N5>='Dati par projektu'!$C$17,N5="X"),"X",N5+1) -> 2028 | R5: =IF(OR(P5>='Dati par projektu'!$C$17,P5="X"),"X",P5+1) -> 2029 | T5: =IF(OR(R5>='Dati par projektu'!$C$17,R5="X"),"X",R5+1) -> X | V5: =IF(OR(T5>='Dati par projektu'!$C$17,T5="X"),"X",T5+1) -> X | X5: =IF(OR(V5>='Dati par projektu'!$C$17,V5="X"),"X",V5+1) -> X | AV5: 0.55
B6: Projekta netiešās izmaksas kopā: | D6: EUR | E6: % | F6: attiecināmas | G6: neattiecināmas | H6: attiecināmas izmaksas | I6: neattiecināmas izmaksas | J6: attiecināmas izmaksas | K6: neattiecināmas izmaksas | L6: attiecināmas izmaksas | M6: neattiecināmas izmaksas | N6: attiecināmas izmaksas | O6: neattiecināmas izmaksas | P6: attiecināmas izmaksas | Q6: neattiecināmas izmaksas | R6: attiecināmas izmaksas | S6: neattiecināmas izmaksas | T6: attiecināmas izmaksas | U6: neattiecināmas izmaksas | V6: attiecināmas izmaksas | W6: neattiecināmas izmaksas | X6: attiecināmas izmaksas | Y6: neattiecināmas izmaksas | AV6: 0.45
A7: 1 | B7: Projekta izmaksas saskaņā ar vienoto izmaksu likmi (netiešās izmaksas) | C7: 0.85 | D7: =F7+G7 -> 0 | E7: =D7/$D$36 -> #DIV/0! | F7: =ROUND(H7+J7+L7+N7+P7+R7+T7+V7+X7,2) -> 0 | G7: =ROUND(I7+K7+M7+O7+Q7+S7+U7+W7+Y7,2) -> 0 | AV7: 0.35
A8: 2 | B8: Projekta vadības izmaksas | D8: =F8+G8 -> 0 | E8: =D8/$D$36 -> #DIV/0! | F8: =ROUND(H8+J8+L8+N8+P8+R8+T8+V8+X8,2) -> 0 | G8: =ROUND(I8+K8+M8+O8+Q8+S8+U8+W8+Y8,2) -> 0 | H8: =SUM(H9:H10) -> 0 | I8: =SUM(I9:I10) -> 0 | J8: =SUM(J9:J10) -> 0 | K8: =SUM(K9:K10) -> 0 | L8: =SUM(L9:L10) -> 0 | M8: =SUM(M9:M10) -> 0 | N8: =SUM(N9:N10) -> 0 | O8: =SUM(O9:O10) -> 0 | ... Y8: =SUM(Y9:Y10) -> 0
A9: 2.1. | B9: Projekta vadības personāla atlīdzības izmaksas | C9: 0.85 | D9: =F9+G9 -> 0 | E9: =D9/$D$36 -> #DIV/0! | F9: =ROUND(H9+J9+L9+N9+P9+R9+T9+V9+X9,2) -> 0 | G9: =ROUND(I9+K9+M9+O9+Q9+S9+U9+W9+Y9,2) -> 0
A10: 2.2. | B10: Pārējās vadības izmaksas | C10: 0.85 | D10: =F10+G10 -> 0 | E10: =D10/$D$36 -> #DIV/0! | F10: =ROUND(H10+J10+L10+N10+P10+R10+T10+V10+X10,2) -> 0 | G10: =ROUND(I10+K10+M10+O10+Q10+S10+U10+W10+Y10,2) -> 0
A11: 3 | B11: Projekta īstenošanas personāla izmaksas | D11: =F11+G11 -> 0 | E11: =D11/$D$36 -> #DIV/0! | F11: =ROUND(H11+J11+L11+N11+P11+R11+T11+V11+X11,2) -> 0 | G11: =ROUND(I11+K11+M11+O11+Q11+S11+U11+W11+Y11,2) -> 0 | H11: =SUM(H12:H13) -> 0 | I11: =SUM(I12:I13) -> 0 | J11: =SUM(J12:J13) -> 0 | K11: =SUM(K12:K13) -> 0 | L11: =SUM(L12:L13) -> 0 | M11: =SUM(M12:M13) -> 0 | N11: =SUM(N12:N13) -> 0 | O11: =SUM(O12:O13) -> 0 | ... Y11: =SUM(Y12:Y13) -> 0
A12: 3.1. | B12: Projekta īstenošanas personāla atlīdzības izmaksas | C12: 0.85 | D12: =F12+G12 -> 0 | E12: =D12/$D$36 -> #DIV/0! | F12: =ROUND(H12+J12+L12+N12+P12+R12+T12+V12+X12,2) -> 0 | G12: =ROUND(I12+K12+M12+O12+Q12+S12+U12+W12+Y12,2) -> 0
A13: 3.2. | B13: Pārējās projekta īstenošanas personāla izmaksas | C13: 0.85 | D13: =F13+G13 -> 0 | E13: =D13/$D$36 -> #DIV/0! | F13: =ROUND(H13+J13+L13+N13+P13+R13+T13+V13+X13,2) -> 0 | G13: =ROUND(I13+K13+M13+O13+Q13+S13+U13+W13+Y13,2) -> 0
A14: 4 | B14: Mērķa grupas nodrošinājuma izmaksas | C14: 0.85 | D14: =F14+G14 -> 0 | E14: =D14/$D$36 -> #DIV/0! | F14: =ROUND(H14+J14+L14+N14+P14+R14+T14+V14+X14,2) -> 0 | G14: =ROUND(I14+K14+M14+O14+Q14+S14+U14+W14+Y14,2) -> 0
A15: 5 | B15: Informācijas sistēmu izstrādes, ieviešanas un kvalitātes kontroles izmaksas | C15: 0.85 | D15: =F15+G15 -> 0 | E15: =D15/$D$36 -> #DIV/0! | F15: =ROUND(H15+J15+L15+N15+P15+R15+T15+V15+X15,2) -> 0 | G15: =ROUND(I15+K15+M15+O15+Q15+S15+U15+W15+Y15,2) -> 0
A16: 6 | B16: Materiālu, aprīkojuma un iekārtu izmaksas | D16: =F16+G16 -> 0 | E16: =D16/$D$36 -> #DIV/0! | F16: =ROUND(H16+J16+L16+N16+P16+R16+T16+V16+X16,2) -> 0 | G16: =ROUND(I16+K16+M16+O16+Q16+S16+U16+W16+Y16,2) -> 0 | H16: =SUM(H17:H20) -> 0 | I16: =SUM(I17:I20) -> 0 | J16: =SUM(J17:J20) -> 0 | K16: =SUM(K17:K20) -> 0 | L16: =SUM(L17:L20) -> 0 | M16: =SUM(M17:M20) -> 0 | N16: =SUM(N17:N20) -> 0 | O16: =SUM(O17:O20) -> 0 | ... Y16: =SUM(Y17:Y20) -> 0
A17: 6.1. | B17: Materiālu un izjevielu izmaksas | C17: 0.85 | D17: =F17+G17 -> 0 | E17: =D17/$D$36 -> #DIV/0! | F17: =ROUND(H17+J17+L17+N17+P17+R17+T17+V17+X17,2) -> 0 | G17: =ROUND(I17+K17+M17+O17+Q17+S17+U17+W17+Y17,2) -> 0
A18: 6.2. | B18: Pārējās projekta īstenošanas personāla izmaksas | C18: 0.85 | D18: =F18+G18 -> 0 | E18: =D18/$D$36 -> #DIV/0! | F18: =ROUND(H18+J18+L18+N18+P18+R18+T18+V18+X18,2) -> 0 | G18: =ROUND(I18+K18+M18+O18+Q18+S18+U18+W18+Y18,2) -> 0
A19: 6.3. | B19: Transportlīdzekļu izmaksas | C19: 0.85 | D19: =F19+G19 -> 0 | E19: =D19/$D$36 -> #DIV/0! | F19: =ROUND(H19+J19+L19+N19+P19+R19+T19+V19+X19,2) -> 0 | G19: =ROUND(I19+K19+M19+O19+Q19+S19+U19+W19+Y19,2) -> 0
A20: 6.4. | B20: Citas izmaksas | C20: 0.85 | D20: =F20+G20 -> 0 | E20: =D20/$D$36 -> #DIV/0! | F20: =ROUND(H20+J20+L20+N20+P20+R20+T20+V20+X20,2) -> 0 | G20: =ROUND(I20+K20+M20+O20+Q20+S20+U20+W20+Y20,2) -> 0
A21: 7 | B21: Būvniecības izmaksas | D21: =F21+G21 -> 0 | E21: =D21/$D$36 -> #DIV/0! | F21: =ROUND(H21+J21+L21+N21+P21+R21+T21+V21+X21,2) -> 0 | G21: =ROUND(I21+K21+M21+O21+Q21+S21+U21+W21+Y21,2) -> 0 | H21: =SUM(H22:H27) -> 0 | I21: =SUM(I22:I27) -> 0 | J21: =SUM(J22:J27) -> 0 | K21: =SUM(K22:K27) -> 0 | L21: =SUM(L22:L27) -> 0 | M21: =SUM(M22:M27) -> 0 | N21: =SUM(N22:N27) -> 0 | O21: =SUM(O22:O27) -> 0 | ... Y21: =SUM(Y22:Y27) -> 0
A22: 7.1. | B22: Projektēšanas izmaksas (de minimis) | C22: 1 | D22: =F22+G22 -> 0 | E22: =D22/$D$36 -> #DIV/0! | F22: =ROUND(H22+J22+L22+N22+P22+R22+T22+V22+X22,2) -> 0 | G22: =ROUND(I22+K22+M22+O22+Q22+S22+U22+W22+Y22,2) -> 0
A23: 7.2. | B23: Autoruzraudzības izmaksas | C23: 0.85 | D23: =F23+G23 -> 0 | E23: =D23/$D$36 -> #DIV/0! | F23: =ROUND(H23+J23+L23+N23+P23+R23+T23+V23+X23,2) -> 0 | G23: =ROUND(I23+K23+M23+O23+Q23+S23+U23+W23+Y23,2) -> 0
A24: 7.3. | B24: Būvuzraudzības izmaksas | C24: 0.85 | D24: =F24+G24 -> 0 | E24: =D24/$D$36 -> #DIV/0! | F24: =ROUND(H24+J24+L24+N24+P24+R24+T24+V24+X24,2) -> 0 | G24: =ROUND(I24+K24+M24+O24+Q24+S24+U24+W24+Y24,2) -> 0
A25: 7.4. | B25: Būvdarbu izmaksas (infrastruktūra, tai skaitā labiekārtošanas izmaksas) | C25: 0.85 | D25: =F25+G25 -> 0 | E25: =D25/$D$36 -> #DIV/0! | F25: =ROUND(H25+J25+L25+N25+P25+R25+T25+V25+X25,2) -> 0 | G25: =ROUND(I25+K25+M25+O25+Q25+S25+U25+W25+Y25,2) -> 0
A26: 7.5. | B26: Būvdarbu izmaksas (ēkas), tai skaitā labiekārtošanas izmaksas | C26: 0.85 | D26: =F26+G26 -> 0 | E26: =D26/$D$36 -> #DIV/0! | F26: =ROUND(H26+J26+L26+N26+P26+R26+T26+V26+X26,2) -> 0 | G26: =ROUND(I26+K26+M26+O26+Q26+S26+U26+W26+Y26,2) -> 0
A27: 7.6. | B27: Citas izmaksas | C27: 0.85 | D27: =F27+G27 -> 0 | E27: =D27/$D$36 -> #DIV/0! | F27: =ROUND(H27+J27+L27+N27+P27+R27+T27+V27+X27,2) -> 0 | G27: =ROUND(I27+K27+M27+O27+Q27+S27+U27+W27+Y27,2) -> 0
A28: 8 | B28: Patenti, licences utml. | C28: 0.85 | D28: =F28+G28 -> 0 | E28: =D28/$D$36 -> #DIV/0! | F28: =ROUND(H28+J28+L28+N28+P28+R28+T28+V28+X28,2) -> 0 | G28: =ROUND(I28+K28+M28+O28+Q28+S28+U28+W28+Y28,2) -> 0
A29: 9 | B29: Nekustamā īpašuma (piemēram, ēku un zemes) iegādes izmaksas | C29: 0.85 | D29: =F29+G29 -> 0 | E29: =D29/$D$36 -> #DIV/0! | F29: =ROUND(H29+J29+L29+N29+P29+R29+T29+V29+X29,2) -> 0 | G29: =ROUND(I29+K29+M29+O29+Q29+S29+U29+W29+Y29,2) -> 0
A30: 10 | B30: Informatīvo un publicitātes pasākumu izmaksas | C30: 0.85 | D30: =F30+G30 -> 0 | E30: =D30/$D$36 -> #DIV/0! | F30: =ROUND(H30+J30+L30+N30+P30+R30+T30+V30+X30,2) -> 0 | G30: =ROUND(I30+K30+M30+O30+Q30+S30+U30+W30+Y30,2) -> 0
A31: 11 | B31: Projekta iesnieguma un to pamatojošās dokumentācijas sagatavošanas izmaksas (de minimis) | C31: 1 | D31: =F31+G31 -> 0 | E31: =D31/$D$36 -> #DIV/0! | F31: =ROUND(H31+J31+L31+N31+P31+R31+T31+V31+X31,2) -> 0 | G31: =ROUND(I31+K31+M31+O31+Q31+S31+U31+W31+Y31,2) -> 0
A32: 12 | B32: Ieguldījumi natūrā | C32: 0.85 | D32: =F32+G32 -> 0 | E32: =D32/$D$36 -> #DIV/0! | F32: =ROUND(H32+J32+L32+N32+P32+R32+T32+V32+X32,2) -> 0 | G32: =ROUND(I32+K32+M32+O32+Q32+S32+U32+W32+Y32,2) -> 0
A33: 13 | B33: Pārējās projekta īstenošanas izmaksas | C33: 0.85 | D33: =F33+G33 -> 0 | E33: =D33/$D$36 -> #DIV/0! | F33: =ROUND(H33+J33+L33+N33+P33+R33+T33+V33+X33,2) -> 0 | G33: =ROUND(I33+K33+M33+O33+Q33+S33+U33+W33+Y33,2) -> 0
A34: 14 | B34: Vienreizējais maksājums | C34: 0.85 | D34: =F34+G34 -> 0 | E34: =D34/$D$36 -> #DIV/0! | F34: =ROUND(H34+J34+L34+N34+P34+R34+T34+V34+X34,2) -> 0 | G34: =ROUND(I34+K34+M34+O34+Q34+S34+U34+W34+Y34,2) -> 0
A35: 15 | B35: Neparedzētie izdevumi | C35: 0.85 | D35: =F35+G35 -> 0 | E35: =D35/$D$36 -> #DIV/0! | F35: =ROUND(H35+J35+L35+N35+P35+R35+T35+V35+X35,2) -> 0 | G35: =ROUND(I35+K35+M35+O35+Q35+S35+U35+W35+Y35,2) -> 0 | H35: 0 | J35: 0 | L35: 0 | N35: 0 | P35: 0 | R35: 0 | T35: 0 | V35: 0 | X35: 0
B36: KOPĀ | C36: 0.85 | D36: =F36+G36 -> 0 | E36: =D36/$D$36 -> #DIV/0! | F36: =F7+F8+F11+F14+F15+F16+F21+F28+F29+F30+F31+F32+F33+F34+F35 -> 0 | G36: =G7+G8+G11+G14+G15+G16+G21+G28+G29+G30+G31+G32+G33+G34+G35 -> 0 | H36: =H7+H8+H11+H14+H15+H16+H21+H28+H29+H30+H31+H32+H33+H34+H35 -> 0 | I36: =I7+I8+I11+I14+I15+I16+I21+I28+I29+I30+I31+I32+I33+I34+I35 -> 0 | J36: =J7+J8+J11+J14+J15+J16+J21+J28+J29+J30+J31+J32+J33+J34+J35 -> 0 | K36: =K7+K8+K11+K14+K15+K16+K21+K28+K29+K30+K31+K32+K33+K34+K35 -> 0 | L36: =L7+L8+L11+L14+L15+L16+L21+L28+L29+L30+L31+L32+L33+L34+L35 -> 0 | M36: =M7+M8+M11+M14+M15+M16+M21+M28+M29+M30+M31+M32+M33+M34+M35 -> 0 | ... Y36: =Y7+Y8+Y11+Y14+Y15+Y16+Y21+Y28+Y29+Y30+Y31+Y32+Y33+Y34+Y35 -> 0
B37: t.sk. PVN
B38: Investīciju izmaksas bez neparedzētajiem izdevumiem un neatt. PVN | H38: =H36-H35 -> 0 | I38: =I36-I35-I37 -> 0 | J38: =J36-J35 -> 0 | K38: =K36-K35-K37 -> 0 | L38: =L36-L35 -> 0 | M38: =M36-M35-M37 -> 0 | N38: =N36-N35 -> 0 | O38: =O36-O35 -> 0 | P38: =P36-P35 -> 0 | Q38: =Q36-Q35 -> 0 | R38: =R36-R35 -> 0 | S38: =S36-S35 -> 0 | T38: =T36-T35 -> 0 | U38: =U36-U35 -> 0 | ... Y38: =Y36-Y35 -> 0
B39: Investīciju izmaksas bez de minimis izmaksām | H39: =H36-H22-H31 -> 0 | I39: =I36-I22-I31 -> 0 | J39: =J36-J22-J31 -> 0 | K39: =K36-K22-K31 -> 0 | L39: =L36-L22-L31 -> 0 | M39: =M36-M22-M31 -> 0 | N39: =N36-N22-N31 -> 0 | O39: =O36-O22-O31 -> 0 | ... Y39: =Y36-Y22-Y31 -> 0
B40: De minimis | H40: =H22+H31 -> 0 | I40: =I22+I31 -> 0 | J40: =J22+J31 -> 0 | K40: =K22+K31 -> 0 | L40: =L22+L31 -> 0 | M40: =M22+M31 -> 0 | N40: =N22+N31 -> 0 | O40: =O22+O31 -> 0 | ... Y40: =Y22+Y31 -> 0

Sheet 1.2.2.C. Partneris-2
A1: DARBA LAPA Nr.1.2.2.C. | D1: Aizpilda par projekta iesniedzēja sadarbības partnera darbībām, kas IR saistītas ar valsts atbalstu (VTNP)
B3: Sadarbības partneris | K3: Valsts budžeta dotācijas īpatsvars (%): | P3: Saite valsts budžeta dotācijas noteikšanai (VARAM vietnē) | T3: Ja sadarbības partneris ir kapitālsabiedrība, vai pašvaldība sedz šo ieguldījumu līdzfinansējuma daļu: | AA3: =IF(X3="",0,IF(X3="Jā",2,1)) -> 0
A4: BUDŽETS (+)
A5: Nr. | B5: Izmaksu pozīcijas nosaukums | C5: Maksimālā ES fondu līdzfin. atbalsta likme (%) | D5: Kopējā summa | F5: Izmaksas kopā | H5: ='Dati par projektu'!E13 -> 2024 | J5: =IF(OR(H5>='Dati par projektu'!$C$17,H5="X"),"X",H5+1) -> 2025 | L5: =IF(OR(J5>='Dati par projektu'!$C$17,J5="X"),"X",J5+1) -> 2026 | N5: =IF(OR(L5>='Dati par projektu'!$C$17,L5="X"),"X",L5+1) -> 2027 | P5: =IF(OR(N5>='Dati par projektu'!$C$17,N5="X"),"X",N5+1) -> 2028 | R5: =IF(OR(P5>='Dati par projektu'!$C$17,P5="X"),"X",P5+1) -> 2029 | T5: =IF(OR(R5>='Dati par projektu'!$C$17,R5="X"),"X",R5+1) -> X | V5: =IF(OR(T5>='Dati par projektu'!$C$17,T5="X"),"X",T5+1) -> X | X5: =IF(OR(V5>='Dati par projektu'!$C$17,V5="X"),"X",V5+1) -> X | AV5: 0.55
B6: Projekta netiešās izmaksas kopā: | D6: EUR | E6: % | F6: attiecināmas | G6: neattiecināmas | H6: attiecināmas izmaksas | I6: neattiecināmas izmaksas | J6: attiecināmas izmaksas | K6: neattiecināmas izmaksas | L6: attiecināmas izmaksas | M6: neattiecināmas izmaksas | N6: attiecināmas izmaksas | O6: neattiecināmas izmaksas | P6: attiecināmas izmaksas | Q6: neattiecināmas izmaksas | R6: attiecināmas izmaksas | S6: neattiecināmas izmaksas | T6: attiecināmas izmaksas | U6: neattiecināmas izmaksas | V6: attiecināmas izmaksas | W6: neattiecināmas izmaksas | X6: attiecināmas izmaksas | Y6: neattiecināmas izmaksas | AV6: 0.45
A7: 1 | B7: Projekta izmaksas saskaņā ar vienoto izmaksu likmi (netiešās izmaksas) | C7: 0.85 | D7: =F7+G7 -> 0 | E7: =D7/$D$36 -> #DIV/0! | F7: =ROUND(H7+J7+L7+N7+P7+R7+T7+V7+X7,2) -> 0 | G7: =ROUND(I7+K7+M7+O7+Q7+S7+U7+W7+Y7,2) -> 0 | AV7: 0.35
A8: 2 | B8: Projekta vadības izmaksas | D8: =F8+G8 -> 0 | E8: =D8/$D$36 -> #DIV/0! | F8: =ROUND(H8+J8+L8+N8+P8+R8+T8+V8+X8,2) -> 0 | G8: =ROUND(I8+K8+M8+O8+Q8+S8+U8+W8+Y8,2) -> 0 | H8: =SUM(H9:H10) -> 0 | I8: =SUM(I9:I10) -> 0 | J8: =SUM(J9:J10) -> 0 | K8: =SUM(K9:K10) -> 0 | L8: =SUM(L9:L10) -> 0 | M8: =SUM(M9:M10) -> 0 | N8: =SUM(N9:N10) -> 0 | O8: =SUM(O9:O10) -> 0 | ... Y8: =SUM(Y9:Y10) -> 0
A9: 2.1. | B9: Projekta vadības personāla atlīdzības izmaksas | C9: 0.85 | D9: =F9+G9 -> 0 | E9: =D9/$D$36 -> #DIV/0! | F9: =ROUND(H9+J9+L9+N9+P9+R9+T9+V9+X9,2) -> 0 | G9: =ROUND(I9+K9+M9+O9+Q9+S9+U9+W9+Y9,2) -> 0
A10: 2.2. | B10: Pārējās vadības izmaksas | C10: 0.85 | D10: =F10+G10 -> 0 | E10: =D10/$D$36 -> #DIV/0! | F10: =ROUND(H10+J10+L10+N10+P10+R10+T10+V10+X10,2) -> 0 | G10: =ROUND(I10+K10+M10+O10+Q10+S10+U10+W10+Y10,2) -> 0
A11: 3 | B11: Projekta īstenošanas personāla izmaksas | D11: =F11+G11 -> 0 | E11: =D11/$D$36 -> #DIV/0! | F11: =ROUND(H11+J11+L11+N11+P11+R11+T11+V11+X11,2) -> 0 | G11: =ROUND(I11+K11+M11+O11+Q11+S11+U11+W11+Y11,2) -> 0 | H11: =SUM(H12:H13) -> 0 | I11: =SUM(I12:I13) -> 0 | J11: =SUM(J12:J13) -> 0 | K11: =SUM(K12:K13) -> 0 | L11: =SUM(L12:L13) -> 0 | M11: =SUM(M12:M13) -> 0 | N11: =SUM(N12:N13) -> 0 | O11: =SUM(O12:O13) -> 0 | ... Y11: =SUM(Y12:Y13) -> 0
A12: 3.1. | B12: Projekta īstenošanas personāla atlīdzības izmaksas | C12: 0.85 | D12: =F12+G12 -> 0 | E12: =D12/$D$36 -> #DIV/0! | F12: =ROUND(H12+J12+L12+N12+P12+R12+T12+V12+X12,2) -> 0 | G12: =ROUND(I12+K12+M12+O12+Q12+S12+U12+W12+Y12,2) -> 0
A13: 3.2. | B13: Pārējās projekta īstenošanas personāla izmaksas | C13: 0.85 | D13: =F13+G13 -> 0 | E13: =D13/$D$36 -> #DIV/0! | F13: =ROUND(H13+J13+L13+N13+P13+R13+T13+V13+X13,2) -> 0 | G13: =ROUND(I13+K13+M13+O13+Q13+S13+U13+W13+Y13,2) -> 0
A14: 4 | B14: Mērķa grupas nodrošinājuma izmaksas | C14: 0.85 | D14: =F14+G14 -> 0 | E14: =D14/$D$36 -> #DIV/0! | F14: =ROUND(H14+J14+L14+N14+P14+R14+T14+V14+X14,2) -> 0 | G14: =ROUND(I14+K14+M14+O14+Q14+S14+U14+W14+Y14,2) -> 0
A15: 5 | B15: Informācijas sistēmu izstrādes, ieviešanas un kvalitātes kontroles izmaksas | C15: 0.85 | D15: =F15+G15 -> 0 | E15: =D15/$D$36 -> #DIV/0! | F15: =ROUND(H15+J15+L15+N15+P15+R15+T15+V15+X15,2) -> 0 | G15: =ROUND(I15+K15+M15+O15+Q15+S15+U15+W15+Y15,2) -> 0
A16: 6 | B16: Materiālu, aprīkojuma un iekārtu izmaksas | D16: =F16+G16 -> 0 | E16: =D16/$D$36 -> #DIV/0! | F16: =ROUND(H16+J16+L16+N16+P16+R16+T16+V16+X16,2) -> 0 | G16: =ROUND(I16+K16+M16+O16+Q16+S16+U16+W16+Y16,2) -> 0 | H16: =SUM(H17:H20) -> 0 | I16: =SUM(I17:I20) -> 0 | J16: =SUM(J17:J20) -> 0 | K16: =SUM(K17:K20) -> 0 | L16: =SUM(L17:L20) -> 0 | M16: =SUM(M17:M20) -> 0 | N16: =SUM(N17:N20) -> 0 | O16: =SUM(O17:O20) -> 0 | ... Y16: =SUM(Y17:Y20) -> 0
A17: 6.1. | B17: Materiālu un izjevielu izmaksas | C17: 0.85 | D17: =F17+G17 -> 0 | E17: =D17/$D$36 -> #DIV/0! | F17: =ROUND(H17+J17+L17+N17+P17+R17+T17+V17+X17,2) -> 0 | G17: =ROUND(I17+K17+M17+O17+Q17+S17+U17+W17+Y17,2) -> 0
A18: 6.2. | B18: Pārējās projekta īstenošanas personāla izmaksas | C18: 0.85 | D18: =F18+G18 -> 0 | E18: =D18/$D$36 -> #DIV/0! | F18: =ROUND(H18+J18+L18+N18+P18+R18+T18+V18+X18,2) -> 0 | G18: =ROUND(I18+K18+M18+O18+Q18+S18+U18+W18+Y18,2) -> 0
A19: 6.3. | B19: Transportlīdzekļu izmaksas | C19: 0.85 | D19: =F19+G19 -> 0 | E19: =D19/$D$36 -> #DIV/0! | F19: =ROUND(H19+J19+L19+N19+P19+R19+T19+V19+X19,2) -> 0 | G19: =ROUND(I19+K19+M19+O19+Q19+S19+U19+W19+Y19,2) -> 0
A20: 6.4. | B20: Citas izmaksas | C20: 0.85 | D20: =F20+G20 -> 0 | E20: =D20/$D$36 -> #DIV/0! | F20: =ROUND(H20+J20+L20+N20+P20+R20+T20+V20+X20,2) -> 0 | G20: =ROUND(I20+K20+M20+O20+Q20+S20+U20+W20+Y20,2) -> 0
A21: 7 | B21: Būvniecības izmaksas | D21: =F21+G21 -> 0 | E21: =D21/$D$36 -> #DIV/0! | F21: =ROUND(H21+J21+L21+N21+P21+R21+T21+V21+X21,2) -> 0 | G21: =ROUND(I21+K21+M21+O21+Q21+S21+U21+W21+Y21,2) -> 0 | H21: =SUM(H22:H27) -> 0 | I21: =SUM(I22:I27) -> 0 | J21: =SUM(J22:J27) -> 0 | K21: =SUM(K22:K27) -> 0 | L21: =SUM(L22:L27) -> 0 | M21: =SUM(M22:M27) -> 0 | N21: =SUM(N22:N27) -> 0 | O21: =SUM(O22:O27) -> 0 | ... Y21: =SUM(Y22:Y27) -> 0
A22: 7.1. | B22: Projektēšanas izmaksas | C22: 0.85 | D22: =F22+G22 -> 0 | E22: =D22/$D$36 -> #DIV/0! | F22: =ROUND(H22+J22+L22+N22+P22+R22+T22+V22+X22,2) -> 0 | G22: =ROUND(I22+K22+M22+O22+Q22+S22+U22+W22+Y22,2) -> 0
A23: 7.2. | B23: Autoruzraudzības izmaksas | C23: 0.85 | D23: =F23+G23 -> 0 | E23: =D23/$D$36 -> #DIV/0! | F23: =ROUND(H23+J23+L23+N23+P23+R23+T23+V23+X23,2) -> 0 | G23: =ROUND(I23+K23+M23+O23+Q23+S23+U23+W23+Y23,2) -> 0
A24: 7.3. | B24: Būvuzraudzības izmaksas | C24: 0.85 | D24: =F24+G24 -> 0 | E24: =D24/$D$36 -> #DIV/0! | F24: =ROUND(H24+J24+L24+N24+P24+R24+T24+V24+X24,2) -> 0 | G24: =ROUND(I24+K24+M24+O24+Q24+S24+U24+W24+Y24,2) -> 0
A25: 7.4. | B25: Būvdarbu izmaksas (infrastruktūra, tai skaitā labiekārtošanas izmaksas) | C25: 0.85 | D25: =F25+G25 -> 0 | E25: =D25/$D$36 -> #DIV/0! | F25: =ROUND(H25+J25+L25+N25+P25+R25+T25+V25+X25,2) -> 0 | G25: =ROUND(I25+K25+M25+O25+Q25+S25+U25+W25+Y25,2) -> 0
A26: 7.5. | B26: Būvdarbu izmaksas (ēkas), tai skaitā labiekārtošanas izmaksas | C26: 0.85 | D26: =F26+G26 -> 0 | E26: =D26/$D$36 -> #DIV/0! | F26: =ROUND(H26+J26+L26+N26+P26+R26+T26+V26+X26,2) -> 0 | G26: =ROUND(I26+K26+M26+O26+Q26+S26+U26+W26+Y26,2) -> 0
A27: 7.6. | B27: Citas izmaksas | C27: 0.85 | D27: =F27+G27 -> 0 | E27: =D27/$D$36 -> #DIV/0! | F27: =ROUND(H27+J27+L27+N27+P27+R27+T27+V27+X27,2) -> 0 | G27: =ROUND(I27+K27+M27+O27+Q27+S27+U27+W27+Y27,2) -> 0
A28: 8 | B28: Patenti, licences utml. | C28: 0.85 | D28: =F28+G28 -> 0 | E28: =D28/$D$36 -> #DIV/0! | F28: =ROUND(H28+J28+L28+N28+P28+R28+T28+V28+X28,2) -> 0 | G28: =ROUND(I28+K28+M28+O28+Q28+S28+U28+W28+Y28,2) -> 0
A29: 9 | B29: Nekustamā īpašuma (piemēram, ēku un zemes) iegādes izmaksas | C29: 0.85 | D29: =F29+G29 -> 0 | E29: =D29/$D$36 -> #DIV/0! | F29: =ROUND(H29+J29+L29+N29+P29+R29+T29+V29+X29,2) -> 0 | G29: =ROUND(I29+K29+M29+O29+Q29+S29+U29+W29+Y29,2) -> 0
A30: 10 | B30: Informatīvo un publicitātes pasākumu izmaksas | C30: 0.85 | D30: =F30+G30 -> 0 | E30: =D30/$D$36 -> #DIV/0! | F30: =ROUND(H30+J30+L30+N30+P30+R30+T30+V30+X30,2) -> 0 | G30: =ROUND(I30+K30+M30+O30+Q30+S30+U30+W30+Y30,2) -> 0
A31: 11 | B31: Projekta iesnieguma un to pamatojošās dokumentācijas sagatavošanas izmaksas | C31: 0.85 | D31: =F31+G31 -> 0 | E31: =D31/$D$36 -> #DIV/0! | F31: =ROUND(H31+J31+L31+N31+P31+R31+T31+V31+X31,2) -> 0 | G31: =ROUND(I31+K31+M31+O31+Q31+S31+U31+W31+Y31,2) -> 0
A32: 12 | B32: Ieguldījumi natūrā | C32: 0.85 | D32: =F32+G32 -> 0 | E32: =D32/$D$36 -> #DIV/0! | F32: =ROUND(H32+J32+L32+N32+P32+R32+T32+V32+X32,2) -> 0 | G32: =ROUND(I32+K32+M32+O32+Q32+S32+U32+W32+Y32,2) -> 0
A33: 13 | B33: Pārējās projekta īstenošanas izmaksas | C33: 0.85 | D33: =F33+G33 -> 0 | E33: =D33/$D$36 -> #DIV/0! | F33: =ROUND(H33+J33+L33+N33+P33+R33+T33+V33+X33,2) -> 0 | G33: =ROUND(I33+K33+M33+O33+Q33+S33+U33+W33+Y33,2) -> 0
A34: 14 | B34: Vienreizējais maksājums | C34: 0.85 | D34: =F34+G34 -> 0 | E34: =D34/$D$36 -> #DIV/0! | F34: =ROUND(H34+J34+L34+N34+P34+R34+T34+V34+X34,2) -> 0 | G34: =ROUND(I34+K34+M34+O34+Q34+S34+U34+W34+Y34,2) -> 0
A35: 15 | B35: Neparedzētie izdevumi | C35: 0.85 | D35: =F35+G35 -> 0 | E35: =D35/$D$36 -> #DIV/0! | F35: =ROUND(H35+J35+L35+N35+P35+R35+T35+V35+X35,2) -> 0 | G35: =ROUND(I35+K35+M35+O35+Q35+S35+U35+W35+Y35,2) -> 0
B36: KOPĀ | C36: 0.85 | D36: =F36+G36 -> 0 | E36: =D36/$D$36 -> #DIV/0! | F36: =F7+F8+F11+F14+F15+F16+F21+F28+F29+F30+F31+F32+F33+F34+F35 -> 0 | G36: =G7+G8+G11+G14+G15+G16+G21+G28+G29+G30+G31+G32+G33+G34+G35 -> 0 | H36: =H7+H8+H11+H14+H15+H16+H21+H28+H29+H30+H31+H32+H33+H34+H35 -> 0 | I36: =I7+I8+I11+I14+I15+I16+I21+I28+I29+I30+I31+I32+I33+I34+I35 -> 0 | J36: =J7+J8+J11+J14+J15+J16+J21+J28+J29+J30+J31+J32+J33+J34+J35 -> 0 | K36: =K7+K8+K11+K14+K15+K16+K21+K28+K29+K30+K31+K32+K33+K34+K35 -> 0 | L36: =L7+L8+L11+L14+L15+L16+L21+L28+L29+L30+L31+L32+L33+L34+L35 -> 0 | M36: =M7+M8+M11+M14+M15+M16+M21+M28+M29+M30+M31+M32+M33+M34+M35 -> 0 | ... Y36: =Y7+Y8+Y11+Y14+Y15+Y16+Y21+Y28+Y29+Y30+Y31+Y32+Y33+Y34+Y35 -> 0
B37: t.sk. PVN
B38: Investīciju izmaksas bez neparedzētajiem izdevumiem un neatt. PVN | H38: =H36-H35 -> 0 | I38: =I36-I35-I37 -> 0 | J38: =J36-J35 -> 0 | K38: =K36-K35-K37 -> 0 | L38: =L36-L35 -> 0 | M38: =M36-M35-M37 -> 0 | N38: =N36-N35 -> 0 | O38: =O36-O35 -> 0 | P38: =P36-P35 -> 0 | Q38: =Q36-Q35 -> 0 | R38: =R36-R35 -> 0 | S38: =S36-S35 -> 0 | T38: =T36-T35 -> 0 | U38: =U36-U35 -> 0 | ... Y38: =Y36-Y35 -> 0

Sheet 1.3.1. Partneris-kom.-1
A1: DARBA LAPA Nr.1.3.1. | D1: Aizpilda par sadarbības partnera - privātā komersanta darbībām
B3: Sadarbības partneris
A4: BUDŽETS (+)
A5: Nr. | B5: Izmaksu pozīcijas nosaukums | C5: Maksimālā ES fondu līdzfin. atbalsta likme (%) | D5: Kopējā summa | F5: Izmaksas kopā | H5: ='Dati par projektu'!E13 -> 2024 | J5: =IF(OR(H5>='Dati par projektu'!$C$17,H5="X"),"X",H5+1) -> 2025 | L5: =IF(OR(J5>='Dati par projektu'!$C$17,J5="X"),"X",J5+1) -> 2026 | N5: =IF(OR(L5>='Dati par projektu'!$C$17,L5="X"),"X",L5+1) -> 2027 | P5: =IF(OR(N5>='Dati par projektu'!$C$17,N5="X"),"X",N5+1) -> 2028 | R5: =IF(OR(P5>='Dati par projektu'!$C$17,P5="X"),"X",P5+1) -> 2029 | T5: =IF(OR(R5>='Dati par projektu'!$C$17,R5="X"),"X",R5+1) -> X | V5: =IF(OR(T5>='Dati par projektu'!$C$17,T5="X"),"X",T5+1) -> X | X5: =IF(OR(V5>='Dati par projektu'!$C$17,V5="X"),"X",V5+1) -> X | AV5: 0.55
B6: Projekta netiešās izmaksas kopā: | D6: EUR | E6: % | F6: attiecināmas | G6: neattiecināmas | H6: attiecināmas izmaksas | I6: neattiecināmas izmaksas | J6: attiecināmas izmaksas | K6: neattiecināmas izmaksas | L6: attiecināmas izmaksas | M6: neattiecināmas izmaksas | N6: attiecināmas izmaksas | O6: neattiecināmas izmaksas | P6: attiecināmas izmaksas | Q6: neattiecināmas izmaksas | R6: attiecināmas izmaksas | S6: neattiecināmas izmaksas | T6: attiecināmas izmaksas | U6: neattiecināmas izmaksas | V6: attiecināmas izmaksas | W6: neattiecināmas izmaksas | X6: attiecināmas izmaksas | Y6: neattiecināmas izmaksas | AV6: 0.45
A7: 1 | B7: Projekta izmaksas saskaņā ar vienoto izmaksu likmi (netiešās izmaksas) | C7: 0.45 | D7: =F7+G7 -> 0 | E7: =D7/$D$36 -> #DIV/0! | F7: =ROUND(H7+J7+L7+N7+P7+R7+T7+V7+X7,2) -> 0 | G7: =ROUND(I7+K7+M7+O7+Q7+S7+U7+W7+Y7,2) -> 0 | AV7: 0.35
A8: 2 | B8: Projekta vadības izmaksas | D8: =F8+G8 -> 0 | E8: =D8/$D$36 -> #DIV/0! | F8: =ROUND(H8+J8+L8+N8+P8+R8+T8+V8+X8,2) -> 0 | G8: =ROUND(I8+K8+M8+O8+Q8+S8+U8+W8+Y8,2) -> 0 | H8: =SUM(H9:H10) -> 0 | I8: =SUM(I9:I10) -> 0 | J8: =SUM(J9:J10) -> 0 | K8: =SUM(K9:K10) -> 0 | L8: =SUM(L9:L10) -> 0 | M8: =SUM(M9:M10) -> 0 | N8: =SUM(N9:N10) -> 0 | O8: =SUM(O9:O10) -> 0 | ... Y8: =SUM(Y9:Y10) -> 0
A9: 2.1. | B9: Projekta vadības personāla atlīdzības izmaksas | C9: 0.45 | D9: =F9+G9 -> 0 | E9: =D9/$D$36 -> #DIV/0! | F9: =ROUND(H9+J9+L9+N9+P9+R9+T9+V9+X9,2) -> 0 | G9: =ROUND(I9+K9+M9+O9+Q9+S9+U9+W9+Y9,2) -> 0
A10: 2.2. | B10: Pārējās vadības izmaksas | C10: 0.45 | D10: =F10+G10 -> 0 | E10: =D10/$D$36 -> #DIV/0! | F10: =ROUND(H10+J10+L10+N10+P10+R10+T10+V10+X10,2) -> 0 | G10: =ROUND(I10+K10+M10+O10+Q10+S10+U10+W10+Y10,2) -> 0 | H10: 0 | I10: 0 | J10: 0 | K10: 0 | L10: 0 | M10: 0 | N10: 0 | O10: 0 | P10: 0 | Q10: 0 | R10: 0 | S10: 0 | T10: 0 | U10: 0 | V10: 0 | W10: 0 | X10: 0 | Y10: 0
A11: 3 | B11: Projekta īstenošanas personāla izmaksas | D11: =F11+G11 -> 0 | E11: =D11/$D$36 -> #DIV/0! | F11: =ROUND(H11+J11+L11+N11+P11+R11+T11+V11+X11,2) -> 0 | G11: =ROUND(I11+K11+M11+O11+Q11+S11+U11+W11+Y11,2) -> 0 | H11: =SUM(H12:H13) -> 0 | I11: =SUM(I12:I13) -> 0 | J11: =SUM(J12:J13) -> 0 | K11: =SUM(K12:K13) -> 0 | L11: =SUM(L12:L13) -> 0 | M11: =SUM(M12:M13) -> 0 | N11: =SUM(N12:N13) -> 0 | O11: =SUM(O12:O13) -> 0 | ... Y11: =SUM(Y12:Y13) -> 0
A12: 3.1. | B12: Projekta īstenošanas personāla atlīdzības izmaksas | C12: 0.45 | D12: =F12+G12 -> 0 | E12: =D12/$D$36 -> #DIV/0! | F12: =ROUND(H12+J12+L12+N12+P12+R12+T12+V12+X12,2) -> 0 | G12: =ROUND(I12+K12+M12+O12+Q12+S12+U12+W12+Y12,2) -> 0
A13: 3.2. | B13: Pārējās projekta īstenošanas personāla izmaksas | C13: 0.45 | D13: =F13+G13 -> 0 | E13: =D13/$D$36 -> #DIV/0! | F13: =ROUND(H13+J13+L13+N13+P13+R13+T13+V13+X13,2) -> 0 | G13: =ROUND(I13+K13+M13+O13+Q13+S13+U13+W13+Y13,2) -> 0
A14: 4 | B14: Mērķa grupas nodrošinājuma izmaksas | C14: 0.45 | D14: =F14+G14 -> 0 | E14: =D14/$D$36 -> #DIV/0! | F14: =ROUND(H14+J14+L14+N14+P14+R14+T14+V14+X14,2) -> 0 | G14: =ROUND(I14+K14+M14+O14+Q14+S14+U14+W14+Y14,2) -> 0
A15: 5 | B15: Informācijas sistēmu izstrādes, ieviešanas un kvalitātes kontroles izmaksas | C15: 0.45 | D15: =F15+G15 -> 0 | E15: =D15/$D$36 -> #DIV/0! | F15: =ROUND(H15+J15+L15+N15+P15+R15+T15+V15+X15,2) -> 0 | G15: =ROUND(I15+K15+M15+O15+Q15+S15+U15+W15+Y15,2) -> 0
A16: 6 | B16: Materiālu, aprīkojuma un iekārtu izmaksas | D16: =F16+G16 -> 0 | E16: =D16/$D$36 -> #DIV/0! | F16: =ROUND(H16+J16+L16+N16+P16+R16+T16+V16+X16,2) -> 0 | G16: =ROUND(I16+K16+M16+O16+Q16+S16+U16+W16+Y16,2) -> 0 | H16: =SUM(H17:H20) -> 0 | I16: =SUM(I17:I20) -> 0 | J16: =SUM(J17:J20) -> 0 | K16: =SUM(K17:K20) -> 0 | L16: =SUM(L17:L20) -> 0 | M16: =SUM(M17:M20) -> 0 | N16: =SUM(N17:N20) -> 0 | O16: =SUM(O17:O20) -> 0 | ... Y16: =SUM(Y17:Y20) -> 0
A17: 6.1. | B17: Materiālu un izjevielu izmaksas | C17: 0.45 | D17: =F17+G17 -> 0 | E17: =D17/$D$36 -> #DIV/0! | F17: =ROUND(H17+J17+L17+N17+P17+R17+T17+V17+X17,2) -> 0 | G17: =ROUND(I17+K17+M17+O17+Q17+S17+U17+W17+Y17,2) -> 0
A18: 6.2. | B18: Pārējās projekta īstenošanas personāla izmaksas | C18: 0.45 | D18: =F18+G18 -> 0 | E18: =D18/$D$36 -> #DIV/0! | F18: =ROUND(H18+J18+L18+N18+P18+R18+T18+V18+X18,2) -> 0 | G18: =ROUND(I18+K18+M18+O18+Q18+S18+U18+W18+Y18,2) -> 0
A19: 6.3. | B19: Transportlīdzekļu izmaksas | C19: 0.45 | D19: =F19+G19 -> 0 | E19: =D19/$D$36 -> #DIV/0! | F19: =ROUND(H19+J19+L19+N19+P19+R19+T19+V19+X19,2) -> 0 | G19: =ROUND(I19+K19+M19+O19+Q19+S19+U19+W19+Y19,2) -> 0
A20: 6.4. | B20: Citas izmaksas | C20: 0.45 | D20: =F20+G20 -> 0 | E20: =D20/$D$36 -> #DIV/0! | F20: =ROUND(H20+J20+L20+N20+P20+R20+T20+V20+X20,2) -> 0 | G20: =ROUND(I20+K20+M20+O20+Q20+S20+U20+W20+Y20,2) -> 0
A21: 7 | B21: Būvniecības izmaksas | D21: =F21+G21 -> 0 | E21: =D21/$D$36 -> #DIV/0! | F21: =ROUND(H21+J21+L21+N21+P21+R21+T21+V21+X21,2) -> 0 | G21: =ROUND(I21+K21+M21+O21+Q21+S21+U21+W21+Y21,2) -> 0 | H21: =SUM(H22:H27) -> 0 | I21: =SUM(I22:I27) -> 0 | J21: =SUM(J22:J27) -> 0 | K21: =SUM(K22:K27) -> 0 | L21: =SUM(L22:L27) -> 0 | M21: =SUM(M22:M27) -> 0 | N21: =SUM(N22:N27) -> 0 | O21: =SUM(O22:O27) -> 0 | ... Y21: =SUM(Y22:Y27) -> 0
A22: 7.1. | B22: Projektēšanas izmaksas (de minimis) | C22: 1 | D22: =F22+G22 -> 0 | E22: =D22/$D$36 -> #DIV/0! | F22: =ROUND(H22+J22+L22+N22+P22+R22+T22+V22+X22,2) -> 0 | G22: =ROUND(I22+K22+M22+O22+Q22+S22+U22+W22+Y22,2) -> 0
A23: 7.2. | B23: Autoruzraudzības izmaksas | C23: 0.45 | D23: =F23+G23 -> 0 | E23: =D23/$D$36 -> #DIV/0! | F23: =ROUND(H23+J23+L23+N23+P23+R23+T23+V23+X23,2) -> 0 | G23: =ROUND(I23+K23+M23+O23+Q23+S23+U23+W23+Y23,2) -> 0
A24: 7.3. | B24: Būvuzraudzības izmaksas | C24: 0.45 | D24: =F24+G24 -> 0 | E24: =D24/$D$36 -> #DIV/0! | F24: =ROUND(H24+J24+L24+N24+P24+R24+T24+V24+X24,2) -> 0 | G24: =ROUND(I24+K24+M24+O24+Q24+S24+U24+W24+Y24,2) -> 0
A25: 7.4. | B25: Būvdarbu izmaksas (infrastruktūra, tai skaitā labiekārtošanas izmaksas) | C25: 0.45 | D25: =F25+G25 -> 0 | E25: =D25/$D$36 -> #DIV/0! | F25: =ROUND(H25+J25+L25+N25+P25+R25+T25+V25+X25,2) -> 0 | G25: =ROUND(I25+K25+M25+O25+Q25+S25+U25+W25+Y25,2) -> 0
A26: 7.5. | B26: Būvdarbu izmaksas (ēkas), tai skaitā labiekārtošanas izmaksas | C26: 0.45 | D26: =F26+G26 -> 0 | E26: =D26/$D$36 -> #DIV/0! | F26: =ROUND(H26+J26+L26+N26+P26+R26+T26+V26+X26,2) -> 0 | G26: =ROUND(I26+K26+M26+O26+Q26+S26+U26+W26+Y26,2) -> 0
A27: 7.6. | B27: Citas izmaksas | C27: 0.45 | D27: =F27+G27 -> 0 | E27: =D27/$D$36 -> #DIV/0! | F27: =ROUND(H27+J27+L27+N27+P27+R27+T27+V27+X27,2) -> 0 | G27: =ROUND(I27+K27+M27+O27+Q27+S27+U27+W27+Y27,2) -> 0
A28: 8 | B28: Patenti, licences utml. | C28: 0.45 | D28: =F28+G28 -> 0 | E28: =D28/$D$36 -> #DIV/0! | F28: =ROUND(H28+J28+L28+N28+P28+R28+T28+V28+X28,2) -> 0 | G28: =ROUND(I28+K28+M28+O28+Q28+S28+U28+W28+Y28,2) -> 0
A29: 9 | B29: Nekustamā īpašuma (piemēram, ēku un zemes) iegādes izmaksas | C29: 0.45 | D29: =F29+G29 -> 0 | E29: =D29/$D$36 -> #DIV/0! | F29: =ROUND(H29+J29+L29+N29+P29+R29+T29+V29+X29,2) -> 0 | G29: =ROUND(I29+K29+M29+O29+Q29+S29+U29+W29+Y29,2) -> 0 | H29: 0 | J29: 0 | L29: 0 | N29: 0 | P29: 0 | R29: 0 | T29: 0 | V29: 0 | X29: 0
A30: 10 | B30: Informatīvo un publicitātes pasākumu izmaksas | C30: 0.45 | D30: =F30+G30 -> 0 | E30: =D30/$D$36 -> #DIV/0! | F30: =ROUND(H30+J30+L30+N30+P30+R30+T30+V30+X30,2) -> 0 | G30: =ROUND(I30+K30+M30+O30+Q30+S30+U30+W30+Y30,2) -> 0 | H30: 0 | J30: 0 | L30: 0 | N30: 0 | P30: 0 | R30: 0 | T30: 0 | V30: 0 | X30: 0
A31: 11 | B31: Projekta iesnieguma un to pamatojošās dokumentācijas sagatavošanas izmaksas (de minimis) | C31: 1 | D31: =F31+G31 -> 0 | E31: =D31/$D$36 -> #DIV/0! | F31: =ROUND(H31+J31+L31+N31+P31+R31+T31+V31+X31,2) -> 0 | G31: =ROUND(I31+K31+M31+O31+Q31+S31+U31+W31+Y31,2) -> 0
A32: 12 | B32: Ieguldījumi natūrā | C32: 0.45 | D32: =F32+G32 -> 0 | E32: =D32/$D$36 -> #DIV/0! | F32: =ROUND(H32+J32+L32+N32+P32+R32+T32+V32+X32,2) -> 0 | G32: =ROUND(I32+K32+M32+O32+Q32+S32+U32+W32+Y32,2) -> 0
A33: 13 | B33: Pārējās projekta īstenošanas izmaksas | C33: 0.45 | D33: =F33+G33 -> 0 | E33: =D33/$D$36 -> #DIV/0! | F33: =ROUND(H33+J33+L33+N33+P33+R33+T33+V33+X33,2) -> 0 | G33: =ROUND(I33+K33+M33+O33+Q33+S33+U33+W33+Y33,2) -> 0 | H33: 0 | J33: 0 | L33: 0 | N33: 0 | P33: 0 | R33: 0 | T33: 0 | V33: 0 | X33: 0
A34: 14 | B34: Vienreizējais maksājums | C34: 0.45 | D34: =F34+G34 -> 0 | E34: =D34/$D$36 -> #DIV/0! | F34: =ROUND(H34+J34+L34+N34+P34+R34+T34+V34+X34,2) -> 0 | G34: =ROUND(I34+K34+M34+O34+Q34+S34+U34+W34+Y34,2) -> 0
A35: 15 | B35: Neparedzētie izdevumi | C35: 0.45 | D35: =F35+G35 -> 0 | E35: =D35/$D$36 -> #DIV/0! | F35: =ROUND(H35+J35+L35+N35+P35+R35+T35+V35+X35,2) -> 0 | G35: =ROUND(I35+K35+M35+O35+Q35+S35+U35+W35+Y35,2) -> 0 | H35: 0 | J35: 0 | L35: 0 | N35: 0 | P35: 0 | R35: 0 | T35: 0 | V35: 0 | X35: 0
B36: KOPĀ | D36: =F36+G36 -> 0 | E36: =D36/$D$36 -> #DIV/0! | F36: =F7+F8+F11+F14+F15+F16+F21+F28+F29+F30+F31+F32+F33+F34+F35 -> 0 | G36: =G7+G8+G11+G14+G15+G16+G21+G28+G29+G30+G31+G32+G33+G34+G35 -> 0 | H36: =H7+H8+H11+H14+H15+H16+H21+H28+H29+H30+H31+H32+H33+H34+H35 -> 0 | I36: =I7+I8+I11+I14+I15+I16+I21+I28+I29+I30+I31+I32+I33+I34+I35 -> 0 | J36: =J7+J8+J11+J14+J15+J16+J21+J28+J29+J30+J31+J32+J33+J34+J35 -> 0 | K36: =K7+K8+K11+K14+K15+K16+K21+K28+K29+K30+K31+K32+K33+K34+K35 -> 0 | L36: =L7+L8+L11+L14+L15+L16+L21+L28+L29+L30+L31+L32+L33+L34+L35 -> 0 | M36: =M7+M8+M11+M14+M15+M16+M21+M28+M29+M30+M31+M32+M33+M34+M35 -> 0 | ... Y36: =Y7+Y8+Y11+Y14+Y15+Y16+Y21+Y28+Y29+Y30+Y31+Y32+Y33+Y34+Y35 -> 0
B37: t.sk. PVN
B38: Investīciju izmaksas bez neparedzētajiem izdevumiem un neatt. PVN | H38: =H36-H35 -> 0 | I38: =I36-I35-I37 -> 0 | J38: =J36-J35 -> 0 | K38: =K36-K35-K37 -> 0 | L38: =L36-L35 -> 0 | M38: =M36-M35-M37 -> 0 | N38: =N36-N35 -> 0 | O38: =O36-O35 -> 0 | P38: =P36-P35 -> 0 | Q38: =Q36-Q35 -> 0 | R38: =R36-R35 -> 0 | S38: =S36-S35 -> 0 | T38: =T36-T35 -> 0 | U38: =U36-U35 -> 0 | ... Y38: =Y36-Y35 -> 0
B39: Investīciju izmaksas bez de minimis izmaksām | H39: =H36-H22-H31 -> 0 | I39: =I36-I22-I31 -> 0 | J39: =J36-J22-J31 -> 0 | K39: =K36-K22-K31 -> 0 | L39: =L36-L22-L31 -> 0 | M39: =M36-M22-M31 -> 0 | N39: =N36-N22-N31 -> 0 | O39: =O36-O22-O31 -> 0 | ... Y39: =Y36-Y22-Y31 -> 0
B40: De minimis | H40: =H22+H31 -> 0 | I40: =I22+I31 -> 0 | J40: =J22+J31 -> 0 | K40: =K22+K31 -> 0 | L40: =L22+L31 -> 0 | M40: =M22+M31 -> 0 | N40: =N22+N31 -> 0 | O40: =O22+O31 -> 0 | ... Y40: =Y22+Y31 -> 0

Sheet 1.3.2. Partneris-kom.-2
A1: DARBA LAPA Nr.1.3.2. | D1: Aizpilda par sadarbības partnera - privātā komersanta darbībām
B3: Sadarbības partneris
A4: BUDŽETS (+)
A5: Nr. | B5: Izmaksu pozīcijas nosaukums | C5: Maksimālā ES fondu līdzfin. atbalsta likme (%) | D5: Kopējā summa | F5: Izmaksas kopā | H5: ='Dati par projektu'!E13 -> 2024 | J5: =IF(OR(H5>='Dati par projektu'!$C$17,H5="X"),"X",H5+1) -> 2025 | L5: =IF(OR(J5>='Dati par projektu'!$C$17,J5="X"),"X",J5+1) -> 2026 | N5: =IF(OR(L5>='Dati par projektu'!$C$17,L5="X"),"X",L5+1) -> 2027 | P5: =IF(OR(N5>='Dati par projektu'!$C$17,N5="X"),"X",N5+1) -> 2028 | R5: =IF(OR(P5>='Dati par projektu'!$C$17,P5="X"),"X",P5+1) -> 2029 | T5: =IF(OR(R5>='Dati par projektu'!$C$17,R5="X"),"X",R5+1) -> X | V5: =IF(OR(T5>='Dati par projektu'!$C$17,T5="X"),"X",T5+1) -> X | X5: =IF(OR(V5>='Dati par projektu'!$C$17,V5="X"),"X",V5+1) -> X | AV5: 0.55
B6: Projekta netiešās izmaksas kopā: | D6: EUR | E6: % | F6: attiecināmas | G6: neattiecināmas | H6: attiecināmas izmaksas | I6: neattiecināmas izmaksas | J6: attiecināmas izmaksas | K6: neattiecināmas izmaksas | L6: attiecināmas izmaksas | M6: neattiecināmas izmaksas | N6: attiecināmas izmaksas | O6: neattiecināmas izmaksas | P6: attiecināmas izmaksas | Q6: neattiecināmas izmaksas | R6: attiecināmas izmaksas | S6: neattiecināmas izmaksas | T6: attiecināmas izmaksas | U6: neattiecināmas izmaksas | V6: attiecināmas izmaksas | W6: neattiecināmas izmaksas | X6: attiecināmas izmaksas | Y6: neattiecināmas izmaksas | AV6: 0.45
A7: 1 | B7: Projekta izmaksas saskaņā ar vienoto izmaksu likmi (netiešās izmaksas) | C7: 0.45 | D7: =F7+G7 -> 0 | E7: =D7/$D$36 -> #DIV/0! | F7: =ROUND(H7+J7+L7+N7+P7+R7+T7+V7+X7,2) -> 0 | G7: =ROUND(I7+K7+M7+O7+Q7+S7+U7+W7+Y7,2) -> 0 | AV7: 0.35
A8: 2 | B8: Projekta vadības izmaksas | D8: =F8+G8 -> 0 | E8: =D8/$D$36 -> #DIV/0! | F8: =ROUND(H8+J8+L8+N8+P8+R8+T8+V8+X8,2) -> 0 | G8: =ROUND(I8+K8+M8+O8+Q8+S8+U8+W8+Y8,2) -> 0 | H8: =SUM(H9:H10) -> 0 | I8: =SUM(I9:I10) -> 0 | J8: =SUM(J9:J10) -> 0 | K8: =SUM(K9:K10) -> 0 | L8: =SUM(L9:L10) -> 0 | M8: =SUM(M9:M10) -> 0 | N8: =SUM(N9:N10) -> 0 | O8: =SUM(O9:O10) -> 0 | ... Y8: =SUM(Y9:Y10) -> 0
A9: 2.1. | B9: Projekta vadības personāla atlīdzības izmaksas | C9: 0.45 | D9: =F9+G9 -> 0 | E9: =D9/$D$36 -> #DIV/0! | F9: =ROUND(H9+J9+L9+N9+P9+R9+T9+V9+X9,2) -> 0 | G9: =ROUND(I9+K9+M9+O9+Q9+S9+U9+W9+Y9,2) -> 0
A10: 2.2. | B10: Pārējās vadības izmaksas | C10: 0.45 | D10: =F10+G10 -> 0 | E10: =D10/$D$36 -> #DIV/0! | F10: =ROUND(H10+J10+L10+N10+P10+R10+T10+V10+X10,2) -> 0 | G10: =ROUND(I10+K10+M10+O10+Q10+S10+U10+W10+Y10,2) -> 0 | H10: 0 | I10: 0 | J10: 0 | K10: 0 | L10: 0 | M10: 0 | N10: 0 | O10: 0 | P10: 0 | Q10: 0 | R10: 0 | S10: 0 | T10: 0 | U10: 0 | V10: 0 | W10: 0 | X10: 0 | Y10: 0
A11: 3 | B11: Projekta īstenošanas personāla izmaksas | D11: =F11+G11 -> 0 | E11: =D11/$D$36 -> #DIV/0! | F11: =ROUND(H11+J11+L11+N11+P11+R11+T11+V11+X11,2) -> 0 | G11: =ROUND(I11+K11+M11+O11+Q11+S11+U11+W11+Y11,2) -> 0 | H11: =SUM(H12:H13) -> 0 | I11: =SUM(I12:I13) -> 0 | J11: =SUM(J12:J13) -> 0 | K11: =SUM(K12:K13) -> 0 | L11: =SUM(L12:L13) -> 0 | M11: =SUM(M12:M13) -> 0 | N11: =SUM(N12:N13) -> 0 | O11: =SUM(O12:O13) -> 0 | ... Y11: =SUM(Y12:Y13) -> 0
A12: 3.1. | B12: Projekta īstenošanas personāla atlīdzības izmaksas | C12: 0.45 | D12: =F12+G12 -> 0 | E12: =D12/$D$36 -> #DIV/0! | F12: =ROUND(H12+J12+L12+N12+P12+R12+T12+V12+X12,2) -> 0 | G12: =ROUND(I12+K12+M12+O12+Q12+S12+U12+W12+Y12,2) -> 0
A13: 3.2. | B13: Pārējās projekta īstenošanas personāla izmaksas | C13: 0.45 | D13: =F13+G13 -> 0 | E13: =D13/$D$36 -> #DIV/0! | F13: =ROUND(H13+J13+L13+N13+P13+R13+T13+V13+X13,2) -> 0 | G13: =ROUND(I13+K13+M13+O13+Q13+S13+U13+W13+Y13,2) -> 0
A14: 4 | B14: Mērķa grupas nodrošinājuma izmaksas | C14: 0.45 | D14: =F14+G14 -> 0 | E14: =D14/$D$36 -> #DIV/0! | F14: =ROUND(H14+J14+L14+N14+P14+R14+T14+V14+X14,2) -> 0 | G14: =ROUND(I14+K14+M14+O14+Q14+S14+U14+W14+Y14,2) -> 0
A15: 5 | B15: Informācijas sistēmu izstrādes, ieviešanas un kvalitātes kontroles izmaksas | C15: 0.45 | D15: =F15+G15 -> 0 | E15: =D15/$D$36 -> #DIV/0! | F15: =ROUND(H15+J15+L15+N15+P15+R15+T15+V15+X15,2) -> 0 | G15: =ROUND(I15+K15+M15+O15+Q15+S15+U15+W15+Y15,2) -> 0
A16: 6 | B16: Materiālu, aprīkojuma un iekārtu izmaksas | D16: =F16+G16 -> 0 | E16: =D16/$D$36 -> #DIV/0! | F16: =ROUND(H16+J16+L16+N16+P16+R16+T16+V16+X16,2) -> 0 | G16: =ROUND(I16+K16+M16+O16+Q16+S16+U16+W16+Y16,2) -> 0 | H16: =SUM(H17:H20) -> 0 | I16: =SUM(I17:I20) -> 0 | J16: =SUM(J17:J20) -> 0 | K16: =SUM(K17:K20) -> 0 | L16: =SUM(L17:L20) -> 0 | M16: =SUM(M17:M20) -> 0 | N16: =SUM(N17:N20) -> 0 | O16: =SUM(O17:O20) -> 0 | ... Y16: =SUM(Y17:Y20) -> 0
A17: 6.1. | B17: Materiālu un izjevielu izmaksas | C17: 0.45 | D17: =F17+G17 -> 0 | E17: =D17/$D$36 -> #DIV/0! | F17: =ROUND(H17+J17+L17+N17+P17+R17+T17+V17+X17,2) -> 0 | G17: =ROUND(I17+K17+M17+O17+Q17+S17+U17+W17+Y17,2) -> 0
A18: 6.2. | B18: Pārējās projekta īstenošanas personāla izmaksas | C18: 0.45 | D18: =F18+G18 -> 0 | E18: =D18/$D$36 -> #DIV/0! | F18: =ROUND(H18+J18+L18+N18+P18+R18+T18+V18+X18,2) -> 0 | G18: =ROUND(I18+K18+M18+O18+Q18+S18+U18+W18+Y18,2) -> 0
A19: 6.3. | B19: Transportlīdzekļu izmaksas | C19: 0.45 | D19: =F19+G19 -> 0 | E19: =D19/$D$36 -> #DIV/0! | F19: =ROUND(H19+J19+L19+N19+P19+R19+T19+V19+X19,2) -> 0 | G19: =ROUND(I19+K19+M19+O19+Q19+S19+U19+W19+Y19,2) -> 0
A20: 6.4. | B20: Citas izmaksas | C20: 0.45 | D20: =F20+G20 -> 0 | E20: =D20/$D$36 -> #DIV/0! | F20: =ROUND(H20+J20+L20+N20+P20+R20+T20+V20+X20,2) -> 0 | G20: =ROUND(I20+K20+M20+O20+Q20+S20+U20+W20+Y20,2) -> 0
A21: 7 | B21: Būvniecības izmaksas | D21: =F21+G21 -> 0 | E21: =D21/$D$36 -> #DIV/0! | F21: =ROUND(H21+J21+L21+N21+P21+R21+T21+V21+X21,2) -> 0 | G21: =ROUND(I21+K21+M21+O21+Q21+S21+U21+W21+Y21,2) -> 0 | H21: =SUM(H22:H27) -> 0 | I21: =SUM(I22:I27) -> 0 | J21: =SUM(J22:J27) -> 0 | K21: =SUM(K22:K27) -> 0 | L21: =SUM(L22:L27) -> 0 | M21: =SUM(M22:M27) -> 0 | N21: =SUM(N22:N27) -> 0 | O21: =SUM(O22:O27) -> 0 | ... Y21: =SUM(Y22:Y27) -> 0
A22: 7.1. | B22: Projektēšanas izmaksas (de minimis) | C22: 1 | D22: =F22+G22 -> 0 | E22: =D22/$D$36 -> #DIV/0! | F22: =ROUND(H22+J22+L22+N22+P22+R22+T22+V22+X22,2) -> 0 | G22: =ROUND(I22+K22+M22+O22+Q22+S22+U22+W22+Y22,2) -> 0
A23: 7.2. | B23: Autoruzraudzības izmaksas | C23: 0.45 | D23: =F23+G23 -> 0 | E23: =D23/$D$36 -> #DIV/0! | F23: =ROUND(H23+J23+L23+N23+P23+R23+T23+V23+X23,2) -> 0 | G23: =ROUND(I23+K23+M23+O23+Q23+S23+U23+W23+Y23,2) -> 0
A24: 7.3. | B24: Būvuzraudzības izmaksas | C24: 0.45 | D24: =F24+G24 -> 0 | E24: =D24/$D$36 -> #DIV/0! | F24: =ROUND(H24+J24+L24+N24+P24+R24+T24+V24+X24,2) -> 0 | G24: =ROUND(I24+K24+M24+O24+Q24+S24+U24+W24+Y24,2) -> 0
A25: 7.4. | B25: Būvdarbu izmaksas (infrastruktūra, tai skaitā labiekārtošanas izmaksas) | C25: 0.45 | D25: =F25+G25 -> 0 | E25: =D25/$D$36 -> #DIV/0! | F25: =ROUND(H25+J25+L25+N25+P25+R25+T25+V25+X25,2) -> 0 | G25: =ROUND(I25+K25+M25+O25+Q25+S25+U25+W25+Y25,2) -> 0
A26: 7.5. | B26: Būvdarbu izmaksas (ēkas), tai skaitā labiekārtošanas izmaksas | C26: 0.45 | D26: =F26+G26 -> 0 | E26: =D26/$D$36 -> #DIV/0! | F26: =ROUND(H26+J26+L26+N26+P26+R26+T26+V26+X26,2) -> 0 | G26: =ROUND(I26+K26+M26+O26+Q26+S26+U26+W26+Y26,2) -> 0
A27: 7.6. | B27: Citas izmaksas | C27: 0.45 | D27: =F27+G27 -> 0 | E27: =D27/$D$36 -> #DIV/0! | F27: =ROUND(H27+J27+L27+N27+P27+R27+T27+V27+X27,2) -> 0 | G27: =ROUND(I27+K27+M27+O27+Q27+S27+U27+W27+Y27,2) -> 0
A28: 8 | B28: Patenti, licences utml. | C28: 0.45 | D28: =F28+G28 -> 0 | E28: =D28/$D$36 -> #DIV/0! | F28: =ROUND(H28+J28+L28+N28+P28+R28+T28+V28+X28,2) -> 0 | G28: =ROUND(I28+K28+M28+O28+Q28+S28+U28+W28+Y28,2) -> 0
A29: 9 | B29: Nekustamā īpašuma (piemēram, ēku un zemes) iegādes izmaksas | C29: 0.45 | D29: =F29+G29 -> 0 | E29: =D29/$D$36 -> #DIV/0! | F29: =ROUND(H29+J29+L29+N29+P29+R29+T29+V29+X29,2) -> 0 | G29: =ROUND(I29+K29+M29+O29+Q29+S29+U29+W29+Y29,2) -> 0 | H29: 0 | J29: 0 | L29: 0 | N29: 0 | P29: 0 | R29: 0 | T29: 0 | V29: 0 | X29: 0
A30: 10 | B30: Informatīvo un publicitātes pasākumu izmaksas | C30: 0.45 | D30: =F30+G30 -> 0 | E30: =D30/$D$36 -> #DIV/0! | F30: =ROUND(H30+J30+L30+N30+P30+R30+T30+V30+X30,2) -> 0 | G30: =ROUND(I30+K30+M30+O30+Q30+S30+U30+W30+Y30,2) -> 0 | H30: 0 | J30: 0 | L30: 0 | N30: 0 | P30: 0 | R30: 0 | T30: 0 | V30: 0 | X30: 0
A31: 11 | B31: Projekta iesnieguma un to pamatojošās dokumentācijas sagatavošanas izmaksas (de minimis) | C31: 1 | D31: =F31+G31 -> 0 | E31: =D31/$D$36 -> #DIV/0! | F31: =ROUND(H31+J31+L31+N31+P31+R31+T31+V31+X31,2) -> 0 | G31: =ROUND(I31+K31+M31+O31+Q31+S31+U31+W31+Y31,2) -> 0
A32: 12 | B32: Ieguldījumi natūrā | C32: 0.45 | D32: =F32+G32 -> 0 | E32: =D32/$D$36 -> #DIV/0! | F32: =ROUND(H32+J32+L32+N32+P32+R32+T32+V32+X32,2) -> 0 | G32: =ROUND(I32+K32+M32+O32+Q32+S32+U32+W32+Y32,2) -> 0
A33: 13 | B33: Pārējās projekta īstenošanas izmaksas | C33: 0.45 | D33: =F33+G33 -> 0 | E33: =D33/$D$36 -> #DIV/0! | F33: =ROUND(H33+J33+L33+N33+P33+R33+T33+V33+X33,2) -> 0 | G33: =ROUND(I33+K33+M33+O33+Q33+S33+U33+W33+Y33,2) -> 0 | H33: 0 | J33: 0 | L33: 0 | N33: 0 | P33: 0 | R33: 0 | T33: 0 | V33: 0 | X33: 0
A34: 14 | B34: Vienreizējais maksājums | C34: 0.45 | D34: =F34+G34 -> 0 | E34: =D34/$D$36 -> #DIV/0! | F34: =ROUND(H34+J34+L34+N34+P34+R34+T34+V34+X34,2) -> 0 | G34: =ROUND(I34+K34+M34+O34+Q34+S34+U34+W34+Y34,2) -> 0
A35: 15 | B35: Neparedzētie izdevumi | C35: 0.45 | D35: =F35+G35 -> 0 | E35: =D35/$D$36 -> #DIV/0! | F35: =ROUND(H35+J35+L35+N35+P35+R35+T35+V35+X35,2) -> 0 | G35: =ROUND(I35+K35+M35+O35+Q35+S35+U35+W35+Y35,2) -> 0 | H35: 0 | J35: 0 | L35: 0 | N35: 0 | P35: 0 | R35: 0 | T35: 0 | V35: 0 | X35: 0
B36: KOPĀ | D36: =F36+G36 -> 0 | E36: =D36/$D$36 -> #DIV/0! | F36: =F7+F8+F11+F14+F15+F16+F21+F28+F29+F30+F31+F32+F33+F34+F35 -> 0 | G36: =G7+G8+G11+G14+G15+G16+G21+G28+G29+G30+G31+G32+G33+G34+G35 -> 0 | H36: =H7+H8+H11+H14+H15+H16+H21+H28+H29+H30+H31+H32+H33+H34+H35 -> 0 | I36: =I7+I8+I11+I14+I15+I16+I21+I28+I29+I30+I31+I32+I33+I34+I35 -> 0 | J36: =J7+J8+J11+J14+J15+J16+J21+J28+J29+J30+J31+J32+J33+J34+J35 -> 0 | K36: =K7+K8+K11+K14+K15+K16+K21+K28+K29+K30+K31+K32+K33+K34+K35 -> 0 | L36: =L7+L8+L11+L14+L15+L16+L21+L28+L29+L30+L31+L32+L33+L34+L35 -> 0 | M36: =M7+M8+M11+M14+M15+M16+M21+M28+M29+M30+M31+M32+M33+M34+M35 -> 0 | ... Y36: =Y7+Y8+Y11+Y14+Y15+Y16+Y21+Y28+Y29+Y30+Y31+Y32+Y33+Y34+Y35 -> 0
B37: t.sk. PVN
B38: Investīciju izmaksas bez neparedzētajiem izdevumiem un neatt. PVN | H38: =H36-H35 -> 0 | I38: =I36-I35-I37 -> 0 | J38: =J36-J35 -> 0 | K38: =K36-K35-K37 -> 0 | L38: =L36-L35 -> 0 | M38: =M36-M35-M37 -> 0 | N38: =N36-N35 -> 0 | O38: =O36-O35 -> 0 | P38: =P36-P35 -> 0 | Q38: =Q36-Q35 -> 0 | R38: =R36-R35 -> 0 | S38: =S36-S35 -> 0 | T38: =T36-T35 -> 0 | U38: =U36-U35 -> 0 | ... Y38: =Y36-Y35 -> 0
B39: Investīciju izmaksas bez de minimis izmaksām | H39: =H36-H22-H31 -> 0 | I39: =I36-I22-I31 -> 0 | J39: =J36-J22-J31 -> 0 | K39: =K36-K22-K31 -> 0 | L39: =L36-L22-L31 -> 0 | M39: =M36-M22-M31 -> 0 | N39: =N36-N22-N31 -> 0 | O39: =O36-O22-O31 -> 0 | ... Y39: =Y36-Y22-Y31 -> 0
B40: De minimis | H40: =H22+H31 -> 0 | I40: =I22+I31 -> 0 | J40: =J22+J31 -> 0 | K40: =K22+K31 -> 0 | L40: =L22+L31 -> 0 | M40: =M22+M31 -> 0 | N40: =N22+N31 -> 0 | O40: =O22+O31 -> 0 | ... Y40: =Y22+Y31 -> 0

Sheet 2. DL invest.n.pl.BEZ pr.
A1: DARBA LAPA Nr.2
A2: INVESTĪCIJU NAUDAS PLŪSMAS APRĒĶINS BEZ PROJEKTA
E4: 1 | F4: 2 | G4: 3 | H4: 4 | I4: 5 | J4: 6 | K4: 7 | L4: 8 | M4: 9 | N4: 10 | O4: 11 | P4: 12 | Q4: 13 | R4: 14 | S4: 15 | T4: 16 | U4: 17 | V4: 18 | W4: 19 | X4: 20 | Y4: 21 | Z4: 22 | AA4: 23 | AB4: 24 | AC4: 25 | AD4: 26 | AE4: 27 | AF4: 28 | AG4: 29 | AH4: 30
D5: Gads | E5: ='Dati par projektu'!E13 -> 2024 | F5: =E5+1 -> 2025 | G5: =F5+1 -> 2026 | H5: =G5+1 -> 2027 | I5: =H5+1 -> 2028 | J5: =I5+1 -> 2029 | K5: =J5+1 -> 2030 | L5: =K5+1 -> 2031 | M5: =L5+1 -> 2032 | ... AH5: =AG5+1 -> 2053 | AI5: Kopā
B7: Naudas plūsmas pozīcijas
B9: 1 | C9: Ieņēmumi BEZ projekta (+) | D9: EUR | E9: =SUM(E10:E15) -> 0 | F9: =SUM(F10:F15) -> 0 | G9: =SUM(G10:G15) -> 0 | H9: =SUM(H10:H15) -> 0 | I9: =SUM(I10:I15) -> 0 | J9: =SUM(J10:J15) -> 0 | K9: =SUM(K10:K15) -> 0 | L9: =SUM(L10:L15) -> 0 | ... AH9: =SUM(AH10:AH15) -> 0 | AI9: =SUM(E9:AH9) -> 0
B10: 1.1. | C10: ='3. DL invest.n.pl.AR pr.'!C10 -> Ieņēmumi ... | D10: EUR | F10: =E10 -> 0 | G10: =F10 -> 0 | H10: =G10 -> 0 | I10: =H10 -> 0 | AI10: =SUM(E10:AH10) -> 0
B11: 1.2. | C11: ='3. DL invest.n.pl.AR pr.'!C11 -> Ieņēmumi ... | D11: EUR | AI11: =SUM(E11:AH11) -> 0
B12: 1.3. | C12: ='3. DL invest.n.pl.AR pr.'!C12 -> Ieņēmumi ... | D12: EUR | AI12: =SUM(E12:AH12) -> 0
B13: 1.4. | C13: ='3. DL invest.n.pl.AR pr.'!C13 -> Ieņēmumi ... | D13: EUR | AI13: =SUM(E13:AH13) -> 0
B14: 1.5. | C14: ='3. DL invest.n.pl.AR pr.'!C14 -> Ieņēmumi ... | D14: EUR | AI14: =SUM(E14:AH14) -> 0
B15: 1.6. | C15: ='3. DL invest.n.pl.AR pr.'!C15 -> Ieņēmumi ... | D15: EUR | AI15: =SUM(E15:AH15) -> 0
B16: 2 | C16: Darbības izmaksas BEZ projekta (-) * | D16: EUR | E16: =SUM(E17:E22) -> 0 | F16: =SUM(F17:F22) -> 0 | G16: =SUM(G17:G22) -> 0 | H16: =SUM(H17:H22) -> 0 | I16: =SUM(I17:I22) -> 0 | J16: =SUM(J17:J22) -> 0 | K16: =SUM(K17:K22) -> 0 | L16: =SUM(L17:L22) -> 0 | ... AH16: =SUM(AH17:AH22) -> 0 | AI16: =SUM(E16:AH16) -> 0
B17: 2.1. | C17: ='3. DL invest.n.pl.AR pr.'!C17 -> Darbības izmaksas.... | D17: EUR | F17: =E17 -> 0 | G17: =F17 -> 0 | H17: =G17 -> 0 | I17: =H17 -> 0 | AI17: =SUM(E17:AH17) -> 0
B18: 2.2. | C18: ='3. DL invest.n.pl.AR pr.'!C18 -> Darbības izmaksas.... | D18: EUR | AI18: =SUM(E18:AH18) -> 0
B19: 2.3. | C19: ='3. DL invest.n.pl.AR pr.'!C19 -> Darbības izmaksas.... | D19: EUR | AI19: =SUM(E19:AH19) -> 0
B20: 2.4. | C20: ='3. DL invest.n.pl.AR pr.'!C20 -> Darbības izmaksas.... | D20: EUR | AI20: =SUM(E20:AH20) -> 0
B21: 2.5. | C21: ='3. DL invest.n.pl.AR pr.'!C21 -> Darbības izmaksas.... | D21: EUR | AI21: =SUM(E21:AH21) -> 0
B22: 2.6. | C22: ='3. DL invest.n.pl.AR pr.'!C22 -> Darbības izmaksas.... | D22: EUR | AI22: =SUM(E22:AH22) -> 0
B23: 3 | C23: Neto naudas plūsma | D23: EUR | E23: =SUM(E9,,E16,) -> 0 | F23: =SUM(F9,,F16,) -> 0 | G23: =SUM(G9,,G16,) -> 0 | H23: =SUM(H9,,H16,) -> 0 | I23: =SUM(I9,,I16,) -> 0 | J23: =SUM(J9,,J16,) -> 0 | K23: =SUM(K9,,K16,) -> 0 | L23: =SUM(L9,,L16,) -> 0 | ... AH23: =SUM(AH9,,AH16,) -> 0 | AI23: =SUM(E23:AH23) -> 0
C27: * Šajā tabulā darbības izmaksas jāatspoguļo ar mīnuss zīmi!

Sheet 3. DL invest.n.pl.AR pr.
A1: DARBA LAPA Nr.3
A2: DARBĪBAS IZMAKSU UN IEŅĒMUMU UN INVESTĪCIJU NAUDAS PLŪSMAS APRĒĶINS AR PROJEKTU
F4: ='2. DL invest.n.pl.BEZ pr.'!E4 -> 1 | G4: ='2. DL invest.n.pl.BEZ pr.'!F4 -> 2 | H4: ='2. DL invest.n.pl.BEZ pr.'!G4 -> 3 | I4: ='2. DL invest.n.pl.BEZ pr.'!H4 -> 4 | J4: ='2. DL invest.n.pl.BEZ pr.'!I4 -> 5 | K4: ='2. DL invest.n.pl.BEZ pr.'!J4 -> 6 | L4: ='2. DL invest.n.pl.BEZ pr.'!K4 -> 7 | M4: ='2. DL invest.n.pl.BEZ pr.'!L4 -> 8 | ... AI4: ='2. DL invest.n.pl.BEZ pr.'!AH4 -> 30
E5: Gads | F5: ='2. DL invest.n.pl.BEZ pr.'!E5 -> 2024 | G5: ='2. DL invest.n.pl.BEZ pr.'!F5 -> 2025 | H5: ='2. DL invest.n.pl.BEZ pr.'!G5 -> 2026 | I5: ='2. DL invest.n.pl.BEZ pr.'!H5 -> 2027 | J5: ='2. DL invest.n.pl.BEZ pr.'!I5 -> 2028 | K5: ='2. DL invest.n.pl.BEZ pr.'!J5 -> 2029 | L5: ='2. DL invest.n.pl.BEZ pr.'!K5 -> 2030 | M5: ='2. DL invest.n.pl.BEZ pr.'!L5 -> 2031 | ... AI5: ='2. DL invest.n.pl.BEZ pr.'!AH5 -> 2053 | AJ5: Kopā
B7: Naudas plūsmas pozīcijas
B9: 1 | C9: Ieņēmumi AR projektu (+) | E9: EUR | F9: =SUM(F10:F15) -> 0 | G9: =SUM(G10:G15) -> 0 | H9: =SUM(H10:H15) -> 0 | I9: =SUM(I10:I15) -> 0 | J9: =SUM(J10:J15) -> 0 | K9: =SUM(K10:K15) -> 0 | L9: =SUM(L10:L15) -> 0 | M9: =SUM(M10:M15) -> 0 | ... AI9: =SUM(AI10:AI15) -> 0 | AJ9: =SUM(F9:AI9) -> 0 | AK9: FALSE
B10: 1.1. | C10: Ieņēmumi ... | E10: EUR | G10: =F10 -> 0 | H10: =G10 -> 0 | I10: =H10 -> 0 | J10: =I10 -> 0 | K10: =J10 -> 0 | AJ10: =SUM(F10:AI10) -> 0
B11: 1.2. | C11: Ieņēmumi ... | E11: EUR | AJ11: =SUM(F11:AI11) -> 0
B12: 1.3. | C12: Ieņēmumi ... | E12: EUR | AJ12: =SUM(F12:AI12) -> 0
B13: 1.4. | C13: Ieņēmumi ... | E13: EUR | AJ13: =SUM(F13:AI13) -> 0
B14: 1.5. | C14: Ieņēmumi ... | E14: EUR | AJ14: =SUM(F14:AI14) -> 0
B15: 1.6. | C15: Ieņēmumi ... | E15: EUR | AJ15: =SUM(F15:AI15) -> 0
B16: 2 | C16: Darbības izmaksas AR projektu (-) * | E16: EUR | F16: =SUM(F17:F22) -> 0 | G16: =SUM(G17:G22) -> 0 | H16: =SUM(H17:H22) -> 0 | I16: =SUM(I17:I22) -> 0 | J16: =SUM(J17:J22) -> 0 | K16: =SUM(K17:K22) -> 0 | L16: =SUM(L17:L22) -> 0 | M16: =SUM(M17:M22) -> 0 | ... AI16: =SUM(AI17:AI22) -> 0 | AJ16: =SUM(F16:AI16) -> 0
B17: 2.1. | C17: Darbības izmaksas.... | E17: EUR | F17: ='2. DL invest.n.pl.BEZ pr.'!E17 -> 0 | AJ17: =SUM(F17:AI17) -> 0
B18: 2.2. | C18: Darbības izmaksas.... | E18: EUR | AJ18: =SUM(F18:AI18) -> 0
B19: 2.3. | C19: Darbības izmaksas.... | E19: EUR | AJ19: =SUM(F19:AI19) -> 0
B20: 2.4. | C20: Darbības izmaksas.... | E20: EUR | AJ20: =SUM(F20:AI20) -> 0
B21: 2.5. | C21: Darbības izmaksas.... | E21: EUR | AJ21: =SUM(F21:AI21) -> 0
B22: 2.6. | C22: Darbības izmaksas.... | E22: EUR | AJ22: =SUM(F22:AI22) -> 0
B23: 3 | C23: Investīciju izmaksas (-) | E23: EUR | F23: =F24+F27 -> -975497 | G23: =G24+G27 -> -1392368 | H23: =H24+H27 -> -1387368 | I23: =I24+I27 -> -1387399 | J23: =J24+J27 -> -1382368 | K23: =K24+K27 -> 0 | L23: =L24+L27 -> 0 | M23: =M24+M27 -> 0 | N23: =N24+N27 -> 0 | AJ23: =SUM(F23:AI23) -> -6525000
B24: 3.1. | C24: Investīciju izmaksas bez neparedzētajām izmaksām | E24: EUR | F24: =SUM(F25:F25) -> -925497 | G24: =SUM(G25:G25) -> -1332368 | H24: =SUM(H25:H25) -> -1332368 | I24: =SUM(I25:I25) -> -1332368 | J24: =SUM(J25:J25) -> -1332368 | K24: =SUM(K25:K25) -> 0 | L24: =SUM(L25:L25) -> 0 | M24: =SUM(M25:M25) -> 0 | N24: =SUM(N25:N25) -> 0 | AJ24: =SUM(F24:AI24) -> -6254969
B25: 3.1.1. | C25: Investīciju izmaksas bez neparedzētajām izmaksām un neatt. PVN | E25: EUR | F25: =-SUM('1.1.A. Iesniedzējs:1.3.2. Partneris-kom.-2'!H38,'1.1.A. Iesniedzējs:1.3.2. Partneris-kom.-2'!I38) -> -925497 | G25: =-SUM('1.1.A. Iesniedzējs:1.3.2. Partneris-kom.-2'!J38,'1.1.A. Iesniedzējs:1.3.2. Partneris-kom.-2'!K38) -> -1332368 | H25: =-SUM('1.1.A. Iesniedzējs:1.3.2. Partneris-kom.-2'!L38,'1.1.A. Iesniedzējs:1.3.2. Partneris-kom.-2'!M38) -> -1332368 | I25: =-SUM('1.1.A. Iesniedzējs:1.3.2. Partneris-kom.-2'!N38,'1.1.A. Iesniedzējs:1.3.2. Partneris-kom.-2'!O38) -> -1332368 | J25: =-SUM('1.1.A. Iesniedzējs:1.3.2. Partneris-kom.-2'!P38,'1.1.A. Iesniedzējs:1.3.2. Partneris-kom.-2'!Q38) -> -1332368 | K25: =-SUM('1.1.A. Iesniedzējs:1.3.2. Partneris-kom.-2'!R38,'1.1.A. Iesniedzējs:1.3.2. Partneris-kom.-2'!S38) -> 0 | L25: =-SUM('1.1.A. Iesniedzējs:1.3.2. Partneris-kom.-2'!T38,'1.1.A. Iesniedzējs:1.3.2. Partneris-kom.-2'!U38) -> 0 | M25: =-SUM('1.1.A. Iesniedzējs:1.3.2. Partneris-kom.-2'!V38,'1.1.A. Iesniedzējs:1.3.2. Partneris-kom.-2'!W38) -> 0 | N25: =-SUM('1.1.A. Iesniedzējs:1.3.2. Partneris-kom.-2'!X38,'1.1.A. Iesniedzējs:1.3.2. Partneris-kom.-2'!Y38) -> 0 | AJ25: =SUM(F25:AI25) -> -6254969
B26: 3.1.2. | C26: Attiecināmās investīciju izmaksas bez neparedzētajiem izdevumiem | E26: EUR | F26: =-SUM('1.1.A. Iesniedzējs:1.3.2. Partneris-kom.-2'!H36)+SUM('1.1.A. Iesniedzējs:1.3.2. Partneris-kom.-2'!H35) -> -925497 | G26: =-SUM('1.1.A. Iesniedzējs:1.3.2. Partneris-kom.-2'!J36)+SUM('1.1.A. Iesniedzējs:1.3.2. Partneris-kom.-2'!J35) -> -1332368 | H26: =-SUM('1.1.A. Iesniedzējs:1.3.2. Partneris-kom.-2'!L36)+SUM('1.1.A. Iesniedzējs:1.3.2. Partneris-kom.-2'!L35) -> -1332368 | I26: =-SUM('1.1.A. Iesniedzējs:1.3.2. Partneris-kom.-2'!N36)+SUM('1.1.A. Iesniedzējs:1.3.2. Partneris-kom.-2'!N35) -> -1332368 | J26: =-SUM('1.1.A. Iesniedzējs:1.3.2. Partneris-kom.-2'!P36)+SUM('1.1.A. Iesniedzējs:1.3.2. Partneris-kom.-2'!P35) -> -1332368 | K26: =-SUM('1.1.A. Iesniedzējs:1.3.2. Partneris-kom.-2'!R36)+SUM('1.1.A. Iesniedzējs:1.3.2. Partneris-kom.-2'!R35) -> 0 | L26: =-SUM('1.1.A. Iesniedzējs:1.3.2. Partneris-kom.-2'!T36)+SUM('1.1.A. Iesniedzējs:1.3.2. Partneris-kom.-2'!T35) -> 0 | M26: =-SUM('1.1.A. Iesniedzējs:1.3.2. Partneris-kom.-2'!V36)+SUM('1.1.A. Iesniedzējs:1.3.2. Partneris-kom.-2'!V35) -> 0 | N26: =-SUM('1.1.A. Iesniedzējs:1.3.2. Partneris-kom.-2'!X36)+SUM('1.1.A. Iesniedzējs:1.3.2. Partneris-kom.-2'!X35) -> 0
B27: 3.2. | C27: Neparedzētās izmaksas | E27: EUR | F27: =F28 -> -50000 | G27: =G28 -> -60000 | H27: =H28 -> -55000 | I27: =I28 -> -55031 | J27: =J28 -> -50000 | K27: =K28 -> 0 | L27: =L28 -> 0 | M27: =M28 -> 0 | N27: =N28 -> 0 | AJ27: =SUM(F27:AI27) -> -270031
B28: 3.2.1. | C28: Neparedzētās izmaksas | E28: EUR | F28: =-SUM('1.1.A. Iesniedzējs:1.3.2. Partneris-kom.-2'!H35,'1.1.A. Iesniedzējs:1.3.2. Partneris-kom.-2'!I35) -> -50000 | G28: =-SUM('1.1.A. Iesniedzējs:1.3.2. Partneris-kom.-2'!J35,'1.1.A. Iesniedzējs:1.3.2. Partneris-kom.-2'!K35) -> -60000 | H28: =-SUM('1.1.A. Iesniedzējs:1.3.2. Partneris-kom.-2'!L35,'1.1.A. Iesniedzējs:1.3.2. Partneris-kom.-2'!M35) -> -55000 | I28: =-SUM('1.1.A. Iesniedzējs:1.3.2. Partneris-kom.-2'!N35,'1.1.A. Iesniedzējs:1.3.2. Partneris-kom.-2'!O35) -> -55031 | J28: =-SUM('1.1.A. Iesniedzējs:1.3.2. Partneris-kom.-2'!P35,'1.1.A. Iesniedzējs:1.3.2. Partneris-kom.-2'!Q35) -> -50000 | K28: =-SUM('1.1.A. Iesniedzējs:1.3.2. Partneris-kom.-2'!R35,'1.1.A. Iesniedzējs:1.3.2. Partneris-kom.-2'!S35) -> 0 | L28: =-SUM('1.1.A. Iesniedzējs:1.3.2. Partneris-kom.-2'!T35,'1.1.A. Iesniedzējs:1.3.2. Partneris-kom.-2'!U35) -> 0 | M28: =-SUM('1.1.A. Iesniedzējs:1.3.2. Partneris-kom.-2'!V35,'1.1.A. Iesniedzējs:1.3.2. Partneris-kom.-2'!W35) -> 0 | N28: =-SUM('1.1.A. Iesniedzējs:1.3.2. Partneris-kom.-2'!X35,'1.1.A. Iesniedzējs:1.3.2. Partneris-kom.-2'!Y35) -> 0 | AJ28: =SUM(F28:AI28) -> -270031
B29: 4 | C29: Projekta atlikusī vērtība (+) | E29: EUR | G29: =G30 -> 0 | H29: =H30 -> 0 | I29: =I30 -> 0 | J29: =J30 -> 0 | K29: =K30 -> 0 | L29: =L30 -> 0 | M29: =M30 -> 0 | N29: =N30 -> 0 | ... AI29: =AI30 -> 0 | AJ29: =SUM(F29:AI29) -> 0
B30: 4.1. | C30: Projekta atlikusī vērtība | E30: EUR | AJ30: =SUM(F30:AH30) -> 0
B31: 5 | C31: Neto naudas plūsma | E31: EUR | F31: =SUM(F9,,F16,F23,F29) -> -975497 | G31: =SUM(G9,,G16,G23,G29) -> -1392368 | H31: =SUM(H9,,H16,H23,H29) -> -1387368 | I31: =SUM(I9,,I16,I23,I29) -> -1387399 | J31: =SUM(J9,,J16,J23,J29) -> -1382368 | K31: =SUM(K9,,K16,K23,K29) -> 0 | L31: =SUM(L9,,L16,L23,L29) -> 0 | M31: =SUM(M9,,M16,M23,M29) -> 0 | ... AI31: =SUM(AI9,,AI16,AI23,AI29) -> 0 | AJ31: =SUM(F31:AI31) -> -6525000
C35: * Šajā tabulā darbības izmaksas jāatspoguļo ar mīnuss zīmi!
C38: Ieņēmumi=0
C39: Izmaksas = 0

Sheet 4.DL Finansiālā ilgtspēja
A1: DARBA LAPA Nr.4
A2: FINANSIĀLĀ ILGTSPĒJA
E3: ='3. DL invest.n.pl.AR pr.'!F4 -> 1 | F3: ='3. DL invest.n.pl.AR pr.'!G4 -> 2 | G3: ='3. DL invest.n.pl.AR pr.'!H4 -> 3 | H3: ='3. DL invest.n.pl.AR pr.'!I4 -> 4 | I3: ='3. DL invest.n.pl.AR pr.'!J4 -> 5 | J3: ='3. DL invest.n.pl.AR pr.'!K4 -> 6 | K3: ='3. DL invest.n.pl.AR pr.'!L4 -> 7 | L3: ='3. DL invest.n.pl.AR pr.'!M4 -> 8 | ... AH3: ='3. DL invest.n.pl.AR pr.'!AI4 -> 30
D4: Gads | E4: ='3. DL invest.n.pl.AR pr.'!F5 -> 2024 | F4: ='3. DL invest.n.pl.AR pr.'!G5 -> 2025 | G4: ='3. DL invest.n.pl.AR pr.'!H5 -> 2026 | H4: ='3. DL invest.n.pl.AR pr.'!I5 -> 2027 | I4: ='3. DL invest.n.pl.AR pr.'!J5 -> 2028 | J4: ='3. DL invest.n.pl.AR pr.'!K5 -> 2029 | K4: ='3. DL invest.n.pl.AR pr.'!L5 -> 2030 | L4: ='3. DL invest.n.pl.AR pr.'!M5 -> 2031 | ... AH4: ='3. DL invest.n.pl.AR pr.'!AI5 -> 2053 | AI4: Kopā
B6: Naudas plūsmas pozīcijas
A7: 1. Kopējie ieņēmumi (+): | E7: =SUM(E8:E17) -> 975497 | F7: =SUM(F8:F17) -> 1392368 | G7: =SUM(G8:G17) -> 1387368 | H7: =SUM(H8:H17) -> 1387399 | I7: =SUM(I8:I17) -> 1382368 | J7: =SUM(J8:J17) -> 0 | K7: =SUM(K8:K17) -> 0 | L7: =SUM(L8:L17) -> 0 | ... AH7: =SUM(AH8:AH17) -> 0 | AI7: =SUM(E7:AH7) -> 6525000
B8: 1.1. | C8: Projekta ieņēmumi | D8: EUR | E8: ='3. DL invest.n.pl.AR pr.'!F9 -> 0 | F8: ='3. DL invest.n.pl.AR pr.'!G9 -> 0 | G8: ='3. DL invest.n.pl.AR pr.'!H9 -> 0 | H8: ='3. DL invest.n.pl.AR pr.'!I9 -> 0 | I8: ='3. DL invest.n.pl.AR pr.'!J9 -> 0 | J8: ='3. DL invest.n.pl.AR pr.'!K9 -> 0 | K8: ='3. DL invest.n.pl.AR pr.'!L9 -> 0 | L8: ='3. DL invest.n.pl.AR pr.'!M9 -> 0 | ... AH8: ='3. DL invest.n.pl.AR pr.'!AI9 -> 0 | AI8: =SUM(E8:AH8) -> 0
B9: 1.2. | C9: Aizņēmuma pamatsummas saņemšana | D9: EUR | AI9: =SUM(E9:AH9) -> 0
B10: 1.3. | C10: Publiskais finansējums | D10: EUR | AI10: =SUM(E10:AH10) -> 0
B11: 1.4. | C11: Privātais finansējums | D11: EUR | AI11: =SUM(E11:AH11) -> 0
B12: 1.5. | C12: ES fondu līdzfinansējums | D12: EUR | E12: ='9. DL PIV 2.pielikums'!B5 -> 829172.45 | F12: ='9. DL PIV 2.pielikums'!D5 -> 1183512.8 | G12: ='9. DL PIV 2.pielikums'!F5 -> 1179262.8 | H12: ='9. DL PIV 2.pielikums'!H5 -> 1179289.1 | I12: ='9. DL PIV 2.pielikums'!J5 -> 1175012.8 | J12: ='9. DL PIV 2.pielikums'!L5 -> 0 | K12: ='9. DL PIV 2.pielikums'!N5 -> 0 | L12: ='9. DL PIV 2.pielikums'!P5 -> 0 | M12: ='9. DL PIV 2.pielikums'!R5 -> 0 | AI12: =SUM(E12:AH12) -> 5546250
B13: 1.6. | C13: Attiecināmais valsts budžeta finansējums | D13: EUR | E13: ='9. DL PIV 2.pielikums'!B6 -> 146324.55 | F13: ='9. DL PIV 2.pielikums'!D6 -> 208855.2 | G13: ='9. DL PIV 2.pielikums'!F6 -> 208105.2 | H13: ='9. DL PIV 2.pielikums'!H6 -> 208109.85 | I13: ='9. DL PIV 2.pielikums'!J6 -> 207355.2 | J13: ='9. DL PIV 2.pielikums'!L6 -> 0 | K13: ='9. DL PIV 2.pielikums'!N6 -> 0 | L13: ='9. DL PIV 2.pielikums'!P6 -> 0 | M13: ='9. DL PIV 2.pielikums'!R6 -> 0
B14: 1.7. | C14: Valsts budžeta dotācija pašvaldībām | D14: EUR | E14: ='9. DL PIV 2.pielikums'!B7 -> 0 | F14: ='9. DL PIV 2.pielikums'!D7 -> 0 | G14: ='9. DL PIV 2.pielikums'!F7 -> 0 | H14: ='9. DL PIV 2.pielikums'!H7 -> 0 | I14: ='9. DL PIV 2.pielikums'!J7 -> 0 | J14: ='9. DL PIV 2.pielikums'!L7 -> 0 | K14: ='9. DL PIV 2.pielikums'!N7 -> 0 | L14: ='9. DL PIV 2.pielikums'!P7 -> 0 | M14: ='9. DL PIV 2.pielikums'!R7 -> 0
B15: 1.8. | C15: Pašvaldības finansējums (Invest. izmaksām) | D15: EUR | E15: ='9. DL PIV 2.pielikums'!B8 -> 0 | F15: ='9. DL PIV 2.pielikums'!D8 -> 0 | G15: ='9. DL PIV 2.pielikums'!F8 -> 0 | H15: ='9. DL PIV 2.pielikums'!H8 -> 0 | I15: ='9. DL PIV 2.pielikums'!J8 -> 0 | J15: ='9. DL PIV 2.pielikums'!L8 -> 0 | K15: ='9. DL PIV 2.pielikums'!N8 -> 0 | L15: ='9. DL PIV 2.pielikums'!P8 -> 0 | M15: ='9. DL PIV 2.pielikums'!R8 -> 0
B16: 1.9. | C16: Cits publiskais finansējums | D16: EUR | E16: ='9. DL PIV 2.pielikums'!B9 -> 0 | F16: ='9. DL PIV 2.pielikums'!D9 -> 0 | G16: ='9. DL PIV 2.pielikums'!F9 -> 0 | H16: ='9. DL PIV 2.pielikums'!H9 -> 0 | I16: ='9. DL PIV 2.pielikums'!J9 -> 0 | J16: ='9. DL PIV 2.pielikums'!L9 -> 0 | K16: ='9. DL PIV 2.pielikums'!N9 -> 0 | L16: ='9. DL PIV 2.pielikums'!P9 -> 0 | M16: ='9. DL PIV 2.pielikums'!R9 -> 0
B17: 1.10. | C17: Projekta atlikusī vērtība | D17: EUR | E17: ='3. DL invest.n.pl.AR pr.'!F30 -> 0 | F17: ='3. DL invest.n.pl.AR pr.'!G30 -> 0 | G17: ='3. DL invest.n.pl.AR pr.'!H30 -> 0 | H17: ='3. DL invest.n.pl.AR pr.'!I30 -> 0 | I17: ='3. DL invest.n.pl.AR pr.'!J30 -> 0 | J17: ='3. DL invest.n.pl.AR pr.'!K30 -> 0 | K17: ='3. DL invest.n.pl.AR pr.'!L30 -> 0 | L17: ='3. DL invest.n.pl.AR pr.'!M30 -> 0 | ... AH17: ='3. DL invest.n.pl.AR pr.'!AI30 -> 0 | AI17: =SUM(E17:AH17) -> 0
A18: 2. Kopējās izmaksas (-): | E18: =SUM(E19:E23) -> -975497 | F18: =SUM(F19:F23) -> -1392368 | G18: =SUM(G19:G23) -> -1387368 | H18: =SUM(H19:H23) -> -1387399 | I18: =SUM(I19:I23) -> -1382368 | J18: =SUM(J19:J23) -> 0 | K18: =SUM(K19:K23) -> 0 | L18: =SUM(L19:L23) -> 0 | ... AH18: =SUM(AH19:AH23) -> 0 | AI18: =SUM(E18:AH18) -> -6525000
B19: 2.1. | C19: "Ar projektu" darbības izmaksas | D19: EUR | E19: ='3. DL invest.n.pl.AR pr.'!F16 -> 0 | F19: ='3. DL invest.n.pl.AR pr.'!G16 -> 0 | G19: ='3. DL invest.n.pl.AR pr.'!H16 -> 0 | H19: ='3. DL invest.n.pl.AR pr.'!I16 -> 0 | I19: ='3. DL invest.n.pl.AR pr.'!J16 -> 0 | J19: ='3. DL invest.n.pl.AR pr.'!K16 -> 0 | K19: ='3. DL invest.n.pl.AR pr.'!L16 -> 0 | L19: ='3. DL invest.n.pl.AR pr.'!M16 -> 0 | ... AH19: ='3. DL invest.n.pl.AR pr.'!AI16 -> 0 | AI19: =SUM(E19:AH19) -> 0
B20: 2.2. | C20: Investīciju izmaksas | D20: EUR | E20: ='3. DL invest.n.pl.AR pr.'!F25+'3. DL invest.n.pl.AR pr.'!F28 -> -975497 | F20: ='3. DL invest.n.pl.AR pr.'!G25+'3. DL invest.n.pl.AR pr.'!G28 -> -1392368 | G20: ='3. DL invest.n.pl.AR pr.'!H25+'3. DL invest.n.pl.AR pr.'!H28 -> -1387368 | H20: ='3. DL invest.n.pl.AR pr.'!I25+'3. DL invest.n.pl.AR pr.'!I28 -> -1387399 | I20: ='3. DL invest.n.pl.AR pr.'!J25+'3. DL invest.n.pl.AR pr.'!J28 -> -1382368 | J20: ='3. DL invest.n.pl.AR pr.'!K25+'3. DL invest.n.pl.AR pr.'!K28 -> 0 | K20: ='3. DL invest.n.pl.AR pr.'!L25+'3. DL invest.n.pl.AR pr.'!L28 -> 0 | L20: ='3. DL invest.n.pl.AR pr.'!M25+'3. DL invest.n.pl.AR pr.'!M28 -> 0 | ... AH20: ='3. DL invest.n.pl.AR pr.'!AI25+'3. DL invest.n.pl.AR pr.'!AI28 -> 0 | AI20: =SUM(E20:AH20) -> -6525000
B21: 2.3. | C21: Finansēšanas izmaksas | D21: EUR | AI21: =SUM(E21:AH21) -> 0
B22: 2.4. | C22: Aizņēmuma pamatsummas atmaksa | D22: EUR | F22: =-Pieņēmumi!E88 -> 0 | G22: =-Pieņēmumi!F88 -> 0 | H22: =-Pieņēmumi!G88 -> 0 | I22: =-Pieņēmumi!H88 -> 0 | J22: =-Pieņēmumi!I88 -> 0 | K22: =-Pieņēmumi!J88 -> 0 | L22: =-Pieņēmumi!K88 -> 0 | M22: =-Pieņēmumi!L88 -> 0 | N22: =-Pieņēmumi!M88 -> 0 | O22: =-Pieņēmumi!P88 -> 0 | P22: =-Pieņēmumi!Q88 -> 0 | Q22: =-Pieņēmumi!R88 -> 0 | R22: =-Pieņēmumi!S88 -> 0 | S22: =-Pieņēmumi!T88 -> 0 | T22: =-Pieņēmumi!U88 -> 0 | U22: =-Pieņēmumi!V88 -> 0 | V22: =-Pieņēmumi!W88 -> 0 | ... AH22: =-Pieņēmumi!AI88 -> 0 | AI22: =SUM(E22:AH22) -> 0
B23: 2.5. | C23: Aizņēmuma procentu atmaksa | D23: EUR | F23: =-Pieņēmumi!E89 -> 0 | G23: =-Pieņēmumi!F89 -> 0 | H23: =-Pieņēmumi!G89 -> 0 | I23: =-Pieņēmumi!H89 -> 0 | J23: =-Pieņēmumi!I89 -> 0 | K23: =-Pieņēmumi!J89 -> 0 | L23: =-Pieņēmumi!K89 -> 0 | M23: =-Pieņēmumi!L89 -> 0 | N23: =-Pieņēmumi!M89 -> 0 | O23: =-Pieņēmumi!P89 -> 0 | P23: =-Pieņēmumi!Q89 -> 0 | Q23: =-Pieņēmumi!R89 -> 0 | R23: =-Pieņēmumi!S89 -> 0 | S23: =-Pieņēmumi!T89 -> 0 | T23: =-Pieņēmumi!U89 -> 0 | U23: =-Pieņēmumi!V89 -> 0 | V23: =-Pieņēmumi!W89 -> 0 | ... AH23: =-Pieņēmumi!AI89 -> 0 | AI23: =SUM(E23:AH23) -> 0
A24: 3 | C24: Neto naudas plūsma | D24: EUR | E24: =SUM(E7,E18) -> 0 | F24: =SUM(F7,F18) -> 0 | G24: =SUM(G7,G18) -> 0 | H24: =SUM(H7,H18) -> 0 | I24: =SUM(I7,I18) -> 0 | J24: =SUM(J7,J18) -> 0 | K24: =SUM(K7,K18) -> 0 | L24: =SUM(L7,L18) -> 0 | ... AI24: =SUM(AI7,AI18) -> 0
A25: 4 | C25: Kumulatīvā neto naudas plūsma | D25: EUR | E25: =E24 -> 0 | F25: =E25+F24 -> 0 | G25: =F25+G24 -> 0 | H25: =G25+H24 -> 0 | I25: =H25+I24 -> 0 | J25: =I25+J24 -> 0 | K25: =J25+K24 -> 0 | L25: =K25+L24 -> 0 | M25: =L25+M24 -> 0 | ... AI25: =AH25+AI24 -> 0

Sheet 5.DL soc.econom. analīze
A1: DARBA LAPA Nr.5
A2: SOCIĀLEKONOMISKĀS ANALĪZES APRĒĶINI
B3: Reālā sociālā diskonta likme | C3: 0.05
D5: NPV | F5: ='4.DL Finansiālā ilgtspēja'!E3 -> 1 | G5: ='4.DL Finansiālā ilgtspēja'!F3 -> 2 | H5: ='4.DL Finansiālā ilgtspēja'!G3 -> 3 | I5: ='4.DL Finansiālā ilgtspēja'!H3 -> 4 | J5: ='4.DL Finansiālā ilgtspēja'!I3 -> 5 | K5: ='4.DL Finansiālā ilgtspēja'!J3 -> 6 | L5: ='4.DL Finansiālā ilgtspēja'!K3 -> 7 | M5: ='4.DL Finansiālā ilgtspēja'!L3 -> 8 | ... AI5: ='4.DL Finansiālā ilgtspēja'!AH3 -> 30 | AK5: =F5 -> 1 | AL5: =G5 -> 2 | AM5: =H5 -> 3 | AN5: =I5 -> 4 | AO5: =J5 -> 5 | AP5: =K5 -> 6 | AQ5: =L5 -> 7 | AR5: =M5 -> 8 | ... BN5: =AI5 -> 30
C6: gads | D6: Kopā | E6: Kopā | F6: ='4.DL Finansiālā ilgtspēja'!E4 -> 2024 | G6: ='4.DL Finansiālā ilgtspēja'!F4 -> 2025 | H6: ='4.DL Finansiālā ilgtspēja'!G4 -> 2026 | I6: ='4.DL Finansiālā ilgtspēja'!H4 -> 2027 | J6: ='4.DL Finansiālā ilgtspēja'!I4 -> 2028 | K6: ='4.DL Finansiālā ilgtspēja'!J4 -> 2029 | L6: ='4.DL Finansiālā ilgtspēja'!K4 -> 2030 | M6: ='4.DL Finansiālā ilgtspēja'!L4 -> 2031 | ... AI6: ='4.DL Finansiālā ilgtspēja'!AH4 -> 2053 | AK6: =F6 -> 2024 | AL6: =G6 -> 2025 | AM6: =H6 -> 2026 | AN6: =I6 -> 2027 | AO6: =J6 -> 2028 | AP6: =K6 -> 2029 | AQ6: =L6 -> 2030 | AR6: =M6 -> 2031 | ... BN6: =AI6 -> 2053
A8: 1 | B8: Sociālekonomiskie ieguvumi (+) | C8: EUR | D8: =AK8+NPV($C$3,AL8:BN8) -> 48895377 | E8: =SUM(F8:AI8) -> 63974485 | F8: =SUM(F9:F17) -> 974006 | G8: =SUM(G9:G17) -> 2523561 | H8: =SUM(H9:H17) -> 4073116 | I8: =SUM(I9:I17) -> 5622671 | J8: =SUM(J9:J17) -> 7172226 | K8: =SUM(K9:K17) -> 8721781 | L8: =SUM(L9:L17) -> 8721781 | M8: =SUM(M9:M17) -> 8721781 | ... AI8: =SUM(AI9:AI17) -> 0 | AK8: =F8 -> 974006 | AL8: =G8 -> 2523561 | AM8: =H8 -> 4073116 | AN8: =I8 -> 5622671 | AO8: =J8 -> 7172226 | AP8: =K8 -> 8721781 | AQ8: =L8 -> 8721781 | AR8: =M8 -> 8721781 | ... BN8: =AI8 -> 0
A9: 1.1. | B9: ='11. DL PIV 4.pielikums'!A57 -> Projekta rezultātā nodarbināto jauniešu radītais IKP | C9: EUR | D9: =AK9+NPV($C$3,AL9:BN9) -> 48895377 | E9: =SUM(F9:AI9) -> 63974485 | F9: =Pieņēmumi!C35 -> 974006 | G9: =Pieņēmumi!D35 -> 2523561 | H9: =Pieņēmumi!E35 -> 4073116 | I9: =Pieņēmumi!F35 -> 5622671 | J9: =Pieņēmumi!G35 -> 7172226 | K9: =Pieņēmumi!H35 -> 8721781 | L9: =Pieņēmumi!I35 -> 8721781 | M9: =Pieņēmumi!J35 -> 8721781 | ... S9: =Pieņēmumi!P35 -> 0 | AK9: =F9 -> 974006 | AL9: =G9 -> 2523561 | AM9: =H9 -> 4073116 | AN9: =I9 -> 5622671 | AO9: =J9 -> 7172226 | AP9: =K9 -> 8721781 | AQ9: =L9 -> 8721781 | AR9: =M9 -> 8721781 | ... BN9: =AI9 -> 0
A10: 1.2. | B10: Ieguvums ... | C10: EUR | D10: =AK10+NPV($C$3,AL10:BN10) -> 0 | E10: =SUM(F10:AI10) -> 0 | AK10: =F10 -> 0 | AL10: =G10 -> 0 | AM10: =H10 -> 0 | AN10: =I10 -> 0 | AO10: =J10 -> 0 | AP10: =K10 -> 0 | AQ10: =L10 -> 0 | AR10: =M10 -> 0 | ... BN10: =AI10 -> 0
A11: 1.3. | B11: Ieguvums ... | C11: EUR | D11: =AK11+NPV($C$3,AL11:BN11) -> 0 | E11: =SUM(F11:AI11) -> 0 | AK11: =F11 -> 0 | AL11: =G11 -> 0 | AM11: =H11 -> 0 | AN11: =I11 -> 0 | AO11: =J11 -> 0 | AP11: =K11 -> 0 | AQ11: =L11 -> 0 | AR11: =M11 -> 0 | ... BN11: =AI11 -> 0
A12: 1.4. | B12: Ieguvums ... | C12: EUR | D12: =AK12+NPV($C$3,AL12:BN12) -> 0 | E12: =SUM(F12:AI12) -> 0 | AK12: =F12 -> 0 | AL12: =G12 -> 0 | AM12: =H12 -> 0 | AN12: =I12 -> 0 | AO12: =J12 -> 0 | AP12: =K12 -> 0 | AQ12: =L12 -> 0 | AR12: =M12 -> 0 | ... BN12: =AI12 -> 0
A13: 1.5. | B13: Ieguvums ... | C13: EUR | D13: =AK13+NPV($C$3,AL13:BN13) -> 0 | E13: =SUM(F13:AI13) -> 0 | AK13: =F13 -> 0 | AL13: =G13 -> 0 | AM13: =H13 -> 0 | AN13: =I13 -> 0 | AO13: =J13 -> 0 | AP13: =K13 -> 0 | AQ13: =L13 -> 0 | AR13: =M13 -> 0 | ... BN13: =AI13 -> 0
A14: 1.6. | B14: Ieguvums ... | C14: EUR | D14: =AK14+NPV($C$3,AL14:BN14) -> 0 | E14: =SUM(F14:AI14) -> 0 | AK14: =F14 -> 0 | AL14: =G14 -> 0 | AM14: =H14 -> 0 | AN14: =I14 -> 0 | AO14: =J14 -> 0 | AP14: =K14 -> 0 | AQ14: =L14 -> 0 | AR14: =M14 -> 0 | ... BN14: =AI14 -> 0
A15: 1.7. | B15: Ieguvums ... | C15: EUR | D15: =AK15+NPV($C$3,AL15:BN15) -> 0 | E15: =SUM(F15:AI15) -> 0 | AK15: =F15 -> 0 | AL15: =G15 -> 0 | AM15: =H15 -> 0 | AN15: =I15 -> 0 | AO15: =J15 -> 0 | AP15: =K15 -> 0 | AQ15: =L15 -> 0 | AR15: =M15 -> 0 | ... BN15: =AI15 -> 0
A16: 1.8. | B16: Ieguvums ... | C16: EUR | D16: =AK16+NPV($C$3,AL16:BN16) -> 0 | E16: =SUM(F16:AI16) -> 0 | AK16: =F16 -> 0 | AL16: =G16 -> 0 | AM16: =H16 -> 0 | AN16: =I16 -> 0 | AO16: =J16 -> 0 | AP16: =K16 -> 0 | AQ16: =L16 -> 0 | AR16: =M16 -> 0 | ... BN16: =AI16 -> 0
A17: 1.9. | B17: Ieguvums ... | C17: EUR | D17: =AK17+NPV($C$3,AL17:BN17) -> 0 | E17: =SUM(F17:AI17) -> 0 | AK17: =F17 -> 0 | AL17: =G17 -> 0 | AM17: =H17 -> 0 | AN17: =I17 -> 0 | AO17: =J17 -> 0 | AP17: =K17 -> 0 | AQ17: =L17 -> 0 | AR17: =M17 -> 0 | ... BN17: =AI17 -> 0
A18: 2 | B18: Finanšu ieguvumi (+) | C18: EUR | D18: =AK18+NPV($C$3,AL18:BN18) -> 0 | E18: =SUM(F18:AI18) -> 0 | F18: =SUM(F19:F23) -> 0 | G18: =SUM(G19:G23) -> 0 | H18: =SUM(H19:H23) -> 0 | I18: =SUM(I19:I23) -> 0 | J18: =SUM(J19:J23) -> 0 | K18: =SUM(K19:K23) -> 0 | L18: =SUM(L19:L23) -> 0 | M18: =SUM(M19:M23) -> 0 | ... AI18: =SUM(AI19:AI23) -> 0 | AK18: =F18 -> 0 | AL18: =G18 -> 0 | AM18: =H18 -> 0 | AN18: =I18 -> 0 | AO18: =J18 -> 0 | AP18: =K18 -> 0 | AQ18: =L18 -> 0 | AR18: =M18 -> 0 | ... BN18: =AI18 -> 0
A19: 2.1. | B19: Ieguvums ... | C19: EUR | D19: =AK19+NPV($C$3,AL19:BN19) -> 0 | E19: =SUM(F19:AI19) -> 0 | AK19: =F19 -> 0 | AL19: =G19 -> 0 | AM19: =H19 -> 0 | AN19: =I19 -> 0 | AO19: =J19 -> 0 | AP19: =K19 -> 0 | AQ19: =L19 -> 0 | AR19: =M19 -> 0 | ... BN19: =AI19 -> 0
A20: 2.2. | B20: Ieguvums ... | C20: EUR | D20: =AK20+NPV($C$3,AL20:BN20) -> 0 | E20: =SUM(F20:AI20) -> 0 | AK20: =F20 -> 0 | AL20: =G20 -> 0 | AM20: =H20 -> 0 | AN20: =I20 -> 0 | AO20: =J20 -> 0 | AP20: =K20 -> 0 | AQ20: =L20 -> 0 | AR20: =M20 -> 0 | ... BN20: =AI20 -> 0
A21: 2.3. | B21: Ieguvums ... | C21: EUR | D21: =AK21+NPV($C$3,AL21:BN21) -> 0 | E21: =SUM(F21:AI21) -> 0 | AK21: =F21 -> 0 | AL21: =G21 -> 0 | AM21: =H21 -> 0 | AN21: =I21 -> 0 | AO21: =J21 -> 0 | AP21: =K21 -> 0 | AQ21: =L21 -> 0 | AR21: =M21 -> 0 | ... BN21: =AI21 -> 0
A22: 2.4. | B22: Ieguvums ... | C22: EUR | D22: =AK22+NPV($C$3,AL22:BN22) -> 0 | E22: =SUM(F22:AI22) -> 0 | AK22: =F22 -> 0 | AL22: =G22 -> 0 | AM22: =H22 -> 0 | AN22: =I22 -> 0 | AO22: =J22 -> 0 | AP22: =K22 -> 0 | AQ22: =L22 -> 0 | AR22: =M22 -> 0 | ... BN22: =AI22 -> 0
A23: 2.5. | B23: Ieguvums ... | C23: EUR | D23: =AK23+NPV($C$3,AL23:BN23) -> 0 | E23: =SUM(F23:AI23) -> 0 | AK23: =F23 -> 0 | AL23: =G23 -> 0 | AM23: =H23 -> 0 | AN23: =I23 -> 0 | AO23: =J23 -> 0 | AP23: =K23 -> 0 | AQ23: =L23 -> 0 | AR23: =M23 -> 0 | ... BN23: =AI23 -> 0
A24: 3 | B24: Sociālekonomiskie zaudējumi (-) | C24: EUR | D24: =AK24+NPV($C$3,AL24:BN24) -> 0 | E24: =SUM(F24:AI24) -> 0 | F24: =SUM(F25:F33) -> 0 | G24: =SUM(G25:G33) -> 0 | H24: =SUM(H25:H33) -> 0 | I24: =SUM(I25:I33) -> 0 | J24: =SUM(J25:J33) -> 0 | K24: =SUM(K25:K33) -> 0 | L24: =SUM(L25:L33) -> 0 | M24: =SUM(M25:M33) -> 0 | ... AI24: =SUM(AI25:AI33) -> 0 | AK24: =F24 -> 0 | AL24: =G24 -> 0 | AM24: =H24 -> 0 | AN24: =I24 -> 0 | AO24: =J24 -> 0 | AP24: =K24 -> 0 | AQ24: =L24 -> 0 | AR24: =M24 -> 0 | ... BN24: =AI24 -> 0
A25: 3.1. | B25: Zaudējumi... | C25: EUR | D25: =AK25+NPV($C$3,AL25:BN25) -> 0 | E25: =SUM(F25:AI25) -> 0 | AK25: =F25 -> 0 | AL25: =G25 -> 0 | AM25: =H25 -> 0 | AN25: =I25 -> 0 | AO25: =J25 -> 0 | AP25: =K25 -> 0 | AQ25: =L25 -> 0 | AR25: =M25 -> 0 | ... BN25: =AI25 -> 0
A26: 3.2. | B26: Zaudējumi... | C26: EUR | D26: =AK26+NPV($C$3,AL26:BN26) -> 0 | E26: =SUM(F26:AI26) -> 0 | AK26: =F26 -> 0 | AL26: =G26 -> 0 | AM26: =H26 -> 0 | AN26: =I26 -> 0 | AO26: =J26 -> 0 | AP26: =K26 -> 0 | AQ26: =L26 -> 0 | AR26: =M26 -> 0 | ... BN26: =AI26 -> 0
A27: 3.3. | B27: Zaudējumi... | C27: EUR | D27: =AK27+NPV($C$3,AL27:BN27) -> 0 | E27: =SUM(F27:AI27) -> 0 | AK27: =F27 -> 0 | AL27: =G27 -> 0 | AM27: =H27 -> 0 | AN27: =I27 -> 0 | AO27: =J27 -> 0 | AP27: =K27 -> 0 | AQ27: =L27 -> 0 | AR27: =M27 -> 0 | ... BN27: =AI27 -> 0
A28: 3.4. | B28: Zaudējumi... | C28: EUR | D28: =AK28+NPV($C$3,AL28:BN28) -> 0 | E28: =SUM(F28:AI28) -> 0 | AK28: =F28 -> 0 | AL28: =G28 -> 0 | AM28: =H28 -> 0 | AN28: =I28 -> 0 | AO28: =J28 -> 0 | AP28: =K28 -> 0 | AQ28: =L28 -> 0 | AR28: =M28 -> 0 | ... BN28: =AI28 -> 0
A29: 3.5. | B29: Zaudējumi... | C29: EUR | D29: =AK29+NPV($C$3,AL29:BN29) -> 0 | E29: =SUM(F29:AI29) -> 0 | AK29: =F29 -> 0 | AL29: =G29 -> 0 | AM29: =H29 -> 0 | AN29: =I29 -> 0 | AO29: =J29 -> 0 | AP29: =K29 -> 0 | AQ29: =L29 -> 0 | AR29: =M29 -> 0 | ... BN29: =AI29 -> 0
A30: 3.6. | B30: Zaudējumi... | C30: EUR | D30: =AK30+NPV($C$3,AL30:BN30) -> 0 | E30: =SUM(F30:AI30) -> 0 | AK30: =F30 -> 0 | AL30: =G30 -> 0 | AM30: =H30 -> 0 | AN30: =I30 -> 0 | AO30: =J30 -> 0 | AP30: =K30 -> 0 | AQ30: =L30 -> 0 | AR30: =M30 -> 0 | ... BN30: =AI30 -> 0
A31: 3.7. | B31: Zaudējumi... | C31: EUR | D31: =AK31+NPV($C$3,AL31:BN31) -> 0 | E31: =SUM(F31:AI31) -> 0 | AK31: =F31 -> 0 | AL31: =G31 -> 0 | AM31: =H31 -> 0 | AN31: =I31 -> 0 | AO31: =J31 -> 0 | AP31: =K31 -> 0 | AQ31: =L31 -> 0 | AR31: =M31 -> 0 | ... BN31: =AI31 -> 0
A32: 3.8. | B32: Zaudējumi... | C32: EUR | D32: =AK32+NPV($C$3,AL32:BN32) -> 0 | E32: =SUM(F32:AI32) -> 0 | AK32: =F32 -> 0 | AL32: =G32 -> 0 | AM32: =H32 -> 0 | AN32: =I32 -> 0 | AO32: =J32 -> 0 | AP32: =K32 -> 0 | AQ32: =L32 -> 0 | AR32: =M32 -> 0 | ... BN32: =AI32 -> 0
A33: 3.9. | B33: Zaudējumi... | C33: EUR | D33: =AK33+NPV($C$3,AL33:BN33) -> 0 | E33: =SUM(F33:AI33) -> 0 | AK33: =F33 -> 0 | AL33: =G33 -> 0 | AM33: =H33 -> 0 | AN33: =I33 -> 0 | AO33: =J33 -> 0 | AP33: =K33 -> 0 | AQ33: =L33 -> 0 | AR33: =M33 -> 0 | ... BN33: =AI33 -> 0
A34: 4 | B34: Sociālekonomiskās izmaksas | C34: EUR | D34: =AK34+NPV($C$3,AL34:BN34) -> -5895710.4 | E34: =SUM(F34:AI34) -> -6525000 | F34: =SUM(F35:F38) -> -975497 | G34: =SUM(G35:G38) -> -1392368 | H34: =SUM(H35:H38) -> -1387368 | I34: =SUM(I35:I38) -> -1387399 | J34: =SUM(J35:J38) -> -1382368 | K34: =SUM(K35:K38) -> 0 | L34: =SUM(L35:L38) -> 0 | M34: =SUM(M35:M38) -> 0 | ... AI34: =SUM(AI35:AI38) -> 0 | AK34: =F34 -> -975497 | AL34: =G34 -> -1392368 | AM34: =H34 -> -1387368 | AN34: =I34 -> -1387399 | AO34: =J34 -> -1382368 | AP34: =K34 -> 0 | AQ34: =L34 -> 0 | AR34: =M34 -> 0 | ... BN34: =AI34 -> 0
A35: 4.1. | B35: Investīciju izmaksas (-) | C35: EUR | D35: =AK35+NPV($C$3,AL35:BN35) -> -5895710.4 | E35: =SUM(F35:AI35) -> -6525000 | F35: ='3. DL invest.n.pl.AR pr.'!F25+'3. DL invest.n.pl.AR pr.'!F28 -> -975497 | G35: ='3. DL invest.n.pl.AR pr.'!G25+'3. DL invest.n.pl.AR pr.'!G28 -> -1392368 | H35: ='3. DL invest.n.pl.AR pr.'!H25+'3. DL invest.n.pl.AR pr.'!H28 -> -1387368 | I35: ='3. DL invest.n.pl.AR pr.'!I25+'3. DL invest.n.pl.AR pr.'!I28 -> -1387399 | J35: ='3. DL invest.n.pl.AR pr.'!J25+'3. DL invest.n.pl.AR pr.'!J28 -> -1382368 | K35: ='3. DL invest.n.pl.AR pr.'!K25+'3. DL invest.n.pl.AR pr.'!K28 -> 0 | L35: ='3. DL invest.n.pl.AR pr.'!L25+'3. DL invest.n.pl.AR pr.'!L28 -> 0 | M35: ='3. DL invest.n.pl.AR pr.'!M25+'3. DL invest.n.pl.AR pr.'!M28 -> 0 | ... AI35: ='3. DL invest.n.pl.AR pr.'!AI25+'3. DL invest.n.pl.AR pr.'!AI28 -> 0 | AK35: =F35 -> -975497 | AL35: =G35 -> -1392368 | AM35: =H35 -> -1387368 | AN35: =I35 -> -1387399 | AO35: =J35 -> -1382368 | AP35: =K35 -> 0 | AQ35: =L35 -> 0 | AR35: =M35 -> 0 | ... BN35: =AI35 -> 0
A36: 4.2. | B36: Darbības izmaksas (+/-) | C36: EUR | D36: =AK36+NPV($C$3,AL36:BN36) -> 0 | E36: =SUM(F36:AI36) -> 0 | F36: ='3. DL invest.n.pl.AR pr.'!F16-'2. DL invest.n.pl.BEZ pr.'!E16 -> 0 | G36: ='3. DL invest.n.pl.AR pr.'!G16-'2. DL invest.n.pl.BEZ pr.'!F16 -> 0 | H36: ='3. DL invest.n.pl.AR pr.'!H16-'2. DL invest.n.pl.BEZ pr.'!G16 -> 0 | I36: ='3. DL invest.n.pl.AR pr.'!I16-'2. DL invest.n.pl.BEZ pr.'!H16 -> 0 | J36: ='3. DL invest.n.pl.AR pr.'!J16-'2. DL invest.n.pl.BEZ pr.'!I16 -> 0 | K36: ='3. DL invest.n.pl.AR pr.'!K16-'2. DL invest.n.pl.BEZ pr.'!J16 -> 0 | L36: ='3. DL invest.n.pl.AR pr.'!L16-'2. DL invest.n.pl.BEZ pr.'!K16 -> 0 | M36: ='3. DL invest.n.pl.AR pr.'!M16-'2. DL invest.n.pl.BEZ pr.'!L16 -> 0 | ... AI36: ='3. DL invest.n.pl.AR pr.'!AI16-'2. DL invest.n.pl.BEZ pr.'!AH16 -> 0 | AK36: =F36 -> 0 | AL36: =G36 -> 0 | AM36: =H36 -> 0 | AN36: =I36 -> 0 | AO36: =J36 -> 0 | AP36: =K36 -> 0 | AQ36: =L36 -> 0 | AR36: =M36 -> 0 | ... BN36: =AI36 -> 0
A37: 4.3. | B37: Projekta atlikusī vērtība (+) | C37: EUR | D37: =AK37+NPV($C$3,AL37:BN37) -> 0 | E37: =SUM(F37:AI37) -> 0 | F37: ='3. DL invest.n.pl.AR pr.'!F30 -> 0 | G37: ='3. DL invest.n.pl.AR pr.'!G30 -> 0 | H37: ='3. DL invest.n.pl.AR pr.'!H30 -> 0 | I37: ='3. DL invest.n.pl.AR pr.'!I30 -> 0 | J37: ='3. DL invest.n.pl.AR pr.'!J30 -> 0 | K37: ='3. DL invest.n.pl.AR pr.'!K30 -> 0 | L37: ='3. DL invest.n.pl.AR pr.'!L30 -> 0 | M37: ='3. DL invest.n.pl.AR pr.'!M30 -> 0 | ... AI37: ='3. DL invest.n.pl.AR pr.'!AI30 -> 0 | AK37: =F37 -> 0 | AL37: =G37 -> 0 | AM37: =H37 -> 0 | AN37: =I37 -> 0 | AO37: =J37 -> 0 | AP37: =K37 -> 0 | AQ37: =L37 -> 0 | AR37: =M37 -> 0 | ... BN37: =AI37 -> 0
A38: 5 | B38: Dati darba spēka izmaksām un citām fiskālajām korekcijām | C38: EUR | D38: =AK38+NPV($C$3,AL38:BN38) -> 0 | E38: =SUM(F38:AI38) -> 0 | F38: =SUM(F39:F41) -> 0 | G38: =SUM(G39:G41) -> 0 | H38: =SUM(H39:H41) -> 0 | I38: =SUM(I39:I41) -> 0 | J38: =SUM(J39:J41) -> 0 | K38: =SUM(K39:K41) -> 0 | L38: =SUM(L39:L41) -> 0 | M38: =SUM(M39:M41) -> 0 | ... AI38: =SUM(AI39:AI41) -> 0 | AK38: =F38 -> 0 | AL38: =G38 -> 0 | AM38: =H38 -> 0 | AN38: =I38 -> 0 | AO38: =J38 -> 0 | AP38: =K38 -> 0 | AQ38: =L38 -> 0 | AR38: =M38 -> 0 | ... BN38: =AI38 -> 0
A39: 5.1. | B39: Projekta darbības izmaksu darbaspēka izmaksas (+/-)** | C39: EUR | D39: =AK39+NPV($C$3,AL39:BN39) -> 0 | E39: =SUM(F39:AI39) -> 0 | AK39: =F39 -> 0 | AL39: =G39 -> 0 | AM39: =H39 -> 0 | AN39: =I39 -> 0 | AO39: =J39 -> 0 | AP39: =K39 -> 0 | AQ39: =L39 -> 0 | AR39: =M39 -> 0 | ... BN39: =AI39 -> 0
A40: 5.2. | B40: Investīciju darba spēka izmaksas (+)** | C40: EUR | D40: =AK40+NPV($C$3,AL40:BN40) -> 0 | E40: =SUM(F40:AI40) -> 0 | AK40: =F40 -> 0 | AL40: =G40 -> 0 | AM40: =H40 -> 0 | AN40: =I40 -> 0 | AO40: =J40 -> 0 | AP40: =K40 -> 0 | AQ40: =L40 -> 0 | AR40: =M40 -> 0 | ... BN40: =AI40 -> 0
A41: 5.3. | B41: Citas fiskālās korekcijas (+)* | C41: EUR | D41: =AK41+NPV($C$3,AL41:BN41) -> 0 | E41: =SUM(F41:AI41) -> 0 | AK41: =F41 -> 0 | AL41: =G41 -> 0 | AM41: =H41 -> 0 | AN41: =I41 -> 0 | AO41: =J41 -> 0 | AP41: =K41 -> 0 | AQ41: =L41 -> 0 | AR41: =M41 -> 0 | ... BN41: =AI41 -> 0
B42: Neto naudas plūsma | D42: =AK42+NPV($C$3,AL42:BN42) -> 42999666 | E42: =SUM(F42:AI42) -> 57449485 | F42: =F8+F18+F24+F34 -> -1491 | G42: =G8+G18+G24+G34 -> 1131193 | H42: =H8+H18+H24+H34 -> 2685748 | I42: =I8+I18+I24+I34 -> 4235272 | J42: =J8+J18+J24+J34 -> 5789858 | K42: =K8+K18+K24+K34 -> 8721781 | L42: =L8+L18+L24+L34 -> 8721781 | M42: =M8+M18+M24+M34 -> 8721781 | ... AI42: =AI8+AI18+AI24+AI34 -> 0 | AK42: =F42 -> -1491 | AL42: =G42 -> 1131193 | AM42: =H42 -> 2685748 | AN42: =I42 -> 4235272 | AO42: =J42 -> 5789858 | AP42: =K42 -> 8721781 | AQ42: =L42 -> 8721781 | AR42: =M42 -> 8721781 | ... BN42: =AI42 -> 0
A43: 6 | B43: Rādītāju aprēķināšana
A44: 6.1. | B44: Ekonomiskā neto pašreizējā vērtība (ENPV) | D44: =D42 -> 42999666
A45: 6.2. | B45: Ekonomiskā ienesīguma norma (ERR) | D45: =IRR(F42:AI42) -> 760.05253
A46: 6.3. | B46: Ieguvumu un izmaksu attiecība (B/C) | D46: =(D8+D18)/-(D24+D34) -> 8.2933817
A48: 7 | B48: Projektā plānotie iznākuma rādītāji
A49: 7.1. | AI49: =SUM(F49:AH49) -> 0
A50: 7.2. | AI50: =SUM(F50:AH50) -> 0
A51: 7.3. | AI51: =SUM(F51:AH51) -> 0
A52: 7.4. | AI52: =SUM(F52:AH52) -> 0
A55: * Ja projekta investīcijās iekļautais PVN nav atgūstams, tad norāda investīciju izmaksās ietverto PVN atbilstoši projekta iesnieguma 3.pielikumā "Projekta budžeta kopsavilkums" norādītajam. Ja projekta investīcijās iekļautais PVN ir atgūstams pilnībā PVN nenorāda, jo par to jau investīciju izmaksas ir jau samazinātas finanšu analīzē norādot neattiecināmo PVN izklājlapās 1.1.A Iesniedzējs-1.3.2. partneris-kom-2 37.rindā
A56: ** Norāda izmaksās iekļauto darba devēja valsts sociālās apdrošināšanas obligāto iemaksu daļu

Sheet 6. DL finanšu_analīze
A1: REZULTĀTU LAPA Nr.6
B3: Reālā finansiālā diskonta likme | F3: 0.04
A4: KAPITĀLA NAUDAS PLŪSMA
F5: NPV | H5: ='5.DL soc.econom. analīze'!F5 -> 1 | I5: ='5.DL soc.econom. analīze'!G5 -> 2 | J5: ='5.DL soc.econom. analīze'!H5 -> 3 | K5: ='5.DL soc.econom. analīze'!I5 -> 4 | L5: ='5.DL soc.econom. analīze'!J5 -> 5 | M5: ='5.DL soc.econom. analīze'!K5 -> 6 | N5: ='5.DL soc.econom. analīze'!L5 -> 7 | O5: ='5.DL soc.econom. analīze'!M5 -> 8 | ... AK5: ='5.DL soc.econom. analīze'!AI5 -> 30
A6: 1 | B6: Naudas plūsmas pozīcijas | E6: Gads | F6: Kopā | G6: Kopā | H6: ='5.DL soc.econom. analīze'!F6 -> 2024 | I6: ='5.DL soc.econom. analīze'!G6 -> 2025 | J6: ='5.DL soc.econom. analīze'!H6 -> 2026 | K6: ='5.DL soc.econom. analīze'!I6 -> 2027 | L6: ='5.DL soc.econom. analīze'!J6 -> 2028 | M6: ='5.DL soc.econom. analīze'!K6 -> 2029 | N6: ='5.DL soc.econom. analīze'!L6 -> 2030 | O6: ='5.DL soc.econom. analīze'!M6 -> 2031 | ... AK6: ='5.DL soc.econom. analīze'!AI6 -> 2053
B7: 1.1. | C7: Projekta ieņēmumi | E7: EUR | F7: =H7+NPV($F$3,I7:AK7) -> 0 | G7: =SUM(H7:AK7) -> 0 | H7: ='3. DL invest.n.pl.AR pr.'!F9-'2. DL invest.n.pl.BEZ pr.'!E9 -> 0 | I7: ='3. DL invest.n.pl.AR pr.'!G9-'2. DL invest.n.pl.BEZ pr.'!F9 -> 0 | J7: ='3. DL invest.n.pl.AR pr.'!H9-'2. DL invest.n.pl.BEZ pr.'!G9 -> 0 | K7: ='3. DL invest.n.pl.AR pr.'!I9-'2. DL invest.n.pl.BEZ pr.'!H9 -> 0 | L7: ='3. DL invest.n.pl.AR pr.'!J9-'2. DL invest.n.pl.BEZ pr.'!I9 -> 0 | M7: ='3. DL invest.n.pl.AR pr.'!K9-'2. DL invest.n.pl.BEZ pr.'!J9 -> 0 | N7: ='3. DL invest.n.pl.AR pr.'!L9-'2. DL invest.n.pl.BEZ pr.'!K9 -> 0 | O7: ='3. DL invest.n.pl.AR pr.'!M9-'2. DL invest.n.pl.BEZ pr.'!L9 -> 0 | ... AK7: ='3. DL invest.n.pl.AR pr.'!AI9-'2. DL invest.n.pl.BEZ pr.'!AH9 -> 0
B8: 1.2. | C8: Projekta atlikusī vērtība | E8: EUR | F8: =H8+NPV($F$3,I8:AK8) -> 0 | G8: =SUM(H8:AK8) -> 0 | H8: ='3. DL invest.n.pl.AR pr.'!F29 -> 0 | I8: ='3. DL invest.n.pl.AR pr.'!G29 -> 0 | J8: ='3. DL invest.n.pl.AR pr.'!H29 -> 0 | K8: ='3. DL invest.n.pl.AR pr.'!I29 -> 0 | L8: ='3. DL invest.n.pl.AR pr.'!J29 -> 0 | M8: ='3. DL invest.n.pl.AR pr.'!K29 -> 0 | N8: ='3. DL invest.n.pl.AR pr.'!L29 -> 0 | O8: ='3. DL invest.n.pl.AR pr.'!M29 -> 0 | ... AK8: ='3. DL invest.n.pl.AR pr.'!AI29 -> 0
B9: 1.3. | C9: Projekta darbības izmaksas | E9: EUR | F9: =H9+NPV($F$3,I9:AK9) -> 0 | G9: =SUM(H9:AK9) -> 0 | H9: ='3. DL invest.n.pl.AR pr.'!F16-'2. DL invest.n.pl.BEZ pr.'!E16 -> 0 | I9: ='3. DL invest.n.pl.AR pr.'!G16-'2. DL invest.n.pl.BEZ pr.'!F16 -> 0 | J9: ='3. DL invest.n.pl.AR pr.'!H16-'2. DL invest.n.pl.BEZ pr.'!G16 -> 0 | K9: ='3. DL invest.n.pl.AR pr.'!I16-'2. DL invest.n.pl.BEZ pr.'!H16 -> 0 | L9: ='3. DL invest.n.pl.AR pr.'!J16-'2. DL invest.n.pl.BEZ pr.'!I16 -> 0 | M9: ='3. DL invest.n.pl.AR pr.'!K16-'2. DL invest.n.pl.BEZ pr.'!J16 -> 0 | N9: ='3. DL invest.n.pl.AR pr.'!L16-'2. DL invest.n.pl.BEZ pr.'!K16 -> 0 | O9: ='3. DL invest.n.pl.AR pr.'!M16-'2. DL invest.n.pl.BEZ pr.'!L16 -> 0 | ... AK9: ='3. DL invest.n.pl.AR pr.'!AI16-'2. DL invest.n.pl.BEZ pr.'!AH16 -> 0
B10: 1.4. | C10: Finansēšanas izmaksas | E10: EUR | F10: =H10+NPV($F$3,I10:AK10) -> 0 | G10: =SUM(H10:AK10) -> 0 | H10: ='4.DL Finansiālā ilgtspēja'!E21 -> 0 | I10: ='4.DL Finansiālā ilgtspēja'!F21 -> 0 | J10: ='4.DL Finansiālā ilgtspēja'!G21 -> 0 | K10: ='4.DL Finansiālā ilgtspēja'!H21 -> 0 | L10: ='4.DL Finansiālā ilgtspēja'!I21 -> 0 | M10: ='4.DL Finansiālā ilgtspēja'!J21 -> 0 | N10: ='4.DL Finansiālā ilgtspēja'!K21 -> 0 | O10: ='4.DL Finansiālā ilgtspēja'!L21 -> 0 | ... AK10: ='4.DL Finansiālā ilgtspēja'!AH21 -> 0
B11: 1.5. | C11: Aizņēmuma pamatsumma un procenti | E11: EUR | F11: =H11+NPV($F$3,I11:AK11) -> 0 | G11: =SUM(H11:AK11) -> 0 | H11: ='4.DL Finansiālā ilgtspēja'!E22+'4.DL Finansiālā ilgtspēja'!E23 -> 0 | I11: ='4.DL Finansiālā ilgtspēja'!F22+'4.DL Finansiālā ilgtspēja'!F23 -> 0 | J11: ='4.DL Finansiālā ilgtspēja'!G22+'4.DL Finansiālā ilgtspēja'!G23 -> 0 | K11: ='4.DL Finansiālā ilgtspēja'!H22+'4.DL Finansiālā ilgtspēja'!H23 -> 0 | L11: ='4.DL Finansiālā ilgtspēja'!I22+'4.DL Finansiālā ilgtspēja'!I23 -> 0 | M11: ='4.DL Finansiālā ilgtspēja'!J22+'4.DL Finansiālā ilgtspēja'!J23 -> 0 | N11: ='4.DL Finansiālā ilgtspēja'!K22+'4.DL Finansiālā ilgtspēja'!K23 -> 0 | O11: ='4.DL Finansiālā ilgtspēja'!L22+'4.DL Finansiālā ilgtspēja'!L23 -> 0 | ... AK11: ='4.DL Finansiālā ilgtspēja'!AH22+'4.DL Finansiālā ilgtspēja'!AH23 -> 0
B12: 1.6. | C12: Projektā ieguldītais kapitāls | E12: EUR | F12: =H12+NPV($F$3,I12:AK12) -> -901808.81 | G12: =SUM(H12:AK12) -> -978750 | H12: =-('9. DL PIV 2.pielikums'!B6+'9. DL PIV 2.pielikums'!B7+'9. DL PIV 2.pielikums'!B8+'9. DL PIV 2.pielikums'!B9+'9. DL PIV 2.pielikums'!B11+'12. AL budžets kopā'!H36) -> -146324.55 | I12: =-('9. DL PIV 2.pielikums'!D6+'9. DL PIV 2.pielikums'!D7+'9. DL PIV 2.pielikums'!D8+'9. DL PIV 2.pielikums'!D9+'9. DL PIV 2.pielikums'!D11+'12. AL budžets kopā'!J36) -> -208855.2 | J12: =-('9. DL PIV 2.pielikums'!F6+'9. DL PIV 2.pielikums'!F7+'9. DL PIV 2.pielikums'!F8+'9. DL PIV 2.pielikums'!F9+'9. DL PIV 2.pielikums'!F11+'12. AL budžets kopā'!L36) -> -208105.2 | K12: =-('9. DL PIV 2.pielikums'!H6+'9. DL PIV 2.pielikums'!H7+'9. DL PIV 2.pielikums'!H8+'9. DL PIV 2.pielikums'!H9+'9. DL PIV 2.pielikums'!H11+'12. AL budžets kopā'!N36) -> -208109.85 | L12: =-('9. DL PIV 2.pielikums'!J6+'9. DL PIV 2.pielikums'!J7+'9. DL PIV 2.pielikums'!J8+'9. DL PIV 2.pielikums'!J9+'9. DL PIV 2.pielikums'!J11+'12. AL budžets kopā'!P36) -> -207355.2 | M12: =-('9. DL PIV 2.pielikums'!L6+'9. DL PIV 2.pielikums'!L7+'9. DL PIV 2.pielikums'!L8+'9. DL PIV 2.pielikums'!L9+'9. DL PIV 2.pielikums'!L11) -> 0 | N12: ='9. DL PIV 2.pielikums'!N6+'9. DL PIV 2.pielikums'!N7+'9. DL PIV 2.pielikums'!N8+'9. DL PIV 2.pielikums'!N9+'9. DL PIV 2.pielikums'!N11 -> 0 | O12: =-('9. DL PIV 2.pielikums'!P6+'9. DL PIV 2.pielikums'!P7+'9. DL PIV 2.pielikums'!P8+'9. DL PIV 2.pielikums'!P9+'9. DL PIV 2.pielikums'!P11) -> 0 | P12: =-('9. DL PIV 2.pielikums'!R6+'9. DL PIV 2.pielikums'!R7+'9. DL PIV 2.pielikums'!R8+'9. DL PIV 2.pielikums'!R9+'9. DL PIV 2.pielikums'!R11) -> 0
B13: 1.7. | C13: Neto naudas plūsma | E13: EUR | F13: =H13+NPV($F$3,I13:AK13) -> -901808.81 | G13: =SUM(H13:AK13) -> -978750 | H13: =SUM(H7:H12) -> -146324.55 | I13: =SUM(I7:I12) -> -208855.2 | J13: =SUM(J7:J12) -> -208105.2 | K13: =SUM(K7:K12) -> -208109.85 | L13: =SUM(L7:L12) -> -207355.2 | M13: =SUM(M7:M12) -> 0 | N13: =SUM(N7:N12) -> 0 | O13: =SUM(O7:O12) -> 0 | ... AK13: =SUM(AK7:AK12) -> 0
A15: 2 | B15: Rādītāju aprēķināšana
B16: 2.1. | C16: Finansiālais kapitāla neto tagadnes ienesīgums (FNPVk) | I16: =F13 -> -901808.81
B17: 2.2. | C17: Finanšu iekšējā kapitāla peļņas norma (FRRk) | I17: =IRR(H13:AK13,K17) -> #NUM! | K17: -0.5 | L17: Ja šūnā I17 neaprēķina rezultātu, šūnā K17 norādiet aptuveno rezultāta prognozi, līdz aprēķins tiek veikts korekti
A19: INVESTĪCIJU NAUDAS PLŪSMA
F20: NPV | H20: =H5 -> 1 | I20: =I5 -> 2 | J20: =J5 -> 3 | K20: =K5 -> 4 | L20: =L5 -> 5 | M20: =M5 -> 6 | N20: =N5 -> 7 | O20: =O5 -> 8 | ... AK20: =AK5 -> 30
A21: 3 | B21: Naudas plūsmas pozīcijas | E21: Gads | F21: Kopā | G21: Kopā | H21: =H6 -> 2024 | I21: =I6 -> 2025 | J21: =J6 -> 2026 | K21: =K6 -> 2027 | L21: =L6 -> 2028 | M21: =M6 -> 2029 | N21: =N6 -> 2030 | O21: =O6 -> 2031 | ... AK21: =AK6 -> 2053
B22: 3.1. | C22: Projekta ieņēmumi | E22: EUR | F22: =H22+NPV($F$3,I22:AK22) -> 0 | G22: =SUM(H22:AK22) -> 0 | H22: =H7 -> 0 | I22: =I7 -> 0 | J22: =J7 -> 0 | K22: =K7 -> 0 | L22: =L7 -> 0 | M22: =M7 -> 0 | N22: =N7 -> 0 | O22: =O7 -> 0 | ... AK22: =AK7 -> 0 | AL22: #REF!
B23: 3.2. | C23: Projekta darbības izmaksas | E23: EUR | F23: =H23+NPV($F$3,I23:AK23) -> 0 | G23: =SUM(H23:AK23) -> 0 | H23: =H9 -> 0 | I23: =I9 -> 0 | J23: =J9 -> 0 | K23: =K9 -> 0 | L23: =L9 -> 0 | M23: =M9 -> 0 | N23: =N9 -> 0 | O23: =O9 -> 0 | ... AK23: =AK9 -> 0 | AL23: #REF!
B24: 3.3. | C24: Investīciju izmaksas (bez neatt.PVN) | E24: EUR | F24: =H24+NPV($F$3,I24:AK24) -> -6012058.7 | G24: =SUM(H24:AK24) -> -6525000 | H24: ='3. DL invest.n.pl.AR pr.'!F25+'3. DL invest.n.pl.AR pr.'!F28 -> -975497 | I24: ='3. DL invest.n.pl.AR pr.'!G25+'3. DL invest.n.pl.AR pr.'!G28 -> -1392368 | J24: ='3. DL invest.n.pl.AR pr.'!H25+'3. DL invest.n.pl.AR pr.'!H28 -> -1387368 | K24: ='3. DL invest.n.pl.AR pr.'!I25+'3. DL invest.n.pl.AR pr.'!I28 -> -1387399 | L24: ='3. DL invest.n.pl.AR pr.'!J25+'3. DL invest.n.pl.AR pr.'!J28 -> -1382368 | M24: ='3. DL invest.n.pl.AR pr.'!K25+'3. DL invest.n.pl.AR pr.'!K28 -> 0 | N24: ='3. DL invest.n.pl.AR pr.'!L25+'3. DL invest.n.pl.AR pr.'!L28 -> 0 | O24: ='3. DL invest.n.pl.AR pr.'!M25+'3. DL invest.n.pl.AR pr.'!M28 -> 0 | ... AK24: ='3. DL invest.n.pl.AR pr.'!AI25+'3. DL invest.n.pl.AR pr.'!AI28 -> 0
B25: 3.3.1. | C25: Attiecināmās Investīciju izmaksas bez neparedzētajiem izdevumiem | E25: EUR | F25: =H25+NPV($F$3,I25:AK25) -> -5761853.2 | G25: =SUM(H25:AK25) -> -6254969 | H25: ='3. DL invest.n.pl.AR pr.'!F26 -> -925497 | I25: ='3. DL invest.n.pl.AR pr.'!G26 -> -1332368 | J25: ='3. DL invest.n.pl.AR pr.'!H26 -> -1332368 | K25: ='3. DL invest.n.pl.AR pr.'!I26 -> -1332368 | L25: ='3. DL invest.n.pl.AR pr.'!J26 -> -1332368 | M25: ='3. DL invest.n.pl.AR pr.'!K26 -> 0 | N25: ='3. DL invest.n.pl.AR pr.'!L26 -> 0 | O25: ='3. DL invest.n.pl.AR pr.'!M26 -> 0 | ... AK25: ='3. DL invest.n.pl.AR pr.'!AI26 -> 0
B26: 3.4. | C26: Projekta atlikusī vērtība | E26: EUR | F26: =H26+NPV($F$3,I26:AK26) -> 0 | G26: =SUM(H26:AK26) -> 0 | H26: =H8 -> 0 | I26: =I8 -> 0 | J26: =J8 -> 0 | K26: =K8 -> 0 | L26: =L8 -> 0 | M26: =M8 -> 0 | N26: =N8 -> 0 | O26: =O8 -> 0 | ... AK26: =AK8 -> 0
B27: 3.5. | C27: Neto naudas plūsma | E27: EUR | F27: =H27+NPV($F$3,I27:AK27) -> -6012058.7 | G27: =SUM(H27:AK27) -> -6525000 | H27: =H22+H23+H24+H26 -> -975497 | I27: =I22+I23+I24+I26 -> -1392368 | J27: =J22+J23+J24+J26 -> -1387368 | K27: =K22+K23+K24+K26 -> -1387399 | L27: =L22+L23+L24+L26 -> -1382368 | M27: =M22+M23+M24+M26 -> 0 | N27: =N22+N23+N24+N26 -> 0 | O27: =O22+O23+O24+O26 -> 0 | ... AK27: =AK22+AK23+AK24+AK26 -> 0
A29: 4 | B29: Rādītāju aprēķināšana
B30: 4.1. | C30: Investīciju finansiālais neto tagadnes ienesīgums (FNPVc) | I30: =F27 -> -6012058.7
B31: 4.2. | C31: Investīciju finansiālā peļņas norma (FRRc) | I31: =IRR(H27:AK27,K31) -> #NUM! | K31: -0.5 | L31: Ja šūnā I31 neaprēķina rezultātu, šūnā K31 norādiet aptuveno rezultāta prognozi, līdz aprēķins tiek veikts korekti

Sheet 7. DL jut. analīze-Soc.
A1: DARBA LAPA Nr.7
A2: JUTĪGUMA ANALĪZE SOCIĀLEKONOMISKAJAI ANALĪZEI
B3: Reālā sociālā diskonta likme | C3: ='5.DL soc.econom. analīze'!C3 -> 0.05
E5: NPV | G5: ='4.DL Finansiālā ilgtspēja'!E3 -> 1 | H5: ='4.DL Finansiālā ilgtspēja'!F3 -> 2 | I5: ='4.DL Finansiālā ilgtspēja'!G3 -> 3 | J5: ='4.DL Finansiālā ilgtspēja'!H3 -> 4 | K5: ='4.DL Finansiālā ilgtspēja'!I3 -> 5 | L5: ='4.DL Finansiālā ilgtspēja'!J3 -> 6 | M5: ='4.DL Finansiālā ilgtspēja'!K3 -> 7 | N5: ='4.DL Finansiālā ilgtspēja'!L3 -> 8 | ... AJ5: ='4.DL Finansiālā ilgtspēja'!AH3 -> 30
C6: gads | D6: Var. | E6: Kopā | F6: Kopā | G6: ='4.DL Finansiālā ilgtspēja'!E4 -> 2024 | H6: ='4.DL Finansiālā ilgtspēja'!F4 -> 2025 | I6: ='4.DL Finansiālā ilgtspēja'!G4 -> 2026 | J6: ='4.DL Finansiālā ilgtspēja'!H4 -> 2027 | K6: ='4.DL Finansiālā ilgtspēja'!I4 -> 2028 | L6: ='4.DL Finansiālā ilgtspēja'!J4 -> 2029 | M6: ='4.DL Finansiālā ilgtspēja'!K4 -> 2030 | N6: ='4.DL Finansiālā ilgtspēja'!L4 -> 2031 | ... AJ6: ='4.DL Finansiālā ilgtspēja'!AH4 -> 2053
A8: 1 | B8: Sociālekonomiskie ieguvumi (+) | C8: EUR | D8: 0 | E8: =G8+NPV($C$3,H8:AJ8) -> 48895377 | F8: =SUM(G8:AJ8) -> 63974485 | G8: =SUM(G9:G17) -> 974006 | H8: =SUM(H9:H17) -> 2523561 | I8: =SUM(I9:I17) -> 4073116 | J8: =SUM(J9:J17) -> 5622671 | K8: =SUM(K9:K17) -> 7172226 | L8: =SUM(L9:L17) -> 8721781 | M8: =SUM(M9:M17) -> 8721781 | N8: =SUM(N9:N17) -> 8721781 | ... AJ8: =SUM(AJ9:AJ17) -> 0
A9: 1.1. | B9: ='5.DL soc.econom. analīze'!B9 -> Projekta rezultātā nodarbināto jauniešu radītais IKP | C9: EUR | D9: 0 | E9: =G9+NPV($C$3,H9:AJ9) -> 48895377 | F9: =SUM(G9:AJ9) -> 63974485 | G9: ='5.DL soc.econom. analīze'!F9*(1+'7. DL jut. analīze-Soc.'!$D9) -> 974006 | H9: ='5.DL soc.econom. analīze'!G9*(1+'7. DL jut. analīze-Soc.'!$D9) -> 2523561 | I9: ='5.DL soc.econom. analīze'!H9*(1+'7. DL jut. analīze-Soc.'!$D9) -> 4073116 | J9: ='5.DL soc.econom. analīze'!I9*(1+'7. DL jut. analīze-Soc.'!$D9) -> 5622671 | K9: ='5.DL soc.econom. analīze'!J9*(1+'7. DL jut. analīze-Soc.'!$D9) -> 7172226 | L9: ='5.DL soc.econom. analīze'!K9*(1+'7. DL jut. analīze-Soc.'!$D9) -> 8721781 | M9: ='5.DL soc.econom. analīze'!L9*(1+'7. DL jut. analīze-Soc.'!$D9) -> 8721781 | N9: ='5.DL soc.econom. analīze'!M9*(1+'7. DL jut. analīze-Soc.'!$D9) -> 8721781 | ... AJ9: ='5.DL soc.econom. analīze'!AI9*(1+'7. DL jut. analīze-Soc.'!$D9) -> 0
A10: 1.2. | B10: ='5.DL soc.econom. analīze'!B10 -> Ieguvums ... | C10: EUR | D10: 0 | E10: =G10+NPV($C$3,H10:AJ10) -> 0 | F10: =SUM(G10:AJ10) -> 0 | G10: ='5.DL soc.econom. analīze'!F10*(1+'7. DL jut. analīze-Soc.'!$D10) -> 0 | H10: ='5.DL soc.econom. analīze'!G10*(1+'7. DL jut. analīze-Soc.'!$D10) -> 0 | I10: ='5.DL soc.econom. analīze'!H10*(1+'7. DL jut. analīze-Soc.'!$D10) -> 0 | J10: ='5.DL soc.econom. analīze'!I10*(1+'7. DL jut. analīze-Soc.'!$D10) -> 0 | K10: ='5.DL soc.econom. analīze'!J10*(1+'7. DL jut. analīze-Soc.'!$D10) -> 0 | L10: ='5.DL soc.econom. analīze'!K10*(1+'7. DL jut. analīze-Soc.'!$D10) -> 0 | M10: ='5.DL soc.econom. analīze'!L10*(1+'7. DL jut. analīze-Soc.'!$D10) -> 0 | N10: ='5.DL soc.econom. analīze'!M10*(1+'7. DL jut. analīze-Soc.'!$D10) -> 0 | ... AJ10: ='5.DL soc.econom. analīze'!AI10*(1+'7. DL jut. analīze-Soc.'!$D10) -> 0
A11: 1.3. | B11: ='5.DL soc.econom. analīze'!B11 -> Ieguvums ... | C11: EUR | D11: 0 | E11: =G11+NPV($C$3,H11:AJ11) -> 0 | F11: =SUM(G11:AJ11) -> 0 | G11: ='5.DL soc.econom. analīze'!F11*(1+'7. DL jut. analīze-Soc.'!$D11) -> 0 | H11: ='5.DL soc.econom. analīze'!G11*(1+'7. DL jut. analīze-Soc.'!$D11) -> 0 | I11: ='5.DL soc.econom. analīze'!H11*(1+'7. DL jut. analīze-Soc.'!$D11) -> 0 | J11: ='5.DL soc.econom. analīze'!I11*(1+'7. DL jut. analīze-Soc.'!$D11) -> 0 | K11: ='5.DL soc.econom. analīze'!J11*(1+'7. DL jut. analīze-Soc.'!$D11) -> 0 | L11: ='5.DL soc.econom. analīze'!K11*(1+'7. DL jut. analīze-Soc.'!$D11) -> 0 | M11: ='5.DL soc.econom. analīze'!L11*(1+'7. DL jut. analīze-Soc.'!$D11) -> 0 | N11: ='5.DL soc.econom. analīze'!M11*(1+'7. DL jut. analīze-Soc.'!$D11) -> 0 | ... AJ11: ='5.DL soc.econom. analīze'!AI11*(1+'7. DL jut. analīze-Soc.'!$D11) -> 0
A12: 1.4. | B12: ='5.DL soc.econom. analīze'!B12 -> Ieguvums ... | C12: EUR | D12: 0 | E12: =G12+NPV($C$3,H12:AJ12) -> 0 | F12: =SUM(G12:AJ12) -> 0 | G12: ='5.DL soc.econom. analīze'!F12*(1+'7. DL jut. analīze-Soc.'!$D12) -> 0 | H12: ='5.DL soc.econom. analīze'!G12*(1+'7. DL jut. analīze-Soc.'!$D12) -> 0 | I12: ='5.DL soc.econom. analīze'!H12*(1+'7. DL jut. analīze-Soc.'!$D12) -> 0 | J12: ='5.DL soc.econom. analīze'!I12*(1+'7. DL jut. analīze-Soc.'!$D12) -> 0 | K12: ='5.DL soc.econom. analīze'!J12*(1+'7. DL jut. analīze-Soc.'!$D12) -> 0 | L12: ='5.DL soc.econom. analīze'!K12*(1+'7. DL jut. analīze-Soc.'!$D12) -> 0 | M12: ='5.DL soc.econom. analīze'!L12*(1+'7. DL jut. analīze-Soc.'!$D12) -> 0 | N12: ='5.DL soc.econom. analīze'!M12*(1+'7. DL jut. analīze-Soc.'!$D12) -> 0 | ... AJ12: ='5.DL soc.econom. analīze'!AI12*(1+'7. DL jut. analīze-Soc.'!$D12) -> 0
A13: 1.5. | B13: ='5.DL soc.econom. analīze'!B13 -> Ieguvums ... | C13: EUR | D13: 0 | E13: =G13+NPV($C$3,H13:AJ13) -> 0 | F13: =SUM(G13:AJ13) -> 0 | G13: ='5.DL soc.econom. analīze'!F13*(1+'7. DL jut. analīze-Soc.'!$D13) -> 0 | H13: ='5.DL soc.econom. analīze'!G13*(1+'7. DL jut. analīze-Soc.'!$D13) -> 0 | I13: ='5.DL soc.econom. analīze'!H13*(1+'7. DL jut. analīze-Soc.'!$D13) -> 0 | J13: ='5.DL soc.econom. analīze'!I13*(1+'7. DL jut. analīze-Soc.'!$D13) -> 0 | K13: ='5.DL soc.econom. analīze'!J13*(1+'7. DL jut. analīze-Soc.'!$D13) -> 0 | L13: ='5.DL soc.econom. analīze'!K13*(1+'7. DL jut. analīze-Soc.'!$D13) -> 0 | M13: ='5.DL soc.econom. analīze'!L13*(1+'7. DL jut. analīze-Soc.'!$D13) -> 0 | N13: ='5.DL soc.econom. analīze'!M13*(1+'7. DL jut. analīze-Soc.'!$D13) -> 0 | ... AJ13: ='5.DL soc.econom. analīze'!AI13*(1+'7. DL jut. analīze-Soc.'!$D13) -> 0
A14: 1.6. | B14: ='5.DL soc.econom. analīze'!B14 -> Ieguvums ... | C14: EUR | D14: 0 | E14: =G14+NPV($C$3,H14:AJ14) -> 0 | F14: =SUM(G14:AJ14) -> 0 | G14: ='5.DL soc.econom. analīze'!F14*(1+'7. DL jut. analīze-Soc.'!$D14) -> 0 | H14: ='5.DL soc.econom. analīze'!G14*(1+'7. DL jut. analīze-Soc.'!$D14) -> 0 | I14: ='5.DL soc.econom. analīze'!H14*(1+'7. DL jut. analīze-Soc.'!$D14) -> 0 | J14: ='5.DL soc.econom. analīze'!I14*(1+'7. DL jut. analīze-Soc.'!$D14) -> 0 | K14: ='5.DL soc.econom. analīze'!J14*(1+'7. DL jut. analīze-Soc.'!$D14) -> 0 | L14: ='5.DL soc.econom. analīze'!K14*(1+'7. DL jut. analīze-Soc.'!$D14) -> 0 | M14: ='5.DL soc.econom. analīze'!L14*(1+'7. DL jut. analīze-Soc.'!$D14) -> 0 | N14: ='5.DL soc.econom. analīze'!M14*(1+'7. DL jut. analīze-Soc.'!$D14) -> 0 | ... AJ14: ='5.DL soc.econom. analīze'!AI14*(1+'7. DL jut. analīze-Soc.'!$D14) -> 0
A15: 1.7. | B15: ='5.DL soc.econom. analīze'!B15 -> Ieguvums ... | C15: EUR | D15: 0 | E15: =G15+NPV($C$3,H15:AJ15) -> 0 | F15: =SUM(G15:AJ15) -> 0 | G15: ='5.DL soc.econom. analīze'!F15*(1+'7. DL jut. analīze-Soc.'!$D15) -> 0 | H15: ='5.DL soc.econom. analīze'!G15*(1+'7. DL jut. analīze-Soc.'!$D15) -> 0 | I15: ='5.DL soc.econom. analīze'!H15*(1+'7. DL jut. analīze-Soc.'!$D15) -> 0 | J15: ='5.DL soc.econom. analīze'!I15*(1+'7. DL jut. analīze-Soc.'!$D15) -> 0 | K15: ='5.DL soc.econom. analīze'!J15*(1+'7. DL jut. analīze-Soc.'!$D15) -> 0 | L15: ='5.DL soc.econom. analīze'!K15*(1+'7. DL jut. analīze-Soc.'!$D15) -> 0 | M15: ='5.DL soc.econom. analīze'!L15*(1+'7. DL jut. analīze-Soc.'!$D15) -> 0 | N15: ='5.DL soc.econom. analīze'!M15*(1+'7. DL jut. analīze-Soc.'!$D15) -> 0 | ... AJ15: ='5.DL soc.econom. analīze'!AI15*(1+'7. DL jut. analīze-Soc.'!$D15) -> 0
A16: 1.8. | B16: ='5.DL soc.econom. analīze'!B16 -> Ieguvums ... | C16: EUR | D16: 0 | E16: =G16+NPV($C$3,H16:AJ16) -> 0 | F16: =SUM(G16:AJ16) -> 0 | G16: ='5.DL soc.econom. analīze'!F16*(1+'7. DL jut. analīze-Soc.'!$D16) -> 0 | H16: ='5.DL soc.econom. analīze'!G16*(1+'7. DL jut. analīze-Soc.'!$D16) -> 0 | I16: ='5.DL soc.econom. analīze'!H16*(1+'7. DL jut. analīze-Soc.'!$D16) -> 0 | J16: ='5.DL soc.econom. analīze'!I16*(1+'7. DL jut. analīze-Soc.'!$D16) -> 0 | K16: ='5.DL soc.econom. analīze'!J16*(1+'7. DL jut. analīze-Soc.'!$D16) -> 0 | L16: ='5.DL soc.econom. analīze'!K16*(1+'7. DL jut. analīze-Soc.'!$D16) -> 0 | M16: ='5.DL soc.econom. analīze'!L16*(1+'7. DL jut. analīze-Soc.'!$D16) -> 0 | N16: ='5.DL soc.econom. analīze'!M16*(1+'7. DL jut. analīze-Soc.'!$D16) -> 0 | ... AJ16: ='5.DL soc.econom. analīze'!AI16*(1+'7. DL jut. analīze-Soc.'!$D16) -> 0
A17: 1.9. | B17: ='5.DL soc.econom. analīze'!B17 -> Ieguvums ... | C17: EUR | D17: 0 | E17: =G17+NPV($C$3,H17:AJ17) -> 0 | F17: =SUM(G17:AJ17) -> 0 | G17: ='5.DL soc.econom. analīze'!F17*(1+'7. DL jut. analīze-Soc.'!$D17) -> 0 | H17: ='5.DL soc.econom. analīze'!G17*(1+'7. DL jut. analīze-Soc.'!$D17) -> 0 | I17: ='5.DL soc.econom. analīze'!H17*(1+'7. DL jut. analīze-Soc.'!$D17) -> 0 | J17: ='5.DL soc.econom. analīze'!I17*(1+'7. DL jut. analīze-Soc.'!$D17) -> 0 | K17: ='5.DL soc.econom. analīze'!J17*(1+'7. DL jut. analīze-Soc.'!$D17) -> 0 | L17: ='5.DL soc.econom. analīze'!K17*(1+'7. DL jut. analīze-Soc.'!$D17) -> 0 | M17: ='5.DL soc.econom. analīze'!L17*(1+'7. DL jut. analīze-Soc.'!$D17) -> 0 | N17: ='5.DL soc.econom. analīze'!M17*(1+'7. DL jut. analīze-Soc.'!$D17) -> 0 | ... AJ17: ='5.DL soc.econom. analīze'!AI17*(1+'7. DL jut. analīze-Soc.'!$D17) -> 0
A18: 2 | B18: Finanšu ieguvumi (+) | C18: EUR | D18: 0 | E18: =G18+NPV($C$3,H18:AJ18) -> 0 | F18: =SUM(G18:AJ18) -> 0 | G18: =SUM(G19:G23) -> 0 | H18: =SUM(H19:H23) -> 0 | I18: =SUM(I19:I23) -> 0 | J18: =SUM(J19:J23) -> 0 | K18: =SUM(K19:K23) -> 0 | L18: =SUM(L19:L23) -> 0 | M18: =SUM(M19:M23) -> 0 | N18: =SUM(N19:N23) -> 0 | ... AJ18: =SUM(AJ19:AJ23) -> 0
A19: 2.1. | B19: ='5.DL soc.econom. analīze'!B19 -> Ieguvums ... | C19: EUR | D19: 0 | E19: =G19+NPV($C$3,H19:AJ19) -> 0 | F19: =SUM(G19:AJ19) -> 0 | G19: ='5.DL soc.econom. analīze'!F19*(1+'7. DL jut. analīze-Soc.'!$D19) -> 0 | H19: ='5.DL soc.econom. analīze'!G19*(1+'7. DL jut. analīze-Soc.'!$D19) -> 0 | I19: ='5.DL soc.econom. analīze'!H19*(1+'7. DL jut. analīze-Soc.'!$D19) -> 0 | J19: ='5.DL soc.econom. analīze'!I19*(1+'7. DL jut. analīze-Soc.'!$D19) -> 0 | K19: ='5.DL soc.econom. analīze'!J19*(1+'7. DL jut. analīze-Soc.'!$D19) -> 0 | L19: ='5.DL soc.econom. analīze'!K19*(1+'7. DL jut. analīze-Soc.'!$D19) -> 0 | M19: ='5.DL soc.econom. analīze'!L19*(1+'7. DL jut. analīze-Soc.'!$D19) -> 0 | N19: ='5.DL soc.econom. analīze'!M19*(1+'7. DL jut. analīze-Soc.'!$D19) -> 0 | ... AJ19: ='5.DL soc.econom. analīze'!AI19*(1+'7. DL jut. analīze-Soc.'!$D19) -> 0
A20: 2.2. | B20: ='5.DL soc.econom. analīze'!B20 -> Ieguvums ... | C20: EUR | D20: 0 | E20: =G20+NPV($C$3,H20:AJ20) -> 0 | F20: =SUM(G20:AJ20) -> 0 | G20: ='5.DL soc.econom. analīze'!F20*(1+'7. DL jut. analīze-Soc.'!$D20) -> 0 | H20: ='5.DL soc.econom. analīze'!G20*(1+'7. DL jut. analīze-Soc.'!$D20) -> 0 | I20: ='5.DL soc.econom. analīze'!H20*(1+'7. DL jut. analīze-Soc.'!$D20) -> 0 | J20: ='5.DL soc.econom. analīze'!I20*(1+'7. DL jut. analīze-Soc.'!$D20) -> 0 | K20: ='5.DL soc.econom. analīze'!J20*(1+'7. DL jut. analīze-Soc.'!$D20) -> 0 | L20: ='5.DL soc.econom. analīze'!K20*(1+'7. DL jut. analīze-Soc.'!$D20) -> 0 | M20: ='5.DL soc.econom. analīze'!L20*(1+'7. DL jut. analīze-Soc.'!$D20) -> 0 | N20: ='5.DL soc.econom. analīze'!M20*(1+'7. DL jut. analīze-Soc.'!$D20) -> 0 | ... AJ20: ='5.DL soc.econom. analīze'!AI20*(1+'7. DL jut. analīze-Soc.'!$D20) -> 0
A21: 2.3. | B21: ='5.DL soc.econom. analīze'!B21 -> Ieguvums ... | C21: EUR | D21: 0 | E21: =G21+NPV($C$3,H21:AJ21) -> 0 | F21: =SUM(G21:AJ21) -> 0 | G21: ='5.DL soc.econom. analīze'!F21*(1+'7. DL jut. analīze-Soc.'!$D21) -> 0 | H21: ='5.DL soc.econom. analīze'!G21*(1+'7. DL jut. analīze-Soc.'!$D21) -> 0 | I21: ='5.DL soc.econom. analīze'!H21*(1+'7. DL jut. analīze-Soc.'!$D21) -> 0 | J21: ='5.DL soc.econom. analīze'!I21*(1+'7. DL jut. analīze-Soc.'!$D21) -> 0 | K21: ='5.DL soc.econom. analīze'!J21*(1+'7. DL jut. analīze-Soc.'!$D21) -> 0 | L21: ='5.DL soc.econom. analīze'!K21*(1+'7. DL jut. analīze-Soc.'!$D21) -> 0 | M21: ='5.DL soc.econom. analīze'!L21*(1+'7. DL jut. analīze-Soc.'!$D21) -> 0 | N21: ='5.DL soc.econom. analīze'!M21*(1+'7. DL jut. analīze-Soc.'!$D21) -> 0 | ... AJ21: ='5.DL soc.econom. analīze'!AI21*(1+'7. DL jut. analīze-Soc.'!$D21) -> 0
A22: 2.4. | B22: ='5.DL soc.econom. analīze'!B22 -> Ieguvums ... | C22: EUR | D22: 0 | E22: =G22+NPV($C$3,H22:AJ22) -> 0 | F22: =SUM(G22:AJ22) -> 0 | G22: ='5.DL soc.econom. analīze'!F22*(1+'7. DL jut. analīze-Soc.'!$D22) -> 0 | H22: ='5.DL soc.econom. analīze'!G22*(1+'7. DL jut. analīze-Soc.'!$D22) -> 0 | I22: ='5.DL soc.econom. analīze'!H22*(1+'7. DL jut. analīze-Soc.'!$D22) -> 0 | J22: ='5.DL soc.econom. analīze'!I22*(1+'7. DL jut. analīze-Soc.'!$D22) -> 0 | K22: ='5.DL soc.econom. analīze'!J22*(1+'7. DL jut. analīze-Soc.'!$D22) -> 0 | L22: ='5.DL soc.econom. analīze'!K22*(1+'7. DL jut. analīze-Soc.'!$D22) -> 0 | M22: ='5.DL soc.econom. analīze'!L22*(1+'7. DL jut. analīze-Soc.'!$D22) -> 0 | N22: ='5.DL soc.econom. analīze'!M22*(1+'7. DL jut. analīze-Soc.'!$D22) -> 0 | ... AJ22: ='5.DL soc.econom. analīze'!AI22*(1+'7. DL jut. analīze-Soc.'!$D22) -> 0
A23: 2.5. | B23: ='5.DL soc.econom. analīze'!B23 -> Ieguvums ... | C23: EUR | D23: 0 | E23: =G23+NPV($C$3,H23:AJ23) -> 0 | F23: =SUM(G23:AJ23) -> 0 | G23: ='5.DL soc.econom. analīze'!F23*(1+'7. DL jut. analīze-Soc.'!$D23) -> 0 | H23: ='5.DL soc.econom. analīze'!G23*(1+'7. DL jut. analīze-Soc.'!$D23) -> 0 | I23: ='5.DL soc.econom. analīze'!H23*(1+'7. DL jut. analīze-Soc.'!$D23) -> 0 | J23: ='5.DL soc.econom. analīze'!I23*(1+'7. DL jut. analīze-Soc.'!$D23) -> 0 | K23: ='5.DL soc.econom. analīze'!J23*(1+'7. DL jut. analīze-Soc.'!$D23) -> 0 | L23: ='5.DL soc.econom. analīze'!K23*(1+'7. DL jut. analīze-Soc.'!$D23) -> 0 | M23: ='5.DL soc.econom. analīze'!L23*(1+'7. DL jut. analīze-Soc.'!$D23) -> 0 | N23: ='5.DL soc.econom. analīze'!M23*(1+'7. DL jut. analīze-Soc.'!$D23) -> 0 | ... AJ23: ='5.DL soc.econom. analīze'!AI23*(1+'7. DL jut. analīze-Soc.'!$D23) -> 0
A24: 3 | B24: Sociālekonomiskie zaudējumi (-) | C24: EUR | D24: 0 | E24: =G24+NPV($C$3,H24:AJ24) -> 0 | F24: =SUM(G24:AJ24) -> 0 | G24: =SUM(G25:G33) -> 0 | H24: =SUM(H25:H33) -> 0 | I24: =SUM(I25:I33) -> 0 | J24: =SUM(J25:J33) -> 0 | K24: =SUM(K25:K33) -> 0 | L24: =SUM(L25:L33) -> 0 | M24: =SUM(M25:M33) -> 0 | N24: =SUM(N25:N33) -> 0 | ... AJ24: =SUM(AJ25:AJ33) -> 0
A25: 3.1. | B25: ='5.DL soc.econom. analīze'!B25 -> Zaudējumi... | C25: EUR | D25: 0 | E25: =G25+NPV($C$3,H25:AJ25) -> 0 | F25: =SUM(G25:AJ25) -> 0 | G25: ='5.DL soc.econom. analīze'!F25*(1+'7. DL jut. analīze-Soc.'!$D25) -> 0 | H25: ='5.DL soc.econom. analīze'!G25*(1+'7. DL jut. analīze-Soc.'!$D25) -> 0 | I25: ='5.DL soc.econom. analīze'!H25*(1+'7. DL jut. analīze-Soc.'!$D25) -> 0 | J25: ='5.DL soc.econom. analīze'!I25*(1+'7. DL jut. analīze-Soc.'!$D25) -> 0 | K25: ='5.DL soc.econom. analīze'!J25*(1+'7. DL jut. analīze-Soc.'!$D25) -> 0 | L25: ='5.DL soc.econom. analīze'!K25*(1+'7. DL jut. analīze-Soc.'!$D25) -> 0 | M25: ='5.DL soc.econom. analīze'!L25*(1+'7. DL jut. analīze-Soc.'!$D25) -> 0 | N25: ='5.DL soc.econom. analīze'!M25*(1+'7. DL jut. analīze-Soc.'!$D25) -> 0 | ... AJ25: ='5.DL soc.econom. analīze'!AI25*(1+'7. DL jut. analīze-Soc.'!$D25) -> 0
A26: 3.2. | B26: ='5.DL soc.econom. analīze'!B26 -> Zaudējumi... | C26: EUR | D26: 0 | E26: =G26+NPV($C$3,H26:AJ26) -> 0 | F26: =SUM(G26:AJ26) -> 0 | G26: ='5.DL soc.econom. analīze'!F26*(1+'7. DL jut. analīze-Soc.'!$D26) -> 0 | H26: ='5.DL soc.econom. analīze'!G26*(1+'7. DL jut. analīze-Soc.'!$D26) -> 0 | I26: ='5.DL soc.econom. analīze'!H26*(1+'7. DL jut. analīze-Soc.'!$D26) -> 0 | J26: ='5.DL soc.econom. analīze'!I26*(1+'7. DL jut. analīze-Soc.'!$D26) -> 0 | K26: ='5.DL soc.econom. analīze'!J26*(1+'7. DL jut. analīze-Soc.'!$D26) -> 0 | L26: ='5.DL soc.econom. analīze'!K26*(1+'7. DL jut. analīze-Soc.'!$D26) -> 0 | M26: ='5.DL soc.econom. analīze'!L26*(1+'7. DL jut. analīze-Soc.'!$D26) -> 0 | N26: ='5.DL soc.econom. analīze'!M26*(1+'7. DL jut. analīze-Soc.'!$D26) -> 0 | ... AJ26: ='5.DL soc.econom. analīze'!AI26*(1+'7. DL jut. analīze-Soc.'!$D26) -> 0
A27: 3.3. | B27: ='5.DL soc.econom. analīze'!B27 -> Zaudējumi... | C27: EUR | D27: 0 | E27: =G27+NPV($C$3,H27:AJ27) -> 0 | F27: =SUM(G27:AJ27) -> 0 | G27: ='5.DL soc.econom. analīze'!F27*(1+'7. DL jut. analīze-Soc.'!$D27) -> 0 | H27: ='5.DL soc.econom. analīze'!G27*(1+'7. DL jut. analīze-Soc.'!$D27) -> 0 | I27: ='5.DL soc.econom. analīze'!H27*(1+'7. DL jut. analīze-Soc.'!$D27) -> 0 | J27: ='5.DL soc.econom. analīze'!I27*(1+'7. DL jut. analīze-Soc.'!$D27) -> 0 | K27: ='5.DL soc.econom. analīze'!J27*(1+'7. DL jut. analīze-Soc.'!$D27) -> 0 | L27: ='5.DL soc.econom. analīze'!K27*(1+'7. DL jut. analīze-Soc.'!$D27) -> 0 | M27: ='5.DL soc.econom. analīze'!L27*(1+'7. DL jut. analīze-Soc.'!$D27) -> 0 | N27: ='5.DL soc.econom. analīze'!M27*(1+'7. DL jut. analīze-Soc.'!$D27) -> 0 | ... AJ27: ='5.DL soc.econom. analīze'!AI27*(1+'7. DL jut. analīze-Soc.'!$D27) -> 0
A28: 3.4. | B28: ='5.DL soc.econom. analīze'!B28 -> Zaudējumi... | C28: EUR | D28: 0 | E28: =G28+NPV($C$3,H28:AJ28) -> 0 | F28: =SUM(G28:AJ28) -> 0 | G28: ='5.DL soc.econom. analīze'!F28*(1+'7. DL jut. analīze-Soc.'!$D28) -> 0 | H28: ='5.DL soc.econom. analīze'!G28*(1+'7. DL jut. analīze-Soc.'!$D28) -> 0 | I28: ='5.DL soc.econom. analīze'!H28*(1+'7. DL jut. analīze-Soc.'!$D28) -> 0 | J28: ='5.DL soc.econom. analīze'!I28*(1+'7. DL jut. analīze-Soc.'!$D28) -> 0 | K28: ='5.DL soc.econom. analīze'!J28*(1+'7. DL jut. analīze-Soc.'!$D28) -> 0 | L28: ='5.DL soc.econom. analīze'!K28*(1+'7. DL jut. analīze-Soc.'!$D28) -> 0 | M28: ='5.DL soc.econom. analīze'!L28*(1+'7. DL jut. analīze-Soc.'!$D28) -> 0 | N28: ='5.DL soc.econom. analīze'!M28*(1+'7. DL jut. analīze-Soc.'!$D28) -> 0 | ... AJ28: ='5.DL soc.econom. analīze'!AI28*(1+'7. DL jut. analīze-Soc.'!$D28) -> 0
A29: 3.5. | B29: ='5.DL soc.econom. analīze'!B29 -> Zaudējumi... | C29: EUR | D29: 0 | E29: =G29+NPV($C$3,H29:AJ29) -> 0 | F29: =SUM(G29:AJ29) -> 0 | G29: ='5.DL soc.econom. analīze'!F29*(1+'7. DL jut. analīze-Soc.'!$D29) -> 0 | H29: ='5.DL soc.econom. analīze'!G29*(1+'7. DL jut. analīze-Soc.'!$D29) -> 0 | I29: ='5.DL soc.econom. analīze'!H29*(1+'7. DL jut. analīze-Soc.'!$D29) -> 0 | J29: ='5.DL soc.econom. analīze'!I29*(1+'7. DL jut. analīze-Soc.'!$D29) -> 0 | K29: ='5.DL soc.econom. analīze'!J29*(1+'7. DL jut. analīze-Soc.'!$D29) -> 0 | L29: ='5.DL soc.econom. analīze'!K29*(1+'7. DL jut. analīze-Soc.'!$D29) -> 0 | M29: ='5.DL soc.econom. analīze'!L29*(1+'7. DL jut. analīze-Soc.'!$D29) -> 0 | N29: ='5.DL soc.econom. analīze'!M29*(1+'7. DL jut. analīze-Soc.'!$D29) -> 0 | ... AJ29: ='5.DL soc.econom. analīze'!AI29*(1+'7. DL jut. analīze-Soc.'!$D29) -> 0
A30: 3.6. | B30: ='5.DL soc.econom. analīze'!B30 -> Zaudējumi... | C30: EUR | D30: 0 | E30: =G30+NPV($C$3,H30:AJ30) -> 0 | F30: =SUM(G30:AJ30) -> 0 | G30: ='5.DL soc.econom. analīze'!F30*(1+'7. DL jut. analīze-Soc.'!$D30) -> 0 | H30: ='5.DL soc.econom. analīze'!G30*(1+'7. DL jut. analīze-Soc.'!$D30) -> 0 | I30: ='5.DL soc.econom. analīze'!H30*(1+'7. DL jut. analīze-Soc.'!$D30) -> 0 | J30: ='5.DL soc.econom. analīze'!I30*(1+'7. DL jut. analīze-Soc.'!$D30) -> 0 | K30: ='5.DL soc.econom. analīze'!J30*(1+'7. DL jut. analīze-Soc.'!$D30) -> 0 | L30: ='5.DL soc.econom. analīze'!K30*(1+'7. DL jut. analīze-Soc.'!$D30) -> 0 | M30: ='5.DL soc.econom. analīze'!L30*(1+'7. DL jut. analīze-Soc.'!$D30) -> 0 | N30: ='5.DL soc.econom. analīze'!M30*(1+'7. DL jut. analīze-Soc.'!$D30) -> 0 | ... AJ30: ='5.DL soc.econom. analīze'!AI30*(1+'7. DL jut. analīze-Soc.'!$D30) -> 0
A31: 3.7. | B31: ='5.DL soc.econom. analīze'!B31 -> Zaudējumi... | C31: EUR | D31: 0 | E31: =G31+NPV($C$3,H31:AJ31) -> 0 | F31: =SUM(G31:AJ31) -> 0 | G31: ='5.DL soc.econom. analīze'!F31*(1+'7. DL jut. analīze-Soc.'!$D31) -> 0 | H31: ='5.DL soc.econom. analīze'!G31*(1+'7. DL jut. analīze-Soc.'!$D31) -> 0 | I31: ='5.DL soc.econom. analīze'!H31*(1+'7. DL jut. analīze-Soc.'!$D31) -> 0 | J31: ='5.DL soc.econom. analīze'!I31*(1+'7. DL jut. analīze-Soc.'!$D31) -> 0 | K31: ='5.DL soc.econom. analīze'!J31*(1+'7. DL jut. analīze-Soc.'!$D31) -> 0 | L31: ='5.DL soc.econom. analīze'!K31*(1+'7. DL jut. analīze-Soc.'!$D31) -> 0 | M31: ='5.DL soc.econom. analīze'!L31*(1+'7. DL jut. analīze-Soc.'!$D31) -> 0 | N31: ='5.DL soc.econom. analīze'!M31*(1+'7. DL jut. analīze-Soc.'!$D31) -> 0 | ... AJ31: ='5.DL soc.econom. analīze'!AI31*(1+'7. DL jut. analīze-Soc.'!$D31) -> 0
A32: 3.8. | B32: ='5.DL soc.econom. analīze'!B32 -> Zaudējumi... | C32: EUR | D32: 0 | E32: =G32+NPV($C$3,H32:AJ32) -> 0 | F32: =SUM(G32:AJ32) -> 0 | G32: ='5.DL soc.econom. analīze'!F32*(1+'7. DL jut. analīze-Soc.'!$D32) -> 0 | H32: ='5.DL soc.econom. analīze'!G32*(1+'7. DL jut. analīze-Soc.'!$D32) -> 0 | I32: ='5.DL soc.econom. analīze'!H32*(1+'7. DL jut. analīze-Soc.'!$D32) -> 0 | J32: ='5.DL soc.econom. analīze'!I32*(1+'7. DL jut. analīze-Soc.'!$D32) -> 0 | K32: ='5.DL soc.econom. analīze'!J32*(1+'7. DL jut. analīze-Soc.'!$D32) -> 0 | L32: ='5.DL soc.econom. analīze'!K32*(1+'7. DL jut. analīze-Soc.'!$D32) -> 0 | M32: ='5.DL soc.econom. analīze'!L32*(1+'7. DL jut. analīze-Soc.'!$D32) -> 0 | N32: ='5.DL soc.econom. analīze'!M32*(1+'7. DL jut. analīze-Soc.'!$D32) -> 0 | ... AJ32: ='5.DL soc.econom. analīze'!AI32*(1+'7. DL jut. analīze-Soc.'!$D32) -> 0
A33: 3.9. | B33: ='5.DL soc.econom. analīze'!B33 -> Zaudējumi... | C33: EUR | D33: 0 | E33: =G33+NPV($C$3,H33:AJ33) -> 0 | F33: =SUM(G33:AJ33) -> 0 | G33: ='5.DL soc.econom. analīze'!F33*(1+'7. DL jut. analīze-Soc.'!$D33) -> 0 | H33: ='5.DL soc.econom. analīze'!G33*(1+'7. DL jut. analīze-Soc.'!$D33) -> 0 | I33: ='5.DL soc.econom. analīze'!H33*(1+'7. DL jut. analīze-Soc.'!$D33) -> 0 | J33: ='5.DL soc.econom. analīze'!I33*(1+'7. DL jut. analīze-Soc.'!$D33) -> 0 | K33: ='5.DL soc.econom. analīze'!J33*(1+'7. DL jut. analīze-Soc.'!$D33) -> 0 | L33: ='5.DL soc.econom. analīze'!K33*(1+'7. DL jut. analīze-Soc.'!$D33) -> 0 | M33: ='5.DL soc.econom. analīze'!L33*(1+'7. DL jut. analīze-Soc.'!$D33) -> 0 | N33: ='5.DL soc.econom. analīze'!M33*(1+'7. DL jut. analīze-Soc.'!$D33) -> 0 | ... AJ33: ='5.DL soc.econom. analīze'!AI33*(1+'7. DL jut. analīze-Soc.'!$D33) -> 0
A34: 4 | B34: Sociālekonomiskās izmaksas | C34: EUR | D34: 0 | E34: =G34+NPV($C$3,H34:AJ34) -> -5895710.4 | F34: =SUM(G34:AJ34) -> -6525000 | G34: =SUM(G35:G38) -> -975497 | H34: =SUM(H35:H38) -> -1392368 | I34: =SUM(I35:I38) -> -1387368 | J34: =SUM(J35:J38) -> -1387399 | K34: =SUM(K35:K38) -> -1382368 | L34: =SUM(L35:L38) -> 0 | M34: =SUM(M35:M38) -> 0 | N34: =SUM(N35:N38) -> 0 | ... AJ34: =SUM(AJ35:AJ38) -> 0
A35: 4.1. | B35: ='5.DL soc.econom. analīze'!B35 -> Investīciju izmaksas (-) | C35: EUR | D35: 0 | E35: =G35+NPV($C$3,H35:AJ35) -> -5895710.4 | F35: =SUM(G35:AJ35) -> -6525000 | G35: ='5.DL soc.econom. analīze'!F35*(1+'7. DL jut. analīze-Soc.'!$D35) -> -975497 | H35: ='5.DL soc.econom. analīze'!G35*(1+'7. DL jut. analīze-Soc.'!$D35) -> -1392368 | I35: ='5.DL soc.econom. analīze'!H35*(1+'7. DL jut. analīze-Soc.'!$D35) -> -1387368 | J35: ='5.DL soc.econom. analīze'!I35*(1+'7. DL jut. analīze-Soc.'!$D35) -> -1387399 | K35: ='5.DL soc.econom. analīze'!J35*(1+'7. DL jut. analīze-Soc.'!$D35) -> -1382368 | L35: ='5.DL soc.econom. analīze'!K35*(1+'7. DL jut. analīze-Soc.'!$D35) -> 0 | M35: ='5.DL soc.econom. analīze'!L35*(1+'7. DL jut. analīze-Soc.'!$D35) -> 0 | N35: ='5.DL soc.econom. analīze'!M35*(1+'7. DL jut. analīze-Soc.'!$D35) -> 0 | ... AJ35: ='5.DL soc.econom. analīze'!AI35*(1+'7. DL jut. analīze-Soc.'!$D35) -> 0
A36: 4.2. | B36: ='5.DL soc.econom. analīze'!B36 -> Darbības izmaksas (+/-) | C36: EUR | D36: 0 | E36: =G36+NPV($C$3,H36:AJ36) -> 0 | F36: =SUM(G36:AJ36) -> 0 | G36: ='5.DL soc.econom. analīze'!F36*(1+'7. DL jut. analīze-Soc.'!$D36) -> 0 | H36: ='5.DL soc.econom. analīze'!G36*(1+'7. DL jut. analīze-Soc.'!$D36) -> 0 | I36: ='5.DL soc.econom. analīze'!H36*(1+'7. DL jut. analīze-Soc.'!$D36) -> 0 | J36: ='5.DL soc.econom. analīze'!I36*(1+'7. DL jut. analīze-Soc.'!$D36) -> 0 | K36: ='5.DL soc.econom. analīze'!J36*(1+'7. DL jut. analīze-Soc.'!$D36) -> 0 | L36: ='5.DL soc.econom. analīze'!K36*(1+'7. DL jut. analīze-Soc.'!$D36) -> 0 | M36: ='5.DL soc.econom. analīze'!L36*(1+'7. DL jut. analīze-Soc.'!$D36) -> 0 | N36: ='5.DL soc.econom. analīze'!M36*(1+'7. DL jut. analīze-Soc.'!$D36) -> 0 | ... AJ36: ='5.DL soc.econom. analīze'!AI36*(1+'7. DL jut. analīze-Soc.'!$D36) -> 0
A37: 4.3. | B37: ='5.DL soc.econom. analīze'!B37 -> Projekta atlikusī vērtība (+) | C37: EUR | D37: 0 | E37: =G37+NPV($C$3,H37:AJ37) -> 0 | F37: =SUM(G37:AJ37) -> 0 | G37: ='5.DL soc.econom. analīze'!F37*(1+'7. DL jut. analīze-Soc.'!$D37) -> 0 | H37: ='5.DL soc.econom. analīze'!G37*(1+'7. DL jut. analīze-Soc.'!$D37) -> 0 | I37: ='5.DL soc.econom. analīze'!H37*(1+'7. DL jut. analīze-Soc.'!$D37) -> 0 | J37: ='5.DL soc.econom. analīze'!I37*(1+'7. DL jut. analīze-Soc.'!$D37) -> 0 | K37: ='5.DL soc.econom. analīze'!J37*(1+'7. DL jut. analīze-Soc.'!$D37) -> 0 | L37: ='5.DL soc.econom. analīze'!K37*(1+'7. DL jut. analīze-Soc.'!$D37) -> 0 | M37: ='5.DL soc.econom. analīze'!L37*(1+'7. DL jut. analīze-Soc.'!$D37) -> 0 | N37: ='5.DL soc.econom. analīze'!M37*(1+'7. DL jut. analīze-Soc.'!$D37) -> 0 | ... AJ37: ='5.DL soc.econom. analīze'!AI37*(1+'7. DL jut. analīze-Soc.'!$D37) -> 0
A38: 5 | B38: Dati darba spēka izmaksām un citām fiskālajām korekcijām | C38: EUR | D38: 0 | E38: =G38+NPV($C$3,H38:AJ38) -> 0 | F38: =SUM(G38:AJ38) -> 0 | G38: =SUM(G39:G41) -> 0 | H38: =SUM(H39:H41) -> 0 | I38: =SUM(I39:I41) -> 0 | J38: =SUM(J39:J41) -> 0 | K38: =SUM(K39:K41) -> 0 | L38: =SUM(L39:L41) -> 0 | M38: =SUM(M39:M41) -> 0 | N38: =SUM(N39:N41) -> 0 | ... AJ38: =SUM(AJ39:AJ41) -> 0
A39: 5.1. | B39: ='5.DL soc.econom. analīze'!B39 -> Projekta darbības izmaksu darbaspēka izmaksas (+/-)** | C39: EUR | D39: 0 | E39: =G39+NPV($C$3,H39:AJ39) -> 0 | F39: =SUM(G39:AJ39) -> 0 | G39: ='5.DL soc.econom. analīze'!F39*(1+'7. DL jut. analīze-Soc.'!$D39) -> 0 | H39: ='5.DL soc.econom. analīze'!G39*(1+'7. DL jut. analīze-Soc.'!$D39) -> 0 | I39: ='5.DL soc.econom. analīze'!H39*(1+'7. DL jut. analīze-Soc.'!$D39) -> 0 | J39: ='5.DL soc.econom. analīze'!I39*(1+'7. DL jut. analīze-Soc.'!$D39) -> 0 | K39: ='5.DL soc.econom. analīze'!J39*(1+'7. DL jut. analīze-Soc.'!$D39) -> 0 | L39: ='5.DL soc.econom. analīze'!K39*(1+'7. DL jut. analīze-Soc.'!$D39) -> 0 | M39: ='5.DL soc.econom. analīze'!L39*(1+'7. DL jut. analīze-Soc.'!$D39) -> 0 | N39: ='5.DL soc.econom. analīze'!M39*(1+'7. DL jut. analīze-Soc.'!$D39) -> 0 | ... AJ39: ='5.DL soc.econom. analīze'!AI39*(1+'7. DL jut. analīze-Soc.'!$D39) -> 0
A40: 5.2. | B40: ='5.DL soc.econom. analīze'!B40 -> Investīciju darba spēka izmaksas (+)** | C40: EUR | D40: 0 | E40: =G40+NPV($C$3,H40:AJ40) -> 0 | F40: =SUM(G40:AJ40) -> 0 | G40: ='5.DL soc.econom. analīze'!F40*(1+'7. DL jut. analīze-Soc.'!$D40) -> 0 | H40: ='5.DL soc.econom. analīze'!G40*(1+'7. DL jut. analīze-Soc.'!$D40) -> 0 | I40: ='5.DL soc.econom. analīze'!H40*(1+'7. DL jut. analīze-Soc.'!$D40) -> 0 | J40: ='5.DL soc.econom. analīze'!I40*(1+'7. DL jut. analīze-Soc.'!$D40) -> 0 | K40: ='5.DL soc.econom. analīze'!J40*(1+'7. DL jut. analīze-Soc.'!$D40) -> 0 | L40: ='5.DL soc.econom. analīze'!K40*(1+'7. DL jut. analīze-Soc.'!$D40) -> 0 | M40: ='5.DL soc.econom. analīze'!L40*(1+'7. DL jut. analīze-Soc.'!$D40) -> 0 | N40: ='5.DL soc.econom. analīze'!M40*(1+'7. DL jut. analīze-Soc.'!$D40) -> 0 | ... AJ40: ='5.DL soc.econom. analīze'!AI40*(1+'7. DL jut. analīze-Soc.'!$D40) -> 0
A41: 5.3. | B41: ='5.DL soc.econom. analīze'!B41 -> Citas fiskālās korekcijas (+)* | C41: EUR | D41: 0 | E41: =G41+NPV($C$3,H41:AJ41) -> 0 | F41: =SUM(G41:AJ41) -> 0 | G41: ='5.DL soc.econom. analīze'!F41*(1+'7. DL jut. analīze-Soc.'!$D41) -> 0 | H41: ='5.DL soc.econom. analīze'!G41*(1+'7. DL jut. analīze-Soc.'!$D41) -> 0 | I41: ='5.DL soc.econom. analīze'!H41*(1+'7. DL jut. analīze-Soc.'!$D41) -> 0 | J41: ='5.DL soc.econom. analīze'!I41*(1+'7. DL jut. analīze-Soc.'!$D41) -> 0 | K41: ='5.DL soc.econom. analīze'!J41*(1+'7. DL jut. analīze-Soc.'!$D41) -> 0 | L41: ='5.DL soc.econom. analīze'!K41*(1+'7. DL jut. analīze-Soc.'!$D41) -> 0 | M41: ='5.DL soc.econom. analīze'!L41*(1+'7. DL jut. analīze-Soc.'!$D41) -> 0 | N41: ='5.DL soc.econom. analīze'!M41*(1+'7. DL jut. analīze-Soc.'!$D41) -> 0 | ... AJ41: ='5.DL soc.econom. analīze'!AI41*(1+'7. DL jut. analīze-Soc.'!$D41) -> 0
B42: Neto naudas plūsma | E42: =G42+NPV($C$3,H42:AJ42) -> 42999666 | F42: =SUM(G42:AJ42) -> 57449485 | G42: =G8+G18+G24+G34 -> -1491 | H42: =H8+H18+H24+H34 -> 1131193 | I42: =I8+I18+I24+I34 -> 2685748 | J42: =J8+J18+J24+J34 -> 4235272 | K42: =K8+K18+K24+K34 -> 5789858 | L42: =L8+L18+L24+L34 -> 8721781 | M42: =M8+M18+M24+M34 -> 8721781 | N42: =N8+N18+N24+N34 -> 8721781 | ... AJ42: =AJ8+AJ18+AJ24+AJ34 -> 0
A44: 6 | B44: Rādītāju aprēķināšana | E44: Vērtība bez mainīgā izmaiņām | G44: Vērtība pēc mainīgā izmaiņām | I44: Novirze
A45: 6.1. | B45: Ekonomiskā neto pašreizējā vērtība (ENPV) | E45: ='5.DL soc.econom. analīze'!D44 -> 42999666 | G45: =E42 -> 42999666 | I45: =G45/E45-1 -> 0

Sheet 8. DL jut. analize-Fin.
A1: REZULTĀTU LAPA Nr.6
B3: Reālā finansiālā diskonta likme | E3: ='6. DL finanšu_analīze'!F3 -> 0.04
A4: KAPITĀLA NAUDAS PLŪSMA
G5: NPV | I5: ='5.DL soc.econom. analīze'!F5 -> 1 | J5: ='5.DL soc.econom. analīze'!G5 -> 2 | K5: ='5.DL soc.econom. analīze'!H5 -> 3 | L5: ='5.DL soc.econom. analīze'!I5 -> 4 | M5: ='5.DL soc.econom. analīze'!J5 -> 5 | N5: ='5.DL soc.econom. analīze'!K5 -> 6 | O5: ='5.DL soc.econom. analīze'!L5 -> 7 | P5: ='5.DL soc.econom. analīze'!M5 -> 8 | ... AL5: ='5.DL soc.econom. analīze'!AI5 -> 30
A6: 1 | B6: Naudas plūsmas pozīcijas | E6: Gads | F6: Var. | G6: Kopā | H6: Kopā | I6: ='5.DL soc.econom. analīze'!F6 -> 2024 | J6: ='5.DL soc.econom. analīze'!G6 -> 2025 | K6: ='5.DL soc.econom. analīze'!H6 -> 2026 | L6: ='5.DL soc.econom. analīze'!I6 -> 2027 | M6: ='5.DL soc.econom. analīze'!J6 -> 2028 | N6: ='5.DL soc.econom. analīze'!K6 -> 2029 | O6: ='5.DL soc.econom. analīze'!L6 -> 2030 | P6: ='5.DL soc.econom. analīze'!M6 -> 2031 | ... AL6: ='5.DL soc.econom. analīze'!AI6 -> 2053
B7: 1.1. | C7: Projekta ieņēmumi | E7: EUR | F7: 0 | G7: =I7+NPV($E$3,J7:AL7) -> 0 | H7: =SUM(I7:AL7) -> 0 | I7: ='6. DL finanšu_analīze'!H7*(1+'8. DL jut. analize-Fin.'!$F7) -> 0 | J7: ='6. DL finanšu_analīze'!I7*(1+'8. DL jut. analize-Fin.'!$F7) -> 0 | K7: ='6. DL finanšu_analīze'!J7*(1+'8. DL jut. analize-Fin.'!$F7) -> 0 | L7: ='6. DL finanšu_analīze'!K7*(1+'8. DL jut. analize-Fin.'!$F7) -> 0 | M7: ='6. DL finanšu_analīze'!L7*(1+'8. DL jut. analize-Fin.'!$F7) -> 0 | N7: ='6. DL finanšu_analīze'!M7*(1+'8. DL jut. analize-Fin.'!$F7) -> 0 | O7: ='6. DL finanšu_analīze'!N7*(1+'8. DL jut. analize-Fin.'!$F7) -> 0 | P7: ='6. DL finanšu_analīze'!O7*(1+'8. DL jut. analize-Fin.'!$F7) -> 0 | ... AL7: ='6. DL finanšu_analīze'!AK7*(1+'8. DL jut. analize-Fin.'!$F7) -> 0
B8: 1.2. | C8: Projekta atlikusī vērtība | E8: EUR | F8: 0 | G8: =I8+NPV($E$3,J8:AL8) -> 0 | H8: =SUM(I8:AL8) -> 0 | I8: ='6. DL finanšu_analīze'!H8*(1+'8. DL jut. analize-Fin.'!$F8) -> 0 | J8: ='6. DL finanšu_analīze'!I8*(1+'8. DL jut. analize-Fin.'!$F8) -> 0 | K8: ='6. DL finanšu_analīze'!J8*(1+'8. DL jut. analize-Fin.'!$F8) -> 0 | L8: ='6. DL finanšu_analīze'!K8*(1+'8. DL jut. analize-Fin.'!$F8) -> 0 | M8: ='6. DL finanšu_analīze'!L8*(1+'8. DL jut. analize-Fin.'!$F8) -> 0 | N8: ='6. DL finanšu_analīze'!M8*(1+'8. DL jut. analize-Fin.'!$F8) -> 0 | O8: ='6. DL finanšu_analīze'!N8*(1+'8. DL jut. analize-Fin.'!$F8) -> 0 | P8: ='6. DL finanšu_analīze'!O8*(1+'8. DL jut. analize-Fin.'!$F8) -> 0 | ... AL8: ='6. DL finanšu_analīze'!AK8*(1+'8. DL jut. analize-Fin.'!$F8) -> 0
