Workbook
Name iesniedzejs: [1]HIDDEN!$A$2:$A$124
Name men: [1]HIDDEN!$P$1:$P$13
Name nozare1: [1]HIDDEN!$N$2:$O$7
Name nozareIZV: [1]HIDDEN!$N$2:$N$7
Name SAM: [1]HIDDEN!$H$2:$H$4

Sheet Dati
A1: Nosaukums | C1: Izvēlieties dienu | D1: Izvēlieties mēnesi | E1: Izvēlieties gadu | G1: Izvēlieties nozari | H1: Pārskata periods (gadi) | J1: Projekta iesniedzēja un Sadarbības partnera veids | L1: ES fonds | N1: ES fonda atbalsta likme | P1: SAM | R1: Papildnosacījums | T1: VBD likmes
G2: Dzelzceļš | H2: 30 | P2: 4.2.3.4.
A3: Aizkraukles novada pašvaldība | C3: 1 | D3: janvāris | E3: 2019 | G3: Ūdensapgāde/sanitārija | H3: 30 | I3: 1 | J3: Pašvaldība vai tās izveidota iestāde | L3: Kohēzijas fonds | N3: 1 | R3: JĀ | T3: 0.1
A4: Alūksnes novada pašvaldība | C4: 2 | D4: februāris | E4: 2020 | G4: Ceļi | H4: 25-30 | I4: 2 | J4: Tiešās pārvaldes iestāde | L4: Atveseļošanās fonds vai ESF + | N4: 0.85 | R4: NĒ | T4: 0.15
A5: Augšdaugavas novada pašvaldība | C5: 3 | D5: marts | E5: 2021 | G5: Atkritumu apsaimniekošana | H5: 25-30 | I5: 3 | J5: Kapitālsabiedrība | L5: Eiropas Reģionālās attīstības fonds | N5: 0.55 | T5: 0.2
A6: Ādažu novada pašvaldība | C6: 4 | D6: aprīlis | E6: 2022 | G6: Ostas un lidostas | H6: 25 | J6: Speciālās ekonomiskās zonas pārvalde | N6: 0.5 | T6: 0.25
A7: Balvu novada pašvaldība | C7: 5 | D7: maijs | E7: 2023 | G7: Pilsētas transports | H7: 25-30 | J7: Brīvostas pārvalde | N7: 0.45 | T7: 0.3
A8: Bauskas novada pašvaldība | C8: 6 | D8: jūnijs | E8: 2024 | G8: Enerģija | H8: 15-25 | J8: Tiesu varas institūcija | N8: 0
A9: Cēsu novada pašvaldība | C9: 7 | D9: jūlijs | E9: 2025 | G9: Pētniecība un inovācija | H9: 15-25
A10: Daugavpils valstspilsētas pašvaldība | C10: 8 | D10: augusts | E10: 2026 | G10: Platjosla | H10: 15-20
A11: Dienvidkurzemes novada pašvaldība | C11: 9 | D11: septembris | E11: 2027 | G11: Uzņēmējdarbības infrastruktūra | H11: 15-25
A12: Dobeles novada pašvaldība | C12: 10 | D12: oktobris | E12: 2028 | G12: Citas nozares | H12: 10-15
A13: Gulbenes novada pašvaldība | C13: 11 | D13: novembris | E13: 2029
A14: Jelgavas valstspilsētas pašvaldība | C14: 12 | D14: decembris | E14: 2030
A15: Jelgavas novada pašvaldība | C15: 13
A16: Jēkabpils novada pašvaldība | C16: 14
A17: Jūrmala valstspilsētas pašvaldība | C17: 15
A18: Kārsavas novada pašvaldība | C18: 16
A19: Kuldīgas novada pašvaldība | C19: 17
A20: Ķekavas novada pašvaldība | C20: 18
A21: Liepājas valstspilsētas pašvaldība | C21: 19
A22: Limbažu novada pašvaldība | C22: 20
A23: Līvānu novada pašvaldība | C23: 21
A24: Ludzas novada pašvaldība | C24: 22
A25: Madonas novada pašvaldība | C25: 23
A26: Mārupes novada pašvaldība | C26: 24
... A33: Ropažu novada pašvaldība | C33: 31
A34: Salaspils novada pašvaldība
A35: Saldus novada pašvaldība
A36: Saulkrastu novada pašvaldība
A37: Siguldas novada pašvaldība
A38: Smiltenes novada pašvaldība
A39: Talsu novada pašvaldība
A40: Tukuma novada pašvaldība
A41: Valkas novada pašvaldība
A42: Valmieras novada pašvaldība
A43: Varakļānu novada pašvaldība
A44: Ventspils valstspilsētas pašvaldība
A45: Ventspils novada pašvaldība

Sheet Dati par projektu
A1: IZMAKSU UN IEGUVUMU ANALĪZE
A2: 1.Dati par projektu
A4: 1.1. | B4: Projekta iesniedzējs: | C4: Izglītības un zinātnes ministrija
A5: 1.2. | B5: Projekta iesniedzēja veids: | C5: Tiešās pārvaldes iestāde
A6: 1.3. | B6: Projekta nosaukums: | C6: 4.2.3.4. pasākums “Sekmēt NEET jauniešu integrēšanos izglītībā un nodarbinātībā”
A7: 1.4. | B7: Specifiskais atbalsta mērķis: | C7: 4.2.3.4.
A8: 1.5. | B8: Projekta iesniedzēja valsts budžeta dotācijas īpatsvars: | F8: Saite valsts budžeta dotācijas noteikšanai (VARAM vietnē)
A9: 1.6. | B9: Sadarbības partneri:
A13: 1.7. | B13: Projekta uzsākšanas datums: | C13: 1 | D13: janvāris | E13: 2024
A14: 1.8. | B14: Projekta iesniegšanas datums: | C14: 1 | D14: novembris | E14: 2023
A15: 1.9. | B15: Nozare: | C15: Citas nozares
A16: 1.10. | B16: Pārskata periods (projekta dzīves cikls) (gadi): | C16: 10 | F16: Saite uz Komisijas Deleģēto regulu (ES) Nr. 480/2014
A17: 1.11. | B17: SAM MK noteiktais max projekta īstenošanas ilgums | C17: 2029
B18: Krāsu apzīmējumi:
B19: 0 | C19: Dati jāievada projekta iesniedzējam
B20: 0 | C20: Dati tiek aprēķināti automātiski
B24: C16
B25: Regula: Citas nozares 10-15 gadi
B26: Sociālajām nozarēm nav noteikts ( 4.2.3.4.p. - 10gadi)

Sheet 1.1.A. Iesniedzējs
A1: DARBA LAPA Nr.1.1.A. | D1: Aizpilda par projekta iesniedzēja darbībām, kas NAV saistītas ar valsts atbalstu
A4: BUDŽETS (+)
A5: Nr. | B5: Izmaksu pozīcijas nosaukums | C5: Maksimālā ES fondu līdzfin. atbalsta likme (%) | D5: Kopējā summa | F5: Izmaksas kopā | H5: ='Dati par projektu'!E13 -> 2024 | J5: =IF(OR(H5>='Dati par projektu'!$C$17,H5="X"),"X",H5+1) -> 2025 | L5: =IF(OR(J5>='Dati par projektu'!$C$17,J5="X"),"X",J5+1) -> 2026 | N5: =IF(OR(L5>='Dati par projektu'!$C$17,L5="X"),"X",L5+1) -> 2027 | P5: =IF(OR(N5>='Dati par projektu'!$C$17,N5="X"),"X",N5+1) -> 2028 | R5: =IF(OR(P5>='Dati par projektu'!$C$17,P5="X"),"X",P5+1) -> 2029 | T5: =IF(OR(R5>='Dati par projektu'!$C$17,R5="X"),"X",R5+1) -> X | V5: =IF(OR(T5>='Dati par projektu'!$C$17,T5="X"),"X",T5+1) -> X | X5: =IF(OR(V5>='Dati par projektu'!$C$17,V5="X"),"X",V5+1) -> X | AV5: 0.55
B6: Projekta netiešās izmaksas kopā: | D6: EUR | E6: % | F6: attiecināmas | G6: neattiecināmas | H6: attiecināmas izmaksas | I6: neattiecināmas izmaksas | J6: attiecināmas izmaksas | K6: neattiecināmas izmaksas | L6: attiecināmas izmaksas | M6: neattiecināmas izmaksas | N6: attiecināmas izmaksas | O6: neattiecināmas izmaksas | P6: attiecināmas izmaksas | Q6: neattiecināmas izmaksas | R6: attiecināmas izmaksas | S6: neattiecināmas izmaksas | T6: attiecināmas izmaksas | U6: neattiecināmas izmaksas | V6: attiecināmas izmaksas | W6: neattiecināmas izmaksas | X6: attiecināmas izmaksas | Y6: neattiecināmas izmaksas | AV6: 0.45
A7: 1 | B7: Projekta izmaksas saskaņā ar vienoto izmaksu likmi (netiešās izmaksas) | C7: 0.85 | D7: =F7+G7 -> 145000 | E7: =D7/$D$36 -> 0.022222222 | F7: =ROUND(H7+J7+L7+N7+P7+R7+T7+V7+X7,2) -> 145000 | G7: =ROUND(I7+K7+M7+O7+Q7+S7+U7+W7+Y7,2) -> 0 | H7: 25000 | J7: 30000 | L7: 30000 | N7: 30000 | P7: 30000 | AV7: 0.35
A8: 2 | B8: Projekta vadības izmaksas | D8: =F8+G8 -> 1315750 | E8: =D8/$D$36 -> 0.20164751 | F8: =ROUND(H8+J8+L8+N8+P8+R8+T8+V8+X8,2) -> 1315750 | G8: =ROUND(I8+K8+M8+O8+Q8+S8+U8+W8+Y8,2) -> 0 | H8: =SUM(H9:H10) -> 246750 | I8: =SUM(I9:I10) -> 0 | J8: =SUM(J9:J10) -> 267250 | K8: =SUM(K9:K10) -> 0 | L8: =SUM(L9:L10) -> 267250 | M8: =SUM(M9:M10) -> 0 | N8: =SUM(N9:N10) -> 267250 | O8: =SUM(O9:O10) -> 0 | ... Y8: =SUM(Y9:Y10) -> 0
A9: 2.1. | B9: Projekta vadības personāla atlīdzības izmaksas | C9: 0.85 | D9: =F9+G9 -> 1280000 | E9: =D9/$D$36 -> 0.19616858 | F9: =ROUND(H9+J9+L9+N9+P9+R9+T9+V9+X9,2) -> 1280000 | G9: =ROUND(I9+K9+M9+O9+Q9+S9+U9+W9+Y9,2) -> 0 | H9: 240000 | J9: 260000 | L9: 260000 | N9: 260000 | P9: 260000
A10: 2.2. | B10: Pārējās vadības izmaksas | C10: 0.85 | D10: =F10+G10 -> 35750 | E10: =D10/$D$36 -> 0.0054789272 | F10: =ROUND(H10+J10+L10+N10+P10+R10+T10+V10+X10,2) -> 35750 | G10: =ROUND(I10+K10+M10+O10+Q10+S10+U10+W10+Y10,2) -> 0 | H10: 6750 | J10: 7250 | L10: 7250 | N10: 7250 | P10: 7250
A11: 3 | B11: Projekta īstenošanas personāla izmaksas | D11: =F11+G11 -> 0 | E11: =D11/$D$36 -> 0 | F11: =ROUND(H11+J11+L11+N11+P11+R11+T11+V11+X11,2) -> 0 | G11: =ROUND(I11+K11+M11+O11+Q11+S11+U11+W11+Y11,2) -> 0 | H11: =SUM(H12:H13) -> 0 | I11: =SUM(I12:I13) -> 0 | J11: =SUM(J12:J13) -> 0 | K11: =SUM(K12:K13) -> 0 | L11: =SUM(L12:L13) -> 0 | M11: =SUM(M12:M13) -> 0 | N11: =SUM(N12:N13) -> 0 | O11: =SUM(O12:O13) -> 0 | ... Y11: =SUM(Y12:Y13) -> 0
A12: 3.1. | B12: Projekta īstenošanas personāla atlīdzības izmaksas | C12: 0.85 | D12: =F12+G12 -> 0 | E12: =D12/$D$36 -> 0 | F12: =ROUND(H12+J12+L12+N12+P12+R12+T12+V12+X12,2) -> 0 | G12: =ROUND(I12+K12+M12+O12+Q12+S12+U12+W12+Y12,2) -> 0
A13: 3.2. | B13: Pārējās projekta īstenošanas personāla izmaksas | C13: 0.85 | D13: =F13+G13 -> 0 | E13: =D13/$D$36 -> 0 | F13: =ROUND(H13+J13+L13+N13+P13+R13+T13+V13+X13,2) -> 0 | G13: =ROUND(I13+K13+M13+O13+Q13+S13+U13+W13+Y13,2) -> 0
A14: 4 | B14: Mērķa grupas nodrošinājuma izmaksas | C14: 0.85 | D14: =F14+G14 -> 0 | E14: =D14/$D$36 -> 0 | F14: =ROUND(H14+J14+L14+N14+P14+R14+T14+V14+X14,2) -> 0 | G14: =ROUND(I14+K14+M14+O14+Q14+S14+U14+W14+Y14,2) -> 0
A15: 5 | B15: Informācijas sistēmu izstrādes, ieviešanas un kvalitātes kontroles izmaksas | C15: 0.85 | D15: =F15+G15 -> 0 | E15: =D15/$D$36 -> 0 | F15: =ROUND(H15+J15+L15+N15+P15+R15+T15+V15+X15,2) -> 0 | G15: =ROUND(I15+K15+M15+O15+Q15+S15+U15+W15+Y15,2) -> 0
A16: 6 | B16: Materiālu, aprīkojuma un iekārtu izmaksas | D16: =F16+G16 -> 145000 | E16: =D16/$D$36 -> 0.022222222 | F16: =ROUND(H16+J16+L16+N16+P16+R16+T16+V16+X16,2) -> 145000 | G16: =ROUND(I16+K16+M16+O16+Q16+S16+U16+W16+Y16,2) -> 0 | H16: =SUM(H17:H20) -> 25000 | I16: =SUM(I17:I20) -> 0 | J16: =SUM(J17:J20) -> 30000 | K16: =SUM(K17:K20) -> 0 | L16: =SUM(L17:L20) -> 30000 | M16: =SUM(M17:M20) -> 0 | N16: =SUM(N17:N20) -> 30000 | O16: =SUM(O17:O20) -> 0 | ... Y16: =SUM(Y17:Y20) -> 0
A17: 6.1. | B17: Materiālu un izjevielu izmaksas | C17: 0.85 | D17: =F17+G17 -> 0 | E17: =D17/$D$36 -> 0 | F17: =ROUND(H17+J17+L17+N17+P17+R17+T17+V17+X17,2) -> 0 | G17: =ROUND(I17+K17+M17+O17+Q17+S17+U17+W17+Y17,2) -> 0
A18: 6.2. | B18: Pārējās projekta īstenošanas personāla izmaksas | C18: 0.85 | D18: =F18+G18 -> 0 | E18: =D18/$D$36 -> 0 | F18: =ROUND(H18+J18+L18+N18+P18+R18+T18+V18+X18,2) -> 0 | G18: =ROUND(I18+K18+M18+O18+Q18+S18+U18+W18+Y18,2) -> 0
A19: 6.3. | B19: Transportlīdzekļu izmaksas | C19: 0.85 | D19: =F19+G19 -> 0 | E19: =D19/$D$36 -> 0 | F19: =ROUND(H19+J19+L19+N19+P19+R19+T19+V19+X19,2) -> 0 | G19: =ROUND(I19+K19+M19+O19+Q19+S19+U19+W19+Y19,2) -> 0
A20: 6.4. | B20: Citas izmaksas | C20: 0.85 | D20: =F20+G20 -> 145000 | E20: =D20/$D$36 -> 0.022222222 | F20: =ROUND(H20+J20+L20+N20+P20+R20+T20+V20+X20,2) -> 145000 | G20: =ROUND(I20+K20+M20+O20+Q20+S20+U20+W20+Y20,2) -> 0 | H20: 25000 | J20: 30000 | L20: 30000 | N20: 30000 | P20: 30000
A21: 7 | B21: Būvniecības izmaksas | D21: =F21+G21 -> 0 | E21: =D21/$D$36 -> 0 | F21: =ROUND(H21+J21+L21+N21+P21+R21+T21+V21+X21,2) -> 0 | G21: =ROUND(I21+K21+M21+O21+Q21+S21+U21+W21+Y21,2) -> 0 | H21: =SUM(H22:H27) -> 0 | I21: =SUM(I22:I27) -> 0 | J21: =SUM(J22:J27) -> 0 | K21: =SUM(K22:K27) -> 0 | L21: =SUM(L22:L27) -> 0 | M21: =SUM(M22:M27) -> 0 | N21: =SUM(N22:N27) -> 0 | O21: =SUM(O22:O27) -> 0 | ... Y21: =SUM(Y22:Y27) -> 0
A22: 7.1. | B22: Projektēšanas izmaksas | C22: 0.85 | D22: =F22+G22 -> 0 | E22: =D22/$D$36 -> 0 | F22: =ROUND(H22+J22+L22+N22+P22+R22+T22+V22+X22,2) -> 0 | G22: =ROUND(I22+K22+M22+O22+Q22+S22+U22+W22+Y22,2) -> 0
A23: 7.2. | B23: Autoruzraudzības izmaksas | C23: 0.85 | D23: =F23+G23 -> 0 | E23: =D23/$D$36 -> 0 | F23: =ROUND(H23+J23+L23+N23+P23+R23+T23+V23+X23,2) -> 0 | G23: =ROUND(I23+K23+M23+O23+Q23+S23+U23+W23+Y23,2) -> 0
A24: 7.3. | B24: Būvuzraudzības izmaksas | C24: 0.85 | D24: =F24+G24 -> 0 | E24: =D24/$D$36 -> 0 | F24: =ROUND(H24+J24+L24+N24+P24+R24+T24+V24+X24,2) -> 0 | G24: =ROUND(I24+K24+M24+O24+Q24+S24+U24+W24+Y24,2) -> 0
A25: 7.4. | B25: Būvdarbu izmaksas (infrastruktūra, tai skaitā labiekārtošanas izmaksas) | C25: 0.85 | D25: =F25+G25 -> 0 | E25: =D25/$D$36 -> 0 | F25: =ROUND(H25+J25+L25+N25+P25+R25+T25+V25+X25,2) -> 0 | G25: =ROUND(I25+K25+M25+O25+Q25+S25+U25+W25+Y25,2) -> 0
A26: 7.5. | B26: Būvdarbu izmaksas (ēkas), tai skaitā labiekārtošanas izmaksas | C26: 0.85 | D26: =F26+G26 -> 0 | E26: =D26/$D$36 -> 0 | F26: =ROUND(H26+J26+L26+N26+P26+R26+T26+V26+X26,2) -> 0 | G26: =ROUND(I26+K26+M26+O26+Q26+S26+U26+W26+Y26,2) -> 0
A27: 7.6. | B27: Citas izmaksas | C27: 0.85 | D27: =F27+G27 -> 0 | E27: =D27/$D$36 -> 0 | F27: =ROUND(H27+J27+L27+N27+P27+R27+T27+V27+X27,2) -> 0 | G27: =ROUND(I27+K27+M27+O27+Q27+S27+U27+W27+Y27,2) -> 0
A28: 8 | B28: Patenti, licences utml. | C28: 0.85 | D28: =F28+G28 -> 0 | E28: =D28/$D$36 -> 0 | F28: =ROUND(H28+J28+L28+N28+P28+R28+T28+V28+X28,2) -> 0 | G28: =ROUND(I28+K28+M28+O28+Q28+S28+U28+W28+Y28,2) -> 0
A29: 9 | B29: Nekustamā īpašuma (piemēram, ēku un zemes) iegādes izmaksas | C29: 0.85 | D29: =F29+G29 -> 0 | E29: =D29/$D$36 -> 0 | F29: =ROUND(H29+J29+L29+N29+P29+R29+T29+V29+X29,2) -> 0 | G29: =ROUND(I29+K29+M29+O29+Q29+S29+U29+W29+Y29,2) -> 0
A30: 10 | B30: Informatīvo un publicitātes pasākumu izmaksas | C30: 0.85 | D30: =F30+G30 -> 8200 | E30: =D30/$D$36 -> 0.001256705 | F30: =ROUND(H30+J30+L30+N30+P30+R30+T30+V30+X30,2) -> 8200 | G30: =ROUND(I30+K30+M30+O30+Q30+S30+U30+W30+Y30,2) -> 0 | H30: 2600 | J30: 1400 | L30: 1400 | N30: 1400 | P30: 1400
A31: 11 | B31: Projekta iesnieguma un to pamatojošās dokumentācijas sagatavošanas izmaksas | C31: 0.85 | D31: =F31+G31 -> 0 | E31: =D31/$D$36 -> 0 | F31: =ROUND(H31+J31+L31+N31+P31+R31+T31+V31+X31,2) -> 0 | G31: =ROUND(I31+K31+M31+O31+Q31+S31+U31+W31+Y31,2) -> 0
A32: 12 | B32: Ieguldījumi natūrā | C32: 0.85 | D32: =F32+G32 -> 0 | E32: =D32/$D$36 -> 0 | F32: =ROUND(H32+J32+L32+N32+P32+R32+T32+V32+X32,2) -> 0 | G32: =ROUND(I32+K32+M32+O32+Q32+S32+U32+W32+Y32,2) -> 0
A33: 13 | B33: Pārējās projekta īstenošanas izmaksas | C33: 0.85 | D33: =F33+G33 -> 99250 | E33: =D33/$D$36 -> 0.015210728 | F33: =ROUND(H33+J33+L33+N33+P33+R33+T33+V33+X33,2) -> 99250 | G33: =ROUND(I33+K33+M33+O33+Q33+S33+U33+W33+Y33,2) -> 0 | H33: 28850 | J33: 17600 | L33: 17600 | N33: 17600 | P33: 17600
A34: 14 | B34: Vienreizējais maksājums (saskaņā ar VVIM) | C34: 0.85 | D34: =F34+G34 -> 4541769 | E34: =D34/$D$36 -> 0.69605655 | F34: =ROUND(H34+J34+L34+N34+P34+R34+T34+V34+X34,2) -> 4541769 | G34: =ROUND(I34+K34+M34+O34+Q34+S34+U34+W34+Y34,2) -> 0 | H34: 597297 | J34: 986118 | L34: 986118 | N34: 986118 | P34: 986118
A35: 15 | B35: Neparedzētie izdevumi | C35: 0.85 | D35: =F35+G35 -> 270031 | E35: =D35/$D$36 -> 0.041384061 | F35: =ROUND(H35+J35+L35+N35+P35+R35+T35+V35+X35,2) -> 270031 | G35: =ROUND(I35+K35+M35+O35+Q35+S35+U35+W35+Y35,2) -> 0 | H35: 50000 | J35: 60000 | L35: 55000 | N35: 55031 | P35: 50000
B36: KOPĀ | C36: 0.85 | D36: =F36+G36 -> 6525000 | E36: =D36/$D$36 -> 1 | F36: =F7+F8+F11+F14+F15+F16+F21+F28+F29+F30+F31+F32+F33+F34+F35 -> 6525000 | G36: =G7+G8+G11+G14+G15+G16+G21+G28+G29+G30+G31+G32+G33+G34+G35 -> 0 | H36: =H7+H8+H11+H14+H15+H16+H21+H28+H29+H30+H31+H32+H33+H34+H35 -> 975497 | I36: =I7+I8+I11+I14+I15+I16+I21+I28+I29+I30+I31+I32+I33+I34+I35 -> 0 | J36: =J7+J8+J11+J14+J15+J16+J21+J28+J29+J30+J31+J32+J33+J34+J35 -> 1392368 | K36: =K7+K8+K11+K14+K15+K16+K21+K28+K29+K30+K31+K32+K33+K34+K35 -> 0 | L36: =L7+L8+L11+L14+L15+L16+L21+L28+L29+L30+L31+L32+L33+L34+L35 -> 1387368 | M36: =M7+M8+M11+M14+M15+M16+M21+M28+M29+M30+M31+M32+M33+M34+M35 -> 0 | ... Y36: =Y7+Y8+Y11+Y14+Y15+Y16+Y21+Y28+Y29+Y30+Y31+Y32+Y33+Y34+Y35 -> 0
B37: t.sk. PVN
B38: Investīciju izmaksas bez neparedzētajiem izdevumiem un neatt. PVN | H38: =H36-H35 -> 925497 | I38: =I36-I35-I37 -> 0 | J38: =J36-J35 -> 1332368 | K38: =K36-K35-K37 -> 0 | L38: =L36-L35 -> 1332368 | M38: =M36-M35-M37 -> 0 | N38: =N36-N35 -> 1332368 | O38: =O36-O35 -> 0 | P38: =P36-P35 -> 1332368 | Q38: =Q36-Q35 -> 0 | R38: =R36-R35 -> 0 | S38: =S36-S35 -> 0 | T38: =T36-T35 -> 0 | U38: =U36-U35 -> 0 | ... Y38: =Y36-Y35 -> 0

Sheet 1.1.B. Iesniedzējs
A1: DARBA LAPA Nr.1.1.B. | D1: Aizpilda par projekta iesniedzēja darbībām, kas IR saistītas ar valsts atbalstu
A4: BUDŽETS (+)
A5: Nr. | B5: Izmaksu pozīcijas nosaukums | C5: Maksimālā ES fondu līdzfin. atbalsta likme (%) | D5: Kopējā summa | F5: Izmaksas kopā | H5: ='Dati par projektu'!E13 -> 2024 | J5: =IF(OR(H5>='Dati par projektu'!$C$17,H5="X"),"X",H5+1) -> 2025 | L5: =IF(OR(J5>='Dati par projektu'!$C$17,J5="X"),"X",J5+1) -> 2026 | N5: =IF(OR(L5>='Dati par projektu'!$C$17,L5="X"),"X",L5+1) -> 2027 | P5: =IF(OR(N5>='Dati par projektu'!$C$17,N5="X"),"X",N5+1) -> 2028 | R5: =IF(OR(P5>='Dati par projektu'!$C$17,P5="X"),"X",P5+1) -> 2029 | T5: =IF(OR(R5>='Dati par projektu'!$C$17,R5="X"),"X",R5+1) -> X | V5: =IF(OR(T5>='Dati par projektu'!$C$17,T5="X"),"X",T5+1) -> X | X5: =IF(OR(V5>='Dati par projektu'!$C$17,V5="X"),"X",V5+1) -> X | AV5: 0.55
B6: Projekta netiešās izmaksas kopā: | D6: EUR | E6: % | F6: attiecināmas | G6: neattiecināmas | H6: attiecināmas izmaksas | I6: neattiecināmas izmaksas | J6: attiecināmas izmaksas | K6: neattiecināmas izmaksas | L6: attiecināmas izmaksas | M6: neattiecināmas izmaksas | N6: attiecināmas izmaksas | O6: neattiecināmas izmaksas | P6: attiecināmas izmaksas | Q6: neattiecināmas izmaksas | R6: attiecināmas izmaksas | S6: neattiecināmas izmaksas | T6: attiecināmas izmaksas | U6: neattiecināmas izmaksas | V6: attiecināmas izmaksas | W6: neattiecināmas izmaksas | X6: attiecināmas izmaksas | Y6: neattiecināmas izmaksas | AV6: 0.45
A7: 1 | B7: Projekta izmaksas saskaņā ar vienoto izmaksu likmi (netiešās izmaksas) | C7: 0.85 | D7: =F7+G7 -> 0 | E7: =D7/$D$36 -> #DIV/0! | F7: =ROUND(H7+J7+L7+N7+P7+R7+T7+V7+X7,2) -> 0 | G7: =ROUND(I7+K7+M7+O7+Q7+S7+U7+W7+Y7,2) -> 0 | AV7: 0.35
A8: 2 | B8: Projekta vadības izmaksas | D8: =F8+G8 -> 0 | E8: =D8/$D$36 -> #DIV/0! | F8: =ROUND(H8+J8+L8+N8+P8+R8+T8+V8+X8,2) -> 0 | G8: =ROUND(I8+K8+M8+O8+Q8+S8+U8+W8+Y8,2) -> 0 | H8: =SUM(H9:H10) -> 0 | I8: =SUM(I9:I10) -> 0 | J8: =SUM(J9:J10) -> 0 | K8: =SUM(K9:K10) -> 0 | L8: =SUM(L9:L10) -> 0 | M8: =SUM(M9:M10) -> 0 | N8: =SUM(N9:N10) -> 0 | O8: =SUM(O9:O10) -> 0 | ... Y8: =SUM(Y9:Y10) -> 0
A9: 2.1. | B9: Projekta vadības personāla atlīdzības izmaksas | C9: 0.85 | D9: =F9+G9 -> 0 | E9: =D9/$D$36 -> #DIV/0! | F9: =ROUND(H9+J9+L9+N9+P9+R9+T9+V9+X9,2) -> 0 | G9: =ROUND(I9+K9+M9+O9+Q9+S9+U9+W9+Y9,2) -> 0
A10: 2.2. | B10: Pārējās vadības izmaksas | C10: 0.85 | D10: =F10+G10 -> 0 | E10: =D10/$D$36 -> #DIV/0! | F10: =ROUND(H10+J10+L10+N10+P10+R10+T10+V10+X10,2) -> 0 | G10: =ROUND(I10+K10+M10+O10+Q10+S10+U10+W10+Y10,2) -> 0
A11: 3 | B11: Projekta īstenošanas personāla izmaksas | D11: =F11+G11 -> 0 | E11: =D11/$D$36 -> #DIV/0! | F11: =ROUND(H11+J11+L11+N11+P11+R11+T11+V11+X11,2) -> 0 | G11: =ROUND(I11+K11+M11+O11+Q11+S11+U11+W11+Y11,2) -> 0 | H11: =SUM(H12:H13) -> 0 | I11: =SUM(I12:I13) -> 0 | J11: =SUM(J12:J13) -> 0 | K11: =SUM(K12:K13) -> 0 | L11: =SUM(L12:L13) -> 0 | M11: =SUM(M12:M13) -> 0 | N11: =SUM(N12:N13) -> 0 | O11: =SUM(O12:O13) -> 0 | ... Y11: =SUM(Y12:Y13) -> 0
A12: 3.1. | B12: Projekta īstenošanas personāla atlīdzības izmaksas | C12: 0.85 | D12: =F12+G12 -> 0 | E12: =D12/$D$36 -> #DIV/0! | F12: =ROUND(H12+J12+L12+N12+P12+R12+T12+V12+X12,2) -> 0 | G12: =ROUND(I12+K12+M12+O12+Q12+S12+U12+W12+Y12,2) -> 0
A13: 3.2. | B13: Pārējās projekta īstenošanas personāla izmaksas | C13: 0.85 | D13: =F13+G13 -> 0 | E13: =D13/$D$36 -> #DIV/0! | F13: =ROUND(H13+J13+L13+N13+P13+R13+T13+V13+X13,2) -> 0 | G13: =ROUND(I13+K13+M13+O13+Q13+S13+U13+W13+Y13,2) -> 0
A14: 4 | B14: Mērķa grupas nodrošinājuma izmaksas | C14: 0.85 | D14: =F14+G14 -> 0 | E14: =D14/$D$36 -> #DIV/0! | F14: =ROUND(H14+J14+L14+N14+P14+R14+T14+V14+X14,2) -> 0 | G14: =ROUND(I14+K14+M14+O14+Q14+S14+U14+W14+Y14,2) -> 0
A15: 5 | B15: Informācijas sistēmu izstrādes, ieviešanas un kvalitātes kontroles izmaksas | C15: 0.85 | D15: =F15+G15 -> 0 | E15: =D15/$D$36 -> #DIV/0! | F15: =ROUND(H15+J15+L15+N15+P15+R15+T15+V15+X15,2) -> 0 | G15: =ROUND(I15+K15+M15+O15+Q15+S15+U15+W15+Y15,2) -> 0
A16: 6 | B16: Materiālu, aprīkojuma un iekārtu izmaksas | D16: =F16+G16 -> 0 | E16: =D16/$D$36 -> #DIV/0! | F16: =ROUND(H16+J16+L16+N16+P16+R16+T16+V16+X16,2) -> 0 | G16: =ROUND(I16+K16+M16+O16+Q16+S16+U16+W16+Y16,2) -> 0 | H16: =SUM(H17:H20) -> 0 | I16: =SUM(I17:I20) -> 0 | J16: =SUM(J17:J20) -> 0 | K16: =SUM(K17:K20) -> 0 | L16: =SUM(L17:L20) -> 0 | M16: =SUM(M17:M20) -> 0 | N16: =SUM(N17:N20) -> 0 | O16: =SUM(O17:O20) -> 0 | ... Y16: =SUM(Y17:Y20) -> 0
A17: 6.1. | B17: Materiālu un izjevielu izmaksas | C17: 0.85 | D17: =F17+G17 -> 0 | E17: =D17/$D$36 -> #DIV/0! | F17: =ROUND(H17+J17+L17+N17+P17+R17+T17+V17+X17,2) -> 0 | G17: =ROUND(I17+K17+M17+O17+Q17+S17+U17+W17+Y17,2) -> 0
A18: 6.2. | B18: Pārējās projekta īstenošanas personāla izmaksas | C18: 0.85 | D18: =F18+G18 -> 0 | E18: =D18/$D$36 -> #DIV/0! | F18: =ROUND(H18+J18+L18+N18+P18+R18+T18+V18+X18,2) -> 0 | G18: =ROUND(I18+K18+M18+O18+Q18+S18+U18+W18+Y18,2) -> 0
A19: 6.3. | B19: Transportlīdzekļu izmaksas | C19: 0.85 | D19: =F19+G19 -> 0 | E19: =D19/$D$36 -> #DIV/0! | F19: =ROUND(H19+J19+L19+N19+P19+R19+T19+V19+X19,2) -> 0 | G19: =ROUND(I19+K19+M19+O19+Q19+S19+U19+W19+Y19,2) -> 0
A20: 6.4. | B20: Citas izmaksas | C20: 0.85 | D20: =F20+G20 -> 0 | E20: =D20/$D$36 -> #DIV/0! | F20: =ROUND(H20+J20+L20+N20+P20+R20+T20+V20+X20,2) -> 0 | G20: =ROUND(I20+K20+M20+O20+Q20+S20+U20+W20+Y20,2) -> 0
A21: 7 | B21: Būvniecības izmaksas | D21: =F21+G21 -> 0 | E21: =D21/$D$36 -> #DIV/0! | F21: =ROUND(H21+J21+L21+N21+P21+R21+T21+V21+X21,2) -> 0 | G21: =ROUND(I21+K21+M21+O21+Q21+S21+U21+W21+Y21,2) -> 0 | H21: =SUM(H22:H27) -> 0 | I21: =SUM(I22:I27) -> 0 | J21: =SUM(J22:J27) -> 0 | K21: =SUM(K22:K27) -> 0 | L21: =SUM(L22:L27) -> 0 | M21: =SUM(M22:M27) -> 0 | N21: =SUM(N22:N27) -> 0 | O21: =SUM(O22:O27) -> 0 | ... Y21: =SUM(Y22:Y27) -> 0
A22: 7.1. | B22: Projektēšanas izmaksas (de minimis) | C22: 1 | D22: =F22+G22 -> 0 | E22: =D22/$D$36 -> #DIV/0! | F22: =ROUND(H22+J22+L22+N22+P22+R22+T22+V22+X22,2) -> 0 | G22: =ROUND(I22+K22+M22+O22+Q22+S22+U22+W22+Y22,2) -> 0
A23: 7.2. | B23: Autoruzraudzības izmaksas | C23: 0.85 | D23: =F23+G23 -> 0 | E23: =D23/$D$36 -> #DIV/0! | F23: =ROUND(H23+J23+L23+N23+P23+R23+T23+V23+X23,2) -> 0 | G23: =ROUND(I23+K23+M23+O23+Q23+S23+U23+W23+Y23,2) -> 0
A24: 7.3. | B24: Būvuzraudzības izmaksas | C24: 0.85 | D24: =F24+G24 -> 0 | E24: =D24/$D$36 -> #DIV/0! | F24: =ROUND(H24+J24+L24+N24+P24+R24+T24+V24+X24,2) -> 0 | G24: =ROUND(I24+K24+M24+O24+Q24+S24+U24+W24+Y24,2) -> 0
A25: 7.4. | B25: Būvdarbu izmaksas (infrastruktūra, tai skaitā labiekārtošanas izmaksas) | C25: 0.85 | D25: =F25+G25 -> 0 | E25: =D25/$D$36 -> #DIV/0! | F25: =ROUND(H25+J25+L25+N25+P25+R25+T25+V25+X25,2) -> 0 | G25: =ROUND(I25+K25+M25+O25+Q25+S25+U25+W25+Y25,2) -> 0
A26: 7.5. | B26: Būvdarbu izmaksas (ēkas), tai skaitā labiekārtošanas izmaksas | C26: 0.85 | D26: =F26+G26 -> 0 | E26: =D26/$D$36 -> #DIV/0! | F26: =ROUND(H26+J26+L26+N26+P26+R26+T26+V26+X26,2) -> 0 | G26: =ROUND(I26+K26+M26+O26+Q26+S26+U26+W26+Y26,2) -> 0
A27: 7.6. | B27: Citas izmaksas | C27: 0.85 | D27: =F27+G27 -> 0 | E27: =D27/$D$36 -> #DIV/0! | F27: =ROUND(H27+J27+L27+N27+P27+R27+T27+V27+X27,2) -> 0 | G27: =ROUND(I27+K27+M27+O27+Q27+S27+U27+W27+Y27,2) -> 0
A28: 8 | B28: Patenti, licences utml. | C28: 0.85 | D28: =F28+G28 -> 0 | E28: =D28/$D$36 -> #DIV/0! | F28: =ROUND(H28+J28+L28+N28+P28+R28+T28+V28+X28,2) -> 0 | G28: =ROUND(I28+K28+M28+O28+Q28+S28+U28+W28+Y28,2) -> 0
A29: 9 | B29: Nekustamā īpašuma (piemēram, ēku un zemes) iegādes izmaksas | C29: 0.85 | D29: =F29+G29 -> 0 | E29: =D29/$D$36 -> #DIV/0! | F29: =ROUND(H29+J29+L29+N29+P29+R29+T29+V29+X29,2) -> 0 | G29: =ROUND(I29+K29+M29+O29+Q29+S29+U29+W29+Y29,2) -> 0
A30: 10 | B30: Informatīvo un publicitātes pasākumu izmaksas | C30: 0.85 | D30: =F30+G30 -> 0 | E30: =D30/$D$36 -> #DIV/0! | F30: =ROUND(H30+J30+L30+N30+P30+R30+T30+V30+X30,2) -> 0 | G30: =ROUND(I30+K30+M30+O30+Q30+S30+U30+W30+Y30,2) -> 0
A31: 11 | B31: Projekta iesnieguma un to pamatojošās dokumentācijas sagatavošanas izmaksas (de minimis) | C31: 1 | D31: =F31+G31 -> 0 | E31: =D31/$D$36 -> #DIV/0! | F31: =ROUND(H31+J31+L31+N31+P31+R31+T31+V31+X31,2) -> 0 | G31: =ROUND(I31+K31+M31+O31+Q31+S31+U31+W31+Y31,2) -> 0
A32: 12 | B32: Ieguldījumi natūrā | C32: 0.85 | D32: =F32+G32 -> 0 | E32: =D32/$D$36 -> #DIV/0! | F32: =ROUND(H32+J32+L32+N32+P32+R32+T32+V32+X32,2) -> 0 | G32: =ROUND(I32+K32+M32+O32+Q32+S32+U32+W32+Y32,2) -> 0
A33: 13 | B33: Pārējās projekta īstenošanas izmaksas | C33: 0.85 | D33: =F33+G33 -> 0 | E33: =D33/$D$36 -> #DIV/0! | F33: =ROUND(H33+J33+L33+N33+P33+R33+T33+V33+X33,2) -> 0 | G33: =ROUND(I33+K33+M33+O33+Q33+S33+U33+W33+Y33,2) -> 0
A34: 14 | B34: Vienreizējais maksājums | C34: 0.85 | D34: =F34+G34 -> 0 | E34: =D34/$D$36 -> #DIV/0! | F34: =ROUND(H34+J34+L34+N34+P34+R34+T34+V34+X34,2) -> 0 | G34: =ROUND(I34+K34+M34+O34+Q34+S34+U34+W34+Y34,2) -> 0
A35: 15 | B35: Neparedzētie izdevumi | C35: 0.85 | D35: =F35+G35 -> 0 | E35: =D35/$D$36 -> #DIV/0! | F35: =ROUND(H35+J35+L35+N35+P35+R35+T35+V35+X35,2) -> 0 | G35: =ROUND(I35+K35+M35+O35+Q35+S35+U35+W35+Y35,2) -> 0 | H35: 0 | J35: 0 | L35: 0 | N35: 0 | P35: 0 | R35: 0 | T35: 0 | V35: 0 | X35: 0
B36: KOPĀ | C36: 0.85 | D36: =F36+G36 -> 0 | E36: =D36/$D$36 -> #DIV/0! | F36: =F7+F8+F11+F14+F15+F16+F21+F28+F29+F30+F31+F32+F33+F34+F35 -> 0 | G36: =G7+G8+G11+G14+G15+G16+G21+G28+G29+G30+G31+G32+G33+G34+G35 -> 0 | H36: =H7+H8+H11+H14+H15+H16+H21+H28+H29+H30+H31+H32+H33+H34+H35 -> 0 | I36: =I7+I8+I11+I14+I15+I16+I21+I28+I29+I30+I31+I32+I33+I34+I35 -> 0 | J36: =J7+J8+J11+J14+J15+J16+J21+J28+J29+J30+J31+J32+J33+J34+J35 -> 0 | K36: =K7+K8+K11+K14+K15+K16+K21+K28+K29+K30+K31+K32+K33+K34+K35 -> 0 | L36: =L7+L8+L11+L14+L15+L16+L21+L28+L29+L30+L31+L32+L33+L34+L35 -> 0 | M36: =M7+M8+M11+M14+M15+M16+M21+M28+M29+M30+M31+M32+M33+M34+M35 -> 0 | ... Y36: =Y7+Y8+Y11+Y14+Y15+Y16+Y21+Y28+Y29+Y30+Y31+Y32+Y33+Y34+Y35 -> 0
B37: t.sk. PVN
B38: Investīciju izmaksas bez neparedzētajiem izdevumiem un neatt. PVN | H38: =H36-H35 -> 0 | I38: =I36-I35-I37 -> 0 | J38: =J36-J35 -> 0 | K38: =K36-K35-K37 -> 0 | L38: =L36-L35 -> 0 | M38: =M36-M35-M37 -> 0 | N38: =N36-N35 -> 0 | O38: =O36-O35 -> 0 | P38: =P36-P35 -> 0 | Q38: =Q36-Q35 -> 0 | R38: =R36-R35 -> 0 | S38: =S36-S35 -> 0 | T38: =T36-T35 -> 0 | U38: =U36-U35 -> 0 | ... Y38: =Y36-Y35 -> 0
B39: Investīciju izmaksas bez de minimis izmaksām | H39: =H36-H22-H31 -> 0 | I39: =I36-I22-I31 -> 0 | J39: =J36-J22-J31 -> 0 | K39: =K36-K22-K31 -> 0 | L39: =L36-L22-L31 -> 0 | M39: =M36-M22-M31 -> 0 | N39: =N36-N22-N31 -> 0 | O39: =O36-O22-O31 -> 0 | ... Y39: =Y36-Y22-Y31 -> 0
B40: De minimis | H40: =H22+H31 -> 0 | I40: =I22+I31 -> 0 | J40: =J22+J31 -> 0 | K40: =K22+K31 -> 0 | L40: =L22+L31 -> 0 | M40: =M22+M31 -> 0 | N40: =N22+N31 -> 0 | O40: =O22+O31 -> 0 | ... Y40: =Y22+Y31 -> 0

Sheet 1.1.C. Iesniedzējs
A1: DARBA LAPA Nr.1.1.C. | D1: Aizpilda par projekta iesniedzēja darbībām, kas IR saistītas ar valsts atbalstu (VTNP)
A4: BUDŽETS (+)
A5: Nr. | B5: Izmaksu pozīcijas nosaukums | C5: Maksimālā ES fondu līdzfin. atbalsta likme (%) | D5: Kopējā summa | F5: Izmaksas kopā | H5: ='Dati par projektu'!E13 -> 2024 | J5: =IF(OR(H5>='Dati par projektu'!$C$17,H5="X"),"X",H5+1) -> 2025 | L5: =IF(OR(J5>='Dati par projektu'!$C$17,J5="X"),"X",J5+1) -> 2026 | N5: =IF(OR(L5>='Dati par projektu'!$C$17,L5="X"),"X",L5+1) -> 2027 | P5: =IF(OR(N5>='Dati par projektu'!$C$17,N5="X"),"X",N5+1) -> 2028 | R5: =IF(OR(P5>='Dati par projektu'!$C$17,P5="X"),"X",P5+1) -> 2029 | T5: =IF(OR(R5>='Dati par projektu'!$C$17,R5="X"),"X",R5+1) -> X | V5: =IF(OR(T5>='Dati par projektu'!$C$17,T5="X"),"X",T5+1) -> X | X5: =IF(OR(V5>='Dati par projektu'!$C$17,V5="X"),"X",V5+1) -> X | AV5: 0.55
B6: Projekta netiešās izmaksas kopā: | D6: EUR | E6: % | F6: attiecināmas | G6: neattiecināmas | H6: attiecināmas izmaksas | I6: neattiecināmas izmaksas | J6: attiecināmas izmaksas | K6: neattiecināmas izmaksas | L6: attiecināmas izmaksas | M6: neattiecināmas izmaksas | N6: attiecināmas izmaksas | O6: neattiecināmas izmaksas | P6: attiecināmas izmaksas | Q6: neattiecināmas izmaksas | R6: attiecināmas izmaksas | S6: neattiecināmas izmaksas | T6: attiecināmas izmaksas | U6: neattiecināmas izmaksas | V6: attiecināmas izmaksas | W6: neattiecināmas izmaksas | X6: attiecināmas izmaksas | Y6: neattiecināmas izmaksas | AV6: 0.45
A7: 1 | B7: Projekta izmaksas saskaņā ar vienoto izmaksu likmi (netiešās izmaksas) | C7: 0.85 | D7: =F7+G7 -> 0 | E7: =D7/$D$36 -> #DIV/0! | F7: =ROUND(H7+J7+L7+N7+P7+R7+T7+V7+X7,2) -> 0 | G7: =ROUND(I7+K7+M7+O7+Q7+S7+U7+W7+Y7,2) -> 0 | AV7: 0.35
A8: 2 | B8: Projekta vadības izmaksas | D8: =F8+G8 -> 0 | E8: =D8/$D$36 -> #DIV/0! | F8: =ROUND(H8+J8+L8+N8+P8+R8+T8+V8+X8,2) -> 0 | G8: =ROUND(I8+K8+M8+O8+Q8+S8+U8+W8+Y8,2) -> 0 | H8: =SUM(H9:H10) -> 0 | I8: =SUM(I9:I10) -> 0 | J8: =SUM(J9:J10) -> 0 | K8: =SUM(K9:K10) -> 0 | L8: =SUM(L9:L10) -> 0 | M8: =SUM(M9:M10) -> 0 | N8: =SUM(N9:N10) -> 0 | O8: =SUM(O9:O10) -> 0 | ... Y8: =SUM(Y9:Y10) -> 0
A9: 2.1. | B9: Projekta vadības personāla atlīdzības izmaksas | C9: 0.85 | D9: =F9+G9 -> 0 | E9: =D9/$D$36 -> #DIV/0! | F9: =ROUND(H9+J9+L9+N9+P9+R9+T9+V9+X9,2) -> 0 | G9: =ROUND(I9+K9+M9+O9+Q9+S9+U9+W9+Y9,2) -> 0
A10: 2.2. | B10: Pārējās vadības izmaksas | C10: 0.85 | D10: =F10+G10 -> 0 | E10: =D10/$D$36 -> #DIV/0! | F10: =ROUND(H10+J10+L10+N10+P10+R10+T10+V10+X10,2) -> 0 | G10: =ROUND(I10+K10+M10+O10+Q10+S10+U10+W10+Y10,2) -> 0
A11: 3 | B11: Projekta īstenošanas personāla izmaksas | D11: =F11+G11 -> 0 | E11: =D11/$D$36 -> #DIV/0! | F11: =ROUND(H11+J11+L11+N11+P11+R11+T11+V11+X11,2) -> 0 | G11: =ROUND(I11+K11+M11+O11+Q11+S11+U11+W11+Y11,2) -> 0 | H11: =SUM(H12:H13) -> 0 | I11: =SUM(I12:I13) -> 0 | J11: =SUM(J12:J13) -> 0 | K11: =SUM(K12:K13) -> 0 | L11: =SUM(L12:L13) -> 0 | M11: =SUM(M12:M13) -> 0 | N11: =SUM(N12:N13) -> 0 | O11: =SUM(O12:O13) -> 0 | ... Y11: =SUM(Y12:Y13) -> 0
A12: 3.1. | B12: Projekta īstenošanas personāla atlīdzības izmaksas | C12: 0.85 | D12: =F12+G12 -> 0 | E12: =D12/$D$36 -> #DIV/0! | F12: =ROUND(H12+J12+L12+N12+P12+R12+T12+V12+X12,2) -> 0 | G12: =ROUND(I12+K12+M12+O12+Q12+S12+U12+W12+Y12,2) -> 0
A13: 3.2. | B13: Pārējās projekta īstenošanas personāla izmaksas | C13: 0.85 | D13: =F13+G13 -> 0 | E13: =D13/$D$36 -> #DIV/0! | F13: =ROUND(H13+J13+L13+N13+P13+R13+T13+V13+X13,2) -> 0 | G13: =ROUND(I13+K13+M13+O13+Q13+S13+U13+W13+Y13,2) -> 0
A14: 4 | B14: Mērķa grupas nodrošinājuma izmaksas | C14: 0.85 | D14: =F14+G14 -> 0 | E14: =D14/$D$36 -> #DIV/0! | F14: =ROUND(H14+J14+L14+N14+P14+R14+T14+V14+X14,2) -> 0 | G14: =ROUND(I14+K14+M14+O14+Q14+S14+U14+W14+Y14,2) -> 0
A15: 5 | B15: Informācijas sistēmu izstrādes, ieviešanas un kvalitātes kontroles izmaksas | C15: 0.85 | D15: =F15+G15 -> 0 | E15: =D15/$D$36 -> #DIV/0! | F15: =ROUND(H15+J15+L15+N15+P15+R15+T15+V15+X15,2) -> 0 | G15: =ROUND(I15+K15+M15+O15+Q15+S15+U15+W15+Y15,2) -> 0
A16: 6 | B16: Materiālu, aprīkojuma un iekārtu izmaksas | D16: =F16+G16 -> 0 | E16: =D16/$D$36 -> #DIV/0! | F16: =ROUND(H16+J16+L16+N16+P16+R16+T16+V16+X16,2) -> 0 | G16: =ROUND(I16+K16+M16+O16+Q16+S16+U16+W16+Y16,2) -> 0 | H16: =SUM(H17:H20) -> 0 | I16: =SUM(I17:I20) -> 0 | J16: =SUM(J17:J20) -> 0 | K16: =SUM(K17:K20) -> 0 | L16: =SUM(L17:L20) -> 0 | M16: =SUM(M17:M20) -> 0 | N16: =SUM(N17:N20) -> 0 | O16: =SUM(O17:O20) -> 0 | ... Y16: =SUM(Y17:Y20) -> 0
A17: 6.1. | B17: Materiālu un izjevielu izmaksas | C17: 0.85 | D17: =F17+G17 -> 0 | E17: =D17/$D$36 -> #DIV/0! | F17: =ROUND(H17+J17+L17+N17+P17+R17+T17+V17+X17,2) -> 0 | G17: =ROUND(I17+K17+M17+O17+Q17+S17+U17+W17+Y17,2) -> 0
A18: 6.2. | B18: Pārējās projekta īstenošanas personāla izmaksas | C18: 0.85 | D18: =F18+G18 -> 0 | E18: =D18/$D$36 -> #DIV/0! | F18: =ROUND(H18+J18+L18+N18+P18+R18+T18+V18+X18,2) -> 0 | G18: =ROUND(I18+K18+M18+O18+Q18+S18+U18+W18+Y18,2) -> 0
A19: 6.3. | B19: Transportlīdzekļu izmaksas | C19: 0.85 | D19: =F19+G19 -> 0 | E19: =D19/$D$36 -> #DIV/0! | F19: =ROUND(H19+J19+L19+N19+P19+R19+T19+V19+X19,2) -> 0 | G19: =ROUND(I19+K19+M19+O19+Q19+S19+U19+W19+Y19,2) -> 0
A20: 6.4. | B20: Citas izmaksas | C20: 0.85 | D20: =F20+G20 -> 0 | E20: =D20/$D$36 -> #DIV/0! | F20: =ROUND(H20+J20+L20+N20+P20+R20+T20+V20+X20,2) -> 0 | G20: =ROUND(I20+K20+M20+O20+Q20+S20+U20+W20+Y20,2) -> 0
A21: 7 | B21: Būvniecības izmaksas | D21: =F21+G21 -> 0 | E21: =D21/$D$36 -> #DIV/0! | F21: =ROUND(H21+J21+L21+N21+P21+R21+T21+V21+X21,2) -> 0 | G21: =ROUND(I21+K21+M21+O21+Q21+S21+U21+W21+Y21,2) -> 0 | H21: =SUM(H22:H27) -> 0 | I21: =SUM(I22:I27) -> 0 | J21: =SUM(J22:J27) -> 0 | K21: =SUM(K22:K27) -> 0 | L21: =SUM(L22:L27) -> 0 | M21: =SUM(M22:M27) -> 0 | N21: =SUM(N22:N27) -> 0 | O21: =SUM(O22:O27) -> 0 | ... Y21: =SUM(Y22:Y27) -> 0
A22: 7.1. | B22: Projektēšanas izmaksas | C22: 0.85 | D22: =F22+G22 -> 0 | E22: =D22/$D$36 -> #DIV/0! | F22: =ROUND(H22+J22+L22+N22+P22+R22+T22+V22+X22,2) -> 0 | G22: =ROUND(I22+K22+M22+O22+Q22+S22+U22+W22+Y22,2) -> 0
A23: 7.2. | B23: Autoruzraudzības izmaksas | C23: 0.85 | D23: =F23+G23 -> 0 | E23: =D23/$D$36 -> #DIV/0! | F23: =ROUND(H23+J23+L23+N23+P23+R23+T23+V23+X23,2) -> 0 | G23: =ROUND(I23+K23+M23+O23+Q23+S23+U23+W23+Y23,2) -> 0
A24: 7.3. | B24: Būvuzraudzības izmaksas | C24: 0.85 | D24: =F24+G24 -> 0 | E24: =D24/$D$36 -> #DIV/0! | F24: =ROUND(H24+J24+L24+N24+P24+R24+T24+V24+X24,2) -> 0 | G24: =ROUND(I24+K24+M24+O24+Q24+S24+U24+W24+Y24,2) -> 0
A25: 7.4. | B25: Būvdarbu izmaksas (infrastruktūra, tai skaitā labiekārtošanas izmaksas) | C25: 0.85 | D25: =F25+G25 -> 0 | E25: =D25/$D$36 -> #DIV/0! | F25: =ROUND(H25+J25+L25+N25+P25+R25+T25+V25+X25,2) -> 0 | G25: =ROUND(I25+K25+M25+O25+Q25+S25+U25+W25+Y25,2) -> 0
A26: 7.5. | B26: Būvdarbu izmaksas (ēkas), tai skaitā labiekārtošanas izmaksas | C26: 0.85 | D26: =F26+G26 -> 0 | E26: =D26/$D$36 -> #DIV/0! | F26: =ROUND(H26+J26+L26+N26+P26+R26+T26+V26+X26,2) -> 0 | G26: =ROUND(I26+K26+M26+O26+Q26+S26+U26+W26+Y26,2) -> 0
A27: 7.6. | B27: Citas izmaksas | C27: 0.85 | D27: =F27+G27 -> 0 | E27: =D27/$D$36 -> #DIV/0! | F27: =ROUND(H27+J27+L27+N27+P27+R27+T27+V27+X27,2) -> 0 | G27: =ROUND(I27+K27+M27+O27+Q27+S27+U27+W27+Y27,2) -> 0
A28: 8 | B28: Patenti, licences utml. | C28: 0.85 | D28: =F28+G28 -> 0 | E28: =D28/$D$36 -> #DIV/0! | F28: =ROUND(H28+J28+L28+N28+P28+R28+T28+V28+X28,2) -> 0 | G28: =ROUND(I28+K28+M28+O28+Q28+S28+U28+W28+Y28,2) -> 0
A29: 9 | B29: Nekustamā īpašuma (piemēram, ēku un zemes) iegādes izmaksas | C29: 0.85 | D29: =F29+G29 -> 0 | E29: =D29/$D$36 -> #DIV/0! | F29: =ROUND(H29+J29+L29+N29+P29+R29+T29+V29+X29,2) -> 0 | G29: =ROUND(I29+K29+M29+O29+Q29+S29+U29+W29+Y29,2) -> 0
A30: 10 | B30: Informatīvo un publicitātes pasākumu izmaksas | C30: 0.85 | D30: =F30+G30 -> 0 | E30: =D30/$D$36 -> #DIV/0! | F30: =ROUND(H30+J30+L30+N30+P30+R30+T30+V30+X30,2) -> 0 | G30: =ROUND(I30+K30+M30+O30+Q30+S30+U30+W30+Y30,2) -> 0
A31: 11 | B31: Projekta iesnieguma un to pamatojošās dokumentācijas sagatavošanas izmaksas | C31: 0.85 | D31: =F31+G31 -> 0 | E31: =D31/$D$36 -> #DIV/0! | F31: =ROUND(H31+J31+L31+N31+P31+R31+T31+V31+X31,2) -> 0 | G31: =ROUND(I31+K31+M31+O31+Q31+S31+U31+W31+Y31,2) -> 0
A32: 12 | B32: Ieguldījumi natūrā | C32: 0.85 | D32: =F32+G32 -> 0 | E32: =D32/$D$36 -> #DIV/0! | F32: =ROUND(H32+J32+L32+N32+P32+R32+T32+V32+X32,2) -> 0 | G32: =ROUND(I32+K32+M32+O32+Q32+S32+U32+W32+Y32,2) -> 0
A33: 13 | B33: Pārējās projekta īstenošanas izmaksas | C33: 0.85 | D33: =F33+G33 -> 0 | E33: =D33/$D$36 -> #DIV/0! | F33: =ROUND(H33+J33+L33+N33+P33+R33+T33+V33+X33,2) -> 0 | G33: =ROUND(I33+K33+M33+O33+Q33+S33+U33+W33+Y33,2) -> 0
A34: 14 | B34: Vienreizējais maksājums | C34: 0.85 | D34: =F34+G34 -> 0 | E34: =D34/$D$36 -> #DIV/0! | F34: =ROUND(H34+J34+L34+N34+P34+R34+T34+V34+X34,2) -> 0 | G34: =ROUND(I34+K34+M34+O34+Q34+S34+U34+W34+Y34,2) -> 0
A35: 15 | B35: Neparedzētie izdevumi | C35: 0.85 | D35: =F35+G35 -> 0 | E35: =D35/$D$36 -> #DIV/0! | F35: =ROUND(H35+J35+L35+N35+P35+R35+T35+V35+X35,2) -> 0 | G35: =ROUND(I35+K35+M35+O35+Q35+S35+U35+W35+Y35,2) -> 0
B36: KOPĀ | C36: 0.85 | D36: =F36+G36 -> 0 | E36: =D36/$D$36 -> #DIV/0! | F36: =F7+F8+F11+F14+F15+F16+F21+F28+F29+F30+F31+F32+F33+F34+F35 -> 0 | G36: =G7+G8+G11+G14+G15+G16+G21+G28+G29+G30+G31+G32+G33+G34+G35 -> 0 | H36: =H7+H8+H11+H14+H15+H16+H21+H28+H29+H30+H31+H32+H33+H34+H35 -> 0 | I36: =I7+I8+I11+I14+I15+I16+I21+I28+I29+I30+I31+I32+I33+I34+I35 -> 0 | J36: =J7+J8+J11+J14+J15+J16+J21+J28+J29+J30+J31+J32+J33+J34+J35 -> 0 | K36: =K7+K8+K11+K14+K15+K16+K21+K28+K29+K30+K31+K32+K33+K34+K35 -> 0 | L36: =L7+L8+L11+L14+L15+L16+L21+L28+L29+L30+L31+L32+L33+L34+L35 -> 0 | M36: =M7+M8+M11+M14+M15+M16+M21+M28+M29+M30+M31+M32+M33+M34+M35 -> 0 | ... Y36: =Y7+Y8+Y11+Y14+Y15+Y16+Y21+Y28+Y29+Y30+Y31+Y32+Y33+Y34+Y35 -> 0
B37: t.sk. PVN
B38: Investīciju izmaksas bez neparedzētajiem izdevumiem un neatt. PVN | H38: =H36-H35 -> 0 | I38: =I36-I35-I37 -> 0 | J38: =J36-J35 -> 0 | K38: =K36-K35-K37 -> 0 | L38: =L36-L35 -> 0 | M38: =M36-M35-M37 -> 0 | N38: =N36-N35 -> 0 | O38: =O36-O35 -> 0 | P38: =P36-P35 -> 0 | Q38: =Q36-Q35 -> 0 | R38: =R36-R35 -> 0 | S38: =S36-S35 -> 0 | T38: =T36-T35 -> 0 | U38: =U36-U35 -> 0 | ... Y38: =Y36-Y35 -> 0

Sheet 1.2.1.A. Partneris-1
A1: DARBA LAPA Nr.1.2.1.A. | D1: Aizpilda par projekta iesniedzēja sadarbības partnera darbībām, kas NAV saistītas ar valsts atbalstu
B3: Sadarbības partneris | K3: Valsts budžeta dotācijas īpatsvars (%): | P3: Saite valsts budžeta dotācijas noteikšanai (VARAM vietnē)
A4: BUDŽETS (+)
A5: Nr. | B5: Izmaksu pozīcijas nosaukums | C5: Maksimālā ES fondu līdzfin. atbalsta likme (%) | D5: Kopējā summa | F5: Izmaksas kopā | H5: ='Dati par projektu'!E13 -> 2024 | J5: =IF(OR(H5>='Dati par projektu'!$C$17,H5="X"),"X",H5+1) -> 2025 | L5: =IF(OR(J5>='Dati par projektu'!$C$17,J5="X"),"X",J5+1) -> 2026 | N5: =IF(OR(L5>='Dati par projektu'!$C$17,L5="X"),"X",L5+1) -> 2027 | P5: =IF(OR(N5>='Dati par projektu'!$C$17,N5="X"),"X",N5+1) -> 2028 | R5: =IF(OR(P5>='Dati par projektu'!$C$17,P5="X"),"X",P5+1) -> 2029 | T5: =IF(OR(R5>='Dati par projektu'!$C$17,R5="X"),"X",R5+1) -> X | V5: =IF(OR(T5>='Dati par projektu'!$C$17,T5="X"),"X",T5+1) -> X | X5: =IF(OR(V5>='Dati par projektu'!$C$17,V5="X"),"X",V5+1) -> X | AV5: 0.55
B6: Projekta netiešās izmaksas kopā: | D6: EUR | E6: % | F6: attiecināmas | G6: neattiecināmas | H6: attiecināmas izmaksas | I6: neattiecināmas izmaksas | J6: attiecināmas izmaksas | K6: neattiecināmas izmaksas | L6: attiecināmas izmaksas | M6: neattiecināmas izmaksas | N6: attiecināmas izmaksas | O6: neattiecināmas izmaksas | P6: attiecināmas izmaksas | Q6: neattiecināmas izmaksas | R6: attiecināmas izmaksas | S6: neattiecināmas izmaksas | T6: attiecināmas izmaksas | U6: neattiecināmas izmaksas | V6: attiecināmas izmaksas | W6: neattiecināmas izmaksas | X6: attiecināmas izmaksas | Y6: neattiecināmas izmaksas | AV6: 0.45
A7: 1 | B7: Projekta izmaksas saskaņā ar vienoto izmaksu likmi (netiešās izmaksas) | C7: 0.85 | D7: =F7+G7 -> 0 | E7: =D7/$D$36 -> #DIV/0! | F7: =ROUND(H7+J7+L7+N7+P7+R7+T7+V7+X7,2) -> 0 | G7: =ROUND(I7+K7+M7+O7+Q7+S7+U7+W7+Y7,2) -> 0 | AV7: 0.35
A8: 2 | B8: Projekta vadības izmaksas | D8: =F8+G8 -> 0 | E8: =D8/$D$36 -> #DIV/0! | F8: =ROUND(H8+J8+L8+N8+P8+R8+T8+V8+X8,2) -> 0 | G8: =ROUND(I8+K8+M8+O8+Q8+S8+U8+W8+Y8,2) -> 0 | H8: =SUM(H9:H10) -> 0 | I8: =SUM(I9:I10) -> 0 | J8: =SUM(J9:J10) -> 0 | K8: =SUM(K9:K10) -> 0 | L8: =SUM(L9:L10) -> 0 | M8: =SUM(M9:M10) -> 0 | N8: =SUM(N9:N10) -> 0 | O8: =SUM(O9:O10) -> 0 | ... Y8: =SUM(Y9:Y10) -> 0
A9: 2.1. | B9: Projekta vadības personāla atlīdzības izmaksas | C9: 0.85 | D9: =F9+G9 -> 0 | E9: =D9/$D$36 -> #DIV/0! | F9: =ROUND(H9+J9+L9+N9+P9+R9+T9+V9+X9,2) -> 0 | G9: =ROUND(I9+K9+M9+O9+Q9+S9+U9+W9+Y9,2) -> 0
A10: 2.2. | B10: Pārējās vadības izmaksas | C10: 0.85 | D10: =F10+G10 -> 0 | E10: =D10/$D$36 -> #DIV/0! | F10: =ROUND(H10+J10+L10+N10+P10+R10+T10+V10+X10,2) -> 0 | G10: =ROUND(I10+K10+M10+O10+Q10+S10+U10+W10+Y10,2) -> 0
A11: 3 | B11: Projekta īstenošanas personāla izmaksas | D11: =F11+G11 -> 0 | E11: =D11/$D$36 -> #DIV/0! | F11: =ROUND(H11+J11+L11+N11+P11+R11+T11+V11+X11,2) -> 0 | G11: =ROUND(I11+K11+M11+O11+Q11+S11+U11+W11+Y11,2) -> 0 | H11: =SUM(H12:H13) -> 0 | I11: =SUM(I12:I13) -> 0 | J11: =SUM(J12:J13) -> 0 | K11: =SUM(K12:K13) -> 0 | L11: =SUM(L12:L13) -> 0 | M11: =SUM(M12:M13) -> 0 | N11: =SUM(N12:N13) -> 0 | O11: =SUM(O12:O13) -> 0 | ... Y11: =SUM(Y12:Y13) -> 0
A12: 3.1. | B12: Projekta īstenošanas personāla atlīdzības izmaksas | C12: 0.85 | D12: =F12+G12 -> 0 | E12: =D12/$D$36 -> #DIV/0! | F12: =ROUND(H12+J12+L12+N12+P12+R12+T12+V12+X12,2) -> 0 | G12: =ROUND(I12+K12+M12+O12+Q12+S12+U12+W12+Y12,2) -> 0
A13: 3.2. | B13: Pārējās projekta īstenošanas personāla izmaksas | C13: 0.85 | D13: =F13+G13 -> 0 | E13: =D13/$D$36 -> #DIV/0! | F13: =ROUND(H13+J13+L13+N13+P13+R13+T13+V13+X13,2) -> 0 | G13: =ROUND(I13+K13+M13+O13+Q13+S13+U13+W13+Y13,2) -> 0
A14: 4 | B14: Mērķa grupas nodrošinājuma izmaksas | C14: 0.85 | D14: =F14+G14 -> 0 | E14: =D14/$D$36 -> #DIV/0! | F14: =ROUND(H14+J14+L14+N14+P14+R14+T14+V14+X14,2) -> 0 | G14: =ROUND(I14+K14+M14+O14+Q14+S14+U14+W14+Y14,2) -> 0
A15: 5 | B15: Informācijas sistēmu izstrādes, ieviešanas un kvalitātes kontroles izmaksas | C15: 0.85 | D15: =F15+G15 -> 0 | E15: =D15/$D$36 -> #DIV/0! | F15: =ROUND(H15+J15+L15+N15+P15+R15+T15+V15+X15,2) -> 0 | G15: =ROUND(I15+K15+M15+O15+Q15+S15+U15+W15+Y15,2) -> 0
A16: 6 | B16: Materiālu, aprīkojuma un iekārtu izmaksas | D16: =F16+G16 -> 0 | E16: =D16/$D$36 -> #DIV/0! | F16: =ROUND(H16+J16+L16+N16+P16+R16+T16+V16+X16,2) -> 0 | G16: =ROUND(I16+K16+M16+O16+Q16+S16+U16+W16+Y16,2) -> 0 | H16: =SUM(H17:H20) -> 0 | I16: =SUM(I17:I20) -> 0 | J16: =SUM(J17:J20) -> 0 | K16: =SUM(K17:K20) -> 0 | L16: =SUM(L17:L20) -> 0 | M16: =SUM(M17:M20) -> 0 | N16: =SUM(N17:N20) -> 0 | O16: =SUM(O17:O20) -> 0 | ... Y16: =SUM(Y17:Y20) -> 0
A17: 6.1. | B17: Materiālu un izjevielu izmaksas | C17: 0.85 | D17: =F17+G17 -> 0 | E17: =D17/$D$36 -> #DIV/0! | F17: =ROUND(H17+J17+L17+N17+P17+R17+T17+V17+X17,2) -> 0 | G17: =ROUND(I17+K17+M17+O17+Q17+S17+U17+W17+Y17,2) -> 0
A18: 6.2. | B18: Pārējās projekta īstenošanas personāla izmaksas | C18: 0.85 | D18: =F18+G18 -> 0 | E18: =D18/$D$36 -> #DIV/0! | F18: =ROUND(H18+J18+L18+N18+P18+R18+T18+V18+X18,2) -> 0 | G18: =ROUND(I18+K18+M18+O18+Q18+S18+U18+W18+Y18,2) -> 0
A19: 6.3. | B19: Transportlīdzekļu izmaksas | C19: 0.85 | D19: =F19+G19 -> 0 | E19: =D19/$D$36 -> #DIV/0! | F19: =ROUND(H19+J19+L19+N19+P19+R19+T19+V19+X19,2) -> 0 | G19: =ROUND(I19+K19+M19+O19+Q19+S19+U19+W19+Y19,2) -> 0
A20: 6.4. | B20: Citas izmaksas | C20: 0.85 | D20: =F20+G20 -> 0 | E20: =D20/$D$36 -> #DIV/0! | F20: =ROUND(H20+J20+L20+N20+P20+R20+T20+V20+X20,2) -> 0 | G20: =ROUND(I20+K20+M20+O20+Q20+S20+U20+W20+Y20,2) -> 0
A21: 7 | B21: Būvniecības izmaksas | D21: =F21+G21 -> 0 | E21: =D21/$D$36 -> #DIV/0! | F21: =ROUND(H21+J21+L21+N21+P21+R21+T21+V21+X21,2) -> 0 | G21: =ROUND(I21+K21+M21+O21+Q21+S21+U21+W21+Y21,2) -> 0 | H21: =SUM(H22:H27) -> 0 | I21: =SUM(I22:I27) -> 0 | J21: =SUM(J22:J27) -> 0 | K21: =SUM(K22:K27) -> 0 | L21: =SUM(L22:L27) -> 0 | M21: =SUM(M22:M27) -> 0 | N21: =SUM(N22:N27) -> 0 | O21: =SUM(O22:O27) -> 0 | ... Y21: =SUM(Y22:Y27) -> 0
A22: 7.1. | B22: Projektēšanas izmaksas | C22: 0.85 | D22: =F22+G22 -> 0 | E22: =D22/$D$36 -> #DIV/0! | F22: =ROUND(H22+J22+L22+N22+P22+R22+T22+V22+X22,2) -> 0 | G22: =ROUND(I22+K22+M22+O22+Q22+S22+U22+W22+Y22,2) -> 0
A23: 7.2. | B23: Autoruzraudzības izmaksas | C23: 0.85 | D23: =F23+G23 -> 0 | E23: =D23/$D$36 -> #DIV/0! | F23: =ROUND(H23+J23+L23+N23+P23+R23+T23+V23+X23,2) -> 0 | G23: =ROUND(I23+K23+M23+O23+Q23+S23+U23+W23+Y23,2) -> 0
A24: 7.3. | B24: Būvuzraudzības izmaksas | C24: 0.85 | D24: =F24+G24 -> 0 | E24: =D24/$D$36 -> #DIV/0! | F24: =ROUND(H24+J24+L24+N24+P24+R24+T24+V24+X24,2) -> 0 | G24: =ROUND(I24+K24+M24+O24+Q24+S24+U24+W24+Y24,2) -> 0
A25: 7.4. | B25: Būvdarbu izmaksas (infrastruktūra, tai skaitā labiekārtošanas izmaksas) | C25: 0.85 | D25: =F25+G25 -> 0 | E25: =D25/$D$36 -> #DIV/0! | F25: =ROUND(H25+J25+L25+N25+P25+R25+T25+V25+X25,2) -> 0 | G25: =ROUND(I25+K25+M25+O25+Q25+S25+U25+W25+Y25,2) -> 0
A26: 7.5. | B26: Būvdarbu izmaksas (ēkas), tai skaitā labiekārtošanas izmaksas | C26: 0.85 | D26: =F26+G26 -> 0 | E26: =D26/$D$36 -> #DIV/0! | F26: =ROUND(H26+J26+L26+N26+P26+R26+T26+V26+X26,2) -> 0 | G26: =ROUND(I26+K26+M26+O26+Q26+S26+U26+W26+Y26,2) -> 0
A27: 7.6. | B27: Citas izmaksas | C27: 0.85 | D27: =F27+G27 -> 0 | E27: =D27/$D$36 -> #DIV/0! | F27: =ROUND(H27+J27+L27+N27+P27+R27+T27+V27+X27,2) -> 0 | G27: =ROUND(I27+K27+M27+O27+Q27+S27+U27+W27+Y27,2) -> 0
A28: 8 | B28: Patenti, licences utml. | C28: 0.85 | D28: =F28+G28 -> 0 | E28: =D28/$D$36 -> #DIV/0! | F28: =ROUND(H28+J28+L28+N28+P28+R28+T28+V28+X28,2) -> 0 | G28: =ROUND(I28+K28+M28+O28+Q28+S28+U28+W28+Y28,2) -> 0
A29: 9 | B29: Nekustamā īpašuma (piemēram, ēku un zemes) iegādes izmaksas | C29: 0.85 | D29: =F29+G29 -> 0 | E29: =D29/$D$36 -> #DIV/0! | F29: =ROUND(H29+J29+L29+N29+P29+R29+T29+V29+X29,2) -> 0 | G29: =ROUND(I29+K29+M29+O29+Q29+S29+U29+W29+Y29,2) -> 0
A30: 10 | B30: Informatīvo un publicitātes pasākumu izmaksas | C30: 0.85 | D30: =F30+G30 -> 0 | E30: =D30/$D$36 -> #DIV/0! | F30: =ROUND(H30+J30+L30+N30+P30+R30+T30+V30+X30,2) -> 0 | G30: =ROUND(I30+K30+M30+O30+Q30+S30+U30+W30+Y30,2) -> 0
A31: 11 | B31: Projekta iesnieguma un to pamatojošās dokumentācijas sagatavošanas izmaksas | C31: 0.85 | D31: =F31+G31 -> 0 | E31: =D31/$D$36 -> #DIV/0! | F31: =ROUND(H31+J31+L31+N31+P31+R31+T31+V31+X31,2) -> 0 | G31: =ROUND(I31+K31+M31+O31+Q31+S31+U31+W31+Y31,2) -> 0
A32: 12 | B32: Ieguldījumi natūrā | C32: 0.85 | D32: =F32+G32 -> 0 | E32: =D32/$D$36 -> #DIV/0! | F32: =ROUND(H32+J32+L32+N32+P32+R32+T32+V32+X32,2) -> 0 | G32: =ROUND(I32+K32+M32+O32+Q32+S32+U32+W32+Y32,2) -> 0
A33: 13 | B33: Pārējās projekta īstenošanas izmaksas | C33: 0.85 | D33: =F33+G33 -> 0 | E33: =D33/$D$36 -> #DIV/0! | F33: =ROUND(H33+J33+L33+N33+P33+R33+T33+V33+X33,2) -> 0 | G33: =ROUND(I33+K33+M33+O33+Q33+S33+U33+W33+Y33,2) -> 0
A34: 14 | B34: Vienreizējais maksājums | C34: 0.85 | D34: =F34+G34 -> 0 | E34: =D34/$D$36 -> #DIV/0! | F34: =ROUND(H34+J34+L34+N34+P34+R34+T34+V34+X34,2) -> 0 | G34: =ROUND(I34+K34+M34+O34+Q34+S34+U34+W34+Y34,2) -> 0
A35: 15 | B35: Neparedzētie izdevumi | C35: 0.85 | D35: =F35+G35 -> 0 | E35: =D35/$D$36 -> #DIV/0! | F35: =ROUND(H35+J35+L35+N35+P35+R35+T35+V35+X35,2) -> 0 | G35: =ROUND(I35+K35+M35+O35+Q35+S35+U35+W35+Y35,2) -> 0
B36: KOPĀ | C36: 0.85 | D36: =F36+G36 -> 0 | E36: =D36/$D$36 -> #DIV/0! | F36: =F7+F8+F11+F14+F15+F16+F21+F28+F29+F30+F31+F32+F33+F34+F35 -> 0 | G36: =G7+G8+G11+G14+G15+G16+G21+G28+G29+G30+G31+G32+G33+G34+G35 -> 0 | H36: =H7+H8+H11+H14+H15+H16+H21+H28+H29+H30+H31+H32+H33+H34+H35 -> 0 | I36: =I7+I8+I11+I14+I15+I16+I21+I28+I29+I30+I31+I32+I33+I34+I35 -> 0 | J36: =J7+J8+J11+J14+J15+J16+J21+J28+J29+J30+J31+J32+J33+J34+J35 -> 0 | K36: =K7+K8+K11+K14+K15+K16+K21+K28+K29+K30+K31+K32+K33+K34+K35 -> 0 | L36: =L7+L8+L11+L14+L15+L16+L21+L28+L29+L30+L31+L32+L33+L34+L35 -> 0 | M36: =M7+M8+M11+M14+M15+M16+M21+M28+M29+M30+M31+M32+M33+M34+M35 -> 0 | ... Y36: =Y7+Y8+Y11+Y14+Y15+Y16+Y21+Y28+Y29+Y30+Y31+Y32+Y33+Y34+Y35 -> 0
B37: t.sk. PVN
B38: Investīciju izmaksas bez neparedzētajiem izdevumiem un neatt. PVN | H38: =H36-H35 -> 0 | I38: =I36-I35-I37 -> 0 | J38: =J36-J35 -> 0 | K38: =K36-K35-K37 -> 0 | L38: =L36-L35 -> 0 | M38: =M36-M35-M37 -> 0 | N38: =N36-N35 -> 0 | O38: =O36-O35 -> 0 | P38: =P36-P35 -> 0 | Q38: =Q36-Q35 -> 0 | R38: =R36-R35 -> 0 | S38: =S36-S35 -> 0 | T38: =T36-T35 -> 0 | U38: =U36-U35 -> 0 | ... Y38: =Y36-Y35 -> 0

Sheet 1.2.1.B. Partneris-1
A1: DARBA LAPA Nr.1.2.1.B. | D1: Aizpilda par projekta iesniedzēja sadarbības partnera darbībām, kas IR saistītas ar valsts atbalstu
B3: Sadarbības partneris | K3: Valsts budžeta dotācijas īpatsvars (%): | P3: Saite valsts budžeta dotācijas noteikšanai (VARAM vietnē)
A4: BUDŽETS (+)
A5: Nr. | B5: Izmaksu pozīcijas nosaukums | C5: Maksimālā ES fondu līdzfin. atbalsta likme (%) | D5: Kopējā summa | F5: Izmaksas kopā | H5: ='Dati par projektu'!E13 -> 2024 | J5: =IF(OR(H5>='Dati par projektu'!$C$17,H5="X"),"X",H5+1) -> 2025 | L5: =IF(OR(J5>='Dati par projektu'!$C$17,J5="X"),"X",J5+1) -> 2026 | N5: =IF(OR(L5>='Dati par projektu'!$C$17,L5="X"),"X",L5+1) -> 2027 | P5: =IF(OR(N5>='Dati par projektu'!$C$17,N5="X"),"X",N5+1) -> 2028 | R5: =IF(OR(P5>='Dati par projektu'!$C$17,P5="X"),"X",P5+1) -> 2029 | T5: =IF(OR(R5>='Dati par projektu'!$C$17,R5="X"),"X",R5+1) -> X | V5: =IF(OR(T5>='Dati par projektu'!$C$17,T5="X"),"X",T5+1) -> X | X5: =IF(OR(V5>='Dati par projektu'!$C$17,V5="X"),"X",V5+1) -> X | AV5: 0.55
B6: Projekta netiešās izmaksas kopā: | D6: EUR | E6: % | F6: attiecināmas | G6: neattiecināmas | H6: attiecināmas izmaksas | I6: neattiecināmas izmaksas | J6: attiecināmas izmaksas | K6: neattiecināmas izmaksas | L6: attiecināmas izmaksas | M6: neattiecināmas izmaksas | N6: attiecināmas izmaksas | O6: neattiecināmas izmaksas | P6: attiecināmas izmaksas | Q6: neattiecināmas izmaksas | R6: attiecināmas izmaksas | S6: neattiecināmas izmaksas | T6: attiecināmas izmaksas | U6: neattiecināmas izmaksas | V6: attiecināmas izmaksas | W6: neattiecināmas izmaksas | X6: attiecināmas izmaksas | Y6: neattiecināmas izmaksas | AV6: 0.45
A7: 1 | B7: Projekta izmaksas saskaņā ar vienoto izmaksu likmi (netiešās izmaksas) | C7: 0.85 | D7: =F7+G7 -> 0 | E7: =D7/$D$36 -> #DIV/0! | F7: =ROUND(H7+J7+L7+N7+P7+R7+T7+V7+X7,2) -> 0 | G7: =ROUND(I7+K7+M7+O7+Q7+S7+U7+W7+Y7,2) -> 0 | AV7: 0.35
A8: 2 | B8: Projekta vadības izmaksas | D8: =F8+G8 -> 0 | E8: =D8/$D$36 -> #DIV/0! | F8: =ROUND(H8+J8+L8+N8+P8+R8+T8+V8+X8,2) -> 0 | G8: =ROUND(I8+K8+M8+O8+Q8+S8+U8+W8+Y8,2) -> 0 | H8: =SUM(H9:H10) -> 0 | I8: =SUM(I9:I10) -> 0 | J8: =SUM(J9:J10) -> 0 | K8: =SUM(K9:K10) -> 0 | L8: =SUM(L9:L10) -> 0 | M8: =SUM(M9:M10) -> 0 | N8: =SUM(N9:N10) -> 0 | O8: =SUM(O9:O10) -> 0 | ... Y8: =SUM(Y9:Y10) -> 0
A9: 2.1. | B9: Projekta vadības personāla atlīdzības izmaksas | C9: 0.85 | D9: =F9+G9 -> 0 | E9: =D9/$D$36 -> #DIV/0! | F9: =ROUND(H9+J9+L9+N9+P9+R9+T9+V9+X9,2) -> 0 | G9: =ROUND(I9+K9+M9+O9+Q9+S9+U9+W9+Y9,2) -> 0
A10: 2.2. | B10: Pārējās vadības izmaksas | C10: 0.85 | D10: =F10+G10 -> 0 | E10: =D10/$D$36 -> #DIV/0! | F10: =ROUND(H10+J10+L10+N10+P10+R10+T10+V10+X10,2) -> 0 | G10: =ROUND(I10+K10+M10+O10+Q10+S10+U10+W10+Y10,2) -> 0
A11: 3 | B11: Projekta īstenošanas personāla izmaksas | D11: =F11+G11 -> 0 | E11: =D11/$D$36 -> #DIV/0! | F11: =ROUND(H11+J11+L11+N11+P11+R11+T11+V11+X11,2) -> 0 | G11: =ROUND(I11+K11+M11+O11+Q11+S11+U11+W11+Y11,2) -> 0 | H11: =SUM(H12:H13) -> 0 | I11: =SUM(I12:I13) -> 0 | J11: =SUM(J12:J13) -> 0 | K11: =SUM(K12:K13) -> 0 | L11: =SUM(L12:L13) -> 0 | M11: =SUM(M12:M13) -> 0 | N11: =SUM(N12:N13) -> 0 | O11: =SUM(O12:O13) -> 0 | ... Y11: =SUM(Y12:Y13) -> 0
A12: 3.1. | B12: Projekta īstenošanas personāla atlīdzības izmaksas | C12: 0.85 | D12: =F12+G12 -> 0 | E12: =D12/$D$36 -> #DIV/0! | F12: =ROUND(H12+J12+L12+N12+P12+R12+T12+V12+X12,2) -> 0 | G12: =ROUND(I12+K12+M12+O12+Q12+S12+U12+W12+Y12,2) -> 0
A13: 3.2. | B13: Pārējās projekta īstenošanas personāla izmaksas | C13: 0.85 | D13: =F13+G13 -> 0 | E13: =D13/$D$36 -> #DIV/0! | F13: =ROUND(H13+J13+L13+N13+P13+R13+T13+V13+X13,2) -> 0 | G13: =ROUND(I13+K13+M13+O13+Q13+S13+U13+W13+Y13,2) -> 0
A14: 4 | B14: Mērķa grupas nodrošinājuma izmaksas | C14: 0.85 | D14: =F14+G14 -> 0 | E14: =D14/$D$36 -> #DIV/0! | F14: =ROUND(H14+J14+L14+N14+P14+R14+T14+V14+X14,2) -> 0 | G14: =ROUND(I14+K14+M14+O14+Q14+S14+U14+W14+Y14,2) -> 0
A15: 5 | B15: Informācijas sistēmu izstrādes, ieviešanas un kvalitātes kontroles izmaksas | C15: 0.85 | D15: =F15+G15 -> 0 | E15: =D15/$D$36 -> #DIV/0! | F15: =ROUND(H15+J15+L15+N15+P15+R15+T15+V15+X15,2) -> 0 | G15: =ROUND(I15+K15+M15+O15+Q15+S15+U15+W15+Y15,2) -> 0
A16: 6 | B16: Materiālu, aprīkojuma un iekārtu izmaksas | D16: =F16+G16 -> 0 | E16: =D16/$D$36 -> #DIV/0! | F16: =ROUND(H16+J16+L16+N16+P16+R16+T16+V16+X16,2) -> 0 | G16: =ROUND(I16+K16+M16+O16+Q16+S16+U16+W16+Y16,2) -> 0 | H16: =SUM(H17:H20) -> 0 | I16: =SUM(I17:I20) -> 0 | J16: =SUM(J17:J20) -> 0 | K16: =SUM(K17:K20) -> 0 | L16: =SUM(L17:L20) -> 0 | M16: =SUM(M17:M20) -> 0 | N16: =SUM(N17:N20) -> 0 | O16: =SUM(O17:O20) -> 0 | ... Y16: =SUM(Y17:Y20) -> 0
A17: 6.1. | B17: Materiālu un izjevielu izmaksas | C17: 0.85 | D17: =F17+G17 -> 0 | E17: =D17/$D$36 -> #DIV/0! | F17: =ROUND(H17+J17+L17+N17+P17+R17+T17+V17+X17,2) -> 0 | G17: =ROUND(I17+K17+M17+O17+Q17+S17+U17+W17+Y17,2) -> 0
A18: 6.2. | B18: Pārējās projekta īstenošanas personāla izmaksas | C18: 0.85 | D18: =F18+G18 -> 0 | E18: =D18/$D$36 -> #DIV/0! | F18: =ROUND(H18+J18+L18+N18+P18+R18+T18+V18+X18,2) -> 0 | G18: =ROUND(I18+K18+M18+O18+Q18+S18+U18+W18+Y18,2) -> 0
A19: 6.3. | B19: Transportlīdzekļu izmaksas | C19: 0.85 | D19: =F19+G19 -> 0 | E19: =D19/$D$36 -> #DIV/0! | F19: =ROUND(H19+J19+L19+N19+P19+R19+T19+V19+X19,2) -> 0 | G19: =ROUND(I19+K19+M19+O19+Q19+S19+U19+W19+Y19,2) -> 0
A20: 6.4. | B20: Citas izmaksas | C20: 0.85 | D20: =F20+G20 -> 0 | E20: =D20/$D$36 -> #DIV/0! | F20: =ROUND(H20+J20+L20+N20+P20+R20+T20+V20+X20,2) -> 0 | G20: =ROUND(I20+K20+M20+O20+Q20+S20+U20+W20+Y20,2) -> 0
A21: 7 | B21: Būvniecības izmaksas | D21: =F21+G21 -> 0 | E21: =D21/$D$36 -> #DIV/0! | F21: =ROUND(H21+J21+L21+N21+P21+R21+T21+V21+X21,2) -> 0 | G21: =ROUND(I21+K21+M21+O21+Q21+S21+U21+W21+Y21,2) -> 0 | H21: =SUM(H22:H27) -> 0 | I21: =SUM(I22:I27) -> 0 | J21: =SUM(J22:J27) -> 0 | K21: =SUM(K22:K27) -> 0 | L21: =SUM(L22:L27) -> 0 | M21: =SUM(M22:M27) -> 0 | N21: =SUM(N22:N27) -> 0 | O21: =SUM(O22:O27) -> 0 | ... Y21: =SUM(Y22:Y27) -> 0
A22: 7.1. | B22: Projektēšanas izmaksas (de minimis) | C22: 1 | D22: =F22+G22 -> 0 | E22: =D22/$D$36 -> #DIV/0! | F22: =ROUND(H22+J22+L22+N22+P22+R22+T22+V22+X22,2) -> 0 | G22: =ROUND(I22+K22+M22+O22+Q22+S22+U22+W22+Y22,2) -> 0
A23: 7.2. | B23: Autoruzraudzības izmaksas | C23: 0.85 | D23: =F23+G23 -> 0 | E23: =D23/$D$36 -> #DIV/0! | F23: =ROUND(H23+J23+L23+N23+P23+R23+T23+V23+X23,2) -> 0 | G23: =ROUND(I23+K23+M23+O23+Q23+S23+U23+W23+Y23,2) -> 0
A24: 7.3. | B24: Būvuzraudzības izmaksas | C24: 0.85 | D24: =F24+G24 -> 0 | E24: =D24/$D$36 -> #DIV/0! | F24: =ROUND(H24+J24+L24+N24+P24+R24+T24+V24+X24,2) -> 0 | G24: =ROUND(I24+K24+M24+O24+Q24+S24+U24+W24+Y24,2) -> 0
A25: 7.4. | B25: Būvdarbu izmaksas (infrastruktūra, tai skaitā labiekārtošanas izmaksas) | C25: 0.85 | D25: =F25+G25 -> 0 | E25: =D25/$D$36 -> #DIV/0! | F25: =ROUND(H25+J25+L25+N25+P25+R25+T25+V25+X25,2) -> 0 | G25: =ROUND(I25+K25+M25+O25+Q25+S25+U25+W25+Y25,2) -> 0
A26: 7.5. | B26: Būvdarbu izmaksas (ēkas), tai skaitā labiekārtošanas izmaksas | C26: 0.85 | D26: =F26+G26 -> 0 | E26: =D26/$D$36 -> #DIV/0! | F26: =ROUND(H26+J26+L26+N26+P26+R26+T26+V26+X26,2) -> 0 | G26: =ROUND(I26+K26+M26+O26+Q26+S26+U26+W26+Y26,2) -> 0
A27: 7.6. | B27: Citas izmaksas | C27: 0.85 | D27: =F27+G27 -> 0 | E27: =D27/$D$36 -> #DIV/0! | F27: =ROUND(H27+J27+L27+N27+P27+R27+T27+V27+X27,2) -> 0 | G27: =ROUND(I27+K27+M27+O27+Q27+S27+U27+W27+Y27,2) -> 0
A28: 8 | B28: Patenti, licences utml. | C28: 0.85 | D28: =F28+G28 -> 0 | E28: =D28/$D$36 -> #DIV/0! | F28: =ROUND(H28+J28+L28+N28+P28+R28+T28+V28+X28,2) -> 0 | G28: =ROUND(I28+K28+M28+O28+Q28+S28+U28+W28+Y28,2) -> 0
A29: 9 | B29: Nekustamā īpašuma (piemēram, ēku un zemes) iegādes izmaksas | C29: 0.85 | D29: =F29+G29 -> 0 | E29: =D29/$D$36 -> #DIV/0! | F29: =ROUND(H29+J29+L29+N29+P29+R29+T29+V29+X29,2) -> 0 | G29: =ROUND(I29+K29+M29+O29+Q29+S29+U29+W29+Y29,2) -> 0
A30: 10 | B30: Informatīvo un publicitātes pasākumu izmaksas | C30: 0.85 | D30: =F30+G30 -> 0 | E30: =D30/$D$36 -> #DIV/0! | F30: =ROUND(H30+J30+L30+N30+P30+R30+T30+V30+X30,2) -> 0 | G30: =ROUND(I30+K30+M30+O30+Q30+S30+U30+W30+Y30,2) -> 0
A31: 11 | B31: Projekta iesnieguma un to pamatojošās dokumentācijas sagatavošanas izmaksas (de minimis) | C31: 1 | D31: =F31+G31 -> 0 | E31: =D31/$D$36 -> #DIV/0! | F31: =ROUND(H31+J31+L31+N31+P31+R31+T31+V31+X31,2) -> 0 | G31: =ROUND(I31+K31+M31+O31+Q31+S31+U31+W31+Y31,2) -> 0
A32: 12 | B32: Ieguldījumi natūrā | C32: 0.85 | D32: =F32+G32 -> 0 | E32: =D32/$D$36 -> #DIV/0! | F32: =ROUND(H32+J32+L32+N32+P32+R32+T32+V32+X32,2) -> 0 | G32: =ROUND(I32+K32+M32+O32+Q32+S32+U32+W32+Y32,2) -> 0
A33: 13 | B33: Pārējās projekta īstenošanas izmaksas | C33: 0.85 | D33: =F33+G33 -> 0 | E33: =D33/$D$36 -> #DIV/0! | F33: =ROUND(H33+J33+L33+N33+P33+R33+T33+V33+X33,2) -> 0 | G33: =ROUND(I33+K33+M33+O33+Q33+S33+U33+W33+Y33,2) -> 0
A34: 14 | B34: Vienreizējais maksājums | C34: 0.85 | D34: =F34+G34 -> 0 | E34: =D34/$D$36 -> #DIV/0! | F34: =ROUND(H34+J34+L34+N34+P34+R34+T34+V34+X34,2) -> 0 | G34: =ROUND(I34+K34+M34+O34+Q34+S34+U34+W34+Y34,2) -> 0
A35: 15 | B35: Neparedzētie izdevumi | C35: 0.85 | D35: =F35+G35 -> 0 | E35: =D35/$D$36 -> #DIV/0! | F35: =ROUND(H35+J35+L35+N35+P35+R35+T35+V35+X35,2) -> 0 | G35: =ROUND(I35+K35+M35+O35+Q35+S35+U35+W35+Y35,2) -> 0 | H35: 0 | J35: 0 | L35: 0 | N35: 0 | P35: 0 | R35: 0 | T35: 0 | V35: 0 | X35: 0
B36: KOPĀ | C36: 0.85 | D36: =F36+G36 -> 0 | E36: =D36/$D$36 -> #DIV/0! | F36: =F7+F8+F11+F14+F15+F16+F21+F28+F29+F30+F31+F32+F33+F34+F35 -> 0 | G36: =G7+G8+G11+G14+G15+G16+G21+G28+G29+G30+G31+G32+G33+G34+G35 -> 0 | H36: =H7+H8+H11+H14+H15+H16+H21+H28+H29+H30+H31+H32+H33+H34+H35 -> 0 | I36: =I7+I8+I11+I14+I15+I16+I21+I28+I29+I30+I31+I32+I33+I34+I35 -> 0 | J36: =J7+J8+J11+J14+J15+J16+J21+J28+J29+J30+J31+J32+J33+J34+J35 -> 0 | K36: =K7+K8+K11+K14+K15+K16+K21+K28+K29+K30+K31+K32+K33+K34+K35 -> 0 | L36: =L7+L8+L11+L14+L15+L16+L21+L28+L29+L30+L31+L32+L33+L34+L35 -> 0 | M36: =M7+M8+M11+M14+M15+M16+M21+M28+M29+M30+M31+M32+M33+M34+M35 -> 0 | ... Y36: =Y7+Y8+Y11+Y14+Y15+Y16+Y21+Y28+Y29+Y30+Y31+Y32+Y33+Y34+Y35 -> 0
B37: t.sk. PVN
B38: Investīciju izmaksas bez neparedzētajiem izdevumiem un neatt. PVN | H38: =H36-H35 -> 0 | I38: =I36-I35-I37 -> 0 | J38: =J36-J35 -> 0 | K38: =K36-K35-K37 -> 0 | L38: =L36-L35 -> 0 | M38: =M36-M35-M37 -> 0 | N38: =N36-N35 -> 0 | O38: =O36-O35 -> 0 | P38: =P36-P35 -> 0 | Q38: =Q36-Q35 -> 0 | R38: =R36-R35 -> 0 | S38: =S36-S35 -> 0 | T38: =T36-T35 -> 0 | U38: =U36-U35 -> 0 | ... Y38: =Y36-Y35 -> 0
B39: Investīciju izmaksas bez de minimis izmaksām | H39: =H36-H22-H31 -> 0 | I39: =I36-I22-I31 -> 0 | J39: =J36-J22-J31 -> 0 | K39: =K36-K22-K31 -> 0 | L39: =L36-L22-L31 -> 0 | M39: =M36-M22-M31 -> 0 | N39: =N36-N22-N31 -> 0 | O39: =O36-O22-O31 -> 0 | ... Y39: =Y36-Y22-Y31 -> 0
B40: De minimis | H40: =H22+H31 -> 0 | I40: =I22+I31 -> 0 | J40: =J22+J31 -> 0 | K40: =K22+K31 -> 0 | L40: =L22+L31 -> 0 | M40: =M22+M31 -> 0 | N40: =N22+N31 -> 0 | O40: =O22+O31 -> 0 | ... Y40: =Y22+Y31 -> 0

Sheet 1.2.1.C. Partneris-1
A1: DARBA LAPA Nr.1.2.1.C. | D1: Aizpilda par projekta iesniedzēja sadarbības partnera darbībām, kas IR saistītas ar valsts atbalstu (VTNP)
B3: Sadarbības partneris | K3: Valsts budžeta dotācijas īpatsvars (%): | P3: Saite valsts budžeta dotācijas noteikšanai (VARAM vietnē) | T3: Ja sadarbības partneris ir kapitālsabiedrība, vai pašvaldība sedz šo ieguldījumu līdzfinansējuma daļu: | AA3: =IF(X3="",0,IF(X3="Jā",2,1)) -> 0
A4: BUDŽETS (+)
A5: Nr. | B5: Izmaksu pozīcijas nosaukums | C5: Maksimālā ES fondu līdzfin. atbalsta likme (%) | D5: Kopējā summa | F5: Izmaksas kopā | H5: ='Dati par projektu'!E13 -> 2024 | J5: =IF(OR(H5>='Dati par projektu'!$C$17,H5="X"),"X",H5+1) -> 2025 | L5: =IF(OR(J5>='Dati par projektu'!$C$17,J5="X"),"X",J5+1) -> 2026 | N5: =IF(OR(L5>='Dati par projektu'!$C$17,L5="X"),"X",L5+1) -> 2027 | P5: =IF(OR(N5>='Dati par projektu'!$C$17,N5="X"),"X",N5+1) -> 2028 | R5: =IF(OR(P5>='Dati par projektu'!$C$17,P5="X"),"X",P5+1) -> 2029 | T5: =IF(OR(R5>='Dati par projektu'!$C$17,R5="X"),"X",R5+1) -> X | V5: =IF(OR(T5>='Dati par projektu'!$C$17,T5="X"),"X",T5+1) -> X | X5: =IF(OR(V5>='Dati par projektu'!$C$17,V5="X"),"X",V5+1) -> X | AV5: 0.55
B6: Projekta netiešās izmaksas kopā: | D6: EUR | E6: % | F6: attiecināmas | G6: neattiecināmas | H6: attiecināmas izmaksas | I6: neattiecināmas izmaksas | J6: attiecināmas izmaksas | K6: neattiecināmas izmaksas | L6: attiecināmas izmaksas | M6: neattiecināmas izmaksas | N6: attiecināmas izmaksas | O6: neattiecināmas izmaksas | P6: attiecināmas izmaksas | Q6: neattiecināmas izmaksas | R6: attiecināmas izmaksas | S6: neattiecināmas izmaksas | T6: attiecināmas izmaksas | U6: neattiecināmas izmaksas | V6: attiecināmas izmaksas | W6: neattiecināmas izmaksas | X6: attiecināmas izmaksas | Y6: neattiecināmas izmaksas | AV6: 0.45
A7: 1 | B7: Projekta izmaksas saskaņā ar vienoto izmaksu likmi (netiešās izmaksas) | C7: 0.85 | D7: =F7+G7 -> 0 | E7: =D7/$D$36 -> #DIV/0! | F7: =ROUND(H7+J7+L7+N7+P7+R7+T7+V7+X7,2) -> 0 | G7: =ROUND(I7+K7+M7+O7+Q7+S7+U7+W7+Y7,2) -> 0 | AV7: 0.35
A8: 2 | B8: Projekta vadības izmaksas | D8: =F8+G8 -> 0 | E8: =D8/$D$36 -> #DIV/0! | F8: =ROUND(H8+J8+L8+N8+P8+R8+T8+V8+X8,2) -> 0 | G8: =ROUND(I8+K8+M8+O8+Q8+S8+U8+W8+Y8,2) -> 0 | H8: =SUM(H9:H10) -> 0 | I8: =SUM(I9:I10) -> 0 | J8: =SUM(J9:J10) -> 0 | K8: =SUM(K9:K10) -> 0 | L8: =SUM(L9:L10) -> 0 | M8: =SUM(M9:M10) -> 0 | N8: =SUM(N9:N10) -> 0 | O8: =SUM(O9:O10) -> 0 | ... Y8: =SUM(Y9:Y10) -> 0
