Workbook
Name PPP: #REF!
Name q: #REF!
Name q: #REF!
Name q: #REF!
Name q: #REF!
Name s: #REF!
Name ssss: #REF!
Name ssss: #REF!
Name ssss: #REF!
Name ssss: #REF!
Name Valsts_policijas_amatpersonas_ar_speciālo_dienesta_pakāpi_dalība_Eiropas_Savienības_policijas_misijā_Gruzijā__EUMM_GEORGIA_________M.Štange__līdz_2019.gada_28.februārim: #REF!
Name Valsts_policijas_amatpersonas_ar_speciālo_dienesta_pakāpi_dalība_Eiropas_Savienības_policijas_misijā_Gruzijā__EUMM_GEORGIA_________M.Štange__līdz_2019.gada_28.februārim: #REF!
Name Valsts_policijas_amatpersonas_ar_speciālo_dienesta_pakāpi_dalība_Eiropas_Savienības_policijas_misijā_Gruzijā__EUMM_GEORGIA_________M.Štange__līdz_2019.gada_28.februārim: #REF!
Name Valsts_policijas_amatpersonas_ar_speciālo_dienesta_pakāpi_dalība_Eiropas_Savienības_policijas_misijā_Gruzijā__EUMM_GEORGIA_________M.Štange__līdz_2019.gada_28.februārim: #REF!
Name z: #REF!
Name z: #REF!
Name z: #REF!
Name z: #REF!

Sheet Valsts policija (O. Lagutins)
A1: IZDEVUMU APRĒĶINS
A2: Valsts policijas amatpersonas ar speciālo dienesta pakāpi dalība Eiropas Savienības novērošanas misijā Gruzijā (EUMM GEORGIA) Oļega Lagutina (07.01.2025. - 06.01.2026.)
C4: euro
A5: EUMM GEORGIA (07.01.2025. - 31.12.2025.) | C5: 2025.gads
A6: Izdevumi kopā | C6: =C7+C10 -> 46328
A7: 1000 | B7: Atlīdzība | C7: =SUM(C8:C9) -> 30818
A8: 1149 | B8: Citas normatīvajos aktos noteiktās piemaksas, kas nav iepriekš klasificētas Ministru kabineta 2021.gada 7.decembra noteikumos Nr.793 amatpersonai atbilstoši amata līmenim noteiktais piemaksas apmērs gadā 19 778 euro (mēnesī 1 648,17 euro). (Taktiskais amata līmenis). Koeficients - 1,4; (1 648,17 euro × 1,4 × 10 mēn.) + (1 648,17 euro × 1,4 : 31 d. × 25 d.) = 24 935,22 euro | C8: =ROUNDUP((((1648.17*1.4))/31*25)+(1648.17*1.4*10),0)-1 -> 24935
A9: 1210 | B9: Darba devēja valsts sociālās apdrošināšanas obligātās iemaksas 23,59 % no EKK 1149 summas (24 935,22 euro × 23,59 %) = 5 882,22 euro | C9: =ROUND(C8*0.2359,0)+1 -> 5883
A10: 2000 | B10: Preces un pakalpojumi | C10: =SUM(C11:C15) -> 15510
A11: 2122 | B11: Pārējie komandējumu un darba braucienu izdevumi Ceļa izdevumi: Vienam braucienam un bagāžai 560,00 euro; Brauciens no Latvijas līdz dienesta vietai, kā arī reizi kalendāra gadā dodoties atvaļinājumā uz Latviju un atgriežoties no Latvijas. Apdrošināšana par ceļojuma dienām 2,00 euro par 1 dienu (560,00 euro + 2,00 euro) × 3 braucieni = 1 686,00 euro. | C11: =ROUNDUP(560*3+2*3,0) -> 1686
A12: 2238 | B12: Ārvalstīs nodarbināto amatpersonu (darbinieku) kompensācijas Dzīvokļa (dzīvojamās telpas) īres un citi pakalpojumi, kas saistīti ar dzīvojamās telpas lietošanu gadā 11 895,21 euro (mēnesī 991,27 euro) (11 895,21 euro: 12 mēn. × 11 mēn.) + (991,27 euro: 31 d. × 25 d.) = 11 703,35 euro | C12: =ROUNDUP((11895.21/12*11)+((991.27/31)*25),0) -> 11704
A13: 2312 | B13: Inventārs Aptieciņa 32,00 euro. | C13: 32
A14: 2364 | B14: Formas tērpi un speciālais apģērbs Kopējā summa 1 420,00 euro, t.sk.: siltās apakšveļas (apakškrekls garām piedurknēm, garās apakšbikses (termoveļa)) komplekts - 110,00 euro x 2 komplekti = 220,00 euro; bikses - 65,00 euro × 2 gab. = 130,00 euro; krekls ar īsām piedurknēm - 30,00 euro; krekls ar garām piedurknēm - 70,00 euro; polo krekls - 30,00 euro; ziemas jaka - 280,00 euro; taktiskie cimdi (darba) - 45,00 euro; cimdi (auksta laika) - 35,00 euro; sporta apavi - 120,00 euro; šņorzābaki - 150,00 euro x 2 pāri = 300,00 euro; pulovers - 75,00 euro; lietusmētelis - 40,00 euro; zeķes - 5,00 euro x 5 pāri = 25,00 euro; uzšuve (Latvijas karogs) - 5 euro x 4 gab.= 20,00 euro. | C14: =220+130+30+70+30+280+45+35+120+300+75+40+25+20 -> 1420
A15: 2389 | B15: Pārējie specifiskas lietošanas materiāli un inventārs Kopējā summa 668,00 euro, t.sk.: instrumentu komplekts - 140,00 euro; lukturis - 120,00 euro; guļammaiss - 223,00 euro; mugursoma - 140,00 euro; soma - 45,00 euro. | C15: =140+120+223+140+45 -> 668
C17: euro
A18: EUMM GEORGIA (01.01.2026. - 06.01.2026.) | C18: 2026.gads
A19: Izdevumi kopā | C19: =C20+C23 -> 4158
A20: 1000 | B20: Atlīdzība | C20: =SUM(C21:C22) -> 3404
A21: 1149 | B21: Citas normatīvajos aktos noteiktās piemaksas, kas nav iepriekš klasificētas Ministru kabineta 2021.gada 7.decembra noteikumos Nr.793 amatpersonai atbilstoši amata līmenim noteiktais piemaksas apmērs gadā 19 778 euro (mēnesī 1 648,17 euro) (Taktiskais amata līmenis). Koeficients - 1,4; (1 648,17 euro × 1,4 × 1 mēn.) + (1 648,17 euro × 1,4 : 31 d. × 6 d.) = 2 754,04 euro | C21: =ROUNDUP((((1648.17*1.4))/31*6)+(1648.17*1.4*1),0)-1 -> 2754
A22: 1210 | B22: Darba devēja valsts sociālās apdrošināšanas obligātās iemaksas 23,59% no EKK 1149 summas (2 754,04 euro × 23,59 %) = 649,68 euro | C22: =ROUND(C21*0.2359,0) -> 650
A23: 2000 | B23: Preces un pakalpojumi | C23: =SUM(C24:C25) -> 754
A24: 2122 | B24: Pārējie komandējumu un darba braucienu izdevumi Ceļa izdevumi: Vienam braucieniem un bagāžai 560,00 euro; Brauciens no dienesta vietas atpakaļ uz Latviju. Apdrošināšana par ceļojuma dienām 2,00 euro par 1 dienu (560,00 euro + 2,00 euro) x 1 brauciens = 562,00 euro. | C24: =ROUNDUP(560*1+2*1,0) -> 562
A25: 2238 | B25: Ārvalstīs nodarbināto amatpersonu (darbinieku) kompensācijas Dzīvokļa (dzīvojamās telpas) īres un citi pakalpojumi, kas saistīti ar dzīvojamās telpas lietošanu gadā 11 895,21 euro (mēnesī 991,27 euro) (991,27 euro : 31 d. × 6 d.) = 191,86 euro. | C25: =ROUNDUP(((991.27/31)*6),0) -> 192

Sheet Valsts policija (G. Jankēvičs)
A1: IZDEVUMU APRĒĶINS
A2: Valsts policijas amatpersonas ar speciālo dienesta pakāpi dalība Eiropas Savienības novērošanas misijā Gruzijā (EUMM GEORGIA) Gunāra Jankēviča (17.09.2024.-16.09.2025.)
C4: euro
A5: EUMM GEORGIA (17.09.2024. - 31.12.2024.) | C5: 2024.gads
A6: Izdevumi kopā | C6: =C7+C10 -> 13154
A7: 1000 | B7: Atlīdzība | C7: =SUM(C8:C9) -> 7035
A8: 1149 | B8: Citas normatīvajos aktos noteiktās piemaksas, kas nav iepriekš klasificētas Ministru kabineta 2021.gada 7.decembra noteikumos Nr.793 amatpersonai atbilstoši amata līmenim noteiktais piemaksas apmērs gadā 19 778 euro (mēnesī 1 648,17 euro). (Taktiskais amata līmenis). Koeficients - 1,4; (1 648,17 euro × 1,4 × 2 mēn.) + (1 648,17 euro × 1,4 : 30 d. × 14 d.) = 5 691,68 euro | C8: =ROUNDUP((((1648.17*1.4))/30*14)+(1648.17*1.4*2),0) -> 5692
A9: 1210 | B9: Darba devēja valsts sociālās apdrošināšanas obligātās iemaksas 23,59 % no EKK 1149 summas (5 691,68 euro × 23,59 %) = 1 342,67 euro | C9: =ROUND(C8*0.2359,0) -> 1343
A10: 2000 | B10: Preces un pakalpojumi | C10: =SUM(C11:C15) -> 6119
A11: 2122 | B11: Pārējie komandējumu un darba braucienu izdevumi Ceļa izdevumi: Vienam braucienam un bagāžai 560,00 euro; Brauciens no Latvijas līdz dienesta vietai. Apdrošināšana par ceļojuma dienām 2,00 euro par 1 dienu (560,00 euro + 2,00 euro) × 1 brauciens = 562,00 euro. | C11: =ROUNDUP(560*1+2*1,0) -> 562
A12: 2238 | B12: Ārvalstīs nodarbināto amatpersonu (darbinieku) kompensācijas Dzīvokļa (dzīvojamās telpas) īres un citi pakalpojumi, kas saistīti ar dzīvojamās telpas lietošanu gadā 11 895,21 euro (mēnesī 991,27 euro) (11 895,21 euro: 12 mēn. × 3 mēn.) + (991,27 euro: 30 d. × 14 d.) = 3 436,40 euro | C12: =ROUNDUP((11895.21/12*3)+((991.27/30)*14),0) -> 3437
A13: 2312 | B13: Inventārs Aptieciņa 32,00 euro. | C13: 32
A14: 2364 | B14: Formas tērpi un speciālais apģērbs Kopējā summa 1 420,00 euro, t.sk.: siltās apakšveļas (apakškrekls garām piedurknēm, garās apakšbikses (termoveļa)) komplekts - 110,00 euro x 2 komplekti = 220,00 euro; bikses - 65,00 euro × 2 gab. = 130,00 euro; krekls ar īsām piedurknēm - 30,00 euro; krekls ar garām piedurknēm - 70,00 euro; polo krekls - 30,00 euro; ziemas jaka - 280,00 euro; taktiskie cimdi (darba) - 45,00 euro; cimdi (auksta laika) - 35,00 euro; sporta apavi - 120,00 euro; šņorzābaki - 150,00 euro x 2 pāri = 300,00 euro; pulovers - 75,00 euro; lietusmētelis - 40,00 euro; zeķes - 5,00 euro x 5 pāri = 25,00 euro; uzšūve(Latvijas karogs) - 5 euro x 4 gab.= 20,00 euro. | C14: =220+130+30+70+30+280+45+35+120+300+75+40+25+20 -> 1420
A15: 2389 | B15: Pārējie specifiskas lietošanas materiāli un inventārs Kopējā summa 668,00 euro, t.sk.: instrumentu komplekts - 140,00 euro; lukturis - 120,00 euro; guļammaiss - 223,00 euro; mugursoma - 140,00 euro; soma - 45,00 euro. | C15: =140+120+223+140+45 -> 668
C17: euro
A18: EUMM GEORGIA (01.01.2025. - 16.09.2025.) | C18: 2025.gads
A19: Izdevumi kopā | C19: =C20+C23 -> 37333
A20: 1000 | B20: Atlīdzība | C20: =SUM(C21:C22) -> 27188
A21: 1149 | B21: Citas normatīvajos aktos noteiktās piemaksas, kas nav iepriekš klasificētas Ministru kabineta 2021.gada 7.decembra noteikumos Nr.793 amatpersonai atbilstoši amata līmenim noteiktais piemaksas apmērs gadā 19 778 euro (mēnesī 1 648,17 euro) (Taktiskais amata līmenis). Koeficients - 1,4; (1 648,17 euro × 1,4 × 9 mēn.) + (1 648,17 euro × 1,4 : 30 d. × 16 d.) = 21 997,58 euro | C21: =ROUNDUP((((1648.17*1.4))/30*16)+(1648.17*1.4*9),0) -> 21998
A22: 1210 | B22: Darba devēja valsts sociālās apdrošināšanas obligātās iemaksas 23,59% no EKK 1149 summas ( 21 997,58 euro × 23,59 %) = 5 189,23 euro | C22: =ROUNDUP(C21*0.2359,0) -> 5190
A23: 2000 | B23: Preces un pakalpojumi | C23: =SUM(C24:C25) -> 10145
A24: 2122 | B24: Pārējie komandējumu un darba braucienu izdevumi Ceļa izdevumi: Vienam braucieniem un bagāžai 560,00 euro; Brauciens no dienesta vietas uz Latviju, kā arī reizi kalendāra gadā dodoties atvaļinājumā uz Latviju un atgriežoties no Latvijas. Apdrošināšana par ceļojuma dienām 2,00 euro par 1 dienu (560,00 euro + 2,00 euro) x 3 braucieni = 1 686,00 euro. | C24: =ROUNDUP(560*3+2*3,0) -> 1686
A25: 2238 | B25: Ārvalstīs nodarbināto amatpersonu (darbinieku) kompensācijas Dzīvokļa (dzīvojamās telpas) īres un citi pakalpojumi, kas saistīti ar dzīvojamās telpas lietošanu gadā 11 895,21 euro (mēnesī 991,27 euro) (11 895,21 euro : 12 mēn. × 8 mēn.) + (991,27 euro : 30 d. × 16 d.) = 8 458,82 euro. | C25: =ROUNDUP((11895.21/12*8)+((991.27/30)*16),0) -> 8459

Sheet KOPSAVILKUMS
A1: KOPSAVILKUMS
C2: euro
A3: EUMM GEORGIA | C3: 2024.gads
A4: Izdevumi kopā | C4: =C5+C10 -> 13154
A5: 1000 | B5: Atlīdzība | C5: =C6+C8 -> 7035
A6: 1100 | B6: Atalgojums | C6: =C7 -> 5692
A7: 1149 | B7: Citas normatīvajos aktos noteiktās piemaksas, kas nav iepriekš klasificētas | C7: ='Valsts policija (G. Jankēvičs)'!C8 -> 5692
A8: 1200 | B8: Darba devēja valsts sociālās apdrošināšanas obligātās iemaksas, pabalsti un kompensācijas | C8: =C9 -> 1343
A9: 1210 | B9: Darba devēja valsts sociālās apdrošināšanas obligātās iemaksas | C9: ='Valsts policija (G. Jankēvičs)'!C9 -> 1343
A10: 2000 | B10: Preces un pakalpojumi | C10: =C11+C14 -> 6119
A11: 2200 | B11: Pakalpojumi | C11: =C12+C13 -> 3999
A12: 2122 | B12: Pārējie komandējumu un darba braucienu izdevumi | C12: ='Valsts policija (G. Jankēvičs)'!C11 -> 562
A13: 2238 | B13: Ārvalstīs nodarbināto amatpersonu (darbinieku) kompensācijas | C13: ='Valsts policija (G. Jankēvičs)'!C12 -> 3437
A14: 2300 | B14: Krājumi, materiāli, energoresursi, preces, biroja preces un inventārs, kurus neuzskaita kodā 5000 | C14: =C15+C16+C17 -> 2120
A15: 2312 | B15: Inventārs | C15: ='Valsts policija (G. Jankēvičs)'!C13 -> 32
A16: 2364 | B16: Formas tērpi un speciālais apģērbs | C16: ='Valsts policija (G. Jankēvičs)'!C14 -> 1420
A17: 2389 | B17: Pārējie specifiskas lietošanas materiāli un inventārs | C17: ='Valsts policija (G. Jankēvičs)'!C15 -> 668
C19: euro
A20: EUMM GEORGIA | C20: 2025.gads
A21: Izdevumi kopā | C21: =C22+C27 -> 83661
A22: 1000 | B22: Atlīdzība | C22: =C23+C25 -> 58006
A23: 1100 | B23: Atalgojums | C23: =C24 -> 46933
A24: 1149 | B24: Citas normatīvajos aktos noteiktās piemaksas, kas nav iepriekš klasificētas | C24: ='Valsts policija (O. Lagutins)'!C8+'Valsts policija (G. Jankēvičs)'!C21 -> 46933
A25: 1200 | B25: Darba devēja valsts sociālās apdrošināšanas obligātās iemaksas, pabalsti un kompensācijas | C25: =C26 -> 11073
A26: 1210 | B26: Darba devēja valsts sociālās apdrošināšanas obligātās iemaksas | C26: ='Valsts policija (O. Lagutins)'!C9+'Valsts policija (G. Jankēvičs)'!C22 -> 11073
A27: 2000 | B27: Preces un pakalpojumi | C27: =C28+C30+C32 -> 25655
A28: 2100 | B28: Mācību, darba un dienesta komandējumi, darba braucieni | C28: =C29 -> 3372
A29: 2122 | B29: Pārējie komandējumu un darba braucienu izdevumi | C29: ='Valsts policija (O. Lagutins)'!C11+'Valsts policija (G. Jankēvičs)'!C24 -> 3372
A30: 2200 | B30: Pakalpojumi | C30: =C31 -> 20163
A31: 2238 | B31: Ārvalstīs nodarbināto amatpersonu (darbinieku) kompensācijas | C31: ='Valsts policija (O. Lagutins)'!C12+'Valsts policija (G. Jankēvičs)'!C25 -> 20163
A32: 2300 | B32: Krājumi, materiāli, energoresursi, preces, biroja preces un inventārs, kurus neuzskaita kodā 5000 | C32: =C33+C34+C35 -> 2120
A33: 2312 | B33: Inventārs | C33: ='Valsts policija (O. Lagutins)'!C13 -> 32
A34: 2364 | B34: Formas tērpi un speciālais apģērbs | C34: ='Valsts policija (O. Lagutins)'!C14 -> 1420
A35: 2389 | B35: Pārējie specifiskas lietošanas materiāli un inventārs | C35: ='Valsts policija (O. Lagutins)'!C15 -> 668
A37: EUMM GEORGIA | C37: 2026.gads
A38: Izdevumi kopā | C38: =C39+C44 -> 4158
A39: 1000 | B39: Atlīdzība | C39: =C40+C42 -> 3404
A40: 1100 | B40: Atalgojums | C40: =C41 -> 2754
A41: 1149 | B41: Citas normatīvajos aktos noteiktās piemaksas, kas nav iepriekš klasificētas | C41: ='Valsts policija (O. Lagutins)'!C21 -> 2754
A42: 1200 | B42: Darba devēja valsts sociālās apdrošināšanas obligātās iemaksas, pabalsti un kompensācijas | C42: =C43 -> 650
A43: 1210 | B43: Darba devēja valsts sociālās apdrošināšanas obligātās iemaksas | C43: ='Valsts policija (O. Lagutins)'!C22 -> 650
A44: 2000 | B44: Preces un pakalpojumi | C44: =C45+C47 -> 754
A45: 2100 | B45: Mācību, darba un dienesta komandējumi, darba braucieni | C45: =C46 -> 562
A46: 2122 | B46: Pārējie komandējumu un darba braucienu izdevumi | C46: ='Valsts policija (O. Lagutins)'!C24 -> 562
A47: 2200 | B47: Pakalpojumi | C47: =C48 -> 192
A48: 2238 | B48: Ārvalstīs nodarbināto amatpersonu (darbinieku) kompensācijas | C48: ='Valsts policija (O. Lagutins)'!C25 -> 192
