Workbook
Name PPP: #REF!
Name PPP: #REF!
Name q: #REF!
Name q: #REF!
Name q: #REF!
Name s: #REF!
Name ssss: #REF!
Name ssss: #REF!
Name ssss: #REF!
Name Valsts_policijas_amatpersonas_ar_speciālo_dienesta_pakāpi_dalība_Eiropas_Savienības_policijas_misijā_Gruzijā__EUMM_GEORGIA_________M.Štange__līdz_2019.gada_28.februārim: #REF!
Name Valsts_policijas_amatpersonas_ar_speciālo_dienesta_pakāpi_dalība_Eiropas_Savienības_policijas_misijā_Gruzijā__EUMM_GEORGIA_________M.Štange__līdz_2019.gada_28.februārim: #REF!
Name Valsts_policijas_amatpersonas_ar_speciālo_dienesta_pakāpi_dalība_Eiropas_Savienības_policijas_misijā_Gruzijā__EUMM_GEORGIA_________M.Štange__līdz_2019.gada_28.februārim: #REF!
Name z: #REF!
Name z: #REF!
Name z: #REF!

Sheet Kopsavilkums
A1: KOPSAVILKUMS
B2: Valsts policijas amatpersonas ar speciālo dienesta pakāpi dalība Eiropas Savienības misijā Armēnijā (EUMA)
C3: euro
A4: EUMA (29.09.2026 - 31.12.2026) | C4: 2026. gads
A5: Izdevumi kopā | C5: =C6+C11 -> 12807
A6: 1000 | B6: Atlīdzība | C6: =C7+C9 -> 12807
A7: 1100 | B7: Atalgojums | C7: =C8 -> 10362
A8: 1149 | B8: Citas normatīvajos aktos noteiktās piemaksas, kas nav iepriekš klasificētas | C8: =Auzins!C7+Pintans!C7 -> 10362
A9: 1200 | B9: Darba devēja valsts sociālās apdrošināšanas obligātās iemaksas, pabalsti un kompensācijas | C9: =C10 -> 2445
A10: 1210 | B10: Darba devēja valsts sociālās apdrošināšanas obligātās iemaksas | C10: =Auzins!C8+Pintans!C8 -> 2445
A11: 2000 | B11: Preces un pakalpojumi | C11: =C12+C14+C16 -> 0
A12: 2100 | B12: Mācību, darba un dienesta komandējumi, darba braucieni | C12: =C13 -> 0
A13: 2122 | B13: Pārējie komandējumu un darba braucienu izdevumi | C13: =Auzins!C10+Pintans!C10 -> 0
A14: 2200 | B14: Pakalpojumi | C14: =C15 -> 0
A15: 2238 | B15: Ārvalstīs nodarbināto amatpersonu (darbinieku) kompensācijas | C15: =Auzins!C11+Pintans!C11 -> 0
A16: 2300 | B16: Krājumi, materiāli, energoresursi, preces, biroja preces un inventārs, kurus neuzskaita kodā 5000 | C16: =SUM(C17:C19) -> 0
A17: 2312 | B17: Inventārs | C17: =Auzins!C12+Pintans!C12 -> 0
A18: 2364 | B18: Formas tērpi un speciālais apģērbs | C18: =Auzins!C13+Pintans!C13 -> 0
A19: 2389 | B19: Pārējie specifiskas lietošanas materiāli un inventārs | C19: =Auzins!C14+Pintans!C14 -> 0
C21: euro
A22: EUMA (01.01.2027 - 28.09.2027) | C22: 2027. gads
A23: Izdevumi kopā | C23: =C24+C29 -> 86374
A24: 1000 | B24: Atlīdzība | C24: =C25+C27 -> 61548
A25: 1100 | B25: Atalgojums | C25: =C26 -> 49800
A26: 1149 | B26: Citas normatīvajos aktos noteiktās piemaksas, kas nav iepriekš klasificētas | C26: =Auzins!C20+Pintans!C20 -> 49800
A27: 1200 | B27: Darba devēja valsts sociālās apdrošināšanas obligātās iemaksas, pabalsti un kompensācijas | C27: =C28 -> 11748
A28: 1210 | B28: Darba devēja valsts sociālās apdrošināšanas obligātās iemaksas | C28: =Auzins!C21+Pintans!C21 -> 11748
A29: 2000 | B29: Preces un pakalpojumi | C29: =C30+C32 -> 24826
A30: 2100 | B30: Mācību, darba un dienesta komandējumi, darba braucieni | C30: =C31 -> 4212
A31: 2122 | B31: Pārējie komandējumu un darba braucienu izdevumi | C31: =Auzins!C23+Pintans!C23 -> 4212
A32: 2200 | B32: Pakalpojumi | C32: =C33 -> 20614
A33: 2238 | B33: Ārvalstīs nodarbināto amatpersonu (darbinieku) kompensācijas | C33: =Auzins!C24+Pintans!C24 -> 20614

Sheet Auzins
A1: IZDEVUMU APRĒĶINS
A2: Valsts policijas amatpersonas ar speciālo dienesta pakāpi Imanta Auziņa dalība Eiropas Savienības misijā Armēnijā (EUMA) (29.09.2026.- 28.09.2027.)
C3: euro
A4: EUMA (29.09.2026 - 31.12.2026) | C4: 2026. gads
A5: Izdevumi kopā | C5: =C6+C9 -> 6913
A6: 1000 | B6: Atlīdzība | C6: =SUM(C7:C8) -> 6913
A7: 1149 | B7: Citas normatīvajos aktos noteiktās piemaksas, kas nav iepriekš klasificētas Ministru kabineta 2021.gada 7.decembra noteikumos Nr. 793 amatpersonai atbilstoši amata līmenim noteiktais piemaksas apmērs gadā 23 193 euro gadā (mēnesī 1 932,75 euro). (Operacionālais amata līmenis). Koeficients - 1,4; (1 932,75 euro × 1,4 × 2 mēn.) + (1 932,75 euro × 1,4 : 30 d. × 2 d.) = 5 592,09 euro | C7: =ROUNDUP(((1932.75*1.4)*2)+((1932.75*1.4)/30*2),0) -> 5593
A8: 1210 | B8: Darba devēja valsts sociālās apdrošināšanas obligātās iemaksas 23,59 % no EKK 1149 summas (5 592,09 euro × 23,59 %) = 1 319,17 euro | C8: =ROUNDUP(C7*0.2359,0) -> 1320
A9: 2000 | B9: Preces un pakalpojumi | C9: =SUM(C10:C14) -> 0
A10: 2122 | B10: Pārējie komandējumu un darba braucienu izdevumi Ceļa izdevumi: Vienam braucienam un bagāžai 700,00 euro; ceļa izdevumi dodoties no Latvijas uz dienesta vietu. Apdrošināšana par ceļojuma dienām 2,00 euro par 1 dienu 700,00 euro + 2,00 euro = 702,00 euro. Ceļa izdevumu segšana tiks nodrošināta iepriekš piešķirtā finansējuma ietvaros. | C10: =ROUNDUP((702*1),0)*0 -> 0
A11: 2238 | B11: Ārvalstīs nodarbināto amatpersonu (darbinieku) kompensācijas Dzīvokļa (dzīvojamās telpas) īres un citi pakalpojumi, kas saistīti ar dzīvojamās telpas lietošanu gadā 15 793,88 euro gadā (mēnesī 1 316,16 euro). (15 793,88 euro: 12 mēn. × 3 mēn.) + (1 316,16 euro: 30 d. × 2 d.) = 4 036,21 euro Dzīvokļa (dzīvojamās telpas) īres izdevumu segšana tiks nodrošināta iepriekš piešķirtā finansējuma ietvaros. | C11: =ROUNDUP((15793.88/12*3)+((1316.16/30)*2),0)*0 -> 0
A12: 2312 | B12: Inventārs Aptieciņa - 20,00 euro. Inventāra izdevumu segšana tiks nodrošināta iepriekš piešķirtā finansējuma ietvaros. | C12: =ROUNDUP((20*1),0)*0 -> 0
A13: 2364 | B13: Formas tērpi un speciālais apģērbs Kopējā summa 2 042,48 euro, t.sk.: Jaka (ziemas) - 127,05 euro; Jaka (rudens-pavasara) - 121,00 euro; Taktiskā veste - 193,60 euro; Krekls ar garām piedurknēm - 78,65 euro; Krekls ar īsām piedurknēm - 70,18 euro; Polo krekls (īsām vai garām piedurknēm) - 24,20 euro; Bikses - 78,65 euro x 2 gab. = 157,30 euro; Pulovers - 72,60 euro; Apakšveļa (T-krekls un bokseršorti) - 58,08 euro x 2 komplekti = 116,16 euro; Siltā apakšveļa (apakškrekls garām piedurknēm, garās apakšbikses) - 36,30 euro x 2 komplekti = 72,60 euro; Apakšveļas komplekts 3. līmenis (krekls ar garām piedurknēm) - 56,87 euro x 2 komplekti = 113,74 euro; Īsais sporta tērps (T-krekls, šorti) - 96,80 euro; Garais sporta tērps (virsjaka, bikses) - 129,47 euro; Termozeķes (silta laika) - 6,05 euro x 5 pāri = 30,25 euro; Termozeķes (vēsa laika) - 15,73 euro x 5 pāri = 78,65 euro; Šņorzābaki - 139,15 euro x 2 pāri = 278,30 euro; Gumijas zābaki - 42,35 euro; Sporta apavi - 96,80 euro; Cimdi (auksta laika) - 32,67 euro; Taktiskie cimdi (darba) - 26,62 euro; Veste - telts (lietusmētelis) - 29,04 euro; Galvassega (auksta laika) - 9,68 euro; Galvassega (beisbola cepure) - 12,10 euro; Sejas maska - 18,15 euro; Latvijas valsts karoga emblēma - 3,63 euro x 4 gab. = 14,52 euro. Formas tērpu un speciālā apģērba izdevumu segšana tiks nodrošināta iepriekš piešķirtā finansējuma ietvaros. | C13: =ROUNDUP((127.05+121+193.6+78.65+70.18+24.2+157.3+72.6+116.16+72.6+113.74+96.8+129.47+30.25+78.65+278.3+42.35+96.8+32.67+26.62+29.04+9.68+12.1+18.15+14.52),0)*0 -> 0
A14: 2389 | B14: Pārējie specifiskas lietošanas materiāli un inventārs Kopējā summa 794,97 euro, t.sk.: Mantu maiss (soma) - 116,16 euro; Mugursoma - 39,93 euro; Guļammaiss - 133,10 euro; Paklājs - 14,52 euro; Saulesbrilles - 96,80 euro; Taktiskās aizsargbrilles - 96,80 euro; Lukturis - 78,65 euro; Kabatas nazis - 151,25 euro; Termoss (dzērienu) - 31,46 euro; Termoss (pārtikas) - 36,30 euro. Pārējo specifiskas lietošanas materiālu un inventāra izdevumu segšana tiks nodrošināta iepriekš piešķirtā finansējuma ietvaros. | C14: =ROUNDUP((116.16+39.93+133.1+14.52+96.8+96.8+78.65+151.25+31.46+36.3),0)*0 -> 0
C16: euro
A17: EUMA (01.01.2027 - 28.09.2027) | C17: 2027. gads
A18: Izdevumi kopā | C18: =C19+C22 -> 47084
A19: 1000 | B19: Atlīdzība | C19: =SUM(C20:C21) -> 33220
A20: 1149 | B20: Citas normatīvajos aktos noteiktās piemaksas, kas nav iepriekš klasificētas Ministru kabineta 2021.gada 7.decembra noteikumos Nr. 793 amatpersonai atbilstoši amata līmenim noteiktais piemaksas apmērs gadā 23 193 euro gadā (mēnesī 1 932,75 euro). (Operacionālais amata līmenis). Koeficients - 1,4; (1 932,75 euro × 1,4 × 9 mēn.) + (1 932,75 euro × 1,4 : 30 d. × 28 d.) = 26 878,11 euro | C20: =ROUNDUP((((1932.75*1.4))/30*28)+(1932.75*1.4*9),0) -> 26879
A21: 1210 | B21: Darba devēja valsts sociālās apdrošināšanas obligātās iemaksas 23,59% no EKK 1149 summas (26 878,11 euro × 23,59 %) = 6 340,55 euro | C21: =ROUNDUP(C20*0.2359,0) -> 6341
A22: 2000 | B22: Preces un pakalpojumi | C22: =SUM(C23:C24) -> 13864
A23: 2122 | B23: Pārējie komandējumu un darba braucienu izdevumi Ceļa izdevumi: Vienam braucieniem un bagāžai 700,00 euro; Apdrošināšana par ceļojuma dienām 2,00 euro par 1 dienu Reizi kalendāra gadā dodoties atvaļinājumā uz Latviju un atgriežoties uz dienesta vietu, kā arī atgriežoties no dienesta vietas uz Latviju. (700,00 euro + 2,00 euro) x 3 braucieni = 2 106,00 euro. | C23: =ROUNDUP(700*3+2*3,0) -> 2106
A24: 2238 | B24: Ārvalstīs nodarbināto amatpersonu (darbinieku) kompensācijas Dzīvokļa (dzīvojamās telpas) īres un citi pakalpojumi, kas saistīti ar dzīvojamās telpas lietošanu 15 793,88 euro gadā (mēnesī 1 316,16 euro). (15 793,88 euro : 12 mēn. × 8 mēn.) + (1 316,16 euro : 30 d. × 28 d.) = 11 757,67 euro | C24: =ROUNDUP((15793.88/12*8)+((1316.16/30)*28),0) -> 11758

Sheet Pintans
A1: IZDEVUMU APRĒĶINS
A2: Valsts policijas amatpersonas ar speciālo dienesta pakāpi Kristapa Pintāna dalība Eiropas Savienības misijā Armēnijā (EUMA) (29.09.2026.- 28.09.2027.)
C3: euro
A4: EUMA (29.09.2026 - 31.12.2026) | C4: 2026. gads
A5: Izdevumi kopā | C5: =C6+C9 -> 5894
A6: 1000 | B6: Atlīdzība | C6: =SUM(C7:C8) -> 5894
A7: 1149 | B7: Citas normatīvajos aktos noteiktās piemaksas, kas nav iepriekš klasificētas Ministru kabineta 2021.gada 7.decembra noteikumos Nr.793 amatpersonai atbilstoši amata līmenim noteiktais piemaksas apmērs gadā 19 778 euro (mēnesī 1 648,17 euro). (Taktiskais amata līmenis). Koeficients - 1,4; (1 648,17 euro × 1,4 × 2 mēn.) + (1 648,17 euro × 1,4 : 30 d. × 2 d.) = 4 768,71 euro | C7: =ROUNDUP(((1648.17*1.4)*2)+((1648.17*1.4)/30*2),0) -> 4769
A8: 1210 | B8: Darba devēja valsts sociālās apdrošināšanas obligātās iemaksas 23,59 % no EKK 1149 summas (4 768,71 euro × 23,59 %) = 1 124,94 euro | C8: =ROUND(C7*0.2359,0) -> 1125
A9: 2000 | B9: Preces un pakalpojumi | C9: =SUM(C10:C14) -> 0
A10: 2122 | B10: Pārējie komandējumu un darba braucienu izdevumi Ceļa izdevumi: Vienam braucienam un bagāžai 700,00 euro; ceļa izdevumi dodoties no Latvijas uz dienesta vietu. Apdrošināšana par ceļojuma dienām 2,00 euro par 1 dienu 700,00 euro + 2,00 euro = 702,00 euro. Ceļa izdevumu segšana tiks nodrošināta iepriekš piešķirtā finansējuma ietvaros. | C10: =ROUNDUP((702*1),0)*0 -> 0
A11: 2238 | B11: Ārvalstīs nodarbināto amatpersonu (darbinieku) kompensācijas Dzīvokļa (dzīvojamās telpas) īres un citi pakalpojumi, kas saistīti ar dzīvojamās telpas lietošanu gadā 11 895,21 euro (mēnesī 991,27 euro) (11 895,21 euro: 12 mēn. × 3 mēn.) + (991,27 euro: 30 d. × 2 d.) = 3 039,89 euro Dzīvokļa (dzīvojamās telpas) īres izdevumu segšana tiks nodrošināta iepriekš piešķirtā finansējuma ietvaros. | C11: =ROUNDUP((11895.21/12*3)+((991.27/30)*2),0)*0 -> 0
A12: 2312 | B12: Inventārs Aptieciņa - 20,00 euro. Inventāra izdevumu segšana tiks nodrošināta iepriekš piešķirtā finansējuma ietvaros. | C12: =ROUNDUP((20*1),0)*0 -> 0
A13: 2364 | B13: Formas tērpi un speciālais apģērbs Kopējā summa 2 042,48 euro, t.sk.: Jaka (ziemas) - 127,05 euro; Jaka (rudens-pavasara) - 121,00 euro; Taktiskā veste - 193,60 euro; Krekls ar garām piedurknēm - 78,65 euro; Krekls ar īsām piedurknēm - 70,18 euro; Polo krekls (īsām vai garām piedurknēm) - 24,20 euro; Bikses - 78,65 euro x 2 gab. = 157,30 euro; Pulovers - 72,60 euro; Apakšveļa (T-krekls un bokseršorti) - 58,08 euro x 2 komplekti = 116,16 euro; Siltā apakšveļa (apakškrekls garām piedurknēm, garās apakšbikses) - 36,30 euro x 2 komplekti = 72,60 euro; Apakšveļas komplekts 3. līmenis (krekls ar garām piedurknēm) - 56,87 euro x 2 komplekti = 113,74 euro; Īsais sporta tērps (T-krekls, šorti) - 96,80 euro; Garais sporta tērps (virsjaka, bikses) - 129,47 euro; Termozeķes (silta laika) - 6,05 euro x 5 pāri = 30,25 euro; Termozeķes (vēsa laika) - 15,73 euro x 5 pāri = 78,65 euro; Šņorzābaki - 139,15 euro x 2 pāri = 278,30 euro; Gumijas zābaki - 42,35 euro; Sporta apavi - 96,80 euro; Cimdi (auksta laika) - 32,67 euro; Taktiskie cimdi (darba) - 26,62 euro; Veste - telts (lietusmētelis) - 29,04 euro; Galvassega (auksta laika) - 9,68 euro; Galvassega (beisbola cepure) - 12,10 euro; Sejas maska - 18,15 euro; Latvijas valsts karoga emblēma - 3,63 euro x 4 gab. = 14,52 euro. Formas tērpu un speciālā apģērba izdevumu segšana tiks nodrošināta iepriekš piešķirtā finansējuma ietvaros. | C13: =ROUNDUP((127.05+121+193.6+78.65+70.18+24.2+157.3+72.6+116.16+72.6+113.74+96.8+129.47+30.25+78.65+278.3+42.35+96.8+32.67+26.62+29.04+9.68+12.1+18.15+14.52),0)*0 -> 0
A14: 2389 | B14: Pārējie specifiskas lietošanas materiāli un inventārs Kopējā summa 794,97 euro, t.sk.: Mantu maiss (soma) - 116,16 euro; Mugursoma - 39,93 euro; Guļammaiss - 133,10 euro; Paklājs - 14,52 euro; Saulesbrilles - 96,80 euro; Taktiskās aizsargbrilles - 96,80 euro; Lukturis - 78,65 euro; Kabatas nazis - 151,25 euro; Termoss (dzērienu) - 31,46 euro; Termoss (pārtikas) - 36,30 euro. Pārējo specifiskas lietošanas materiālu un inventāra izdevumu segšana tiks nodrošināta iepriekš piešķirtā finansējuma ietvaros. | C14: =ROUNDUP((116.16+39.93+133.1+14.52+96.8+96.8+78.65+151.25+31.46+36.3),0)*0 -> 0
C16: euro
A17: EUMA (01.01.2027 - 28.09.2027) | C17: 2027. gads
A18: Izdevumi kopā | C18: =C19+C22 -> 39290
A19: 1000 | B19: Atlīdzība | C19: =SUM(C20:C21) -> 28328
A20: 1149 | B20: Citas normatīvajos aktos noteiktās piemaksas, kas nav iepriekš klasificētas Ministru kabineta 2021. gada 7. decembra noteikumos Nr. 793 amatpersonai atbilstoši amata līmenim noteiktais piemaksas apmērs gadā 19 778 euro (mēnesī 1 648,17 euro) (Taktiskais amata līmenis). Koeficients - 1,4; (1 648,17 euro × 1,4 × 9 mēn.) + (1 648,17 euro × 1,4 : 30 d. × 28 d.) = 22 920,55 euro | C20: =ROUND((((1648.17*1.4))/30*28)+(1648.17*1.4*9),0) -> 22921
A21: 1210 | B21: Darba devēja valsts sociālās apdrošināšanas obligātās iemaksas 23,59% no EKK 1149 summas (22 920,55 euro × 23,59 %) = 5 406,96 euro | C21: =ROUND(C20*0.2359,0) -> 5407
A22: 2000 | B22: Preces un pakalpojumi | C22: =SUM(C23:C24) -> 10962
A23: 2122 | B23: Pārējie komandējumu un darba braucienu izdevumi Ceļa izdevumi: Vienam braucieniem un bagāžai 700,00 euro; Apdrošināšana par ceļojuma dienām 2,00 euro par 1 dienu Reizi kalendāra gadā dodoties atvaļinājumā uz Latviju un atgriežoties uz dienesta vietu, kā arī atgriežoties no dienesta vietas uz Latviju. (700,00 euro + 2,00 euro) x 3 braucieni = 2 106,00 euro. | C23: =ROUNDUP(700*3+2*3,0) -> 2106
A24: 2238 | B24: Ārvalstīs nodarbināto amatpersonu (darbinieku) kompensācijas Dzīvokļa (dzīvojamās telpas) īres un citi pakalpojumi, kas saistīti ar dzīvojamās telpas lietošanu gadā 11 895,21 euro (mēnesī 991,27 euro) (11 895,21 euro : 12 mēn. × 8 mēn.) + (991,27 euro : 30 d. × 28 d.) = 8 855,33 euro. | C24: =ROUNDUP((11895.21/12*8)+((991.27/30)*28),0) -> 8856
