Workbook

Sheet 29_01_H_2020
A1: A | K1: F | L1: G
O8: Pieaugums (%)
J10: Darba samaksas pieaugums Ārsti un funkcionālie speciālisti | O10: 0.044 | P10: Ārsti | S10: Šos darba samaksas pieauguma procentus šeit var mainīt/modelēt, bet tie koriģēsies TIKAI padotības iestādēm un citām ministrijām!!! Mainot pieauguma % rezidentiem un tarifiem, viss jāpārrēķina manuāli.
J14: Darba samaksas pieaugums Ārstniecības un pacientu aprūpes personas | O14: 0.0474 | P14: Māsas
J17: Darba samaksas pieaugums Ārstniecības un pacientu aprūpes atbalsta pesonas | O17: 0 | P17: Pārējās māsas
K25: VSAOI jaunais nodoklis | O25: 0.2359

Sheet KOPSAVILKUMS
C1: Pielikums Nr.1
A2: Aprēķins ārstniecības personu darba samaksas pieaugumam no 01.01.2024 - finansiālā ietekme uz MK noteikumiem Nr.851 2024.gadam un turpmāk ik gadu
A4: Resori/budžeta programmas (apakšprogrammas) | B4: Nepieciešamas papildus finansējums ārstniecības personu darba samaksas pieauguma nodrošināšanai 2024.-2026.gadā ik gadu, euro
A5: KOPĀ | B5: =B6+B30 -> 63484386
A6: Veselības ministrija | B6: =B7+B9+B11+B13+B15+B17+B19+B21+B24+B26+B28 -> 62100311
A7: 02.04.00 "Rezidentu apmācība" | B7: =B8 -> 3559713
A8: EKK 7470 | B8: ='rezidenti_fin (valsts_apmaks)'!M19+'rezidenti_fin (maksas)'!K22 -> 3559713
A9: 33.12.00 "Reto slimību ārstēšana " | B9: =B10 -> 7823
A10: EKK 3000 | B10: ='caur tarifiem'!E35 -> 7823
A11: 33.14.00 "Primārās ambulatorās veselības aprūpes nodrošināšana" | B11: =B12 -> 8446369
A12: EKK 3000 | B12: ='caur tarifiem'!E36 -> 8446369
A13: 33.15.00 "Laboratorisko izmeklējumu nodrošināšana ambulatorajā aprūpē" | B13: =B14 -> 1096382
A14: EKK 3000 | B14: ='caur tarifiem'!E37 -> 1096382
A15: 33.16.00 "Pārējo ambulatoro veselības aprūpes pakalpojumu nodrošināšana" | B15: =B16 -> 14212943
A16: EKK 3000 | B16: ='caur tarifiem'!E38 -> 14212943
A17: 33.17.00 "Neatliekamās medicīniskās palīdzības nodrošināšana stacionārās ārstniecības iestādēs" | B17: =B18 -> 17875318
A18: EKK 3000 | B18: ='caur tarifiem'!E39 -> 17875318
A19: 33.18.00 "Plānveida stacionāro veselības aprūpes pakalpojumu nodrošināšana" | B19: =B20 -> 9850549
A20: EKK 3000 | B20: ='caur tarifiem'!E40 -> 9850549
A21: 39.03.00 "Asins un asins komponentu nodrošināšana" | B21: =B22+B23 -> 233172
A22: EKK 1000 | B22: =ROUND('VM VADC MK851'!I62,0) -> 200491
A23: EKK 2000 | B23: =ROUND('VM VADC MK851'!I75,0) -> 32681
A24: 39.04.00 "Neatliekamā medicīniskā palīdzība" | B24: =B25 -> 6608194
A25: EKK 1000 | B25: =ROUND('VM NMPD MK851'!I111,0) -> 6608194
A26: 39.06.00 "Tiesu medicīniskā ekspertīze" | B26: =B27 -> 191079
A27: EKK 1000 | B27: =ROUND('VM VTMEC MK851'!I42,0) -> 191079
A28: 45.01.00 "Veselības aprūpes finansējuma administrēšana un ekonomiskā novērtēšana" | B28: =B29 -> 18769
A29: EKK 3000 | B29: ='caur tarifiem'!E41 -> 18769
A30: citas ministrijas t.sk. 62.resors | B30: =B31+B34+B41+B44 -> 1384075
A31: Aizsardzības ministrija | B31: =B32 -> 182891
A32: 22.10.00 "Starptautisko operāciju un Nacionālo bruņoto spēku centralizētais atalgojums" | B32: =B33 -> 182891
A33: EKK 1000 | B33: =ROUND('Pārējās ministrijas MK851'!I247,0) -> 182891
A34: Labklājības ministrija | B34: =B35+B37+B39 -> 863517
A35: 05.03.00 "Aprūpe valsts sociālās aprūpes institūcijās" | B35: =B36 -> 534099
A36: EKK 1000 | B36: =ROUND(LM_līgumorg_851!J417,0) -> 534099
A37: 05.37.00 "Sociālās integrācijas valsts aģentūras administrēšana un profesionālās un sociālās rehabilitācijas pakalpojumu nodrošināšana" | B37: =B38 -> 108371
A38: EKK 1000 | B38: =ROUND(LM_līgumorg_851!J447,0) -> 108371
A39: Labklājības ministrijas līgumorganizācijas 05.01.00 "Sociālās rehabilitācijas valsts programmas" | B39: =B40 -> 221047
A40: EKK 3000 | B40: =ROUND(LM_līgumorg_851!J213,0) -> 221047
A41: Tieslietu ministrija | B41: =B42 -> 275700
...

Sheet caur tarifiem
K1: Pielikums Nr.1.1.
B3: Ārstniecības personu zemāko mēnešalgu izmaiņas no 2024.gada 1.janvāra (finansējums 2024.gadam un turpmāk ik gadu)
B6: ='[2]1.v. - ņemam mērķa DS un 60-40'!D39 -> 1.106 | C6: 1.5038
B7: ='[2]1.v. - ņemam mērķa DS un 60-40'!D40 -> 1.065 | C7: 1.5038
B8: ='[2]1.v. - ņemam mērķa DS un 60-40'!D41 -> 1.069 | C8: 1.5038
B9: Ārstniecības personas amata kvalifikācijas kategorija | D9: Slodzes (strādājošo skaits normālā darba laika ietvaros) | E9: Zemākā mēnešalgas likme par slodzi (atbilstoši MK not. Nr.851) | F9: Amatalga pēc izmaiņām | G9: Starpība, EUR | H9: Darba samaksa atbilstoši slodzēm | I9: Plus 50,38% piemaksām | J9: Kopā ar Sociālo nodokli | L9: Amatalgas pieaugums % 2024.gads/ 2023.gadu
B12: Ārsti un funkcionālie speciālisti
D13: =D14+D15+D16 -> 7818.003
B14: 1 (6) | D14: 6069.62 | E14: 1639 | F14: =ROUND(E14*$B$6,0) -> 1813 | G14: =F14-E14 -> 174 | H14: =ROUND(G14*D14*12,0) -> 12673367 | I14: =ROUND(H14*$C$6,0) -> 19058209 | J14: =ROUND(I14*1.2359,0) -> 23554041 | L14: =F14/E14-1 -> 0.10616229
B15: 2 (7) | D15: =599.43+1040.383 -> 1639.813 | E15: 1453 | F15: =ROUND(E15*$B$6,0) -> 1607 | G15: =F15-E15 -> 154 | H15: =ROUND(G15*D15*12,0) -> 3030374 | I15: =ROUND(H15*$C$6,0) -> 4557076 | J15: =ROUND(I15*1.2359,0) -> 5632090 | L15: =F15/E15-1 -> 0.10598761
B16: 3 (8) | D16: =108.57 -> 108.57 | E16: 1116 | F16: =ROUND(E16*$B$7,0) -> 1189 | G16: =F16-E16 -> 73 | H16: =ROUND(G16*D16*12,0) -> 95107 | I16: =ROUND(H16*$C$6,0) -> 143022 | J16: =ROUND(I16*1.2359,0) -> 176761 | L16: =F16/E16-1 -> 0.065412186
B17: Ārstniecības un pacientu aprūpes personas | G17: 71 | L17: =F17/E17-1 -> #DIV/0!
D18: =D19+D20+D21 -> 11316.151
B19: 3 (8) | D19: 10970.186 | E19: 1116 | F19: =ROUND(E19*$B$7,0) -> 1189 | G19: =F19-E19 -> 73 | H19: =ROUND(G19*D19*12,0) -> 9609883 | I19: =ROUND(H19*$C$7,0) -> 14451342 | J19: =ROUND(I19*1.2359,0) -> 17860414 | L19: =F19/E19-1 -> 0.065412186
B20: 4 (9) | D20: 301 | E20: 992 | F20: =ROUND(E20*$B$7,0) -> 1056 | G20: =F20-E20 -> 64 | H20: =ROUND(G20*D20*12,0) -> 231168 | I20: =ROUND(H20*$C$7,0) -> 347630 | J20: =ROUND(I20*1.2359,0) -> 429636 | L20: =F20/E20-1 -> 0.064516129
B21: 5 (11) | D21: 44.965 | E21: 893 | F21: =ROUND(E21*$B$7,0) -> 951 | G21: =F21-E21 -> 58 | H21: =ROUND(G21*D21*12,0) -> 31296 | I21: =ROUND(H21*$C$7,0) -> 47063 | J21: =ROUND(I21*1.2359,0) -> 58165 | L21: =F21/E21-1 -> 0.064949608
B22: Ārstniecības un pacientu aprūpes atbalsta personas | L22: =F22/E22-1 -> #DIV/0!
D23: =D24 -> 3040.207
B24: 6 (13) | D24: 3040.207 | E24: 807 | F24: =ROUND(E24*B8,0) -> 863 | G24: =F24-E24 -> 56 | H24: =ROUND(G24*D24*12,0) -> 2043019 | I24: =ROUND(H24*$C$8,0) -> 3072292 | J24: =ROUND(I24*1.2359,0) -> 3797046 | L24: =F24/E24-1 -> 0.069392813
B25: KOPĀ Ārstniecības personas | D25: =SUM(D23+D18+D13) -> 22174.361 | H25: =H14+H15+H16+H19+H20+H21+H24 -> 27714214 | I25: =I14+I15+I16+I19+I20+I21+I24 -> 41676634 | J25: =J14+J15+J16+J19+J20+J21+J24 -> 51508153
B27: Pārējā personāla zemāko mēnešalgu izmaiņas no 2024.gada
B29: Ārstniecības personas amata kvalifikācijas kategorija | C29: Slodzes (strādājošo skaits normālā darba laika ietvaros) | G29: darba samaksas pieaugums, EUR | H29: Darba samaksa atbilstoši slodzēm | J29: Kopā ar Sociālo nodokli
B31: Pārējam personālam | C31: 10822.518 | G31: 40 | H31: =ROUND(G31*C31*12,0) -> 5194809 | J31: =ROUND(H31*1.2359,0) -> 6420264
B33: Finansējuma sadalījums pa budžeta apakšprogrammām 2024.gadā un turpmāk ik gadu
E34: Papildus finansējums prioritārā pasākumam "Ārstniecības personu darba samaksas pieauguma nodrošināšana" ietvaros
B35: =[3]kopsavilkums!A10 -> 33.12.00 "Reto slimību ārstēšana" | E35: 7823
B36: =[3]kopsavilkums!A12 -> 33.14.00 "Primārās ambulatorās veselības aprūpes nodrošināšana" | E36: 8446369
B37: =[3]kopsavilkums!A14 -> 33.15.00 "Laboratorisko izmeklējumu nodrošināšana ambulatorajā aprūpē" | E37: 1096382
B38: =[3]kopsavilkums!A16 -> 33.16.00 "Pārējo ambulatoro veselības aprūpes pakalpojumu nodrošināšana" | E38: 14212943
B39: =[3]kopsavilkums!A18 -> 33.17.00 "Neatliekamās medicīniskās palīdzības nodrošināšana stacionārās ārstniecības iestādēs" | E39: 17875318
B40: =[3]kopsavilkums!A20 -> 33.18.00 "Plānveida stacionāro veselības aprūpes pakalpojumu nodrošināšana" | E40: 9850549
B41: =[3]kopsavilkums!A29 -> 45.01.00 "Veselības aprūpes finansējuma administrēšana un ekonomiskā novērtēšana" | E41: 18769
B42: Kopā | E42: =SUM(E35:E41) -> 51508153

Sheet rezidenti_algas (valsts_apmaks)
L1: Pielikums Nr.1.2.
A2: Nepieciešamais finanšu līdzekļu apmērs viena valsts apmaksāta rezidenta apmācībai, euro
C4: No 2023.gada 1.aprīļa - finanšu līdzekļu apmērs viena rezidenta apmācībai pirmajā un otrajā rezidentūras gadā pamatspecialitātē | F4: No 2023.gada 1.aprīļa - finanšu līdzekļu apmērs viena rezidenta apmācībai no trešā rezidentūras gada pamatspecialitātē un no pirmā rezidentūras gada papildspecialitātē un apakšspecialitātē | I4: No 2024.gada - finanšu līdzekļu apmērs viena rezidenta apmācībai pirmajā un otrajā rezidentūras gadā pamatspecialitātē - ar pieaugumu | L4: No 2024.gada - finanšu līdzekļu apmērs viena rezidenta apmācībai no trešā rezidentūras gada pamatspecialitātē un no pirmā rezidentūras gada papildspecialitātē un apakšspecialitātē - ar pieaugumu
A5: Nr.p.k. | C5: Pārējās ārstniecības iestādēs (t.sk. budžeta iestādēs) | D5: Reģionālajā daudzprofilu slimnīcā vai ģimenes (vispārējās prakses) ārsta praksē ārpus Rīgas | F5: Pārējās ārstniecības iestādēs (t.sk. budžeta iestādēs) | G5: Reģionālajā daudzprofilu slimnīcā vai ģimenes (vispārējās prakses) ārsta praksē ārpus Rīgas | I5: Pārējās ārstniecības iestādēs (t.sk. budžeta iestādēs) | J5: Reģionālajā daudzprofilu slimnīcā vai ģimenes (vispārējās prakses) ārsta praksē ārpus Rīgas | L5: Pārējās ārstniecības iestādēs (t.sk. budžeta iestādēs) | M5: Reģionālajā daudzprofilu slimnīcā vai ģimenes (vispārējās prakses) ārsta praksē ārpus Rīgas
B6: Kopā | C6: =C7+C8 -> 2724.3131 | D6: =D7+D8 -> 3414 | F6: =F7+F8 -> 2954.2014 | G6: =G7+G8 -> 3712.85 | I6: =I7+I8 -> 2968.0019 | J6: =J7+J8 -> 3730.78 | L6: =L7+L8 -> 3222.2471 | M6: =M7+M8 -> 4061.32
A7: 1. | B7: Augstskolas izdevumi | C7: 108.14 | D7: 108.14 | F7: 108.14 | G7: 108.14 | I7: 108.14 | J7: 108.14 | L7: 108.14 | M7: 108.14
A8: 2. | B8: Ārstniecības iestādes izdevumi | C8: =C9+C14 -> 2616.1731 | D8: =D9+D14 -> 3305.86 | F8: =F9+F14 -> 2846.0614 | G8: =G9+G14 -> 3604.71 | I8: =I9+I14 -> 2859.8619 | J8: =J9+J14 -> 3622.64 | L8: =L9+L14 -> 3114.1071 | M8: =M9+M14 -> 3953.18
A9: 2.1. | B9: Rezidenta atlīdzība | C9: =C10+C13 -> 2298.8731 | D9: =D10+D13 -> 2988.56 | F9: =F10+F13 -> 2528.7614 | G9: =G10+G13 -> 3287.41 | I9: =I10+I13 -> 2542.5619 | J9: =J10+J13 -> 3305.34 | L9: =L10+L13 -> 2796.8071 | M9: =M10+M13 -> 3635.88
A10: 2.1.1. | B10: Atalgojums | C10: =C11+C12 -> 1860.0831 | D10: =D11+D12 -> 2418.12 | F10: =F11+F12 -> 2046.0914 | G10: =G11+G12 -> 2659.93 | I10: =I11+I12 -> 2057.2519 | J10: =J11+J12 -> 2674.44 | L10: =L11+L12 -> 2262.9771 | M10: =M11+M12 -> 2941.89
A11: 2.1.1.1. | B11: t.sk. amatalga | C11: 1576.3416 | D11: 2049.25 | F11: 1733.9758 | G11: 2254.17 | I11: 1743.4338 | J11: 2266.47 | L11: 1917.7772 | M11: 2493.12
A12: 2.1.1.2. | B12: t.sk. pārējie izdevumi rezidentu atlīdzībai - samaksa par dežūru stundām virs normālā darba laika (24 h mēnesī), piemaksas par nakts dežūrām, svētku dienām, mājas dežūrām un darba samaksas mainīgajai daļai | C12: 283.74149 | D12: 368.87 | F12: 312.11564 | G12: 405.76 | I12: 313.81809 | J12: 407.97 | L12: 345.1999 | M12: 448.77
A13: 2.1.2. | B13: VSAOI | C13: 438.79 | D13: 570.44 | F13: 482.67 | G13: 627.48 | I13: 485.31 | J13: 630.9 | L13: 533.83 | M13: 693.99
A14: 2.2. | B14: Rezidentu teorētisko un praktisko apmācību saistīto izdevumu apmaksai ārstniecības iestādē | C14: =C15+C22 -> 317.3 | D14: =D15+D22 -> 317.3 | F14: =F15+F22 -> 317.3 | G14: =G15+G22 -> 317.3 | I14: =I15+I22 -> 317.3 | J14: =J15+J22 -> 317.3 | L14: =L15+L22 -> 317.3 | M14: =M15+M22 -> 317.3
A15: 2.2.1. | B15: Ārstu un cita mācību personāla atlīdzībai | C15: =C16+C19 -> 286 | D15: =D16+D19 -> 286 | F15: =F16+F19 -> 286 | G15: =G16+G19 -> 286 | I15: =I16+I19 -> 286 | J15: =J16+J19 -> 286 | L15: =L16+L19 -> 286 | M15: =M16+M19 -> 286
A16: 2.2.1.1. | B16: Ārstu un cita mācību personāla atlīdzībai par rezidentu teorētisko un praktisko apmācību | C16: =C17+C18 -> 254.69 | D16: =D17+D18 -> 254.69 | F16: =F17+F18 -> 254.69 | G16: =G17+G18 -> 254.69 | I16: =I17+I18 -> 254.69 | J16: =J17+J18 -> 254.69 | L16: =L17+L18 -> 254.69 | M16: =M17+M18 -> 254.69
A17: 2.2.1.1.1. | B17: t.sk. atalgojums | C17: 206.08 | D17: 206.08 | F17: 206.08 | G17: 206.08 | I17: 206.08 | J17: 206.08 | L17: 206.08 | M17: 206.08
A18: 2.2.1.1.2. | B18: t.sk. VSAOI | C18: 48.61 | D18: 48.61 | F18: 48.61 | G18: 48.61 | I18: 48.61 | J18: 48.61 | L18: 48.61 | M18: 48.61
A19: 2.2.1.2. | B19: Ārstu atlīdzībai, kas atbildīgi par rezidentūras organizāciju (atalgojums un VSAOI) | C19: =C20+C21 -> 31.31 | D19: =D20+D21 -> 31.31 | F19: =F20+F21 -> 31.31 | G19: =G20+G21 -> 31.31 | I19: =I20+I21 -> 31.31 | J19: =J20+J21 -> 31.31 | L19: =L20+L21 -> 31.31 | M19: =M20+M21 -> 31.31
A20: 2.2.1.2.1. | B20: t.sk. atalgojums | C20: 25.33 | D20: 25.33 | F20: 25.33 | G20: 25.33 | I20: 25.33 | J20: 25.33 | L20: 25.33 | M20: 25.33
A21: 2.2.1.2.2. | B21: t.sk. VSAOI | C21: 5.98 | D21: 5.98 | F21: 5.98 | G21: 5.98 | I21: 5.98 | J21: 5.98 | L21: 5.98 | M21: 5.98
A22: 2.2.2. | B22: Ar rezidentūras organizēšanu saistīto izdevumu segšanai | C22: =C23+C24 -> 31.3 | D22: =D23+D24 -> 31.3 | F22: =F23+F24 -> 31.3 | G22: =G23+G24 -> 31.3 | I22: =I23+I24 -> 31.3 | J22: =J23+J24 -> 31.3 | L22: =L23+L24 -> 31.3 | M22: =M23+M24 -> 31.3
A23: 2.2.2.1. | B23: t.sk.ar rezidenta pašizglītību saistītie izdevumi (izdevumi medicīniskās literatūras, datu bāžu, grāmatu, u.c. iegādei bibliotēkai, aprīkojuma, datoru iegādei, u.tml., kas paliek ārstniecības iestādes īpašumā) | C23: 15.65 | D23: 15.65 | F23: 15.65 | G23: 15.65 | I23: 15.65 | J23: 15.65 | L23: 15.65 | M23: 15.65
A24: 2.2.2.2. | B24: t.sk.ar rezidentūras organizēšanu saistīto izdevumu segšanai saimniecisko, komunālo un ārstniecības iestādes citu kārtējo izdevumu segšanai, kas attiecas uz rezidentūras organizēšanu ārstniecības iestādē, t.sk. rezidentu telpu iekārtošanas, identifikācijas karšu iegādes, vienotas e-adreses nodrošināšanai, zīmogu izgatavošanas izdevumi u.tml.)) | C24: 15.65 | D24: 15.65 | F24: 15.65 | G24: 15.65 | I24: 15.65 | J24: 15.65 | L24: 15.65 | M24: 15.65
B26: Augstskolas izdevumi gadam | C26: =C7*12 -> 1297.68 | D26: =D7*12 -> 1297.68 | F26: =F7*12 -> 1297.68 | G26: =G7*12 -> 1297.68 | I26: =I7*12 -> 1297.68 | J26: =J7*12 -> 1297.68 | L26: =L7*12 -> 1297.68 | M26: =M7*12 -> 1297.68
B27: Ārstniecības iestādes izdevumi gadam | C27: =C8*12 -> 31394.077 | D27: =D8*12 -> 39670.32 | F27: =F8*12 -> 34152.737 | G27: =G8*12 -> 43256.52 | I27: =I8*12 -> 34318.343 | J27: =J8*12 -> 43471.68 | L27: =L8*12 -> 37369.285 | M27: =M8*12 -> 47438.16
B28: Rezidenta atlīdzība gadam | C28: =C9*12 -> 27586.477 | D28: =D9*12 -> 35862.72 | F28: =F9*12 -> 30345.137 | G28: =G9*12 -> 39448.92 | I28: =I9*12 -> 30510.743 | J28: =J9*12 -> 39664.08 | L28: =L9*12 -> 33561.685 | M28: =M9*12 -> 43630.56
B31: Valsts apmaksāto rezidentu amatalga mēnesī, euro
C33: 2023.gadā (euro) | D33: 2024.gadā un turpmāk (euro) | E33: Starpība (2024.gada pieaugums pret 2023.gadu)
B34: Rezidentu mēnešalga reģionālajā daudzprofilu slimnīcā vai ģimenes (vispārējās prakses) ārsta praksē ārpus Rīgas | C34: =D11 -> 2049.25 | D34: =J11 -> 2266.47 | E34: =D34/C34-1 -> 0.10599976
B35: Rezidentu mēnešalga pārējās ārstniecības iestādēs | C35: =C11 -> 1576.3416 | D35: =I11 -> 1743.4338 | E35: =D35/C35-1 -> 0.106
B36: (tai skaitā Veselības ministrijas padotības iestādes)
B37: Rezidentu mēnešalga ar koeficientu 1.1 no trešā rezidentūras gada pamatspecialitātē un no pirmā gada papildspecialitātēs reģionālajā daudzprofilu slimnīcā vai ģimenes (vispārējās prakses) ārsta praksē ārpus Rīgas | C37: =G11 -> 2254.17 | D37: =M11 -> 2493.12 | E37: =D37/C37-1 -> 0.10600354
B38: Rezidentu mēnešalga ar koeficientu 1.1 no trešā rezidentūras gada pamatspecialitātē un no pirmā gada papildspecialitātēs pārējās ārstniecības iestādēs | C38: =F11 -> 1733.9758 | D38: =L11 -> 1917.7772 | E38: =D38/C38-1 -> 0.106
B39: (tai skaitā Veselības ministrijas padotības iestādes)

Sheet rezidenti_fin (valsts_apmaks)
L1: Pielikums Nr.1.3.
B2: Nepieciešamais papildus finansējums valsts apmaksātiem rezidentiem, euro
B4: Nr. | D4: Plānotais rezidentu skaits janv-sept | E4: Plānotais rezidentūras absolventu skaits | F4: Plānotais uzņemamo rezidentu skaits | G4: Plānotais rezidentu skaits okt-dec | H4: Plānotais vidējais rezidentu skaits | J4: Finanšu līdzekļu apmērs mēnesim viena rezidenta apmācībai 2023.gadā, euro | K4: Finanšu līdzekļu apmērs mēnesim viena rezidenta apmācībai - ar pieaugumu no 01.01.2024, euro | L4: Finanšu līdzekļu apmēra palielinājums mēnesim viena rezidenta apmācībai, euro | M4: Finanšu līdzekļu apmēra palielinājums gadam plānotam rezidentu skaitam apmācībai, euro
B5: 1 | D5: 2 | E5: 3 | F5: 4 | G5: 5=2-3+4 | H5: 6
B6: KOPĀ | C6: kopā, t.sk. | D6: 866 | E6: 204 | F6: 290 | G6: 952 | H6: 888
C7: Reģionālajā daudzprofilu slimnīcā vai ģimenes (vispārējās prakses) ārsta praksē ārpus Rīgas | D7: 235 | E7: 67 | F7: 79 | G7: 247 | H7: 238
C8: Pārējās ārstniecības iestādēs (t.sk. budžeta iestādēs) | D8: 631 | E8: 137 | F8: 211 | G8: 705 | H8: 650
C9: t.sk. no 3.gada pamatspecialitātē un papildspecialitātē un apakšspecialitātē no 1.gada, t.sk. | D9: 446 | E9: 204 | F9: 23 | G9: 265 | H9: 401
C10: Reģionālajā daudzprofilu slimnīcā vai ģimenes (vispārējās prakses) ārsta praksē ārpus Rīgas | D10: 126 | E10: 67 | F10: 7 | G10: 66 | H10: 111 | J10: ='rezidenti_algas (valsts_apmaks)'!G6 -> 3712.85 | K10: ='rezidenti_algas (valsts_apmaks)'!M6 -> 4061.32 | L10: =K10-J10 -> 348.47 | M10: =ROUND(H10*L10*12,0) -> 464162
C11: Pārējās ārstniecības iestādēs (t.sk. budžeta iestādēs) | D11: 320 | E11: 137 | F11: 16 | G11: 199 | H11: 290 | J11: ='rezidenti_algas (valsts_apmaks)'!F6 -> 2954.2014 | K11: ='rezidenti_algas (valsts_apmaks)'!L6 -> 3222.2471 | L11: =K11-J11 -> 268.04569 | M11: =ROUND(H11*L11*12,0) -> 932799
C12: t.sk. atlikušie, t.sk. | D12: 420 | E12: 0 | F12: 267 | G12: 687 | H12: 487
C13: Reģionālajā daudzprofilu slimnīcā vai ģimenes (vispārējās prakses) ārsta praksē ārpus Rīgas | D13: 109 | E13: 0 | F13: 72 | G13: 181 | H13: 127 | J13: ='rezidenti_algas (valsts_apmaks)'!D6 -> 3414 | K13: ='rezidenti_algas (valsts_apmaks)'!J6 -> 3730.78 | L13: =K13-J13 -> 316.78 | M13: =ROUND(H13*L13*12,0) -> 482773
C14: Pārējās ārstniecības iestādēs (t.sk. budžeta iestādēs) | D14: 311 | E14: 0 | F14: 195 | G14: 506 | H14: 360 | J14: ='rezidenti_algas (valsts_apmaks)'!C6 -> 2724.3131 | K14: ='rezidenti_algas (valsts_apmaks)'!I6 -> 2968.0019 | L14: =K14-J14 -> 243.68881 | M14: =ROUND(H14*L14*12,0) -> 1052736
M16: =SUM(M10:M14) -> 2932470
L19: 2024.gadam un turpmāk ik gadu | M19: =M16 -> 2932470

Sheet rezidenti_algas (maksas)
D1: Pielikums Nr.1.4.
A3: Nepieciešamais finanšu līdzekļu apmērs viena rezidenta, kuru rezidentūras apmācības izmaksas tiek segtas no juridisku vai fizisku personu līdzekļiem, apmācībai, euro
A5: Nr.p.k. | C5: 2023.gads - finanšu līdzekļu apmērs viena rezidenta apmācībai pirmajā un otrajā rezidentūras gadā pamatspecialitātē | E5: 2023.gads - finanšu līdzekļu apmērs viena rezidenta apmācībai no trešā rezidentūras gada pamatspecialitātē un no pirmā rezidentūras gada apakšspecialitātē
B6: Kopā | C6: =C7 -> 2298.8715 | E6: =E7 -> 2528.7614
A7: 1 | B7: Ārstniecības iestādes izdevumi | C7: =C8 -> 2298.8715 | E7: =E8 -> 2528.7614
A8: 1.1. | B8: Rezidenta atlīdzība | C8: =C9+C12 -> 2298.8715 | E8: =E9+E12 -> 2528.7614
A9: 1.1.1. | B9: Atalgojums | C9: =C10+C11 -> 1860.0815 | E9: =E10+E11 -> 2046.0914
A10: 1.1.1.1. | B10: t.sk. amatalga | C10: 1576.34 | E10: 1733.9758
A11: 1.1.1.2. | B11: t.sk. pārējie izdevumi rezidentu atlīdzībai - samaksa par dežūru stundām virs normālā darba laika (11 h mēnesī), piemaksas par nakts dežūrām, svētku dienām, mājas dežūrām un darba samaksas mainīgajai daļai | C11: 283.74149 | E11: 312.11564
A12: 1.1.2. | B12: VSAOI | C12: 438.79 | E12: 482.67
B14: Rezidenta atlīdzība gadam | C14: =C6*12 -> 27586.458 | E14: =E6*12 -> 30345.137
A16: Nr.p.k. | C16: No 2024.gada 1.janvāra un turpmāk - finanšu līdzekļu apmērs viena rezidenta apmācībai pirmajā un otrajā rezidentūras gadā pamatspecialitātē | E16: No 2024.gada 1.janvāra un turpmāk - finanšu līdzekļu apmērs viena rezidenta apmācībai no trešā rezidentūras gada pamatspecialitātē un no pirmā rezidentūras gada apakšspecialitātē
B17: Kopā | C17: =C18 -> 2542.5619 | E17: =E18 -> 2796.8071
A18: 1 | B18: Ārstniecības iestādes izdevumi | C18: =C19 -> 2542.5619 | E18: =E19 -> 2796.8071
A19: 1.1. | B19: Rezidenta atlīdzība | C19: =C20+C23 -> 2542.5619 | E19: =E20+E23 -> 2796.8071
A20: 1.1.1. | B20: Atalgojums | C20: =C21+C22 -> 2057.2519 | D20: =D21+D22 -> 0 | E20: =E21+E22 -> 2262.9771
A21: 1.1.1.1. | B21: t.sk. amatalga | C21: 1743.4338 | E21: 1917.7772
A22: 1.1.1.2. | B22: t.sk. pārējie izdevumi rezidentu atlīdzībai - samaksa par dežūru stundām virs normālā darba laika (11 h mēnesī), piemaksas par nakts dežūrām, svētku dienām, mājas dežūrām un darba samaksas mainīgajai daļai | C22: 313.81809 | E22: 345.1999
A23: 1.1.2. | B23: VSAOI | C23: 485.31 | E23: 533.83
B25: Rezidenta atlīdzība gadam | C25: =C17*12 -> 30510.743 | E25: =E17*12 -> 33561.685

Sheet rezidenti_fin (maksas)
H1: Pielikums Nr.1.5.
B3: Nepieciešamais papildus finansējums rezidentu atlīdzībai, kuru rezidentūras apmācības izmaksas tiek segtas no juridisku vai fizisku personu līdzekļiem, euro
G5: Precizētās viena rezidenta izmaksas
G6: no 2024.gada 1.janvāra un turpmāk - finanšu līdzekļu apmērs viena rezidenta apmācībai pirmajā un otrajā rezidentūras gadā pamatspecialitātē - ar pieaugumu | I6: no 2024.gada 1.janvāra un turpmāk - finanšu līdzekļu apmērs viena rezidenta apmācībai no trešā rezidentūras gada pamatspecialitātē un no pirmā rezidentūras gada apakšspecialitātē - ar pieaugumu
G7: Pārējās ārstniecības iestādēs (t.sk. budžeta iestādēs) | H7: Reģionālajā daudzprofilu slimnīcā vai ģimenes (vispārējās prakses) ārsta praksē ārpus Rīgas | I7: Pārējās ārstniecības iestādēs (t.sk. budžeta iestādēs) | J7: Reģionālajā daudzprofilu slimnīcā vai ģimenes (vispārējās prakses) ārsta praksē ārpus Rīgas
E12: Rezidentu darba samaksa | G12: ='rezidenti_algas (maksas)'!C17 -> 2542.5619 | H12: ='rezidenti_algas (maksas)'!C17 -> 2542.5619 | I12: ='rezidenti_algas (maksas)'!E17 -> 2796.8071 | J12: ='rezidenti_algas (maksas)'!E17 -> 2796.8071
K13: KOPĀ:
D14: Proporcijas plānotajam rezidentu skaitam | G14: 94 | H14: 27 | I14: 75 | J14: 10 | K14: 206
G15: 0.45631068 | H15: 0.13106796 | I15: 0.36407767 | J15: 0.048543689 | K15: =G15+H15+I15+J15 -> 1
D17: Kopā nepieciešamais finansējums GADAM visu rezidentu apmācībai ar plānoto pieaugumu | G17: =ROUND(G12*G14*12,0) -> 2868010 | H17: =ROUND(H12*H14*12,0) -> 823790 | I17: =ROUND(I12*I14*12,0) -> 2517126 | J17: =ROUND(J12*J14*12,0) -> 335617 | K17: =SUM(G17:J17) -> 6544543
D19: Esošais finansējums budžetā | K19: =5601056+316244 -> 5917300
D22: Papildus nepieciešamais finansējums 2024.gadam un turpmāk ik gadu | K22: =K17-K19 -> 627243

Sheet Pārējās ministrijas MK851
H1: Pielikums Nr.1.6.
A2: Ārstniecības personu darba samaksas pieaugums Aizsardzības ministrijai, Tieslietu ministrijai un Iekšlietu ministrijai
I3: EUR
A4: Ārstniecības personas amata kvalifikācijas kategorija | B4: Profesiju klasifikātora kods (atbilstoši MK noteikumiem Nr.264) | C4: Ārstniecības personas profesijas vai specialitātes kodu (atbilstoši MK noteikumiem Nr.317) | D4: Slodzes (strādājošo skaits normālā darba laika ietvaros) | E4: Faktiskā mēnešalgas likme par 1 (vienu) slodzi | F4: Palielinājums par darba stāžu | G4: Piemaksas | H4: Faktiskā darba samaksa (atalgojums par slodzi) mēnesī | I4: Darba samaksas pieaugums 2024.gadam, t.sk. 23.59%
K5: Pārbaude, atbilstība prof. klasifikatoram | L5: Ārstniecības personas profesijas vai specialitātes kodu (atbilstoši MK noteikumiem Nr.317) | M5: Reģistrācija Ārstniecības ietāžu reģistrā | N5: Piezīmes, pamatojums
A7: 19.Tieslietu ministrija
A8: Apakšprogramma 04.01.00 "Ieslodzījuma vietas"
A9: I.Sertificētu ārstniecības personu amati
A10: 1.kategorija - Ārsts, zobārsts
A11: Galvenais ārsts | B11: 1342 01 | C11: P63, P27 | D11: 1 | E11: 2980 | F11: 387.4 | G11: 596 | H11: =G11+F11+E11 -> 3963.4 | I11: =ROUND((E11+F11+G11)*0.106*D11*12*(1+0.2359),2) -> 6230.72 | L11: P63, P27 | M11: Reģistrēts | N11: 801000010
A12: Daļas vadītājs (ārsts) | B12: 1342 03 | C12: P25 | D12: 1 | E12: 2455 | F12: 319.15 | G12: 491 | H12: =G12+F12+E12 -> 3265.15 | I12: =ROUND((E12+F12+G12)*0.106*D12*12*(1+0.2359),2) -> 5133.03 | L12: P25 | M12: Reģistrēts | N12: 801000010
A13: Daļas vadītājs (ārsts) | B13: 1342 03 | C13: P53, P54 | D13: 1 | E13: 2455 | F13: 319.15 | G13: 491 | H13: =G13+F13+E13 -> 3265.15 | I13: =ROUND((E13+F13+G13)*0.106*D13*12*(1+0.2359),2) -> 5133.03 | L13: P53, P54 | M13: Reģistrēts | N13: 801000010
A14: Daļas vadītājs (ārsts) | B14: 1342 03 | C14: P39 | D14: 1 | E14: 2455 | F14: 294.6 | G14: 491 | H14: =G14+F14+E14 -> 3240.6 | I14: =ROUND((E14+F14+G14)*0.106*D14*12*(1+0.2359),2) -> 5094.43 | L14: P39 | M14: Reģistrēts | N14: 801000010
A15: Daļas vadītājs (ārsts) | B15: 1342 03 | C15: P00 | D15: 1 | E15: 2030 | F15: 243.6 | G15: 406 | H15: =G15+F15+E15 -> 2679.6 | I15: =ROUND((E15+F15+G15)*0.106*D15*12*(1+0.2359),2) -> 4212.5 | L15: P00 | M15: Reģistrēts | N15: 801000010
A16: Daļas vadītājs (ārsts) | B16: 1342 03 | C16: P63 | D16: 1 | E16: 2455 | F16: 319.15 | G16: 491 | H16: =G16+F16+E16 -> 3265.15 | I16: =ROUND((E16+F16+G16)*0.106*D16*12*(1+0.2359),2) -> 5133.03 | L16: P63 | M16: Reģistrēts | N16: 801000010
A17: Daļas vadītājs (ārsts) | B17: 1342 03 | C17: P01 | D17: 1 | E17: 2455 | F17: 294.6 | G17: 491 | H17: =G17+F17+E17 -> 3240.6 | I17: =ROUND((E17+F17+G17)*0.106*D17*12*(1+0.2359),2) -> 5094.43 | L17: P01 | M17: Reģistrēts | N17: 801000010
A18: Nodaļas vadītājs (ārsts) | B18: 1342 03 | C18: P02 | D18: 1 | E18: 2285 | F18: 205.65 | G18: 457 | H18: =G18+F18+E18 -> 2947.65 | I18: =ROUND((E18+F18+G18)*0.106*D18*12*(1+0.2359),2) -> 4633.9 | L18: P02 | M18: Reģistrēts | N18: 801000010
A19: Nodaļas vadītājs (ārsts) | B19: 1342 03 | C19: P19 | D19: 1 | E19: 2285 | F19: 297.05 | G19: 457 | H19: =G19+F19+E19 -> 3039.05 | I19: =ROUND((E19+F19+G19)*0.106*D19*12*(1+0.2359),2) -> 4777.58 | L19: P19 | M19: Reģistrēts | N19: 801000010
A20: Nodaļas vadītājs (ārsts) | B20: 1342 03 | C20: P57 | D20: 1 | E20: 2285 | F20: 297.05 | G20: 457 | H20: =G20+F20+E20 -> 3039.05 | I20: =ROUND((E20+F20+G20)*0.106*D20*12*(1+0.2359),2) -> 4777.58 | L20: P57 | M20: Reģistrēts | N20: 801000010
A21: Nodaļas vadītājs (ārsts) | B21: 1342 03 | C21: P27 | D21: 1 | E21: 2285 | F21: 159.95 | G21: 457 | H21: =G21+F21+E21 -> 2901.95 | I21: =ROUND((E21+F21+G21)*0.106*D21*12*(1+0.2359),2) -> 4562.05 | L21: P27 | M21: Reģistrēts | N21: 801000010
A22: Ārsts | B22: 2211 01 | C22: P00 | D22: 0.75 | E22: 1810 | F22: 126.7 | G22: 362 | H22: =G22+F22+E22 -> 2298.7 | I22: =ROUND((E22+F22+G22)*0.106*D22*12*(1+0.2359),2) -> 2710.28 | L22: P00 | M22: Reģistrēts | N22: 801000010
... A24: Ārsts | B24: 2212 28 | C24: P39 | D24: 1 | E24: 2060 | F24: 267.8 | G24: 412 | H24: =G24+F24+E24 -> 2739.8 | I24: =ROUND((E24+F24+G24)*0.106*D24*12*(1+0.2359),2) -> 4307.14 | L24: P39 | M24: Reģistrēts | N24: 801000010
A25: Ārsts | B25: 2212104 | C25: P00 | D25: 0.5 | E25: 1810 | F25: 217.2 | G25: 362 | H25: =G25+F25+E25 -> 2389.2 | I25: =ROUND((E25+F25+G25)*0.106*D25*12*(1+0.2359),2) -> 1877.99 | L25: P00 | M25: Reģistrēts | N25: 801000010
A26: Ārsts | B26: 2212104 | C26: P01 | D26: 0.75 | E26: 2060 | F26: 206 | G26: 412 | H26: =G26+F26+E26 -> 2678 | I26: =ROUND((E26+F26+G26)*0.106*D26*12*(1+0.2359),2) -> 3157.49 | L26: P01 | M26: Reģistrēts | N26: 801000010
A27: Ārsts | B27: 2212104 | C27: P01 | D27: 1 | E27: 2060 | F27: 267.8 | G27: 412 | H27: =G27+F27+E27 -> 2739.8 | I27: =ROUND((E27+F27+G27)*0.106*D27*12*(1+0.2359),2) -> 4307.14 | L27: P01 | M27: Reģistrēts | N27: 801000010
A28: Ārsts | B28: 2212104 | C28: P01 | D28: 0.5 | E28: 2060 | F28: 247.2 | G28: 412 | H28: =G28+F28+E28 -> 2719.2 | I28: =ROUND((E28+F28+G28)*0.106*D28*12*(1+0.2359),2) -> 2137.38 | L28: P01 | M28: Reģistrēts | N28: 801000010
A29: Ārsts | B29: 2212104 | C29: P01 | D29: 1 | E29: 2060 | F29: 267.8 | G29: 412 | H29: =G29+F29+E29 -> 2739.8 | I29: =ROUND((E29+F29+G29)*0.106*D29*12*(1+0.2359),2) -> 4307.14 | L29: P01 | M29: Reģistrēts | N29: 801000010
A30: Ārsts | B30: 2212104 | C30: P00 | D30: 0.25 | E30: 1810 | F30: 235.3 | G30: 362 | H30: =G30+F30+E30 -> 2407.3 | I30: =ROUND((E30+F30+G30)*0.106*D30*12*(1+0.2359),2) -> 946.11 | L30: P00 | M30: Reģistrēts | N30: 801000010
A31: Ārsts | B31: 2212104 | C31: P01 | D31: 0.75 | E31: 2060 | F31: 206 | G31: 412 | H31: =G31+F31+E31 -> 2678 | I31: =ROUND((E31+F31+G31)*0.106*D31*12*(1+0.2359),2) -> 3157.49 | L31: P01 | M31: Reģistrēts | N31: 801000010
A32: Ārsts | B32: 2212 86 | C32: P19 | D32: 1 | E32: 2060 | F32: 267.8 | G32: 412 | H32: =G32+F32+E32 -> 2739.8 | I32: =ROUND((E32+F32+G32)*0.106*D32*12*(1+0.2359),2) -> 4307.14 | L32: P19 | M32: Reģistrēts | N32: 801000010
A33: Ārsts | B33: 2212 86 | C33: P19 | D33: 1 | E33: 2060 | F33: 267.8 | G33: 412 | H33: =G33+F33+E33 -> 2739.8 | I33: =ROUND((E33+F33+G33)*0.106*D33*12*(1+0.2359),2) -> 4307.14 | L33: P19 | M33: Reģistrēts | N33: 801000010
A34: Ārsts | B34: 2212 86 | C34: P19 | D34: 0.5 | E34: 2060 | F34: 144.2 | G34: 412 | H34: =G34+F34+E34 -> 2616.2 | I34: =ROUND((E34+F34+G34)*0.106*D34*12*(1+0.2359),2) -> 2056.42 | L34: P19 | M34: Reģistrēts | N34: 801000010
A35: Ārsts | B35: 2212 86 | C35: P19 | D35: 0.5 | E35: 2060 | F35: 206 | G35: 412 | H35: =G35+F35+E35 -> 2678 | I35: =ROUND((E35+F35+G35)*0.106*D35*12*(1+0.2359),2) -> 2104.99 | L35: P19 | M35: Reģistrēts | N35: 801000010
A36: Ārsts | B36: 2212 86 | C36: P19 | D36: 0.5 | E36: 2060 | F36: 267.8 | G36: 412 | H36: =G36+F36+E36 -> 2739.8 | I36: =ROUND((E36+F36+G36)*0.106*D36*12*(1+0.2359),2) -> 2153.57 | L36: P19 | M36: Reģistrēts | N36: 801000010
A37: Ārsts | B37: 2212 86 | C37: P19, P64 | D37: 0.25 | E37: 2060 | F37: 267.8 | G37: 412 | H37: =G37+F37+E37 -> 2739.8 | I37: =ROUND((E37+F37+G37)*0.106*D37*12*(1+0.2359),2) -> 1076.79 | L37: P19, P64 | M37: Reģistrēts | N37: 801000010
A38: Ārsts | B38: 2212 86 | C38: P19, P64 | D38: 0.25 | E38: 2060 | F38: 247.2 | G38: 412 | H38: =G38+F38+E38 -> 2719.2 | I38: =ROUND((E38+F38+G38)*0.106*D38*12*(1+0.2359),2) -> 1068.69 | L38: P19, P64 | M38: Reģistrēts | N38: 801000010
A39: Ārsts | B39: 2212 86 | C39: P19 | D39: 0.5 | E39: 2060 | F39: 123.6 | G39: 412 | H39: =G39+F39+E39 -> 2595.6 | I39: =ROUND((E39+F39+G39)*0.106*D39*12*(1+0.2359),2) -> 2040.23 | L39: P19 | M39: Reģistrēts | N39: 801000010
A40: Ārsts | B40: 2212 86 | C40: P19 | D40: 1 | E40: 2060 | F40: 144.2 | G40: 412 | H40: =G40+F40+E40 -> 2616.2 | I40: =ROUND((E40+F40+G40)*0.106*D40*12*(1+0.2359),2) -> 4112.84 | L40: P19 | M40: Reģistrēts | N40: 801000010
A41: Ārsts | B41: 2212 82 | C41: P23 | D41: 0.25 | E41: 2060 | F41: 247.2 | G41: 412 | H41: =G41+F41+E41 -> 2719.2 | I41: =ROUND((E41+F41+G41)*0.106*D41*12*(1+0.2359),2) -> 1068.69 | L41: P23 | M41: Reģistrēts | N41: 801000010
A42: Ārsts | B42: 2212 37 | C42: P27 | D42: 0.25 | E42: 2060 | F42: 267.8 | G42: 412 | H42: =G42+F42+E42 -> 2739.8 | I42: =ROUND((E42+F42+G42)*0.106*D42*12*(1+0.2359),2) -> 1076.79 | L42: P27 | M42: Reģistrēts | N42: 801000010
...

Sheet VM NMPD MK851
H1: Pielikums Nr.1.7.
A2: Neatliekamās medicīniskās palīdzības dienesta ārstniecības personu faktiskā darba samaksas pieaugums (MK noteikumi Nr.851)
A5: Informācija par ārstniecības personām
A6: Ārstniecības personas amata kvalifikācijas kategorija | B6: Profesiju klasifikātora kods (atbilstoši MK noteikumiem Nr.264) | C6: Ārstniecības personas profesijas vai specialitātes kodu (atbilstoši MK noteikumiem Nr.317) | D6: Slodzes (strādājošo skaits normālā darba laika ietvaros) | E6: Faktiskā mēnešalgas likme par 1 (vienu) slodzi | F6: Palielinājums par darba stāžu | G6: Piemaksas * | H6: Faktiskā darba samaksa (atalgojums par slodzi) mēnesī | I6: Sākotnējs darba samaksas pieaugums 2024.gadam, t.sk. 23.59%
K7: Pārbaude, atbilstība prof. klasifikatoram | L7: Ārstniecības personas profesijas vai specialitātes kodu (atbilstoši MK noteikumiem Nr.317) | M7: Reģistrācija Ārstniecības ietāžu reģistrā
A8: Neatliekamās medicīniskās palīdzības dienests
A9: 39.04.00 Neatliekamā medicīniskā palīdzība
A10: I. Sertificētu ārstniecības personu amati | I10: =I11+I49 -> 4089023.7
A11: 1.kategorija - Ārsts, zobārsts | I11: =SUM(I12:I48) -> 1166724.6
A12: BAC vadītājs (NM ārsts) | B12: 2212 28 | C12: P 39 | D12: 1 | E12: 2500 | F12: 74.925 | G12: 75 | H12: =E12+F12+G12 -> 2649.925 | I12: =ROUND((E12+F12+G12)*('[4]29_01_H_2020'!$O$9)*D12*12*(1+'[4]29_01_H_2020'!$O$24),2) -> 4165.85 | K12: Neatliekamās medicīnas ĀRSTS | L12: P 39 | M12: Reģistrēta
A13: Vadības ārsts (operatīvais dežurants) | B13: 2212 11 | C13: P 00 | D13: 4 | E13: 1647 | F13: 49.41 | G13: 131.76 | H13: =E13+F13+G13 -> 1828.17 | I13: =ROUND((E13+F13+G13)*('[4]29_01_H_2020'!$O$9)*D13*12*(1+'[4]29_01_H_2020'!$O$24),2) -> 11496.01 | K13: ĀRSTS | L13: P 00 | M13: Reģistrēta
A14: Ārsta speciālista brigādes vadītājs - NM ārsts, anesteziologs-reanimatologs | B14: 2211 01 | C14: P 39 / P 18 | D14: 28.5 | E14: 2250 | F14: 67.5 | G14: 1164.375 | H14: =E14+F14+G14 -> 3481.875 | I14: =ROUND((E14+F14+G14)*('[4]29_01_H_2020'!$O$9)*D14*12*(1+'[4]29_01_H_2020'!$O$24),2) -> 156001.39 | K14: Neatliekamās medicīnas ĀRSTS/anesteziologs-reanimatologs | L14: P 39 / P 18 | M14: Reģistrēta
A15: Intensīvās terapijas brigādes vadītājs - NM ārsts | B15: 2212 28 | C15: P 39 | D15: 42.75 | E15: 2000 | F15: 60 | G15: 1035 | H15: =E15+F15+G15 -> 3095 | I15: =ROUND((E15+F15+G15)*('[4]29_01_H_2020'!$O$9)*D15*12*(1+'[4]29_01_H_2020'!$O$24),2) -> 208001.86 | K15: Neatliekamās medicīnas ĀRSTS | L15: P 39 | M15: Reģistrēta
A16: Intensīvās terapijas brigādes vadītājs - ārsts (anesteziologs-reanimatologs) | B16: 2212 28 | C16: P 18 | D16: 4.75 | E16: 2250 | F16: 67.5 | G16: 1179.6975 | H16: =E16+F16+G16 -> 3497.1975 | I16: =ROUND((E16+F16+G16)*('[4]29_01_H_2020'!$O$9)*D16*12*(1+'[4]29_01_H_2020'!$O$24),2) -> 26114.65 | K16: ANESTEZIOLOGS, REANIMATOLOGS | L16: P 18 | M16: Reģistrēta
A17: Anesteziologs - reanimatologs | B17: 2212 05 | C17: P 18 | D17: 4.75 | E17: 2250 | F17: 67.5 | G17: 1164.375 | H17: =E17+F17+G17 -> 3481.875 | I17: =ROUND((E17+F17+G17)*('[4]29_01_H_2020'!$O$9)*D17*12*(1+'[4]29_01_H_2020'!$O$24),2) -> 26000.23 | K17: ANESTEZIOLOGS, REANIMATOLOGS | L17: P 18 | M17: Reģistrēta
A18: Bērnu IT brigādes anesteziologs-reanimatologs | B18: 2212 05 | C18: P 18 | D18: 4.75 | E18: 2250 | F18: 67.5 | G18: 1164.375 | H18: =E18+F18+G18 -> 3481.875 | I18: =ROUND((E18+F18+G18)*('[4]29_01_H_2020'!$O$9)*D18*12*(1+'[4]29_01_H_2020'!$O$24),2) -> 26000.23 | K18: ANESTEZIOLOGS, REANIMATOLOGS | L18: P 18 | M18: Reģistrēta
A19: Neonatologs | B19: 2212 76 | C19: A 151 | D19: 9.5 | E19: 2250 | F19: 67.5 | G19: 1164.375 | H19: =E19+F19+G19 -> 3481.875 | I19: =ROUND((E19+F19+G19)*('[4]29_01_H_2020'!$O$9)*D19*12*(1+'[4]29_01_H_2020'!$O$24),2) -> 52000.46 | K19: NEONATOLOGS | L19: A 151 | M19: Reģistrēta
A20: Anesteziologs - reanimatologs | B20: 2212 05 | C20: P 18 | D20: 4.75 | E20: 2900 | F20: 87 | G20: 203 | H20: =E20+F20+G20 -> 3190 | I20: =ROUND((E20+F20+G20)*('[4]29_01_H_2020'!$O$9)*D20*12*(1+'[4]29_01_H_2020'!$O$24),2) -> 23820.71 | K20: ANESTEZIOLOGS, REANIMATOLOGS | L20: P 18 | M20: Reģistrēta
A21: Apdegumu traumatologs | B21: 2212 58 | C21: PP 30 | D21: 4.75 | E21: 2900 | F21: 87 | G21: 203 | H21: =E21+F21+G21 -> 3190 | I21: =ROUND((E21+F21+G21)*('[4]29_01_H_2020'!$O$9)*D21*12*(1+'[4]29_01_H_2020'!$O$24),2) -> 23820.71 | K21: KOMBUSTIOLOGS | L21: PP 30 | M21: Reģistrēta
A22: Asinsvadu ķirurgs | B22: 2212 63 | C22: P 07 | D22: 4.75 | E22: 2900 | F22: 87 | G22: 203 | H22: =E22+F22+G22 -> 3190 | I22: =ROUND((E22+F22+G22)*('[4]29_01_H_2020'!$O$9)*D22*12*(1+'[4]29_01_H_2020'!$O$24),2) -> 23820.71 | K22: Asinsvadu ĶIRURGS | L22: P 07 | M22: Reģistrēta
A23: Bērnu ķirurgs | B23: 2212 64 | C23: P 12 | D23: 4.75 | E23: 2900 | F23: 87 | G23: 203 | H23: =E23+F23+G23 -> 3190 | I23: =ROUND((E23+F23+G23)*('[4]29_01_H_2020'!$O$9)*D23*12*(1+'[4]29_01_H_2020'!$O$24),2) -> 23820.71 | K23: Bērnu ĶIRURGS | L23: P 12 | M23: Reģistrēta
... A40: Ārsts konsultants | B40: 2212 28 | C40: P 01 / P 02 / P 18 / P 39 / P 52 | D40: 9 | E40: 2350 | F40: 70.5 | G40: 793.125 | H40: =E40+F40+G40 -> 3213.625 | I40: =ROUND((E40+F40+G40)*('[4]29_01_H_2020'!$O$9)*D40*12*(1+'[4]29_01_H_2020'!$O$24),2) -> 45468.24 | K40: Neatliekamās medicīnas ĀRSTS | L40: P 01 / P 02 / P 18 / P 39 / P 52 | M40: Reģistrēta
A41: Ģimenes ārstu konsultatīvā tāruņa konsultants (ārsts) / Ģimenes ārstu konsultatīvā tāruņa konsultants (ārsts, sertificēts) | B41: 2211 03 | C41: P 02 | D41: 1 | E41: 2255 | F41: 67.65 | G41: 761.0625 | H41: =E41+F41+G41 -> 3083.7125 | I41: =ROUND((E41+F41+G41)*('[4]29_01_H_2020'!$O$9)*D41*12*(1+'[4]29_01_H_2020'!$O$24),2) -> 4847.8 | L41: P 02 | M41: Reģistrēta
A42: Ģimenes ārstu konsultatīvā tāruņa konsultants (ārsts) | B42: 2211 03 | C42: P 02 | D42: 8 | E42: 2050 | F42: 61.5 | G42: 691.875 | H42: =E42+F42+G42 -> 2803.375 | I42: =ROUND((E42+F42+G42)*('[4]29_01_H_2020'!$O$9)*D42*12*(1+'[4]29_01_H_2020'!$O$24),2) -> 35256.7 | K42: Ģimenes/ vispārējās prakses ĀRSTS | L42: P 02 | M42: Reģistrēta
A43: Kardiologs - koordinators | B43: 2212 56 | C43: P 52 | D43: 1 | E43: 2450 | F43: 73.5 | G43: 73.5 | H43: =E43+F43+G43 -> 2597 | I43: =ROUND((E43+F43+G43)*('[4]29_01_H_2020'!$O$9)*D43*12*(1+'[4]29_01_H_2020'!$O$24),2) -> 4082.65 | K43: KARDIOLOGS | L43: P 52 | M43: Reģistrēta
A44: SMC Ārsts -Galvenais speciālists medicīniskās evakuācijas jautājumos | B44: 2212 05 | C44: P 01 - P 64 | D44: 0.75 | E44: 1640 | F44: 49.2 | G44: 49.2 | H44: =E44+F44+G44 -> 1738.4 | I44: =ROUND((E44+F44+G44)*('[4]29_01_H_2020'!$O$9)*D44*12*(1+'[4]29_01_H_2020'!$O$24),2) -> 2049.66 | K44: ANESTEZIOLOGS, REANIMATOLOGS | L44: P 01 - P 64 | M44: Reģistrēta
A45: Vecākais ārsts-eksperts | B45: 2212 11 | C45: P 13 | D45: 2 | E45: 1880 | F45: 56.4 | G45: 56.4 | H45: =E45+F45+G45 -> 1992.8 | I45: =ROUND((E45+F45+G45)*('[4]29_01_H_2020'!$O$9)*D45*12*(1+'[4]29_01_H_2020'!$O$24),2) -> 6265.62 | K45: ĀRSTS EKSPERTS | L45: P 13 | M45: Reģistrēta
A46: Ārsts-eksperts | B46: 2211 11 | C46: P 00 | D46: 1 | E46: 1850 | F46: 55.5 | G46: 55.5 | H46: =E46+F46+G46 -> 1961 | I46: =ROUND((E46+F46+G46)*('[4]29_01_H_2020'!$O$9)*D46*12*(1+'[4]29_01_H_2020'!$O$24),2) -> 3082.82 | K46: ĀRSTS EKSPERTS | L46: P 00 | M46: Reģistrēta
A47: Ārsts-eksperts | B47: 2212 11 | C47: P 00 | D47: 6 | E47: 1820 | F47: 54.6 | G47: 54.6 | H47: =E47+F47+G47 -> 1929.2 | I47: =ROUND((E47+F47+G47)*('[4]29_01_H_2020'!$O$9)*D47*12*(1+'[4]29_01_H_2020'!$O$24),2) -> 18196.96 | K47: ĀRSTS EKSPERTS | L47: P 00 | M47: Reģistrēta
A48: Neatliekamās medicīnas praktisko treniņu vadītājs (NM ārsts) | B48: 2212 28 | C48: P39 | D48: 3 | E48: 1900 | F48: 57 | H48: =E48+F48+G48 -> 1957 | I48: =ROUND((E48+F48+G48)*('[4]29_01_H_2020'!$O$9)*D48*12*(1+'[4]29_01_H_2020'!$O$24),2) -> 9229.59 | L48: P39
A49: 3.kategorija - Māsa (vispārējās aprūpes māsa), ārsta palīgs (feldšeris), vecmāte, biomedicīnas laborants, radiologa asistents, radiogrāfers | I49: =SUM(I50:I85) -> 2922299.1
A50: BAC vadītājs (NM ārsta palīgs) | B50: 3258 01 | C50: n74 | D50: 13 | E50: 2350 | F50: 70.5 | G50: 70.5 | H50: =E50+F50+G50 -> 2491 | I50: =ROUND((E50+F50+G50)*('[4]29_01_H_2020'!$O$13)*D50*12*(1+'[4]29_01_H_2020'!$O$24),2) -> 31217.28 | K50: Neatliekamās medicīnas ĀRSTS | L50: n74 | M50: Reģistrēta
A51: BAC galvenais ārsta palīgs | B51: 3258 01 | C51: n74 | D51: 8 | E51: 1960 | F51: 58.8 | G51: 58.8 | H51: =E51+F51+G51 -> 2077.6 | I51: =ROUND((E51+F51+G51)*('[4]29_01_H_2020'!$O$13)*D51*12*(1+'[4]29_01_H_2020'!$O$24),2) -> 16022.48 | K51: Neatliekamās medicīnas ĀRSTA PALĪGS/ FELDŠERIS | L51: n74 | M51: Reģistrēta
A52: BAC galvenais ārsta palīgs | B52: 3258 01 | C52: n74 | D52: 6 | E52: 2000 | F52: 60 | G52: 60 | H52: =E52+F52+G52 -> 2120 | I52: =ROUND((E52+F52+G52)*('[4]29_01_H_2020'!$O$13)*D52*12*(1+'[4]29_01_H_2020'!$O$24),2) -> 12262.11 | K52: Neatliekamās medicīnas ĀRSTA PALĪGS/ FELDŠERIS | L52: n74 | M52: Reģistrēta
A53: BAC vecākais ārsta palīgs | B53: 3258 01 | C53: n74 | D53: 6 | E53: 1830 | F53: 54.9 | G53: 54.9 | H53: =E53+F53+G53 -> 1939.8 | I53: =ROUND((E53+F53+G53)*('[4]29_01_H_2020'!$O$13)*D53*12*(1+'[4]29_01_H_2020'!$O$24),2) -> 11219.83 | K53: Neatliekamās medicīnas ĀRSTA PALĪGS/ FELDŠERIS | L53: n74 | M53: Reģistrēta
A54: RC galvenais ārsta palīgs | B54: 3258 01 | C54: n74 | D54: 6 | E54: 2050 | F54: 61.5 | G54: 61.5 | H54: =E54+F54+G54 -> 2173 | I54: =ROUND((E54+F54+G54)*('[4]29_01_H_2020'!$O$13)*D54*12*(1+'[4]29_01_H_2020'!$O$24),2) -> 12568.66 | K54: Neatliekamās medicīnas ĀRSTA PALĪGS/ FELDŠERIS | L54: n74 | M54: Reģistrēta
A55: Brigādes (2ĀPB) vadītājs - NM ārsta palīgs | B55: 3258 01 | C55: n74 | D55: 33.6 | E55: 1780 | F55: 53.4 | G55: 1116.95 | H55: =E55+F55+G55 -> 2950.35 | I55: =ROUND((E55+F55+G55)*('[4]29_01_H_2020'!$O$13)*D55*12*(1+'[4]29_01_H_2020'!$O$24),2) -> 95563.21 | K55: Neatliekamās medicīnas ĀRSTA PALĪGS/ FELDŠERIS | L55: n74 | M55: Reģistrēta
A56: Brigādes (2SP) vadītājs - NM ārsta palīgs | B56: 3258 01 | C56: n74 | D56: 43.1 | E56: 1515 | F56: 45.45 | G56: 1238.5125 | H56: =E56+F56+G56 -> 2798.9625 | I56: =ROUND((E56+F56+G56)*('[4]29_01_H_2020'!$O$13)*D56*12*(1+'[4]29_01_H_2020'!$O$24),2) -> 116292.65 | K56: Neatliekamās medicīnas ĀRSTA PALĪGS/ FELDŠERIS | L56: n74 | M56: Reģistrēta
A57: Brigādes vadītājs - NM ārsta palīgs | B57: 3258 01 | C57: n74 | D57: 653.15 | E57: 1515 | F57: 45.45 | G57: 784.0125 | H57: =E57+F57+G57 -> 2344.4625 | I57: =ROUND((E57+F57+G57)*('[4]29_01_H_2020'!$O$13)*D57*12*(1+'[4]29_01_H_2020'!$O$24),2) -> 1476162.5 | K57: Neatliekamās medicīnas ĀRSTA PALĪGS/ FELDŠERIS | L57: n74 | M57: Reģistrēta
A58: Brigādes (2ĀPB) otrā ārstniecības persona - NM ārsta palīgs | B58: 3258 01 | C58: n74 | D58: 3.2 | E58: 1330 | F58: 39.9 | G58: 794.675 | H58: =E58+F58+G58 -> 2164.575 | I58: =ROUND((E58+F58+G58)*('[4]29_01_H_2020'!$O$13)*D58*12*(1+'[4]29_01_H_2020'!$O$24),2) -> 6677.29 | K58: Neatliekamās medicīnas ĀRSTA PALĪGS/ FELDŠERIS | L58: n74 | M58: Reģistrēta
...

Sheet VM VADC MK851
H1: Pielikums Nr.1.8.
A2: Valsts asinsdonoru centra ārstniecības personu faktiskā darba samaksas pieaugums (MK noteikumi Nr.851)
I4: EUR
A5: Informācija par ārstniecības personām
A6: Ārstniecības personas amata kvalifikācijas kategorija | B6: Profesiju klasifikātora kods (atbilstoši MK noteikumiem Nr.264) | C6: Ārstniecības personas profesijas vai specialitātes kodu (atbilstoši MK noteikumiem Nr.317) | D6: Slodzes (strādājošo skaits normālā darba laika ietvaros) | E6: Faktiskā mēnešalgas likme par 1 (vienu) slodzi | F6: Palielinājums par darba stāžu | G6: Piemaksas | H6: Faktiskā darba samaksa (atalgojums par slodzi) mēnesī | I6: Darba samaksas pieaugums 2024.gadam, t.sk. 23.59%
K7: Pārbaude, atbilstība prof. klasifikatoram | L7: Ārstniecības personas profesijas vai specialitātes kodu (atbilstoši MK noteikumiem Nr.317) | M7: Reģistrācija Ārstniecības ietāžu reģistrā
A8: Valsts asinsdonoru centrs
A9: 39.03.00 Specializētās veselības aprūpes nodrošināšana, Asins un asins komponentu nodrošināšana
A10: I. Sertificētu ārstniecības personu amati | I10: =I11+I27 -> 101595.26
A11: 1.kategorija - Ārsts, zobārsts | I11: =SUM(I12:I26) -> 48410.69
A12: Transfuzioloģiskā departamenta direktors (ārsts) | B12: 134203 | C12: PP24 | D12: 1 | E12: 2526 | F12: 75.78 | G12: 105.25 | H12: =E12+F12+G12 -> 2707.03 | I12: =ROUND((E12+F12+G12)*('[4]29_01_H_2020'!$O$9)*D12*12*(1+'[4]29_01_H_2020'!$O$24),2) -> 4255.63 | L12: PP24 | M12: 10015701
A13: ASD Nodaļas vadītājs (virsārsts) | B13: 134203 | C13: PP24 | D13: 1 | E13: 2205 | F13: 66.15 | G13: 91.875 | H13: =E13+F13+G13 -> 2363.025 | I13: =ROUND((E13+F13+G13)*('[4]29_01_H_2020'!$O$9)*D13*12*(1+'[4]29_01_H_2020'!$O$24),2) -> 3714.83 | L13: PP24 | M13: 10015701
A14: LF vadītājs (virsārsts) | B14: 134203 | C14: PP24 | D14: 1 | E14: 2108 | F14: 63.24 | G14: 87.833333 | H14: =E14+F14+G14 -> 2259.0733 | I14: =ROUND((E14+F14+G14)*('[4]29_01_H_2020'!$O$9)*D14*12*(1+'[4]29_01_H_2020'!$O$24),2) -> 3551.41 | L14: PP24 | M14: 10015701
A15: KF vadītājs (virsārsts) | B15: 134203 | C15: PP24 | D15: 1 | E15: 2108 | F15: 63.24 | G15: 87.833333 | H15: =E15+F15+G15 -> 2259.0733 | I15: =ROUND((E15+F15+G15)*('[4]29_01_H_2020'!$O$9)*D15*12*(1+'[4]29_01_H_2020'!$O$24),2) -> 3551.41 | L15: PP24 | M15: 10015701
A16: ID nodaļas vadītājs (virsārsts) | B16: 134203 | C16: PP24 | D16: 1 | E16: 2108 | F16: 63.24 | G16: 87.833333 | H16: =E16+F16+G16 -> 2259.0733 | I16: =ROUND((E16+F16+G16)*('[4]29_01_H_2020'!$O$9)*D16*12*(1+'[4]29_01_H_2020'!$O$24),2) -> 3551.41 | L16: PP24 | M16: 10015701
A17: Ārsts Donoru nodaļa | B17: 221101 | C17: P01 | D17: 1 | E17: 1768 | F17: 53.04 | G17: 73.666667 | H17: =E17+F17+G17 -> 1894.7067 | I17: =ROUND((E17+F17+G17)*('[4]29_01_H_2020'!$O$9)*D17*12*(1+'[4]29_01_H_2020'!$O$24),2) -> 2978.6 | L17: P01 | M17: 10015701
A18: Ārsts Donoru nodaļa | B18: 221101 | C18: P53 | D18: 1 | E18: 1768 | F18: 53.04 | G18: 73.666667 | H18: =E18+F18+G18 -> 1894.7067 | I18: =ROUND((E18+F18+G18)*('[4]29_01_H_2020'!$O$9)*D18*12*(1+'[4]29_01_H_2020'!$O$24),2) -> 2978.6 | L18: P53 | M18: 10015701
A19: Ārsts Donoru nodaļa | B19: 221101 | C19: PP24/P01 | D19: 1 | E19: 1768 | F19: 53.04 | G19: 73.666667 | H19: =E19+F19+G19 -> 1894.7067 | I19: =ROUND((E19+F19+G19)*('[4]29_01_H_2020'!$O$9)*D19*12*(1+'[4]29_01_H_2020'!$O$24),2) -> 2978.6 | L19: PP24/P01 | M19: 10015701
A20: Ārsts Donoru nodaļa | B20: 221101 | C20: 0 | D20: 1 | E20: 1768 | F20: 53.04 | G20: 73.666667 | H20: =E20+F20+G20 -> 1894.7067 | I20: =ROUND((E20+F20+G20)*('[4]29_01_H_2020'!$O$9)*D20*12*(1+'[4]29_01_H_2020'!$O$24),2) -> 2978.6 | L20: 0 | M20: 10015701
A21: Ārsts E nodaļa | B21: 221101 | C21: PP24 | D21: 1 | E21: 1768 | F21: 53.04 | G21: 73.666667 | H21: =E21+F21+G21 -> 1894.7067 | I21: =ROUND((E21+F21+G21)*('[4]29_01_H_2020'!$O$9)*D21*12*(1+'[4]29_01_H_2020'!$O$24),2) -> 2978.6 | L21: PP24 | M21: 10015701
A22: Ārsts LF nodaļa | B22: 221101 | C22: PP24 | D22: 1 | E22: 1768 | F22: 53.04 | G22: 73.666667 | H22: =E22+F22+G22 -> 1894.7067 | I22: =ROUND((E22+F22+G22)*('[4]29_01_H_2020'!$O$9)*D22*12*(1+'[4]29_01_H_2020'!$O$24),2) -> 2978.6 | L22: PP24 | M22: 10015701
A23: Ārsts ID nodaļa | B23: 221101 | C23: P29 | D23: 1 | E23: 1768 | F23: 53.04 | G23: 73.666667 | H23: =E23+F23+G23 -> 1894.7067 | I23: =ROUND((E23+F23+G23)*('[4]29_01_H_2020'!$O$9)*D23*12*(1+'[4]29_01_H_2020'!$O$24),2) -> 2978.6 | L23: P29 | M23: 10015701
A24: Ārsts ID nodaļa | B24: 221101 | C24: PP24 | D24: 1 | E24: 1768 | F24: 53.04 | G24: 73.666667 | H24: =E24+F24+G24 -> 1894.7067 | I24: =ROUND((E24+F24+G24)*('[4]29_01_H_2020'!$O$9)*D24*12*(1+'[4]29_01_H_2020'!$O$24),2) -> 2978.6 | L24: PP24 | M24: 10015701
A25: Ārsts ID nodaļa | B25: 221101 | C25: PP24 | D25: 1 | E25: 1768 | F25: 53.04 | G25: 73.666667 | H25: =E25+F25+G25 -> 1894.7067 | I25: =ROUND((E25+F25+G25)*('[4]29_01_H_2020'!$O$9)*D25*12*(1+'[4]29_01_H_2020'!$O$24),2) -> 2978.6 | L25: PP24 | M25: 10015701
A26: Ārsts ID nodaļa | B26: 221101 | C26: PP24 | D26: 1 | E26: 1768 | F26: 53.04 | G26: 73.666667 | H26: =E26+F26+G26 -> 1894.7067 | I26: =ROUND((E26+F26+G26)*('[4]29_01_H_2020'!$O$9)*D26*12*(1+'[4]29_01_H_2020'!$O$24),2) -> 2978.6 | L26: PP24 | M26: 10015701
A27: 3.kategorija - Ārsta palīgs (feldšeris), vecmāte, biomedicīnas laborants, radiologa asistents, radiogrāfers | I27: =SUM(I28:I38) -> 53184.57
A28: Laboratoriju departamenta direktors (biomedicīnas laborants) | B28: 134204 | C28: n76 | D28: 1 | E28: 2393 | F28: 71.79 | G28: 99.708333 | H28: =E28+F28+G28 -> 2564.4983 | I28: =ROUND((E28+F28+G28)*('[4]29_01_H_2020'!$O$13)*D28*12*(1+'[4]29_01_H_2020'!$O$24),2) -> 2472.18 | L28: n76 | M28: 10015701
A29: Donoru nodaļas vadītājs (ārsta palīgs) | B29: 134204 | C29: n27 | D29: 1 | E29: 1992 | F29: 59.76 | G29: 83 | H29: =E29+F29+G29 -> 2134.76 | I29: =ROUND((E29+F29+G29)*('[4]29_01_H_2020'!$O$13)*D29*12*(1+'[4]29_01_H_2020'!$O$24),2) -> 2057.91 | L29: n27 | M29: 10015701
A30: KL Laboratorijas vadītājs (medicīnas laborants) | B30: 134204 | C30: n108 | D30: 1 | E30: 1847 | F30: 55.41 | G30: 76.958333 | H30: =E30+F30+G30 -> 1979.3683 | I30: =ROUND((E30+F30+G30)*('[4]29_01_H_2020'!$O$13)*D30*12*(1+'[4]29_01_H_2020'!$O$24),2) -> 1908.12 | L30: n108 | M30: 10015701
A31: Vecākais biomedicīnas laborants | B31: 321203 | C31: n76 | D31: 2 | E31: 1555 | F31: 46.65 | G31: 64.791667 | H31: =E31+F31+G31 -> 1666.4417 | I31: =ROUND((E31+F31+G31)*('[4]29_01_H_2020'!$O$13)*D31*12*(1+'[4]29_01_H_2020'!$O$24),2) -> 3212.91 | L31: n76 | M31: 10015701
A32: Biomedicīnas laborants | B32: 321203 | C32: n76 | D32: 9 | E32: 1458 | F32: 43.74 | G32: 60.75 | H32: =E32+F32+G32 -> 1562.49 | I32: =ROUND((E32+F32+G32)*('[4]29_01_H_2020'!$O$13)*D32*12*(1+'[4]29_01_H_2020'!$O$24),2) -> 13556.19 | L32: n76 | M32: 10015701
A33: Biomedicīnas laborants LF | B33: 321203 | C33: n76 | D33: 1.5 | E33: 1458 | F33: 43.74 | G33: 60.75 | H33: =E33+F33+G33 -> 1562.49 | I33: =ROUND((E33+F33+G33)*('[4]29_01_H_2020'!$O$13)*D33*12*(1+'[4]29_01_H_2020'!$O$24),2) -> 2259.37 | L33: n76 | M33: 10015701
A34: Medicīnas laborants | B34: 321202 | C34: n76 | D34: 1 | E34: 1458 | F34: 43.74 | G34: 60.75 | H34: =E34+F34+G34 -> 1562.49 | I34: =ROUND((E34+F34+G34)*('[4]29_01_H_2020'!$O$13)*D34*12*(1+'[4]29_01_H_2020'!$O$24),2) -> 1506.24 | L34: n76 | M34: 10015701
A35: Vecākais ārsta palīgs (feldšeris) DAD* | B35: 224001 | C35: n27 | D35: 1 | E35: 1604 | F35: 48.12 | G35: 179.11333 | H35: =E35+F35+G35 -> 1831.2333 | I35: =ROUND((E35+F35+G35)*('[4]29_01_H_2020'!$O$13)*D35*12*(1+'[4]29_01_H_2020'!$O$24),2) -> 1765.31 | L35: n27 | M35: 10015701
A36: Ārsta palīgs * | B36: 224001 | C36: n27 | D36: 12 | E36: 1555 | F36: 46.65 | G36: 173.64167 | H36: =E36+F36+G36 -> 1775.2917 | I36: =ROUND((E36+F36+G36)*('[4]29_01_H_2020'!$O$13)*D36*12*(1+'[4]29_01_H_2020'!$O$24),2) -> 20536.62 | L36: n27 | M36: 10015701
A37: Ārsta palīgs | B37: 224001 | C37: n27 | D37: 1.5 | E37: 1555 | F37: 46.65 | G37: 64.791667 | H37: =E37+F37+G37 -> 1666.4417 | I37: =ROUND((E37+F37+G37)*('[4]29_01_H_2020'!$O$13)*D37*12*(1+'[4]29_01_H_2020'!$O$24),2) -> 2409.68 | L37: n27 | M37: 10015701
A38: Ārsta palīgs KF (nesertificēts) | B38: 224001 | C38: n27 | D38: 1 | E38: 1452 | F38: 43.56 | G38: 60.5 | H38: =E38+F38+G38 -> 1556.06 | I38: =ROUND((E38+F38+G38)*('[4]29_01_H_2020'!$O$13)*D38*12*(1+'[4]29_01_H_2020'!$O$24),2) -> 1500.04 | L38: n27 | M38: 10015701
A39: II. Reģistrētu ārstniecības personu amati | I39: =I51+I40 -> 89998.97
A40: 3.kategorija - Fizioterapeits, audiologopēds, uztura speciālists, ergoterapeits, tehniskais ortopēds, mākslas terapeits, optometrists, māsa (vispārējās aprūpes māsa) | I40: =SUM(I41:I50) -> 68164.96
A41: Eksperts Asins dienestā (māsa) | B41: 242210 | C41: n120 | D41: 1 | E41: 1600 | F41: 48 | G41: 66.666667 | H41: =E41+F41+G41 -> 1714.6667 | I41: =ROUND((E41+F41+G41)*('[4]29_01_H_2020'!$O$13)*D41*12*(1+'[4]29_01_H_2020'!$O$24),2) -> 1652.94 | L41: n120 | M41: 10015701
...

Sheet VM VTMEC MK851
H1: Pielikums Nr.1.9.
A2: Valsts tiesu medicīnas ekspertīzes centra ārstniecības personu faktiskā darba samaksas pieaugums (MK noteikumi Nr.851)
I4: EUR
A5: Informācija par ārstniecības personām
A6: Ārstniecības personas amata kvalifikācijas kategorija | B6: Profesiju klasifikātora kods (atbilstoši MK noteikumiem Nr.264) | C6: Ārstniecības personas profesijas vai specialitātes kodu (atbilstoši MK noteikumiem Nr.317) | D6: Slodzes (strādājošo skaits normālā darba laika ietvaros) | E6: Faktiskā mēnešalgas likme par 1 (vienu) slodzi | F6: Palielinājums par darba stāžu | G6: Piemaksas | H6: Faktiskā darba samaksa (atalgojums par slodzi) mēnesī | I6: Darba samaksas pieaugums 2024.gadam, t.sk. 23.59%
K7: Pārbaude, atbilstība prof. klasifikatoram | L7: Ārstniecības personas profesijas vai specialitātes kodu (atbilstoši MK noteikumiem Nr.317) | M7: Reģistrācija Ārstniecības ietāžu reģistrā
A8: Valsts tiesu medicīnas ekspertīzes centrs
A9: 39.06.00 Tiesu medicīniskā ekspertīze
A10: I. Sertificētu ārstniecības personu amati | I10: =I11 -> 191079.02
A11: 1.kategorija - Ārsts, zobārsts | I11: =SUM(I12:I41) -> 191079.02
A12: Direktora vietnieks - vecākais tiesu medicīnas eksperts | B12: 121302 | C12: P34 | D12: 1 | E12: 3344 | F12: 133.76 | G12: 300.96 | H12: =E12+F12+G12 -> 3778.72 | I12: =ROUND((E12+F12+G12)*('[4]29_01_H_2020'!$O$9)*D12*12*(1+'[4]29_01_H_2020'!$O$24),2) -> 5940.39 | K12: Pārvaldes DIREKTORA VIETNIEKS (valsts pārvaldes jomā) | L12: P34 | M12: Reģistrēta
A13: Tiesu medicīnas ekspertīžu departamenta direktors - vecākais tiesu medicīnas eksperts | B13: 121305 | C13: P34 | D13: 1 | E13: 2903 | F13: 232.24 | G13: 319.33 | H13: =E13+F13+G13 -> 3454.57 | I13: =ROUND((E13+F13+G13)*('[4]29_01_H_2020'!$O$9)*D13*12*(1+'[4]29_01_H_2020'!$O$24),2) -> 5430.81 | K13: Pamatdarbības struktūrvienības VADĪTĀJS/ DIREKTORS (valsts pārvaldes jomā) | L13: P34 | M13: Reģistrēta
A14: Tiesu medicīnas laboratoriju departamenta direktors - vecākais tiesu medicīnas eksperts | B14: 121305 | C14: P34 | D14: 1 | E14: 2758 | F14: 110.32 | G14: 303.38 | H14: =E14+F14+G14 -> 3171.7 | I14: =ROUND((E14+F14+G14)*('[4]29_01_H_2020'!$O$9)*D14*12*(1+'[4]29_01_H_2020'!$O$24),2) -> 4986.12 | K14: Pamatdarbības struktūrvienības VADĪTĀJS/ DIREKTORS (valsts pārvaldes jomā) | L14: P34 | M14: Reģistrēta
A15: Nodaļas vadītājs - vecākais tiesu medicīnas eksperts | B15: 221239 | C15: P34 | D15: 1 | E15: 2614 | F15: 104.56 | G15: 392.1 | H15: =E15+F15+G15 -> 3110.66 | I15: =ROUND((E15+F15+G15)*('[4]29_01_H_2020'!$O$9)*D15*12*(1+'[4]29_01_H_2020'!$O$24),2) -> 4890.16 | K15: Tiesu medicīnas EKSPERTS | L15: P34 | M15: Reģistrēta
A16: Nodaļas vadītājs - vecākais tiesu medicīnas eksperts | B16: 221239 | C16: P34 | D16: 1 | E16: 2614 | F16: 52.28 | G16: 235.26 | H16: =E16+F16+G16 -> 2901.54 | I16: =ROUND((E16+F16+G16)*('[4]29_01_H_2020'!$O$9)*D16*12*(1+'[4]29_01_H_2020'!$O$24),2) -> 4561.41 | K16: Tiesu medicīnas EKSPERTS | L16: P34 | M16: Reģistrēta
A17: Nodaļas vadītājs - vecākais tiesu medicīnas eksperts | B17: 221239 | C17: P34 | D17: 1 | E17: 2325 | F17: 116.25 | G17: 302.25 | H17: =E17+F17+G17 -> 2743.5 | I17: =ROUND((E17+F17+G17)*('[4]29_01_H_2020'!$O$9)*D17*12*(1+'[4]29_01_H_2020'!$O$24),2) -> 4312.96 | K17: Tiesu medicīnas EKSPERTS | L17: P34 | M17: Reģistrēta
A18: Nodaļas vadītājs - vecākais tiesu medicīnas eksperts | B18: 221239 | C18: P34 | D18: 2 | E18: 2325 | F18: 93 | G18: 302.25 | H18: =E18+F18+G18 -> 2720.25 | I18: =ROUND((E18+F18+G18)*('[4]29_01_H_2020'!$O$9)*D18*12*(1+'[4]29_01_H_2020'!$O$24),2) -> 8552.82 | K18: Tiesu medicīnas EKSPERTS | L18: P34 | M18: Reģistrēta
A19: Nodaļas vadītājs - vecākais tiesu medicīnas eksperts | B19: 221239 | C19: P34 | D19: 2 | E19: 2325 | F19: 69.75 | G19: 302.25 | H19: =E19+F19+G19 -> 2697 | I19: =ROUND((E19+F19+G19)*('[4]29_01_H_2020'!$O$9)*D19*12*(1+'[4]29_01_H_2020'!$O$24),2) -> 8479.72 | K19: Tiesu medicīnas EKSPERTS | L19: P34 | M19: Reģistrēta
A20: Nodaļas vadītājs - vecākais tiesu medicīnas eksperts | B20: 221239 | C20: P34 | D20: 1 | E20: 2325 | F20: 23.25 | G20: 302.25 | H20: =E20+F20+G20 -> 2650.5 | I20: =ROUND((E20+F20+G20)*('[4]29_01_H_2020'!$O$9)*D20*12*(1+'[4]29_01_H_2020'!$O$24),2) -> 4166.76 | K20: Tiesu medicīnas EKSPERTS | L20: P34 | M20: Reģistrēta
A21: Nodaļas vadītājs - vecākais tiesu medicīnas eksperts | B21: 221239 | C21: P34 | D21: 1 | E21: 2036 | F21: 81.44 | G21: 264.68 | H21: =E21+F21+G21 -> 2382.12 | I21: =ROUND((E21+F21+G21)*('[4]29_01_H_2020'!$O$9)*D21*12*(1+'[4]29_01_H_2020'!$O$24),2) -> 3744.85 | K21: Tiesu medicīnas EKSPERTS | L21: P34 | M21: Reģistrēta
A22: Laboratorijas vadītājs, vecākais tiesu medicīnas eksperts | B22: 221239 | C22: P34 | D22: 1 | E22: 2325 | F22: 116.25 | G22: 255.75 | H22: =E22+F22+G22 -> 2697 | I22: =ROUND((E22+F22+G22)*('[4]29_01_H_2020'!$O$9)*D22*12*(1+'[4]29_01_H_2020'!$O$24),2) -> 4239.86 | K22: Tiesu medicīnas EKSPERTS | L22: P34 | M22: Reģistrēta
A23: Laboratorijas vadītājs, vecākais tiesu medicīnas eksperts | B23: 221239 | C23: P34 | D23: 1 | E23: 2325 | F23: 116.25 | G23: 302.25 | H23: =E23+F23+G23 -> 2743.5 | I23: =ROUND((E23+F23+G23)*('[4]29_01_H_2020'!$O$9)*D23*12*(1+'[4]29_01_H_2020'!$O$24),2) -> 4312.96 | K23: Tiesu medicīnas EKSPERTS | L23: P34 | M23: Reģistrēta
... A41: Speciālists- tiesu medicīnas eksperts | B41: 221239 | C41: P34 | D41: 2 | E41: 1930 | F41: 0 | G41: 212.3 | H41: =E41+F41+G41 -> 2142.3 | I41: =ROUND((E41+F41+G41)*('[4]29_01_H_2020'!$O$9)*D41*12*(1+'[4]29_01_H_2020'!$O$24),2) -> 6735.67 | K41: Tiesu medicīnas EKSPERTS | L41: P34 | M41: Reģistrēta
A42: Kopā | D42: =SUM(D12:D41) -> 49 | E42: X | F42: X | G42: X | I42: =+I10 -> 191079.02

Sheet LM_līgumorg_851
J1: Pielikums Nr.1.10.
B2: Labklājības ministrijas ārstniecības personu faktiskā darba samaksa par slodzi atbilstoši MK noteikumiem Nr. 851
B4: Informācija par ārstniecības personām
B5: Ārstniecības personas amata kvalifikācijas kategorija | C5: Profesiju klasifikātora kods (atbilstoši MK noteikumiem Nr.264) | D5: Ārstniecības personas profesijas vai specialitātes kodu (atbilstoši MK noteikumiem Nr.317) | E5: Slodzes (strādājošo skaits normālā darba laika ietvaros) | F5: Faktiskā mēnešalgas likme par 1 (vienu) slodzi | G5: Palielinājums par darba stāžu | H5: Piemaksas | I5: Faktiskā darba samaksa (atalgojums par slodzi) mēnesī | J5: Darba samaksas pieaugums 2024.gadam, t.sk. 23.59%
B7: 05.01.00 "Sociālās rehabilitācijas valsts programmas"
B8: VSIA "Nacionālais rehabilitācijas centrs "Vaivari" (28.01.2020. līgums Nr.LM2020/24-1-04/1e par personu nodrošināšanu ar tehniskajiem palīglīdzekļiem)
B9: I. Sertificētu ārstniecības personu amati | E9: =E10+E14+E34+E38 -> 16.3 | F9: =F10+F14+F34+F38 -> 38070 | G9: =G10+G14+G34+G38 -> 649.75 | H9: =H10+H14+H34+H38 -> 0 | I9: =I10+I14+I34+I38 -> 38719.75
B10: 1.kategorija - Ārsts, zobārsts | E10: =SUM(E11:E13) -> 2.5 | F10: =SUM(F11:F13) -> 6870 | G10: =SUM(G11:G13) -> 160.3 | H10: =SUM(H11:H13) -> 0 | I10: =SUM(I11:I13) -> 7030.3
B11: Ārsts konsultants | C11: 2212 61 | D11: P03 | E11: 0.5 | F11: 2290 | G11: 91.6 | H11: 0 | I11: 2381.6 | J11: =ROUND((F11+G11+H11)*('[4]29_01_H_2020'!$O$9)*E11*12*(1+'[4]29_01_H_2020'!$O$24),2) -> 1872.01
B12: Fizikālās un rehabilitācijas medicīnas ārsts | C12: 2212 17 | D12: P54 | E12: 1.3 | F12: 2290 | G12: 68.7 | H12: 0 | I12: 2358.7 | J12: =ROUND((F12+G12+H12)*('[4]29_01_H_2020'!$O$9)*E12*12*(1+'[4]29_01_H_2020'!$O$24),2) -> 4820.44
B13: Fizikālās un rehabilitācijas medicīnas ārsts | C13: 2212 17 | D13: P54 | E13: 0.7 | F13: 2290 | G13: 0 | H13: 0 | I13: 2290 | J13: =ROUND((F13+G13+H13)*('[4]29_01_H_2020'!$O$9)*E13*12*(1+'[4]29_01_H_2020'!$O$24),2) -> 2520.02
B14: 2.kategorija - Fizioterapeits, audiologopēds, uztura speciālists, ergoterapeits, tehniskais ortopēds, mākslas terapeits, optometrists | E14: =SUM(E15:E33) -> 13.8 | F14: =SUM(F15:F33) -> 31200 | G14: =SUM(G15:G33) -> 489.45 | H14: =SUM(H15:H33) -> 0 | I14: =SUM(I15:I33) -> 31689.45
B15: Galvenais ergoterapeits (sertificēts) | C15: 2264 04 | D15: T02 | E15: 0.5 | F15: 1970 | G15: 157.6 | H15: 0 | I15: 2127.6 | J15: =ROUND((F15+G15+H15)*('[4]29_01_H_2020'!$O$9)*E15*12*(1+'[4]29_01_H_2020'!$O$24),2) -> 1672.36
B16: Galvenais ergoterapeits (sertificēts) | C16: 2264 04 | D16: T02 | E16: 0.5 | F16: 1970 | G16: 0 | H16: 0 | I16: 1970 | J16: =ROUND((F16+G16+H16)*('[4]29_01_H_2020'!$O$9)*E16*12*(1+'[4]29_01_H_2020'!$O$24),2) -> 1548.48
B17: Ergoterapeits (sertificēts) | C17: 2264 04 | D17: T02 | E17: 1 | F17: 1665 | G17: 99.9 | H17: 0 | I17: 1764.9 | J17: =ROUND((F17+G17+H17)*('[4]29_01_H_2020'!$O$9)*E17*12*(1+'[4]29_01_H_2020'!$O$24),2) -> 2774.54
B18: Ergoterapeits (sertificēts) | C18: 2264 04 | D18: T02 | E18: 1 | F18: 1665 | G18: 0 | H18: 0 | I18: 1665 | J18: =ROUND((F18+G18+H18)*('[4]29_01_H_2020'!$O$9)*E18*12*(1+'[4]29_01_H_2020'!$O$24),2) -> 2617.49
