Workbook

Sheet 29_01_H_2020
A1: A | K1: F | L1: G
O8: Pieaugums (%)
J10: Darba samaksas pieaugums Ārsti un funkcionālie speciālisti | O10: 0.044 | P10: Ārsti | S10: Šos darba samaksas pieauguma procentus šeit var mainīt/modelēt, bet tie koriģēsies TIKAI padotības iestādēm un citām ministrijām!!! Mainot pieauguma % rezidentiem un tarifiem, viss jāpārrēķina manuāli.
J14: Darba samaksas pieaugums Ārstniecības un pacientu aprūpes personas | O14: 0.0474 | P14: Māsas
J17: Darba samaksas pieaugums Ārstniecības un pacientu aprūpes atbalsta pesonas | O17: 0 | P17: Pārējās māsas
K25: VSAOI jaunais nodoklis | O25: 0.2359

Sheet KOPSAVILKUMS
C1: Pielikums Nr.1
A2: Aprēķins ārstniecības personu darba samaksas pieaugumam no 01.01.2024 - finansiālā ietekme uz MK noteikumiem Nr.851 2024.gadam un turpmāk ik gadu
A4: Resori/budžeta programmas (apakšprogrammas) | B4: Nepieciešamas papildus finansējums ārstniecības personu darba samaksas pieauguma nodrošināšanai 2024.-2026.gadā ik gadu, euro
A5: KOPĀ | B5: =B6+B30 -> 63484386
A6: Veselības ministrija | B6: =B7+B9+B11+B13+B15+B17+B19+B21+B24+B26+B28 -> 62100311
A7: 02.04.00 "Rezidentu apmācība" | B7: =B8 -> 3559713
A8: EKK 7470 | B8: ='rezidenti_fin (valsts_apmaks)'!M19+'rezidenti_fin (maksas)'!K22 -> 3559713
A9: 33.12.00 "Reto slimību ārstēšana " | B9: =B10 -> 7823
A10: EKK 3000 | B10: ='caur tarifiem'!E35 -> 7823
A11: 33.14.00 "Primārās ambulatorās veselības aprūpes nodrošināšana" | B11: =B12 -> 8446369
A12: EKK 3000 | B12: ='caur tarifiem'!E36 -> 8446369
A13: 33.15.00 "Laboratorisko izmeklējumu nodrošināšana ambulatorajā aprūpē" | B13: =B14 -> 1096382
A14: EKK 3000 | B14: ='caur tarifiem'!E37 -> 1096382
A15: 33.16.00 "Pārējo ambulatoro veselības aprūpes pakalpojumu nodrošināšana" | B15: =B16 -> 14212943
A16: EKK 3000 | B16: ='caur tarifiem'!E38 -> 14212943
A17: 33.17.00 "Neatliekamās medicīniskās palīdzības nodrošināšana stacionārās ārstniecības iestādēs" | B17: =B18 -> 17875318
A18: EKK 3000 | B18: ='caur tarifiem'!E39 -> 17875318
A19: 33.18.00 "Plānveida stacionāro veselības aprūpes pakalpojumu nodrošināšana" | B19: =B20 -> 9850549
A20: EKK 3000 | B20: ='caur tarifiem'!E40 -> 9850549
A21: 39.03.00 "Asins un asins komponentu nodrošināšana" | B21: =B22+B23 -> 233172
A22: EKK 1000 | B22: =ROUND('VM VADC MK851'!I62,0) -> 200491
A23: EKK 2000 | B23: =ROUND('VM VADC MK851'!I75,0) -> 32681
A24: 39.04.00 "Neatliekamā medicīniskā palīdzība" | B24: =B25 -> 6608194
A25: EKK 1000 | B25: =ROUND('VM NMPD MK851'!I111,0) -> 6608194
A26: 39.06.00 "Tiesu medicīniskā ekspertīze" | B26: =B27 -> 191079
A27: EKK 1000 | B27: =ROUND('VM VTMEC MK851'!I42,0) -> 191079
A28: 45.01.00 "Veselības aprūpes finansējuma administrēšana un ekonomiskā novērtēšana" | B28: =B29 -> 18769
A29: EKK 3000 | B29: ='caur tarifiem'!E41 -> 18769
A30: citas ministrijas t.sk. 62.resors | B30: =B31+B34+B41+B44 -> 1384075
A31: Aizsardzības ministrija | B31: =B32 -> 182891
A32: 22.10.00 "Starptautisko operāciju un Nacionālo bruņoto spēku centralizētais atalgojums" | B32: =B33 -> 182891
A33: EKK 1000 | B33: =ROUND('Pārējās ministrijas MK851'!I247,0) -> 182891
A34: Labklājības ministrija | B34: =B35+B37+B39 -> 863517
A35: 05.03.00 "Aprūpe valsts sociālās aprūpes institūcijās" | B35: =B36 -> 534099
A36: EKK 1000 | B36: =ROUND(LM_līgumorg_851!J417,0) -> 534099
A37: 05.37.00 "Sociālās integrācijas valsts aģentūras administrēšana un profesionālās un sociālās rehabilitācijas pakalpojumu nodrošināšana" | B37: =B38 -> 108371
A38: EKK 1000 | B38: =ROUND(LM_līgumorg_851!J447,0) -> 108371
A39: Labklājības ministrijas līgumorganizācijas 05.01.00 "Sociālās rehabilitācijas valsts programmas" | B39: =B40 -> 221047
A40: EKK 3000 | B40: =ROUND(LM_līgumorg_851!J213,0) -> 221047
A41: Tieslietu ministrija | B41: =B42 -> 275700
A42: 04.01.00 "Ieslodzījuma vietas" | B42: =B43 -> 275700
A43: EKK 1000 | B43: =ROUND('Pārējās ministrijas MK851'!I144,0) -> 275700
A44: Iekšlietu ministrija | B44: =B45+B47 -> 61967
A45: 10.00.00 "Valsts robežsardzes darbība" | B45: =B46 -> 5929
A46: EKK 1000 | B46: =ROUND('Pārējās ministrijas MK851'!I255,0) -> 5929
A47: 38.05.00 "Veselības aprūpe un fiziskā sagatavotība" | B47: =B48 -> 56038
A48: EKK 2000 | B48: =ROUND(IEM_kapitsab_851!J52,0) -> 56038

Sheet caur tarifiem
K1: Pielikums Nr.1.1.
B3: Ārstniecības personu zemāko mēnešalgu izmaiņas no 2024.gada 1.janvāra (finansējums 2024.gadam un turpmāk ik gadu)
B6: ='[2]1.v. - ņemam mērķa DS un 60-40'!D39 -> 1.106 | C6: 1.5038
B7: ='[2]1.v. - ņemam mērķa DS un 60-40'!D40 -> 1.065 | C7: 1.5038
B8: ='[2]1.v. - ņemam mērķa DS un 60-40'!D41 -> 1.069 | C8: 1.5038
B9: Ārstniecības personas amata kvalifikācijas kategorija | D9: Slodzes (strādājošo skaits normālā darba laika ietvaros) | E9: Zemākā mēnešalgas likme par slodzi (atbilstoši MK not. Nr.851) | F9: Amatalga pēc izmaiņām | G9: Starpība, EUR | H9: Darba samaksa atbilstoši slodzēm | I9: Plus 50,38% piemaksām | J9: Kopā ar Sociālo nodokli | L9: Amatalgas pieaugums % 2024.gads/ 2023.gadu
B12: Ārsti un funkcionālie speciālisti
D13: =D14+D15+D16 -> 7818.003
B14: 1 (6) | D14: 6069.62 | E14: 1639 | F14: =ROUND(E14*$B$6,0) -> 1813 | G14: =F14-E14 -> 174 | H14: =ROUND(G14*D14*12,0) -> 12673367 | I14: =ROUND(H14*$C$6,0) -> 19058209 | J14: =ROUND(I14*1.2359,0) -> 23554041 | L14: =F14/E14-1 -> 0.10616229
B15: 2 (7) | D15: =599.43+1040.383 -> 1639.813 | E15: 1453 | F15: =ROUND(E15*$B$6,0) -> 1607 | G15: =F15-E15 -> 154 | H15: =ROUND(G15*D15*12,0) -> 3030374 | I15: =ROUND(H15*$C$6,0) -> 4557076 | J15: =ROUND(I15*1.2359,0) -> 5632090 | L15: =F15/E15-1 -> 0.10598761
B16: 3 (8) | D16: =108.57 -> 108.57 | E16: 1116 | F16: =ROUND(E16*$B$7,0) -> 1189 | G16: =F16-E16 -> 73 | H16: =ROUND(G16*D16*12,0) -> 95107 | I16: =ROUND(H16*$C$6,0) -> 143022 | J16: =ROUND(I16*1.2359,0) -> 176761 | L16: =F16/E16-1 -> 0.065412186
B17: Ārstniecības un pacientu aprūpes personas | G17: 71 | L17: =F17/E17-1 -> #DIV/0!
D18: =D19+D20+D21 -> 11316.151
B19: 3 (8) | D19: 10970.186 | E19: 1116 | F19: =ROUND(E19*$B$7,0) -> 1189 | G19: =F19-E19 -> 73 | H19: =ROUND(G19*D19*12,0) -> 9609883 | I19: =ROUND(H19*$C$7,0) -> 14451342 | J19: =ROUND(I19*1.2359,0) -> 17860414 | L19: =F19/E19-1 -> 0.065412186
B20: 4 (9) | D20: 301 | E20: 992 | F20: =ROUND(E20*$B$7,0) -> 1056 | G20: =F20-E20 -> 64 | H20: =ROUND(G20*D20*12,0) -> 231168 | I20: =ROUND(H20*$C$7,0) -> 347630 | J20: =ROUND(I20*1.2359,0) -> 429636 | L20: =F20/E20-1 -> 0.064516129
B21: 5 (11) | D21: 44.965 | E21: 893 | F21: =ROUND(E21*$B$7,0) -> 951 | G21: =F21-E21 -> 58 | H21: =ROUND(G21*D21*12,0) -> 31296 | I21: =ROUND(H21*$C$7,0) -> 47063 | J21: =ROUND(I21*1.2359,0) -> 58165 | L21: =F21/E21-1 -> 0.064949608
B22: Ārstniecības un pacientu aprūpes atbalsta personas | L22: =F22/E22-1 -> #DIV/0!
D23: =D24 -> 3040.207
B24: 6 (13) | D24: 3040.207 | E24: 807 | F24: =ROUND(E24*B8,0) -> 863 | G24: =F24-E24 -> 56 | H24: =ROUND(G24*D24*12,0) -> 2043019 | I24: =ROUND(H24*$C$8,0) -> 3072292 | J24: =ROUND(I24*1.2359,0) -> 3797046 | L24: =F24/E24-1 -> 0.069392813
B25: KOPĀ Ārstniecības personas | D25: =SUM(D23+D18+D13) -> 22174.361 | H25: =H14+H15+H16+H19+H20+H21+H24 -> 27714214 | I25: =I14+I15+I16+I19+I20+I21+I24 -> 41676634 | J25: =J14+J15+J16+J19+J20+J21+J24 -> 51508153
B27: Pārējā personāla zemāko mēnešalgu izmaiņas no 2024.gada
B29: Ārstniecības personas amata kvalifikācijas kategorija | C29: Slodzes (strādājošo skaits normālā darba laika ietvaros) | G29: darba samaksas pieaugums, EUR | H29: Darba samaksa atbilstoši slodzēm | J29: Kopā ar Sociālo nodokli
B31: Pārējam personālam | C31: 10822.518 | G31: 40 | H31: =ROUND(G31*C31*12,0) -> 5194809 | J31: =ROUND(H31*1.2359,0) -> 6420264
B33: Finansējuma sadalījums pa budžeta apakšprogrammām 2024.gadā un turpmāk ik gadu
E34: Papildus finansējums prioritārā pasākumam "Ārstniecības personu darba samaksas pieauguma nodrošināšana" ietvaros
B35: =[3]kopsavilkums!A10 -> 33.12.00 "Reto slimību ārstēšana" | E35: 7823
B36: =[3]kopsavilkums!A12 -> 33.14.00 "Primārās ambulatorās veselības aprūpes nodrošināšana" | E36: 8446369
B37: =[3]kopsavilkums!A14 -> 33.15.00 "Laboratorisko izmeklējumu nodrošināšana ambulatorajā aprūpē" | E37: 1096382
B38: =[3]kopsavilkums!A16 -> 33.16.00 "Pārējo ambulatoro veselības aprūpes pakalpojumu nodrošināšana" | E38: 14212943
B39: =[3]kopsavilkums!A18 -> 33.17.00 "Neatliekamās medicīniskās palīdzības nodrošināšana stacionārās ārstniecības iestādēs" | E39: 17875318
B40: =[3]kopsavilkums!A20 -> 33.18.00 "Plānveida stacionāro veselības aprūpes pakalpojumu nodrošināšana" | E40: 9850549
B41: =[3]kopsavilkums!A29 -> 45.01.00 "Veselības aprūpes finansējuma administrēšana un ekonomiskā novērtēšana" | E41: 18769
B42: Kopā | E42: =SUM(E35:E41) -> 51508153

Sheet rezidenti_algas (valsts_apmaks)
L1: Pielikums Nr.1.2.
A2: Nepieciešamais finanšu līdzekļu apmērs viena valsts apmaksāta rezidenta apmācībai, euro
C4: No 2023.gada 1.aprīļa - finanšu līdzekļu apmērs viena rezidenta apmācībai pirmajā un otrajā rezidentūras gadā pamatspecialitātē | F4: No 2023.gada 1.aprīļa - finanšu līdzekļu apmērs viena rezidenta apmācībai no trešā rezidentūras gada pamatspecialitātē un no pirmā rezidentūras gada papildspecialitātē un apakšspecialitātē | I4: No 2024.gada - finanšu līdzekļu apmērs viena rezidenta apmācībai pirmajā un otrajā rezidentūras gadā pamatspecialitātē - ar pieaugumu | L4: No 2024.gada - finanšu līdzekļu apmērs viena rezidenta apmācībai no trešā rezidentūras gada pamatspecialitātē un no pirmā rezidentūras gada papildspecialitātē un apakšspecialitātē - ar pieaugumu
A5: Nr.p.k. | C5: Pārējās ārstniecības iestādēs (t.sk. budžeta iestādēs) | D5: Reģionālajā daudzprofilu slimnīcā vai ģimenes (vispārējās prakses) ārsta praksē ārpus Rīgas | F5: Pārējās ārstniecības iestādēs (t.sk. budžeta iestādēs) | G5: Reģionālajā daudzprofilu slimnīcā vai ģimenes (vispārējās prakses) ārsta praksē ārpus Rīgas | I5: Pārējās ārstniecības iestādēs (t.sk. budžeta iestādēs) | J5: Reģionālajā daudzprofilu slimnīcā vai ģimenes (vispārējās prakses) ārsta praksē ārpus Rīgas | L5: Pārējās ārstniecības iestādēs (t.sk. budžeta iestādēs) | M5: Reģionālajā daudzprofilu slimnīcā vai ģimenes (vispārējās prakses) ārsta praksē ārpus Rīgas
B6: Kopā | C6: =C7+C8 -> 2724.3131 | D6: =D7+D8 -> 3414 | F6: =F7+F8 -> 2954.2014 | G6: =G7+G8 -> 3712.85 | I6: =I7+I8 -> 2968.0019 | J6: =J7+J8 -> 3730.78 | L6: =L7+L8 -> 3222.2471 | M6: =M7+M8 -> 4061.32
A7: 1. | B7: Augstskolas izdevumi | C7: 108.14 | D7: 108.14 | F7: 108.14 | G7: 108.14 | I7: 108.14 | J7: 108.14 | L7: 108.14 | M7: 108.14
A8: 2. | B8: Ārstniecības iestādes izdevumi | C8: =C9+C14 -> 2616.1731 | D8: =D9+D14 -> 3305.86 | F8: =F9+F14 -> 2846.0614 | G8: =G9+G14 -> 3604.71 | I8: =I9+I14 -> 2859.8619 | J8: =J9+J14 -> 3622.64 | L8: =L9+L14 -> 3114.1071 | M8: =M9+M14 -> 3953.18
A9: 2.1. | B9: Rezidenta atlīdzība | C9: =C10+C13 -> 2298.8731 | D9: =D10+D13 -> 2988.56 | F9: =F10+F13 -> 2528.7614 | G9: =G10+G13 -> 3287.41 | I9: =I10+I13 -> 2542.5619 | J9: =J10+J13 -> 3305.34 | L9: =L10+L13 -> 2796.8071 | M9: =M10+M13 -> 3635.88
A10: 2.1.1. | B10: Atalgojums | C10: =C11+C12 -> 1860.0831 | D10: =D11+D12 -> 2418.12 | F10: =F11+F12 -> 2046.0914 | G10: =G11+G12 -> 2659.93 | I10: =I11+I12 -> 2057.2519 | J10: =J11+J12 -> 2674.44 | L10: =L11+L12 -> 2262.9771 | M10: =M11+M12 -> 2941.89
A11: 2.1.1.1. | B11: t.sk. amatalga | C11: 1576.3416 | D11: 2049.25 | F11: 1733.9758 | G11: 2254.17 | I11: 1743.4338 | J11: 2266.47 | L11: 1917.7772 | M11: 2493.12
A12: 2.1.1.2. | B12: t.sk. pārējie izdevumi rezidentu atlīdzībai - samaksa par dežūru stundām virs normālā darba laika (24 h mēnesī), piemaksas par nakts dežūrām, svētku dienām, mājas dežūrām un darba samaksas mainīgajai daļai | C12: 283.74149 | D12: 368.87 | F12: 312.11564 | G12: 405.76 | I12: 313.81809 | J12: 407.97 | L12: 345.1999 | M12: 448.77
A13: 2.1.2. | B13: VSAOI | C13: 438.79 | D13: 570.44 | F13: 482.67 | G13: 627.48 | I13: 485.31 | J13: 630.9 | L13: 533.83 | M13: 693.99
A14: 2.2. | B14: Rezidentu teorētisko un praktisko apmācību saistīto izdevumu apmaksai ārstniecības iestādē | C14: =C15+C22 -> 317.3 | D14: =D15+D22 -> 317.3 | F14: =F15+F22 -> 317.3 | G14: =G15+G22 -> 317.3 | I14: =I15+I22 -> 317.3 | J14: =J15+J22 -> 317.3 | L14: =L15+L22 -> 317.3 | M14: =M15+M22 -> 317.3
A15: 2.2.1. | B15: Ārstu un cita mācību personāla atlīdzībai | C15: =C16+C19 -> 286 | D15: =D16+D19 -> 286 | F15: =F16+F19 -> 286 | G15: =G16+G19 -> 286 | I15: =I16+I19 -> 286 | J15: =J16+J19 -> 286 | L15: =L16+L19 -> 286 | M15: =M16+M19 -> 286
A16: 2.2.1.1. | B16: Ārstu un cita mācību personāla atlīdzībai par rezidentu teorētisko un praktisko apmācību | C16: =C17+C18 -> 254.69 | D16: =D17+D18 -> 254.69 | F16: =F17+F18 -> 254.69 | G16: =G17+G18 -> 254.69 | I16: =I17+I18 -> 254.69 | J16: =J17+J18 -> 254.69 | L16: =L17+L18 -> 254.69 | M16: =M17+M18 -> 254.69
A17: 2.2.1.1.1. | B17: t.sk. atalgojums | C17: 206.08 | D17: 206.08 | F17: 206.08 | G17: 206.08 | I17: 206.08 | J17: 206.08 | L17: 206.08 | M17: 206.08
A18: 2.2.1.1.2. | B18: t.sk. VSAOI | C18: 48.61 | D18: 48.61 | F18: 48.61 | G18: 48.61 | I18: 48.61 | J18: 48.61 | L18: 48.61 | M18: 48.61
A19: 2.2.1.2. | B19: Ārstu atlīdzībai, kas atbildīgi par rezidentūras organizāciju (atalgojums un VSAOI) | C19: =C20+C21 -> 31.31 | D19: =D20+D21 -> 31.31 | F19: =F20+F21 -> 31.31 | G19: =G20+G21 -> 31.31 | I19: =I20+I21 -> 31.31 | J19: =J20+J21 -> 31.31 | L19: =L20+L21 -> 31.31 | M19: =M20+M21 -> 31.31
A20: 2.2.1.2.1. | B20: t.sk. atalgojums | C20: 25.33 | D20: 25.33 | F20: 25.33 | G20: 25.33 | I20: 25.33 | J20: 25.33 | L20: 25.33 | M20: 25.33
A21: 2.2.1.2.2. | B21: t.sk. VSAOI | C21: 5.98 | D21: 5.98 | F21: 5.98 | G21: 5.98 | I21: 5.98 | J21: 5.98 | L21: 5.98 | M21: 5.98
A22: 2.2.2. | B22: Ar rezidentūras organizēšanu saistīto izdevumu segšanai | C22: =C23+C24 -> 31.3 | D22: =D23+D24 -> 31.3 | F22: =F23+F24 -> 31.3 | G22: =G23+G24 -> 31.3 | I22: =I23+I24 -> 31.3 | J22: =J23+J24 -> 31.3 | L22: =L23+L24 -> 31.3 | M22: =M23+M24 -> 31.3
A23: 2.2.2.1. | B23: t.sk.ar rezidenta pašizglītību saistītie izdevumi (izdevumi medicīniskās literatūras, datu bāžu, grāmatu, u.c. iegādei bibliotēkai, aprīkojuma, datoru iegādei, u.tml., kas paliek ārstniecības iestādes īpašumā) | C23: 15.65 | D23: 15.65 | F23: 15.65 | G23: 15.65 | I23: 15.65 | J23: 15.65 | L23: 15.65 | M23: 15.65
A24: 2.2.2.2. | B24: t.sk.ar rezidentūras organizēšanu saistīto izdevumu segšanai saimniecisko, komunālo un ārstniecības iestādes citu kārtējo izdevumu segšanai, kas attiecas uz rezidentūras organizēšanu ārstniecības iestādē, t.sk. rezidentu telpu iekārtošanas, identifikācijas karšu iegādes, vienotas e-adreses nodrošināšanai, zīmogu izgatavošanas izdevumi u.tml.)) | C24: 15.65 | D24: 15.65 | F24: 15.65 | G24: 15.65 | I24: 15.65 | J24: 15.65 | L24: 15.65 | M24: 15.65
B26: Augstskolas izdevumi gadam | C26: =C7*12 -> 1297.68 | D26: =D7*12 -> 1297.68 | F26: =F7*12 -> 1297.68 | G26: =G7*12 -> 1297.68 | I26: =I7*12 -> 1297.68 | J26: =J7*12 -> 1297.68 | L26: =L7*12 -> 1297.68 | M26: =M7*12 -> 1297.68
B27: Ārstniecības iestādes izdevumi gadam | C27: =C8*12 -> 31394.077 | D27: =D8*12 -> 39670.32 | F27: =F8*12 -> 34152.737 | G27: =G8*12 -> 43256.52 | I27: =I8*12 -> 34318.343 | J27: =J8*12 -> 43471.68 | L27: =L8*12 -> 37369.285 | M27: =M8*12 -> 47438.16
B28: Rezidenta atlīdzība gadam | C28: =C9*12 -> 27586.477 | D28: =D9*12 -> 35862.72 | F28: =F9*12 -> 30345.137 | G28: =G9*12 -> 39448.92 | I28: =I9*12 -> 30510.743 | J28: =J9*12 -> 39664.08 | L28: =L9*12 -> 33561.685 | M28: =M9*12 -> 43630.56
B31: Valsts apmaksāto rezidentu amatalga mēnesī, euro
C33: 2023.gadā (euro) | D33: 2024.gadā un turpmāk (euro) | E33: Starpība (2024.gada pieaugums pret 2023.gadu)
B34: Rezidentu mēnešalga reģionālajā daudzprofilu slimnīcā vai ģimenes (vispārējās prakses) ārsta praksē ārpus Rīgas | C34: =D11 -> 2049.25 | D34: =J11 -> 2266.47 | E34: =D34/C34-1 -> 0.10599976
B35: Rezidentu mēnešalga pārējās ārstniecības iestādēs | C35: =C11 -> 1576.3416 | D35: =I11 -> 1743.4338 | E35: =D35/C35-1 -> 0.106
B36: (tai skaitā Veselības ministrijas padotības iestādes)
B37: Rezidentu mēnešalga ar koeficientu 1.1 no trešā rezidentūras gada pamatspecialitātē un no pirmā gada papildspecialitātēs reģionālajā daudzprofilu slimnīcā vai ģimenes (vispārējās prakses) ārsta praksē ārpus Rīgas | C37: =G11 -> 2254.17 | D37: =M11 -> 2493.12 | E37: =D37/C37-1 -> 0.10600354
B38: Rezidentu mēnešalga ar koeficientu 1.1 no trešā rezidentūras gada pamatspecialitātē un no pirmā gada papildspecialitātēs pārējās ārstniecības iestādēs | C38: =F11 -> 1733.9758 | D38: =L11 -> 1917.7772 | E38: =D38/C38-1 -> 0.106
B39: (tai skaitā Veselības ministrijas padotības iestādes)

Sheet rezidenti_fin (valsts_apmaks)
L1: Pielikums Nr.1.3.
B2: Nepieciešamais papildus finansējums valsts apmaksātiem rezidentiem, euro
B4: Nr. | D4: Plānotais rezidentu skaits janv-sept | E4: Plānotais rezidentūras absolventu skaits | F4: Plānotais uzņemamo rezidentu skaits | G4: Plānotais rezidentu skaits okt-dec | H4: Plānotais vidējais rezidentu skaits | J4: Finanšu līdzekļu apmērs mēnesim viena rezidenta apmācībai 2023.gadā, euro | K4: Finanšu līdzekļu apmērs mēnesim viena rezidenta apmācībai - ar pieaugumu no 01.01.2024, euro | L4: Finanšu līdzekļu apmēra palielinājums mēnesim viena rezidenta apmācībai, euro | M4: Finanšu līdzekļu apmēra palielinājums gadam plānotam rezidentu skaitam apmācībai, euro
B5: 1 | D5: 2 | E5: 3 | F5: 4 | G5: 5=2-3+4 | H5: 6
B6: KOPĀ | C6: kopā, t.sk. | D6: 866 | E6: 204 | F6: 290 | G6: 952 | H6: 888
C7: Reģionālajā daudzprofilu slimnīcā vai ģimenes (vispārējās prakses) ārsta praksē ārpus Rīgas | D7: 235 | E7: 67 | F7: 79 | G7: 247 | H7: 238
C8: Pārējās ārstniecības iestādēs (t.sk. budžeta iestādēs) | D8: 631 | E8: 137 | F8: 211 | G8: 705 | H8: 650
C9: t.sk. no 3.gada pamatspecialitātē un papildspecialitātē un apakšspecialitātē no 1.gada, t.sk. | D9: 446 | E9: 204 | F9: 23 | G9: 265 | H9: 401
C10: Reģionālajā daudzprofilu slimnīcā vai ģimenes (vispārējās prakses) ārsta praksē ārpus Rīgas | D10: 126 | E10: 67 | F10: 7 | G10: 66 | H10: 111 | J10: ='rezidenti_algas (valsts_apmaks)'!G6 -> 3712.85 | K10: ='rezidenti_algas (valsts_apmaks)'!M6 -> 4061.32 | L10: =K10-J10 -> 348.47 | M10: =ROUND(H10*L10*12,0) -> 464162
C11: Pārējās ārstniecības iestādēs (t.sk. budžeta iestādēs) | D11: 320 | E11: 137 | F11: 16 | G11: 199 | H11: 290 | J11: ='rezidenti_algas (valsts_apmaks)'!F6 -> 2954.2014 | K11: ='rezidenti_algas (valsts_apmaks)'!L6 -> 3222.2471 | L11: =K11-J11 -> 268.04569 | M11: =ROUND(H11*L11*12,0) -> 932799
C12: t.sk. atlikušie, t.sk. | D12: 420 | E12: 0 | F12: 267 | G12: 687 | H12: 487
C13: Reģionālajā daudzprofilu slimnīcā vai ģimenes (vispārējās prakses) ārsta praksē ārpus Rīgas | D13: 109 | E13: 0 | F13: 72 | G13: 181 | H13: 127 | J13: ='rezidenti_algas (valsts_apmaks)'!D6 -> 3414 | K13: ='rezidenti_algas (valsts_apmaks)'!J6 -> 3730.78 | L13: =K13-J13 -> 316.78 | M13: =ROUND(H13*L13*12,0) -> 482773
C14: Pārējās ārstniecības iestādēs (t.sk. budžeta iestādēs) | D14: 311 | E14: 0 | F14: 195 | G14: 506 | H14: 360 | J14: ='rezidenti_algas (valsts_apmaks)'!C6 -> 2724.3131 | K14: ='rezidenti_algas (valsts_apmaks)'!I6 -> 2968.0019 | L14: =K14-J14 -> 243.68881 | M14: =ROUND(H14*L14*12,0) -> 1052736
M16: =SUM(M10:M14) -> 2932470
L19: 2024.gadam un turpmāk ik gadu | M19: =M16 -> 2932470

Sheet rezidenti_algas (maksas)
D1: Pielikums Nr.1.4.
A3: Nepieciešamais finanšu līdzekļu apmērs viena rezidenta, kuru rezidentūras apmācības izmaksas tiek segtas no juridisku vai fizisku personu līdzekļiem, apmācībai, euro
A5: Nr.p.k. | C5: 2023.gads - finanšu līdzekļu apmērs viena rezidenta apmācībai pirmajā un otrajā rezidentūras gadā pamatspecialitātē | E5: 2023.gads - finanšu līdzekļu apmērs viena rezidenta apmācībai no trešā rezidentūras gada pamatspecialitātē un no pirmā rezidentūras gada apakšspecialitātē
B6: Kopā | C6: =C7 -> 2298.8715 | E6: =E7 -> 2528.7614
A7: 1 | B7: Ārstniecības iestādes izdevumi | C7: =C8 -> 2298.8715 | E7: =E8 -> 2528.7614
A8: 1.1. | B8: Rezidenta atlīdzība | C8: =C9+C12 -> 2298.8715 | E8: =E9+E12 -> 2528.7614
A9: 1.1.1. | B9: Atalgojums | C9: =C10+C11 -> 1860.0815 | E9: =E10+E11 -> 2046.0914
A10: 1.1.1.1. | B10: t.sk. amatalga | C10: 1576.34 | E10: 1733.9758
A11: 1.1.1.2. | B11: t.sk. pārējie izdevumi rezidentu atlīdzībai - samaksa par dežūru stundām virs normālā darba laika (11 h mēnesī), piemaksas par nakts dežūrām, svētku dienām, mājas dežūrām un darba samaksas mainīgajai daļai | C11: 283.74149 | E11: 312.11564
A12: 1.1.2. | B12: VSAOI | C12: 438.79 | E12: 482.67
B14: Rezidenta atlīdzība gadam | C14: =C6*12 -> 27586.458 | E14: =E6*12 -> 30345.137
A16: Nr.p.k. | C16: No 2024.gada 1.janvāra un turpmāk - finanšu līdzekļu apmērs viena rezidenta apmācībai pirmajā un otrajā rezidentūras gadā pamatspecialitātē | E16: No 2024.gada 1.janvāra un turpmāk - finanšu līdzekļu apmērs viena rezidenta apmācībai no trešā rezidentūras gada pamatspecialitātē un no pirmā rezidentūras gada apakšspecialitātē
B17: Kopā | C17: =C18 -> 2542.5619 | E17: =E18 -> 2796.8071
A18: 1 | B18: Ārstniecības iestādes izdevumi | C18: =C19 -> 2542.5619 | E18: =E19 -> 2796.8071
A19: 1.1. | B19: Rezidenta atlīdzība | C19: =C20+C23 -> 2542.5619 | E19: =E20+E23 -> 2796.8071
A20: 1.1.1. | B20: Atalgojums | C20: =C21+C22 -> 2057.2519 | D20: =D21+D22 -> 0 | E20: =E21+E22 -> 2262.9771
A21: 1.1.1.1. | B21: t.sk. amatalga | C21: 1743.4338 | E21: 1917.7772
A22: 1.1.1.2. | B22: t.sk. pārējie izdevumi rezidentu atlīdzībai - samaksa par dežūru stundām virs normālā darba laika (11 h mēnesī), piemaksas par nakts dežūrām, svētku dienām, mājas dežūrām un darba samaksas mainīgajai daļai | C22: 313.81809 | E22: 345.1999
A23: 1.1.2. | B23: VSAOI | C23: 485.31 | E23: 533.83
B25: Rezidenta atlīdzība gadam | C25: =C17*12 -> 30510.743 | E25: =E17*12 -> 33561.685

Sheet rezidenti_fin (maksas)
H1: Pielikums Nr.1.5.
B3: Nepieciešamais papildus finansējums rezidentu atlīdzībai, kuru rezidentūras apmācības izmaksas tiek segtas no juridisku vai fizisku personu līdzekļiem, euro
G5: Precizētās viena rezidenta izmaksas
G6: no 2024.gada 1.janvāra un turpmāk - finanšu līdzekļu apmērs viena rezidenta apmācībai pirmajā un otrajā rezidentūras gadā pamatspecialitātē - ar pieaugumu | I6: no 2024.gada 1.janvāra un turpmāk - finanšu līdzekļu apmērs viena rezidenta apmācībai no trešā rezidentūras gada pamatspecialitātē un no pirmā rezidentūras gada apakšspecialitātē - ar pieaugumu
G7: Pārējās ārstniecības iestādēs (t.sk. budžeta iestādēs) | H7: Reģionālajā daudzprofilu slimnīcā vai ģimenes (vispārējās prakses) ārsta praksē ārpus Rīgas | I7: Pārējās ārstniecības iestādēs (t.sk. budžeta iestādēs) | J7: Reģionālajā daudzprofilu slimnīcā vai ģimenes (vispārējās prakses) ārsta praksē ārpus Rīgas
E12: Rezidentu darba samaksa | G12: ='rezidenti_algas (maksas)'!C17 -> 2542.5619 | H12: ='rezidenti_algas (maksas)'!C17 -> 2542.5619 | I12: ='rezidenti_algas (maksas)'!E17 -> 2796.8071 | J12: ='rezidenti_algas (maksas)'!E17 -> 2796.8071
K13: KOPĀ:
D14: Proporcijas plānotajam rezidentu skaitam | G14: 94 | H14: 27 | I14: 75 | J14: 10 | K14: 206
G15: 0.45631068 | H15: 0.13106796 | I15: 0.36407767 | J15: 0.048543689 | K15: =G15+H15+I15+J15 -> 1
D17: Kopā nepieciešamais finansējums GADAM visu rezidentu apmācībai ar plānoto pieaugumu | G17: =ROUND(G12*G14*12,0) -> 2868010 | H17: =ROUND(H12*H14*12,0) -> 823790 | I17: =ROUND(I12*I14*12,0) -> 2517126 | J17: =ROUND(J12*J14*12,0) -> 335617 | K17: =SUM(G17:J17) -> 6544543
D19: Esošais finansējums budžetā | K19: =5601056+316244 -> 5917300
D22: Papildus nepieciešamais finansējums 2024.gadam un turpmāk ik gadu | K22: =K17-K19 -> 627243

Sheet Pārējās ministrijas MK851
H1: Pielikums Nr.1.6.
A2: Ārstniecības personu darba samaksas pieaugums Aizsardzības ministrijai, Tieslietu ministrijai un Iekšlietu ministrijai
I3: EUR
A4: Ārstniecības personas amata kvalifikācijas kategorija | B4: Profesiju klasifikātora kods (atbilstoši MK noteikumiem Nr.264) | C4: Ārstniecības personas profesijas vai specialitātes kodu (atbilstoši MK noteikumiem Nr.317) | D4: Slodzes (strādājošo skaits normālā darba laika ietvaros) | E4: Faktiskā mēnešalgas likme par 1 (vienu) slodzi | F4: Palielinājums par darba stāžu | G4: Piemaksas | H4: Faktiskā darba samaksa (atalgojums par slodzi) mēnesī | I4: Darba samaksas pieaugums 2024.gadam, t.sk. 23.59%
K5: Pārbaude, atbilstība prof. klasifikatoram | L5: Ārstniecības personas profesijas vai specialitātes kodu (atbilstoši MK noteikumiem Nr.317) | M5: Reģistrācija Ārstniecības ietāžu reģistrā | N5: Piezīmes, pamatojums
A7: 19.Tieslietu ministrija
A8: Apakšprogramma 04.01.00 "Ieslodzījuma vietas"
A9: I.Sertificētu ārstniecības personu amati
A10: 1.kategorija - Ārsts, zobārsts
A11: Galvenais ārsts | B11: 1342 01 | C11: P63, P27 | D11: 1 | E11: 2980 | F11: 387.4 | G11: 596 | H11: =G11+F11+E11 -> 3963.4 | I11: =ROUND((E11+F11+G11)*0.106*D11*12*(1+0.2359),2) -> 6230.72 | L11: P63, P27 | M11: Reģistrēts | N11: 801000010
A12: Daļas vadītājs (ārsts) | B12: 1342 03 | C12: P25 | D12: 1 | E12: 2455 | F12: 319.15 | G12: 491 | H12: =G12+F12+E12 -> 3265.15 | I12: =ROUND((E12+F12+G12)*0.106*D12*12*(1+0.2359),2) -> 5133.03 | L12: P25 | M12: Reģistrēts | N12: 801000010
A13: Daļas vadītājs (ārsts) | B13: 1342 03 | C13: P53, P54 | D13: 1 | E13: 2455 | F13: 319.15 | G13: 491 | H13: =G13+F13+E13 -> 3265.15 | I13: =ROUND((E13+F13+G13)*0.106*D13*12*(1+0.2359),2) -> 5133.03 | L13: P53, P54 | M13: Reģistrēts | N13: 801000010
A14: Daļas vadītājs (ārsts) | B14: 1342 03 | C14: P39 | D14: 1 | E14: 2455 | F14: 294.6 | G14: 491 | H14: =G14+F14+E14 -> 3240.6 | I14: =ROUND((E14+F14+G14)*0.106*D14*12*(1+0.2359),2) -> 5094.43 | L14: P39 | M14: Reģistrēts | N14: 801000010
A15: Daļas vadītājs (ārsts) | B15: 1342 03 | C15: P00 | D15: 1 | E15: 2030 | F15: 243.6 | G15: 406 | H15: =G15+F15+E15 -> 2679.6 | I15: =ROUND((E15+F15+G15)*0.106*D15*12*(1+0.2359),2) -> 4212.5 | L15: P00 | M15: Reģistrēts | N15: 801000010
A16: Daļas vadītājs (ārsts) | B16: 1342 03 | C16: P63 | D16: 1 | E16: 2455 | F16: 319.15 | G16: 491 | H16: =G16+F16+E16 -> 3265.15 | I16: =ROUND((E16+F16+G16)*0.106*D16*12*(1+0.2359),2) -> 5133.03 | L16: P63 | M16: Reģistrēts | N16: 801000010
A17: Daļas vadītājs (ārsts) | B17: 1342 03 | C17: P01 | D17: 1 | E17: 2455 | F17: 294.6 | G17: 491 | H17: =G17+F17+E17 -> 3240.6 | I17: =ROUND((E17+F17+G17)*0.106*D17*12*(1+0.2359),2) -> 5094.43 | L17: P01 | M17: Reģistrēts | N17: 801000010
A18: Nodaļas vadītājs (ārsts) | B18: 1342 03 | C18: P02 | D18: 1 | E18: 2285 | F18: 205.65 | G18: 457 | H18: =G18+F18+E18 -> 2947.65 | I18: =ROUND((E18+F18+G18)*0.106*D18*12*(1+0.2359),2) -> 4633.9 | L18: P02 | M18: Reģistrēts | N18: 801000010
A19: Nodaļas vadītājs (ārsts) | B19: 1342 03 | C19: P19 | D19: 1 | E19: 2285 | F19: 297.05 | G19: 457 | H19: =G19+F19+E19 -> 3039.05 | I19: =ROUND((E19+F19+G19)*0.106*D19*12*(1+0.2359),2) -> 4777.58 | L19: P19 | M19: Reģistrēts | N19: 801000010
A20: Nodaļas vadītājs (ārsts) | B20: 1342 03 | C20: P57 | D20: 1 | E20: 2285 | F20: 297.05 | G20: 457 | H20: =G20+F20+E20 -> 3039.05 | I20: =ROUND((E20+F20+G20)*0.106*D20*12*(1+0.2359),2) -> 4777.58 | L20: P57 | M20: Reģistrēts | N20: 801000010
A21: Nodaļas vadītājs (ārsts) | B21: 1342 03 | C21: P27 | D21: 1 | E21: 2285 | F21: 159.95 | G21: 457 | H21: =G21+F21+E21 -> 2901.95 | I21: =ROUND((E21+F21+G21)*0.106*D21*12*(1+0.2359),2) -> 4562.05 | L21: P27 | M21: Reģistrēts | N21: 801000010
A22: Ārsts | B22: 2211 01 | C22: P00 | D22: 0.75 | E22: 1810 | F22: 126.7 | G22: 362 | H22: =G22+F22+E22 -> 2298.7 | I22: =ROUND((E22+F22+G22)*0.106*D22*12*(1+0.2359),2) -> 2710.28 | L22: P00 | M22: Reģistrēts | N22: 801000010
... A24: Ārsts | B24: 2212 28 | C24: P39 | D24: 1 | E24: 2060 | F24: 267.8 | G24: 412 | H24: =G24+F24+E24 -> 2739.8 | I24: =ROUND((E24+F24+G24)*0.106*D24*12*(1+0.2359),2) -> 4307.14 | L24: P39 | M24: Reģistrēts | N24: 801000010
A25: Ārsts | B25: 2212104 | C25: P00 | D25: 0.5 | E25: 1810 | F25: 217.2 | G25: 362 | H25: =G25+F25+E25 -> 2389.2 | I25: =ROUND((E25+F25+G25)*0.106*D25*12*(1+0.2359),2) -> 1877.99 | L25: P00 | M25: Reģistrēts | N25: 801000010
A26: Ārsts | B26: 2212104 | C26: P01 | D26: 0.75 | E26: 2060 | F26: 206 | G26: 412 | H26: =G26+F26+E26 -> 2678 | I26: =ROUND((E26+F26+G26)*0.106*D26*12*(1+0.2359),2) -> 3157.49 | L26: P01 | M26: Reģistrēts | N26: 801000010
A27: Ārsts | B27: 2212104 | C27: P01 | D27: 1 | E27: 2060 | F27: 267.8 | G27: 412 | H27: =G27+F27+E27 -> 2739.8 | I27: =ROUND((E27+F27+G27)*0.106*D27*12*(1+0.2359),2) -> 4307.14 | L27: P01 | M27: Reģistrēts | N27: 801000010
A28: Ārsts | B28: 2212104 | C28: P01 | D28: 0.5 | E28: 2060 | F28: 247.2 | G28: 412 | H28: =G28+F28+E28 -> 2719.2 | I28: =ROUND((E28+F28+G28)*0.106*D28*12*(1+0.2359),2) -> 2137.38 | L28: P01 | M28: Reģistrēts | N28: 801000010
A29: Ārsts | B29: 2212104 | C29: P01 | D29: 1 | E29: 2060 | F29: 267.8 | G29: 412 | H29: =G29+F29+E29 -> 2739.8 | I29: =ROUND((E29+F29+G29)*0.106*D29*12*(1+0.2359),2) -> 4307.14 | L29: P01 | M29: Reģistrēts | N29: 801000010
A30: Ārsts | B30: 2212104 | C30: P00 | D30: 0.25 | E30: 1810 | F30: 235.3 | G30: 362 | H30: =G30+F30+E30 -> 2407.3 | I30: =ROUND((E30+F30+G30)*0.106*D30*12*(1+0.2359),2) -> 946.11 | L30: P00 | M30: Reģistrēts | N30: 801000010
A31: Ārsts | B31: 2212104 | C31: P01 | D31: 0.75 | E31: 2060 | F31: 206 | G31: 412 | H31: =G31+F31+E31 -> 2678 | I31: =ROUND((E31+F31+G31)*0.106*D31*12*(1+0.2359),2) -> 3157.49 | L31: P01 | M31: Reģistrēts | N31: 801000010
A32: Ārsts | B32: 2212 86 | C32: P19 | D32: 1 | E32: 2060 | F32: 267.8 | G32: 412 | H32: =G32+F32+E32 -> 2739.8 | I32: =ROUND((E32+F32+G32)*0.106*D32*12*(1+0.2359),2) -> 4307.14 | L32: P19 | M32: Reģistrēts | N32: 801000010
A33: Ārsts | B33: 2212 86 | C33: P19 | D33: 1 | E33: 2060 | F33: 267.8 | G33: 412 | H33: =G33+F33+E33 -> 2739.8 | I33: =ROUND((E33+F33+G33)*0.106*D33*12*(1+0.2359),2) -> 4307.14 | L33: P19 | M33: Reģistrēts | N33: 801000010
A34: Ārsts | B34: 2212 86 | C34: P19 | D34: 0.5 | E34: 2060 | F34: 144.2 | G34: 412 | H34: =G34+F34+E34 -> 2616.2 | I34: =ROUND((E34+F34+G34)*0.106*D34*12*(1+0.2359),2) -> 2056.42 | L34: P19 | M34: Reģistrēts | N34: 801000010
A35: Ārsts | B35: 2212 86 | C35: P19 | D35: 0.5 | E35: 2060 | F35: 206 | G35: 412 | H35: =G35+F35+E35 -> 2678 | I35: =ROUND((E35+F35+G35)*0.106*D35*12*(1+0.2359),2) -> 2104.99 | L35: P19 | M35: Reģistrēts | N35: 801000010
A36: Ārsts | B36: 2212 86 | C36: P19 | D36: 0.5 | E36: 2060 | F36: 267.8 | G36: 412 | H36: =G36+F36+E36 -> 2739.8 | I36: =ROUND((E36+F36+G36)*0.106*D36*12*(1+0.2359),2) -> 2153.57 | L36: P19 | M36: Reģistrēts | N36: 801000010
A37: Ārsts | B37: 2212 86 | C37: P19, P64 | D37: 0.25 | E37: 2060 | F37: 267.8 | G37: 412 | H37: =G37+F37+E37 -> 2739.8 | I37: =ROUND((E37+F37+G37)*0.106*D37*12*(1+0.2359),2) -> 1076.79 | L37: P19, P64 | M37: Reģistrēts | N37: 801000010
A38: Ārsts | B38: 2212 86 | C38: P19, P64 | D38: 0.25 | E38: 2060 | F38: 247.2 | G38: 412 | H38: =G38+F38+E38 -> 2719.2 | I38: =ROUND((E38+F38+G38)*0.106*D38*12*(1+0.2359),2) -> 1068.69 | L38: P19, P64 | M38: Reģistrēts | N38: 801000010
A39: Ārsts | B39: 2212 86 | C39: P19 | D39: 0.5 | E39: 2060 | F39: 123.6 | G39: 412 | H39: =G39+F39+E39 -> 2595.6 | I39: =ROUND((E39+F39+G39)*0.106*D39*12*(1+0.2359),2) -> 2040.23 | L39: P19 | M39: Reģistrēts | N39: 801000010
A40: Ārsts | B40: 2212 86 | C40: P19 | D40: 1 | E40: 2060 | F40: 144.2 | G40: 412 | H40: =G40+F40+E40 -> 2616.2 | I40: =ROUND((E40+F40+G40)*0.106*D40*12*(1+0.2359),2) -> 4112.84 | L40: P19 | M40: Reģistrēts | N40: 801000010
A41: Ārsts | B41: 2212 82 | C41: P23 | D41: 0.25 | E41: 2060 | F41: 247.2 | G41: 412 | H41: =G41+F41+E41 -> 2719.2 | I41: =ROUND((E41+F41+G41)*0.106*D41*12*(1+0.2359),2) -> 1068.69 | L41: P23 | M41: Reģistrēts | N41: 801000010
A42: Ārsts | B42: 2212 37 | C42: P27 | D42: 0.25 | E42: 2060 | F42: 267.8 | G42: 412 | H42: =G42+F42+E42 -> 2739.8 | I42: =ROUND((E42+F42+G42)*0.106*D42*12*(1+0.2359),2) -> 1076.79 | L42: P27 | M42: Reģistrēts | N42: 801000010
A43: Ārsts | B43: 2212 37 | C43: P27 | D43: 0.6 | E43: 2060 | F43: 185.4 | G43: 412 | H43: =G43+F43+E43 -> 2657.4 | I43: =ROUND((E43+F43+G43)*0.106*D43*12*(1+0.2359),2) -> 2506.56 | L43: P27 | M43: Reģistrēts | N43: 801000010
... A57: Ārsts | B57: 2212 70 | C57: P28 | D57: 0.5 | E57: 2060 | F57: 267.8 | G57: 412 | H57: =G57+F57+E57 -> 2739.8 | I57: =ROUND((E57+F57+G57)*0.106*D57*12*(1+0.2359),2) -> 2153.57 | L57: P28 | M57: Reģistrēts | N57: 801000010
A58: Kopā | D58: =SUM(D11:D57) -> 34.1 | E58: x | F58: x | G58: x | H58: x | I58: x
A59: 3.kategorija - Māsa (vispārējās aprūpes māsa), ārsta palīgs (feldšeris), vecmāte, biomedicīnas laborants, radiologa asistents, radiogrāfers*
A60: Ārsta palīgs | B60: 2240 01 | C60: n86 | D60: 1 | E60: 1500 | F60: 172.5 | G60: 300 | H60: =G60+F60+E60 -> 1972.5 | I60: =ROUND((E60+F60+G60)*0.065*D60*12*(1+0.2359),2) -> 1901.49 | L60: n86 | M60: Reģistrēts | N60: 801000010
A61: Ārsta palīgs | B61: 2240 01 | C61: n86 | D61: 1 | E61: 1500 | F61: 172.5 | G61: 300 | H61: =G61+F61+E61 -> 1972.5 | I61: =ROUND((E61+F61+G61)*0.065*D61*12*(1+0.2359),2) -> 1901.49 | L61: n86 | M61: Reģistrēts | N61: 801000010
A62: Ārsta palīgs | B62: 2240 01 | C62: n86,n53 | D62: 1 | E62: 1500 | F62: 180 | G62: 300 | H62: =G62+F62+E62 -> 1980 | I62: =ROUND((E62+F62+G62)*0.065*D62*12*(1+0.2359),2) -> 1908.72 | L62: n86,n53 | M62: Reģistrēts | N62: 801000010
A63: Ārsta palīgs | B63: 2240 01 | C63: n86 | D63: 1 | E63: 1500 | F63: 195 | G63: 300 | H63: =G63+F63+E63 -> 1995 | I63: =ROUND((E63+F63+G63)*0.065*D63*12*(1+0.2359),2) -> 1923.18 | L63: n86 | M63: Reģistrēts | N63: 801000010
A64: Ārsta palīgs | B64: 2240 01 | C64: n86 | D64: 1 | E64: 1500 | F64: 172.5 | G64: 300 | H64: =G64+F64+E64 -> 1972.5 | I64: =ROUND((E64+F64+G64)*0.065*D64*12*(1+0.2359),2) -> 1901.49 | L64: n86 | M64: Reģistrēts | N64: 801000010
A65: Ārsta palīgs | B65: 2240 01 | C65: n86 | D65: 1 | E65: 1500 | F65: 120 | G65: 300 | H65: =G65+F65+E65 -> 1920 | I65: =ROUND((E65+F65+G65)*0.065*D65*12*(1+0.2359),2) -> 1850.88 | L65: n86 | M65: Reģistrēts | N65: 801000010
A66: Ārsta palīgs | B66: 2240 01 | C66: n27 | D66: 0.5 | E66: 1500 | F66: 82.5 | G66: 300 | H66: =G66+F66+E66 -> 1882.5 | I66: =ROUND((E66+F66+G66)*0.065*D66*12*(1+0.2359),2) -> 907.37 | L66: n27 | M66: Reģistrēts | N66: 801000010
A67: Ārsta palīgs | B67: 2240 01 | C67: n86,n29 | D67: 1 | E67: 1500 | F67: 180 | G67: 300 | H67: =G67+F67+E67 -> 1980 | I67: =ROUND((E67+F67+G67)*0.065*D67*12*(1+0.2359),2) -> 1908.72 | L67: n86,n29 | M67: Reģistrēts | N67: 801000010
A68: Ārsta palīgs | B68: 2240 01 | C68: n86 | D68: 1 | E68: 1500 | F68: 172.5 | G68: 300 | H68: =G68+F68+E68 -> 1972.5 | I68: =ROUND((E68+F68+G68)*0.065*D68*12*(1+0.2359),2) -> 1901.49 | L68: n86 | M68: Reģistrēts | N68: 801000010
A69: Ārsta palīgs | B69: 2240 01 | C69: n86 | D69: 1 | E69: 1500 | F69: 172.5 | G69: 300 | H69: =G69+F69+E69 -> 1972.5 | I69: =ROUND((E69+F69+G69)*0.065*D69*12*(1+0.2359),2) -> 1901.49 | L69: n86 | M69: Reģistrēts | N69: 801000010
A70: Ārsta palīgs | B70: 2240 01 | C70: n86 | D70: 1 | E70: 1500 | F70: 120 | G70: 300 | H70: =G70+F70+E70 -> 1920 | I70: =ROUND((E70+F70+G70)*0.065*D70*12*(1+0.2359),2) -> 1850.88 | L70: n86 | M70: Reģistrēts | N70: 801000010
A71: Ārsta palīgs | B71: 2240 01 | C71: n27 | D71: 1 | E71: 1320 | F71: 72.6 | G71: 264 | H71: =G71+F71+E71 -> 1656.6 | I71: =ROUND((E71+F71+G71)*0.065*D71*12*(1+0.2359),2) -> 1596.97 | L71: n27 | M71: Reģistrēts | N71: 801000010
... A83: Radiologa asistents | B83: 3211 01 | C83: n85 | D83: 0.5 | E83: 1500 | F83: 165 | G83: 300 | H83: =G83+F83+E83 -> 1965 | I83: =ROUND((E83+F83+G83)*0.065*D83*12*(1+0.2359),2) -> 947.13 | L83: n85 | M83: Reģistrēts | N83: 801000010
A84: Kopā | D84: =SUM(D60:D83) -> 18.25 | E84: x | F84: x | G84: x | H84: x | I84: x
A85: II.Reģistrētu ārstniecības personu amati
A86: 3.kategorija - Fizioterapeits, audiologopēds, uztura speciālists, ergoterapeits, tehniskais ortopēds, mākslas terapeits, optometrists, māsa (vispārējās aprūpes māsa)
A87: Vecākā māsa | B87: 2221 01 | C87: n122 | D87: 1 | E87: 1580 | F87: 110.6 | G87: 316 | H87: =G87+F87+E87 -> 2006.6 | I87: =ROUND((E87+F87+G87)*0.065*D87*12*(1+0.2359),2) -> 1934.37 | L87: n122 | M87: Reģistrēts | N87: 801000010
A88: Vecākā māsa | B88: 2221 01 | C88: n123 | D88: 1 | E88: 1580 | F88: 94.8 | G88: 316 | H88: =G88+F88+E88 -> 1990.8 | I88: =ROUND((E88+F88+G88)*0.065*D88*12*(1+0.2359),2) -> 1919.14 | L88: n123 | M88: Reģistrēts | N88: 801000010
A89: Vecākā māsa | B89: 2221 01 | C89: n86, n120 | D89: 1 | E89: 1580 | F89: 221.2 | G89: 316 | H89: =G89+F89+E89 -> 2117.2 | I89: =ROUND((E89+F89+G89)*0.065*D89*12*(1+0.2359),2) -> 2040.99 | L89: n86, n120 | M89: Reģistrēts | N89: 801000010
A90: Vecākā māsa | B90: 2221 01 | C90: n120 | D90: 1 | E90: 1580 | F90: 181.7 | G90: 316 | H90: =G90+F90+E90 -> 2077.7 | I90: =ROUND((E90+F90+G90)*0.065*D90*12*(1+0.2359),2) -> 2002.91 | L90: n120 | M90: Reģistrēts | N90: 801000010
A91: Vecākā māsa | B91: 2221 01 | C91: n120 | D91: 1 | E91: 1580 | F91: 205.4 | G91: 316 | H91: =G91+F91+E91 -> 2101.4 | I91: =ROUND((E91+F91+G91)*0.065*D91*12*(1+0.2359),2) -> 2025.75 | L91: n120 | M91: Reģistrēts | N91: 801000010
A92: Vecākā māsa | B92: 2221 01 | C92: n120, n121 | D92: 1 | E92: 1580 | F92: 205.4 | G92: 316 | H92: =G92+F92+E92 -> 2101.4 | I92: =ROUND((E92+F92+G92)*0.065*D92*12*(1+0.2359),2) -> 2025.75 | L92: n120, n121 | M92: Reģistrēts | N92: 801000010
A93: Vecākā māsa | B93: 2221 01 | C93: n120 | D93: 1 | E93: 1580 | F93: 181.7 | G93: 316 | H93: =G93+F93+E93 -> 2077.7 | I93: =ROUND((E93+F93+G93)*0.065*D93*12*(1+0.2359),2) -> 2002.91 | L93: n120 | M93: Reģistrēts | N93: 801000010
A94: Vecākā māsa | B94: 2221 01 | C94: n120 | D94: 1 | E94: 1580 | F94: 205.4 | G94: 316 | H94: =G94+F94+E94 -> 2101.4 | I94: =ROUND((E94+F94+G94)*0.065*D94*12*(1+0.2359),2) -> 2025.75 | L94: n120 | M94: Reģistrēts | N94: 801000010
A95: Vecākā māsa | B95: 2221 01 | C95: n124 | D95: 1 | E95: 1580 | F95: 158 | G95: 316 | H95: =G95+F95+E95 -> 2054 | I95: =ROUND((E95+F95+G95)*0.065*D95*12*(1+0.2359),2) -> 1980.06 | L95: n124 | M95: Reģistrēts | N95: 801000010
A96: Virsmāsa | B96: 2221 02 | C96: n123 | D96: 1 | E96: 1580 | F96: 126.4 | G96: 316 | H96: =G96+F96+E96 -> 2022.4 | I96: =ROUND((E96+F96+G96)*0.065*D96*12*(1+0.2359),2) -> 1949.6 | L96: n123 | M96: Reģistrēts | N96: 801000010
A97: Māsa | B97: 2221 46 | C97: n120 | D97: 1 | E97: 1365 | F97: 88.73 | G97: 273 | H97: =G97+F97+E97 -> 1726.73 | I97: =ROUND((E97+F97+G97)*0.065*D97*12*(1+0.2359),2) -> 1664.57 | L97: n120 | M97: Reģistrēts | N97: 801000010
A98: Māsa | B98: 2221 46 | C98: n120 | D98: 1 | E98: 1365 | F98: 156.98 | G98: 273 | H98: =G98+F98+E98 -> 1794.98 | I98: =ROUND((E98+F98+G98)*0.065*D98*12*(1+0.2359),2) -> 1730.36 | L98: n120 | M98: Reģistrēts | N98: 801000010
... A136: Māsa | B136: 2221 50 | C136: n124, n120 | D136: 1 | E136: 1365 | F136: 156.98 | G136: 273 | H136: =G136+F136+E136 -> 1794.98 | I136: =ROUND((E136+F136+G136)*0.065*D136*12*(1+0.2359),2) -> 1730.36 | L136: n124, n120 | M136: Reģistrēts | N136: 801000010
A137: Kopā | D137: =SUM(D87:D136) -> 48.5 | E137: x | F137: x | G137: x | H137: x | I137: x
A138: 6.kategorija - Māsas palīgs
A139: Māsas palīgs | B139: 5321 03 | C139: n70 | D139: 1 | E139: 955 | F139: 57.3 | G139: 191 | H139: =G139+F139+E139 -> 1203.3 | I139: =ROUND((E139+F139+G139)*0.069*D139*12*(1+0.2359),2) -> 1231.37 | L139: n70 | M139: Reģistrēts | N139: 801000010
A140: Māsas palīgs | B140: 5321 03 | C140: n70 | D140: 1 | E140: 955 | F140: 52.53 | G140: 191 | H140: =G140+F140+E140 -> 1198.53 | I140: =ROUND((E140+F140+G140)*0.069*D140*12*(1+0.2359),2) -> 1226.49 | L140: n70 | M140: Reģistrēts | N140: 801000010
A141: Māsas palīgs | B141: 5321 03 | C141: n70 | D141: 1 | E141: 955 | F141: 47.75 | G141: 191 | H141: =G141+F141+E141 -> 1193.75 | I141: =ROUND((E141+F141+G141)*0.069*D141*12*(1+0.2359),2) -> 1221.59 | L141: n70 | M141: Reģistrēts | N141: 801000010
A142: Māsas palīgs | B142: 5321 03 | C142: n70 | D142: 1 | E142: 955 | F142: 57.3 | G142: 191 | H142: =G142+F142+E142 -> 1203.3 | I142: =ROUND((E142+F142+G142)*0.069*D142*12*(1+0.2359),2) -> 1231.37 | L142: n70 | M142: Reģistrēts | N142: 801000010
A143: Kopā | D143: =SUM(D139:D142) -> 4 | E143: x | F143: x | G143: x | H143: x | I143: x
A144: Kopā iestādei | D144: =D143+D137+D84+D58 -> 104.85 | I144: =SUM(I11:I57,I60:I83,I87:I136,I139:I142) -> 275699.6
A146: 10.Aizsardzības ministrija
A147: Budžeta programma 22.00.00 "Nacionālie bruņotie spēki", apakšprogramma 22.10.00 "Starptautisko operāciju un Nacionālo bruņoto spēku centralizētais atalgojums"
A148: I. Sertificētu ārstniecības personu amati
A149: 1.kategorija - Ārsts, zobārsts | D149: =SUM(D150:D190) -> 26.5 | E149: =SUM(E150:E190) -> 90045 | F149: =SUM(F150:F190) -> 7736.835 | G149: =SUM(G150:G190) -> 0 | H149: =SUM(H150:H190) -> 65338.335
A150: Vecākais ārsts | B150: 2211 01 | C150: P 53 "Arodveselības un arodslimību ārsts" P 01 "Internists" | D150: 1 | E150: 2445 | F150: =E150*D150*0.15 -> 366.75 | H150: =D150*E150+F150+G150 -> 2811.75 | I150: =ROUND((E150+F150+G150)*0.106*D150*12*(1+0.2359),2) -> 4420.25 | L150: P 53 "Arodveselības un arodslimību ārsts" P 01 "Internists" | M150: Reģistrēts | N150: Kods: 010058901
A151: Sertificēts ārsts | B151: 2211 01 | C151: P 02 "Ģimenes (vispārējās prakses) ārsts" | D151: 1 | E151: 1935 | F151: =E151*D151*0.15 -> 290.25 | H151: =D151*E151+F151+G151 -> 2225.25 | I151: =ROUND((E151+F151+G151)*0.106*D151*12*(1+0.2359),2) -> 3498.24 | L151: P 02 "Ģimenes (vispārējās prakses) ārsts" | M151: Reģistrēts | N151: Kods: 360200046
A152: Sertificēts ārsts (nodaļas vadītājs) | B152: 2211 01 | C152: P 01 "Internists" | D152: 1 | E152: 1935 | F152: =E152*D152*0.15 -> 290.25 | H152: =D152*E152+F152+G152 -> 2225.25 | I152: =ROUND((E152+F152+G152)*0.106*D152*12*(1+0.2359),2) -> 3498.24 | L152: P 01 "Internists" | M152: Reģistrēts | N152: Kods: 360200046
A153: Sertificēts ārsts (zobārsts) | B153: 2211 01 | C153: P 25 "Zobārsts" | D153: 0.75 | E153: 1935 | F153: =E153*D153*0.15 -> 217.6875 | H153: =D153*E153+F153+G153 -> 1668.9375 | I153: =ROUND((E153+F153+G153)*0.106*D153*12*(1+0.2359),2) -> 2538.12 | L153: P 25 "Zobārsts" | M153: Reģistrēts | N153: Kods: 360200046
A154: Sertificēts ārsts | B154: 2211 01 | C154: P 63 "Veselības aprūpes vadības ārsts" P 15 "Pediatrs" | D154: 0.8 | E154: 1935 | F154: =E154*D154*0.15 -> 232.2 | H154: =D154*E154+F154+G154 -> 1780.2 | I154: =ROUND((E154+F154+G154)*0.106*D154*12*(1+0.2359),2) -> 2725.58 | L154: P 63 "Veselības aprūpes vadības ārsts" P 15 "Pediatrs" | M154: Reģistrēts | N154: Kods: 170055301
A155: Sertificēts ārsts | B155: 2211 01 | C155: P 01 "Internists" P 28 "Narkologs" | D155: 0.8 | E155: 1935 | F155: =E155*D155*0.15 -> 232.2 | H155: =D155*E155+F155+G155 -> 1780.2 | I155: =ROUND((E155+F155+G155)*0.106*D155*12*(1+0.2359),2) -> 2725.58 | L155: P 01 "Internists" P 28 "Narkologs" | M155: Reģistrēts | N155: Kods: 170055301
A156: Sertificēts ārsts | B156: 2211 01 | C156: P 02 "Ģimenes (vispārējās prakses) ārsts" | D156: 0.3 | E156: 1935 | F156: =E156*D156*0.05 -> 29.025 | H156: =D156*E156+F156+G156 -> 609.525 | I156: =ROUND((E156+F156+G156)*0.106*D156*12*(1+0.2359),2) -> 926.27 | L156: P 02 "Ģimenes (vispārējās prakses) ārsts" | M156: Reģistrēts | N156: Kods: 741000012
A157: Sertificēts ārsts | B157: 2211 01 | C157: P 02 "Ģimenes (vispārējās prakses) ārsts" | D157: 0.7 | E157: 1935 | F157: =E157*D157*0.05 -> 67.725 | H157: =D157*E157+F157+G157 -> 1422.225 | I157: =ROUND((E157+F157+G157)*0.106*D157*12*(1+0.2359),2) -> 2203.89 | L157: P 02 "Ģimenes (vispārējās prakses) ārsts" | M157: Reģistrēts | N157: Kods: 741000012
A158: Sertificēts ārsts | B158: 2211 01 | C158: P 25 "Zobārsts" | D158: 0.4 | E158: 1935 | F158: =E158*D158*0.15 -> 116.1 | H158: =D158*E158+F158+G158 -> 890.1 | I158: =ROUND((E158+F158+G158)*0.106*D158*12*(1+0.2359),2) -> 1289.78 | L158: P 25 "Zobārsts" | M158: Reģistrēts | N158: Kods: 804455301
A159: Sertificēts ārsts | B159: 2211 01 | C159: P 54 "Fizikālās un rehabilitācijas medicīnas ārsts" P 61 "Akupunktūras ārsts" PP 15 "Hipnoterapeits" | D159: 1 | E159: 1935 | F159: =E159*D159*0.15 -> 290.25 | H159: =D159*E159+F159+G159 -> 2225.25 | I159: =ROUND((E159+F159+G159)*0.106*D159*12*(1+0.2359),2) -> 3498.24 | L159: P 54 "Fizikālās un rehabilitācijas medicīnas ārsts" P 61 "Akupunktūras ārsts" PP 15 "Hipnoterapeits" | M159: Reģistrēts | N159: Kods: 804455301
A160: Sertificēts ārsts | B160: 2211 01 | C160: P 02 "Ģimenes (vispārējās prakses) ārsts" | D160: 0.2 | E160: 1935 | F160: =E160*D160*0.08 -> 30.96 | H160: =D160*E160+F160+G160 -> 417.96 | I160: =ROUND((E160+F160+G160)*0.106*D160*12*(1+0.2359),2) -> 618.12 | L160: P 02 "Ģimenes (vispārējās prakses) ārsts" | M160: Reģistrēts | N160: Kods: 804455301
A161: Sertificēts ārsts | B161: 2211 01 | C161: P 01 "Internists" | D161: 0.2 | E161: 1935 | F161: =E161*D161*0.08 -> 30.96 | H161: =D161*E161+F161+G161 -> 417.96 | I161: =ROUND((E161+F161+G161)*0.106*D161*12*(1+0.2359),2) -> 618.12 | L161: P 01 "Internists" | M161: Reģistrēts | N161: Kods: 804455301
A162: Sertificēts ārsts | B162: 2211 01 | C162: P 36 "Sporta ārsts" | D162: 0.2 | E162: 1935 | F162: =E162*D162*0.05 -> 19.35 | H162: =D162*E162+F162+G162 -> 406.35 | I162: =ROUND((E162+F162+G162)*0.106*D162*12*(1+0.2359),2) -> 614.47 | L162: P 36 "Sporta ārsts" | M162: Reģistrēts | N162: Kods: 804455301
A163: Vecākais ārsts | B163: 2211 01 | C163: P 01 "Internists" | D163: 0.6 | E163: 2445 | F163: =E163*D163*0.15 -> 220.05 | H163: =D163*E163+F163+G163 -> 1687.05 | I163: =ROUND((E163+F163+G163)*0.106*D163*12*(1+0.2359),2) -> 2513.78 | L163: P 01 "Internists" | M163: Reģistrēts | N163: Kods: 010054116
A164: Vecākais ārsts | B164: 2211 01 | C164: P 23 "Otolaringologs" | D164: 0.4 | E164: 2445 | F164: =E164*D164*0.1 -> 97.8 | H164: =D164*E164+F164+G164 -> 1075.8 | I164: =ROUND((E164+F164+G164)*0.106*D164*12*(1+0.2359),2) -> 1598.98 | L164: P 23 "Otolaringologs" | M164: Reģistrēts | N164: Kods: 010054116
...

Sheet VM NMPD MK851
H1: Pielikums Nr.1.7.
A2: Neatliekamās medicīniskās palīdzības dienesta ārstniecības personu faktiskā darba samaksas pieaugums (MK noteikumi Nr.851)
A5: Informācija par ārstniecības personām
A6: Ārstniecības personas amata kvalifikācijas kategorija | B6: Profesiju klasifikātora kods (atbilstoši MK noteikumiem Nr.264) | C6: Ārstniecības personas profesijas vai specialitātes kodu (atbilstoši MK noteikumiem Nr.317) | D6: Slodzes (strādājošo skaits normālā darba laika ietvaros) | E6: Faktiskā mēnešalgas likme par 1 (vienu) slodzi | F6: Palielinājums par darba stāžu | G6: Piemaksas * | H6: Faktiskā darba samaksa (atalgojums par slodzi) mēnesī | I6: Sākotnējs darba samaksas pieaugums 2024.gadam, t.sk. 23.59%
K7: Pārbaude, atbilstība prof. klasifikatoram | L7: Ārstniecības personas profesijas vai specialitātes kodu (atbilstoši MK noteikumiem Nr.317) | M7: Reģistrācija Ārstniecības ietāžu reģistrā
A8: Neatliekamās medicīniskās palīdzības dienests
A9: 39.04.00 Neatliekamā medicīniskā palīdzība
A10: I. Sertificētu ārstniecības personu amati | I10: =I11+I49 -> 4089023.7
A11: 1.kategorija - Ārsts, zobārsts | I11: =SUM(I12:I48) -> 1166724.6
A12: BAC vadītājs (NM ārsts) | B12: 2212 28 | C12: P 39 | D12: 1 | E12: 2500 | F12: 74.925 | G12: 75 | H12: =E12+F12+G12 -> 2649.925 | I12: =ROUND((E12+F12+G12)*('[4]29_01_H_2020'!$O$9)*D12*12*(1+'[4]29_01_H_2020'!$O$24),2) -> 4165.85 | K12: Neatliekamās medicīnas ĀRSTS | L12: P 39 | M12: Reģistrēta
A13: Vadības ārsts (operatīvais dežurants) | B13: 2212 11 | C13: P 00 | D13: 4 | E13: 1647 | F13: 49.41 | G13: 131.76 | H13: =E13+F13+G13 -> 1828.17 | I13: =ROUND((E13+F13+G13)*('[4]29_01_H_2020'!$O$9)*D13*12*(1+'[4]29_01_H_2020'!$O$24),2) -> 11496.01 | K13: ĀRSTS | L13: P 00 | M13: Reģistrēta
A14: Ārsta speciālista brigādes vadītājs - NM ārsts, anesteziologs-reanimatologs | B14: 2211 01 | C14: P 39 / P 18 | D14: 28.5 | E14: 2250 | F14: 67.5 | G14: 1164.375 | H14: =E14+F14+G14 -> 3481.875 | I14: =ROUND((E14+F14+G14)*('[4]29_01_H_2020'!$O$9)*D14*12*(1+'[4]29_01_H_2020'!$O$24),2) -> 156001.39 | K14: Neatliekamās medicīnas ĀRSTS/anesteziologs-reanimatologs | L14: P 39 / P 18 | M14: Reģistrēta
A15: Intensīvās terapijas brigādes vadītājs - NM ārsts | B15: 2212 28 | C15: P 39 | D15: 42.75 | E15: 2000 | F15: 60 | G15: 1035 | H15: =E15+F15+G15 -> 3095 | I15: =ROUND((E15+F15+G15)*('[4]29_01_H_2020'!$O$9)*D15*12*(1+'[4]29_01_H_2020'!$O$24),2) -> 208001.86 | K15: Neatliekamās medicīnas ĀRSTS | L15: P 39 | M15: Reģistrēta
A16: Intensīvās terapijas brigādes vadītājs - ārsts (anesteziologs-reanimatologs) | B16: 2212 28 | C16: P 18 | D16: 4.75 | E16: 2250 | F16: 67.5 | G16: 1179.6975 | H16: =E16+F16+G16 -> 3497.1975 | I16: =ROUND((E16+F16+G16)*('[4]29_01_H_2020'!$O$9)*D16*12*(1+'[4]29_01_H_2020'!$O$24),2) -> 26114.65 | K16: ANESTEZIOLOGS, REANIMATOLOGS | L16: P 18 | M16: Reģistrēta
A17: Anesteziologs - reanimatologs | B17: 2212 05 | C17: P 18 | D17: 4.75 | E17: 2250 | F17: 67.5 | G17: 1164.375 | H17: =E17+F17+G17 -> 3481.875 | I17: =ROUND((E17+F17+G17)*('[4]29_01_H_2020'!$O$9)*D17*12*(1+'[4]29_01_H_2020'!$O$24),2) -> 26000.23 | K17: ANESTEZIOLOGS, REANIMATOLOGS | L17: P 18 | M17: Reģistrēta
A18: Bērnu IT brigādes anesteziologs-reanimatologs | B18: 2212 05 | C18: P 18 | D18: 4.75 | E18: 2250 | F18: 67.5 | G18: 1164.375 | H18: =E18+F18+G18 -> 3481.875 | I18: =ROUND((E18+F18+G18)*('[4]29_01_H_2020'!$O$9)*D18*12*(1+'[4]29_01_H_2020'!$O$24),2) -> 26000.23 | K18: ANESTEZIOLOGS, REANIMATOLOGS | L18: P 18 | M18: Reģistrēta
A19: Neonatologs | B19: 2212 76 | C19: A 151 | D19: 9.5 | E19: 2250 | F19: 67.5 | G19: 1164.375 | H19: =E19+F19+G19 -> 3481.875 | I19: =ROUND((E19+F19+G19)*('[4]29_01_H_2020'!$O$9)*D19*12*(1+'[4]29_01_H_2020'!$O$24),2) -> 52000.46 | K19: NEONATOLOGS | L19: A 151 | M19: Reģistrēta
A20: Anesteziologs - reanimatologs | B20: 2212 05 | C20: P 18 | D20: 4.75 | E20: 2900 | F20: 87 | G20: 203 | H20: =E20+F20+G20 -> 3190 | I20: =ROUND((E20+F20+G20)*('[4]29_01_H_2020'!$O$9)*D20*12*(1+'[4]29_01_H_2020'!$O$24),2) -> 23820.71 | K20: ANESTEZIOLOGS, REANIMATOLOGS | L20: P 18 | M20: Reģistrēta
A21: Apdegumu traumatologs | B21: 2212 58 | C21: PP 30 | D21: 4.75 | E21: 2900 | F21: 87 | G21: 203 | H21: =E21+F21+G21 -> 3190 | I21: =ROUND((E21+F21+G21)*('[4]29_01_H_2020'!$O$9)*D21*12*(1+'[4]29_01_H_2020'!$O$24),2) -> 23820.71 | K21: KOMBUSTIOLOGS | L21: PP 30 | M21: Reģistrēta
A22: Asinsvadu ķirurgs | B22: 2212 63 | C22: P 07 | D22: 4.75 | E22: 2900 | F22: 87 | G22: 203 | H22: =E22+F22+G22 -> 3190 | I22: =ROUND((E22+F22+G22)*('[4]29_01_H_2020'!$O$9)*D22*12*(1+'[4]29_01_H_2020'!$O$24),2) -> 23820.71 | K22: Asinsvadu ĶIRURGS | L22: P 07 | M22: Reģistrēta
A23: Bērnu ķirurgs | B23: 2212 64 | C23: P 12 | D23: 4.75 | E23: 2900 | F23: 87 | G23: 203 | H23: =E23+F23+G23 -> 3190 | I23: =ROUND((E23+F23+G23)*('[4]29_01_H_2020'!$O$9)*D23*12*(1+'[4]29_01_H_2020'!$O$24),2) -> 23820.71 | K23: Bērnu ĶIRURGS | L23: P 12 | M23: Reģistrēta
... A40: Ārsts konsultants | B40: 2212 28 | C40: P 01 / P 02 / P 18 / P 39 / P 52 | D40: 9 | E40: 2350 | F40: 70.5 | G40: 793.125 | H40: =E40+F40+G40 -> 3213.625 | I40: =ROUND((E40+F40+G40)*('[4]29_01_H_2020'!$O$9)*D40*12*(1+'[4]29_01_H_2020'!$O$24),2) -> 45468.24 | K40: Neatliekamās medicīnas ĀRSTS | L40: P 01 / P 02 / P 18 / P 39 / P 52 | M40: Reģistrēta
A41: Ģimenes ārstu konsultatīvā tāruņa konsultants (ārsts) / Ģimenes ārstu konsultatīvā tāruņa konsultants (ārsts, sertificēts) | B41: 2211 03 | C41: P 02 | D41: 1 | E41: 2255 | F41: 67.65 | G41: 761.0625 | H41: =E41+F41+G41 -> 3083.7125 | I41: =ROUND((E41+F41+G41)*('[4]29_01_H_2020'!$O$9)*D41*12*(1+'[4]29_01_H_2020'!$O$24),2) -> 4847.8 | L41: P 02 | M41: Reģistrēta
A42: Ģimenes ārstu konsultatīvā tāruņa konsultants (ārsts) | B42: 2211 03 | C42: P 02 | D42: 8 | E42: 2050 | F42: 61.5 | G42: 691.875 | H42: =E42+F42+G42 -> 2803.375 | I42: =ROUND((E42+F42+G42)*('[4]29_01_H_2020'!$O$9)*D42*12*(1+'[4]29_01_H_2020'!$O$24),2) -> 35256.7 | K42: Ģimenes/ vispārējās prakses ĀRSTS | L42: P 02 | M42: Reģistrēta
A43: Kardiologs - koordinators | B43: 2212 56 | C43: P 52 | D43: 1 | E43: 2450 | F43: 73.5 | G43: 73.5 | H43: =E43+F43+G43 -> 2597 | I43: =ROUND((E43+F43+G43)*('[4]29_01_H_2020'!$O$9)*D43*12*(1+'[4]29_01_H_2020'!$O$24),2) -> 4082.65 | K43: KARDIOLOGS | L43: P 52 | M43: Reģistrēta
A44: SMC Ārsts -Galvenais speciālists medicīniskās evakuācijas jautājumos | B44: 2212 05 | C44: P 01 - P 64 | D44: 0.75 | E44: 1640 | F44: 49.2 | G44: 49.2 | H44: =E44+F44+G44 -> 1738.4 | I44: =ROUND((E44+F44+G44)*('[4]29_01_H_2020'!$O$9)*D44*12*(1+'[4]29_01_H_2020'!$O$24),2) -> 2049.66 | K44: ANESTEZIOLOGS, REANIMATOLOGS | L44: P 01 - P 64 | M44: Reģistrēta
A45: Vecākais ārsts-eksperts | B45: 2212 11 | C45: P 13 | D45: 2 | E45: 1880 | F45: 56.4 | G45: 56.4 | H45: =E45+F45+G45 -> 1992.8 | I45: =ROUND((E45+F45+G45)*('[4]29_01_H_2020'!$O$9)*D45*12*(1+'[4]29_01_H_2020'!$O$24),2) -> 6265.62 | K45: ĀRSTS EKSPERTS | L45: P 13 | M45: Reģistrēta
A46: Ārsts-eksperts | B46: 2211 11 | C46: P 00 | D46: 1 | E46: 1850 | F46: 55.5 | G46: 55.5 | H46: =E46+F46+G46 -> 1961 | I46: =ROUND((E46+F46+G46)*('[4]29_01_H_2020'!$O$9)*D46*12*(1+'[4]29_01_H_2020'!$O$24),2) -> 3082.82 | K46: ĀRSTS EKSPERTS | L46: P 00 | M46: Reģistrēta
A47: Ārsts-eksperts | B47: 2212 11 | C47: P 00 | D47: 6 | E47: 1820 | F47: 54.6 | G47: 54.6 | H47: =E47+F47+G47 -> 1929.2 | I47: =ROUND((E47+F47+G47)*('[4]29_01_H_2020'!$O$9)*D47*12*(1+'[4]29_01_H_2020'!$O$24),2) -> 18196.96 | K47: ĀRSTS EKSPERTS | L47: P 00 | M47: Reģistrēta
A48: Neatliekamās medicīnas praktisko treniņu vadītājs (NM ārsts) | B48: 2212 28 | C48: P39 | D48: 3 | E48: 1900 | F48: 57 | H48: =E48+F48+G48 -> 1957 | I48: =ROUND((E48+F48+G48)*('[4]29_01_H_2020'!$O$9)*D48*12*(1+'[4]29_01_H_2020'!$O$24),2) -> 9229.59 | L48: P39
A49: 3.kategorija - Māsa (vispārējās aprūpes māsa), ārsta palīgs (feldšeris), vecmāte, biomedicīnas laborants, radiologa asistents, radiogrāfers | I49: =SUM(I50:I85) -> 2922299.1
A50: BAC vadītājs (NM ārsta palīgs) | B50: 3258 01 | C50: n74 | D50: 13 | E50: 2350 | F50: 70.5 | G50: 70.5 | H50: =E50+F50+G50 -> 2491 | I50: =ROUND((E50+F50+G50)*('[4]29_01_H_2020'!$O$13)*D50*12*(1+'[4]29_01_H_2020'!$O$24),2) -> 31217.28 | K50: Neatliekamās medicīnas ĀRSTS | L50: n74 | M50: Reģistrēta
A51: BAC galvenais ārsta palīgs | B51: 3258 01 | C51: n74 | D51: 8 | E51: 1960 | F51: 58.8 | G51: 58.8 | H51: =E51+F51+G51 -> 2077.6 | I51: =ROUND((E51+F51+G51)*('[4]29_01_H_2020'!$O$13)*D51*12*(1+'[4]29_01_H_2020'!$O$24),2) -> 16022.48 | K51: Neatliekamās medicīnas ĀRSTA PALĪGS/ FELDŠERIS | L51: n74 | M51: Reģistrēta
A52: BAC galvenais ārsta palīgs | B52: 3258 01 | C52: n74 | D52: 6 | E52: 2000 | F52: 60 | G52: 60 | H52: =E52+F52+G52 -> 2120 | I52: =ROUND((E52+F52+G52)*('[4]29_01_H_2020'!$O$13)*D52*12*(1+'[4]29_01_H_2020'!$O$24),2) -> 12262.11 | K52: Neatliekamās medicīnas ĀRSTA PALĪGS/ FELDŠERIS | L52: n74 | M52: Reģistrēta
A53: BAC vecākais ārsta palīgs | B53: 3258 01 | C53: n74 | D53: 6 | E53: 1830 | F53: 54.9 | G53: 54.9 | H53: =E53+F53+G53 -> 1939.8 | I53: =ROUND((E53+F53+G53)*('[4]29_01_H_2020'!$O$13)*D53*12*(1+'[4]29_01_H_2020'!$O$24),2) -> 11219.83 | K53: Neatliekamās medicīnas ĀRSTA PALĪGS/ FELDŠERIS | L53: n74 | M53: Reģistrēta
A54: RC galvenais ārsta palīgs | B54: 3258 01 | C54: n74 | D54: 6 | E54: 2050 | F54: 61.5 | G54: 61.5 | H54: =E54+F54+G54 -> 2173 | I54: =ROUND((E54+F54+G54)*('[4]29_01_H_2020'!$O$13)*D54*12*(1+'[4]29_01_H_2020'!$O$24),2) -> 12568.66 | K54: Neatliekamās medicīnas ĀRSTA PALĪGS/ FELDŠERIS | L54: n74 | M54: Reģistrēta
A55: Brigādes (2ĀPB) vadītājs - NM ārsta palīgs | B55: 3258 01 | C55: n74 | D55: 33.6 | E55: 1780 | F55: 53.4 | G55: 1116.95 | H55: =E55+F55+G55 -> 2950.35 | I55: =ROUND((E55+F55+G55)*('[4]29_01_H_2020'!$O$13)*D55*12*(1+'[4]29_01_H_2020'!$O$24),2) -> 95563.21 | K55: Neatliekamās medicīnas ĀRSTA PALĪGS/ FELDŠERIS | L55: n74 | M55: Reģistrēta
A56: Brigādes (2SP) vadītājs - NM ārsta palīgs | B56: 3258 01 | C56: n74 | D56: 43.1 | E56: 1515 | F56: 45.45 | G56: 1238.5125 | H56: =E56+F56+G56 -> 2798.9625 | I56: =ROUND((E56+F56+G56)*('[4]29_01_H_2020'!$O$13)*D56*12*(1+'[4]29_01_H_2020'!$O$24),2) -> 116292.65 | K56: Neatliekamās medicīnas ĀRSTA PALĪGS/ FELDŠERIS | L56: n74 | M56: Reģistrēta
A57: Brigādes vadītājs - NM ārsta palīgs | B57: 3258 01 | C57: n74 | D57: 653.15 | E57: 1515 | F57: 45.45 | G57: 784.0125 | H57: =E57+F57+G57 -> 2344.4625 | I57: =ROUND((E57+F57+G57)*('[4]29_01_H_2020'!$O$13)*D57*12*(1+'[4]29_01_H_2020'!$O$24),2) -> 1476162.5 | K57: Neatliekamās medicīnas ĀRSTA PALĪGS/ FELDŠERIS | L57: n74 | M57: Reģistrēta
A58: Brigādes (2ĀPB) otrā ārstniecības persona - NM ārsta palīgs | B58: 3258 01 | C58: n74 | D58: 3.2 | E58: 1330 | F58: 39.9 | G58: 794.675 | H58: =E58+F58+G58 -> 2164.575 | I58: =ROUND((E58+F58+G58)*('[4]29_01_H_2020'!$O$13)*D58*12*(1+'[4]29_01_H_2020'!$O$24),2) -> 6677.29 | K58: Neatliekamās medicīnas ĀRSTA PALĪGS/ FELDŠERIS | L58: n74 | M58: Reģistrēta
A59: Brigādes otrā ārstniecības persona - NM ārsta palīgs | B59: 3258 01 | C59: n74 | D59: 210.5 | E59: 1287.75 | F59: 38.6325 | G59: 666.41063 | H59: =E59+F59+G59 -> 1992.7931 | I59: =ROUND((E59+F59+G59)*('[4]29_01_H_2020'!$O$13)*D59*12*(1+'[4]29_01_H_2020'!$O$24),2) -> 404382.41 | K59: Neatliekamās medicīnas ĀRSTA PALĪGS/ FELDŠERIS | L59: n74 | M59: Reģistrēta
A60: Brigādes vadītājs - vecākais NM ārsta palīgs | B60: 3258 01 | C60: n74 | D60: 36.5 | E60: 1580 | F60: 47.4 | G60: 817.65 | H60: =E60+F60+G60 -> 2445.05 | I60: =ROUND((E60+F60+G60)*('[4]29_01_H_2020'!$O$13)*D60*12*(1+'[4]29_01_H_2020'!$O$24),2) -> 86031.71 | K60: Neatliekamās medicīnas ĀRSTA PALĪGS/ FELDŠERIS | L60: n74 | M60: Reģistrēta
A61: Brigādes vadītājs vecākais - NM ārsta palīgs (atbildībā 2 brigādes) | B61: 3258 01 | C61: n74 | D61: 12 | E61: 1675 | F61: 50.25 | G61: 1084.5625 | H61: =E61+F61+G61 -> 2809.8125 | I61: =ROUND((E61+F61+G61)*('[4]29_01_H_2020'!$O$13)*D61*12*(1+'[4]29_01_H_2020'!$O$24),2) -> 32503.98 | K61: Neatliekamās medicīnas ĀRSTA PALĪGS/ FELDŠERIS | L61: n74 | M61: Reģistrēta
... A79: Ģimenes ārstu konsultatīvā tāruņa konsultants (ārsta palīgs) | B79: 3258 01 | C79: n74 | D79: 2 | E79: 1450 | F79: 43.5 | G79: 489.375 | H79: =E79+F79+G79 -> 1982.875 | I79: =ROUND((E79+F79+G79)*('[4]29_01_H_2020'!$O$13)*D79*12*(1+'[4]29_01_H_2020'!$O$24),2) -> 3822.99 | K79: Neatliekamās medicīnas ĀRSTA PALĪGS/ FELDŠERIS | L79: n74 | M79: Reģistrēta
A80: NMP punkta vecākais ārsta palīgs | B80: 3258 01 | C80: n74 | D80: 7.75 | E80: 1730 | F80: 51.9 | H80: =E80+F80+G80 -> 1781.9 | I80: =ROUND((E80+F80+G80)*('[4]29_01_H_2020'!$O$13)*D80*12*(1+'[4]29_01_H_2020'!$O$24),2) -> 13312.6 | K80: Neatliekamās medicīnas ĀRSTA PALĪGS/ FELDŠERIS | L80: n74 | M80: Reģistrēta
A81: Infekciju uzraudzības speciālists (māsa) | B81: 2263 07 | C81: n123 | D81: 1 | E81: 1800 | F81: 54 | H81: =E81+F81+G81 -> 1854 | I81: =ROUND((E81+F81+G81)*('[4]29_01_H_2020'!$O$13)*D81*12*(1+'[4]29_01_H_2020'!$O$24),2) -> 1787.26 | K81: Sabiedrības veselības SPECIĀLISTS | L81: n123 | M81: Reģistrēta
A82: SMC vecākais ārsta palīgs medicīniskā nodrošinājuma jautājumos | B82: 3258 01 | C82: n74 | D82: 1 | E82: 1700 | F82: 51 | G82: 51 | H82: =E82+F82+G82 -> 1802 | I82: =ROUND((E82+F82+G82)*('[4]29_01_H_2020'!$O$13)*D82*12*(1+'[4]29_01_H_2020'!$O$24),2) -> 1737.13 | K82: Neatliekamās medicīnas ĀRSTA PALĪGS/ FELDŠERIS | L82: n74 | M82: Reģistrēta
A83: SMC ārsta palīgs medicīniskā nodrošinājuma jautājumos | B83: 3258 01 | C83: n74 | D83: 1 | E83: 1330 | F83: 39.9 | G83: 39.9 | H83: =E83+F83+G83 -> 1409.8 | I83: =ROUND((E83+F83+G83)*('[4]29_01_H_2020'!$O$13)*D83*12*(1+'[4]29_01_H_2020'!$O$24),2) -> 1359.05 | K83: Neatliekamās medicīnas ĀRSTA PALĪGS/ FELDŠERIS | L83: n74 | M83: Reģistrēta
A84: Galvenais speciālists ārstniecības kvalitātes jautājumos (ārsta palīgs) | B84: 2421 04 | C84: n74 | D84: 4 | E84: 1450 | F84: 43.5 | G84: 43.5 | H84: =E84+F84+G84 -> 1537 | I84: =ROUND((E84+F84+G84)*('[4]29_01_H_2020'!$O$13)*D84*12*(1+'[4]29_01_H_2020'!$O$24),2) -> 5926.68 | K84: Medicīnas KONSULTANTS | L84: n74 | M84: Reģistrēta
A85: Neatliekamās medicīnas praktisko treniņu vadītājs (NM ārsta palīgs) | B85: 3258 01 | C85: n74 | D85: 3 | E85: 1530 | F85: 45.9 | H85: =E85+F85+G85 -> 1575.9 | I85: =ROUND((E85+F85+G85)*('[4]29_01_H_2020'!$O$13)*D85*12*(1+'[4]29_01_H_2020'!$O$24),2) -> 4557.51 | K85: Neatliekamās medicīnas ĀRSTA PALĪGS/ FELDŠERIS" | L85: n74
A86: II. Reģistrētu ārstniecības personu amati | I86: =I87+I92+I94 -> 1081349.8
A87: 2.kategorija - Ārsts, zobārsts, rezidents | I87: =I88+I91+I89+I90 -> 283695.46
A88: Jaunākais dežūrārsts | B88: 2211 01 | C88: P 00 | D88: 2 | E88: 1850 | F88: 55.5 | G88: 624.375 | H88: =E88+F88+G88 -> 2529.875 | I88: =ROUND((E88+F88+G88)*('[4]29_01_H_2020'!$O$9)*D88*12*(1+'[4]29_01_H_2020'!$O$24),2) -> 7954.25 | K88: Neatliekamās medicīnas ĀRSTA PALĪGS/ FELDŠERI | L88: P 00 | M88: Reģistrēta
A89: Ģimenes ārstu konsultatīvā tāruņa konsultants (ārsts rezidents) | B89: 2211 04 | C89: P 00 | D89: 2 | E89: 2350 | F89: 70.5 | G89: 816.625 | H89: =E89+F89+G89 -> 3237.125 | I89: =ROUND((E89+F89+G89)*('[4]29_01_H_2020'!$O$9)*D89*12*(1+'[4]29_01_H_2020'!$O$24),2) -> 10177.94 | K89: REZIDENTS (ģimenes/ vispārējās prakses ārsta specialitātē) | L89: P 00 | M89: Reģistrēta
A90: Brigādes vadītājs -ārsts, sagatavots NMP sniegšanai | B90: 2211 02 | C90: P 00 | D90: 44 | E90: 1515 | F90: 45.45 | G90: 935.5125 | H90: =E90+F90+G90 -> 2495.9625 | I90: =ROUND((E90+F90+G90)*('[4]29_01_H_2020'!$O$9)*D90*12*(1+'[4]29_01_H_2020'!$O$24),2) -> 172647.85 | K90: ĀRSTS STAŽIERIS | L90: P 00 | M90: Reģistrēta
A91: Brigādes vadītājs - ārsts, sagatavots NMP sniegšanai (anestezioloģijas, reanimatoloģijas vai neatliekamās medicīnas ārsta specialitātes 4./5.gada rezidents, ārsts kardiologs, ārsts internists vai ģimenes ārsts) | B91: 2211 01 | C91: P 00 | D91: 20.5 | E91: 1750 | F91: 52.5 | G91: 1080.625 | H91: =E91+F91+G91 -> 2883.125 | I91: =ROUND((E91+F91+G91)*('[4]29_01_H_2020'!$O$9)*D91*12*(1+'[4]29_01_H_2020'!$O$24),2) -> 92915.42 | K91: ĀRSTS | L91: P 00 | M91: Reģistrēta
A92: 3.kategorija - Fizioterapeits, audiologopēds, uztura speciālists, ergoterapeits, tehniskais ortopēds, mākslas terapeits, optometrists, māsa (vispārējās aprūpes māsa) | I92: =I93 -> 86848.76
A93: Brigādes otrā ārstniecības persona - medicīnas māsa | B93: 2221 46 | C93: n120 | D93: 49 | E93: 1116 | F93: 33.48 | G93: 689.13 | H93: =E93+F93+G93 -> 1838.61 | I93: =ROUND((E93+F93+G93)*('[4]29_01_H_2020'!$O$13)*D93*12*(1+'[4]29_01_H_2020'!$O$24),2) -> 86848.76 | K93: Neaktuāls kods | L93: n120 | M93: Reģistrēta
A94: 4.kategorija - Ārsta palīgs (feldšeris), vecmāte, biomedicīnas laborants, radiologa asistents, radiogrāfers | I94: =SUM(I95:I100) -> 710805.58
A95: Izsaukumu pieņemšanas dispečers (ārsta palīgs) | B95: 3258 01 | C95: n74 | D95: 8.5 | E95: 1450 | F95: 43.5 | G95: 489.375 | H95: =E95+F95+G95 -> 1982.875 | I95: =ROUND((E95+F95+G95)*('[4]29_01_H_2020'!$O$13)*D95*12*(1+'[4]29_01_H_2020'!$O$24),2) -> 16247.71 | K95: Neatliekamās medicīnas ĀRSTA PALĪGS/ FELDŠERIS" | L95: n74 | M95: Reģistrēta
A96: Speciālists NMP brigāžu atbalsta jautājumos (ārsta palīgs, medicīnas māsa) | B96: 3258 01 | C96: n74 | D96: 25 | E96: 1120 | F96: 33.6 | G96: 378 | H96: =E96+F96+G96 -> 1531.6 | I96: =ROUND((E96+F96+G96)*('[4]29_01_H_2020'!$O$13)*D96*12*(1+'[4]29_01_H_2020'!$O$24),2) -> 36911.64 | K96: Neatliekamās medicīnas ĀRSTA PALĪGS/ FELDŠERIS" | L96: n74 | M96: Reģistrēta
A97: Speciālists NMP brigāžu atbalsta jautājumos (ārsta palīgs, medicīnas māsa) | B97: 3258 01 | C97: n74 | D97: 7 | E97: 1230 | F97: 36.9 | G97: 415.125 | H97: =E97+F97+G97 -> 1682.025 | I97: =ROUND((E97+F97+G97)*('[4]29_01_H_2020'!$O$13)*D97*12*(1+'[4]29_01_H_2020'!$O$24),2) -> 11350.33 | K97: Neatliekamās medicīnas ĀRSTA PALĪGS/ FELDŠERIS" | L97: n74 | M97: Reģistrēta
A98: Ārsta - eksperta palīgs | B98: 3258 01 | C98: n74 | D98: 1 | E98: 1450 | F98: 43.5 | H98: =E98+F98+G98 -> 1493.5 | I98: =ROUND((E98+F98+G98)*('[4]29_01_H_2020'!$O$13)*D98*12*(1+'[4]29_01_H_2020'!$O$24),2) -> 1439.74 | K98: Neatliekamās medicīnas ĀRSTA PALĪGS/ FELDŠERIS" | L98: n74 | M98: Reģistrēta
A99: Brigādes otrā ārstniecības persona - ārsta palīgs | B99: 3258 01 | C99: n27 | D99: 352.35 | E99: 1116 | F99: 33.48 | G99: 577.53 | H99: =E99+F99+G99 -> 1727.01 | I99: =ROUND((E99+F99+G99)*('[4]29_01_H_2020'!$O$13)*D99*12*(1+'[4]29_01_H_2020'!$O$24),2) -> 586606.76 | K99: Neatliekamās medicīnas ĀRSTA PALĪGS/ FELDŠERIS" | L99: n27 | M99: Reģistrēta
A100: Brigādes (2ĀPB) otrā ārstniecības persona - ārsta palīgs | B100: 3258 01 | C100: n27 | D100: 28.8 | E100: 1330 | F100: 39.9 | G100: 728.175 | H100: =E100+F100+G100 -> 2098.075 | I100: =ROUND((E100+F100+G100)*('[4]29_01_H_2020'!$O$13)*D100*12*(1+'[4]29_01_H_2020'!$O$24),2) -> 58249.4 | K100: Neatliekamās medicīnas ĀRSTA PALĪGS/ FELDŠERIS" | L100: n27 | M100: Reģistrēta
A101: III. Transportlīdzekļa vadītājs | I101: =I102 -> 1286781.1
A102: 6.kategorija - Transportlīdzekļa vadītājs | I102: =SUM(I103:I107) -> 1286781.1
A103: OMT vadītājs | B103: 8322 03 | D103: 724.3 | E103: 960 | F103: 28.8 | G103: 496.8 | H103: =E103+F103+G103 -> 1485.6 | I103: =ROUND((E103+F103+G103)*('[4]29_01_H_2020'!$O$16)*D103*12*(1+'[4]29_01_H_2020'!$O$24),2) -> 1101118.5 | K103: Sanitārautomobiļa VADĪTĀJS | M103: Reģistrēta
A104: Vecākais OMT vadītājs | B104: 8322 03 | D104: 30 | E104: 1024 | F104: 30.72 | G104: 529.92 | H104: =E104+F104+G104 -> 1584.64 | I104: =ROUND((E104+F104+G104)*('[4]29_01_H_2020'!$O$16)*D104*12*(1+'[4]29_01_H_2020'!$O$24),2) -> 48648.06 | K104: Sanitārautomobiļa VADĪTĀJS | M104: Reģistrēta
A105: Vecākais OMT vadītājs | B105: 8322 03 | D105: 14 | E105: 1102 | F105: 33.06 | G105: 658.445 | H105: =E105+F105+G105 -> 1793.505 | I105: =ROUND((E105+F105+G105)*('[4]29_01_H_2020'!$O$16)*D105*12*(1+'[4]29_01_H_2020'!$O$24),2) -> 25694.74 | K105: Sanitārautomobiļa VADĪTĀJS | M105: Reģistrēta
A106: Vecākais OMT vadītājs | B106: 8322 03 | D106: 31 | E106: 1102 | F106: 33.06 | G106: 768.645 | H106: =E106+F106+G106 -> 1903.705 | I106: =ROUND((E106+F106+G106)*('[4]29_01_H_2020'!$O$16)*D106*12*(1+'[4]29_01_H_2020'!$O$24),2) -> 60391.39 | K106: Sanitārautomobiļa VADĪTĀJS | M106: Reģistrēta
A107: SMC OMT vadītājs | B107: 8322 03 | D107: 33.5 | E107: 960 | F107: 28.8 | G107: 496.8 | H107: =E107+F107+G107 -> 1485.6 | I107: =ROUND((E107+F107+G107)*('[4]29_01_H_2020'!$O$16)*D107*12*(1+'[4]29_01_H_2020'!$O$24),2) -> 50928.44 | K107: Sanitārautomobiļa VADĪTĀJS | M107: Reģistrēta
A108: IV. Medicīnas asistenta amats | I108: =I109 -> 151039.4
A109: 6.kategorija - Medicīnas asistents | I109: =SUM(I110:I110) -> 151039.4
A110: Medicīnas asistents | B110: 5321 05 | D110: 117.75 | E110: 810 | F110: 24.3 | G110: 419.175 | H110: =E110+F110+G110 -> 1253.475 | I110: =ROUND((E110+F110+G110)*('[4]29_01_H_2020'!$O$16)*D110*12*(1+'[4]29_01_H_2020'!$O$24),2) -> 151039.4
A111: Kopā | D111: =SUM(D12:D48,D50:D85,D88:D91,D93:D93,D95:D100,D103:D110) -> 3046.25 | E111: X | F111: X | G111: X | H111: X | I111: =I101+I86+I10+I108 -> 6608194

Sheet VM VADC MK851
H1: Pielikums Nr.1.8.
A2: Valsts asinsdonoru centra ārstniecības personu faktiskā darba samaksas pieaugums (MK noteikumi Nr.851)
I4: EUR
A5: Informācija par ārstniecības personām
A6: Ārstniecības personas amata kvalifikācijas kategorija | B6: Profesiju klasifikātora kods (atbilstoši MK noteikumiem Nr.264) | C6: Ārstniecības personas profesijas vai specialitātes kodu (atbilstoši MK noteikumiem Nr.317) | D6: Slodzes (strādājošo skaits normālā darba laika ietvaros) | E6: Faktiskā mēnešalgas likme par 1 (vienu) slodzi | F6: Palielinājums par darba stāžu | G6: Piemaksas | H6: Faktiskā darba samaksa (atalgojums par slodzi) mēnesī | I6: Darba samaksas pieaugums 2024.gadam, t.sk. 23.59%
K7: Pārbaude, atbilstība prof. klasifikatoram | L7: Ārstniecības personas profesijas vai specialitātes kodu (atbilstoši MK noteikumiem Nr.317) | M7: Reģistrācija Ārstniecības ietāžu reģistrā
A8: Valsts asinsdonoru centrs
A9: 39.03.00 Specializētās veselības aprūpes nodrošināšana, Asins un asins komponentu nodrošināšana
A10: I. Sertificētu ārstniecības personu amati | I10: =I11+I27 -> 101595.26
A11: 1.kategorija - Ārsts, zobārsts | I11: =SUM(I12:I26) -> 48410.69
A12: Transfuzioloģiskā departamenta direktors (ārsts) | B12: 134203 | C12: PP24 | D12: 1 | E12: 2526 | F12: 75.78 | G12: 105.25 | H12: =E12+F12+G12 -> 2707.03 | I12: =ROUND((E12+F12+G12)*('[4]29_01_H_2020'!$O$9)*D12*12*(1+'[4]29_01_H_2020'!$O$24),2) -> 4255.63 | L12: PP24 | M12: 10015701
A13: ASD Nodaļas vadītājs (virsārsts) | B13: 134203 | C13: PP24 | D13: 1 | E13: 2205 | F13: 66.15 | G13: 91.875 | H13: =E13+F13+G13 -> 2363.025 | I13: =ROUND((E13+F13+G13)*('[4]29_01_H_2020'!$O$9)*D13*12*(1+'[4]29_01_H_2020'!$O$24),2) -> 3714.83 | L13: PP24 | M13: 10015701
A14: LF vadītājs (virsārsts) | B14: 134203 | C14: PP24 | D14: 1 | E14: 2108 | F14: 63.24 | G14: 87.833333 | H14: =E14+F14+G14 -> 2259.0733 | I14: =ROUND((E14+F14+G14)*('[4]29_01_H_2020'!$O$9)*D14*12*(1+'[4]29_01_H_2020'!$O$24),2) -> 3551.41 | L14: PP24 | M14: 10015701
A15: KF vadītājs (virsārsts) | B15: 134203 | C15: PP24 | D15: 1 | E15: 2108 | F15: 63.24 | G15: 87.833333 | H15: =E15+F15+G15 -> 2259.0733 | I15: =ROUND((E15+F15+G15)*('[4]29_01_H_2020'!$O$9)*D15*12*(1+'[4]29_01_H_2020'!$O$24),2) -> 3551.41 | L15: PP24 | M15: 10015701
A16: ID nodaļas vadītājs (virsārsts) | B16: 134203 | C16: PP24 | D16: 1 | E16: 2108 | F16: 63.24 | G16: 87.833333 | H16: =E16+F16+G16 -> 2259.0733 | I16: =ROUND((E16+F16+G16)*('[4]29_01_H_2020'!$O$9)*D16*12*(1+'[4]29_01_H_2020'!$O$24),2) -> 3551.41 | L16: PP24 | M16: 10015701
A17: Ārsts Donoru nodaļa | B17: 221101 | C17: P01 | D17: 1 | E17: 1768 | F17: 53.04 | G17: 73.666667 | H17: =E17+F17+G17 -> 1894.7067 | I17: =ROUND((E17+F17+G17)*('[4]29_01_H_2020'!$O$9)*D17*12*(1+'[4]29_01_H_2020'!$O$24),2) -> 2978.6 | L17: P01 | M17: 10015701
A18: Ārsts Donoru nodaļa | B18: 221101 | C18: P53 | D18: 1 | E18: 1768 | F18: 53.04 | G18: 73.666667 | H18: =E18+F18+G18 -> 1894.7067 | I18: =ROUND((E18+F18+G18)*('[4]29_01_H_2020'!$O$9)*D18*12*(1+'[4]29_01_H_2020'!$O$24),2) -> 2978.6 | L18: P53 | M18: 10015701
A19: Ārsts Donoru nodaļa | B19: 221101 | C19: PP24/P01 | D19: 1 | E19: 1768 | F19: 53.04 | G19: 73.666667 | H19: =E19+F19+G19 -> 1894.7067 | I19: =ROUND((E19+F19+G19)*('[4]29_01_H_2020'!$O$9)*D19*12*(1+'[4]29_01_H_2020'!$O$24),2) -> 2978.6 | L19: PP24/P01 | M19: 10015701
A20: Ārsts Donoru nodaļa | B20: 221101 | C20: 0 | D20: 1 | E20: 1768 | F20: 53.04 | G20: 73.666667 | H20: =E20+F20+G20 -> 1894.7067 | I20: =ROUND((E20+F20+G20)*('[4]29_01_H_2020'!$O$9)*D20*12*(1+'[4]29_01_H_2020'!$O$24),2) -> 2978.6 | L20: 0 | M20: 10015701
A21: Ārsts E nodaļa | B21: 221101 | C21: PP24 | D21: 1 | E21: 1768 | F21: 53.04 | G21: 73.666667 | H21: =E21+F21+G21 -> 1894.7067 | I21: =ROUND((E21+F21+G21)*('[4]29_01_H_2020'!$O$9)*D21*12*(1+'[4]29_01_H_2020'!$O$24),2) -> 2978.6 | L21: PP24 | M21: 10015701
A22: Ārsts LF nodaļa | B22: 221101 | C22: PP24 | D22: 1 | E22: 1768 | F22: 53.04 | G22: 73.666667 | H22: =E22+F22+G22 -> 1894.7067 | I22: =ROUND((E22+F22+G22)*('[4]29_01_H_2020'!$O$9)*D22*12*(1+'[4]29_01_H_2020'!$O$24),2) -> 2978.6 | L22: PP24 | M22: 10015701
A23: Ārsts ID nodaļa | B23: 221101 | C23: P29 | D23: 1 | E23: 1768 | F23: 53.04 | G23: 73.666667 | H23: =E23+F23+G23 -> 1894.7067 | I23: =ROUND((E23+F23+G23)*('[4]29_01_H_2020'!$O$9)*D23*12*(1+'[4]29_01_H_2020'!$O$24),2) -> 2978.6 | L23: P29 | M23: 10015701
A24: Ārsts ID nodaļa | B24: 221101 | C24: PP24 | D24: 1 | E24: 1768 | F24: 53.04 | G24: 73.666667 | H24: =E24+F24+G24 -> 1894.7067 | I24: =ROUND((E24+F24+G24)*('[4]29_01_H_2020'!$O$9)*D24*12*(1+'[4]29_01_H_2020'!$O$24),2) -> 2978.6 | L24: PP24 | M24: 10015701
A25: Ārsts ID nodaļa | B25: 221101 | C25: PP24 | D25: 1 | E25: 1768 | F25: 53.04 | G25: 73.666667 | H25: =E25+F25+G25 -> 1894.7067 | I25: =ROUND((E25+F25+G25)*('[4]29_01_H_2020'!$O$9)*D25*12*(1+'[4]29_01_H_2020'!$O$24),2) -> 2978.6 | L25: PP24 | M25: 10015701
A26: Ārsts ID nodaļa | B26: 221101 | C26: PP24 | D26: 1 | E26: 1768 | F26: 53.04 | G26: 73.666667 | H26: =E26+F26+G26 -> 1894.7067 | I26: =ROUND((E26+F26+G26)*('[4]29_01_H_2020'!$O$9)*D26*12*(1+'[4]29_01_H_2020'!$O$24),2) -> 2978.6 | L26: PP24 | M26: 10015701
A27: 3.kategorija - Ārsta palīgs (feldšeris), vecmāte, biomedicīnas laborants, radiologa asistents, radiogrāfers | I27: =SUM(I28:I38) -> 53184.57
A28: Laboratoriju departamenta direktors (biomedicīnas laborants) | B28: 134204 | C28: n76 | D28: 1 | E28: 2393 | F28: 71.79 | G28: 99.708333 | H28: =E28+F28+G28 -> 2564.4983 | I28: =ROUND((E28+F28+G28)*('[4]29_01_H_2020'!$O$13)*D28*12*(1+'[4]29_01_H_2020'!$O$24),2) -> 2472.18 | L28: n76 | M28: 10015701
A29: Donoru nodaļas vadītājs (ārsta palīgs) | B29: 134204 | C29: n27 | D29: 1 | E29: 1992 | F29: 59.76 | G29: 83 | H29: =E29+F29+G29 -> 2134.76 | I29: =ROUND((E29+F29+G29)*('[4]29_01_H_2020'!$O$13)*D29*12*(1+'[4]29_01_H_2020'!$O$24),2) -> 2057.91 | L29: n27 | M29: 10015701
A30: KL Laboratorijas vadītājs (medicīnas laborants) | B30: 134204 | C30: n108 | D30: 1 | E30: 1847 | F30: 55.41 | G30: 76.958333 | H30: =E30+F30+G30 -> 1979.3683 | I30: =ROUND((E30+F30+G30)*('[4]29_01_H_2020'!$O$13)*D30*12*(1+'[4]29_01_H_2020'!$O$24),2) -> 1908.12 | L30: n108 | M30: 10015701
A31: Vecākais biomedicīnas laborants | B31: 321203 | C31: n76 | D31: 2 | E31: 1555 | F31: 46.65 | G31: 64.791667 | H31: =E31+F31+G31 -> 1666.4417 | I31: =ROUND((E31+F31+G31)*('[4]29_01_H_2020'!$O$13)*D31*12*(1+'[4]29_01_H_2020'!$O$24),2) -> 3212.91 | L31: n76 | M31: 10015701
A32: Biomedicīnas laborants | B32: 321203 | C32: n76 | D32: 9 | E32: 1458 | F32: 43.74 | G32: 60.75 | H32: =E32+F32+G32 -> 1562.49 | I32: =ROUND((E32+F32+G32)*('[4]29_01_H_2020'!$O$13)*D32*12*(1+'[4]29_01_H_2020'!$O$24),2) -> 13556.19 | L32: n76 | M32: 10015701
A33: Biomedicīnas laborants LF | B33: 321203 | C33: n76 | D33: 1.5 | E33: 1458 | F33: 43.74 | G33: 60.75 | H33: =E33+F33+G33 -> 1562.49 | I33: =ROUND((E33+F33+G33)*('[4]29_01_H_2020'!$O$13)*D33*12*(1+'[4]29_01_H_2020'!$O$24),2) -> 2259.37 | L33: n76 | M33: 10015701
A34: Medicīnas laborants | B34: 321202 | C34: n76 | D34: 1 | E34: 1458 | F34: 43.74 | G34: 60.75 | H34: =E34+F34+G34 -> 1562.49 | I34: =ROUND((E34+F34+G34)*('[4]29_01_H_2020'!$O$13)*D34*12*(1+'[4]29_01_H_2020'!$O$24),2) -> 1506.24 | L34: n76 | M34: 10015701
A35: Vecākais ārsta palīgs (feldšeris) DAD* | B35: 224001 | C35: n27 | D35: 1 | E35: 1604 | F35: 48.12 | G35: 179.11333 | H35: =E35+F35+G35 -> 1831.2333 | I35: =ROUND((E35+F35+G35)*('[4]29_01_H_2020'!$O$13)*D35*12*(1+'[4]29_01_H_2020'!$O$24),2) -> 1765.31 | L35: n27 | M35: 10015701
A36: Ārsta palīgs * | B36: 224001 | C36: n27 | D36: 12 | E36: 1555 | F36: 46.65 | G36: 173.64167 | H36: =E36+F36+G36 -> 1775.2917 | I36: =ROUND((E36+F36+G36)*('[4]29_01_H_2020'!$O$13)*D36*12*(1+'[4]29_01_H_2020'!$O$24),2) -> 20536.62 | L36: n27 | M36: 10015701
A37: Ārsta palīgs | B37: 224001 | C37: n27 | D37: 1.5 | E37: 1555 | F37: 46.65 | G37: 64.791667 | H37: =E37+F37+G37 -> 1666.4417 | I37: =ROUND((E37+F37+G37)*('[4]29_01_H_2020'!$O$13)*D37*12*(1+'[4]29_01_H_2020'!$O$24),2) -> 2409.68 | L37: n27 | M37: 10015701
A38: Ārsta palīgs KF (nesertificēts) | B38: 224001 | C38: n27 | D38: 1 | E38: 1452 | F38: 43.56 | G38: 60.5 | H38: =E38+F38+G38 -> 1556.06 | I38: =ROUND((E38+F38+G38)*('[4]29_01_H_2020'!$O$13)*D38*12*(1+'[4]29_01_H_2020'!$O$24),2) -> 1500.04 | L38: n27 | M38: 10015701
A39: II. Reģistrētu ārstniecības personu amati | I39: =I51+I40 -> 89998.97
A40: 3.kategorija - Fizioterapeits, audiologopēds, uztura speciālists, ergoterapeits, tehniskais ortopēds, mākslas terapeits, optometrists, māsa (vispārējās aprūpes māsa) | I40: =SUM(I41:I50) -> 68164.96
A41: Eksperts Asins dienestā (māsa) | B41: 242210 | C41: n120 | D41: 1 | E41: 1600 | F41: 48 | G41: 66.666667 | H41: =E41+F41+G41 -> 1714.6667 | I41: =ROUND((E41+F41+G41)*('[4]29_01_H_2020'!$O$13)*D41*12*(1+'[4]29_01_H_2020'!$O$24),2) -> 1652.94 | L41: n120 | M41: 10015701
A42: Noliktavas pārzinis (medicīniskā noliktava) (māsa) | B42: 432103 | C42: n120 | D42: 1 | E42: 1247 | F42: 37.41 | G42: 51.958333 | H42: =E42+F42+G42 -> 1336.3683 | I42: =ROUND((E42+F42+G42)*('[4]29_01_H_2020'!$O$13)*D42*12*(1+'[4]29_01_H_2020'!$O$24),2) -> 1288.26 | L42: n120 | M42: 10015701
A43: BVD Laboratorijas vadītājs (medicīnas laborants) | B43: 134204 | C43: n108 | D43: 1 | E43: 1992 | F43: 59.76 | G43: 83 | H43: =E43+F43+G43 -> 2134.76 | I43: =ROUND((E43+F43+G43)*('[4]29_01_H_2020'!$O$13)*D43*12*(1+'[4]29_01_H_2020'!$O$24),2) -> 2057.91 | L43: n108 | M43: 10015701
A44: Galvenā māsa | B44: 134205 | C44: n120 | D44: 1 | E44: 1798 | F44: 53.94 | G44: 74.916667 | H44: =E44+F44+G44 -> 1926.8567 | I44: =ROUND((E44+F44+G44)*('[4]29_01_H_2020'!$O$13)*D44*12*(1+'[4]29_01_H_2020'!$O$24),2) -> 1857.49 | L44: n120 | M44: 10015701
A45: Virsmāsa (ASD, E, LF) | B45: 222102 | C45: n120 | D45: 3 | E45: 1555 | F45: 46.65 | G45: 64.791667 | H45: =E45+F45+G45 -> 1666.4417 | I45: =ROUND((E45+F45+G45)*('[4]29_01_H_2020'!$O$13)*D45*12*(1+'[4]29_01_H_2020'!$O$24),2) -> 4819.36 | L45: n120 | M45: 10015701
A46: Māsa ASD | B46: 222146 | C46: n120 | D46: 19 | E46: 1410 | F46: 42.3 | G46: 58.75 | H46: =E46+F46+G46 -> 1511.05 | I46: =ROUND((E46+F46+G46)*('[4]29_01_H_2020'!$O$13)*D46*12*(1+'[4]29_01_H_2020'!$O$24),2) -> 27676.45 | L46: n120 | M46: 10015701
A47: Māsa E | B47: 222146 | C47: n120 | D47: 2 | E47: 1410 | F47: 42.3 | G47: 58.75 | H47: =E47+F47+G47 -> 1511.05 | I47: =ROUND((E47+F47+G47)*('[4]29_01_H_2020'!$O$13)*D47*12*(1+'[4]29_01_H_2020'!$O$24),2) -> 2913.31 | L47: n120 | M47: 10015701
A48: Māsa E** | B48: 222146 | C48: n120 | D48: 6 | E48: 1410 | F48: 42.3 | G48: 129.25 | H48: =E48+F48+G48 -> 1581.55 | I48: =ROUND((E48+F48+G48)*('[4]29_01_H_2020'!$O$13)*D48*12*(1+'[4]29_01_H_2020'!$O$24),2) -> 9147.7 | L48: n120 | M48: 10015701
A49: Māsa LF | B49: 222146 | C49: n120 | D49: 6.5 | E49: 1410 | F49: 42.3 | G49: 58.75 | H49: =E49+F49+G49 -> 1511.05 | I49: =ROUND((E49+F49+G49)*('[4]29_01_H_2020'!$O$13)*D49*12*(1+'[4]29_01_H_2020'!$O$24),2) -> 9468.26 | L49: n120 | M49: 10015701
A50: Māsa KF | B50: 222146 | C50: n120 | D50: 5 | E50: 1410 | F50: 42.3 | G50: 58.75 | H50: =E50+F50+G50 -> 1511.05 | I50: =ROUND((E50+F50+G50)*('[4]29_01_H_2020'!$O$13)*D50*12*(1+'[4]29_01_H_2020'!$O$24),2) -> 7283.28 | L50: n120 | M50: 10015701
A51: 6.kategorija - Māsas palīgs | I51: =SUM(I52:I58) -> 21834.01
A52: E nodaļas vadītājs (māsas palīgs) | B52: 134204 | C52: n70 | D52: 1 | E52: 1945 | F52: 58.35 | G52: 81.041667 | H52: =E52+F52+G52 -> 2084.3917 | I52: =ROUND((E52+F52+G52)*('[4]29_01_H_2020'!$O$16)*D52*12*(1+'[4]29_01_H_2020'!$O$24),2) -> 2133.01 | L52: n70 | M52: 10015701
A53: Māsas palīgs ASD | B53: 532103 | C53: n70 | D53: 10 | E53: 1159 | F53: 34.77 | G53: 48.291667 | H53: =E53+F53+G53 -> 1242.0617 | I53: =ROUND((E53+F53+G53)*('[4]29_01_H_2020'!$O$16)*D53*12*(1+'[4]29_01_H_2020'!$O$24),2) -> 12710.33 | L53: n70 | M53: 10015701
A54: Māsas palīgs LF | B54: 532103 | C54: n70 | D54: 1.5 | E54: 1159 | F54: 34.77 | G54: 48.291667 | H54: =E54+F54+G54 -> 1242.0617 | I54: =ROUND((E54+F54+G54)*('[4]29_01_H_2020'!$O$16)*D54*12*(1+'[4]29_01_H_2020'!$O$24),2) -> 1906.55 | L54: n70 | M54: 10015701
A55: Māsas palīgs KF | B55: 532103 | C55: n70 | D55: 1 | E55: 1159 | F55: 34.77 | G55: 48.291667 | H55: =E55+F55+G55 -> 1242.0617 | I55: =ROUND((E55+F55+G55)*('[4]29_01_H_2020'!$O$16)*D55*12*(1+'[4]29_01_H_2020'!$O$24),2) -> 1271.03 | L55: n70 | M55: 10015701
A56: Māsas palīgs ID | B56: 532103 | C56: n70 | D56: 1 | E56: 1159 | F56: 34.77 | G56: 48.291667 | H56: =E56+F56+G56 -> 1242.0617 | I56: =ROUND((E56+F56+G56)*('[4]29_01_H_2020'!$O$16)*D56*12*(1+'[4]29_01_H_2020'!$O$24),2) -> 1271.03 | L56: n70 | M56: 10015701
A57: Māsas palīgs BVD | B57: 532103 | C57: n70 | D57: 1 | E57: 1159 | F57: 34.77 | G57: 48.291667 | H57: =E57+F57+G57 -> 1242.0617 | I57: =ROUND((E57+F57+G57)*('[4]29_01_H_2020'!$O$16)*D57*12*(1+'[4]29_01_H_2020'!$O$24),2) -> 1271.03 | L57: n70 | M57: 10015701
A58: Māsas palīgs KL | B58: 532103 | C58: n70 | D58: 1 | E58: 1159 | F58: 34.77 | G58: 48.291667 | H58: =E58+F58+G58 -> 1242.0617 | I58: =ROUND((E58+F58+G58)*('[4]29_01_H_2020'!$O$16)*D58*12*(1+'[4]29_01_H_2020'!$O$24),2) -> 1271.03 | L58: n70 | M58: 10015701
A59: III. Transportlīdzekļa vadītāja amats | I59: =I60 -> 8897.23
A60: 6.kategorija - Transportlīdzekļa vadītājs | I60: =SUM(I61:I61) -> 8897.23
A61: Specializētā autobusa vadītājs - izbraukumos | B61: 833208 | C61: 3./99 | D61: 7 | E61: 1159 | F61: 34.77 | G61: 48.291667 | H61: =E61+F61+G61 -> 1242.0617 | I61: =ROUND((E61+F61+G61)*('[4]29_01_H_2020'!$O$16)*D61*12*(1+'[4]29_01_H_2020'!$O$24),2) -> 8897.23 | L61: 3./99 | M61: 10015701
A62: Kopā | D62: =SUM(D12:D26,D28:D38,D41:D50,D52:D58,D61) -> 116 | E62: X | F62: X | G62: X | I62: =I39+I10+I59 -> 200491.46
A64: Valsts Asinsdonoru centrs - slimnīcu Asins sagatavošanas nodaļās strādājošie
A65: 39.03.00 Specializētās veselības aprūpes nodrošināšana, Asins un asins komponentu nodrošināšana, EKK 2800
A66: I. Sertificētu ārstniecības personu amati | I66: =I67+I69 -> 29260.12
A67: 1.kategorija - Ārsts, zobārsts | I67: =SUM(I68:I68) -> 11165.12
A68: Ārsts | B68: 2211 01 | D68: 3.5 | E68: 1893.5 | F68: 56.805 | G68: 78.895833 | H68: =E68+F68+G68 -> 2029.2008 | I68: =ROUND((E68+F68+G68)*('[4]29_01_H_2020'!$O$9)*D68*12*(1+'[4]29_01_H_2020'!$O$24),2) -> 11165.12
A69: 3.kategorija - Māsa (vispārējās aprūpes māsa), ārsta palīgs (feldšeris), vecmāte, biomedicīnas laborants, radiologa asistents, radiogrāfers | I69: =SUM(I70:I70) -> 18095
A70: Māsa | B70: 2221 46 | D70: 13.75 | E70: 1273.85 | F70: 38.2155 | G70: 53.077083 | H70: =E70+F70+G70 -> 1365.1426 | I70: =ROUND((E70+F70+G70)*('[4]29_01_H_2020'!$O$13)*D70*12*(1+'[4]29_01_H_2020'!$O$24),2) -> 18095
A71: II. Reģistrētu ārstniecības personu amati | I71: =I72 -> 3420.53
A72: 6.kategorija - Māsas palīgs | I72: =SUM(I73:I74) -> 3420.53
A73: Māsas palīgs | B73: 532103 | D73: 3.15 | E73: 840 | F73: 25.2 | G73: 35 | H73: =E73+F73+G73 -> 900.2 | I73: =ROUND((E73+F73+G73)*('[4]29_01_H_2020'!$O$16)*D73*12*(1+'[4]29_01_H_2020'!$O$24),2) -> 2901.77
A74: Klientu pacientu reģistrators | B74: 334401 | D74: 0.6 | E74: 788.39 | F74: 23.6517 | G74: 32.849583 | H74: =E74+F74+G74 -> 844.89128 | I74: =ROUND((E74+F74+G74)*('[4]29_01_H_2020'!$O$16)*D74*12*(1+'[4]29_01_H_2020'!$O$24),2) -> 518.76
A75: Kopā | D75: =SUM(D68:D68,D70:D70,,D73:D74) -> 21 | E75: X | F75: X | G75: X | I75: =I71+I66 -> 32680.65

Sheet VM VTMEC MK851
H1: Pielikums Nr.1.9.
A2: Valsts tiesu medicīnas ekspertīzes centra ārstniecības personu faktiskā darba samaksas pieaugums (MK noteikumi Nr.851)
I4: EUR
A5: Informācija par ārstniecības personām
A6: Ārstniecības personas amata kvalifikācijas kategorija | B6: Profesiju klasifikātora kods (atbilstoši MK noteikumiem Nr.264) | C6: Ārstniecības personas profesijas vai specialitātes kodu (atbilstoši MK noteikumiem Nr.317) | D6: Slodzes (strādājošo skaits normālā darba laika ietvaros) | E6: Faktiskā mēnešalgas likme par 1 (vienu) slodzi | F6: Palielinājums par darba stāžu | G6: Piemaksas | H6: Faktiskā darba samaksa (atalgojums par slodzi) mēnesī | I6: Darba samaksas pieaugums 2024.gadam, t.sk. 23.59%
K7: Pārbaude, atbilstība prof. klasifikatoram | L7: Ārstniecības personas profesijas vai specialitātes kodu (atbilstoši MK noteikumiem Nr.317) | M7: Reģistrācija Ārstniecības ietāžu reģistrā
A8: Valsts tiesu medicīnas ekspertīzes centrs
A9: 39.06.00 Tiesu medicīniskā ekspertīze
A10: I. Sertificētu ārstniecības personu amati | I10: =I11 -> 191079.02
A11: 1.kategorija - Ārsts, zobārsts | I11: =SUM(I12:I41) -> 191079.02
A12: Direktora vietnieks - vecākais tiesu medicīnas eksperts | B12: 121302 | C12: P34 | D12: 1 | E12: 3344 | F12: 133.76 | G12: 300.96 | H12: =E12+F12+G12 -> 3778.72 | I12: =ROUND((E12+F12+G12)*('[4]29_01_H_2020'!$O$9)*D12*12*(1+'[4]29_01_H_2020'!$O$24),2) -> 5940.39 | K12: Pārvaldes DIREKTORA VIETNIEKS (valsts pārvaldes jomā) | L12: P34 | M12: Reģistrēta
A13: Tiesu medicīnas ekspertīžu departamenta direktors - vecākais tiesu medicīnas eksperts | B13: 121305 | C13: P34 | D13: 1 | E13: 2903 | F13: 232.24 | G13: 319.33 | H13: =E13+F13+G13 -> 3454.57 | I13: =ROUND((E13+F13+G13)*('[4]29_01_H_2020'!$O$9)*D13*12*(1+'[4]29_01_H_2020'!$O$24),2) -> 5430.81 | K13: Pamatdarbības struktūrvienības VADĪTĀJS/ DIREKTORS (valsts pārvaldes jomā) | L13: P34 | M13: Reģistrēta
A14: Tiesu medicīnas laboratoriju departamenta direktors - vecākais tiesu medicīnas eksperts | B14: 121305 | C14: P34 | D14: 1 | E14: 2758 | F14: 110.32 | G14: 303.38 | H14: =E14+F14+G14 -> 3171.7 | I14: =ROUND((E14+F14+G14)*('[4]29_01_H_2020'!$O$9)*D14*12*(1+'[4]29_01_H_2020'!$O$24),2) -> 4986.12 | K14: Pamatdarbības struktūrvienības VADĪTĀJS/ DIREKTORS (valsts pārvaldes jomā) | L14: P34 | M14: Reģistrēta
A15: Nodaļas vadītājs - vecākais tiesu medicīnas eksperts | B15: 221239 | C15: P34 | D15: 1 | E15: 2614 | F15: 104.56 | G15: 392.1 | H15: =E15+F15+G15 -> 3110.66 | I15: =ROUND((E15+F15+G15)*('[4]29_01_H_2020'!$O$9)*D15*12*(1+'[4]29_01_H_2020'!$O$24),2) -> 4890.16 | K15: Tiesu medicīnas EKSPERTS | L15: P34 | M15: Reģistrēta
A16: Nodaļas vadītājs - vecākais tiesu medicīnas eksperts | B16: 221239 | C16: P34 | D16: 1 | E16: 2614 | F16: 52.28 | G16: 235.26 | H16: =E16+F16+G16 -> 2901.54 | I16: =ROUND((E16+F16+G16)*('[4]29_01_H_2020'!$O$9)*D16*12*(1+'[4]29_01_H_2020'!$O$24),2) -> 4561.41 | K16: Tiesu medicīnas EKSPERTS | L16: P34 | M16: Reģistrēta
A17: Nodaļas vadītājs - vecākais tiesu medicīnas eksperts | B17: 221239 | C17: P34 | D17: 1 | E17: 2325 | F17: 116.25 | G17: 302.25 | H17: =E17+F17+G17 -> 2743.5 | I17: =ROUND((E17+F17+G17)*('[4]29_01_H_2020'!$O$9)*D17*12*(1+'[4]29_01_H_2020'!$O$24),2) -> 4312.96 | K17: Tiesu medicīnas EKSPERTS | L17: P34 | M17: Reģistrēta
A18: Nodaļas vadītājs - vecākais tiesu medicīnas eksperts | B18: 221239 | C18: P34 | D18: 2 | E18: 2325 | F18: 93 | G18: 302.25 | H18: =E18+F18+G18 -> 2720.25 | I18: =ROUND((E18+F18+G18)*('[4]29_01_H_2020'!$O$9)*D18*12*(1+'[4]29_01_H_2020'!$O$24),2) -> 8552.82 | K18: Tiesu medicīnas EKSPERTS | L18: P34 | M18: Reģistrēta
A19: Nodaļas vadītājs - vecākais tiesu medicīnas eksperts | B19: 221239 | C19: P34 | D19: 2 | E19: 2325 | F19: 69.75 | G19: 302.25 | H19: =E19+F19+G19 -> 2697 | I19: =ROUND((E19+F19+G19)*('[4]29_01_H_2020'!$O$9)*D19*12*(1+'[4]29_01_H_2020'!$O$24),2) -> 8479.72 | K19: Tiesu medicīnas EKSPERTS | L19: P34 | M19: Reģistrēta
A20: Nodaļas vadītājs - vecākais tiesu medicīnas eksperts | B20: 221239 | C20: P34 | D20: 1 | E20: 2325 | F20: 23.25 | G20: 302.25 | H20: =E20+F20+G20 -> 2650.5 | I20: =ROUND((E20+F20+G20)*('[4]29_01_H_2020'!$O$9)*D20*12*(1+'[4]29_01_H_2020'!$O$24),2) -> 4166.76 | K20: Tiesu medicīnas EKSPERTS | L20: P34 | M20: Reģistrēta
A21: Nodaļas vadītājs - vecākais tiesu medicīnas eksperts | B21: 221239 | C21: P34 | D21: 1 | E21: 2036 | F21: 81.44 | G21: 264.68 | H21: =E21+F21+G21 -> 2382.12 | I21: =ROUND((E21+F21+G21)*('[4]29_01_H_2020'!$O$9)*D21*12*(1+'[4]29_01_H_2020'!$O$24),2) -> 3744.85 | K21: Tiesu medicīnas EKSPERTS | L21: P34 | M21: Reģistrēta
A22: Laboratorijas vadītājs, vecākais tiesu medicīnas eksperts | B22: 221239 | C22: P34 | D22: 1 | E22: 2325 | F22: 116.25 | G22: 255.75 | H22: =E22+F22+G22 -> 2697 | I22: =ROUND((E22+F22+G22)*('[4]29_01_H_2020'!$O$9)*D22*12*(1+'[4]29_01_H_2020'!$O$24),2) -> 4239.86 | K22: Tiesu medicīnas EKSPERTS | L22: P34 | M22: Reģistrēta
A23: Laboratorijas vadītājs, vecākais tiesu medicīnas eksperts | B23: 221239 | C23: P34 | D23: 1 | E23: 2325 | F23: 116.25 | G23: 302.25 | H23: =E23+F23+G23 -> 2743.5 | I23: =ROUND((E23+F23+G23)*('[4]29_01_H_2020'!$O$9)*D23*12*(1+'[4]29_01_H_2020'!$O$24),2) -> 4312.96 | K23: Tiesu medicīnas EKSPERTS | L23: P34 | M23: Reģistrēta
... A41: Speciālists- tiesu medicīnas eksperts | B41: 221239 | C41: P34 | D41: 2 | E41: 1930 | F41: 0 | G41: 212.3 | H41: =E41+F41+G41 -> 2142.3 | I41: =ROUND((E41+F41+G41)*('[4]29_01_H_2020'!$O$9)*D41*12*(1+'[4]29_01_H_2020'!$O$24),2) -> 6735.67 | K41: Tiesu medicīnas EKSPERTS | L41: P34 | M41: Reģistrēta
A42: Kopā | D42: =SUM(D12:D41) -> 49 | E42: X | F42: X | G42: X | I42: =+I10 -> 191079.02

Sheet LM_līgumorg_851
J1: Pielikums Nr.1.10.
B2: Labklājības ministrijas ārstniecības personu faktiskā darba samaksa par slodzi atbilstoši MK noteikumiem Nr. 851
B4: Informācija par ārstniecības personām
B5: Ārstniecības personas amata kvalifikācijas kategorija | C5: Profesiju klasifikātora kods (atbilstoši MK noteikumiem Nr.264) | D5: Ārstniecības personas profesijas vai specialitātes kodu (atbilstoši MK noteikumiem Nr.317) | E5: Slodzes (strādājošo skaits normālā darba laika ietvaros) | F5: Faktiskā mēnešalgas likme par 1 (vienu) slodzi | G5: Palielinājums par darba stāžu | H5: Piemaksas | I5: Faktiskā darba samaksa (atalgojums par slodzi) mēnesī | J5: Darba samaksas pieaugums 2024.gadam, t.sk. 23.59%
B7: 05.01.00 "Sociālās rehabilitācijas valsts programmas"
B8: VSIA "Nacionālais rehabilitācijas centrs "Vaivari" (28.01.2020. līgums Nr.LM2020/24-1-04/1e par personu nodrošināšanu ar tehniskajiem palīglīdzekļiem)
B9: I. Sertificētu ārstniecības personu amati | E9: =E10+E14+E34+E38 -> 16.3 | F9: =F10+F14+F34+F38 -> 38070 | G9: =G10+G14+G34+G38 -> 649.75 | H9: =H10+H14+H34+H38 -> 0 | I9: =I10+I14+I34+I38 -> 38719.75
B10: 1.kategorija - Ārsts, zobārsts | E10: =SUM(E11:E13) -> 2.5 | F10: =SUM(F11:F13) -> 6870 | G10: =SUM(G11:G13) -> 160.3 | H10: =SUM(H11:H13) -> 0 | I10: =SUM(I11:I13) -> 7030.3
B11: Ārsts konsultants | C11: 2212 61 | D11: P03 | E11: 0.5 | F11: 2290 | G11: 91.6 | H11: 0 | I11: 2381.6 | J11: =ROUND((F11+G11+H11)*('[4]29_01_H_2020'!$O$9)*E11*12*(1+'[4]29_01_H_2020'!$O$24),2) -> 1872.01
B12: Fizikālās un rehabilitācijas medicīnas ārsts | C12: 2212 17 | D12: P54 | E12: 1.3 | F12: 2290 | G12: 68.7 | H12: 0 | I12: 2358.7 | J12: =ROUND((F12+G12+H12)*('[4]29_01_H_2020'!$O$9)*E12*12*(1+'[4]29_01_H_2020'!$O$24),2) -> 4820.44
B13: Fizikālās un rehabilitācijas medicīnas ārsts | C13: 2212 17 | D13: P54 | E13: 0.7 | F13: 2290 | G13: 0 | H13: 0 | I13: 2290 | J13: =ROUND((F13+G13+H13)*('[4]29_01_H_2020'!$O$9)*E13*12*(1+'[4]29_01_H_2020'!$O$24),2) -> 2520.02
B14: 2.kategorija - Fizioterapeits, audiologopēds, uztura speciālists, ergoterapeits, tehniskais ortopēds, mākslas terapeits, optometrists | E14: =SUM(E15:E33) -> 13.8 | F14: =SUM(F15:F33) -> 31200 | G14: =SUM(G15:G33) -> 489.45 | H14: =SUM(H15:H33) -> 0 | I14: =SUM(I15:I33) -> 31689.45
B15: Galvenais ergoterapeits (sertificēts) | C15: 2264 04 | D15: T02 | E15: 0.5 | F15: 1970 | G15: 157.6 | H15: 0 | I15: 2127.6 | J15: =ROUND((F15+G15+H15)*('[4]29_01_H_2020'!$O$9)*E15*12*(1+'[4]29_01_H_2020'!$O$24),2) -> 1672.36
B16: Galvenais ergoterapeits (sertificēts) | C16: 2264 04 | D16: T02 | E16: 0.5 | F16: 1970 | G16: 0 | H16: 0 | I16: 1970 | J16: =ROUND((F16+G16+H16)*('[4]29_01_H_2020'!$O$9)*E16*12*(1+'[4]29_01_H_2020'!$O$24),2) -> 1548.48
B17: Ergoterapeits (sertificēts) | C17: 2264 04 | D17: T02 | E17: 1 | F17: 1665 | G17: 99.9 | H17: 0 | I17: 1764.9 | J17: =ROUND((F17+G17+H17)*('[4]29_01_H_2020'!$O$9)*E17*12*(1+'[4]29_01_H_2020'!$O$24),2) -> 2774.54
B18: Ergoterapeits (sertificēts) | C18: 2264 04 | D18: T02 | E18: 1 | F18: 1665 | G18: 0 | H18: 0 | I18: 1665 | J18: =ROUND((F18+G18+H18)*('[4]29_01_H_2020'!$O$9)*E18*12*(1+'[4]29_01_H_2020'!$O$24),2) -> 2617.49
B19: Ergoterapeits (sertificēts) | C19: 2264 04 | D19: T02 | E19: 0.5 | F19: 1665 | G19: 0 | H19: 0 | I19: 1665 | J19: =ROUND((F19+G19+H19)*('[4]29_01_H_2020'!$O$9)*E19*12*(1+'[4]29_01_H_2020'!$O$24),2) -> 1308.74
B20: Vecākais fizioterapeits (sertificēts) | C20: 2264 02 | D20: T01 | E20: 1 | F20: 1820 | G20: 54.6 | H20: 0 | I20: 1874.6 | J20: =ROUND((F20+G20+H20)*('[4]29_01_H_2020'!$O$9)*E20*12*(1+'[4]29_01_H_2020'!$O$24),2) -> 2946.99
B21: Vecākais fizioterapeits (sertificēts) | C21: 2264 02 | D21: T01 | E21: 1 | F21: 1820 | G21: 0 | H21: 0 | I21: 1820 | J21: =ROUND((F21+G21+H21)*('[4]29_01_H_2020'!$O$9)*E21*12*(1+'[4]29_01_H_2020'!$O$24),2) -> 2861.16
B22: Fizioterapeits (sertificēts) | C22: 2264 02 | D22: T01 | E22: 1 | F22: 1665 | G22: 0 | H22: 0 | I22: 1665 | J22: =ROUND((F22+G22+H22)*('[4]29_01_H_2020'!$O$9)*E22*12*(1+'[4]29_01_H_2020'!$O$24),2) -> 2617.49
B23: Vecākais tehniskais ortopēds (sertificēts) | C23: 3214 02 | D23: T06 | E23: 0.5 | F23: 1820 | G23: 127.4 | H23: 0 | I23: 1947.4 | J23: =ROUND((F23+G23+H23)*('[4]29_01_H_2020'!$O$9)*E23*12*(1+'[4]29_01_H_2020'!$O$24),2) -> 1530.72
B24: Vecākais tehniskais ortopēds (sertificēts) | C24: 3214 02 | D24: T06 | E24: 0.5 | F24: 1820 | G24: 0 | H24: 0 | I24: 1820 | J24: =ROUND((F24+G24+H24)*('[4]29_01_H_2020'!$O$9)*E24*12*(1+'[4]29_01_H_2020'!$O$24),2) -> 1430.58
B25: Tehniskais ortopēds (sertificēts) | C25: 3214 02 | D25: T06 | E25: 1 | F25: 1665 | G25: 0 | H25: 0 | I25: 1665 | J25: =ROUND((F25+G25+H25)*('[4]29_01_H_2020'!$O$9)*E25*12*(1+'[4]29_01_H_2020'!$O$24),2) -> 2617.49
B26: Ergoterapeits (sertificēts) | C26: 2264 04 | D26: T02 | E26: 0.5 | F26: 1665 | G26: 0 | H26: 0 | I26: 1665 | J26: =ROUND((F26+G26+H26)*('[4]29_01_H_2020'!$O$9)*E26*12*(1+'[4]29_01_H_2020'!$O$24),2) -> 1308.74
... B32: Tehniskais ortopēds (sertificēts) | C32: 3214 02 | D32: T06 | E32: 0.5 | F32: 1665 | G32: 0 | H32: 0 | I32: 1665 | J32: =ROUND((F32+G32+H32)*('[4]29_01_H_2020'!$O$9)*E32*12*(1+'[4]29_01_H_2020'!$O$24),2) -> 1308.74
I33: =F33+G33+H33 -> 0
B34: 3.kategorija - Māsa, ārsta palīgs (feldšeris), vecmāte, biomedicīnas laborants, radiologa asistents, radiogrāfers | E34: =SUM(E35:E37) -> 0 | F34: =SUM(F35:F37) -> 0 | G34: =SUM(G35:G37) -> 0 | H34: =SUM(H35:H37) -> 0 | I34: =SUM(I35:I37) -> 0
I35: =F35+G35+H35 -> 0
I36: =F36+G36+H36 -> 0
I37: =F37+G37+H37 -> 0
B38: 4.kategorija - Masieris, ergoterapeita asistents, fizioterapeita asistents, zobu higiēnists, zobārstniecības māsa, kosmētiķis, podologs, zobu tehniķis | E38: =SUM(E39:E39) -> 0 | F38: =SUM(F39:F39) -> 0 | G38: =SUM(G39:G39) -> 0 | H38: =SUM(H39:H39) -> 0 | I38: =SUM(I39:I39) -> 0
I39: =F39+G39+H39 -> 0
B40: II. Reģistrētu ārstniecības personu amati | E40: =E41 -> 10 | F40: =F41 -> 9220 | G40: =G41 -> 330.4 | H40: =H41 -> 0 | I40: =I41 -> 9550.4
B41: 3.kategorija - Fizioterapeits, audiologopēds, uztura speciālists, ergoterapeits, tehniskais ortopēds, mākslas terapeits, optometrists, māsa (vispārējās aprūpes māsa) | E41: =SUM(E42:E47) -> 10 | F41: =SUM(F42:F47) -> 9220 | G41: =SUM(G42:G47) -> 330.4 | H41: =SUM(H42:H47) -> 0 | I41: =SUM(I42:I47) -> 9550.4
B42: Vecākais ergoterapeits (nesertificēts) | C42: 2264 04 | D42: T02 | E42: 1 | F42: 1720 | G42: 120.4 | H42: 0 | I42: 1840.4 | J42: =ROUND((F42+G42+H42)*('[4]29_01_H_2020'!$O$9)*E42*12*(1+'[4]29_01_H_2020'!$O$24),2) -> 2893.23
B43: Ergoterapeits (nesertificēts) | C43: 2264 04 | D43: T02 | E43: 1 | F43: 1500 | G43: 105 | H43: 0 | I43: 1605 | J43: =ROUND((F43+G43+H43)*('[4]29_01_H_2020'!$O$9)*E43*12*(1+'[4]29_01_H_2020'!$O$24),2) -> 2523.16
B44: Ergoterapeits (nesertificēts) | C44: 2264 04 | D44: T02 | E44: 1 | F44: 1500 | G44: 45 | H44: 0 | I44: 1545 | J44: =ROUND((F44+G44+H44)*('[4]29_01_H_2020'!$O$9)*E44*12*(1+'[4]29_01_H_2020'!$O$24),2) -> 2428.84
B45: Fizioterapeits (nesertificēts) | C45: 2264 02 | D45: T01 | E45: 1 | F45: 1500 | G45: 60 | H45: 0 | I45: 1560 | J45: =ROUND((F45+G45+H45)*('[4]29_01_H_2020'!$O$9)*E45*12*(1+'[4]29_01_H_2020'!$O$24),2) -> 2452.42
B46: Fizioterapeits (nesertificēts) | C46: 2264 02 | D46: T01 | E46: 5 | F46: 1500 | G46: 0 | H46: 0 | I46: 1500 | J46: =ROUND((F46+G46+H46)*('[4]29_01_H_2020'!$O$9)*E46*12*(1+'[4]29_01_H_2020'!$O$24),2) -> 11790.49
B47: Tehniskais ortopēds (nesertificēts) | C47: 3214 02 | D47: T06 | E47: 1 | F47: 1500 | G47: 0 | H47: 0 | I47: 1500 | J47: =ROUND((F47+G47+H47)*('[4]29_01_H_2020'!$O$9)*E47*12*(1+'[4]29_01_H_2020'!$O$24),2) -> 2358.1
B48: IV. Medicīnas asistenta amats | E48: =E49 -> 1 | F48: =F49 -> 1150 | G48: =G49 -> 0 | H48: =H49 -> 0 | I48: =I49 -> 1150
B49: 6.kategorija - Medicīnas asistents | E49: =E50 -> 1 | F49: =F50 -> 1150 | G49: =G50 -> 0 | H49: =H50 -> 0 | I49: =I50 -> 1150
B50: Rehabilitācijas asistente | C50: 5321 05 | E50: 1 | F50: 1150 | G50: 0 | H50: 0 | I50: 1150 | J50: =ROUND((F50+G50+H50)*('[4]29_01_H_2020'!$O$16)*E50*12*(1+'[4]29_01_H_2020'!$O$24),2) -> 1176.82
B51: Kopā iestāde | E51: =E9+E40+E48 -> 27.3 | F51: x | G51: x | H51: x | I51: x
B52: Latvijas Nedzirdīgo savienība (12.02.2020. līgums Nr.LM2020/24-1-04/2e par personu ar dzirdes invaliditāti nodrošināšanu ar tehniskajiem palīglīdzekļiem - surdotehniku)
B53: I. Sertificētu ārstniecības personu amati | E53: =E54+E56+E60 -> 5.6 | F53: =F54+F56+F60 -> 5841 | G53: =G54+G56+G60 -> 584 | H53: =H54+H56+H60 -> 0 | I53: =I54+I56+I60 -> 6425
B54: 1.kategorija - Ārsts, zobārsts | E54: =E55 -> 3.5 | F54: =F55 -> 2321 | G54: =G55 -> 232 | H54: =H55 -> 0 | I54: =I55 -> 2553
B55: Ārsts otolaringologs | C55: 2212 82 | D55: P23 | E55: 3.5 | F55: 2321 | G55: 232 | H55: 0 | I55: =F55+G55+H55 -> 2553 | J55: =ROUND((F55+G55+H55)*('[4]29_01_H_2020'!$O$9)*E55*12*(1+'[4]29_01_H_2020'!$O$24),2) -> 14047.19
B56: 2.kategorija - Fizioterapeits, audiologopēds, uztura speciālists, ergoterapeits, tehniskais ortopēds, mākslas terapeits, optometrists | E56: =SUM(E57:E59) -> 2.1 | F56: =SUM(F57:F59) -> 3520 | G56: =SUM(G57:G59) -> 352 | H56: =SUM(H57:H59) -> 0 | I56: =SUM(I57:I59) -> 3872
B57: Audiologopēds | C57: 2266 01 | D57: T05 | E57: 1.1 | F57: 1920 | G57: 192 | H57: 0 | I57: =F57+G57+H57 -> 2112 | J57: =ROUND((F57+G57+H57)*('[4]29_01_H_2020'!$O$9)*E57*12*(1+'[4]29_01_H_2020'!$O$24),2) -> 3652.22
B58: Protēžu meistars | C58: 3226 17 | D58: T06 | E58: 1 | F58: 1600 | G58: 160 | H58: 0 | I58: =F58+G58+H58 -> 1760 | J58: =ROUND((F58+G58+H58)*('[4]29_01_H_2020'!$O$9)*E58*12*(1+'[4]29_01_H_2020'!$O$24),2) -> 2766.83
I59: =F59+G59+H59 -> 0
B60: 3.kategorija - Māsa, ārsta palīgs (feldšeris), vecmāte, biomedicīnas laborants, radiologa asistents, radiogrāfers | E60: =SUM(E61:E63) -> 0 | F60: =SUM(F61:F63) -> 0 | G60: =SUM(G61:G63) -> 0 | H60: =SUM(H61:H63) -> 0 | I60: =SUM(I61:I63) -> 0
I61: =F61+G61+H61 -> 0
I62: =F62+G62+H62 -> 0
I63: =F63+G63+H63 -> 0
B64: II. Reģistrētu ārstniecības personu amati | E64: =E65 -> 0 | F64: =F65 -> 0 | G64: =G65 -> 0 | H64: =H65 -> 0 | I64: =I65 -> 0
B65: 4.kategorija - Māsa, ārsta palīgs (feldšeris), vecmāte, biomedicīnas laborants, radiologa asistents, radiogrāfers | E65: =E66 -> 0 | F65: =F66 -> 0 | G65: =G66 -> 0 | H65: =H66 -> 0 | I65: =I66 -> 0
I66: =F66+G66+H66 -> 0
B67: Kopā iestāde | E67: =E53+E64 -> 5.6 | F67: x | G67: x | H67: x | I67: x
B68: Sociālo pakalpojumu centrs "Pīlādzis" (03.02.2022. līgums Nr.LM2022/24-1-06/18e par ilgstošas sociālās aprūpes un sociālās rehabilitācijas pakalpojumu sniegšanu pilngadīgām personām ar smagiem garīga rakstura traucējumiem (personām ar I un II grupas invaliditāti))
B69: I. Sertificētu ārstniecības personu amati | E69: =E70+E72+E76 -> 2 | F69: =F70+F72+F76 -> 2232 | G69: =G70+G72+G76 -> 0 | H69: =H70+H72+H76 -> 100.44 | I69: =I70+I72+I76 -> 2332.44
B70: 1.kategorija - Ārsts, zobārsts | E70: =E71 -> 0 | F70: =F71 -> 0 | G70: =G71 -> 0 | H70: =H71 -> 0 | I70: =I71 -> 0
B72: 2.kategorija - Fizioterapeits, audiologopēds, uztura speciālists, ergoterapeits, tehniskais ortopēds, mākslas terapeits | E72: =SUM(E73:E75) -> 0 | F72: =SUM(F73:F75) -> 0 | G72: =SUM(G73:G75) -> 0 | H72: =SUM(H73:H75) -> 0 | I72: =SUM(I73:I75) -> 0
B73: Fizioterapeits | I73: =F73+G73+H73 -> 0
B74: Mākslas terapeits | I74: =F74+G74+H74 -> 0
B75: Ergoterapeits | I75: =F75+G75+H75 -> 0
B76: 3.kategorija - Māsa (vispārējās aprūpes māsa), ārsta palīgs (feldšeris), vecmāte, biomedicīnas laborants, radiologa asistents, radiogrāfers | E76: =SUM(E77:E78) -> 2 | F76: =SUM(F77:F78) -> 2232 | G76: =SUM(G77:G78) -> 0 | H76: =SUM(H77:H78) -> 100.44 | I76: =SUM(I77:I78) -> 2332.44
B77: Ārsta palīgs | C77: 2239 01 | D77: n26 | E77: 1 | F77: 1116 | G77: 0 | H77: 78.12 | I77: =F77+G77+H77 -> 1194.12 | J77: =ROUND((F77+G77+H77)*('[4]29_01_H_2020'!$O$13)*E77*12*(1+'[4]29_01_H_2020'!$O$24),2) -> 1151.13
B78: Ārsta palīgs | C78: 2240 01 | D78: n27 | E78: 1 | F78: 1116 | G78: 0 | H78: 22.32 | I78: =F78+G78+H78 -> 1138.32 | J78: =ROUND((F78+G78+H78)*('[4]29_01_H_2020'!$O$13)*E78*12*(1+'[4]29_01_H_2020'!$O$24),2) -> 1097.34
B79: II. Reģistrētu ārstniecības personu amati | E79: =E80 -> 1 | F79: =F80 -> 1116 | G79: =G80 -> 0 | H79: =H80 -> 22.32 | I79: =I80 -> 1138.32
B80: 3.kategorija - Fizioterapeits, audiologopēds, uztura speciālists, ergoterapeits, tehniskais ortopēds, mākslas terapeits, optometrists, māsa (vispārējās aprūpes māsa) | E80: =E81 -> 1 | F80: =F81 -> 1116 | G80: =G81 -> 0 | H80: =H81 -> 22.32 | I80: =I81 -> 1138.32
B81: Māsa | C81: 2221 46 | D81: n120 | E81: 1 | F81: 1116 | G81: 0 | H81: 22.32 | I81: =F81+G81+H81 -> 1138.32 | J81: =ROUND((F81+G81+H81)*('[4]29_01_H_2020'!$O$13)*E81*12*(1+'[4]29_01_H_2020'!$O$24),2) -> 1097.34
B82: Kopā iestāde | E82: =E69+E79 -> 3 | F82: x | G82: x | H82: x | I82: x
B83: Biedrības "Latvijas Sarkanais Krusts" sociālās aprūpes centrs "Stūrīši" (03.02.2022. līgums Nr.LM2022/24-1-06/17e par ilgstošas sociālās aprūpes un sociālās rehabilitācijas pakalpojumu sniegšanu pilngadīgām personām ar smagiem garīga rakstura traucējumiem (personām ar I un II grupas invaliditāti))
B84: I. Sertificētu ārstniecības personu amati | E84: =E85+E87+E89 -> 2 | F84: =F85+F87+F89 -> 3045.6 | G84: =G85+G87+G89 -> 0 | H84: =H85+H87+H89 -> 0 | I84: =I85+I87+I89 -> 3045.6
B85: 1.kategorija - Ārsts, zobārsts | E85: =E86 -> 0 | F85: =F86 -> 0 | G85: =G86 -> 0 | H85: =H86 -> 0 | I85: =I86 -> 0
B87: 2.kategorija - Fizioterapeits, audiologopēds, uztura speciālists, ergoterapeits, tehniskais ortopēds, mākslas terapeits, optometrists | E87: =SUM(E88:E88) -> 1 | F87: =SUM(F88:F88) -> 1920 | G87: =SUM(G88:G88) -> 0 | H87: =SUM(H88:H88) -> 0 | I87: =SUM(I88:I88) -> 1920
B88: Fizioterapeits | C88: 2264 02 | D88: T01 | E88: 1 | F88: 1920 | G88: 0 | H88: 0 | I88: =F88+G88+H88 -> 1920 | J88: =ROUND((F88+G88+H88)*('[4]29_01_H_2020'!$O$9)*E88*12*(1+'[4]29_01_H_2020'!$O$24),2) -> 3018.36
B89: 3.kategorija - Māsa (vispārējās aprūpes māsa), ārsta palīgs (feldšeris), vecmāte, biomedicīnas laborants, radiologa asistents, radiogrāfers | E89: =SUM(E90:E90) -> 1 | F89: =SUM(F90:F90) -> 1125.6 | G89: =SUM(G90:G90) -> 0 | H89: =SUM(H90:H90) -> 0 | I89: =SUM(I90:I90) -> 1125.6
B90: Māsa | C90: 2221 46 | D90: n120 | E90: 1 | F90: 1125.6 | G90: 0 | H90: 0 | I90: =F90+G90+H90 -> 1125.6 | J90: =ROUND((F90+G90+H90)*('[4]29_01_H_2020'!$O$13)*E90*12*(1+'[4]29_01_H_2020'!$O$24),2) -> 1085.08
B91: II. Reģistrētu ārstniecības personu amati | E91: =E92+E94 -> 2 | F91: =F92+F94 -> 2555.6 | G91: =G92+G94 -> 0 | H91: =H92+H94 -> 0 | I91: =I92+I94 -> 2555.6
B92: 3.kategorija - Fizioterapeits, audiologopēds, uztura speciālists, ergoterapeits, tehniskais ortopēds, mākslas terapeits, optometrists, māsa (vispārējās aprūpes māsa) | E92: =E93 -> 1 | F92: =F93 -> 1430 | G92: =G93 -> 0 | H92: =H93 -> 0 | I92: =I93 -> 1430
B93: Vecākā māsa | C93: 2221 01 | D93: n120 | E93: 1 | F93: 1430 | G93: 0 | H93: 0 | I93: =F93+G93+H93 -> 1430 | J93: =ROUND((F93+G93+H93)*('[4]29_01_H_2020'!$O$13)*E93*12*(1+'[4]29_01_H_2020'!$O$24),2) -> 1378.52
B94: 4.kategorija - Ārsta palīgs (feldšeris), vecmāte, biomedicīnas laborants, radiologa asistents, radiogrāfers | E94: =E95 -> 1 | F94: =F95 -> 1125.6 | G94: =G95 -> 0 | H94: =H95 -> 0 | I94: =I95 -> 1125.6
B95: Ārsta palīgs | C95: 2240 01 | D95: n27 | E95: 1 | F95: 1125.6 | G95: 0 | H95: 0 | I95: =F95+G95+H95 -> 1125.6 | J95: =ROUND((F95+G95+H95)*('[4]29_01_H_2020'!$O$13)*E95*12*(1+'[4]29_01_H_2020'!$O$24),2) -> 1085.08
B96: Kopā iestāde | E96: =E84+E91 -> 4 | F96: x | G96: x | H96: x | I96: x
B97: SIA "Atsaucība" (03.02.2022. līgums Nr.LM2022/24-1-06/19e par ilgstošas sociālās aprūpes un sociālās rehabilitācijas pakalpojumu sniegšanu pilngadīgām personām ar smagiem garīga rakstura traucējumiem (personām ar I un II grupas invaliditāti))
B98: I. Sertificētu ārstniecības personu amati | E98: =E99+E101+E105 -> 1.25 | F98: =F99+F101+F105 -> 1990 | G98: =G99+G101+G105 -> 19.9 | H98: =H99+H101+H105 -> 0 | I98: =I99+I101+I105 -> 2009.9
B99: 1.kategorija - Ārsts, zobārsts | E99: =E100 -> 1.25 | F99: =F100 -> 1990 | G99: =G100 -> 19.9 | H99: =H100 -> 0 | I99: =I100 -> 2009.9
B100: Psihiatrs | C100: 2212 86 | D100: P19 | E100: 1.25 | F100: 1990 | G100: 19.9 | H100: 0 | I100: =F100+G100+H100 -> 2009.9 | J100: =ROUND((F100+G100+H100)*('[4]29_01_H_2020'!$O$9)*E100*12*(1+'[4]29_01_H_2020'!$O$24),2) -> 3949.62
B101: 2.kategorija - Fizioterapeits, audiologopēds, uztura speciālists, ergoterapeits, tehniskais ortopēds, mākslas terapeits | E101: =SUM(E102:E104) -> 0 | F101: =SUM(F102:F104) -> 0 | G101: =SUM(G102:G104) -> 0 | H101: =SUM(H102:H104) -> 0 | I101: =SUM(I102:I104) -> 0
B102: Fizioterapeits | I102: =F102+G102+H102 -> 0
B103: Mākslas terapeits | I103: =F103+G103+H103 -> 0
B104: Ergoterapeits | I104: =F104+G104+H104 -> 0
B105: 3.kategorija - Māsa, ārsta palīgs (feldšeris), vecmāte, biomedicīnas laborants, radiologa asistents, radiogrāfers | E105: =SUM(E106:E106) -> 0 | F105: =SUM(F106:F106) -> 0 | G105: =SUM(G106:G106) -> 0 | H105: =SUM(H106:H106) -> 0 | I105: =SUM(I106:I106) -> 0
I106: =F106+G106+H106 -> 0
B107: II. Reģistrētu ārstniecības personu amati | E107: =E108 -> 14 | F107: =F108 -> 3340 | G107: =G108 -> 66.8 | H107: =H108 -> 120 | I107: =I108 -> 3526.8
B108: 3.kategorija - Fizioterapeits, audiologopēds, uztura speciālists, ergoterapeits, tehniskais ortopēds, mākslas terapeits, optometrists, māsa (vispārējās aprūpes māsa) | E108: =E109+E110 -> 14 | F108: =F109+F110 -> 3340 | G108: =G109+G110 -> 66.8 | H108: =H109+H110 -> 120 | I108: =I109+I110 -> 3526.8
B109: Virsmāsa | C109: 2221 02 | D109: n120 | E109: 1 | F109: 1820 | G109: 36.4 | H109: 0 | I109: =F109+G109+H109 -> 1856.4 | J109: =ROUND((F109+G109+H109)*('[4]29_01_H_2020'!$O$13)*E109*12*(1+'[4]29_01_H_2020'!$O$24),2) -> 1789.57
...

Sheet IEM_kapitsab_851
I1: Pielikums Nr.1.11.
B2: Ārstniecības personu darba samaksas pieaugums 14.Iekšlietu ministrijas kapitālsabiedrībai VSIA "Iekšlietu ministrijas poliklīnika"
J4: EUR
B5: Informācija par ārstniecības personām
B6: Ārstniecības personas amata kvalifikācijas kategorija | C6: Profesiju klasifikātora kods (atbilstoši MK noteikumiem Nr.264) | D6: Ārstniecības personas profesijas vai specialitātes kodu (atbilstoši MK noteikumiem Nr.317) | E6: Slodzes (strādājošo skaits normālā darba laika ietvaros) | F6: Faktiskā mēnešalgas likme par 1 (vienu) slodzi | G6: Palielinājums par darba stāžu | H6: Piemaksas | I6: Faktiskā darba samaksa (atalgojums par slodzi) mēnesī | J6: Darba samaksas pieaugums 2024.gadam, t.sk. 23.59%
M7: Pārbaude, atbilstība prof. klasifikatoram | N7: Ārstniecības personas profesijas vai specialitātes kodu (atbilstoši MK noteikumiem Nr.317) | O7: Reģistrācija Ārstniecības ietāžu reģistrā
B8: VSIA Iekšlietu ministrijas poliklīnika
B9: 38.05.00. Veselības aprūpe un fiziskā sagatavotība
B10: I. Sertificētu ārstniecības personu amati
B11: 1.kategorija - Ārsts, zobārsts
B12: VADĪTĀJS/ DIREKTORS/ PĀRVALDNIEKS (veselības aprūpes jomā)(CMEK vadītāja) | C12: 1342 01 | D12: P53 | E12: 1 | F12: 2500 | G12: 75 | H12: 590 | I12: =F12+G12+H12 -> 3165 | J12: =ROUND((F12+G12+H12)*('[4]29_01_H_2020'!$O$9)*E12*12*(1+'[4]29_01_H_2020'!$O$24),2) -> 4975.59 | N12: P53 | O12: Reģistrēta
B13: VADĪTĀJA VIETNIEKS/ IZPILDDIREKTORS (veselības aprūpes jomā)(CMEK vadītāja vietniece) | C13: 1342 02 | D13: P53 | E13: 0.8 | F13: 2350 | G13: 70.5 | H13: 200 | I13: =F13+G13+H13 -> 2620.5 | J13: =ROUND((F13+G13+H13)*('[4]29_01_H_2020'!$O$9)*E13*12*(1+'[4]29_01_H_2020'!$O$24),2) -> 3295.68 | N13: P53 | O13: Reģistrēta
B14: Arodveselības un arodslimību ĀRSTS | C14: 2212 08 | D14: P53 | E14: 0.4 | F14: 2300 | G14: 69 | H14: 276 | I14: =F14+G14+H14 -> 2645 | J14: =ROUND((F14+G14+H14)*('[4]29_01_H_2020'!$O$9)*E14*12*(1+'[4]29_01_H_2020'!$O$24),2) -> 1663.24 | N14: P53 | O14: Reģistrēta
B15: PSIHIATRS | C15: 2212 86 | D15: P19 | E15: 1 | F15: 2300 | G15: 69 | H15: 276 | I15: =F15+G15+H15 -> 2645 | J15: =ROUND((F15+G15+H15)*('[4]29_01_H_2020'!$O$9)*E15*12*(1+'[4]29_01_H_2020'!$O$24),2) -> 4158.11 | N15: P19 | O15: Reģistrēta
B16: NEIROLOGS | C16: 2212 74 | D16: P20 | E16: 1 | F16: 2300 | G16: 69 | H16: 276 | I16: =F16+G16+H16 -> 2645 | J16: =ROUND((F16+G16+H16)*('[4]29_01_H_2020'!$O$9)*E16*12*(1+'[4]29_01_H_2020'!$O$24),2) -> 4158.11 | N16: P20 | O16: Reģistrēta
B17: OTOLARINGOLOG | C17: 2212 82 | D17: P23 | E17: 0.5 | F17: 2300 | G17: 69 | H17: 276 | I17: =F17+G17+H17 -> 2645 | J17: =ROUND((F17+G17+H17)*('[4]29_01_H_2020'!$O$9)*E17*12*(1+'[4]29_01_H_2020'!$O$24),2) -> 2079.06 | N17: P23 | O17: Reģistrēta
B18: ĶIRURGS | C18: 2212 61 | D18: P03 | E18: 0.4 | F18: 2300 | G18: 69 | H18: 276 | I18: =F18+G18+H18 -> 2645 | J18: =ROUND((F18+G18+H18)*('[4]29_01_H_2020'!$O$9)*E18*12*(1+'[4]29_01_H_2020'!$O$24),2) -> 1663.24 | N18: P03 | O18: Reģistrēta
B19: Arodveselības un arodslimību ĀRSTS | C19: 2212 08 | D19: P53 | E19: 0.2 | F19: 2200 | G19: 66 | H19: 185 | I19: =F19+G19+H19 -> 2451 | J19: =ROUND((F19+G19+H19)*('[4]29_01_H_2020'!$O$9)*E19*12*(1+'[4]29_01_H_2020'!$O$24),2) -> 770.63 | N19: P53 | O19: Reģistrēta
B20: Arodveselības un arodslimību ĀRSTS | C20: 2212 08 | D20: P53 | E20: 0.2 | F20: 2200 | G20: 66 | H20: 185 | I20: =F20+G20+H20 -> 2451 | J20: =ROUND((F20+G20+H20)*('[4]29_01_H_2020'!$O$9)*E20*12*(1+'[4]29_01_H_2020'!$O$24),2) -> 770.63 | N20: P53 | O20: Reģistrēta
B21: ĶIRURGS | C21: 2212 61 | D21: P03 | E21: 0.4 | F21: 2200 | G21: 66 | H21: 185 | I21: =F21+G21+H21 -> 2451 | J21: =ROUND((F21+G21+H21)*('[4]29_01_H_2020'!$O$9)*E21*12*(1+'[4]29_01_H_2020'!$O$24),2) -> 1541.25 | N21: P03 | O21: Reģistrēta
B22: OFTALMOLOGS | C22: 2212 77 | D22: P22 | E22: 0.2 | F22: 2200 | G22: 66 | H22: 185 | I22: =F22+G22+H22 -> 2451 | J22: =ROUND((F22+G22+H22)*('[4]29_01_H_2020'!$O$9)*E22*12*(1+'[4]29_01_H_2020'!$O$24),2) -> 770.63 | N22: P22 | O22: Reģistrēta
B23: OFTALMOLOGS | C23: 2212 77 | D23: P22 | E23: 0.2 | F23: 2200 | G23: 66 | H23: 185 | I23: =F23+G23+H23 -> 2451 | J23: =ROUND((F23+G23+H23)*('[4]29_01_H_2020'!$O$9)*E23*12*(1+'[4]29_01_H_2020'!$O$24),2) -> 770.63 | N23: P22 | O23: Reģistrēta
... B25: Arodveselības un arodslimību ĀRSTS | C25: 2212 08 | D25: P53 | E25: 0.2 | F25: 2200 | G25: 66 | H25: 185 | I25: =F25+G25+H25 -> 2451 | J25: =ROUND((F25+G25+H25)*('[4]29_01_H_2020'!$O$9)*E25*12*(1+'[4]29_01_H_2020'!$O$24),2) -> 770.63 | N25: P53 | O25: Reģistrēta
B26: INTERNISTS | C26: 2212104 | D26: P01 | E26: 0.2 | F26: 2200 | G26: 66 | H26: 185 | I26: =F26+G26+H26 -> 2451 | J26: =ROUND((F26+G26+H26)*('[4]29_01_H_2020'!$O$9)*E26*12*(1+'[4]29_01_H_2020'!$O$24),2) -> 770.63 | N26: P01 | O26: Reģistrēta
B27: GINEKOLOGS, dzemdību speciālists | C27: 2212 47 | D27: P14 | E27: 0.25 | F27: 2200 | G27: 66 | H27: 185 | I27: =F27+G27+H27 -> 2451 | J27: =ROUND((F27+G27+H27)*('[4]29_01_H_2020'!$O$9)*E27*12*(1+'[4]29_01_H_2020'!$O$24),2) -> 963.28 | N27: P14 | O27: Reģistrēta
B28: ZOBĀRSTS | C28: 2261 02 | D28: P25 | E28: 0.75 | F28: 2200 | G28: 66 | H28: 185 | I28: =F28+G28+H28 -> 2451 | J28: =ROUND((F28+G28+H28)*('[4]29_01_H_2020'!$O$9)*E28*12*(1+'[4]29_01_H_2020'!$O$24),2) -> 2889.85 | N28: P25 | O28: Reģistrēta
B29: RADIOLOGS | C29: 2212 90 | D29: P32 | E29: 0.6 | F29: 2200 | G29: 66 | H29: 185 | I29: =F29+G29+H29 -> 2451 | J29: =ROUND((F29+G29+H29)*('[4]29_01_H_2020'!$O$9)*E29*12*(1+'[4]29_01_H_2020'!$O$24),2) -> 2311.88 | N29: P32 | O29: Reģistrēta
B30: KARDIOLOGS | C30: 2212 56 | D30: P52 | E30: 0.2 | F30: 2200 | G30: 66 | H30: 185 | I30: =F30+G30+H30 -> 2451 | J30: =ROUND((F30+G30+H30)*('[4]29_01_H_2020'!$O$9)*E30*12*(1+'[4]29_01_H_2020'!$O$24),2) -> 770.63 | N30: P52 | O30: Reģistrēta
B31: KARDIOLOGS | C31: 2212 56 | D31: P52 | E31: 0.2 | F31: 2200 | G31: 66 | H31: 185 | I31: =F31+G31+H31 -> 2451 | J31: =ROUND((F31+G31+H31)*('[4]29_01_H_2020'!$O$9)*E31*12*(1+'[4]29_01_H_2020'!$O$24),2) -> 770.63 | N31: P52 | O31: Reģistrēta
B32: ĀRSTS klīniskais FIZIOLOGS | C32: 2212 15 | D32: P51 | E32: 0.2 | F32: 2200 | G32: 66 | H32: 185 | I32: =F32+G32+H32 -> 2451 | J32: =ROUND((F32+G32+H32)*('[4]29_01_H_2020'!$O$9)*E32*12*(1+'[4]29_01_H_2020'!$O$24),2) -> 770.63 | N32: P51 | O32: Reģistrēta
B33: 2.kategorija - Fizioterapeits, audiologopēds, uztura speciālists, ergoterapeits, tehniskais ortopēds, mākslas terapeits, optometrists
B34: Optometrists | C34: 2267 01 | D34: n114 | E34: 0.8 | F34: 1600 | G34: 0 | H34: 80 | I34: =F34+G34+H34 -> 1680 | J34: =ROUND((F34+G34+H34)*('[4]29_01_H_2020'!$O$9)*E34*12*(1+'[4]29_01_H_2020'!$O$24),2) -> 2112.86 | N34: n114 | O34: Reģistrēta
B35: 3.kategorija - Ārsta palīgs (feldšeris), vecmāte, biomedicīnas laborants, radiologa asistents, radiogrāfers
B36: Radiologa asistents | C36: 3211 01 | D36: n85 | E36: 0.5 | F36: 1340 | G36: 107.2 | H36: 220 | I36: =F36+G36+H36 -> 1667.2 | J36: =ROUND((F36+G36+H36)*('[4]29_01_H_2020'!$O$13)*E36*12*(1+'[4]29_01_H_2020'!$O$24),2) -> 803.59 | N36: n85 | O36: Reģistrēta
B37: Radiologa asistents | C37: 3211 01 | D37: n85 | E37: 0.5 | F37: 1340 | G37: 107.2 | H37: 220 | I37: =F37+G37+H37 -> 1667.2 | J37: =ROUND((F37+G37+H37)*('[4]29_01_H_2020'!$O$13)*E37*12*(1+'[4]29_01_H_2020'!$O$24),2) -> 803.59 | N37: n85 | O37: Reģistrēta
B38: Radiologa asistents | C38: 3211 01 | D38: n85 | E38: 0.5 | F38: 1340 | G38: 107.2 | H38: 220 | I38: =F38+G38+H38 -> 1667.2 | J38: =ROUND((F38+G38+H38)*('[4]29_01_H_2020'!$O$13)*E38*12*(1+'[4]29_01_H_2020'!$O$24),2) -> 803.59 | N38: n85 | O38: Reģistrēta
B39: Biomedicinas laborants | C39: 3212 03 | D39: n76 | E39: 0.5 | F39: 1340 | G39: 40.2 | H39: 220 | I39: =F39+G39+H39 -> 1600.2 | J39: =ROUND((F39+G39+H39)*('[4]29_01_H_2020'!$O$13)*E39*12*(1+'[4]29_01_H_2020'!$O$24),2) -> 771.3 | N39: n76 | O39: Reģistrēta
B40: Biomedicinas laborants | C40: 3212 03 | D40: n76 | E40: 1 | F40: 1340 | G40: 40.2 | H40: 220 | I40: =F40+G40+H40 -> 1600.2 | J40: =ROUND((F40+G40+H40)*('[4]29_01_H_2020'!$O$13)*E40*12*(1+'[4]29_01_H_2020'!$O$24),2) -> 1542.6 | N40: n76 | O40: Reģistrēta
B41: Biomedicinas laborants | C41: 3212 03 | D41: n76 | E41: 0.9 | F41: 1340 | G41: 40.2 | H41: 220 | I41: =F41+G41+H41 -> 1600.2 | J41: =ROUND((F41+G41+H41)*('[4]29_01_H_2020'!$O$13)*E41*12*(1+'[4]29_01_H_2020'!$O$24),2) -> 1388.34 | N41: n76 | O41: Reģistrēta
B42: II. Reģistrētu ārstniecības personu amati
B43: 3.kategorija - Fizioterapeits, audiologopēds, uztura speciālists, ergoterapeits, tehniskais ortopēds, mākslas terapeits, optometrists, māsa (vispārējās aprūpes māsa)
B44: Virsmāsa | C44: 2221 02 | D44: n120 | E44: 1 | F44: 1450 | G44: 143.5 | H44: 240 | I44: =F44+G44+H44 -> 1833.5 | J44: =ROUND((F44+G44+H44)*('[4]29_01_H_2020'!$O$13)*E44*12*(1+'[4]29_01_H_2020'!$O$24),2) -> 1767.5 | N44: n120 | O44: Reģistrēta
B45: Māsa | C45: 2221 46 | D45: n120 | E45: 1 | F45: 1340 | G45: 40.2 | H45: 220 | I45: =F45+G45+H45 -> 1600.2 | J45: =ROUND((F45+G45+H45)*('[4]29_01_H_2020'!$O$13)*E45*12*(1+'[4]29_01_H_2020'!$O$24),2) -> 1542.6 | N45: n120 | O45: Reģistrēta
B46: Māsa | C46: 2221 46 | D46: n120 | E46: 1 | F46: 1340 | G46: 40.2 | H46: 220 | I46: =F46+G46+H46 -> 1600.2 | J46: =ROUND((F46+G46+H46)*('[4]29_01_H_2020'!$O$13)*E46*12*(1+'[4]29_01_H_2020'!$O$24),2) -> 1542.6 | N46: n120 | O46: Reģistrēta
B47: Māsa | C47: 2221 46 | D47: n120 | E47: 0.4 | F47: 1340 | G47: 40.2 | H47: 220 | I47: =F47+G47+H47 -> 1600.2 | J47: =ROUND((F47+G47+H47)*('[4]29_01_H_2020'!$O$13)*E47*12*(1+'[4]29_01_H_2020'!$O$24),2) -> 617.04 | N47: n120 | O47: Reģistrēta
B48: Māsa | C48: 2221 46 | D48: n120 | E48: 1 | F48: 1340 | G48: 40.2 | H48: 220 | I48: =F48+G48+H48 -> 1600.2 | J48: =ROUND((F48+G48+H48)*('[4]29_01_H_2020'!$O$13)*E48*12*(1+'[4]29_01_H_2020'!$O$24),2) -> 1542.6 | N48: n120 | O48: Reģistrēta
B49: Māsa | C49: 2221 46 | D49: n120 | E49: 0.2 | F49: 1340 | G49: 40.2 | H49: 220 | I49: =F49+G49+H49 -> 1600.2 | J49: =ROUND((F49+G49+H49)*('[4]29_01_H_2020'!$O$13)*E49*12*(1+'[4]29_01_H_2020'!$O$24),2) -> 308.52 | N49: n120 | O49: Reģistrēta
B50: Māsa | C50: 2221 46 | D50: n120 | E50: 1 | F50: 1340 | G50: 40.2 | H50: 220 | I50: =F50+G50+H50 -> 1600.2 | J50: =ROUND((F50+G50+H50)*('[4]29_01_H_2020'!$O$13)*E50*12*(1+'[4]29_01_H_2020'!$O$24),2) -> 1542.6 | N50: n120 | O50: Reģistrēta
B51: Māsa | C51: 2221 46 | D51: n120 | E51: 1 | F51: 1340 | G51: 40.2 | H51: 220 | I51: =F51+G51+H51 -> 1600.2 | J51: =ROUND((F51+G51+H51)*('[4]29_01_H_2020'!$O$13)*E51*12*(1+'[4]29_01_H_2020'!$O$24),2) -> 1542.6 | N51: n120 | O51: Reģistrēta
B52: Kopā | E52: =SUM(E12:E32,E36:E41,E34,E44:E51) -> 20.4 | F52: X | G52: X | H52: X | I52: X | J52: =SUM(J12:J32,J36:J41,J34,J44:J51) -> 56037.52
