Workbook

Sheet 1_pielikums
B1: 1.pielikums Ministru kabineta rīkojuma projektam “Par finanšu līdzekļu piešķiršanu no valsts budžeta programmas “Līdzekļi neparedzētiem gadījumiem”” sākotnējās ietekmes novērtējuma ziņojumam (anotācijai)
A3: Kopsavilkums par papildu nepieciešamo finansējumu faktiskajiem izdevumiem pievienotās vērtības nodokļa likmes pieauguma segšanai laika posmā no 2021. gada 1. jūlija līdz 2021. gada 31. oktobrim par iegādātajām medicīniskajām ierīcēm un precēm, lai nodrošinātu Latvijas Republikas Senāta 2021. gada 22. marta sprieduma administratīvajā lietā Nr. A420143317 (SKA-123/2021) izpildi
A5: Iestāde | B5: Izdevumu postenis | C5: Summa EUR
A6: Nacionālais veselības dienests | C6: =SUM(C8:C11) -> 2517216.5
A7: no tā:
B8: Primārās ambulatorās veselības aprūpes nodrošināšana | C8: ='2_pielikums'!C1167+'3_pielikums'!C265+'4_pielikums'!F985+'5_pielikums'!D999+'6_pielikums'!C1163 -> 98752.19
B9: Sekundārās ambulatorās veselības aprūpes nodrošināšana | C9: ='7_pielikums'!G8621+'8_pielikums'!H683+'9_pielikums'!P165 -> 250922.29
B10: Stacionārās veselības aprūpes nodrošināšana | C10: 2002766
B11: Ambulatoro laboratorisko izmeklējumu nodrošināšana | C11: 164776
A12: Neatliekamās medicīniskās palīdzības dienests | C12: =SUM(C14) -> 32284.014
A13: no tā:
B14: Neatliekamās medicīniskās palīdzības nodrošināšana | C14: ='12_pielikums'!H1977 -> 32284.014
A15: Valsts tiesu medicīnas ekspertīzes centrs | C15: =SUM(C17) -> 767.79
A16: no tā:
B17: Tiesu medicīnisko ekspertīžu nodrošināšana | C17: ='13_pielikums'!I52 -> 767.79
A18: Valsts asinsdonoru centrs | C18: =SUM(C20) -> 77094.78
A19: no tā:
B20: Asins un asins komponentu nodrošināšana | C20: ='14_pielikums'!S112 -> 77094.78
A21: KOPĀ: | C21: =SUM(C6,C12,C15,C18) -> 2627363.1

Sheet 2_pielikums
A1: 2.pielikums Ministru kabineta rīkojuma projektam “Par finanšu līdzekļu piešķiršanu no valsts budžeta programmas “Līdzekļi neparedzētiem gadījumiem”” sākotnējās ietekmes novērtējuma ziņojumam (anotācijai)
A3: Informācija par ģimenes ārstu praksēs sniegto primārās ambulatorās veselības aprūpes faktiskajiem izdevumiem pievienotās vērtības nodokļa likmes pieauguma segšanai laika posmā no 2021. gada 1. jūlija līdz 2021. gada 30. septembrim par iegādātajām medicīniskajām ierīcēm un precēm, lai nodrošinātu Latvijas Republikas Senāta 2021. gada 22. marta sprieduma administratīvajā lietā Nr. A420143317 (SKA-123/2021) izpildi
A5: ĀI kods (pakalpojumu sniedzēja) | B5: ĀI nosaukums (pakalpojumu sniedzēja) | C5: PVN pieauguma kopmensācija EUR
A6: 019275411 | B6: A. Kraules ģimenes ārsta prakse, SIA | C6: 4.41
A7: 019575426 | B7: A. Līberes ārsta prakse, Sabiedrība ar ierobežotu atbildību | C7: 0.91
A8: 360200060 | B8: A.Ādamsona ģimenes ārsta prakse, SIA | C8: 7.27
A9: 409500012 | B9: A.Jurovas ģimenes ārsta prakse, SIA | C9: 5.77
A10: 940200001 | B10: A.Kārkliņas doktorāts, SIA | C10: 4.13
A11: 170077441 | B11: A.Lucenko ārsta prakse, SIA | C11: 1.4
A12: 381600016 | B12: A.Stubailovas ģimenes ārsta prakse, SIA | C12: 13.8
A13: 760200009 | B13: ABAKS AA, SIA | C13: 0.34
A14: 801000018 | B14: Adamova-Krastiņa Maija - ģimenes ārsta prakse | C14: 6.88
A15: 019175403 | B15: Adītāja Jolanta -ģimenes ārsta prakse | C15: 6.61
A16: 010000343 | B16: Adoria, Sabiedrība ar ierobežotu atbildību | C16: 14.08
A17: 540200017 | B17: Afanasjeva Rita - ģimenes ārsta prakse | C17: 3.35
... A1166: 019375418 | B1166: Žuka Jeļena - ģimenes ārsta prakse | C1166: 0.12
A1167: Kopā: | C1167: =SUM(C6:C1166) -> 8741.08

Sheet 3_pielikums
A1: 3.pielikums Ministru kabineta rīkojuma projektam “Par finanšu līdzekļu piešķiršanu no valsts budžeta programmas “Līdzekļi neparedzētiem gadījumiem”” sākotnējās ietekmes novērtējuma ziņojumam (anotācijai)
A3: Informācija par zobārstniecības klīniku un privātprakses sniegto primārās ambulatorās veselības aprūpes faktiskajiem izdevumiem pievienotās vērtības nodokļa likmes pieauguma segšanai laika posmā no 2021. gada 1. jūlija līdz 2021. gada 30. septembrim par iegādātajām medicīniskajām ierīcēm un precēm, lai nodrošinātu Latvijas Republikas Senāta 2021. gada 22. marta sprieduma administratīvajā lietā Nr. A420143317 (SKA-123/2021) izpildi
A5: ='[1]kopsav. zobarst.'!A2 -> AI_KODS | B5: ='[1]kopsav. zobarst.'!B2 -> ĀI nosaukums (pakalpojumu sniedzēja) | C5: ='[1]kopsav. zobarst.'!C2 -> PVN pieauguma kopmensācija
A6: ='[1]kopsav. zobarst.'!A3 -> 807600014 | B6: ='[1]kopsav. zobarst.'!B3 -> "PP", Medicīnas centrs, Sabiedrība ar ierobežotu atbildību | C6: ='[1]kopsav. zobarst.'!C3 -> 317.14
A7: ='[1]kopsav. zobarst.'!A4 -> 010000343 | B7: ='[1]kopsav. zobarst.'!B4 -> Adoria, Sabiedrība ar ierobežotu atbildību | C7: ='[1]kopsav. zobarst.'!C4 -> 480.65
A8: ='[1]kopsav. zobarst.'!A5 -> 801600087 | B8: ='[1]kopsav. zobarst.'!B5 -> Agates Smaids, Sabiedrība ar ierobežotu atbildību | C8: ='[1]kopsav. zobarst.'!C5 -> 95.71
A9: ='[1]kopsav. zobarst.'!A6 -> 941600023 | B9: ='[1]kopsav. zobarst.'!B6 -> Agnese 1, Sabiedrība ar ierobežotu atbildību | C9: ='[1]kopsav. zobarst.'!C6 -> 112.88
A10: ='[1]kopsav. zobarst.'!A7 -> 090000093 | B10: ='[1]kopsav. zobarst.'!B7 -> Agneses zobārstniecība, SIA | C10: ='[1]kopsav. zobarst.'!C7 -> 536.81
A11: ='[1]kopsav. zobarst.'!A8 -> 700800012 | B11: ='[1]kopsav. zobarst.'!B8 -> AL Denta, Sabiedrība ar ierobežotu atbildību | C11: ='[1]kopsav. zobarst.'!C8 -> 161.93
A12: ='[1]kopsav. zobarst.'!A9 -> 170064506 | B12: ='[1]kopsav. zobarst.'!B9 -> ALGORITMS L, SIA | C12: ='[1]kopsav. zobarst.'!C9 -> 61.63
A13: ='[1]kopsav. zobarst.'!A10 -> 130064002 | B13: ='[1]kopsav. zobarst.'!B10 -> AMALS, Sabiedrība ar ierobežotu atbildību ražošanas komercfirma | C13: ='[1]kopsav. zobarst.'!C10 -> 125.9
A14: ='[1]kopsav. zobarst.'!A11 -> 360200066 | B14: ='[1]kopsav. zobarst.'!B11 -> Amālija 2020, SIA | C14: ='[1]kopsav. zobarst.'!C11 -> 155.27
A15: ='[1]kopsav. zobarst.'!A12 -> 740200015 | B15: ='[1]kopsav. zobarst.'!B12 -> ANARALS, Sabiedrība ar ierobežotu atbildību | C15: ='[1]kopsav. zobarst.'!C12 -> 51.16
A16: ='[1]kopsav. zobarst.'!A13 -> 900200056 | B16: ='[1]kopsav. zobarst.'!B13 -> Ancāne Lūcija - ārsta prakse zobārstniecībā | C16: ='[1]kopsav. zobarst.'!C13 -> 230.68
... A150: ='[1]kopsav. zobarst.'!A147 -> 010001054 | B150: ='[1]kopsav. zobarst.'!B147 -> LORADENT, Sabiedrība ar ierobežotu atbildību | C150: ='[1]kopsav. zobarst.'!C147 -> 88.33
A151: ='[1]kopsav. zobarst.'!A149 -> 601000004 | B151: ='[1]kopsav. zobarst.'!B149 -> Maceviča Ilona - ārsta prakse zobārstniecībā | C151: ='[1]kopsav. zobarst.'!C149 -> 112.68
A152: ='[1]kopsav. zobarst.'!A150 -> 700200067 | B152: ='[1]kopsav. zobarst.'!B150 -> MADONAS NOVADA PAŠVALDĪBAS SOCIĀLAIS DIENESTS, Madonas novada pašvaldība | C152: ='[1]kopsav. zobarst.'!C150 -> 41.04
A153: ='[1]kopsav. zobarst.'!A151 -> 961000003 | B153: ='[1]kopsav. zobarst.'!B151 -> Mazsalacas slimnīca, Sabiedrība ar ierobežotu atbildību | C153: ='[1]kopsav. zobarst.'!C151 -> 18
A154: ='[1]kopsav. zobarst.'!A152 -> 807635202 | B154: ='[1]kopsav. zobarst.'!B152 -> Mārupes ambulance 1, Sabiedrība ar ierobežotu atbildību | C154: ='[1]kopsav. zobarst.'!C152 -> 8.38
A155: ='[1]kopsav. zobarst.'!A153 -> 270000064 | B155: ='[1]kopsav. zobarst.'!B153 -> MEDENT, SIA | C155: ='[1]kopsav. zobarst.'!C153 -> 1190.74
A156: ='[1]kopsav. zobarst.'!A154 -> 210000043 | B156: ='[1]kopsav. zobarst.'!B154 -> Medical plus, Sabiedrība ar ierobežotu atbildību | C156: ='[1]kopsav. zobarst.'!C154 -> 739.41
A157: ='[1]kopsav. zobarst.'!A155 -> 210000058 | B157: ='[1]kopsav. zobarst.'!B155 -> Medicīnas centrs 36,6, Sabiedrība ar ierobežotu atbildību | C157: ='[1]kopsav. zobarst.'!C155 -> 873.54
A158: ='[1]kopsav. zobarst.'!A156 -> 090024001 | B158: ='[1]kopsav. zobarst.'!B156 -> Medicīnas sabiedrība "Optima 1", Sabiedrība ar ierobežotu atbildību | C158: ='[1]kopsav. zobarst.'!C156 -> 214.78
A159: ='[1]kopsav. zobarst.'!A157 -> 900200089 | B159: ='[1]kopsav. zobarst.'!B157 -> Medinteks, SIA | C159: ='[1]kopsav. zobarst.'!C157 -> 857.51
A160: ='[1]kopsav. zobarst.'!A158 -> 010001581 | B160: ='[1]kopsav. zobarst.'!B158 -> Medline, Sabiedrība ar ierobežotu atbildību | C160: ='[1]kopsav. zobarst.'!C158 -> 314.65
A161: ='[1]kopsav. zobarst.'!A159 -> 500200032 | B161: ='[1]kopsav. zobarst.'!B159 -> Medniece Viola - ārsta prakse zobārstniecībā | C161: ='[1]kopsav. zobarst.'!C159 -> 163.8
A162: ='[1]kopsav. zobarst.'!A160 -> 019164058 | B162: ='[1]kopsav. zobarst.'!B160 -> Meitas un Dēli, Sabiedrība ar ierobežotu atbildību | C162: ='[1]kopsav. zobarst.'!C160 -> 170.45
... A264: ='[1]kopsav. zobarst.'!A262 -> 741400017 | B264: ='[1]kopsav. zobarst.'!B262 -> Zobārstu prakse Lielvārde, SIA | C264: ='[1]kopsav. zobarst.'!C262 -> 356.43
A265: KOPĀ: | C265: =SUM(C6:C264) -> 84041.94

Sheet 4_pielikums
D1: 4.pielikums Ministru kabineta rīkojuma projektam “Par finanšu līdzekļu piešķiršanu no valsts budžeta programmas “Līdzekļi neparedzētiem gadījumiem”” sākotnējās ietekmes novērtējuma ziņojumam (anotācijai)
A3: Informācija par primārās veselības aprūpes epizožu faktiskajiem izdevumiem pievienotās vērtības nodokļa likmes pieauguma segšanai laika posmā no 2021.gada 1.jūlija līdz 2021.gada 30.septembrim par iegādātajām medicīniskajām ierīcēm un precēm, lai nodrošinātu Latvijas Republikas Senāta 2021. gada 22. marta sprieduma administratīvajā lietā Nr. A420143317 (SKA-123/2021) izpildi
A5: ĀI kods (pakalpojumu sniedzēja) | B5: ĀI nosaukums (pakalpojumu sniedzēja) | C5: Specialitāte (pakalpojuma sniedzēja) | D5: Epizožu skaits | E5: Pakalpojumu summa | F5: PVN pieaugums, EUR
A6: 170000017 | B6: A. Kraules ģimenes ārsta prakse, SIA | C6: P02 - ģimenes (vispārējās prakses) ārsts | D6: =E6/7.32 -> 7 | E6: 51.24 | F6: =D6*0.05 -> 0.35
A7: 170000116 | B7: A. Līberes ārsta prakse, Sabiedrība ar ierobežotu atbildību | C7: P02 - ģimenes (vispārējās prakses) ārsts | D7: =E7/7.32 -> 3 | E7: 21.96 | F7: =D7*0.05 -> 0.15
A8: 170000124 | B8: A.Ādamsona ģimenes ārsta prakse, SIA | C8: P02 - ģimenes (vispārējās prakses) ārsts | D8: =E8/7.32 -> 3 | E8: 21.96 | F8: =D8*0.05 -> 0.15
A9: 170000170 | B9: A.Jurovas ģimenes ārsta prakse, SIA | C9: P02 - ģimenes (vispārējās prakses) ārsts | D9: =E9/7.32 -> 5 | E9: 36.6 | F9: =D9*0.05 -> 0.25
A10: 170000171 | B10: A.Lucenko ārsta prakse, SIA | C10: P02 - ģimenes (vispārējās prakses) ārsts | D10: =E10/7.32 -> 3 | E10: 21.96 | F10: =D10*0.05 -> 0.15
A11: 170000173 | B11: A.Stubailovas ģimenes ārsta prakse, SIA | C11: P02 - ģimenes (vispārējās prakses) ārsts | D11: =E11/7.32 -> 7 | E11: 51.24 | F11: =D11*0.05 -> 0.35
A12: 170000186 | B12: Adamova-Krastiņa Maija - ģimenes ārsta prakse | C12: P02 - ģimenes (vispārējās prakses) ārsts | D12: =E12/7.32 -> 3 | E12: 21.96 | F12: =D12*0.05 -> 0.15
A13: 170000188 | B13: Adītāja Jolanta -ģimenes ārsta prakse | C13: P02 - ģimenes (vispārējās prakses) ārsts | D13: =E13/7.32 -> 6 | E13: 43.92 | F13: =D13*0.05 -> 0.3
A14: 170000190 | B14: Adoria, Sabiedrība ar ierobežotu atbildību | C14: P02 - ģimenes (vispārējās prakses) ārsts | D14: =E14/7.32 -> 8 | E14: 58.56 | F14: =D14*0.05 -> 0.4
A15: 170075405 | B15: AFP, Sabiedrība ar ierobežotu atbildību | C15: P02 - ģimenes (vispārējās prakses) ārsts | D15: =E15/7.32 -> 4 | E15: 29.28 | F15: =D15*0.05 -> 0.2
A16: 170075406 | B16: Aganova Regīna - ģimenes ārsta prakse | C16: P02 - ģimenes (vispārējās prakses) ārsts | D16: =E16/7.32 -> 2 | E16: 14.64 | F16: =D16*0.05 -> 0.1
A17: 170075410 | B17: Agarelovs Vadims - ģimenes ārsta prakse | C17: P02 - ģimenes (vispārējās prakses) ārsts | D17: =E17/7.32 -> 1 | E17: 7.32 | F17: =D17*0.05 -> 0.05
... A984: 781800017 | B984: Žuka Jeļena - ģimenes ārsta prakse | C984: P02 - ģimenes (vispārējās prakses) ārsts | D984: =E984/7.32 -> 2 | E984: 14.64 | F984: =D984*0.05 -> 0.1
A985: KOPĀ: | F985: =SUM(F6:F984) -> 379.8

Sheet 5_pielikums
B1: 5.pielikums Ministru kabineta rīkojuma projektam “Par finanšu līdzekļu piešķiršanu no valsts budžeta programmas “Līdzekļi neparedzētiem gadījumiem”” sākotnējās ietekmes novērtējuma ziņojumam (anotācijai)
A3: Informācija par primārās veselības aprūpes nodrošināšanu ģimenes ārstu praksē nereģistrētiem pacientiem faktiskajiem izdevumiem pievienotās vērtības nodokļa likmes pieauguma segšanai laika posmā no 2021. gada 1. jūlija līdz 2021. gada 30. septembrim par iegādātajām medicīniskajām ierīcēm un precēm, lai nodrošinātu Latvijas Republikas Senāta 2021. gada 22. marta sprieduma administratīvajā lietā Nr. A420143317 (SKA-123/2021) izpildi
C5: Epizodes tarifs | D5: Tarifa pieaugums epizodei PVN, euro
C6: 7.32 | D6: 0.05
A8: Iestāde | B8: Maksa par pakalpojumiem | C8: Epizožu skaits | D8: PVN pieugums, euro
A9: A.Lucenko ārsta prakse, SIA | B9: 21.96 | C9: =B9/$C$6 -> 3 | D9: =C9*$D$6 -> 0.15
A10: AFP, Sabiedrība ar ierobežotu atbildību | B10: 29.28 | C10: =B10/$C$6 -> 4 | D10: =C10*$D$6 -> 0.2
A11: Aijas Briedes ārsta prakse, SIA | B11: 21.96 | C11: =B11/$C$6 -> 3 | D11: =C11*$D$6 -> 0.15
A12: Anaņjeva Aleksandra - ģimenes ārsta prakse | B12: 7.32 | C12: =B12/$C$6 -> 1 | D12: =C12*$D$6 -> 0.05
A13: Andas Mellenbergas ārsta prakse, Sabiedrība ar ierobežotu atbildību | B13: 36.6 | C13: =B13/$C$6 -> 5 | D13: =C13*$D$6 -> 0.25
A14: Ašmane Solveiga - ģimenes ārsta un arodveselības un arodslimību ārsta prakse | B14: 21.96 | C14: =B14/$C$6 -> 3 | D14: =C14*$D$6 -> 0.15
A15: Āboliņš Mārtiņš - ģimenes ārsta un internista prakse | B15: 73.2 | C15: =B15/$C$6 -> 10 | D15: =C15*$D$6 -> 0.5
A16: āp DOCTUS, SIA | B16: 65.88 | C16: =B16/$C$6 -> 9 | D16: =C16*$D$6 -> 0.45
A17: Baranovs Aleksejs - ģimenes ārsta un internista prakse | B17: 36.6 | C17: =B17/$C$6 -> 5 | D17: =C17*$D$6 -> 0.25
A18: Basenko Ludmila - ģimenes ārsta prakse | B18: 36.6 | C18: =B18/$C$6 -> 5 | D18: =C18*$D$6 -> 0.25
A19: Berga Ruta -ģimenes ārsta prakse | B19: 7.32 | C19: =B19/$C$6 -> 1 | D19: =C19*$D$6 -> 0.05
A20: Bētiņa Lilita - ģimenes ārsta un arodveselības un arodslimību ārsta prakse | B20: 51.24 | C20: =B20/$C$6 -> 7 | D20: =C20*$D$6 -> 0.35
... A998: Zīverte Santa - ģimenes ārsta prakse | B998: 21.96 | C998: =B998/$C$6 -> 3 | D998: =C998*$D$6 -> 0.15
A999: KOPĀ: | D999: =SUM(D9:D998) -> 387.9

Sheet 6_pielikums
B1: 6.pielikums Ministru kabineta rīkojuma projektam “Par finanšu līdzekļu piešķiršanu no valsts budžeta programmas “Līdzekļi neparedzētiem gadījumiem”” sākotnējās ietekmes novērtējuma ziņojumam (anotācijai)
A3: Informācija par ģimenes ārstu kapitācijas naudas faktiskajiem izdevumiem pievienotās vērtības nodokļa likmes pieauguma segšanai laika posmā no 2021. gada 1. jūlija līdz 2021. gada 30. septembrim par iegādātajām medicīniskajām ierīcēm un precēm, lai nodrošinātu Latvijas Republikas Senāta 2021. gada 22. marta sprieduma administratīvajā lietā Nr. A420143317 (SKA-123/2021) izpildi
A5: 0.00035969597 | B5: vidējais procents PVN pieaugumam kapitācijas naudai praksei 3 mēnešiem, palielinot Kapitācijas naudu mēnesī uz 1 pacientu no 2.467845 EUR uz 2.468846 EUR * zemāk aprēķins
A7: Iestāde | B7: Kopā apmaksai | C7: PVN pieaugums, EUR
A8: A. Kraules ģimenes ārsta prakse, SIA | B8: 10834.45 | C8: =ROUND(B8*$A$5,2) -> 3.9
A9: A. Līberes ārsta prakse, Sabiedrība ar ierobežotu atbildību | B9: 15357.15 | C9: =ROUND(B9*$A$5,2) -> 5.52
A10: A.Ādamsona ģimenes ārsta prakse, SIA | B10: 12327.87 | C10: =ROUND(B10*$A$5,2) -> 4.43
A11: A.Jurovas ģimenes ārsta prakse, SIA | B11: 13472.71 | C11: =ROUND(B11*$A$5,2) -> 4.85
A12: A.Kārkliņas doktorāts, SIA | B12: 5385.83 | C12: =ROUND(B12*$A$5,2) -> 1.94
A13: A.Lucenko ārsta prakse, SIA | B13: 8865.97 | C13: =ROUND(B13*$A$5,2) -> 3.19
A14: A.Stubailovas ģimenes ārsta prakse, SIA | B14: 8394.92 | C14: =ROUND(B14*$A$5,2) -> 3.02
A15: ABAKS AA, SIA | B15: 7162.79 | C15: =ROUND(B15*$A$5,2) -> 2.58
A16: Adamova-Krastiņa Maija - ģimenes ārsta prakse | B16: 8822.8 | C16: =ROUND(B16*$A$5,2) -> 3.17
A17: Adītāja Jolanta -ģimenes ārsta prakse | B17: 19254.79 | C17: =ROUND(B17*$A$5,2) -> 6.93
A18: Adoria, Sabiedrība ar ierobežotu atbildību | B18: 4754.59 | C18: =ROUND(B18*$A$5,2) -> 1.71
A19: Afanasjeva Rita - ģimenes ārsta prakse | B19: 8764.63 | C19: =ROUND(B19*$A$5,2) -> 3.15
... A1162: Žuka Jeļena - ģimenes ārsta prakse | B1162: 9325.94 | C1162: =ROUND(B1162*$A$5,2) -> 3.35
A1163: KOPĀ: | C1163: =SUM(C8:C1162) -> 5201.47
A1166: *Ģimenes ārstu kapitācijas naudas aprēķins
A1167: Nr.p.k. | B1167: Medicīnas instrumenti un iekārtas | C1167: Vērtība, EUR | D1167: Gadi | E1167: Izmaksas 1 mēnesī no 01.01.2018 | F1167: Izmaksas 1 mēnesī no 01.01.2019 | G1167: Izmaksas 1 mēnesī no 01.01.2020. | H1167: Izmaksas 1 mēnesī no 01.01.2021. | I1167: PVN izmaiņu aprēkins 8% pieaugums materiāliem 57. un 58. punktā
A1168: 1 | B1168: 2 | C1168: 3 | D1168: 4 | E1168: 5 | F1168: 6 | G1168: 7 | H1168: 8
A1169: 1 | B1169: Ierīce redzes asuma pārbaudei (apgaismota tabula) | C1169: 205.7 | D1169: 10 | E1169: =ROUND(C1169/10/12,2) -> 1.71 | F1169: 1.71 | G1169: 1.71 | H1169: 1.71
A1170: 2 | B1170: Otoskops | C1170: 165.05 | D1170: 10 | E1170: =ROUND(C1170/10/12,2) -> 1.38 | F1170: 1.38 | G1170: 1.38 | H1170: 1.38
A1171: 3 | B1171: Oftalmoskops | C1171: 119.79 | D1171: 10 | E1171: =ROUND(C1171/10/12,2) -> 1 | F1171: 1 | G1171: 1 | H1171: 1
A1172: 4 | B1172: Inhalators | C1172: 67.76 | D1172: 10 | E1172: =ROUND(C1172/10/12,2) -> 0.56 | F1172: 0.56 | G1172: 0.56 | H1172: 0.56
A1173: 5 | B1173: Ierīce rentgenogrammu apskatei (negatoskops) 88.33 | C1173: 88.33 | D1173: 10 | E1173: =ROUND(C1173/10/12,2) -> 0.74 | F1173: 0.74 | G1173: 0.74 | H1173: 0.74
A1174: 6 | B1174: NMP komplekts | C1174: 33.88 | D1174: 10 | E1174: =ROUND(C1174/10/12,2) -> 0.28 | F1174: 0.28 | G1174: 0.28 | H1174: 0.28
A1175: 7 | B1175: Fonendoskops (ārstam) pieaugušajiem | C1175: 227.06 | D1175: 10 | E1175: =ROUND(C1175/10/12,2) -> 1.89 | F1175: 1.89 | G1175: 1.89 | H1175: 1.89
A1176: 8 | B1176: Fonendoskops (ārstam) bērniem | C1176: 94.74 | D1176: 10 | E1176: =ROUND(C1176/10/12,2) -> 0.79 | F1176: 0.79 | G1176: 0.79 | H1176: 0.79
A1177: 9 | B1177: Ierīce netiešai asins spiediena mērīšanai | C1177: 101.34 | D1177: 10 | E1177: =ROUND(C1177/10/12,2) -> 0.84 | F1177: 0.84 | G1177: 0.84 | H1177: 0.84
A1178: 10 | B1178: Medicīniskie svari un auguma mērītājs (pieaugušajiem) | C1178: =444+22.26 -> 466.26 | D1178: 10 | E1178: =ROUND(C1178/10/12,2) -> 3.89 | F1178: 3.89 | G1178: 3.89 | H1178: 3.89
A1179: 11 | B1179: Medicīniskie svari (zīdaiņiem) (piemēram, KERN – MBC 15K2DM) | C1179: 339.8 | D1179: 10 | E1179: =ROUND(C1179/10/12,2) -> 2.83 | F1179: 2.83 | G1179: 2.83 | H1179: 2.83
A1180: 12 | B1180: Auguma mērītājs (zīdaiņiem) | C1180: 69.26 | D1180: 10 | E1180: =ROUND(C1180/10/12,2) -> 0.58 | F1180: 0.58 | G1180: 0.58 | H1180: 0.58
A1181: 13 | B1181: Medicīniskā lampa | C1181: 500 | D1181: 10 | E1181: =ROUND(C1181/10/12,2) -> 4.17 | F1181: 4.17 | G1181: 4.17 | H1181: 4.17
A1182: 14 | B1182: Nokomplektētā ārsta soma | C1182: 156.09 | D1182: 10 | E1182: =ROUND(C1182/10/12,2) -> 1.3 | F1182: 1.3 | G1182: 1.3 | H1182: 1.3
A1183: 15 | B1183: Medicīniskā kušete | C1183: 290.4 | D1183: 10 | E1183: =ROUND(C1183/12/10,2) -> 2.42 | F1183: 2.42 | G1183: 2.42 | H1183: 2.42
A1184: 16 | B1184: Instrumentu galds | C1184: 272.25 | D1184: 10 | E1184: =ROUND(C1184/12/10,2) -> 2.27 | F1184: 2.27 | G1184: 2.27 | H1184: 2.27
A1185: 17 | B1185: Bērnu izmeklēšanas galds | C1185: 365.78 | D1185: 10 | E1185: =ROUND(C1185/12/10,2) -> 3.05 | F1185: 3.05 | G1185: 3.05 | H1185: 3.05
A1186: 18 | B1186: Ledusskapis vakcīnu glabāšanai (ar saldētavu) | C1186: 444.98 | D1186: 10 | E1186: =ROUND(C1186/12/10,2) -> 3.71 | F1186: 3.71 | G1186: 3.71 | H1186: 3.71
A1187: 19 | B1187: Medikamentu skapis | C1187: 155 | D1187: 10 | E1187: =ROUND(C1187/12/10,2) -> 1.29 | F1187: 1.29 | G1187: 1.29 | H1187: 1.29
...

Sheet 7_pielikums
D1: 7.pielikums Ministru kabineta rīkojuma projektam “Par finanšu līdzekļu piešķiršanu no valsts budžeta programmas “Līdzekļi neparedzētiem gadījumiem”” sākotnējās ietekmes novērtējuma ziņojumam (anotācijai)
A3: Informācija par sekundārās ambulatorās veselības aprūpes faktiskajiem izdevumiem pievienotās vērtības nodokļa likmes pieauguma segšanai laika posmā no 2021. gada 1. jūlija līdz 2021. gada 30. septembrim par iegādātajām medicīniskajām ierīcēm un precēm, lai nodrošinātu Latvijas Republikas Senāta 2021. gada 22. marta sprieduma administratīvajā lietā Nr. A420143317 (SKA-123/2021) izpildi
A5: ĀI kods (pakalpojumu sniedzēja) | B5: ĀI nosaukums (pakalpojumu sniedzēja) | C5: Manipulācijas nosaukums | D5: Manipulāciju skaits | E5: Pakalpojumu summa bez PVN pieauguma | F5: Manipulācijas tarifa PVN pieaugums, EUR | G5: Summa PVN pieaugums, EUR
A6: 170000005 | B6: LENS-L, SIA | C6: Autorefraktometrija | D6: 177 | E6: 865.53 | F6: 0.01 | G6: 1.77
A7: 170000005 | B7: LENS-L, SIA | C7: Acs biomikroskopija abām acīm | D7: 453 | E7: 1757.64 | F7: 0.03 | G7: 13.59
A8: 170000005 | B8: LENS-L, SIA | C8: Biomikrooftalmoskopija (ar Goldmaņa lēcu) abām acīm un rezultātu salīdzinoša izvērtēšana | D8: 122 | E8: 786.9 | F8: 0.03 | G8: 3.66
A9: 170000005 | B9: LENS-L, SIA | C9: Tonometrija abām acīm | D9: 450 | E9: 891 | F9: 0.01 | G9: 4.5
A10: 170000005 | B10: LENS-L, SIA | C10: Svešķermeņa evakuācija no konjunktīvas asā ceļā | D10: 5 | E10: 115.5 | F10: 0.59 | G10: 2.95
A11: 170000007 | B11: Smirnova Jevgeņija - ārsta prakse oftalmoloģijā | C11: Acs biomikroskopija abām acīm | D11: 38 | E11: 147.44 | F11: 0.03 | G11: 1.14
A12: 170000007 | B12: Smirnova Jevgeņija - ārsta prakse oftalmoloģijā | C12: Tonometrija abām acīm | D12: 37 | E12: 73.26 | F12: 0.01 | G12: 0.37
A13: 170000010 | B13: Vēvere Inga - ārsta prakse ginekoloģijā, dzemdniecībā | C13: Ginekologa, dzemdību speciālista veikta pirmreizēja vai atkārtota grūtnieces apskate (atbilstoši Ministru kabineta 2006. gada 25. jūlija noteikumiem Nr. 611 "Dzemdību palīdzības nodrošināšanas kārtība") | D13: 505 | E13: 13190.6 | F13: 0.03 | G13: 15.15
A14: 170000010 | B14: Vēvere Inga - ārsta prakse ginekoloģijā, dzemdniecībā | C14: Iztriepes paņemšana seksuāli transmisīvo slimību diagnostikai | D14: 35 | E14: 69.65 | F14: 0.01 | G14: 0.35
A15: 170000010 | B15: Vēvere Inga - ārsta prakse ginekoloģijā, dzemdniecībā | C15: Materiāla paņemšana bakterioloģiskiem uzsējumiem seksuāli transmisīvo slimību diagnostikai | D15: 42 | E15: 148.68 | F15: 0.02 | G15: 0.84
A16: 170000010 | B16: Vēvere Inga - ārsta prakse ginekoloģijā, dzemdniecībā | C16: Doplerogrāfiskās manipulācijas grūtnieces un augļa izmeklēšanā | D16: 46 | E16: 594.78 | F16: 0.03 | G16: 1.38
A17: 170000010 | B17: Vēvere Inga - ārsta prakse ginekoloģijā, dzemdniecībā | C17: Ultrasonogrāfijas izmeklējums ar skausta krokas mērījumu līdz grūtniecības 12. nedēļai, tai skaitā amortizācija ultrasonogrāfijas aparātam. Nenorādīt kopā ar manipulācijām 50695, 50743, 50744 | D17: 104 | E17: 3354 | F17: 0.02 | G17: 2.08
... A8620: 781800005 | B8620: Viļānu slimnīca, Sabiedrība ar ierobežotu atbildību | C8620: Elektrokardiogrammas ar 12 novadījumiem apraksts | D8620: 7 | E8620: 35.49 | F8620: 0.02 | G8620: 0.14
A8621: KOPĀ: | G8621: 213766.66

Sheet 8_pielikums
D1: 8.pielikums Ministru kabineta rīkojuma projektam “Par finanšu līdzekļu piešķiršanu no valsts budžeta programmas “Līdzekļi neparedzētiem gadījumiem”” sākotnējās ietekmes novērtējuma ziņojumam (anotācijai)
A2: Informācija par Ambulatoro pakalpojumu aprūpes epizožu faktiskajiem izdevumiem pievienotās vērtības nodokļa likmes pieauguma segšanai laika posmā no 2021. gada 1. jūlija līdz 2021. gada 30. septembrim par iegādātajām medicīniskajām ierīcēm un precēm, lai nodrošinātu Latvijas Republikas Senāta 2021. gada 22. marta sprieduma administratīvajā lietā Nr. A420143317 (SKA-123/2021) izpildi
A4: ĀI kods (pakalpojumu sniedzēja) | B4: ĀI nosaukums (pakalpojumu sniedzēja) | C4: Specialitāte (pakalpojuma sniedzēja) | D4: Pakalpojumu summ | E4: Epizožu skaits | F4: Tarifs | G4: PVN pieaugums tarifā, EUR | H4: PVN pieaugums, EUR
A5: 001000014 | B5: Marutas Alsbergas ārsta prakse oftalmoloģijā, Sabiedrība ar ierobežotu atbildību | C5: P22 - oftalmologs | D5: 4344.44 | E5: =D5/F5 -> 347 | F5: 12.52 | G5: 0.13 | H5: =E5*G5 -> 45.11
A6: 001000017 | B6: Rasmas Kalniņas ārsta prakse oftalmoloģijā, Sabiedrība ar ierobežotu atbildību | C6: P22 - oftalmologs | D6: 2704.32 | E6: =D6/F6 -> 216 | F6: 12.52 | G6: 0.13 | H6: =E6*G6 -> 28.08
A7: 010000058 | B7: MED ALFA, Sabiedrība ar ierobežotu atbildību | C7: A015 - nefrologs | D7: 1322.1 | E7: =D7/F7 -> 90 | F7: 14.69 | G7: 0.08 | H7: =E7*G7 -> 7.2
A8: 010000114 | B8: ŽANETAS ABRAMSONES ĀRSTA PRAKSE GINEKOLOĢIJĀ UN DZEMDNIECĪBĀ, Sabiedrība ar ierobežotu atbildību | C8: P14 - ginekologs, dzemdību speciālists | D8: 9264.8 | E8: =D8/F8 -> 740 | F8: 12.52 | G8: 0.13 | H8: =E8*G8 -> 96.2
A9: 010000152 | B9: Adamoviča Vivija - ārsta prakse pulmonoloģijā | C9: A013 - pneimonologs | D9: 29.38 | E9: =D9/F9 -> 2 | F9: 14.69 | G9: 0.08 | H9: =E9*G9 -> 0.16
A10: 010000152 | B10: Adamoviča Vivija - ārsta prakse pulmonoloģijā | C10: A155 - bērnu pneimonologs | D10: 113.47 | E10: =D10/F10 -> 7 | F10: 16.21 | G10: 0.06 | H10: =E10*G10 -> 0.42
A11: 010000214 | B11: Diabēta centrs, SIA | C11: A014 - endokrinologs | D11: 10579.86 | E11: =D11/F11 -> 477 | F11: 22.18 | G11: 0.08 | H11: =E11*G11 -> 38.16
A12: 010000230 | B12: AVA CLINIC SIA | C12: P14 - ginekologs, dzemdību speciālists | D12: 2572.68 | E12: 205 | F12: 12.52 | G12: 0.13 | H12: =E12*G12 -> 26.65
A13: 010000287 | B13: Keisa Spodrīte - ārsta prakse endokrinoloģijā | C13: A014 - endokrinologs | D13: 12620.42 | E13: =D13/F13 -> 569 | F13: 22.18 | G13: 0.08 | H13: =E13*G13 -> 45.52
A14: 010000310 | B14: Zābere Lauma - ārsta prakse kardioloģijā | C14: P52 - kardiologs | D14: 9613.5 | E14: =D14/F14 -> 435 | F14: 22.1 | G14: 0.08 | H14: =E14*G14 -> 34.8
A15: 010000480 | B15: Arho Medicīnas Serviss, Sabiedrība ar ierobežotu atbildību | C15: P54 - fizikālās un rehabilitācijas medicīnas ārsts | D15: 146.9 | E15: =D15/F15 -> 10 | F15: 14.69 | G15: 0.08 | H15: =E15*G15 -> 0.8
A16: 010000491 | B16: Kokare Larisa - ārsta prakse endokrinoloģijā | C16: A014 - endokrinologs | D16: 14394.82 | E16: =D16/F16 -> 649 | F16: 22.18 | G16: 0.08 | H16: =E16*G16 -> 51.92
A17: 010000491 | B17: Kokare Larisa - ārsta prakse endokrinoloģijā un dietoloģijā | C17: A014 - endokrinologs | D17: 1219.9 | E17: =D17/F17 -> 55 | F17: 22.18 | G17: 0.08 | H17: =E17*G17 -> 4.4
A18: 010000493 | B18: Veselības centri un doktorāti, SIA | C18: P52 - kardiologs | D18: 2607.8 | E18: =D18/F18 -> 118 | F18: 22.1 | G18: 0.08 | H18: =E18*G18 -> 9.44
A19: 010000502 | B19: Acu veselības centrs, Sabiedrība ar ierobežotu atbildību | C19: P22 - oftalmologs | D19: 5108.16 | E19: =D19/F19 -> 408 | F19: 12.52 | G19: 0.13 | H19: =E19*G19 -> 53.04
A20: 010000535 | B20: LĀZERPLASTIKAS KLĪNIKA, SIA | C20: P12 - bērnu ķirurgs | D20: 3100.63 | E20: =D20/F20 -> 221 | F20: 14.03 | G20: 0.1 | H20: =E20*G20 -> 22.1
A21: 010000535 | B21: LĀZERPLASTIKAS KLĪNIKA, SIA | C21: P27 - dermatologs, venerologs | D21: 1057.68 | E21: =D21/F21 -> 72 | F21: 14.69 | G21: 0.08 | H21: =E21*G21 -> 5.76
A22: 010000873 | B22: LAIMDOTAS BERĢĪTES ĀRSTA PRAKSE, Sabiedrība ar ierobežotu atbildību | C22: P14 - ginekologs, dzemdību speciālists | D22: 7662.24 | E22: =D22/F22 -> 612 | F22: 12.52 | G22: 0.13 | H22: =E22*G22 -> 79.56
A23: 010000945 | B23: VIZUS OPTIMA, Sabiedrība ar ierobežotu atbildību | C23: P22 - oftalmologs | D23: 9364.96 | E23: =D23/F23 -> 748 | F23: 12.52 | G23: 0.13 | H23: =E23*G23 -> 97.24
A24: 010000995 | B24: medicīnas firma "Elpa", Sabiedrība ar ierobežotu atbildību | C24: A013 - pneimonologs | D24: 852.02 | E24: =D24/F24 -> 58 | F24: 14.69 | G24: 0.08 | H24: =E24*G24 -> 4.64
... A28: 010000995 | B28: medicīnas firma "Elpa", Sabiedrība ar ierobežotu atbildību | C28: P52 - kardiologs | D28: 331.5 | E28: =D28/F28 -> 15 | F28: 22.1 | G28: 0.08 | H28: =E28*G28 -> 1.2
A29: 010001273 | B29: VASU, SIA | C29: P14 - ginekologs, dzemdību speciālists | D29: 935.52 | E29: 75 | F29: 12.52 | G29: 0.13 | H29: =E29*G29 -> 9.75
A30: 010001433 | B30: iVF Riga, SIA | C30: P14 - ginekologs, dzemdību speciālists | D30: 584.7 | E30: 47 | F30: 12.52 | G30: 0.13 | H30: =E30*G30 -> 6.11
A31: 010001535 | B31: Rīgas veselības centrs, SIA | C31: A012 - reimatologs | D31: 66.54 | E31: =D31/F31 -> 3 | F31: 22.18 | G31: 0.08 | H31: =E31*G31 -> 0.24
A32: 010001535 | B32: Rīgas veselības centrs, SIA | C32: A1510 - bērnu alergologs | D32: 1685.84 | E32: =D32/F32 -> 104 | F32: 16.21 | G32: 0.06 | H32: =E32*G32 -> 6.24
A33: 010001535 | B33: Rīgas veselības centrs, SIA | C33: A153 - bērnu kardiologs | D33: 8184.96 | E33: =D33/F33 -> 294 | F33: 27.84 | G33: 0.06 | H33: =E33*G33 -> 17.64
A34: 010001535 | B34: Rīgas veselības centrs, SIA | C34: A154 - bērnu reimatologs | D34: 27.84 | E34: =D34/F34 -> 1 | F34: 27.84 | G34: 0.06 | H34: =E34*G34 -> 0.06
A35: 010001535 | B35: Rīgas veselības centrs, SIA | C35: P03 - ķirurgs | D35: 13822.08 | E35: =D35/F35 -> 1104 | F35: 12.52 | G35: 0.13 | H35: =E35*G35 -> 143.52
A36: 010001535 | B36: Rīgas veselības centrs, SIA | C36: P08 - urologs | D36: 6823.4 | E36: =D36/F36 -> 545 | F36: 12.52 | G36: 0.13 | H36: =E36*G36 -> 70.85
A37: 010001535 | B37: Rīgas veselības centrs, SIA | C37: P12 - bērnu ķirurgs | D37: 13398.65 | E37: =D37/F37 -> 955 | F37: 14.03 | G37: 0.1 | H37: =E37*G37 -> 95.5
A38: 010001535 | B38: Rīgas veselības centrs, SIA | C38: P13 - traumatologs, ortopēds | D38: 5233.36 | E38: =D38/F38 -> 418 | F38: 12.52 | G38: 0.13 | H38: =E38*G38 -> 54.34
A39: 010001535 | B39: Rīgas veselības centrs, SIA | C39: P14 - ginekologs, dzemdību speciālists | D39: 39125 | E39: =D39/F39 -> 3125 | F39: 12.52 | G39: 0.13 | H39: =E39*G39 -> 406.25
A40: 010001535 | B40: Rīgas veselības centrs, SIA | C40: P20 - neirologs | D40: 42180 | E40: =D40/F40 -> 1850 | F40: 22.8 | G40: 0.08 | H40: =E40*G40 -> 148
A41: 010001535 | B41: Rīgas veselības centrs, SIA | C41: P22 - oftalmologs | D41: 43131.4 | E41: =D41/F41 -> 3445 | F41: 12.52 | G41: 0.13 | H41: =E41*G41 -> 447.85
A42: 010001535 | B42: Rīgas veselības centrs, SIA | C42: P23 - otolaringologs | D42: 25666 | E42: =D42/F42 -> 2050 | F42: 12.52 | G42: 0.13 | H42: =E42*G42 -> 266.5
... A48: 010001535 | B48: Rīgas veselības centrs, SIA | C48: PP01 - alergologs | D48: 411.32 | E48: =D48/F48 -> 28 | F48: 14.69 | G48: 0.08 | H48: =E48*G48 -> 2.24
A49: 010001694 | B49: MCRA, Sabiedrība ar ierobežotu atbildību | C49: P14 - ginekologs, dzemdību speciālists | D49: 3118.4 | E49: 249 | F49: 12.52 | G49: 0.13 | H49: =E49*G49 -> 32.37
...

Sheet 9_pielikums
M1: 9.pielikums Ministru kabineta rīkojuma projektam “Par finanšu līdzekļu piešķiršanu no valsts budžeta programmas “Līdzekļi neparedzētiem gadījumiem”” sākotnējās ietekmes novērtējuma ziņojumam (anotācijai)
B2: Informācija par fiksēto ikmēneša maksājumu speciālistu kabinetos faktiskajiem izdevumiem pievienotās vērtības nodokļa likmes pieauguma segšanai laika posmā no 2021.gada 1.jūlija līdz 2021.gada 30.septembrim par iegādātajām medicīniskajām ierīcēm un precēm, lai nodrošinātu Latvijas Republikas Senāta 2021. gada 22. marta sprieduma administratīvajā lietā Nr. A420143317 (SKA-123/2021) izpildi
A4: Ārstniecības iestādes kods | B4: Ārstniecības iestādes nosaukums | C4: Kabineta nosaukums detalizēti | D4: Kabineta plānotais darbības periods mēnešos 2021. gadā | E4: Kabineta darbības periods dienās | F4: Manipulāciju skaits | G4: 1.Kabinetu skaits 2021. gadā | H4: 2.Ārsta slodze plāns 2021. gadam | I4: 3.Māsas slodze plāns 2021. gadam | J4: Kabineta fiksētais maksājums, EUR MK 1 slodzei gadā | K4: Kabineta fiksētais maksājums, EUR MK 1 slodzei mēnesī | L4: Māsai Kabineta fiksētais maksājums, EUR MK 1 slodzei gadā | M4: Māsai Kabineta fiksētais maksājums, EUR MK 1 slodzei mēnesī | N4: Kabineta nodrošinājuma maksājums 2021.gadā, EUR | O4: 4.Kabineta nodrošinājuma maksājums 2021.gadā, EUR | P4: PVN 5%, 2021. gada jūlijs-septembris
A5: 10000152 | B5: Adamoviča Vivija - ārsta prakse pulmonoloģijā | C5: Hronisku obstruktīvu plaušu slimību kabinets | D5: 12 | E5: 240 | F5: 565 | G5: 1 | H5: 1 | I5: 1 | J5: 3956 | K5: 329.66667 | N5: 3956 | O5: 3956 | P5: 49
A6: 10000214 | B6: Diabēta centrs, SIA | C6: Diabētiskās pēdas aprūpes kabinets | D6: 12 | E6: 240 | F6: 797 | G6: 1 | I6: 0.5 | J6: 3820 | K6: 318.33333 | N6: =ROUND(I6*J6,2) -> 1910 | O6: 1910 | P6: 24
A7: 10000995 | B7: medicīnas firma "Elpa", Sabiedrība ar ierobežotu atbildību | C7: Hronisku obstruktīvu plaušu slimību kabinets | D7: 12 | E7: 240 | F7: 100 | G7: 1 | H7: 0.5 | I7: 0.5 | J7: 3956 | K7: 329.66667 | N7: =ROUND(I7*J7,2) -> 1978 | O7: 1978 | P7: 25
A8: 10001535 | B8: Rīgas veselības centrs, SIA | C8: Diabētiskās pēdas aprūpes kabinets | D8: 12 | E8: 240 | F8: 479 | G8: 1 | I8: 0.25 | J8: 3820 | K8: 318.33333 | N8: =ROUND(I8*J8,2) -> 955 | O8: 955 | P8: 12
A9: 10001535 | B9: Rīgas veselības centrs, SIA | C9: Diabētiskās pēdas aprūpes kabinets | D9: 12 | E9: 240 | F9: 478 | G9: 1 | I9: 0.5 | J9: 3820 | K9: 318.33333 | N9: =ROUND(I9*J9,2) -> 1910 | O9: 1910 | P9: 24
A10: 10001989 | B10: Bērnu un pusaudžu resursu centrs, Sabiedrība ar ierobežotu atbildību | C10: Garastāvokļa traucējumu kabinets bērniem | D10: 6 | E10: 120 | G10: 1 | H10: 0 | I10: 5.6 | J10: 3673 | K10: 306.08 | N10: =ROUND(I10*J10,2) -> 20568.8 | O10: 10285 | P10: 257
A11: 10001989 | B11: Bērnu un pusaudžu resursu centrs, Sabiedrība ar ierobežotu atbildību | C11: Garastāvokļa traucējumu kabinets bērniem | D11: 1.09 | E11: 120 | G11: 1 | H11: 0 | I11: 2 | J11: 3673 | K11: 306.08 | N11: =ROUND(I11*J11,2) -> 7346 | O11: 613 | P11: 84
A12: 10001989 | B12: Bērnu un pusaudžu resursu centrs, Sabiedrība ar ierobežotu atbildību | C12: Garastāvokļa traucējumu kabinets bērniem | D12: 6 | E12: 120 | G12: 1 | H12: 9.45 | I12: 0 | J12: 3673 | K12: 306.08 | N12: =ROUND(I12*J12,2) -> 0 | O12: 17355 | P12: 434
A13: 10001989 | B13: Bērnu un pusaudžu resursu centrs, Sabiedrība ar ierobežotu atbildību | C13: Garastāvokļa traucējumu kabinets bērniem | D13: 1.09 | E13: 120 | G13: 1 | H13: 3.2 | I13: 0 | J13: 3673 | K13: 306.08 | N13: =ROUND(I13*J13,2) -> 0 | O13: 980 | P13: 135
A14: 10001989 | B14: Bērnu un pusaudžu resursu centrs, Sabiedrība ar ierobežotu atbildību | C14: Garastāvokļa traucējumu kabinets bērniem | D14: 6 | E14: 120 | G14: 1 | H14: 15.5 | I14: 0 | J14: 3673 | K14: 306.08 | N14: =ROUND(I14*J14,2) -> 0 | O14: 28466 | P14: 712
A15: 10001989 | B15: Bērnu un pusaudžu resursu centrs, Sabiedrība ar ierobežotu atbildību | C15: Garastāvokļa traucējumu kabinets bērniem | D15: 1.09 | E15: 120 | G15: 1 | H15: 2.6 | I15: 0 | J15: 3673 | K15: 306.08 | N15: =ROUND(I15*J15,2) -> 0 | O15: 796 | P15: 110
A16: 10001989 | B16: Bērnu un pusaudžu resursu centrs, Sabiedrība ar ierobežotu atbildību | C16: Garastāvokļa traucējumu kabinets bērniem | D16: 6 | E16: 120 | G16: 1 | H16: 0.35 | I16: 0 | J16: 3673 | K16: 306.08 | N16: =ROUND(I16*J16,2) -> 0 | O16: 643 | P16: 16
A17: 10001989 | B17: Bērnu un pusaudžu resursu centrs, Sabiedrība ar ierobežotu atbildību | C17: Garastāvokļa traucējumu kabinets bērniem | D17: 6 | E17: 120 | G17: 1 | H17: 0.65 | I17: 0 | J17: 3673 | K17: 306.08 | N17: =ROUND(I17*J17,2) -> 0 | O17: 1194 | P17: 30
A18: 10001989 | B18: Bērnu un pusaudžu resursu centrs, Sabiedrība ar ierobežotu atbildību | C18: Garastāvokļa traucējumu kabinets bērniem | D18: 1.09 | E18: 120 | G18: 1 | H18: 0.45 | I18: 0 | J18: 3673 | K18: 306.08 | N18: =ROUND(I18*J18,2) -> 0 | O18: 138 | P18: 19
A19: 10020301 | B19: Rīgas 1. slimnīca, SIA | C19: Diabēta apmācības kabinets | D19: 12 | E19: 240 | F19: 80 | G19: 1 | I19: 0.25 | J19: 3416 | K19: 284.66667 | N19: =ROUND(I19*J19,2) -> 854 | O19: 854 | P19: 11
A20: 10020301 | B20: Rīgas 1. slimnīca, SIA | C20: Stomas kabinets | D20: 12 | E20: 240 | F20: 342 | G20: 1 | I20: 0.75 | J20: 5356 | K20: 446.33333 | N20: =ROUND(I20*J20,2) -> 4017 | O20: 4017 | P20: 50
A21: 10040307 | B21: Latvijas Jūras medicīnas centrs, Akciju sabiedrība | C21: Diabētiskās pēdas aprūpes kabinets | D21: 12 | E21: 240 | F21: 1379 | G21: 1 | I21: 1 | J21: 3820 | K21: 318.33333 | N21: =ROUND(I21*J21,2) -> 3820 | O21: 3820 | P21: 48
A22: 10064111 | B22: Dziedniecība, Sabiedrība ar ierobežotu atbildību | C22: Diabētiskās pēdas aprūpes kabinets | D22: 12 | E22: 240 | F22: 1064 | G22: 1 | I22: 0.75 | J22: 3820 | K22: 318.33333 | N22: =ROUND(I22*J22,2) -> 2865 | O22: 2865 | P22: 36
A23: 10064111 | B23: Dziedniecība, Sabiedrība ar ierobežotu atbildību | C23: Bērnu psihiatra kabinets | D23: 12 | E23: 240 | F23: 44 | G23: 1 | H23: 0.5 | J23: 4367 | K23: 363.91667 | N23: =ROUND(I23*J23,2) -> 0 | O23: 2184 | P23: 27
A24: 10064111 | B24: Dziedniecība, Sabiedrība ar ierobežotu atbildību | C24: GVA māsas kabinets | D24: 12 | F24: 263 | G24: 1 | I24: 0.5 | L24: 3524 | M24: 293.66667 | N24: =ROUND(I24*J24,2) -> 0 | O24: 1762 | P24: 22
A25: 10064111 | B25: Dziedniecība, Sabiedrība ar ierobežotu atbildību | C25: Psihiatra kabinets | D25: 12 | E25: 240 | F25: 342 | G25: 1 | H25: 0.5 | J25: 4367 | K25: 363.91667 | N25: =ROUND(I25*J25,2) -> 0 | O25: 2184 | P25: 27
A26: 10064114 | B26: VESELĪBAS CENTRS 4, Sabiedrība ar ierobežotu atbildību | C26: Diabētiskās pēdas aprūpes kabinets | D26: 12 | E26: 240 | F26: 715 | G26: 1 | I26: 0.5 | J26: 3820 | K26: 318.33333 | N26: =ROUND(I26*J26,2) -> 1910 | O26: 1910 | P26: 24
A27: 10064120 | B27: Veselības centru apvienība, AS | C27: Diabētiskās pēdas aprūpes kabinets | D27: 12 | E27: 240 | F27: 809 | G27: 1 | I27: 0.75 | J27: 3820 | K27: 318.33333 | N27: =ROUND(I27*J27,2) -> 2865 | O27: 2865 | P27: 36
A28: 10064120 | B28: Veselības centru apvienība, AS | C28: Diabētiskās pēdas aprūpes kabinets | D28: 12 | E28: 240 | F28: 288 | G28: 1 | I28: 0.75 | J28: 3820 | K28: 318.33333 | N28: =ROUND(I28*J28,2) -> 2865 | O28: 2865 | P28: 36
A29: 10064120 | B29: Veselības centru apvienība, AS | C29: Diabētiskās pēdas aprūpes kabinets | D29: 12 | E29: 240 | F29: 652 | G29: 1 | I29: 1 | J29: 3820 | K29: 318.33333 | N29: =ROUND(I29*J29,2) -> 3820 | O29: 3820 | P29: 48
A30: 10064120 | B30: Veselības centru apvienība, AS | C30: Diabētiskās pēdas aprūpes kabinets | D30: 12 | E30: 240 | F30: 1554 | G30: 1 | I30: 0.75 | J30: 3820 | K30: 318.33333 | N30: =ROUND(I30*J30,2) -> 2865 | O30: 2865 | P30: 36
A31: 10064120 | B31: Veselības centru apvienība, AS | C31: Diabētiskās pēdas aprūpes kabinets | D31: 12 | E31: 240 | F31: 1660 | G31: 1 | I31: 0.5 | J31: 3820 | K31: 318.33333 | N31: =ROUND(I31*J31,2) -> 1910 | O31: 1910 | P31: 24
A32: 10064120 | B32: Veselības centru apvienība, AS | C32: Diabētiskās pēdas aprūpes kabinets | D32: 12 | E32: 240 | F32: 1765 | G32: 1 | I32: 0.5 | J32: 3820 | K32: 318.33333 | N32: =ROUND(I32*J32,2) -> 1910 | O32: 1910 | P32: 24
A33: 10064120 | B33: Veselības centru apvienība, AS | C33: Hronisku obstruktīvu plaušu slimību kabinets | D33: 12 | E33: 240 | F33: 126 | G33: 1 | H33: 0.5 | I33: 0.5 | J33: 3956 | K33: 329.66667 | N33: =ROUND(I33*J33,2) -> 1978 | O33: 1978 | P33: 25
A34: 10064120 | B34: Veselības centru apvienība, AS | C34: Hronisku obstruktīvu plaušu slimību kabinets | D34: 12 | E34: 240 | F34: 1140 | G34: 1 | H34: 1 | I34: 1 | J34: 3956 | K34: 329.66667 | N34: =ROUND(I34*J34,2) -> 3956 | O34: 3956 | P34: 49
A35: 10064120 | B35: Veselības centru apvienība, AS | C35: Hronisku obstruktīvu plaušu slimību kabinets | D35: 12 | E35: 240 | F35: 0 | G35: 1 | H35: 1 | I35: 1 | J35: 3956 | K35: 329.66667 | N35: =ROUND(I35*J35,2) -> 3956 | O35: 3956 | P35: 49
A36: 10064120 | B36: Veselības centru apvienība, AS | C36: Hronisku obstruktīvu plaušu slimību kabinets | D36: 12 | E36: 240 | F36: 1302 | G36: 1 | H36: 1 | I36: 1 | J36: 3956 | K36: 329.66667 | N36: =ROUND(I36*J36,2) -> 3956 | O36: 3956 | P36: 49
A37: 10064120 | B37: Veselības centru apvienība, AS | C37: Pneimologa kabinets | D37: 12 | E37: 240 | F37: 6048 | G37: 1 | H37: 1 | I37: 1.5 | J37: 4360 | K37: 363.91667 | N37: =ROUND(I37*J37,2) -> 6540 | O37: 4360 | P37: 55
A38: 10064120 | B38: Veselības centru apvienība, AS | C38: GVA māsas kabinets | D38: 12 | F38: 0 | G38: 0 | I38: 1 | L38: 0 | N38: =ROUND(I38*J38,2) -> 0 | O38: 0 | P38: 0
A39: 10064120 | B39: Veselības centru apvienība, AS | C39: psihiatra kabinets | D39: 12 | E39: 240 | F39: 1256 | G39: 1 | H39: 1 | J39: 4367 | K39: 363.91667 | N39: =ROUND(I39*J39,2) -> 0 | O39: 4367 | P39: 55
A40: 10069102 | B40: Latvijas Universitātes medicīniskās pēcdiploma izglītības institūts, Sabiedrība ar ierobežotu atbildību | C40: Hronisku obstruktīvu plaušu slimību kabinets | D40: 12 | E40: 240 | F40: 1069 | G40: 1 | H40: 1 | I40: 1 | J40: 3956 | K40: 329.66667 | N40: =ROUND(I40*J40,2) -> 3956 | O40: 3956 | P40: 49
A41: 19177449 | B41: Jaunušāns Edvīns - ārsta prakse narkoloģijā | C41: Metadona terapijas kabinets | D41: 12 | E41: 240 | F41: 3499 | G41: 1 | I41: 1 | J41: 3416 | K41: 284.66667 | N41: =ROUND(I41*J41,2) -> 3416 | O41: 3416 | P41: 43
...

Sheet 10_pielikums
T1: 10.pielikums Ministru kabineta rīkojuma projektam “Par finanšu līdzekļu piešķiršanu no valsts budžeta programmas “Līdzekļi neparedzētiem gadījumiem”” sākotnējās ietekmes novērtējuma ziņojumam (anotācijai)
A2: Informācija par stacionāro veselības aprūpes faktiskajiem izdevumiem pievienotās vērtības nodokļa likmes pieauguma segšanai laika posmā no 2021. gada 1. jūlija līdz 2021. gada 31. oktobrim par iegādātajām medicīniskajām ierīcēm un precēm, lai nodrošinātu Latvijas Republikas Senāta 2021. gada 22. marta sprieduma administratīvajā lietā Nr. A420143317 (SKA-123/2021) izpildi
A4: N.p.k. | B4: Ārstniecības iestāde | C4: Jūlijs | G4: Augusts | K4: Septembris | O4: Oktobris | S4: KOPĀ
C5: Summa bez PVN | D5: PVN summa ar 21 % likmi, euro | E5: PVN summa ar 12 % likmi, euro | F5: Starpība, euro | G5: Summa bez PVN | H5: PVN summa ar 21 % likmi, euro | I5: PVN summa ar 12 % likmi, euro | J5: Starpība, euro | K5: Summa bez PVN | L5: PVN summa ar 21 % likmi, euro | M5: PVN summa ar 12 % likmi, euro | N5: Starpība, euro | O5: Summa bez PVN | P5: PVN summa ar 21 % likmi, euro | Q5: PVN summa ar 12 % likmi, euro | R5: Starpība, euro | S5: Summa bez PVN | T5: PVN summa ar 21 % likmi, euro | U5: PVN summa ar 12 % likmi, euro | V5: Starpība, euro
A6: 1 | B6: 2 | C6: 3 | D6: 4 | E6: 5 | F6: 6 | G6: 7 | H6: 8 | I6: 9 | J6: 10 | K6: 11 | L6: 12 | M6: 13 | N6: 14 | O6: 15 | P6: 16 | Q6: 17 | R6: 18 | S6: 19 | T6: 20 | U6: 21 | V6: 22
B7: KOPĀ | C7: 4881582.3 | D7: 1027373.2 | E7: 587070.3 | F7: 440302.88 | G7: 5581554 | H7: 1175338.7 | I7: 671621.7 | J7: 503717.01 | K7: 5852182.3 | L7: 1231361.9 | M7: 703634.82 | N7: 527727.09 | O7: 5885631 | P7: 1239042.5 | Q7: 708023.99 | R7: 531018.48 | S7: 22200950 | T7: 4673116.3 | U7: 2670350.8 | V7: 2002765.5
A8: 1 | B8: VSIA "Bērnu klīniskā universitātes slimnīca" | C8: 163273.25 | D8: 34287.53 | E8: 19592.86 | F8: 14694.67 | G8: 269735.12 | H8: 56644.74 | I8: 32368.39 | J8: 24276.35 | K8: 261520.95 | L8: 54919.68 | M8: 31382.67 | N8: 23537.01 | O8: 253170.1 | P8: 53166.04 | Q8: 30380.59 | R8: 22785.45 | S8: 947699.42 | T8: 199017.99 | U8: 113724.51 | V8: 85293.48
A9: 2 | B9: VSIA "Paula Stradiņa klīniskā universitātes slimnīca" | C9: 2499598.3 | D9: 524915.83 | E9: 299951.8 | F9: 224964.03 | G9: 2806417.9 | H9: 589348.23 | I9: 336770.02 | J9: 252578.21 | K9: 2771050.1 | L9: 581920.8 | M9: 332525.96 | N9: 249394.84 | O9: 2544547 | P9: 534355.01 | Q9: 305345.7 | R9: 229009.31 | S9: 10621613 | T9: 2230539.9 | U9: 1274593.5 | V9: 955946.39
A10: 3 | B10: SIA “Rīgas Austrumu klīniskās universitātes slimnīca” | C10: 1285974.6 | D10: 270054.78 | E10: 154317.54 | F10: 115737.24 | G10: 1276012.3 | H10: 267962.59 | I10: 153122.24 | J10: 114840.35 | K10: 1478257.3 | L10: 310434.05 | M10: 177391.35 | N10: 133042.7 | O10: 1512447.9 | P10: 317614.21 | Q10: 181494.32 | R10: 136119.89 | S10: 5552692.1 | T10: 1166065.6 | U10: 666325.45 | V10: 499740.18
A11: 4 | B11: SIA "Liepājas reģionālā slimnīca" | C11: 129444 | D11: 27183.4 | E11: 15533.18 | F11: 11650.22 | G11: 152171.68 | H11: 31956.24 | I11: 18260.61 | J11: 13695.63 | K11: 146463.32 | L11: 30757.48 | M11: 17575.56 | N11: 13181.92 | O11: 153227.09 | P11: 32177.83 | Q11: 18387.17 | R11: 13790.66 | S11: 581306.09 | T11: 122074.95 | U11: 69756.52 | V11: 52318.43
A12: 5 | B12: SIA "Daugavpils reģionālā slimnīca" | C12: 155603.01 | D12: 34915.99 | E12: 19951.9 | F12: 14964.09 | G12: 242148.53 | H12: 54061.33 | I12: 30892.15 | J12: 23169.18 | K12: 283298.99 | L12: 61894.65 | M12: 35368.23 | N12: 26526.42 | O12: 309038.4 | P12: 67956.1 | Q12: 38832.09 | R12: 29124.01 | S12: 990088.93 | T12: 218828.07 | U12: 125044.37 | V12: 93783.7
A13: 6 | B13: SIA "Ziemeļkurzemes reģionālā slimnīca" | C13: 46060.496 | D13: 9672.76 | E13: 5527.27 | F13: 4145.49 | G13: 69283.898 | H13: 14549.66 | I13: 8314.07 | J13: 6235.59 | K13: 81450.087 | L13: 17104.5 | M13: 9773.94 | N13: 7330.56 | O13: 94950.829 | P13: 19939.66 | Q13: 11394.16 | R13: 8545.5 | S13: 291745.31 | T13: 61266.58 | U13: 35009.44 | V13: 26257.14
A14: 7 | B14: SIA Jelgavas pilsētas slimnīca | C14: 13516.02 | D14: 2838.45 | E14: 1621.92 | F14: 1216.53 | G14: 19710.22 | H14: 4139.22 | I14: 2365.22 | J14: 1774 | K14: 25980.05 | L14: 5455.9 | M14: 3117.6 | N14: 2338.3 | O14: 29080.11 | P14: 6106.87 | Q14: 3489.63 | R14: 2617.24 | S14: 88286.4 | T14: 18540.44 | U14: 10594.37 | V14: 7946.07
A15: 8 | B15: SIA Vidzemes slimnīca | C15: 68557.63 | D15: 14397.34 | E15: 8226.92 | F15: 6170.42 | G15: 100782.81 | H15: 21164.74 | I15: 12093.94 | J15: 9070.8 | K15: 108907.74 | L15: 22870.94 | M15: 13068.93 | N15: 9802.01 | O15: 147572.9 | P15: 30990.51 | Q15: 17708.75 | R15: 13281.76 | S15: 425821.08 | T15: 89423.53 | U15: 51098.54 | V15: 38324.99
A16: 9 | B16: SIA Jēkabpils reģionālā slimnīca | C16: 14706.69 | D16: 3088.44 | E16: 1764.82 | F16: 1323.62 | G16: 37729.15 | H16: 7923.22 | I16: 4527.54 | J16: 3395.68 | K16: 50059.31 | L16: 10512.59 | M16: 6007.13 | N16: 4505.46 | O16: 49169.06 | P16: 10325.63 | Q16: 5900.3 | R16: 4425.33 | S16: 151664.21 | T16: 31849.88 | U16: 18199.79 | V16: 13650.09
A17: 10 | B17: SIA Rēzeknes slimnīca | C17: 33315.85 | D17: 6996.41 | E17: 3997.9 | F17: 2998.51 | G17: 27229.18 | H17: 5718.19 | I17: 3267.52 | J17: 2450.67 | K17: 48945.07 | L17: 10278.59 | M17: 5873.44 | N17: 4405.15 | O17: 52585.95 | P17: 11043.17 | Q17: 6310.36 | R17: 4732.81 | S17: 162076.05 | T17: 34036.36 | U17: 19449.22 | V17: 14587.14
A18: 11 | B18: SIA Jūrmalas slimnīca | C18: 21421.51 | D18: 4498.59 | E18: 2570.62 | F18: 1927.97 | G18: 32025.45 | H18: 6725.48 | I18: 3843.03 | J18: 2882.45 | K18: 42814.78 | L18: 8991.23 | M18: 5137.77 | N18: 3853.46 | O18: 18224.41 | P18: 3827.17 | Q18: 2186.98 | R18: 1640.19 | S18: 114486.15 | T18: 24042.47 | U18: 13738.4 | V18: 10304.07
A19: 12 | B19: VSIA "Rīgas psihiatrijas un narkoloģijas centrs" | C19: 20386.85 | D19: 4281.24 | E19: 2446.45 | F19: 1834.79 | G19: 19424.85 | H19: 4079.25 | I19: 2330.98 | J19: 1748.27 | K19: 17487.14 | L19: 3672.3 | M19: 2098.46 | N19: 1573.84 | O19: 13085.54 | P19: 2747.99 | Q19: 1570.24 | R19: 1177.75 | S19: 70384.38 | T19: 14780.78 | U19: 8446.13 | V19: 6334.65
... A43: 36 | B43: Bērnu psihoneiroloģiskā slimnīca "Ainaži" | C43: 168.59 | D43: 35.4 | E43: 20.24 | F43: 15.16 | G43: 91.84 | H43: 19.28 | I43: 11.02 | J43: 8.26 | K43: 109.88 | L43: 23.07 | M43: 13.19 | N43: 9.88 | O43: 229.74 | P43: 48.25 | Q43: 27.57 | R43: 20.68 | S43: 600.05 | T43: 126 | U43: 72.02 | V43: 53.98

Sheet 11_pielikums
D1: 11.pielikums Ministru kabineta rīkojuma projektam “Par finanšu līdzekļu piešķiršanu no valsts budžeta programmas “Līdzekļi neparedzētiem gadījumiem”” sākotnējās ietekmes novērtējuma ziņojumam (anotācijai)
A3: Informācija par ambulatoro laboratorisko izmeklējumu faktiskajiem izdevumiem pievienotās vērtības nodokļa likmes pieauguma segšanai laika posmā no 2021. gada 1. jūlija līdz 2021. gada 30. septembrim par iegādātajām medicīniskajām ierīcēm un precēm, lai nodrošinātu Latvijas Republikas Senāta 2021. gada 22. marta sprieduma administratīvajā lietā Nr. A420143317 (SKA-123/2021) izpildi
A5: ĀI kods (pakalpojumu sniedzēja) | B5: ĀI nosaukums (pakalpojumu sniedzēja) | C5: Manipulācijas nosaukums | D5: Manipulāciju skaits | E5: Pakalpojumu summa bez PVN pieauguma | F5: Manipulācijas tarifa PVN pieaugums, EUR | G5: Summa PVN pieaugums, EUR
A6: 270024101 | B6: Ventspils poliklīnika, Pašvaldības SIA | C6: Seruma (plazmas) iegūšana | D6: 285 | E6: 131.1 | F6: 0 | G6: 0
A7: 270024101 | B7: Ventspils poliklīnika, Pašvaldības SIA | C7: Asins ņemšana ar slēgtu sistēmu vienā stobriņā | D7: 71 | E7: 92.3 | F7: 0.02 | G7: 1.42
A8: 270024101 | B8: Ventspils poliklīnika, Pašvaldības SIA | C8: Asins ņemšana ar slēgtu sistēmu divos stobriņos | D8: 105 | E8: 151.2 | F8: 0.03 | G8: 3.15
A9: 270024101 | B9: Ventspils poliklīnika, Pašvaldības SIA | C9: Asins ņemšana ar slēgtu sistēmu trijos stobriņos | D9: 100 | E9: 160 | F9: 0.03 | G9: 3
A10: 270024101 | B10: Ventspils poliklīnika, Pašvaldības SIA | C10: Kapilāru asins ņemšana ar mikrotaineru | D10: 416 | E10: 361.92 | F10: 0.02 | G10: 8.32
A11: 270024101 | B11: Ventspils poliklīnika, Pašvaldības SIA | C11: Eritrocītu grimšanas ātrums, izmantojot speciālo ņemšanas komplektu (seditainers u. c.) | D11: 60 | E11: 39.6 | F11: 0.01 | G11: 0.6
A12: 270024101 | B12: Ventspils poliklīnika, Pašvaldības SIA | C12: Pilna asins aina (hemoglobīns, eritrocīti, leikocīti, trombocīti, hematokrīts, leikocītu formula (vismaz neitrofīli, eozinofīli, bazofīli, limfocīti, monocīti)). Papildus nenorādīt manipulācijas 40010, 40014 | D12: 880 | E12: 3722.4 | F12: 0.05 | G12: 44
A13: 270024101 | B13: Ventspils poliklīnika, Pašvaldības SIA | C13: Nepilna asins aina (hemoglobīns, eritrocīti, leikocīti, trombocīti, hematokrīts). Papildus nenorādīt manipulāciju 40010 | D13: 326 | E13: 596.58 | F13: 0.02 | G13: 6.52
A14: 270024101 | B14: Ventspils poliklīnika, Pašvaldības SIA | C14: Protrombīns, protrombīna komplekss un INR | D14: 173 | E14: 413.47 | F14: 0.03 | G14: 5.19
A15: 270024101 | B15: Ventspils poliklīnika, Pašvaldības SIA | C15: Aktivētais parciālais tromboplastīna laiks (APTL) | D15: 56 | E15: 154.56 | F15: 0.03 | G15: 1.68
A16: 270024101 | B16: Ventspils poliklīnika, Pašvaldības SIA | C16: Urīna analīze ar teststrēmeli (9?10 parametri) | D16: 673 | E16: 982.58 | F16: 0.02 | G16: 13.46
A17: 270024101 | B17: Ventspils poliklīnika, Pašvaldības SIA | C17: Urīna sedimenta standartizēta mikroskopija | D17: 311 | E17: 612.67 | F17: 0 | G17: 0
... A1440: 440800001 | B1440: Veselības centrs Ilūkste, Sabiedrība ar ierobežotu atbildību | C1440: Nepilna asins aina (hemoglobīns, eritrocīti, leikocīti, trombocīti, hematokrīts). Papildus nenorādīt manipulāciju 40010 | D1440: 89 | E1440: 162.87 | F1440: 0.02 | G1440: 1.78
A1441: KOPĀ: | G1441: 164775.67

Sheet 12_pielikums
F1: 12.pielikums Ministru kabineta rīkojuma projektam “Par finanšu līdzekļu piešķiršanu no valsts budžeta programmas “Līdzekļi neparedzētiem gadījumiem”” sākotnējās ietekmes novērtējuma ziņojumam (anotācijai)
A3: Neatliekamās medicīniskās palīdzības nodrošināšanai faktiskajiem izdevumiem pievienotās vērtības nodokļa likmes pieauguma segšanai laika posmā no 2021. gada 1. jūlija līdz 2021. gada 31. oktobrim par iegādātajām medicīniskajām ierīcēm un precēm, lai nodrošinātu Latvijas Republikas Senāta 2021. gada 22. marta sprieduma administratīvajā lietā Nr. A420143317 (SKA-123/2021) izpildi
A5: Nosaukums | B5: Daudzums | C5: Mērvienība | D5: PVN likme 12% | E5: Iegādes cena bez PVN | F5: Summa, EUR | G5: PVN likme 21% | H5: Summa, EUR
A6: Kapnometra filtra līnija intubētam pacientam | B6: 33 | C6: gab. | D6: 1.12 | E6: 13.76 | F6: =(D6*E6)*B6 -> 508.5696 | G6: 1.21 | H6: =(E6*G6)*B6 -> 549.4368
A7: Urbis kraniotomijai F2/8TA | B7: 3 | C7: gab. | D7: 1.12 | E7: 80 | F7: =(D7*E7)*B7 -> 268.8 | G7: 1.21 | H7: =(E7*G7)*B7 -> 290.4
A8: Urbis kraniotomijai F2/8TA | B8: 18 | C8: gab. | D8: 1.12 | E8: 80 | F8: =(D8*E8)*B8 -> 1612.8 | G8: 1.21 | H8: =(E8*G8)*B8 -> 1742.4
A9: Urbis kraniotomijai F2/8TA | B9: 2 | C9: gab. | D9: 1.12 | E9: 80 | F9: =(D9*E9)*B9 -> 179.2 | G9: 1.21 | H9: =(E9*G9)*B9 -> 193.6
A10: Kapnometra filtra līnija intubētam pacientam | B10: 17 | C10: gab. | D10: 1.12 | E10: 13.76 | F10: =(D10*E10)*B10 -> 261.9904 | G10: 1.21 | H10: =(E10*G10)*B10 -> 283.0432
A11: Urbis kraniotomijai F2/8TA | B11: 7 | C11: gab. | D11: 1.12 | E11: 80 | F11: =(D11*E11)*B11 -> 627.2 | G11: 1.21 | H11: =(E11*G11)*B11 -> 677.6
A12: Vienreizlietojamie halāti | B12: 250 | C12: gab. | D12: 1.12 | E12: 0.5 | F12: =(D12*E12)*B12 -> 140 | G12: 1.21 | H12: =(E12*G12)*B12 -> 151.25
A13: Bahilas | B13: 150 | C13: pāri | D13: 1.12 | E13: 0.7 | F13: =(D13*E13)*B13 -> 117.6 | G13: 1.21 | H13: =(E13*G13)*B13 -> 127.05
A14: Bahilas | B14: 200 | C14: pāri | D14: 1.1200153 | E14: 0.69999047 | F14: =(D14*E14)*B14 -> 156.8 | G14: 1.21 | H14: =(E14*G14)*B14 -> 169.39769
A15: Matraču pārklājs ar gumiju | B15: 300 | C15: gab. | D15: 1.12 | E15: 0.475 | F15: =(D15*E15)*B15 -> 159.6 | G15: 1.21 | H15: =(E15*G15)*B15 -> 172.425
A16: Matraču pārklājs ar gumiju | B16: 300 | C16: gab. | D16: 1.12 | E16: 0.475 | F16: =(D16*E16)*B16 -> 159.6 | G16: 1.21 | H16: =(E16*G16)*B16 -> 172.425
A17: Matraču pārklājs ar gumiju | B17: 300 | C17: gab. | D17: 1.12 | E17: 0.475 | F17: =(D17*E17)*B17 -> 159.6 | G17: 1.21 | H17: =(E17*G17)*B17 -> 172.425
... A1975: Monitorēšanas elektrodi | B1975: 60000 | C1975: gab. | D1975: 1.12 | E1975: 0.0308 | F1975: =(D1975*E1975)*B1975 -> 2069.76 | G1975: 1.21 | H1975: =(E1975*G1975)*B1975 -> 2236.08
A1976: KOPĀ: | F1976: =SUM(F6:F1975) -> 401756.05 | H1976: =SUM(H6:H1975) -> 434040.07
A1977: Izmaksu pieaugums KOPĀ: | H1977: =SUM(H1976)-F1976 -> 32284.014

Sheet 13_pielikums
G1: 13.pielikums Ministru kabineta rīkojuma projektam “Par finanšu līdzekļu piešķiršanu no valsts budžeta programmas “Līdzekļi neparedzētiem gadījumiem”” sākotnējās ietekmes novērtējuma ziņojumam (anotācijai)
A3: Tiesu medicīnisko ekspertīžu nodrošināšanai faktiskajiem izdevumiem pievienotās vērtības nodokļa likmes pieauguma segšanai laika posmā no 2021. gada 1. jūlija līdz 2021. gada 31. oktobrim par iegādātajām medicīniskajām ierīcēm un precēm, lai nodrošinātu Latvijas Republikas Senāta 2021. gada 22. marta sprieduma administratīvajā lietā Nr. A420143317 (SKA-123/2021) izpildi
A5: Preču grupa/Nosaukums | D5: Daudzums | E5: 1 vienības izmaksas bez PVN | F5: 1 vienības PVN summas izmaiņas | I5: Finansiālā ietekme
F6: PVN 12% | G6: PVN 21% | H6: Summas izmaiņas
A7: 1 | D7: 2 | E7: 3 | F7: 4=3*12/100 | G7: 5=3*21/100 | H7: 6=5-4 | I7: 7=2*6
A8: Vienreizlietojamie cimdi | F8: =SUM(F9:F15) -> 6.3108 | G8: =SUM(G9:G15) -> 11.0439 | H8: =SUM(H9:H15) -> 4.7331 | I8: =SUM(I9:I15) -> 274.86
A9: Cimdi nitrila b/p M izmērs (100gb./iep.) | B9: =101.666666666667 -> 101.66667 | C9: 0.33 | D9: =SUM(B9)*C9 -> 33.55 | E9: 10.46 | F9: =ROUND(E9*12/100,4) -> 1.2552 | G9: =ROUND(E9*21/100,4) -> 2.1966 | H9: =ROUND(G9-F9,4) -> 0.9414 | I9: =ROUND(H9*D9,2) -> 31.58
A10: Cimdi nitrila b/p S izmērs (100gb./iep.) | B10: 278 | C10: 0.33 | D10: =SUM(B10)*C10 -> 91.74 | E10: 10.46 | F10: =ROUND(E10*12/100,4) -> 1.2552 | G10: =ROUND(E10*21/100,4) -> 2.1966 | H10: =ROUND(G10-F10,4) -> 0.9414 | I10: =ROUND(H10*D10,2) -> 86.36
A11: Cimdi nitrila b/p XL izmērs (100gb./iep.) | B11: 18 | C11: 0.33 | D11: =SUM(B11)*C11 -> 5.94 | E11: 10.46 | F11: =ROUND(E11*12/100,4) -> 1.2552 | G11: =ROUND(E11*21/100,4) -> 2.1966 | H11: =ROUND(G11-F11,4) -> 0.9414 | I11: =ROUND(H11*D11,2) -> 5.59
A12: Cimdi nitrila b/p L izmērs (100gb./iep.) | B12: 197 | C12: 0.33 | D12: =SUM(B12)*C12 -> 65.01 | E12: 13.36 | F12: =ROUND(E12*12/100,4) -> 1.6032 | G12: =ROUND(E12*21/100,4) -> 2.8056 | H12: =ROUND(G12-F12,4) -> 1.2024 | I12: =ROUND(H12*D12,2) -> 78.17
A13: Cimdi nitrila b/p XS izmērs (100gb./iep.) | B13: 21 | C13: 0.33 | D13: =SUM(B13)*C13 -> 6.93 | E13: 7.11 | F13: =ROUND(E13*12/100,4) -> 0.8532 | G13: =ROUND(E13*21/100,4) -> 1.4931 | H13: =ROUND(G13-F13,4) -> 0.6399 | I13: =ROUND(H13*D13,2) -> 4.43
A14: Cimdi lateksa, izm.XL, pāris | B14: 3198 | C14: 0.33 | D14: =SUM(B14)*C14 -> 1055.34 | E14: 0.48 | F14: =ROUND(E14*12/100,4) -> 0.0576 | G14: =ROUND(E14*21/100,4) -> 0.1008 | H14: =ROUND(G14-F14,4) -> 0.0432 | I14: =ROUND(H14*D14,2) -> 45.59
A15: Cimdi lateksa, izm.M, pāris | B15: 2996 | C15: 0.33 | D15: =SUM(B15)*C15 -> 988.68 | E15: 0.26 | F15: =ROUND(E15*12/100,4) -> 0.0312 | G15: =ROUND(E15*21/100,4) -> 0.0546 | H15: =ROUND(G15-F15,4) -> 0.0234 | I15: =ROUND(H15*D15,2) -> 23.14
A16: Vienreizlietojamie darba aizsarglīdzekļi | F16: =SUM(F17:F22) -> 3.714 | G16: =SUM(G17:G22) -> 6.4995 | H16: =SUM(H17:H22) -> 2.7855 | I16: =SUM(I17:I22) -> 239.83
A17: Halāti ķirurģiskie sterili (vienreizlietojamiem), dažādi izmēri, (100gb./iep.) | B17: 172 | C17: 0.33 | D17: =SUM(B17)*C17 -> 56.76 | E17: 4.08 | F17: =ROUND(E17*12/100,4) -> 0.4896 | G17: =ROUND(E17*21/100,4) -> 0.8568 | H17: =ROUND(G17-F17,4) -> 0.3672 | I17: =ROUND(H17*D17,2) -> 20.84
A18: Halāti ķirurģiskie nestirili (vienreizlietojami), dažādi izmēri, (100gb./iep.) | B18: 231 | C18: 0.33 | D18: =SUM(B18)*C18 -> 76.23 | E18: 16.42 | F18: =ROUND(E18*12/100,4) -> 1.9704 | G18: =ROUND(E18*21/100,4) -> 3.4482 | H18: =ROUND(G18-F18,4) -> 1.4778 | I18: =ROUND(H18*D18,2) -> 112.65
A19: Priekšauts (100gb./iep.) | B19: 68 | C19: 0.33 | D19: =SUM(B19)*C19 -> 22.44 | E19: 7.42 | F19: =ROUND(E19*12/100,4) -> 0.8904 | G19: =ROUND(E19*21/100,4) -> 1.5582 | H19: =ROUND(G19-F19,4) -> 0.6678 | I19: =ROUND(H19*D19,2) -> 14.99
A20: Cepure apaļa ar gumiju (100gb./iep.) | B20: 15 | C20: 0.33 | D20: =SUM(B20)*C20 -> 4.95 | E20: 2.23 | F20: =ROUND(E20*12/100,4) -> 0.2676 | G20: =ROUND(E20*21/100,4) -> 0.4683 | H20: =ROUND(G20-F20,4) -> 0.2007 | I20: =ROUND(H20*D20,2) -> 0.99
A21: Bahilas īsās, gb | B21: 3900 | C21: 0.33 | D21: =SUM(B21)*C21 -> 1287 | E21: 0.04 | F21: =ROUND(E21*12/100,4) -> 0.0048 | G21: =ROUND(E21*21/100,4) -> 0.0084 | H21: =ROUND(G21-F21,4) -> 0.0036 | I21: =ROUND(H21*D21,2) -> 4.63
A22: Maska sejas Tips II, gb | B22: 3798 | C22: 0.33 | D22: =SUM(B22)*C22 -> 1253.34 | E22: 0.76 | F22: =ROUND(E22*12/100,4) -> 0.0912 | G22: =ROUND(E22*21/100,4) -> 0.1596 | H22: =ROUND(G22-F22,4) -> 0.0684 | I22: =ROUND(H22*D22,2) -> 85.73
A23: Vienreizlietojamās dažādām manipulācijām paredzētie piederumi | F23: =SUM(F24:F29) -> 0.9048 | G23: =SUM(G24:G29) -> 1.5834 | H23: =SUM(H24:H29) -> 0.6786 | I23: =SUM(I24:I29) -> 10.01
A24: Ķirurģiskās salvetes 5x5 cm N150gb./iep. | B24: 8 | C24: 0.33 | D24: =SUM(B24)*C24 -> 2.64 | E24: 2.21 | F24: =ROUND(E24*12/100,4) -> 0.2652 | G24: =ROUND(E24*21/100,4) -> 0.4641 | H24: =ROUND(G24-F24,4) -> 0.1989 | I24: =ROUND(H24*D24,2) -> 0.53
A25: Marle 3Mx90CM nesterila, gb | B25: 77 | C25: 0.33 | D25: =SUM(B25)*C25 -> 25.41 | E25: 0.72 | F25: =ROUND(E25*12/100,4) -> 0.0864 | G25: =ROUND(E25*21/100,4) -> 0.1512 | H25: =ROUND(G25-F25,4) -> 0.0648 | I25: =ROUND(H25*D25,2) -> 1.65
A26: Saite-marles 7mx14cm (nesterila), gb | B26: 662 | C26: 0.33 | D26: =SUM(B26)*C26 -> 218.46 | E26: 0.2 | F26: =ROUND(E26*12/100,4) -> 0.024 | G26: =ROUND(E26*21/100,4) -> 0.042 | H26: =ROUND(G26-F26,4) -> 0.018 | I26: =ROUND(H26*D26,2) -> 3.93
A27: Leikoplasts 1.25x9.1m N1 SILK, iep. | B27: 42 | C27: 0.33 | D27: =SUM(B27)*C27 -> 13.86 | E27: 0.98 | F27: =ROUND(E27*12/100,4) -> 0.1176 | G27: =ROUND(E27*21/100,4) -> 0.2058 | H27: =ROUND(G27-F27,4) -> 0.0882 | I27: =ROUND(H27*D27,2) -> 1.22
A28: Vaskadrāna medicīniskā, 2m, gb | B28: 5 | C28: 0.33 | D28: =SUM(B28)*C28 -> 1.65 | E28: 3 | F28: =ROUND(E28*12/100,4) -> 0.36 | G28: =ROUND(E28*21/100,4) -> 0.63 | H28: =ROUND(G28-F28,4) -> 0.27 | I28: =ROUND(H28*D28,2) -> 0.45
A29: Vate 100g (100%kokvilna), iep. | B29: 175 | C29: 0.33 | D29: =SUM(B29)*C29 -> 57.75 | E29: 0.43 | F29: =ROUND(E29*12/100,4) -> 0.0516 | G29: =ROUND(E29*21/100,4) -> 0.0903 | H29: =ROUND(G29-F29,4) -> 0.0387 | I29: =ROUND(H29*D29,2) -> 2.23
A30: Medicīnas piederumi | F30: =SUM(F31:F40) -> 13.4208 | G30: =SUM(G31:G40) -> 23.4864 | H30: =SUM(H31:H40) -> 10.0656 | I30: =SUM(I31:I40) -> 90.26
A31: Mēģenes 3ml, 75x10mm, gb | B31: 2000 | C31: 0.33 | D31: =SUM(B31)*C31 -> 660 | E31: 0.04 | F31: =ROUND(E31*12/100,4) -> 0.0048 | G31: =ROUND(E31*21/100,4) -> 0.0084 | H31: =ROUND(G31-F31,4) -> 0.0036 | I31: =ROUND(H31*D31,2) -> 2.38
