Workbook

Sheet 1_pielikums
B1: 1.pielikums Ministru kabineta rīkojuma projektam “Par finanšu līdzekļu piešķiršanu no valsts budžeta programmas “Līdzekļi neparedzētiem gadījumiem”” sākotnējās ietekmes novērtējuma ziņojumam (anotācijai)
A3: Kopsavilkums par papildu nepieciešamo finansējumu faktiskajiem izdevumiem pievienotās vērtības nodokļa likmes pieauguma segšanai laika posmā no 2021. gada 1. jūlija līdz 2021. gada 31. oktobrim par iegādātajām medicīniskajām ierīcēm un precēm, lai nodrošinātu Latvijas Republikas Senāta 2021. gada 22. marta sprieduma administratīvajā lietā Nr. A420143317 (SKA-123/2021) izpildi
A5: Iestāde | B5: Izdevumu postenis | C5: Summa EUR
A6: Nacionālais veselības dienests | C6: =SUM(C8:C11) -> 2517216.5
A7: no tā:
B8: Primārās ambulatorās veselības aprūpes nodrošināšana | C8: ='2_pielikums'!C1167+'3_pielikums'!C265+'4_pielikums'!F985+'5_pielikums'!D999+'6_pielikums'!C1163 -> 98752.19
B9: Sekundārās ambulatorās veselības aprūpes nodrošināšana | C9: ='7_pielikums'!G8621+'8_pielikums'!H683+'9_pielikums'!P165 -> 250922.29
B10: Stacionārās veselības aprūpes nodrošināšana | C10: 2002766
B11: Ambulatoro laboratorisko izmeklējumu nodrošināšana | C11: 164776
A12: Neatliekamās medicīniskās palīdzības dienests | C12: =SUM(C14) -> 32284.014
A13: no tā:
B14: Neatliekamās medicīniskās palīdzības nodrošināšana | C14: ='12_pielikums'!H1977 -> 32284.014
A15: Valsts tiesu medicīnas ekspertīzes centrs | C15: =SUM(C17) -> 767.79
A16: no tā:
B17: Tiesu medicīnisko ekspertīžu nodrošināšana | C17: ='13_pielikums'!I52 -> 767.79
A18: Valsts asinsdonoru centrs | C18: =SUM(C20) -> 77094.78
A19: no tā:
B20: Asins un asins komponentu nodrošināšana | C20: ='14_pielikums'!S112 -> 77094.78
A21: KOPĀ: | C21: =SUM(C6,C12,C15,C18) -> 2627363.1

Sheet 2_pielikums
A1: 2.pielikums Ministru kabineta rīkojuma projektam “Par finanšu līdzekļu piešķiršanu no valsts budžeta programmas “Līdzekļi neparedzētiem gadījumiem”” sākotnējās ietekmes novērtējuma ziņojumam (anotācijai)
A3: Informācija par ģimenes ārstu praksēs sniegto primārās ambulatorās veselības aprūpes faktiskajiem izdevumiem pievienotās vērtības nodokļa likmes pieauguma segšanai laika posmā no 2021. gada 1. jūlija līdz 2021. gada 30. septembrim par iegādātajām medicīniskajām ierīcēm un precēm, lai nodrošinātu Latvijas Republikas Senāta 2021. gada 22. marta sprieduma administratīvajā lietā Nr. A420143317 (SKA-123/2021) izpildi
A5: ĀI kods (pakalpojumu sniedzēja) | B5: ĀI nosaukums (pakalpojumu sniedzēja) | C5: PVN pieauguma kopmensācija EUR
A6: 019275411 | B6: A. Kraules ģimenes ārsta prakse, SIA | C6: 4.41
A7: 019575426 | B7: A. Līberes ārsta prakse, Sabiedrība ar ierobežotu atbildību | C7: 0.91
A8: 360200060 | B8: A.Ādamsona ģimenes ārsta prakse, SIA | C8: 7.27
A9: 409500012 | B9: A.Jurovas ģimenes ārsta prakse, SIA | C9: 5.77
A10: 940200001 | B10: A.Kārkliņas doktorāts, SIA | C10: 4.13
A11: 170077441 | B11: A.Lucenko ārsta prakse, SIA | C11: 1.4
A12: 381600016 | B12: A.Stubailovas ģimenes ārsta prakse, SIA | C12: 13.8
A13: 760200009 | B13: ABAKS AA, SIA | C13: 0.34
A14: 801000018 | B14: Adamova-Krastiņa Maija - ģimenes ārsta prakse | C14: 6.88
A15: 019175403 | B15: Adītāja Jolanta -ģimenes ārsta prakse | C15: 6.61
A16: 010000343 | B16: Adoria, Sabiedrība ar ierobežotu atbildību | C16: 14.08
A17: 540200017 | B17: Afanasjeva Rita - ģimenes ārsta prakse | C17: 3.35
... A1166: 019375418 | B1166: Žuka Jeļena - ģimenes ārsta prakse | C1166: 0.12
A1167: Kopā: | C1167: =SUM(C6:C1166) -> 8741.08

Sheet 3_pielikums
A1: 3.pielikums Ministru kabineta rīkojuma projektam “Par finanšu līdzekļu piešķiršanu no valsts budžeta programmas “Līdzekļi neparedzētiem gadījumiem”” sākotnējās ietekmes novērtējuma ziņojumam (anotācijai)
A3: Informācija par zobārstniecības klīniku un privātprakses sniegto primārās ambulatorās veselības aprūpes faktiskajiem izdevumiem pievienotās vērtības nodokļa likmes pieauguma segšanai laika posmā no 2021. gada 1. jūlija līdz 2021. gada 30. septembrim par iegādātajām medicīniskajām ierīcēm un precēm, lai nodrošinātu Latvijas Republikas Senāta 2021. gada 22. marta sprieduma administratīvajā lietā Nr. A420143317 (SKA-123/2021) izpildi
A5: ='[1]kopsav. zobarst.'!A2 -> AI_KODS | B5: ='[1]kopsav. zobarst.'!B2 -> ĀI nosaukums (pakalpojumu sniedzēja) | C5: ='[1]kopsav. zobarst.'!C2 -> PVN pieauguma kopmensācija
A6: ='[1]kopsav. zobarst.'!A3 -> 807600014 | B6: ='[1]kopsav. zobarst.'!B3 -> "PP", Medicīnas centrs, Sabiedrība ar ierobežotu atbildību | C6: ='[1]kopsav. zobarst.'!C3 -> 317.14
A7: ='[1]kopsav. zobarst.'!A4 -> 010000343 | B7: ='[1]kopsav. zobarst.'!B4 -> Adoria, Sabiedrība ar ierobežotu atbildību | C7: ='[1]kopsav. zobarst.'!C4 -> 480.65
A8: ='[1]kopsav. zobarst.'!A5 -> 801600087 | B8: ='[1]kopsav. zobarst.'!B5 -> Agates Smaids, Sabiedrība ar ierobežotu atbildību | C8: ='[1]kopsav. zobarst.'!C5 -> 95.71
A9: ='[1]kopsav. zobarst.'!A6 -> 941600023 | B9: ='[1]kopsav. zobarst.'!B6 -> Agnese 1, Sabiedrība ar ierobežotu atbildību | C9: ='[1]kopsav. zobarst.'!C6 -> 112.88
A10: ='[1]kopsav. zobarst.'!A7 -> 090000093 | B10: ='[1]kopsav. zobarst.'!B7 -> Agneses zobārstniecība, SIA | C10: ='[1]kopsav. zobarst.'!C7 -> 536.81
A11: ='[1]kopsav. zobarst.'!A8 -> 700800012 | B11: ='[1]kopsav. zobarst.'!B8 -> AL Denta, Sabiedrība ar ierobežotu atbildību | C11: ='[1]kopsav. zobarst.'!C8 -> 161.93
A12: ='[1]kopsav. zobarst.'!A9 -> 170064506 | B12: ='[1]kopsav. zobarst.'!B9 -> ALGORITMS L, SIA | C12: ='[1]kopsav. zobarst.'!C9 -> 61.63
A13: ='[1]kopsav. zobarst.'!A10 -> 130064002 | B13: ='[1]kopsav. zobarst.'!B10 -> AMALS, Sabiedrība ar ierobežotu atbildību ražošanas komercfirma | C13: ='[1]kopsav. zobarst.'!C10 -> 125.9
A14: ='[1]kopsav. zobarst.'!A11 -> 360200066 | B14: ='[1]kopsav. zobarst.'!B11 -> Amālija 2020, SIA | C14: ='[1]kopsav. zobarst.'!C11 -> 155.27
A15: ='[1]kopsav. zobarst.'!A12 -> 740200015 | B15: ='[1]kopsav. zobarst.'!B12 -> ANARALS, Sabiedrība ar ierobežotu atbildību | C15: ='[1]kopsav. zobarst.'!C12 -> 51.16
A16: ='[1]kopsav. zobarst.'!A13 -> 900200056 | B16: ='[1]kopsav. zobarst.'!B13 -> Ancāne Lūcija - ārsta prakse zobārstniecībā | C16: ='[1]kopsav. zobarst.'!C13 -> 230.68
... A150: ='[1]kopsav. zobarst.'!A147 -> 010001054 | B150: ='[1]kopsav. zobarst.'!B147 -> LORADENT, Sabiedrība ar ierobežotu atbildību | C150: ='[1]kopsav. zobarst.'!C147 -> 88.33
A151: ='[1]kopsav. zobarst.'!A149 -> 601000004 | B151: ='[1]kopsav. zobarst.'!B149 -> Maceviča Ilona - ārsta prakse zobārstniecībā | C151: ='[1]kopsav. zobarst.'!C149 -> 112.68
A152: ='[1]kopsav. zobarst.'!A150 -> 700200067 | B152: ='[1]kopsav. zobarst.'!B150 -> MADONAS NOVADA PAŠVALDĪBAS SOCIĀLAIS DIENESTS, Madonas novada pašvaldība | C152: ='[1]kopsav. zobarst.'!C150 -> 41.04
A153: ='[1]kopsav. zobarst.'!A151 -> 961000003 | B153: ='[1]kopsav. zobarst.'!B151 -> Mazsalacas slimnīca, Sabiedrība ar ierobežotu atbildību | C153: ='[1]kopsav. zobarst.'!C151 -> 18
A154: ='[1]kopsav. zobarst.'!A152 -> 807635202 | B154: ='[1]kopsav. zobarst.'!B152 -> Mārupes ambulance 1, Sabiedrība ar ierobežotu atbildību | C154: ='[1]kopsav. zobarst.'!C152 -> 8.38
A155: ='[1]kopsav. zobarst.'!A153 -> 270000064 | B155: ='[1]kopsav. zobarst.'!B153 -> MEDENT, SIA | C155: ='[1]kopsav. zobarst.'!C153 -> 1190.74
A156: ='[1]kopsav. zobarst.'!A154 -> 210000043 | B156: ='[1]kopsav. zobarst.'!B154 -> Medical plus, Sabiedrība ar ierobežotu atbildību | C156: ='[1]kopsav. zobarst.'!C154 -> 739.41
A157: ='[1]kopsav. zobarst.'!A155 -> 210000058 | B157: ='[1]kopsav. zobarst.'!B155 -> Medicīnas centrs 36,6, Sabiedrība ar ierobežotu atbildību | C157: ='[1]kopsav. zobarst.'!C155 -> 873.54
A158: ='[1]kopsav. zobarst.'!A156 -> 090024001 | B158: ='[1]kopsav. zobarst.'!B156 -> Medicīnas sabiedrība "Optima 1", Sabiedrība ar ierobežotu atbildību | C158: ='[1]kopsav. zobarst.'!C156 -> 214.78
A159: ='[1]kopsav. zobarst.'!A157 -> 900200089 | B159: ='[1]kopsav. zobarst.'!B157 -> Medinteks, SIA | C159: ='[1]kopsav. zobarst.'!C157 -> 857.51
A160: ='[1]kopsav. zobarst.'!A158 -> 010001581 | B160: ='[1]kopsav. zobarst.'!B158 -> Medline, Sabiedrība ar ierobežotu atbildību | C160: ='[1]kopsav. zobarst.'!C158 -> 314.65
A161: ='[1]kopsav. zobarst.'!A159 -> 500200032 | B161: ='[1]kopsav. zobarst.'!B159 -> Medniece Viola - ārsta prakse zobārstniecībā | C161: ='[1]kopsav. zobarst.'!C159 -> 163.8
A162: ='[1]kopsav. zobarst.'!A160 -> 019164058 | B162: ='[1]kopsav. zobarst.'!B160 -> Meitas un Dēli, Sabiedrība ar ierobežotu atbildību | C162: ='[1]kopsav. zobarst.'!C160 -> 170.45
... A264: ='[1]kopsav. zobarst.'!A262 -> 741400017 | B264: ='[1]kopsav. zobarst.'!B262 -> Zobārstu prakse Lielvārde, SIA | C264: ='[1]kopsav. zobarst.'!C262 -> 356.43
A265: KOPĀ: | C265: =SUM(C6:C264) -> 84041.94

Sheet 4_pielikums
D1: 4.pielikums Ministru kabineta rīkojuma projektam “Par finanšu līdzekļu piešķiršanu no valsts budžeta programmas “Līdzekļi neparedzētiem gadījumiem”” sākotnējās ietekmes novērtējuma ziņojumam (anotācijai)
A3: Informācija par primārās veselības aprūpes epizožu faktiskajiem izdevumiem pievienotās vērtības nodokļa likmes pieauguma segšanai laika posmā no 2021.gada 1.jūlija līdz 2021.gada 30.septembrim par iegādātajām medicīniskajām ierīcēm un precēm, lai nodrošinātu Latvijas Republikas Senāta 2021. gada 22. marta sprieduma administratīvajā lietā Nr. A420143317 (SKA-123/2021) izpildi
A5: ĀI kods (pakalpojumu sniedzēja) | B5: ĀI nosaukums (pakalpojumu sniedzēja) | C5: Specialitāte (pakalpojuma sniedzēja) | D5: Epizožu skaits | E5: Pakalpojumu summa | F5: PVN pieaugums, EUR
A6: 170000017 | B6: A. Kraules ģimenes ārsta prakse, SIA | C6: P02 - ģimenes (vispārējās prakses) ārsts | D6: =E6/7.32 -> 7 | E6: 51.24 | F6: =D6*0.05 -> 0.35
A7: 170000116 | B7: A. Līberes ārsta prakse, Sabiedrība ar ierobežotu atbildību | C7: P02 - ģimenes (vispārējās prakses) ārsts | D7: =E7/7.32 -> 3 | E7: 21.96 | F7: =D7*0.05 -> 0.15
A8: 170000124 | B8: A.Ādamsona ģimenes ārsta prakse, SIA | C8: P02 - ģimenes (vispārējās prakses) ārsts | D8: =E8/7.32 -> 3 | E8: 21.96 | F8: =D8*0.05 -> 0.15
A9: 170000170 | B9: A.Jurovas ģimenes ārsta prakse, SIA | C9: P02 - ģimenes (vispārējās prakses) ārsts | D9: =E9/7.32 -> 5 | E9: 36.6 | F9: =D9*0.05 -> 0.25
A10: 170000171 | B10: A.Lucenko ārsta prakse, SIA | C10: P02 - ģimenes (vispārējās prakses) ārsts | D10: =E10/7.32 -> 3 | E10: 21.96 | F10: =D10*0.05 -> 0.15
A11: 170000173 | B11: A.Stubailovas ģimenes ārsta prakse, SIA | C11: P02 - ģimenes (vispārējās prakses) ārsts | D11: =E11/7.32 -> 7 | E11: 51.24 | F11: =D11*0.05 -> 0.35
A12: 170000186 | B12: Adamova-Krastiņa Maija - ģimenes ārsta prakse | C12: P02 - ģimenes (vispārējās prakses) ārsts | D12: =E12/7.32 -> 3 | E12: 21.96 | F12: =D12*0.05 -> 0.15
A13: 170000188 | B13: Adītāja Jolanta -ģimenes ārsta prakse | C13: P02 - ģimenes (vispārējās prakses) ārsts | D13: =E13/7.32 -> 6 | E13: 43.92 | F13: =D13*0.05 -> 0.3
A14: 170000190 | B14: Adoria, Sabiedrība ar ierobežotu atbildību | C14: P02 - ģimenes (vispārējās prakses) ārsts | D14: =E14/7.32 -> 8 | E14: 58.56 | F14: =D14*0.05 -> 0.4
A15: 170075405 | B15: AFP, Sabiedrība ar ierobežotu atbildību | C15: P02 - ģimenes (vispārējās prakses) ārsts | D15: =E15/7.32 -> 4 | E15: 29.28 | F15: =D15*0.05 -> 0.2
A16: 170075406 | B16: Aganova Regīna - ģimenes ārsta prakse | C16: P02 - ģimenes (vispārējās prakses) ārsts | D16: =E16/7.32 -> 2 | E16: 14.64 | F16: =D16*0.05 -> 0.1
A17: 170075410 | B17: Agarelovs Vadims - ģimenes ārsta prakse | C17: P02 - ģimenes (vispārējās prakses) ārsts | D17: =E17/7.32 -> 1 | E17: 7.32 | F17: =D17*0.05 -> 0.05
... A984: 781800017 | B984: Žuka Jeļena - ģimenes ārsta prakse | C984: P02 - ģimenes (vispārējās prakses) ārsts | D984: =E984/7.32 -> 2 | E984: 14.64 | F984: =D984*0.05 -> 0.1
A985: KOPĀ: | F985: =SUM(F6:F984) -> 379.8

Sheet 5_pielikums
B1: 5.pielikums Ministru kabineta rīkojuma projektam “Par finanšu līdzekļu piešķiršanu no valsts budžeta programmas “Līdzekļi neparedzētiem gadījumiem”” sākotnējās ietekmes novērtējuma ziņojumam (anotācijai)
A3: Informācija par primārās veselības aprūpes nodrošināšanu ģimenes ārstu praksē nereģistrētiem pacientiem faktiskajiem izdevumiem pievienotās vērtības nodokļa likmes pieauguma segšanai laika posmā no 2021. gada 1. jūlija līdz 2021. gada 30. septembrim par iegādātajām medicīniskajām ierīcēm un precēm, lai nodrošinātu Latvijas Republikas Senāta 2021. gada 22. marta sprieduma administratīvajā lietā Nr. A420143317 (SKA-123/2021) izpildi
C5: Epizodes tarifs | D5: Tarifa pieaugums epizodei PVN, euro
C6: 7.32 | D6: 0.05
A8: Iestāde | B8: Maksa par pakalpojumiem | C8: Epizožu skaits | D8: PVN pieugums, euro
A9: A.Lucenko ārsta prakse, SIA | B9: 21.96 | C9: =B9/$C$6 -> 3 | D9: =C9*$D$6 -> 0.15
A10: AFP, Sabiedrība ar ierobežotu atbildību | B10: 29.28 | C10: =B10/$C$6 -> 4 | D10: =C10*$D$6 -> 0.2
A11: Aijas Briedes ārsta prakse, SIA | B11: 21.96 | C11: =B11/$C$6 -> 3 | D11: =C11*$D$6 -> 0.15
A12: Anaņjeva Aleksandra - ģimenes ārsta prakse | B12: 7.32 | C12: =B12/$C$6 -> 1 | D12: =C12*$D$6 -> 0.05
A13: Andas Mellenbergas ārsta prakse, Sabiedrība ar ierobežotu atbildību | B13: 36.6 | C13: =B13/$C$6 -> 5 | D13: =C13*$D$6 -> 0.25
A14: Ašmane Solveiga - ģimenes ārsta un arodveselības un arodslimību ārsta prakse | B14: 21.96 | C14: =B14/$C$6 -> 3 | D14: =C14*$D$6 -> 0.15
A15: Āboliņš Mārtiņš - ģimenes ārsta un internista prakse | B15: 73.2 | C15: =B15/$C$6 -> 10 | D15: =C15*$D$6 -> 0.5
A16: āp DOCTUS, SIA | B16: 65.88 | C16: =B16/$C$6 -> 9 | D16: =C16*$D$6 -> 0.45
A17: Baranovs Aleksejs - ģimenes ārsta un internista prakse | B17: 36.6 | C17: =B17/$C$6 -> 5 | D17: =C17*$D$6 -> 0.25
A18: Basenko Ludmila - ģimenes ārsta prakse | B18: 36.6 | C18: =B18/$C$6 -> 5 | D18: =C18*$D$6 -> 0.25
A19: Berga Ruta -ģimenes ārsta prakse | B19: 7.32 | C19: =B19/$C$6 -> 1 | D19: =C19*$D$6 -> 0.05
A20: Bētiņa Lilita - ģimenes ārsta un arodveselības un arodslimību ārsta prakse | B20: 51.24 | C20: =B20/$C$6 -> 7 | D20: =C20*$D$6 -> 0.35
... A998: Zīverte Santa - ģimenes ārsta prakse | B998: 21.96 | C998: =B998/$C$6 -> 3 | D998: =C998*$D$6 -> 0.15
A999: KOPĀ: | D999: =SUM(D9:D998) -> 387.9

Sheet 6_pielikums
B1: 6.pielikums Ministru kabineta rīkojuma projektam “Par finanšu līdzekļu piešķiršanu no valsts budžeta programmas “Līdzekļi neparedzētiem gadījumiem”” sākotnējās ietekmes novērtējuma ziņojumam (anotācijai)
A3: Informācija par ģimenes ārstu kapitācijas naudas faktiskajiem izdevumiem pievienotās vērtības nodokļa likmes pieauguma segšanai laika posmā no 2021. gada 1. jūlija līdz 2021. gada 30. septembrim par iegādātajām medicīniskajām ierīcēm un precēm, lai nodrošinātu Latvijas Republikas Senāta 2021. gada 22. marta sprieduma administratīvajā lietā Nr. A420143317 (SKA-123/2021) izpildi
A5: 0.00035969597 | B5: vidējais procents PVN pieaugumam kapitācijas naudai praksei 3 mēnešiem, palielinot Kapitācijas naudu mēnesī uz 1 pacientu no 2.467845 EUR uz 2.468846 EUR * zemāk aprēķins
A7: Iestāde | B7: Kopā apmaksai | C7: PVN pieaugums, EUR
A8: A. Kraules ģimenes ārsta prakse, SIA | B8: 10834.45 | C8: =ROUND(B8*$A$5,2) -> 3.9
A9: A. Līberes ārsta prakse, Sabiedrība ar ierobežotu atbildību | B9: 15357.15 | C9: =ROUND(B9*$A$5,2) -> 5.52
A10: A.Ādamsona ģimenes ārsta prakse, SIA | B10: 12327.87 | C10: =ROUND(B10*$A$5,2) -> 4.43
A11: A.Jurovas ģimenes ārsta prakse, SIA | B11: 13472.71 | C11: =ROUND(B11*$A$5,2) -> 4.85
A12: A.Kārkliņas doktorāts, SIA | B12: 5385.83 | C12: =ROUND(B12*$A$5,2) -> 1.94
A13: A.Lucenko ārsta prakse, SIA | B13: 8865.97 | C13: =ROUND(B13*$A$5,2) -> 3.19
A14: A.Stubailovas ģimenes ārsta prakse, SIA | B14: 8394.92 | C14: =ROUND(B14*$A$5,2) -> 3.02
A15: ABAKS AA, SIA | B15: 7162.79 | C15: =ROUND(B15*$A$5,2) -> 2.58
A16: Adamova-Krastiņa Maija - ģimenes ārsta prakse | B16: 8822.8 | C16: =ROUND(B16*$A$5,2) -> 3.17
A17: Adītāja Jolanta -ģimenes ārsta prakse | B17: 19254.79 | C17: =ROUND(B17*$A$5,2) -> 6.93
A18: Adoria, Sabiedrība ar ierobežotu atbildību | B18: 4754.59 | C18: =ROUND(B18*$A$5,2) -> 1.71
A19: Afanasjeva Rita - ģimenes ārsta prakse | B19: 8764.63 | C19: =ROUND(B19*$A$5,2) -> 3.15
... A1162: Žuka Jeļena - ģimenes ārsta prakse | B1162: 9325.94 | C1162: =ROUND(B1162*$A$5,2) -> 3.35
A1163: KOPĀ: | C1163: =SUM(C8:C1162) -> 5201.47
A1166: *Ģimenes ārstu kapitācijas naudas aprēķins
A1167: Nr.p.k. | B1167: Medicīnas instrumenti un iekārtas | C1167: Vērtība, EUR | D1167: Gadi | E1167: Izmaksas 1 mēnesī no 01.01.2018 | F1167: Izmaksas 1 mēnesī no 01.01.2019 | G1167: Izmaksas 1 mēnesī no 01.01.2020. | H1167: Izmaksas 1 mēnesī no 01.01.2021. | I1167: PVN izmaiņu aprēkins 8% pieaugums materiāliem 57. un 58. punktā
A1168: 1 | B1168: 2 | C1168: 3 | D1168: 4 | E1168: 5 | F1168: 6 | G1168: 7 | H1168: 8
A1169: 1 | B1169: Ierīce redzes asuma pārbaudei (apgaismota tabula) | C1169: 205.7 | D1169: 10 | E1169: =ROUND(C1169/10/12,2) -> 1.71 | F1169: 1.71 | G1169: 1.71 | H1169: 1.71
A1170: 2 | B1170: Otoskops | C1170: 165.05 | D1170: 10 | E1170: =ROUND(C1170/10/12,2) -> 1.38 | F1170: 1.38 | G1170: 1.38 | H1170: 1.38
A1171: 3 | B1171: Oftalmoskops | C1171: 119.79 | D1171: 10 | E1171: =ROUND(C1171/10/12,2) -> 1 | F1171: 1 | G1171: 1 | H1171: 1
A1172: 4 | B1172: Inhalators | C1172: 67.76 | D1172: 10 | E1172: =ROUND(C1172/10/12,2) -> 0.56 | F1172: 0.56 | G1172: 0.56 | H1172: 0.56
A1173: 5 | B1173: Ierīce rentgenogrammu apskatei (negatoskops) 88.33 | C1173: 88.33 | D1173: 10 | E1173: =ROUND(C1173/10/12,2) -> 0.74 | F1173: 0.74 | G1173: 0.74 | H1173: 0.74
A1174: 6 | B1174: NMP komplekts | C1174: 33.88 | D1174: 10 | E1174: =ROUND(C1174/10/12,2) -> 0.28 | F1174: 0.28 | G1174: 0.28 | H1174: 0.28
A1175: 7 | B1175: Fonendoskops (ārstam) pieaugušajiem | C1175: 227.06 | D1175: 10 | E1175: =ROUND(C1175/10/12,2) -> 1.89 | F1175: 1.89 | G1175: 1.89 | H1175: 1.89
A1176: 8 | B1176: Fonendoskops (ārstam) bērniem | C1176: 94.74 | D1176: 10 | E1176: =ROUND(C1176/10/12,2) -> 0.79 | F1176: 0.79 | G1176: 0.79 | H1176: 0.79
A1177: 9 | B1177: Ierīce netiešai asins spiediena mērīšanai | C1177: 101.34 | D1177: 10 | E1177: =ROUND(C1177/10/12,2) -> 0.84 | F1177: 0.84 | G1177: 0.84 | H1177: 0.84
A1178: 10 | B1178: Medicīniskie svari un auguma mērītājs (pieaugušajiem) | C1178: =444+22.26 -> 466.26 | D1178: 10 | E1178: =ROUND(C1178/10/12,2) -> 3.89 | F1178: 3.89 | G1178: 3.89 | H1178: 3.89
A1179: 11 | B1179: Medicīniskie svari (zīdaiņiem) (piemēram, KERN – MBC 15K2DM) | C1179: 339.8 | D1179: 10 | E1179: =ROUND(C1179/10/12,2) -> 2.83 | F1179: 2.83 | G1179: 2.83 | H1179: 2.83
A1180: 12 | B1180: Auguma mērītājs (zīdaiņiem) | C1180: 69.26 | D1180: 10 | E1180: =ROUND(C1180/10/12,2) -> 0.58 | F1180: 0.58 | G1180: 0.58 | H1180: 0.58
A1181: 13 | B1181: Medicīniskā lampa | C1181: 500 | D1181: 10 | E1181: =ROUND(C1181/10/12,2) -> 4.17 | F1181: 4.17 | G1181: 4.17 | H1181: 4.17
A1182: 14 | B1182: Nokomplektētā ārsta soma | C1182: 156.09 | D1182: 10 | E1182: =ROUND(C1182/10/12,2) -> 1.3 | F1182: 1.3 | G1182: 1.3 | H1182: 1.3
A1183: 15 | B1183: Medicīniskā kušete | C1183: 290.4 | D1183: 10 | E1183: =ROUND(C1183/12/10,2) -> 2.42 | F1183: 2.42 | G1183: 2.42 | H1183: 2.42
A1184: 16 | B1184: Instrumentu galds | C1184: 272.25 | D1184: 10 | E1184: =ROUND(C1184/12/10,2) -> 2.27 | F1184: 2.27 | G1184: 2.27 | H1184: 2.27
A1185: 17 | B1185: Bērnu izmeklēšanas galds | C1185: 365.78 | D1185: 10 | E1185: =ROUND(C1185/12/10,2) -> 3.05 | F1185: 3.05 | G1185: 3.05 | H1185: 3.05
A1186: 18 | B1186: Ledusskapis vakcīnu glabāšanai (ar saldētavu) | C1186: 444.98 | D1186: 10 | E1186: =ROUND(C1186/12/10,2) -> 3.71 | F1186: 3.71 | G1186: 3.71 | H1186: 3.71
A1187: 19 | B1187: Medikamentu skapis | C1187: 155 | D1187: 10 | E1187: =ROUND(C1187/12/10,2) -> 1.29 | F1187: 1.29 | G1187: 1.29 | H1187: 1.29
A1188: 20 | B1188: Aizslietnis pārvietojams | C1188: 232.43 | D1188: 10 | E1188: =ROUND(C1188/12/10,2) -> 1.94 | F1188: 1.94 | G1188: 1.94 | H1188: 1.94
A1189: 21 | B1189: Medicīniskais termometrs | C1189: 3.38 | D1189: 3 | E1189: =ROUND(C1189/3/12,2) -> 0.09 | F1189: 0.09 | G1189: 0.09 | H1189: 0.09
A1190: 22 | B1190: Lupa | C1190: 3.9 | D1190: 3 | E1190: =ROUND(C1190/3/12,2) -> 0.11 | F1190: 0.11 | G1190: 0.11 | H1190: 0.11
A1191: 23 | B1191: Venozais žņaugs | C1191: 6.03 | D1191: 3 | E1191: =ROUND(C1191/3/12,2) -> 0.17 | F1191: 0.17 | G1191: 0.17 | H1191: 0.17
A1192: 24 | B1192: Refleksu āmuriņš | C1192: 19.87 | D1192: 3 | E1192: =ROUND(C1192/3/12,2) -> 0.55 | F1192: 0.55 | G1192: 0.55 | H1192: 0.55
A1193: 25 | B1193: Anatomiskās un ķirurģiskās pincetes | C1193: 14.25 | D1193: 3 | E1193: =ROUND(C1193/3/12,2) -> 0.4 | F1193: 0.4 | G1193: 0.4 | H1193: 0.4
A1194: 26 | B1194: Medicīniskās grieznes | C1194: 3.33 | D1194: 3 | E1194: =ROUND(C1194/3/12,2) -> 0.09 | F1194: 0.09 | G1194: 0.09 | H1194: 0.09
A1195: 27 | B1195: Adatturi | C1195: 2.95 | D1195: 3 | E1195: =ROUND(C1195/3/12,2) -> 0.08 | F1195: 0.08 | G1195: 0.08 | H1195: 0.08
A1196: 28 | B1196: Garās pincetes | C1196: 2.24 | D1196: 3 | E1196: =ROUND(C1196/3/12,2) -> 0.06 | F1196: 0.06 | G1196: 0.06 | H1196: 0.06
A1197: 29 | B1197: Difūziju statīvs | C1197: 70.42 | D1197: 5 | E1197: =ROUND(C1197/5/12,2) -> 1.17 | F1197: 1.17 | G1197: 1.17 | H1197: 1.17
A1198: 30 | B1198: Ierīce augļa sirdstoņu izklausīšanai | C1198: 25 | D1198: 5 | E1198: =ROUND(C1198/5/12,2) -> 0.42 | F1198: 0.42 | G1198: 0.42 | H1198: 0.42
A1199: 31 | B1199: Lampiņa ar homogēnu gaismu | C1199: 10.84 | D1199: 3 | E1199: =ROUND(C1199/3/12,2) -> 0.3 | F1199: 0.3 | G1199: 0.3 | H1199: 0.3
A1200: 32 | B1200: Pulsometrs | C1200: 30 | D1200: 5 | E1200: =ROUND(C1200/5/12,2) -> 0.5 | F1200: 0.5 | G1200: 0.5 | H1200: 0.5
A1201: 33 | B1201: Mērlente | C1201: 0.55 | D1201: 5 | E1201: =ROUND(C1201/12/5,2) -> 0.01 | F1201: 0.01 | G1201: 0.01 | H1201: 0.01
B1202: Kopā Medicīnas instrumenti un iekārtas | C1202: =SUM(C1169:C1201) -> 4588.66 | E1202: =SUM(E1169:E1201) -> 40.59 | F1202: =SUM(F1169:F1201) -> 40.59 | G1202: =SUM(G1169:G1201) -> 40.59 | H1202: =SUM(H1169:H1201) -> 40.59
B1203: Medikamenti un materiāli
A1204: 34 | B1204: Nenarkotiskām analģētiķa šķīdums injekcijām (Sol.Diclofenaci 75 mg/ml - 5 ampulas) | C1204: 5.99 | D1204: 1 | E1204: =ROUND(C1204/12,2) -> 0.5 | F1204: 0.5 | G1204: 0.5 | H1204: 0.5
A1205: 35 | B1205: Nestreroīdā pretiekaisuma līdzekļa tabletes (Tab.Paracetamoli 500mg 10 tabletes vai Tab Ibuprofeni 200 mg 10 tbl) | C1205: 0.84 | D1205: 1 | E1205: =ROUND(C1205/12,2) -> 0.07 | F1205: 0.07 | G1205: 0.07 | H1205: 0.07
A1206: =A1205+1 -> 36 | B1206: M holinoblokatora šķīdums injekcijām (Atropini sulphate 10 mg/ml 1ml ampulas - 5gab.) | C1206: 3.96 | D1206: 1 | E1206: =ROUND(C1206/12,2) -> 0.33 | F1206: 0.33 | G1206: 0.33 | H1206: 0.33
A1207: 37 | B1207: Adrenomimētiskā līdzekļa šķīdums injekcijām (Adrenalini 1 mg/ml, 1ml ampulas - 5 gab.) | C1207: 4.24 | D1207: 1 | E1207: =ROUND(C1207/12,2) -> 0.35 | F1207: 0.35 | G1207: 0.35 | H1207: 0.35
A1208: 38 | B1208: Sirds glikozīda šķīdums injekcijām (Digoxini 250 qg/ml - 5 gab) | C1208: 4.3 | D1208: 1 | E1208: =ROUND(C1208/12,2) -> 0.36 | F1208: 0.36 | G1208: 0.36 | H1208: 0.36
A1209: 39 | B1209: Neglikozīdā kardiotoniskā līdzekļa šķīdums infūzijām (Intropais simpatomimētiķis) ( Dobutamine 12,5 mg/ml Pr.II stac 5 ampulas) | C1209: 41.57 | D1209: 1 | E1209: =ROUND(C1209/12,2) -> 3.46 | F1209: 3.46 | G1209: 3.46 | H1209: 3.46
A1210: 40 | B1210: Antiaritmiskā līdzkļu, nātrija antagonistu šķīdums injekcijām (I klases antiaritmētiskie līdzkļi, ātriju, superventrikulārās un ventrukulārās aritmijas) (Lidocaini 20 mg/ml, 2 ml ampulas - 5 gab.) | C1210: 4.3 | D1210: 1 | E1210: =ROUND(C1210/12,2) -> 0.36 | F1210: 0.36 | G1210: 0.36 | H1210: 0.36
A1211: 41 | B1211: Antiaritmiskā līdzkļa, kalcija antagonista šķīdums injekcijām (IV klases anti aritmētiskie līdzkļi) ( Verapamili hrdrochloridi 2.5 mh/ml - 5 ampulas vai Verapamili 40 mg - 10 tabletes) | C1211: 0.76 | D1211: 1 | E1211: =ROUND(C1211/12,2) -> 0.06 | F1211: 0.06 | G1211: 0.06 | H1211: 0.06
A1212: 42 | B1212: Antiaritmētiskā līdzekļa, kālija antagonista šķīdums injekcijām ( III klases antiaritmiskais līdzeklis, supraventikulārās un ventikulārās aritmijas) ( Amiodaroni hydrohloridi 30 mg/ml, 10 ml ampula - 5 gab. vai 200 mg tbl - 10 gab) | C1212: 1.1 | D1212: 1 | E1212: =ROUND(C1212/12,2) -> 0.09 | F1212: 0.09 | G1212: 0.09 | H1212: 0.09
A1213: =A1212+1 -> 43 | B1213: Neitropā hipotenzīvā līdzekļa šķīdums injekcijām (Clonidini 150qm/ml, 1 ml ampula - 5 gab) | C1213: 4 | D1213: 1 | E1213: =ROUND(C1213/12,2) -> 0.33 | F1213: 0.33 | G1213: 0.33 | H1213: 0.33
A1214: 44 | B1214: Neitropā hipotenzīvā līdzekļa tabletes (Clonidin 150 qg tbl - 10 tabletes vai Moxonidini 200 qg tbl - 10 tabletes) | C1214: 2.36 | D1214: 1 | E1214: =ROUND(C1214/12,2) -> 0.2 | F1214: 0.2 | G1214: 0.2 | H1214: 0.2
A1215: 45 | B1215: Koronarolītiskā līdzekļa, kalcija antagonista tabletes (Amlodipine 5 mg tabletes -10 gab. vai Nifedipine 10 mg - 20 mg tabletes - 10 gab., vai Felodipine 5 mg tabletes - 10 gb., vai Nicardipine 20 mg tabletes -10 gb) | C1215: 0.41 | D1215: 1 | E1215: =ROUND(C1215/12,2) -> 0.03 | F1215: 0.03 | G1215: 0.03 | H1215: 0.03
A1216: 46 | B1216: Koronarolītiska līdzkļa zemmēles aerosols (Nitromit 0,4mg) 180 devas | C1216: 6.38 | D1216: 1 | E1216: =ROUND(C1216/12,2) -> 0.53 | F1216: 0.53 | G1216: 0.53 | H1216: 0.53
A1217: 47 | B1217: Koronarolītiska līdzekļa tabletes ( Isosorbidi 10-30 mg - 10 gab. vai Isosorbidi mononitrate 10 mg tabletes - 10 gab., vai Glycerili trinitrate qg - 2 mg tabletes - 10 gab.) | C1217: 0.73 | D1217: 1 | E1217: =ROUND(C1217/12,2) -> 0.06 | F1217: 0.06 | G1217: 0.06 | H1217: 0.06
A1218: 48 | B1218: Bronholotiskā līdzkļa aerosols inhalācijām (Salbutamoli 100qg/deva -1 orģināls | C1218: 3.57 | D1218: 1 | E1218: =ROUND(C1218/12,2) -> 0.3 | F1218: 0.3 | G1218: 0.3 | H1218: 0.3
A1219: 49 | B1219: Bronholītiskā līdzkļa šķīdums injekcijām (Aminophylini 24 mg/ml, 5 ml vai 10 ml ampulas - 5 gab.) | C1219: 9.53 | D1219: 1 | E1219: =ROUND(C1219/12,2) -> 0.79 | F1219: 0.79 | G1219: 0.79 | H1219: 0.79
A1220: =A1219+1 -> 50 | B1220: Trankvilizatora šķīdums injekcijām (Diazepami 5 mg/ml, 2 ml ampulas - 5 gab.) | C1220: 3.66 | D1220: 1 | E1220: =ROUND(C1220/12,2) -> 0.31 | F1220: 0.31 | G1220: 0.31 | H1220: 0.31
A1221: 51 | B1221: Neiroleptiskā līdzekļa šķīdums injekcijām ( Furosemīdi 10 mg/ml 1 ml ampulas - 5 gab.) | C1221: 5.3 | D1221: 1 | E1221: =ROUND(C1221/12,2) -> 0.44 | F1221: 0.44 | G1221: 0.44 | H1221: 0.44
A1222: 52 | B1222: Glikokortikoīdu šķīdums injekcijām ( Dexamethasoni 4 mg/ml, 1 ml ampulas 5 gab) | C1222: 1.432 | D1222: 1 | E1222: =ROUND(C1222/12,2) -> 0.12 | F1222: 0.12 | G1222: 0.12 | H1222: 0.12
A1223: 53 | B1223: Pretindes pulveris, emulsija vai tabletes (Carbon activ. Tabletes vai pulveris, 25 g deva) | C1223: 0.23 | D1223: 1 | E1223: =ROUND(C1223/12,2) -> 0.02 | F1223: 0.02 | G1223: 0.02 | H1223: 0.02
A1224: 54 | B1224: Antihistamīno līdzekļu šķīdums injekcijām ( Clemastini 1 mg/ml, 2 ml ampulas - 5 gab. vai Chlorphenamini maleati 10 mg/ml/1 ml ampulas - 5 gab) | C1224: 3.74 | D1224: 1 | E1224: =ROUND(C1224/12,2) -> 0.31 | F1224: 0.31 | G1224: 0.31 | H1224: 0.31
A1225: 55 | B1225: Stripi Lipid Profile (vienā stripā HOL, TRG,ABH,ZBL,ne ABL) | C1225: =(66.08/25*308.2001*12)*0.001 -> 9.7756141 | D1225: 1 | E1225: =ROUND(C1225/12,2) -> 0.81 | F1225: 0.81 | G1225: 0.81 | H1225: 0.81
A1226: 56 | B1226: Sāļu šķīdumi infūzijām ( Natri cloride 9 mg/ml, 250-500ml šķīdums) | C1226: 1 | D1226: 1 | E1226: =ROUND(C1226/12,2) -> 0.08 | F1226: 0.08 | G1226: 0.08 | H1226: 0.08
A1227: =A1226+1 -> 57 | B1227: Vienreizlietojamie cimdi | C1227: =0.0655*2*308*12*0.2 -> 96.8352 | D1227: 1 | E1227: =ROUND(C1227/12,2) -> 8.07 | F1227: 8.07 | G1227: 8.07 | H1227: 8.07 | I1227: =ROUND(H1227*8/100,2) -> 0.65
A1228: 58 | B1228: Dezinfekcijas līdzekļi 5 ml | C1228: =E1228*12 -> 140.04 | D1228: 1 | E1228: =ROUND((37.89/5000)*(5*308),2) -> 11.67 | F1228: 11.67 | G1228: 11.67 | H1228: 11.67 | I1228: =ROUND(H1228*8/100,2) -> 0.93
A1229: 59 | B1229: sterils dzemdību komplekts | C1229: 5.04 | D1229: 1 | E1229: =ROUND(C1229/12,2) -> 0.42 | F1229: 0.42 | G1229: 0.42 | H1229: 0.42
A1230: 60 | B1230: Medicīniskais rullis | C1230: =E1230*12 -> 335.28 | D1230: 1 | E1230: =ROUND(9.07/50*308/2,2) -> 27.94 | F1230: 27.94 | G1230: 27.94 | H1230: 27.94
A1231: 61 | B1231: Saimniecības preces, t.sk. roku dvielis | C1231: =E1231*12 -> 280.2 | D1231: 1 | E1231: =ROUND(11.6/800*308*2+3.9/250*308*3,2) -> 23.35 | F1231: 23.35 | G1231: 23.35 | H1231: 23.35
B1232: Kopā Medikamenti un materiāli | C1232: =SUM(C1204:C1231)+0.01 -> 976.58281 | E1232: =SUM(E1204:E1231) -> 81.36 | F1232: =SUM(F1204:F1231) -> 81.36 | G1232: =SUM(G1204:G1231) -> 81.36 | H1232: =SUM(H1204:H1231) -> 81.36 | I1232: =SUM(I1204:I1231) -> 1.58
B1233: Medicīniskā dokumentācija
A1234: 62 | B1234: Medicīniskā dokumentācija (ambulatoras kartes, receptes, citas veidlapas) | C1234: =E1234*12 -> 514.8 | D1234: 1 | E1234: 42.9 | F1234: 42.9 | G1234: 42.9 | H1234: 42.9
B1235: Kopā medicīniskā dokumentācija | C1235: =C1234 -> 514.8 | E1235: =E1234 -> 42.9 | F1235: =F1234 -> 42.9 | G1235: =G1234 -> 42.9 | H1235: =H1234 -> 42.9
B1236: Atalgojums
A1237: 63 | B1237: Ārsts | C1237: =E1237*12 -> 16752.12 | E1237: =ROUND(1125*1.2409,2) -> 1396.01 | F1237: =ROUND(1350*1.2409,2) -> 1675.22 | G1237: =ROUND(1485*1.2409,2) -> 1842.74 | H1237: =ROUND(1862*1.2359,2) -> 2301.25
A1238: 64 | B1238: Reģistratora funkcijām | C1238: =E1238*12 -> 6403.08 | E1238: =ROUND(430*1.2409,2) -> 533.59 | F1238: =ROUND((430+76)*1.2409,2) -> 627.9 | G1238: =ROUND((506+46)*1.2409,2) -> 684.98 | H1238: =ROUND((552+147)*1.2359,2) -> 863.89
B1239: Kopā Atalgojums | C1239: =SUM(C1237:C1238) -> 23155.2 | E1239: =SUM(E1237:E1238) -> 1929.6 | F1239: =SUM(F1237:F1238) -> 2303.12 | G1239: =SUM(G1237:G1238) -> 2527.72 | H1239: =SUM(H1237:H1238) -> 3165.14
B1240: Datortehnika un apkalpošana
A1241: 65 | B1241: Sistēmbloks ar aksesuāriem un operacionālo sistēmu, Firewall un antivīrusu programma | C1241: 569.14872 | D1241: 5 | E1241: =ROUND(C1241/5/12,2) -> 9.49 | F1241: 9.49 | G1241: 9.49 | H1241: 9.49
A1242: 66 | B1242: Monitors 2 gab | C1242: =228 -> 228 | D1242: 5 | E1242: =ROUND(C1242/5/12,2) -> 3.8 | F1242: 3.8 | G1242: 3.8 | H1242: 3.8
A1243: =A1242+1 -> 67 | B1243: Daudzfunkcionālais Printeris - skeneris, fakss, kopētājs | C1243: 160 | D1243: 5 | E1243: =ROUND(C1243/5/12,2) -> 2.67 | F1243: 2.67 | G1243: 2.67 | H1243: 2.67
A1244: =A1243+1 -> 68 | B1244: Tonera kasete printerim (3 nomaiņas gadā) | C1244: 180 | D1244: 1 | E1244: =ROUND(C1244/12,2) -> 15 | F1244: 15 | G1244: 15 | H1244: 15
A1245: =A1244+1 -> 69 | B1245: Datortehnikas uzturēšana (35 euro mēnesī) | C1245: =E1245*12 -> 420 | D1245: 1 | E1245: 35 | F1245: 35 | G1245: 35 | H1245: 35
A1246: =A1245+1 -> 70 | B1246: Mobilais telefons (2 gab.) | C1246: =119*2 -> 238 | D1246: 3 | E1246: =ROUND(C1246/3/12,2) -> 6.61 | F1246: 6.61 | G1246: 6.61 | H1246: 6.61
A1247: =A1246+1 -> 71 | B1247: Mobilo telefonu abonēšanas maksa mēnesī | C1247: =98.64*2 -> 197.28 | D1247: 1 | E1247: =ROUND(C1247/12,2) -> 16.44 | F1247: 16.44 | G1247: 16.44 | H1247: 16.44
...

Sheet 7_pielikums
D1: 7.pielikums Ministru kabineta rīkojuma projektam “Par finanšu līdzekļu piešķiršanu no valsts budžeta programmas “Līdzekļi neparedzētiem gadījumiem”” sākotnējās ietekmes novērtējuma ziņojumam (anotācijai)
A3: Informācija par sekundārās ambulatorās veselības aprūpes faktiskajiem izdevumiem pievienotās vērtības nodokļa likmes pieauguma segšanai laika posmā no 2021. gada 1. jūlija līdz 2021. gada 30. septembrim par iegādātajām medicīniskajām ierīcēm un precēm, lai nodrošinātu Latvijas Republikas Senāta 2021. gada 22. marta sprieduma administratīvajā lietā Nr. A420143317 (SKA-123/2021) izpildi
A5: ĀI kods (pakalpojumu sniedzēja) | B5: ĀI nosaukums (pakalpojumu sniedzēja) | C5: Manipulācijas nosaukums | D5: Manipulāciju skaits | E5: Pakalpojumu summa bez PVN pieauguma | F5: Manipulācijas tarifa PVN pieaugums, EUR | G5: Summa PVN pieaugums, EUR
A6: 170000005 | B6: LENS-L, SIA | C6: Autorefraktometrija | D6: 177 | E6: 865.53 | F6: 0.01 | G6: 1.77
A7: 170000005 | B7: LENS-L, SIA | C7: Acs biomikroskopija abām acīm | D7: 453 | E7: 1757.64 | F7: 0.03 | G7: 13.59
A8: 170000005 | B8: LENS-L, SIA | C8: Biomikrooftalmoskopija (ar Goldmaņa lēcu) abām acīm un rezultātu salīdzinoša izvērtēšana | D8: 122 | E8: 786.9 | F8: 0.03 | G8: 3.66
A9: 170000005 | B9: LENS-L, SIA | C9: Tonometrija abām acīm | D9: 450 | E9: 891 | F9: 0.01 | G9: 4.5
A10: 170000005 | B10: LENS-L, SIA | C10: Svešķermeņa evakuācija no konjunktīvas asā ceļā | D10: 5 | E10: 115.5 | F10: 0.59 | G10: 2.95
A11: 170000007 | B11: Smirnova Jevgeņija - ārsta prakse oftalmoloģijā | C11: Acs biomikroskopija abām acīm | D11: 38 | E11: 147.44 | F11: 0.03 | G11: 1.14
A12: 170000007 | B12: Smirnova Jevgeņija - ārsta prakse oftalmoloģijā | C12: Tonometrija abām acīm | D12: 37 | E12: 73.26 | F12: 0.01 | G12: 0.37
A13: 170000010 | B13: Vēvere Inga - ārsta prakse ginekoloģijā, dzemdniecībā | C13: Ginekologa, dzemdību speciālista veikta pirmreizēja vai atkārtota grūtnieces apskate (atbilstoši Ministru kabineta 2006. gada 25. jūlija noteikumiem Nr. 611 "Dzemdību palīdzības nodrošināšanas kārtība") | D13: 505 | E13: 13190.6 | F13: 0.03 | G13: 15.15
A14: 170000010 | B14: Vēvere Inga - ārsta prakse ginekoloģijā, dzemdniecībā | C14: Iztriepes paņemšana seksuāli transmisīvo slimību diagnostikai | D14: 35 | E14: 69.65 | F14: 0.01 | G14: 0.35
A15: 170000010 | B15: Vēvere Inga - ārsta prakse ginekoloģijā, dzemdniecībā | C15: Materiāla paņemšana bakterioloģiskiem uzsējumiem seksuāli transmisīvo slimību diagnostikai | D15: 42 | E15: 148.68 | F15: 0.02 | G15: 0.84
A16: 170000010 | B16: Vēvere Inga - ārsta prakse ginekoloģijā, dzemdniecībā | C16: Doplerogrāfiskās manipulācijas grūtnieces un augļa izmeklēšanā | D16: 46 | E16: 594.78 | F16: 0.03 | G16: 1.38
A17: 170000010 | B17: Vēvere Inga - ārsta prakse ginekoloģijā, dzemdniecībā | C17: Ultrasonogrāfijas izmeklējums ar skausta krokas mērījumu līdz grūtniecības 12. nedēļai, tai skaitā amortizācija ultrasonogrāfijas aparātam. Nenorādīt kopā ar manipulācijām 50695, 50743, 50744 | D17: 104 | E17: 3354 | F17: 0.02 | G17: 2.08
... A8620: 781800005 | B8620: Viļānu slimnīca, Sabiedrība ar ierobežotu atbildību | C8620: Elektrokardiogrammas ar 12 novadījumiem apraksts | D8620: 7 | E8620: 35.49 | F8620: 0.02 | G8620: 0.14
A8621: KOPĀ: | G8621: 213766.66

Sheet 8_pielikums
D1: 8.pielikums Ministru kabineta rīkojuma projektam “Par finanšu līdzekļu piešķiršanu no valsts budžeta programmas “Līdzekļi neparedzētiem gadījumiem”” sākotnējās ietekmes novērtējuma ziņojumam (anotācijai)
A2: Informācija par Ambulatoro pakalpojumu aprūpes epizožu faktiskajiem izdevumiem pievienotās vērtības nodokļa likmes pieauguma segšanai laika posmā no 2021. gada 1. jūlija līdz 2021. gada 30. septembrim par iegādātajām medicīniskajām ierīcēm un precēm, lai nodrošinātu Latvijas Republikas Senāta 2021. gada 22. marta sprieduma administratīvajā lietā Nr. A420143317 (SKA-123/2021) izpildi
A4: ĀI kods (pakalpojumu sniedzēja) | B4: ĀI nosaukums (pakalpojumu sniedzēja) | C4: Specialitāte (pakalpojuma sniedzēja) | D4: Pakalpojumu summ | E4: Epizožu skaits | F4: Tarifs | G4: PVN pieaugums tarifā, EUR | H4: PVN pieaugums, EUR
A5: 001000014 | B5: Marutas Alsbergas ārsta prakse oftalmoloģijā, Sabiedrība ar ierobežotu atbildību | C5: P22 - oftalmologs | D5: 4344.44 | E5: =D5/F5 -> 347 | F5: 12.52 | G5: 0.13 | H5: =E5*G5 -> 45.11
A6: 001000017 | B6: Rasmas Kalniņas ārsta prakse oftalmoloģijā, Sabiedrība ar ierobežotu atbildību | C6: P22 - oftalmologs | D6: 2704.32 | E6: =D6/F6 -> 216 | F6: 12.52 | G6: 0.13 | H6: =E6*G6 -> 28.08
A7: 010000058 | B7: MED ALFA, Sabiedrība ar ierobežotu atbildību | C7: A015 - nefrologs | D7: 1322.1 | E7: =D7/F7 -> 90 | F7: 14.69 | G7: 0.08 | H7: =E7*G7 -> 7.2
A8: 010000114 | B8: ŽANETAS ABRAMSONES ĀRSTA PRAKSE GINEKOLOĢIJĀ UN DZEMDNIECĪBĀ, Sabiedrība ar ierobežotu atbildību | C8: P14 - ginekologs, dzemdību speciālists | D8: 9264.8 | E8: =D8/F8 -> 740 | F8: 12.52 | G8: 0.13 | H8: =E8*G8 -> 96.2
A9: 010000152 | B9: Adamoviča Vivija - ārsta prakse pulmonoloģijā | C9: A013 - pneimonologs | D9: 29.38 | E9: =D9/F9 -> 2 | F9: 14.69 | G9: 0.08 | H9: =E9*G9 -> 0.16
A10: 010000152 | B10: Adamoviča Vivija - ārsta prakse pulmonoloģijā | C10: A155 - bērnu pneimonologs | D10: 113.47 | E10: =D10/F10 -> 7 | F10: 16.21 | G10: 0.06 | H10: =E10*G10 -> 0.42
A11: 010000214 | B11: Diabēta centrs, SIA | C11: A014 - endokrinologs | D11: 10579.86 | E11: =D11/F11 -> 477 | F11: 22.18 | G11: 0.08 | H11: =E11*G11 -> 38.16
A12: 010000230 | B12: AVA CLINIC SIA | C12: P14 - ginekologs, dzemdību speciālists | D12: 2572.68 | E12: 205 | F12: 12.52 | G12: 0.13 | H12: =E12*G12 -> 26.65
A13: 010000287 | B13: Keisa Spodrīte - ārsta prakse endokrinoloģijā | C13: A014 - endokrinologs | D13: 12620.42 | E13: =D13/F13 -> 569 | F13: 22.18 | G13: 0.08 | H13: =E13*G13 -> 45.52
A14: 010000310 | B14: Zābere Lauma - ārsta prakse kardioloģijā | C14: P52 - kardiologs | D14: 9613.5 | E14: =D14/F14 -> 435 | F14: 22.1 | G14: 0.08 | H14: =E14*G14 -> 34.8
A15: 010000480 | B15: Arho Medicīnas Serviss, Sabiedrība ar ierobežotu atbildību | C15: P54 - fizikālās un rehabilitācijas medicīnas ārsts | D15: 146.9 | E15: =D15/F15 -> 10 | F15: 14.69 | G15: 0.08 | H15: =E15*G15 -> 0.8
A16: 010000491 | B16: Kokare Larisa - ārsta prakse endokrinoloģijā | C16: A014 - endokrinologs | D16: 14394.82 | E16: =D16/F16 -> 649 | F16: 22.18 | G16: 0.08 | H16: =E16*G16 -> 51.92
A17: 010000491 | B17: Kokare Larisa - ārsta prakse endokrinoloģijā un dietoloģijā | C17: A014 - endokrinologs | D17: 1219.9 | E17: =D17/F17 -> 55 | F17: 22.18 | G17: 0.08 | H17: =E17*G17 -> 4.4
A18: 010000493 | B18: Veselības centri un doktorāti, SIA | C18: P52 - kardiologs | D18: 2607.8 | E18: =D18/F18 -> 118 | F18: 22.1 | G18: 0.08 | H18: =E18*G18 -> 9.44
A19: 010000502 | B19: Acu veselības centrs, Sabiedrība ar ierobežotu atbildību | C19: P22 - oftalmologs | D19: 5108.16 | E19: =D19/F19 -> 408 | F19: 12.52 | G19: 0.13 | H19: =E19*G19 -> 53.04
A20: 010000535 | B20: LĀZERPLASTIKAS KLĪNIKA, SIA | C20: P12 - bērnu ķirurgs | D20: 3100.63 | E20: =D20/F20 -> 221 | F20: 14.03 | G20: 0.1 | H20: =E20*G20 -> 22.1
A21: 010000535 | B21: LĀZERPLASTIKAS KLĪNIKA, SIA | C21: P27 - dermatologs, venerologs | D21: 1057.68 | E21: =D21/F21 -> 72 | F21: 14.69 | G21: 0.08 | H21: =E21*G21 -> 5.76
A22: 010000873 | B22: LAIMDOTAS BERĢĪTES ĀRSTA PRAKSE, Sabiedrība ar ierobežotu atbildību | C22: P14 - ginekologs, dzemdību speciālists | D22: 7662.24 | E22: =D22/F22 -> 612 | F22: 12.52 | G22: 0.13 | H22: =E22*G22 -> 79.56
A23: 010000945 | B23: VIZUS OPTIMA, Sabiedrība ar ierobežotu atbildību | C23: P22 - oftalmologs | D23: 9364.96 | E23: =D23/F23 -> 748 | F23: 12.52 | G23: 0.13 | H23: =E23*G23 -> 97.24
A24: 010000995 | B24: medicīnas firma "Elpa", Sabiedrība ar ierobežotu atbildību | C24: A013 - pneimonologs | D24: 852.02 | E24: =D24/F24 -> 58 | F24: 14.69 | G24: 0.08 | H24: =E24*G24 -> 4.64
... A28: 010000995 | B28: medicīnas firma "Elpa", Sabiedrība ar ierobežotu atbildību | C28: P52 - kardiologs | D28: 331.5 | E28: =D28/F28 -> 15 | F28: 22.1 | G28: 0.08 | H28: =E28*G28 -> 1.2
A29: 010001273 | B29: VASU, SIA | C29: P14 - ginekologs, dzemdību speciālists | D29: 935.52 | E29: 75 | F29: 12.52 | G29: 0.13 | H29: =E29*G29 -> 9.75
A30: 010001433 | B30: iVF Riga, SIA | C30: P14 - ginekologs, dzemdību speciālists | D30: 584.7 | E30: 47 | F30: 12.52 | G30: 0.13 | H30: =E30*G30 -> 6.11
A31: 010001535 | B31: Rīgas veselības centrs, SIA | C31: A012 - reimatologs | D31: 66.54 | E31: =D31/F31 -> 3 | F31: 22.18 | G31: 0.08 | H31: =E31*G31 -> 0.24
A32: 010001535 | B32: Rīgas veselības centrs, SIA | C32: A1510 - bērnu alergologs | D32: 1685.84 | E32: =D32/F32 -> 104 | F32: 16.21 | G32: 0.06 | H32: =E32*G32 -> 6.24
A33: 010001535 | B33: Rīgas veselības centrs, SIA | C33: A153 - bērnu kardiologs | D33: 8184.96 | E33: =D33/F33 -> 294 | F33: 27.84 | G33: 0.06 | H33: =E33*G33 -> 17.64
A34: 010001535 | B34: Rīgas veselības centrs, SIA | C34: A154 - bērnu reimatologs | D34: 27.84 | E34: =D34/F34 -> 1 | F34: 27.84 | G34: 0.06 | H34: =E34*G34 -> 0.06
A35: 010001535 | B35: Rīgas veselības centrs, SIA | C35: P03 - ķirurgs | D35: 13822.08 | E35: =D35/F35 -> 1104 | F35: 12.52 | G35: 0.13 | H35: =E35*G35 -> 143.52
A36: 010001535 | B36: Rīgas veselības centrs, SIA | C36: P08 - urologs | D36: 6823.4 | E36: =D36/F36 -> 545 | F36: 12.52 | G36: 0.13 | H36: =E36*G36 -> 70.85
A37: 010001535 | B37: Rīgas veselības centrs, SIA | C37: P12 - bērnu ķirurgs | D37: 13398.65 | E37: =D37/F37 -> 955 | F37: 14.03 | G37: 0.1 | H37: =E37*G37 -> 95.5
A38: 010001535 | B38: Rīgas veselības centrs, SIA | C38: P13 - traumatologs, ortopēds | D38: 5233.36 | E38: =D38/F38 -> 418 | F38: 12.52 | G38: 0.13 | H38: =E38*G38 -> 54.34
A39: 010001535 | B39: Rīgas veselības centrs, SIA | C39: P14 - ginekologs, dzemdību speciālists | D39: 39125 | E39: =D39/F39 -> 3125 | F39: 12.52 | G39: 0.13 | H39: =E39*G39 -> 406.25
A40: 010001535 | B40: Rīgas veselības centrs, SIA | C40: P20 - neirologs | D40: 42180 | E40: =D40/F40 -> 1850 | F40: 22.8 | G40: 0.08 | H40: =E40*G40 -> 148
A41: 010001535 | B41: Rīgas veselības centrs, SIA | C41: P22 - oftalmologs | D41: 43131.4 | E41: =D41/F41 -> 3445 | F41: 12.52 | G41: 0.13 | H41: =E41*G41 -> 447.85
A42: 010001535 | B42: Rīgas veselības centrs, SIA | C42: P23 - otolaringologs | D42: 25666 | E42: =D42/F42 -> 2050 | F42: 12.52 | G42: 0.13 | H42: =E42*G42 -> 266.5
... A48: 010001535 | B48: Rīgas veselības centrs, SIA | C48: PP01 - alergologs | D48: 411.32 | E48: =D48/F48 -> 28 | F48: 14.69 | G48: 0.08 | H48: =E48*G48 -> 2.24
A49: 010001694 | B49: MCRA, Sabiedrība ar ierobežotu atbildību | C49: P14 - ginekologs, dzemdību speciālists | D49: 3118.4 | E49: 249 | F49: 12.52 | G49: 0.13 | H49: =E49*G49 -> 32.37
A50: 010019111 | B50: Rīgas Stradiņa universitātes Stomatoloģijas institūts, Sabiedrība ar ierobežotu atbildību | C50: P26 - mutes, sejas un žokļu ķirurgs | D50: 37.56 | E50: =D50/F50 -> 3 | F50: 12.52 | G50: 0.13 | H50: =E50*G50 -> 0.39
A51: 010020301 | B51: Rīgas 1. slimnīca, SIA | C51: A013 - pneimonologs | D51: 102.83 | E51: =D51/F51 -> 7 | F51: 14.69 | G51: 0.08 | H51: =E51*G51 -> 0.56
A52: 010020301 | B52: Rīgas 1. slimnīca, SIA | C52: A014 - endokrinologs | D52: 377.06 | E52: =D52/F52 -> 17 | F52: 22.18 | G52: 0.08 | H52: =E52*G52 -> 1.36
A53: 010020301 | B53: Rīgas 1. slimnīca, SIA | C53: A016 - gastroenterologs | D53: 668.1 | E53: =D53/F53 -> 30 | F53: 22.27 | G53: 0.08 | H53: =E53*G53 -> 2.4
A54: 010020301 | B54: Rīgas 1. slimnīca, SIA | C54: A156 - bērnu endokrinologs | D54: 1392 | E54: =D54/F54 -> 50 | F54: 27.84 | G54: 0.06 | H54: =E54*G54 -> 3
A55: 010020301 | B55: Rīgas 1. slimnīca, SIA | C55: A158 - bērnu gastroenterologs | D55: 696 | E55: =D55/F55 -> 25 | F55: 27.84 | G55: 0.06 | H55: =E55*G55 -> 1.5
A56: 010020301 | B56: Rīgas 1. slimnīca, SIA | C56: P01 - internists | D56: 763.88 | E56: =D56/F56 -> 52 | F56: 14.69 | G56: 0.08 | H56: =E56*G56 -> 4.16
A57: 010020301 | B57: Rīgas 1. slimnīca, SIA | C57: P03 - ķirurgs | D57: 16088.2 | E57: =D57/F57 -> 1285 | F57: 12.52 | G57: 0.13 | H57: =E57*G57 -> 167.05
A58: 010020301 | B58: Rīgas 1. slimnīca, SIA | C58: P04 - neiroķirurgs | D58: 8063.93 | E58: =D58/F58 -> 343 | F58: 23.51 | G58: 0.13 | H58: =E58*G58 -> 44.59
A59: 010020301 | B59: Rīgas 1. slimnīca, SIA | C59: P08 - urologs | D59: 7349.24 | E59: =D59/F59 -> 587 | F59: 12.52 | G59: 0.13 | H59: =E59*G59 -> 76.31
A60: 010020301 | B60: Rīgas 1. slimnīca, SIA | C60: P12 - bērnu ķirurgs | D60: 1262.7 | E60: =D60/F60 -> 90 | F60: 14.03 | G60: 0.1 | H60: =E60*G60 -> 9
A61: 010020301 | B61: Rīgas 1. slimnīca, SIA | C61: P13 - traumatologs, ortopēds | D61: 6961.12 | E61: =D61/F61 -> 556 | F61: 12.52 | G61: 0.13 | H61: =E61*G61 -> 72.28
A62: 010020301 | B62: Rīgas 1. slimnīca, SIA | C62: P14 - ginekologs, dzemdību speciālists | D62: 18066.36 | E62: =D62/F62 -> 1443 | F62: 12.52 | G62: 0.13 | H62: =E62*G62 -> 187.59
A63: 010020301 | B63: Rīgas 1. slimnīca, SIA | C63: P15 - pediatrs | D63: 2165.64 | E63: 78 | F63: 27.84 | G63: 0.06 | H63: =E63*G63 -> 4.68
A64: 010020301 | B64: Rīgas 1. slimnīca, SIA | C64: P18 - anesteziologs, reanimatologs | D64: 9974.51 | E64: =D64/F64 -> 679 | F64: 14.69 | G64: 0.08 | H64: =E64*G64 -> 54.32
A65: 010020301 | B65: Rīgas 1. slimnīca, SIA | C65: P20 - neirologs | D65: 9028.8 | E65: =D65/F65 -> 396 | F65: 22.8 | G65: 0.08 | H65: =E65*G65 -> 31.68
A66: 010020301 | B66: Rīgas 1. slimnīca, SIA | C66: P22 - oftalmologs | D66: 15362.04 | E66: =D66/F66 -> 1227 | F66: 12.52 | G66: 0.13 | H66: =E66*G66 -> 159.51
A67: 010020301 | B67: Rīgas 1. slimnīca, SIA | C67: P23 - otolaringologs | D67: 17114.84 | E67: =D67/F67 -> 1367 | F67: 12.52 | G67: 0.13 | H67: =E67*G67 -> 177.71
A68: 010020301 | B68: Rīgas 1. slimnīca, SIA | C68: P27 - dermatologs, venerologs | D68: 40970.41 | E68: =D68/F68 -> 2789 | F68: 14.69 | G68: 0.08 | H68: =E68*G68 -> 223.12
A69: 010020301 | B69: Rīgas 1. slimnīca, SIA | C69: P52 - kardiologs | D69: 12751.7 | E69: =D69/F69 -> 577 | F69: 22.1 | G69: 0.08 | H69: =E69*G69 -> 46.16
A70: 010020301 | B70: Rīgas 1. slimnīca, SIA | C70: P54 - fizikālās un rehabilitācijas medicīnas ārsts | D70: 8843.38 | E70: =D70/F70 -> 602 | F70: 14.69 | G70: 0.08 | H70: =E70*G70 -> 48.16
A71: 010020301 | B71: Rīgas 1. slimnīca, SIA | C71: P56 - reimatologs | D71: 931.56 | E71: =D71/F71 -> 42 | F71: 22.18 | G71: 0.08 | H71: =E71*G71 -> 3.36
A72: 010020301 | B72: Rīgas 1. slimnīca, SIA | C72: P57 - pneimonologs | D72: 1733.42 | E72: =D72/F72 -> 118 | F72: 14.69 | G72: 0.08 | H72: =E72*G72 -> 9.44
A73: 010020301 | B73: Rīgas 1. slimnīca, SIA | C73: P58 - endokrinologs | D73: 8517.12 | E73: =D73/F73 -> 384 | F73: 22.18 | G73: 0.08 | H73: =E73*G73 -> 30.72
A74: 010020301 | B74: Rīgas 1. slimnīca, SIA | C74: P59 - nefrologs | D74: 1322.1 | E74: =D74/F74 -> 90 | F74: 14.69 | G74: 0.08 | H74: =E74*G74 -> 7.2
A75: 010020301 | B75: Rīgas 1. slimnīca, SIA | C75: P62 - bērnu neirologs | D75: 12500.16 | E75: =D75/F75 -> 449 | F75: 27.84 | G75: 0.06 | H75: =E75*G75 -> 26.94
... A199: 010064120 | B199: Veselības centru apvienība, AS | C199: PP21 - bērnu neirologs | D199: 11330.88 | E199: =D199/F199 -> 407 | F199: 27.84 | G199: 0.06 | H199: =E199*G199 -> 24.42
A200: 010065212 | B200: KLĪNIKA EGV, Sabiedrība ar ierobežotu atbildību | C200: P14 - ginekologs, dzemdību speciālists | D200: 6275.78 | E200: 501 | F200: 12.52 | G200: 0.13 | H200: =E200*G200 -> 65.13
A201: 010065214 | B201: Ūnijas doktorāts, Sabiedrība ar ierobežotu atbildību | C201: P14 - ginekologs, dzemdību speciālists | D201: 1502.4 | E201: =D201/F201 -> 120 | F201: 12.52 | G201: 0.13 | H201: =E201*G201 -> 15.6
A202: 010069102 | B202: Latvijas Universitātes medicīniskās pēcdiploma izglītības institūts, Sabiedrība ar ierobežotu atbildību | C202: A012 - reimatologs | D202: 243.98 | E202: =D202/F202 -> 11 | F202: 22.18 | G202: 0.08 | H202: =E202*G202 -> 0.88
A203: 010069102 | B203: Latvijas Universitātes medicīniskās pēcdiploma izglītības institūts, Sabiedrība ar ierobežotu atbildību | C203: A013 - pneimonologs | D203: 5773.17 | E203: =D203/F203 -> 393 | F203: 14.69 | G203: 0.08 | H203: =E203*G203 -> 31.44
A204: 010069102 | B204: Latvijas Universitātes medicīniskās pēcdiploma izglītības institūts, Sabiedrība ar ierobežotu atbildību | C204: A014 - endokrinologs | D204: 6654 | E204: =D204/F204 -> 300 | F204: 22.18 | G204: 0.08 | H204: =E204*G204 -> 24
A205: 010069102 | B205: Latvijas Universitātes medicīniskās pēcdiploma izglītības institūts, Sabiedrība ar ierobežotu atbildību | C205: P56 - reimatologs | D205: 887.2 | E205: =D205/F205 -> 40 | F205: 22.18 | G205: 0.08 | H205: =E205*G205 -> 3.2
A206: 010069102 | B206: Latvijas Universitātes medicīniskās pēcdiploma izglītības institūts, Sabiedrība ar ierobežotu atbildību | C206: P58 - endokrinologs | D206: 2240.18 | E206: =D206/F206 -> 101 | F206: 22.18 | G206: 0.08 | H206: =E206*G206 -> 8.08
A207: 010077476 | B207: Tihomirova Margarita - ārsta prakse bērnu neiroloģijā | C207: PP21 - bērnu neirologs | D207: 26253.12 | E207: =D207/F207 -> 943 | F207: 27.84 | G207: 0.06 | H207: =E207*G207 -> 56.58
A208: 010077485 | B208: Jūlijas Sočenovas ārsta prakse ginekoloģijā un dzemdniecībā, Sabiedrība ar ierobežotu atbildību | C208: P14 - ginekologs, dzemdību speciālists | D208: 5408.64 | E208: =D208/F208 -> 432 | F208: 12.52 | G208: 0.13 | H208: =E208*G208 -> 56.16
A209: 010077486 | B209: Ingrīdas Šilbergas ārsta prakse ginekoloģijā un dzemdniecībā, SIA | C209: P14 - ginekologs, dzemdību speciālists | D209: 5195.8 | E209: =D209/F209 -> 415 | F209: 12.52 | G209: 0.13 | H209: =E209*G209 -> 53.95
A210: 010077487 | B210: Jansone Rūta - ārsta prakse neiroloģijā | C210: P20 - neirologs | D210: 11559.6 | E210: =D210/F210 -> 507 | F210: 22.8 | G210: 0.08 | H210: =E210*G210 -> 40.56
A211: 019177406 | B211: Jautrītes Liepiņas ārsta prakse otorinolaringoloģijā, Sabiedrība ar ierobežotu atbildību | C211: P23 - otolaringologs | D211: 6848.44 | E211: =D211/F211 -> 547 | F211: 12.52 | G211: 0.13 | H211: =E211*G211 -> 71.11
A212: 019177418 | B212: Ārstes Margaritas Puķītes prakse, Sabiedrība ar ierobežotu atbildību | C212: P14 - ginekologs, dzemdību speciālists | D212: 3893.72 | E212: =D212/F212 -> 311 | F212: 12.52 | G212: 0.13 | H212: =E212*G212 -> 40.43
... A234: 019466201 | B234: AKRONA 12, sabiedrība ar ierobežotu atbildību | C234: P28 - narkologs | D234: 193.76 | E234: =D234/F234 -> 8 | F234: 24.22 | G234: 0.02 | H234: =E234*G234 -> 0.16
A235: 019466202 | B235: Reproduktīvās medicīnas Centrs "EMBRIONS", Sabiedrība ar ierobežotu atbildību | C235: P14 - ginekologs, dzemdību speciālists | D235: 1949 | E235: 156 | F235: 12.52 | G235: 0.13 | H235: =E235*G235 -> 20.28
A236: 019466203 | B236: GREMOŠANAS SLIMĪBU CENTRS "GASTRO", SIA | C236: A016 - gastroenterologs | D236: 22.27 | E236: =D236/F236 -> 1 | F236: 22.27 | G236: 0.08 | H236: =E236*G236 -> 0.08
A237: 019466203 | B237: GREMOŠANAS SLIMĪBU CENTRS "GASTRO", SIA | C237: P18 - anesteziologs, reanimatologs | D237: 18127.46 | E237: =D237/F237 -> 1234 | F237: 14.69 | G237: 0.08 | H237: =E237*G237 -> 98.72
A238: 019466204 | B238: Latvijas plastiskās, rekonstruktīvās un mikroķirurģijas centrs, Sabiedrība ar ierobežotu atbildību | C238: P09 - plastikas ķirurgs | D238: 1076.72 | E238: =D238/F238 -> 86 | F238: 12.52 | G238: 0.13 | H238: =E238*G238 -> 11.18
A239: 019466204 | B239: Latvijas plastiskās, rekonstruktīvās un mikroķirurģijas centrs, Sabiedrība ar ierobežotu atbildību | C239: PP31 - rokas ķirurgs | D239: 12.52 | E239: =D239/F239 -> 1 | F239: 12.52 | G239: 0.13 | H239: =E239*G239 -> 0.13
A240: 019477408 | B240: Kreica Inese - ārsta prakse otolaringoloģijā | C240: P23 - otolaringologs | D240: 9415.04 | E240: =D240/F240 -> 752 | F240: 12.52 | G240: 0.13 | H240: =E240*G240 -> 97.76
A241: 019477410 | B241: Ozola Sarmīte - ārsta prakse neiroloģijā un bērnu neiroloģijā | C241: P20 - neirologs | D241: 5426.4 | E241: =D241/F241 -> 238 | F241: 22.8 | G241: 0.08 | H241: =E241*G241 -> 19.04
A242: 019477410 | B242: Ozola Sarmīte - ārsta prakse neiroloģijā un bērnu neiroloģijā | C242: PP21 - bērnu neirologs | D242: 11637.12 | E242: =D242/F242 -> 418 | F242: 27.84 | G242: 0.06 | H242: =E242*G242 -> 25.08
A243: 019477411 | B243: Vasiļjeva Mārīte - ārsta prakse oftalmoloģijā | C243: P22 - oftalmologs | D243: 8087.92 | E243: =D243/F243 -> 646 | F243: 12.52 | G243: 0.13 | H243: =E243*G243 -> 83.98
A244: 019477427 | B244: Ševele Aija - ārsta prakse otolaringoloģijā | C244: P23 - otolaringologs | D244: 3543.16 | E244: =D244/F244 -> 283 | F244: 12.52 | G244: 0.13 | H244: =E244*G244 -> 36.79
A245: 019477428 | B245: Karstā Malda - ārsta prakse otolaringoloģijā | C245: P23 - otolaringologs | D245: 2666.76 | E245: =D245/F245 -> 213 | F245: 12.52 | G245: 0.13 | H245: =E245*G245 -> 27.69
A246: 019477430 | B246: Sniķere Gita - ārsta prakse ginekoloģijā, dzemdniecībā | C246: P14 - ginekologs, dzemdību speciālists | D246: 5921.96 | E246: =D246/F246 -> 473 | F246: 12.52 | G246: 0.13 | H246: =E246*G246 -> 61.49
A247: 019477456 | B247: Palmbaha Liene - ārsta prakse otolaringoloģijā | C247: P23 - otolaringologs | D247: 3893.72 | E247: =D247/F247 -> 311 | F247: 12.52 | G247: 0.13 | H247: =E247*G247 -> 40.43
... A682: 961600013 | B682: Radziņš Māris - ārsta prakse ķirurģijā | C682: P03 - ķirurgs | D682: 6785.84 | E682: =D682/F682 -> 542 | F682: 12.52 | G682: 0.13 | H682: =E682*G682 -> 70.46
A683: KOPĀ: | H683: =SUM(H5:H682) -> 29198.63

Sheet 9_pielikums
M1: 9.pielikums Ministru kabineta rīkojuma projektam “Par finanšu līdzekļu piešķiršanu no valsts budžeta programmas “Līdzekļi neparedzētiem gadījumiem”” sākotnējās ietekmes novērtējuma ziņojumam (anotācijai)
B2: Informācija par fiksēto ikmēneša maksājumu speciālistu kabinetos faktiskajiem izdevumiem pievienotās vērtības nodokļa likmes pieauguma segšanai laika posmā no 2021.gada 1.jūlija līdz 2021.gada 30.septembrim par iegādātajām medicīniskajām ierīcēm un precēm, lai nodrošinātu Latvijas Republikas Senāta 2021. gada 22. marta sprieduma administratīvajā lietā Nr. A420143317 (SKA-123/2021) izpildi
A4: Ārstniecības iestādes kods | B4: Ārstniecības iestādes nosaukums | C4: Kabineta nosaukums detalizēti | D4: Kabineta plānotais darbības periods mēnešos 2021. gadā | E4: Kabineta darbības periods dienās | F4: Manipulāciju skaits | G4: 1.Kabinetu skaits 2021. gadā | H4: 2.Ārsta slodze plāns 2021. gadam | I4: 3.Māsas slodze plāns 2021. gadam | J4: Kabineta fiksētais maksājums, EUR MK 1 slodzei gadā | K4: Kabineta fiksētais maksājums, EUR MK 1 slodzei mēnesī | L4: Māsai Kabineta fiksētais maksājums, EUR MK 1 slodzei gadā | M4: Māsai Kabineta fiksētais maksājums, EUR MK 1 slodzei mēnesī | N4: Kabineta nodrošinājuma maksājums 2021.gadā, EUR | O4: 4.Kabineta nodrošinājuma maksājums 2021.gadā, EUR | P4: PVN 5%, 2021. gada jūlijs-septembris
A5: 10000152 | B5: Adamoviča Vivija - ārsta prakse pulmonoloģijā | C5: Hronisku obstruktīvu plaušu slimību kabinets | D5: 12 | E5: 240 | F5: 565 | G5: 1 | H5: 1 | I5: 1 | J5: 3956 | K5: 329.66667 | N5: 3956 | O5: 3956 | P5: 49
A6: 10000214 | B6: Diabēta centrs, SIA | C6: Diabētiskās pēdas aprūpes kabinets | D6: 12 | E6: 240 | F6: 797 | G6: 1 | I6: 0.5 | J6: 3820 | K6: 318.33333 | N6: =ROUND(I6*J6,2) -> 1910 | O6: 1910 | P6: 24
A7: 10000995 | B7: medicīnas firma "Elpa", Sabiedrība ar ierobežotu atbildību | C7: Hronisku obstruktīvu plaušu slimību kabinets | D7: 12 | E7: 240 | F7: 100 | G7: 1 | H7: 0.5 | I7: 0.5 | J7: 3956 | K7: 329.66667 | N7: =ROUND(I7*J7,2) -> 1978 | O7: 1978 | P7: 25
A8: 10001535 | B8: Rīgas veselības centrs, SIA | C8: Diabētiskās pēdas aprūpes kabinets | D8: 12 | E8: 240 | F8: 479 | G8: 1 | I8: 0.25 | J8: 3820 | K8: 318.33333 | N8: =ROUND(I8*J8,2) -> 955 | O8: 955 | P8: 12
A9: 10001535 | B9: Rīgas veselības centrs, SIA | C9: Diabētiskās pēdas aprūpes kabinets | D9: 12 | E9: 240 | F9: 478 | G9: 1 | I9: 0.5 | J9: 3820 | K9: 318.33333 | N9: =ROUND(I9*J9,2) -> 1910 | O9: 1910 | P9: 24
A10: 10001989 | B10: Bērnu un pusaudžu resursu centrs, Sabiedrība ar ierobežotu atbildību | C10: Garastāvokļa traucējumu kabinets bērniem | D10: 6 | E10: 120 | G10: 1 | H10: 0 | I10: 5.6 | J10: 3673 | K10: 306.08 | N10: =ROUND(I10*J10,2) -> 20568.8 | O10: 10285 | P10: 257
A11: 10001989 | B11: Bērnu un pusaudžu resursu centrs, Sabiedrība ar ierobežotu atbildību | C11: Garastāvokļa traucējumu kabinets bērniem | D11: 1.09 | E11: 120 | G11: 1 | H11: 0 | I11: 2 | J11: 3673 | K11: 306.08 | N11: =ROUND(I11*J11,2) -> 7346 | O11: 613 | P11: 84
A12: 10001989 | B12: Bērnu un pusaudžu resursu centrs, Sabiedrība ar ierobežotu atbildību | C12: Garastāvokļa traucējumu kabinets bērniem | D12: 6 | E12: 120 | G12: 1 | H12: 9.45 | I12: 0 | J12: 3673 | K12: 306.08 | N12: =ROUND(I12*J12,2) -> 0 | O12: 17355 | P12: 434
A13: 10001989 | B13: Bērnu un pusaudžu resursu centrs, Sabiedrība ar ierobežotu atbildību | C13: Garastāvokļa traucējumu kabinets bērniem | D13: 1.09 | E13: 120 | G13: 1 | H13: 3.2 | I13: 0 | J13: 3673 | K13: 306.08 | N13: =ROUND(I13*J13,2) -> 0 | O13: 980 | P13: 135
A14: 10001989 | B14: Bērnu un pusaudžu resursu centrs, Sabiedrība ar ierobežotu atbildību | C14: Garastāvokļa traucējumu kabinets bērniem | D14: 6 | E14: 120 | G14: 1 | H14: 15.5 | I14: 0 | J14: 3673 | K14: 306.08 | N14: =ROUND(I14*J14,2) -> 0 | O14: 28466 | P14: 712
A15: 10001989 | B15: Bērnu un pusaudžu resursu centrs, Sabiedrība ar ierobežotu atbildību | C15: Garastāvokļa traucējumu kabinets bērniem | D15: 1.09 | E15: 120 | G15: 1 | H15: 2.6 | I15: 0 | J15: 3673 | K15: 306.08 | N15: =ROUND(I15*J15,2) -> 0 | O15: 796 | P15: 110
A16: 10001989 | B16: Bērnu un pusaudžu resursu centrs, Sabiedrība ar ierobežotu atbildību | C16: Garastāvokļa traucējumu kabinets bērniem | D16: 6 | E16: 120 | G16: 1 | H16: 0.35 | I16: 0 | J16: 3673 | K16: 306.08 | N16: =ROUND(I16*J16,2) -> 0 | O16: 643 | P16: 16
A17: 10001989 | B17: Bērnu un pusaudžu resursu centrs, Sabiedrība ar ierobežotu atbildību | C17: Garastāvokļa traucējumu kabinets bērniem | D17: 6 | E17: 120 | G17: 1 | H17: 0.65 | I17: 0 | J17: 3673 | K17: 306.08 | N17: =ROUND(I17*J17,2) -> 0 | O17: 1194 | P17: 30
A18: 10001989 | B18: Bērnu un pusaudžu resursu centrs, Sabiedrība ar ierobežotu atbildību | C18: Garastāvokļa traucējumu kabinets bērniem | D18: 1.09 | E18: 120 | G18: 1 | H18: 0.45 | I18: 0 | J18: 3673 | K18: 306.08 | N18: =ROUND(I18*J18,2) -> 0 | O18: 138 | P18: 19
A19: 10020301 | B19: Rīgas 1. slimnīca, SIA | C19: Diabēta apmācības kabinets | D19: 12 | E19: 240 | F19: 80 | G19: 1 | I19: 0.25 | J19: 3416 | K19: 284.66667 | N19: =ROUND(I19*J19,2) -> 854 | O19: 854 | P19: 11
A20: 10020301 | B20: Rīgas 1. slimnīca, SIA | C20: Stomas kabinets | D20: 12 | E20: 240 | F20: 342 | G20: 1 | I20: 0.75 | J20: 5356 | K20: 446.33333 | N20: =ROUND(I20*J20,2) -> 4017 | O20: 4017 | P20: 50
A21: 10040307 | B21: Latvijas Jūras medicīnas centrs, Akciju sabiedrība | C21: Diabētiskās pēdas aprūpes kabinets | D21: 12 | E21: 240 | F21: 1379 | G21: 1 | I21: 1 | J21: 3820 | K21: 318.33333 | N21: =ROUND(I21*J21,2) -> 3820 | O21: 3820 | P21: 48
A22: 10064111 | B22: Dziedniecība, Sabiedrība ar ierobežotu atbildību | C22: Diabētiskās pēdas aprūpes kabinets | D22: 12 | E22: 240 | F22: 1064 | G22: 1 | I22: 0.75 | J22: 3820 | K22: 318.33333 | N22: =ROUND(I22*J22,2) -> 2865 | O22: 2865 | P22: 36
A23: 10064111 | B23: Dziedniecība, Sabiedrība ar ierobežotu atbildību | C23: Bērnu psihiatra kabinets | D23: 12 | E23: 240 | F23: 44 | G23: 1 | H23: 0.5 | J23: 4367 | K23: 363.91667 | N23: =ROUND(I23*J23,2) -> 0 | O23: 2184 | P23: 27
A24: 10064111 | B24: Dziedniecība, Sabiedrība ar ierobežotu atbildību | C24: GVA māsas kabinets | D24: 12 | F24: 263 | G24: 1 | I24: 0.5 | L24: 3524 | M24: 293.66667 | N24: =ROUND(I24*J24,2) -> 0 | O24: 1762 | P24: 22
A25: 10064111 | B25: Dziedniecība, Sabiedrība ar ierobežotu atbildību | C25: Psihiatra kabinets | D25: 12 | E25: 240 | F25: 342 | G25: 1 | H25: 0.5 | J25: 4367 | K25: 363.91667 | N25: =ROUND(I25*J25,2) -> 0 | O25: 2184 | P25: 27
A26: 10064114 | B26: VESELĪBAS CENTRS 4, Sabiedrība ar ierobežotu atbildību | C26: Diabētiskās pēdas aprūpes kabinets | D26: 12 | E26: 240 | F26: 715 | G26: 1 | I26: 0.5 | J26: 3820 | K26: 318.33333 | N26: =ROUND(I26*J26,2) -> 1910 | O26: 1910 | P26: 24
A27: 10064120 | B27: Veselības centru apvienība, AS | C27: Diabētiskās pēdas aprūpes kabinets | D27: 12 | E27: 240 | F27: 809 | G27: 1 | I27: 0.75 | J27: 3820 | K27: 318.33333 | N27: =ROUND(I27*J27,2) -> 2865 | O27: 2865 | P27: 36
A28: 10064120 | B28: Veselības centru apvienība, AS | C28: Diabētiskās pēdas aprūpes kabinets | D28: 12 | E28: 240 | F28: 288 | G28: 1 | I28: 0.75 | J28: 3820 | K28: 318.33333 | N28: =ROUND(I28*J28,2) -> 2865 | O28: 2865 | P28: 36
A29: 10064120 | B29: Veselības centru apvienība, AS | C29: Diabētiskās pēdas aprūpes kabinets | D29: 12 | E29: 240 | F29: 652 | G29: 1 | I29: 1 | J29: 3820 | K29: 318.33333 | N29: =ROUND(I29*J29,2) -> 3820 | O29: 3820 | P29: 48
A30: 10064120 | B30: Veselības centru apvienība, AS | C30: Diabētiskās pēdas aprūpes kabinets | D30: 12 | E30: 240 | F30: 1554 | G30: 1 | I30: 0.75 | J30: 3820 | K30: 318.33333 | N30: =ROUND(I30*J30,2) -> 2865 | O30: 2865 | P30: 36
A31: 10064120 | B31: Veselības centru apvienība, AS | C31: Diabētiskās pēdas aprūpes kabinets | D31: 12 | E31: 240 | F31: 1660 | G31: 1 | I31: 0.5 | J31: 3820 | K31: 318.33333 | N31: =ROUND(I31*J31,2) -> 1910 | O31: 1910 | P31: 24
A32: 10064120 | B32: Veselības centru apvienība, AS | C32: Diabētiskās pēdas aprūpes kabinets | D32: 12 | E32: 240 | F32: 1765 | G32: 1 | I32: 0.5 | J32: 3820 | K32: 318.33333 | N32: =ROUND(I32*J32,2) -> 1910 | O32: 1910 | P32: 24
A33: 10064120 | B33: Veselības centru apvienība, AS | C33: Hronisku obstruktīvu plaušu slimību kabinets | D33: 12 | E33: 240 | F33: 126 | G33: 1 | H33: 0.5 | I33: 0.5 | J33: 3956 | K33: 329.66667 | N33: =ROUND(I33*J33,2) -> 1978 | O33: 1978 | P33: 25
A34: 10064120 | B34: Veselības centru apvienība, AS | C34: Hronisku obstruktīvu plaušu slimību kabinets | D34: 12 | E34: 240 | F34: 1140 | G34: 1 | H34: 1 | I34: 1 | J34: 3956 | K34: 329.66667 | N34: =ROUND(I34*J34,2) -> 3956 | O34: 3956 | P34: 49
A35: 10064120 | B35: Veselības centru apvienība, AS | C35: Hronisku obstruktīvu plaušu slimību kabinets | D35: 12 | E35: 240 | F35: 0 | G35: 1 | H35: 1 | I35: 1 | J35: 3956 | K35: 329.66667 | N35: =ROUND(I35*J35,2) -> 3956 | O35: 3956 | P35: 49
A36: 10064120 | B36: Veselības centru apvienība, AS | C36: Hronisku obstruktīvu plaušu slimību kabinets | D36: 12 | E36: 240 | F36: 1302 | G36: 1 | H36: 1 | I36: 1 | J36: 3956 | K36: 329.66667 | N36: =ROUND(I36*J36,2) -> 3956 | O36: 3956 | P36: 49
A37: 10064120 | B37: Veselības centru apvienība, AS | C37: Pneimologa kabinets | D37: 12 | E37: 240 | F37: 6048 | G37: 1 | H37: 1 | I37: 1.5 | J37: 4360 | K37: 363.91667 | N37: =ROUND(I37*J37,2) -> 6540 | O37: 4360 | P37: 55
A38: 10064120 | B38: Veselības centru apvienība, AS | C38: GVA māsas kabinets | D38: 12 | F38: 0 | G38: 0 | I38: 1 | L38: 0 | N38: =ROUND(I38*J38,2) -> 0 | O38: 0 | P38: 0
A39: 10064120 | B39: Veselības centru apvienība, AS | C39: psihiatra kabinets | D39: 12 | E39: 240 | F39: 1256 | G39: 1 | H39: 1 | J39: 4367 | K39: 363.91667 | N39: =ROUND(I39*J39,2) -> 0 | O39: 4367 | P39: 55
A40: 10069102 | B40: Latvijas Universitātes medicīniskās pēcdiploma izglītības institūts, Sabiedrība ar ierobežotu atbildību | C40: Hronisku obstruktīvu plaušu slimību kabinets | D40: 12 | E40: 240 | F40: 1069 | G40: 1 | H40: 1 | I40: 1 | J40: 3956 | K40: 329.66667 | N40: =ROUND(I40*J40,2) -> 3956 | O40: 3956 | P40: 49
A41: 19177449 | B41: Jaunušāns Edvīns - ārsta prakse narkoloģijā | C41: Metadona terapijas kabinets | D41: 12 | E41: 240 | F41: 3499 | G41: 1 | I41: 1 | J41: 3416 | K41: 284.66667 | N41: =ROUND(I41*J41,2) -> 3416 | O41: 3416 | P41: 43
A42: 19177449 | B42: Jaunušāns Edvīns - ārsta prakse narkoloģijā | C42: Metadona terapijas kabinets (psihologs) | D42: 12 | E42: 240 | F42: 400 | G42: 1 | H42: 0.5 | J42: 3416 | K42: 284.66667 | N42: =ROUND(I42*J42,2) -> 0 | O42: 1708 | P42: 21
A43: 19177452 | B43: Māras Jumejas ārsta prakse psihiatrijā, SIA | C43: GVA māsas kabinets | D43: 12 | F43: 0 | G43: 1 | I43: 2 | L43: 3524 | M43: 293.66667 | N43: =ROUND(I43*J43,2) -> 0 | O43: 7048 | P43: 88
A44: 19177452 | B44: Māras Jumejas ārsta prakse psihiatrijā, SIA | C44: Psihiatra kabinets | D44: 12 | E44: 240 | F44: 696 | G44: 1 | H44: 1 | J44: 4367 | K44: 363.91667 | N44: =ROUND(I44*J44,2) -> 0 | O44: 4367 | P44: 55
A45: 19177452 | B45: Māras Jumejas ārsta prakse psihiatrijā, SIA | C45: Psihiatra kabinets | D45: 12 | E45: 240 | F45: 1321 | G45: 1 | H45: 1 | J45: 4367 | K45: 363.91667 | N45: =ROUND(I45*J45,2) -> 0 | O45: 4367 | P45: 55
A46: 19177456 | B46: I.Barengo ārsta prakse psihiatrijā, SIA | C46: Bērnu psihiatra kabinets | D46: 12 | E46: 240 | F46: 2581 | G46: 0 | H46: 0.75 | J46: 4367 | K46: 363.91667 | N46: =ROUND(I46*J46,2) -> 0 | O46: 3276 | P46: 41
A47: 19177456 | B47: I.Barengo ārsta prakse psihiatrijā, SIA | C47: GVA māsas kabinets | D47: 8 | G47: 1 | I47: 0.5 | L47: 3524 | M47: 293.66667 | N47: =ROUND(I47*J47,2) -> 0 | O47: 1175 | P47: 22
A48: 19177456 | B48: I.Barengo ārsta prakse psihiatrijā, SIA | C48: Psihiatra kabinets | D48: 12 | E48: 240 | F48: 1347 | G48: 1 | H48: 0.5 | J48: 4367 | K48: 363.91667 | M48: 293.66667 | N48: =ROUND(I48*J48,2) -> 0 | O48: 2184 | P48: 27
A49: 50000037 | B49: MENTAL PRAKSE, Sabiedrība ar ierobežotu atbildību | C49: Bērnu psihiatra kabinets | D49: 12 | E49: 240 | F49: 2909 | G49: 0 | H49: 1 | J49: 4367 | K49: 363.91667 | N49: =ROUND(I49*J49,2) -> 0 | O49: 4367 | P49: 55
A50: 50000037 | B50: MENTAL PRAKSE, Sabiedrība ar ierobežotu atbildību | C50: GVA māsas kabinets | D50: 12 | F50: 17102 | G50: 1 | I50: 2.25 | L50: 3524 | M50: 293.66667 | N50: =ROUND(I50*J50,2) -> 0 | O50: 7929 | P50: 99
A51: 50000037 | B51: MENTAL PRAKSE, Sabiedrība ar ierobežotu atbildību | C51: Psihiatra kabinets | D51: 12 | E51: 240 | F51: 46596 | G51: 1 | H51: 1.25 | J51: 4367 | K51: 363.91667 | M51: 293.66667 | N51: =ROUND(I51*J51,2) -> 0 | O51: 5459 | P51: 68
A52: 50022601 | B52: Daugavpils bērnu veselības centrs, Sabiedrība ar ierobežotu atbildību | C52: Hronisku obstruktīvu plaušu slimību kabinets | D52: 12 | E52: 240 | F52: 1104 | G52: 1 | H52: 1 | I52: 1 | J52: 3956 | K52: 329.66667 | N52: =ROUND(I52*J52,2) -> 3956 | O52: 3956 | P52: 49
A53: 90024101 | B53: Jelgavas poliklīnika, SIA | C53: Diabēta apmācības kabinets | D53: 12 | E53: 240 | F53: 115 | G53: 1 | I53: 0.5 | J53: 3416 | K53: 284.66667 | N53: =ROUND(I53*J53,2) -> 1708 | O53: 1708 | P53: 21
A54: 90024101 | B54: Jelgavas poliklīnika, SIA | C54: Diabētiskās pēdas aprūpes kabinets | D54: 12 | E54: 240 | F54: 1098 | G54: 1 | I54: 1 | J54: 3820 | K54: 318.33333 | N54: =ROUND(I54*J54,2) -> 3820 | O54: 3820 | P54: 48
A55: 90024101 | B55: Jelgavas poliklīnika, SIA | C55: Pneimologa kabinets | D55: 12 | E55: 240 | F55: 2420 | G55: 1 | H55: 1.25 | I55: 1.5 | J55: 4360 | K55: 363.91667 | N55: =ROUND(I55*J55,2) -> 6540 | O55: 5450 | P55: 68
A56: 90024101 | B56: Jelgavas poliklīnika, SIA | C56: Stomas kabinets | D56: 12 | E56: 240 | F56: 131 | G56: 1 | I56: 0.25 | J56: 5356 | K56: 446.33333 | N56: =ROUND(I56*J56,2) -> 1339 | O56: 1339 | P56: 17
A57: 130024102 | B57: Kauguru veselības centrs, Pašvaldības sabiedrība ar ierobežotu atbildību | C57: Diabētiskās pēdas aprūpes kabinets | D57: 12 | E57: 240 | F57: 493 | G57: 1 | I57: 0.5 | J57: 3820 | K57: 318.33333 | N57: =ROUND(I57*J57,2) -> 1910 | O57: 1910 | P57: 24
A58: 130024102 | B58: Kauguru veselības centrs, Pašvaldības sabiedrība ar ierobežotu atbildību | C58: Metadona terapijas kabinets | D58: 12 | E58: 240 | F58: 4948 | G58: 1 | I58: 1 | J58: 3416 | K58: 284.66667 | N58: =ROUND(I58*J58,2) -> 3416 | O58: 3416 | P58: 43
A59: 130024102 | B59: Kauguru veselības centrs, Pašvaldības sabiedrība ar ierobežotu atbildību | C59: Metadona terapijas kabinets (psihologs) | D59: 12 | E59: 240 | F59: 190 | G59: 1 | H59: 0.5 | J59: 3416 | K59: 284.66667 | N59: =ROUND(I59*J59,2) -> 0 | O59: 1708 | P59: 21
A60: 130024102 | B60: Kauguru veselības centrs, Pašvaldības sabiedrība ar ierobežotu atbildību | C60: Bērnu psihiatra kabinets | D60: 12 | E60: 240 | F60: 763 | G60: 0 | H60: 0.25 | J60: 4367 | K60: 363.91667 | N60: =ROUND(I60*J60,2) -> 0 | O60: 1092 | P60: 14
A61: 130024102 | B61: Kauguru veselības centrs, Pašvaldības sabiedrība ar ierobežotu atbildību | C61: GVA māsas kabinets | D61: 12 | F61: 0 | G61: 1 | I61: 1 | L61: 3524 | M61: 293.66667 | N61: =ROUND(I61*J61,2) -> 0 | O61: 3524 | P61: 44
A62: 130024102 | B62: Kauguru veselības centrs, Pašvaldības sabiedrība ar ierobežotu atbildību | C62: Psihiatra kabinets | D62: 12 | E62: 240 | F62: 4333 | G62: 1 | H62: 0.75 | J62: 4367 | K62: 363.91667 | N62: =ROUND(I62*J62,2) -> 0 | O62: 3276 | P62: 41
A63: 130024102 | B63: Kauguru veselības centrs, Pašvaldības sabiedrība ar ierobežotu atbildību | C63: Psihologa/Psihoterapeita kabinets | D63: 12 | E63: 240 | F63: 330 | G63: 1 | H63: 0.5 | J63: 3416 | K63: 284.66667 | M63: 293.66667 | N63: =ROUND(I63*J63,2) -> 0 | O63: 1708 | P63: 21
A64: 130063401 | B64: Klīnika Dzintari, Sabiedrība ar ierobežotu atbildību | C64: GVA māsas kabinets | D64: 12 | E64: 240 | F64: 772 | G64: 1 | I64: 0.5 | L64: 3524 | M64: 293.66667 | N64: =ROUND(I64*J64,2) -> 0 | O64: 1762 | P64: 22
A65: 130063401 | B65: Klīnika Dzintari, Sabiedrība ar ierobežotu atbildību | C65: GVA māsas kabinets | D65: 3 | I65: 0.5 | L65: 3524 | M65: 293.66667 | N65: =ROUND(I65*J65,2) -> 0 | O65: 441 | P65: 22
A66: 130063401 | B66: Klīnika Dzintari, Sabiedrība ar ierobežotu atbildību | C66: psihiatra kabinets | D66: 12 | E66: 240 | F66: 2137 | G66: 1 | H66: 0.5 | J66: 4367 | K66: 363.91667 | M66: 293.66667 | N66: =ROUND(I66*J66,2) -> 0 | O66: 2184 | P66: 27
A67: 130063401 | B67: Klīnika Dzintari, Sabiedrība ar ierobežotu atbildību | C67: psihiatra kabinets | D67: 3 | H67: 0.5 | J67: 4367 | K67: 363.91667 | M67: 293.66667 | N67: =ROUND(I67*J67,2) -> 0 | O67: 546 | P67: 27
A68: 130077419 | B68: Dakteres Skerškānes prakse, Sabiedrība ar ierobežotu atbildību | C68: Funkcionālo speciālistu kabinets | D68: 12 | E68: 240 | F68: 60 | G68: 1 | H68: 1 | J68: 3416 | K68: 284.66667 | M68: 293.66667 | N68: =ROUND(I68*J68,2) -> 0 | O68: 3416 | P68: 43
A69: 130077419 | B69: Dakteres Skerškānes prakse, Sabiedrība ar ierobežotu atbildību | C69: GVA māsas kabinets | D69: 12 | G69: 0 | I69: 1.25 | L69: 0 | N69: =ROUND(I69*J69,2) -> 0 | O69: 0 | P69: 0
A70: 130077419 | B70: Dakteres Skerškānes prakse, Sabiedrība ar ierobežotu atbildību | C70: Psihiatra kabinets | D70: 12 | E70: 240 | F70: 1283 | G70: 1 | H70: 1.25 | J70: 4367 | K70: 363.91667 | N70: =ROUND(I70*J70,2) -> 0 | O70: 5459 | P70: 68
A71: 130077419 | B71: Dakteres Skerškānes prakse, Sabiedrība ar ierobežotu atbildību | C71: Psihologa/Psihoterapeita kabinets | D71: 12 | E71: 240 | G71: 1 | H71: 1 | J71: 3416 | K71: 284.66667 | N71: =ROUND(I71*J71,2) -> 0 | O71: 3416 | P71: 43
A72: 170024104 | B72: JAUNLIEPĀJAS PRIMĀRĀS VESELĪBAS APRŪPES CENTRS, Sabiedrība ar ierobežotu atbildību | C72: Diabēta apmācības kabinets | D72: 12 | E72: 240 | F72: 547 | G72: 1 | H72: 0 | I72: 1.5 | J72: 3416 | K72: 284.66667 | N72: =ROUND(I72*J72,2) -> 5124 | O72: 5124 | P72: 64
A73: 170024104 | B73: JAUNLIEPĀJAS PRIMĀRĀS VESELĪBAS APRŪPES CENTRS, Sabiedrība ar ierobežotu atbildību | C73: Diabētiskās pēdas aprūpes kabinets | D73: 12 | E73: 240 | F73: 1383 | G73: 1 | I73: 1.75 | J73: 3820 | K73: 318.33333 | N73: =ROUND(I73*J73,2) -> 6685 | O73: 6606 | P73: 83
A74: 170024104 | B74: JAUNLIEPĀJAS PRIMĀRĀS VESELĪBAS APRŪPES CENTRS, Sabiedrība ar ierobežotu atbildību | C74: Metadona terapijas kabinets | D74: 12 | E74: 240 | F74: 4589 | G74: 1 | I74: 1.25 | J74: 3416 | K74: 284.66667 | N74: =ROUND(I74*J74,2) -> 4270 | O74: 4270 | P74: 53
A75: 170024104 | B75: JAUNLIEPĀJAS PRIMĀRĀS VESELĪBAS APRŪPES CENTRS, Sabiedrība ar ierobežotu atbildību | C75: Metadona terapijas kabinets (psihologs) | D75: 12 | E75: 240 | F75: 256 | G75: 1 | H75: 1 | J75: 3416 | K75: 284.66667 | N75: =ROUND(I75*J75,2) -> 0 | O75: 3416 | P75: 43
A76: 170077419 | B76: Imanta Zemes ārsta psihiatra prakse, SIA | C76: GVA māsas kabinets | D76: 12 | E76: 240 | F76: 0 | G76: 1 | I76: 1.25 | L76: 3524 | M76: 293.66667 | N76: =ROUND(I76*J76,2) -> 0 | O76: 4405 | P76: 55
A77: 170077419 | B77: Imanta Zemes ārsta psihiatra prakse, SIA | C77: Psihiatra kabinets | D77: 12 | E77: 240 | F77: 4186 | G77: 1 | H77: 1 | J77: 4367 | K77: 363.91667 | M77: 293.66667 | N77: =ROUND(I77*J77,2) -> 0 | O77: 4367 | P77: 55
A78: 170077421 | B78: K.Balodes ārstes prakse, SIA | C78: GVA māsas kabinets | D78: 12 | G78: 1 | I78: 1.25 | L78: 3524 | M78: 293.66667 | N78: =ROUND(I78*J78,2) -> 0 | O78: 4405 | P78: 55
A79: 170077421 | B79: K.Balodes ārstes prakse, SIA | C79: Psihiatra kabinets | D79: 12 | E79: 240 | F79: 7373 | G79: 1 | H79: 1.25 | J79: 4367 | K79: 363.91667 | M79: 293.66667 | N79: =ROUND(I79*J79,2) -> 0 | O79: 5459 | P79: 68
A80: 170077421 | B80: K.Balodes ārstes prakse, SIA | C80: Psihologa/Psihoterapeita kabinets | D80: 12 | E80: 240 | F80: 70 | G80: 1 | H80: 0.5 | J80: 3416 | K80: 284.66667 | M80: 293.66667 | N80: =ROUND(I80*J80,2) -> 0 | O80: 1708 | P80: 21
A81: 170077426 | B81: Lindas Ķeružes psihiatrijas centrs, Sabiedrība ar ierobežotu atbildību | C81: Bērnu psihiatra kabinets | D81: 12 | E81: 240 | F81: 1310 | G81: 0 | H81: 1 | J81: 4367 | K81: 363.91667 | N81: =ROUND(I81*J81,2) -> 0 | O81: 4367 | P81: 55
A82: 170077426 | B82: Lindas Ķeružes psihiatrijas centrs, Sabiedrība ar ierobežotu atbildību | C82: GVA māsas kabinets | D82: 12 | E82: 240 | F82: 0 | G82: 1 | I82: 1.25 | L82: 3524 | M82: 293.66667 | N82: =ROUND(I82*J82,2) -> 0 | O82: 4405 | P82: 55
A83: 170077426 | B83: Lindas Ķeružes psihiatrijas centrs, Sabiedrība ar ierobežotu atbildību | C83: GVA māsas kabinets | D83: 12 | E83: 240 | F83: 0 | G83: 0 | I83: 0.5 | L83: 3524 | M83: 293.66667 | N83: =ROUND(I83*J83,2) -> 0 | O83: 1762 | P83: 22
A84: 170077426 | B84: Lindas Ķeružes psihiatrijas centrs, Sabiedrība ar ierobežotu atbildību | C84: Psihiatra kabinets | D84: 12 | E84: 240 | F84: 12560 | G84: 1 | H84: 0.25 | J84: 4367 | K84: 363.91667 | M84: 293.66667 | N84: =ROUND(I84*J84,2) -> 0 | O84: 1092 | P84: 14
A85: 170077426 | B85: Lindas Ķeružes psihiatrijas centrs, Sabiedrība ar ierobežotu atbildību | C85: Psihologa/Psihoterapeita kabinets | D85: 12 | E85: 240 | F85: 43 | G85: 1 | H85: 0.5 | J85: 3416 | K85: 284.66667 | M85: 293.66667 | N85: =ROUND(I85*J85,2) -> 0 | O85: 1708 | P85: 21
A86: 170077426 | B86: Lindas Ķeružes psihiatrijas centrs, Sabiedrība ar ierobežotu atbildību | C86: Psihologa/Psihoterapeita kabinets | D86: 12 | E86: 240 | F86: 43 | G86: 1 | H86: 0.5 | J86: 3416 | K86: 284.66667 | M86: 293.66667 | N86: =ROUND(I86*J86,2) -> 0 | O86: 1708 | P86: 21
A87: 170077441 | B87: A.Lucenko ārsta prakse, SIA | C87: Diabēta apmācības kabinets | D87: 12 | E87: 240 | F87: 421 | G87: 1 | H87: 0 | I87: 0.25 | J87: 3416 | K87: 284.66667 | N87: 854 | O87: 854 | P87: 11
A88: 210000007 | B88: Maksimova Jeļena - ārsta prakse psihiatrijā un narkoloģijā | C88: GVA māsas kabinets | D88: 12 | F88: 0 | G88: 1 | I88: 1 | L88: 3524 | M88: 293.66667 | N88: =ROUND(I88*J88,2) -> 0 | O88: 3524 | P88: 44
A89: 210000007 | B89: Maksimova Jeļena - ārsta prakse psihiatrijā un narkoloģijā | C89: Psihiatra kabinets | D89: 12 | E89: 240 | F89: 4403 | G89: 1 | H89: 1 | J89: 4367 | K89: 363.91667 | M89: 293.66667 | N89: =ROUND(I89*J89,2) -> 0 | O89: 4367 | P89: 55
A90: 210000013 | B90: Ritas Nalivaiko ārsta prakse psihiatrijā, Sabiedrība ar ierobežotu atbildību | C90: GVA māsas kabinets | D90: 12 | G90: 1 | I90: 1.25 | L90: 3524 | M90: 293.66667 | N90: =ROUND(I90*J90,2) -> 0 | O90: 4405 | P90: 55
A91: 210000013 | B91: Ritas Nalivaiko ārsta prakse psihiatrijā, Sabiedrība ar ierobežotu atbildību | C91: Psihiatra kabinets | D91: 12 | E91: 240 | F91: 13316 | G91: 1 | H91: 1.25 | J91: 4367 | K91: 363.91667 | M91: 293.66667 | N91: =ROUND(I91*J91,2) -> 0 | O91: 5459 | P91: 68
A92: 210000053 | B92: Jakubova Tatjana - ārsta prakse psihiatrijā un bērnu psihiatrijā | C92: Bērnu psihiatra kabinets | D92: 12 | E92: 240 | F92: 7912 | G92: 0 | H92: 1 | J92: 4367 | K92: 363.91667 | N92: =ROUND(I92*J92,2) -> 0 | O92: 4367 | P92: 55
A93: 210000053 | B93: Jakubova Tatjana - ārsta prakse psihiatrijā un bērnu psihiatrijā | C93: GVA māsas kabinets | D93: 12 | F93: 4 | G93: 1 | I93: 1.25 | L93: 3524 | M93: 293.66667 | N93: =ROUND(I93*J93,2) -> 0 | O93: 4405 | P93: 55
A94: 210000053 | B94: Jakubova Tatjana - ārsta prakse psihiatrijā un bērnu psihiatrijā | C94: Psihiatra kabinets | D94: 12 | E94: 240 | F94: 333 | G94: 1 | H94: 0.25 | J94: 4367 | K94: 363.91667 | M94: 293.66667 | N94: =ROUND(I94*J94,2) -> 0 | O94: 1092 | P94: 14
A95: 210000053 | B95: Jakubova Tatjana - ārsta prakse psihiatrijā un bērnu psihiatrijā | C95: Psihologa/Psihoterapeita kabinets | D95: 12 | E95: 240 | F95: 324 | G95: 1 | H95: 0.5 | J95: 3416 | K95: 284.66667 | M95: 293.66667 | N95: =ROUND(I95*J95,2) -> 0 | O95: 1708 | P95: 21
A96: 250000087 | B96: VALMIERAS VESELĪBAS CENTRS, SIA | C96: Hronisku obstruktīvu plaušu slimību kabinets | D96: 12 | E96: 240 | F96: 590 | G96: 1 | H96: 0.25 | I96: 0.25 | J96: 3956 | K96: 329.66667 | N96: =ROUND(I96*J96,2) -> 989 | O96: 989 | P96: 12
A97: 270024101 | B97: Ventspils poliklīnika, Pašvaldības SIA | C97: Diabētiskās pēdas aprūpes kabinets | D97: 12 | E97: 240 | F97: 1024 | G97: 1 | I97: 0.75 | J97: 3820 | K97: 318.33333 | N97: =ROUND(I97*J97,2) -> 2865 | O97: 2865 | P97: 36
A98: 270024101 | B98: Ventspils poliklīnika, Pašvaldības SIA | C98: GVA māsas kabinets | D98: 12 | F98: 0 | G98: 0 | I98: 1 | L98: 0 | M98: 293.66667 | N98: =ROUND(I98*J98,2) -> 0 | O98: 0 | P98: 0
A99: 270024101 | B99: Ventspils poliklīnika, Pašvaldības SIA | C99: Psihiatra kabinets | D99: 12 | E99: 240 | F99: 1911 | G99: 1 | H99: 1 | J99: 4367 | K99: 363.91667 | M99: 293.66667 | N99: =ROUND(I99*J99,2) -> 0 | O99: 4367 | P99: 55
A100: 270064003 | B100: DZIEDINĀTAVA, SIA | C100: Diabētiskās pēdas aprūpes kabinets | D100: 12 | E100: 240 | F100: 1970 | G100: 1 | I100: 1.5 | J100: 3820 | K100: 318.33333 | N100: =ROUND(I100*J100,2) -> 5730 | O100: 5730 | P100: 72
A101: 270065202 | B101: BINI, SIA | C101: Pneimologa kabinets | D101: 12 | E101: 240 | F101: 1391 | G101: 1 | H101: 0 | I101: 0.25 | J101: 4360 | K101: 363.91667 | N101: =ROUND(I101*J101,2) -> 1090 | O101: 1090 | P101: 14
...

Sheet 10_pielikums
T1: 10.pielikums Ministru kabineta rīkojuma projektam “Par finanšu līdzekļu piešķiršanu no valsts budžeta programmas “Līdzekļi neparedzētiem gadījumiem”” sākotnējās ietekmes novērtējuma ziņojumam (anotācijai)
A2: Informācija par stacionāro veselības aprūpes faktiskajiem izdevumiem pievienotās vērtības nodokļa likmes pieauguma segšanai laika posmā no 2021. gada 1. jūlija līdz 2021. gada 31. oktobrim par iegādātajām medicīniskajām ierīcēm un precēm, lai nodrošinātu Latvijas Republikas Senāta 2021. gada 22. marta sprieduma administratīvajā lietā Nr. A420143317 (SKA-123/2021) izpildi
A4: N.p.k. | B4: Ārstniecības iestāde | C4: Jūlijs | G4: Augusts | K4: Septembris | O4: Oktobris | S4: KOPĀ
C5: Summa bez PVN | D5: PVN summa ar 21 % likmi, euro | E5: PVN summa ar 12 % likmi, euro | F5: Starpība, euro | G5: Summa bez PVN | H5: PVN summa ar 21 % likmi, euro | I5: PVN summa ar 12 % likmi, euro | J5: Starpība, euro | K5: Summa bez PVN | L5: PVN summa ar 21 % likmi, euro | M5: PVN summa ar 12 % likmi, euro | N5: Starpība, euro | O5: Summa bez PVN | P5: PVN summa ar 21 % likmi, euro | Q5: PVN summa ar 12 % likmi, euro | R5: Starpība, euro | S5: Summa bez PVN | T5: PVN summa ar 21 % likmi, euro | U5: PVN summa ar 12 % likmi, euro | V5: Starpība, euro
A6: 1 | B6: 2 | C6: 3 | D6: 4 | E6: 5 | F6: 6 | G6: 7 | H6: 8 | I6: 9 | J6: 10 | K6: 11 | L6: 12 | M6: 13 | N6: 14 | O6: 15 | P6: 16 | Q6: 17 | R6: 18 | S6: 19 | T6: 20 | U6: 21 | V6: 22
B7: KOPĀ | C7: 4881582.3 | D7: 1027373.2 | E7: 587070.3 | F7: 440302.88 | G7: 5581554 | H7: 1175338.7 | I7: 671621.7 | J7: 503717.01 | K7: 5852182.3 | L7: 1231361.9 | M7: 703634.82 | N7: 527727.09 | O7: 5885631 | P7: 1239042.5 | Q7: 708023.99 | R7: 531018.48 | S7: 22200950 | T7: 4673116.3 | U7: 2670350.8 | V7: 2002765.5
A8: 1 | B8: VSIA "Bērnu klīniskā universitātes slimnīca" | C8: 163273.25 | D8: 34287.53 | E8: 19592.86 | F8: 14694.67 | G8: 269735.12 | H8: 56644.74 | I8: 32368.39 | J8: 24276.35 | K8: 261520.95 | L8: 54919.68 | M8: 31382.67 | N8: 23537.01 | O8: 253170.1 | P8: 53166.04 | Q8: 30380.59 | R8: 22785.45 | S8: 947699.42 | T8: 199017.99 | U8: 113724.51 | V8: 85293.48
A9: 2 | B9: VSIA "Paula Stradiņa klīniskā universitātes slimnīca" | C9: 2499598.3 | D9: 524915.83 | E9: 299951.8 | F9: 224964.03 | G9: 2806417.9 | H9: 589348.23 | I9: 336770.02 | J9: 252578.21 | K9: 2771050.1 | L9: 581920.8 | M9: 332525.96 | N9: 249394.84 | O9: 2544547 | P9: 534355.01 | Q9: 305345.7 | R9: 229009.31 | S9: 10621613 | T9: 2230539.9 | U9: 1274593.5 | V9: 955946.39
A10: 3 | B10: SIA “Rīgas Austrumu klīniskās universitātes slimnīca” | C10: 1285974.6 | D10: 270054.78 | E10: 154317.54 | F10: 115737.24 | G10: 1276012.3 | H10: 267962.59 | I10: 153122.24 | J10: 114840.35 | K10: 1478257.3 | L10: 310434.05 | M10: 177391.35 | N10: 133042.7 | O10: 1512447.9 | P10: 317614.21 | Q10: 181494.32 | R10: 136119.89 | S10: 5552692.1 | T10: 1166065.6 | U10: 666325.45 | V10: 499740.18
A11: 4 | B11: SIA "Liepājas reģionālā slimnīca" | C11: 129444 | D11: 27183.4 | E11: 15533.18 | F11: 11650.22 | G11: 152171.68 | H11: 31956.24 | I11: 18260.61 | J11: 13695.63 | K11: 146463.32 | L11: 30757.48 | M11: 17575.56 | N11: 13181.92 | O11: 153227.09 | P11: 32177.83 | Q11: 18387.17 | R11: 13790.66 | S11: 581306.09 | T11: 122074.95 | U11: 69756.52 | V11: 52318.43
A12: 5 | B12: SIA "Daugavpils reģionālā slimnīca" | C12: 155603.01 | D12: 34915.99 | E12: 19951.9 | F12: 14964.09 | G12: 242148.53 | H12: 54061.33 | I12: 30892.15 | J12: 23169.18 | K12: 283298.99 | L12: 61894.65 | M12: 35368.23 | N12: 26526.42 | O12: 309038.4 | P12: 67956.1 | Q12: 38832.09 | R12: 29124.01 | S12: 990088.93 | T12: 218828.07 | U12: 125044.37 | V12: 93783.7
A13: 6 | B13: SIA "Ziemeļkurzemes reģionālā slimnīca" | C13: 46060.496 | D13: 9672.76 | E13: 5527.27 | F13: 4145.49 | G13: 69283.898 | H13: 14549.66 | I13: 8314.07 | J13: 6235.59 | K13: 81450.087 | L13: 17104.5 | M13: 9773.94 | N13: 7330.56 | O13: 94950.829 | P13: 19939.66 | Q13: 11394.16 | R13: 8545.5 | S13: 291745.31 | T13: 61266.58 | U13: 35009.44 | V13: 26257.14
A14: 7 | B14: SIA Jelgavas pilsētas slimnīca | C14: 13516.02 | D14: 2838.45 | E14: 1621.92 | F14: 1216.53 | G14: 19710.22 | H14: 4139.22 | I14: 2365.22 | J14: 1774 | K14: 25980.05 | L14: 5455.9 | M14: 3117.6 | N14: 2338.3 | O14: 29080.11 | P14: 6106.87 | Q14: 3489.63 | R14: 2617.24 | S14: 88286.4 | T14: 18540.44 | U14: 10594.37 | V14: 7946.07
A15: 8 | B15: SIA Vidzemes slimnīca | C15: 68557.63 | D15: 14397.34 | E15: 8226.92 | F15: 6170.42 | G15: 100782.81 | H15: 21164.74 | I15: 12093.94 | J15: 9070.8 | K15: 108907.74 | L15: 22870.94 | M15: 13068.93 | N15: 9802.01 | O15: 147572.9 | P15: 30990.51 | Q15: 17708.75 | R15: 13281.76 | S15: 425821.08 | T15: 89423.53 | U15: 51098.54 | V15: 38324.99
A16: 9 | B16: SIA Jēkabpils reģionālā slimnīca | C16: 14706.69 | D16: 3088.44 | E16: 1764.82 | F16: 1323.62 | G16: 37729.15 | H16: 7923.22 | I16: 4527.54 | J16: 3395.68 | K16: 50059.31 | L16: 10512.59 | M16: 6007.13 | N16: 4505.46 | O16: 49169.06 | P16: 10325.63 | Q16: 5900.3 | R16: 4425.33 | S16: 151664.21 | T16: 31849.88 | U16: 18199.79 | V16: 13650.09
A17: 10 | B17: SIA Rēzeknes slimnīca | C17: 33315.85 | D17: 6996.41 | E17: 3997.9 | F17: 2998.51 | G17: 27229.18 | H17: 5718.19 | I17: 3267.52 | J17: 2450.67 | K17: 48945.07 | L17: 10278.59 | M17: 5873.44 | N17: 4405.15 | O17: 52585.95 | P17: 11043.17 | Q17: 6310.36 | R17: 4732.81 | S17: 162076.05 | T17: 34036.36 | U17: 19449.22 | V17: 14587.14
A18: 11 | B18: SIA Jūrmalas slimnīca | C18: 21421.51 | D18: 4498.59 | E18: 2570.62 | F18: 1927.97 | G18: 32025.45 | H18: 6725.48 | I18: 3843.03 | J18: 2882.45 | K18: 42814.78 | L18: 8991.23 | M18: 5137.77 | N18: 3853.46 | O18: 18224.41 | P18: 3827.17 | Q18: 2186.98 | R18: 1640.19 | S18: 114486.15 | T18: 24042.47 | U18: 13738.4 | V18: 10304.07
A19: 12 | B19: VSIA "Rīgas psihiatrijas un narkoloģijas centrs" | C19: 20386.85 | D19: 4281.24 | E19: 2446.45 | F19: 1834.79 | G19: 19424.85 | H19: 4079.25 | I19: 2330.98 | J19: 1748.27 | K19: 17487.14 | L19: 3672.3 | M19: 2098.46 | N19: 1573.84 | O19: 13085.54 | P19: 2747.99 | Q19: 1570.24 | R19: 1177.75 | S19: 70384.38 | T19: 14780.78 | U19: 8446.13 | V19: 6334.65
... A43: 36 | B43: Bērnu psihoneiroloģiskā slimnīca "Ainaži" | C43: 168.59 | D43: 35.4 | E43: 20.24 | F43: 15.16 | G43: 91.84 | H43: 19.28 | I43: 11.02 | J43: 8.26 | K43: 109.88 | L43: 23.07 | M43: 13.19 | N43: 9.88 | O43: 229.74 | P43: 48.25 | Q43: 27.57 | R43: 20.68 | S43: 600.05 | T43: 126 | U43: 72.02 | V43: 53.98

Sheet 11_pielikums
D1: 11.pielikums Ministru kabineta rīkojuma projektam “Par finanšu līdzekļu piešķiršanu no valsts budžeta programmas “Līdzekļi neparedzētiem gadījumiem”” sākotnējās ietekmes novērtējuma ziņojumam (anotācijai)
A3: Informācija par ambulatoro laboratorisko izmeklējumu faktiskajiem izdevumiem pievienotās vērtības nodokļa likmes pieauguma segšanai laika posmā no 2021. gada 1. jūlija līdz 2021. gada 30. septembrim par iegādātajām medicīniskajām ierīcēm un precēm, lai nodrošinātu Latvijas Republikas Senāta 2021. gada 22. marta sprieduma administratīvajā lietā Nr. A420143317 (SKA-123/2021) izpildi
A5: ĀI kods (pakalpojumu sniedzēja) | B5: ĀI nosaukums (pakalpojumu sniedzēja) | C5: Manipulācijas nosaukums | D5: Manipulāciju skaits | E5: Pakalpojumu summa bez PVN pieauguma | F5: Manipulācijas tarifa PVN pieaugums, EUR | G5: Summa PVN pieaugums, EUR
A6: 270024101 | B6: Ventspils poliklīnika, Pašvaldības SIA | C6: Seruma (plazmas) iegūšana | D6: 285 | E6: 131.1 | F6: 0 | G6: 0
A7: 270024101 | B7: Ventspils poliklīnika, Pašvaldības SIA | C7: Asins ņemšana ar slēgtu sistēmu vienā stobriņā | D7: 71 | E7: 92.3 | F7: 0.02 | G7: 1.42
A8: 270024101 | B8: Ventspils poliklīnika, Pašvaldības SIA | C8: Asins ņemšana ar slēgtu sistēmu divos stobriņos | D8: 105 | E8: 151.2 | F8: 0.03 | G8: 3.15
A9: 270024101 | B9: Ventspils poliklīnika, Pašvaldības SIA | C9: Asins ņemšana ar slēgtu sistēmu trijos stobriņos | D9: 100 | E9: 160 | F9: 0.03 | G9: 3
A10: 270024101 | B10: Ventspils poliklīnika, Pašvaldības SIA | C10: Kapilāru asins ņemšana ar mikrotaineru | D10: 416 | E10: 361.92 | F10: 0.02 | G10: 8.32
A11: 270024101 | B11: Ventspils poliklīnika, Pašvaldības SIA | C11: Eritrocītu grimšanas ātrums, izmantojot speciālo ņemšanas komplektu (seditainers u. c.) | D11: 60 | E11: 39.6 | F11: 0.01 | G11: 0.6
A12: 270024101 | B12: Ventspils poliklīnika, Pašvaldības SIA | C12: Pilna asins aina (hemoglobīns, eritrocīti, leikocīti, trombocīti, hematokrīts, leikocītu formula (vismaz neitrofīli, eozinofīli, bazofīli, limfocīti, monocīti)). Papildus nenorādīt manipulācijas 40010, 40014 | D12: 880 | E12: 3722.4 | F12: 0.05 | G12: 44
A13: 270024101 | B13: Ventspils poliklīnika, Pašvaldības SIA | C13: Nepilna asins aina (hemoglobīns, eritrocīti, leikocīti, trombocīti, hematokrīts). Papildus nenorādīt manipulāciju 40010 | D13: 326 | E13: 596.58 | F13: 0.02 | G13: 6.52
A14: 270024101 | B14: Ventspils poliklīnika, Pašvaldības SIA | C14: Protrombīns, protrombīna komplekss un INR | D14: 173 | E14: 413.47 | F14: 0.03 | G14: 5.19
A15: 270024101 | B15: Ventspils poliklīnika, Pašvaldības SIA | C15: Aktivētais parciālais tromboplastīna laiks (APTL) | D15: 56 | E15: 154.56 | F15: 0.03 | G15: 1.68
A16: 270024101 | B16: Ventspils poliklīnika, Pašvaldības SIA | C16: Urīna analīze ar teststrēmeli (9?10 parametri) | D16: 673 | E16: 982.58 | F16: 0.02 | G16: 13.46
A17: 270024101 | B17: Ventspils poliklīnika, Pašvaldības SIA | C17: Urīna sedimenta standartizēta mikroskopija | D17: 311 | E17: 612.67 | F17: 0 | G17: 0
... A1440: 440800001 | B1440: Veselības centrs Ilūkste, Sabiedrība ar ierobežotu atbildību | C1440: Nepilna asins aina (hemoglobīns, eritrocīti, leikocīti, trombocīti, hematokrīts). Papildus nenorādīt manipulāciju 40010 | D1440: 89 | E1440: 162.87 | F1440: 0.02 | G1440: 1.78
A1441: KOPĀ: | G1441: 164775.67

Sheet 12_pielikums
F1: 12.pielikums Ministru kabineta rīkojuma projektam “Par finanšu līdzekļu piešķiršanu no valsts budžeta programmas “Līdzekļi neparedzētiem gadījumiem”” sākotnējās ietekmes novērtējuma ziņojumam (anotācijai)
A3: Neatliekamās medicīniskās palīdzības nodrošināšanai faktiskajiem izdevumiem pievienotās vērtības nodokļa likmes pieauguma segšanai laika posmā no 2021. gada 1. jūlija līdz 2021. gada 31. oktobrim par iegādātajām medicīniskajām ierīcēm un precēm, lai nodrošinātu Latvijas Republikas Senāta 2021. gada 22. marta sprieduma administratīvajā lietā Nr. A420143317 (SKA-123/2021) izpildi
A5: Nosaukums | B5: Daudzums | C5: Mērvienība | D5: PVN likme 12% | E5: Iegādes cena bez PVN | F5: Summa, EUR | G5: PVN likme 21% | H5: Summa, EUR
A6: Kapnometra filtra līnija intubētam pacientam | B6: 33 | C6: gab. | D6: 1.12 | E6: 13.76 | F6: =(D6*E6)*B6 -> 508.5696 | G6: 1.21 | H6: =(E6*G6)*B6 -> 549.4368
A7: Urbis kraniotomijai F2/8TA | B7: 3 | C7: gab. | D7: 1.12 | E7: 80 | F7: =(D7*E7)*B7 -> 268.8 | G7: 1.21 | H7: =(E7*G7)*B7 -> 290.4
A8: Urbis kraniotomijai F2/8TA | B8: 18 | C8: gab. | D8: 1.12 | E8: 80 | F8: =(D8*E8)*B8 -> 1612.8 | G8: 1.21 | H8: =(E8*G8)*B8 -> 1742.4
A9: Urbis kraniotomijai F2/8TA | B9: 2 | C9: gab. | D9: 1.12 | E9: 80 | F9: =(D9*E9)*B9 -> 179.2 | G9: 1.21 | H9: =(E9*G9)*B9 -> 193.6
A10: Kapnometra filtra līnija intubētam pacientam | B10: 17 | C10: gab. | D10: 1.12 | E10: 13.76 | F10: =(D10*E10)*B10 -> 261.9904 | G10: 1.21 | H10: =(E10*G10)*B10 -> 283.0432
A11: Urbis kraniotomijai F2/8TA | B11: 7 | C11: gab. | D11: 1.12 | E11: 80 | F11: =(D11*E11)*B11 -> 627.2 | G11: 1.21 | H11: =(E11*G11)*B11 -> 677.6
A12: Vienreizlietojamie halāti | B12: 250 | C12: gab. | D12: 1.12 | E12: 0.5 | F12: =(D12*E12)*B12 -> 140 | G12: 1.21 | H12: =(E12*G12)*B12 -> 151.25
A13: Bahilas | B13: 150 | C13: pāri | D13: 1.12 | E13: 0.7 | F13: =(D13*E13)*B13 -> 117.6 | G13: 1.21 | H13: =(E13*G13)*B13 -> 127.05
A14: Bahilas | B14: 200 | C14: pāri | D14: 1.1200153 | E14: 0.69999047 | F14: =(D14*E14)*B14 -> 156.8 | G14: 1.21 | H14: =(E14*G14)*B14 -> 169.39769
A15: Matraču pārklājs ar gumiju | B15: 300 | C15: gab. | D15: 1.12 | E15: 0.475 | F15: =(D15*E15)*B15 -> 159.6 | G15: 1.21 | H15: =(E15*G15)*B15 -> 172.425
A16: Matraču pārklājs ar gumiju | B16: 300 | C16: gab. | D16: 1.12 | E16: 0.475 | F16: =(D16*E16)*B16 -> 159.6 | G16: 1.21 | H16: =(E16*G16)*B16 -> 172.425
A17: Matraču pārklājs ar gumiju | B17: 300 | C17: gab. | D17: 1.12 | E17: 0.475 | F17: =(D17*E17)*B17 -> 159.6 | G17: 1.21 | H17: =(E17*G17)*B17 -> 172.425
... A1975: Monitorēšanas elektrodi | B1975: 60000 | C1975: gab. | D1975: 1.12 | E1975: 0.0308 | F1975: =(D1975*E1975)*B1975 -> 2069.76 | G1975: 1.21 | H1975: =(E1975*G1975)*B1975 -> 2236.08
A1976: KOPĀ: | F1976: =SUM(F6:F1975) -> 401756.05 | H1976: =SUM(H6:H1975) -> 434040.07
A1977: Izmaksu pieaugums KOPĀ: | H1977: =SUM(H1976)-F1976 -> 32284.014

Sheet 13_pielikums
G1: 13.pielikums Ministru kabineta rīkojuma projektam “Par finanšu līdzekļu piešķiršanu no valsts budžeta programmas “Līdzekļi neparedzētiem gadījumiem”” sākotnējās ietekmes novērtējuma ziņojumam (anotācijai)
A3: Tiesu medicīnisko ekspertīžu nodrošināšanai faktiskajiem izdevumiem pievienotās vērtības nodokļa likmes pieauguma segšanai laika posmā no 2021. gada 1. jūlija līdz 2021. gada 31. oktobrim par iegādātajām medicīniskajām ierīcēm un precēm, lai nodrošinātu Latvijas Republikas Senāta 2021. gada 22. marta sprieduma administratīvajā lietā Nr. A420143317 (SKA-123/2021) izpildi
A5: Preču grupa/Nosaukums | D5: Daudzums | E5: 1 vienības izmaksas bez PVN | F5: 1 vienības PVN summas izmaiņas | I5: Finansiālā ietekme
F6: PVN 12% | G6: PVN 21% | H6: Summas izmaiņas
A7: 1 | D7: 2 | E7: 3 | F7: 4=3*12/100 | G7: 5=3*21/100 | H7: 6=5-4 | I7: 7=2*6
A8: Vienreizlietojamie cimdi | F8: =SUM(F9:F15) -> 6.3108 | G8: =SUM(G9:G15) -> 11.0439 | H8: =SUM(H9:H15) -> 4.7331 | I8: =SUM(I9:I15) -> 274.86
A9: Cimdi nitrila b/p M izmērs (100gb./iep.) | B9: =101.666666666667 -> 101.66667 | C9: 0.33 | D9: =SUM(B9)*C9 -> 33.55 | E9: 10.46 | F9: =ROUND(E9*12/100,4) -> 1.2552 | G9: =ROUND(E9*21/100,4) -> 2.1966 | H9: =ROUND(G9-F9,4) -> 0.9414 | I9: =ROUND(H9*D9,2) -> 31.58
A10: Cimdi nitrila b/p S izmērs (100gb./iep.) | B10: 278 | C10: 0.33 | D10: =SUM(B10)*C10 -> 91.74 | E10: 10.46 | F10: =ROUND(E10*12/100,4) -> 1.2552 | G10: =ROUND(E10*21/100,4) -> 2.1966 | H10: =ROUND(G10-F10,4) -> 0.9414 | I10: =ROUND(H10*D10,2) -> 86.36
A11: Cimdi nitrila b/p XL izmērs (100gb./iep.) | B11: 18 | C11: 0.33 | D11: =SUM(B11)*C11 -> 5.94 | E11: 10.46 | F11: =ROUND(E11*12/100,4) -> 1.2552 | G11: =ROUND(E11*21/100,4) -> 2.1966 | H11: =ROUND(G11-F11,4) -> 0.9414 | I11: =ROUND(H11*D11,2) -> 5.59
A12: Cimdi nitrila b/p L izmērs (100gb./iep.) | B12: 197 | C12: 0.33 | D12: =SUM(B12)*C12 -> 65.01 | E12: 13.36 | F12: =ROUND(E12*12/100,4) -> 1.6032 | G12: =ROUND(E12*21/100,4) -> 2.8056 | H12: =ROUND(G12-F12,4) -> 1.2024 | I12: =ROUND(H12*D12,2) -> 78.17
A13: Cimdi nitrila b/p XS izmērs (100gb./iep.) | B13: 21 | C13: 0.33 | D13: =SUM(B13)*C13 -> 6.93 | E13: 7.11 | F13: =ROUND(E13*12/100,4) -> 0.8532 | G13: =ROUND(E13*21/100,4) -> 1.4931 | H13: =ROUND(G13-F13,4) -> 0.6399 | I13: =ROUND(H13*D13,2) -> 4.43
A14: Cimdi lateksa, izm.XL, pāris | B14: 3198 | C14: 0.33 | D14: =SUM(B14)*C14 -> 1055.34 | E14: 0.48 | F14: =ROUND(E14*12/100,4) -> 0.0576 | G14: =ROUND(E14*21/100,4) -> 0.1008 | H14: =ROUND(G14-F14,4) -> 0.0432 | I14: =ROUND(H14*D14,2) -> 45.59
A15: Cimdi lateksa, izm.M, pāris | B15: 2996 | C15: 0.33 | D15: =SUM(B15)*C15 -> 988.68 | E15: 0.26 | F15: =ROUND(E15*12/100,4) -> 0.0312 | G15: =ROUND(E15*21/100,4) -> 0.0546 | H15: =ROUND(G15-F15,4) -> 0.0234 | I15: =ROUND(H15*D15,2) -> 23.14
A16: Vienreizlietojamie darba aizsarglīdzekļi | F16: =SUM(F17:F22) -> 3.714 | G16: =SUM(G17:G22) -> 6.4995 | H16: =SUM(H17:H22) -> 2.7855 | I16: =SUM(I17:I22) -> 239.83
A17: Halāti ķirurģiskie sterili (vienreizlietojamiem), dažādi izmēri, (100gb./iep.) | B17: 172 | C17: 0.33 | D17: =SUM(B17)*C17 -> 56.76 | E17: 4.08 | F17: =ROUND(E17*12/100,4) -> 0.4896 | G17: =ROUND(E17*21/100,4) -> 0.8568 | H17: =ROUND(G17-F17,4) -> 0.3672 | I17: =ROUND(H17*D17,2) -> 20.84
A18: Halāti ķirurģiskie nestirili (vienreizlietojami), dažādi izmēri, (100gb./iep.) | B18: 231 | C18: 0.33 | D18: =SUM(B18)*C18 -> 76.23 | E18: 16.42 | F18: =ROUND(E18*12/100,4) -> 1.9704 | G18: =ROUND(E18*21/100,4) -> 3.4482 | H18: =ROUND(G18-F18,4) -> 1.4778 | I18: =ROUND(H18*D18,2) -> 112.65
A19: Priekšauts (100gb./iep.) | B19: 68 | C19: 0.33 | D19: =SUM(B19)*C19 -> 22.44 | E19: 7.42 | F19: =ROUND(E19*12/100,4) -> 0.8904 | G19: =ROUND(E19*21/100,4) -> 1.5582 | H19: =ROUND(G19-F19,4) -> 0.6678 | I19: =ROUND(H19*D19,2) -> 14.99
A20: Cepure apaļa ar gumiju (100gb./iep.) | B20: 15 | C20: 0.33 | D20: =SUM(B20)*C20 -> 4.95 | E20: 2.23 | F20: =ROUND(E20*12/100,4) -> 0.2676 | G20: =ROUND(E20*21/100,4) -> 0.4683 | H20: =ROUND(G20-F20,4) -> 0.2007 | I20: =ROUND(H20*D20,2) -> 0.99
A21: Bahilas īsās, gb | B21: 3900 | C21: 0.33 | D21: =SUM(B21)*C21 -> 1287 | E21: 0.04 | F21: =ROUND(E21*12/100,4) -> 0.0048 | G21: =ROUND(E21*21/100,4) -> 0.0084 | H21: =ROUND(G21-F21,4) -> 0.0036 | I21: =ROUND(H21*D21,2) -> 4.63
A22: Maska sejas Tips II, gb | B22: 3798 | C22: 0.33 | D22: =SUM(B22)*C22 -> 1253.34 | E22: 0.76 | F22: =ROUND(E22*12/100,4) -> 0.0912 | G22: =ROUND(E22*21/100,4) -> 0.1596 | H22: =ROUND(G22-F22,4) -> 0.0684 | I22: =ROUND(H22*D22,2) -> 85.73
A23: Vienreizlietojamās dažādām manipulācijām paredzētie piederumi | F23: =SUM(F24:F29) -> 0.9048 | G23: =SUM(G24:G29) -> 1.5834 | H23: =SUM(H24:H29) -> 0.6786 | I23: =SUM(I24:I29) -> 10.01
A24: Ķirurģiskās salvetes 5x5 cm N150gb./iep. | B24: 8 | C24: 0.33 | D24: =SUM(B24)*C24 -> 2.64 | E24: 2.21 | F24: =ROUND(E24*12/100,4) -> 0.2652 | G24: =ROUND(E24*21/100,4) -> 0.4641 | H24: =ROUND(G24-F24,4) -> 0.1989 | I24: =ROUND(H24*D24,2) -> 0.53
A25: Marle 3Mx90CM nesterila, gb | B25: 77 | C25: 0.33 | D25: =SUM(B25)*C25 -> 25.41 | E25: 0.72 | F25: =ROUND(E25*12/100,4) -> 0.0864 | G25: =ROUND(E25*21/100,4) -> 0.1512 | H25: =ROUND(G25-F25,4) -> 0.0648 | I25: =ROUND(H25*D25,2) -> 1.65
A26: Saite-marles 7mx14cm (nesterila), gb | B26: 662 | C26: 0.33 | D26: =SUM(B26)*C26 -> 218.46 | E26: 0.2 | F26: =ROUND(E26*12/100,4) -> 0.024 | G26: =ROUND(E26*21/100,4) -> 0.042 | H26: =ROUND(G26-F26,4) -> 0.018 | I26: =ROUND(H26*D26,2) -> 3.93
A27: Leikoplasts 1.25x9.1m N1 SILK, iep. | B27: 42 | C27: 0.33 | D27: =SUM(B27)*C27 -> 13.86 | E27: 0.98 | F27: =ROUND(E27*12/100,4) -> 0.1176 | G27: =ROUND(E27*21/100,4) -> 0.2058 | H27: =ROUND(G27-F27,4) -> 0.0882 | I27: =ROUND(H27*D27,2) -> 1.22
A28: Vaskadrāna medicīniskā, 2m, gb | B28: 5 | C28: 0.33 | D28: =SUM(B28)*C28 -> 1.65 | E28: 3 | F28: =ROUND(E28*12/100,4) -> 0.36 | G28: =ROUND(E28*21/100,4) -> 0.63 | H28: =ROUND(G28-F28,4) -> 0.27 | I28: =ROUND(H28*D28,2) -> 0.45
A29: Vate 100g (100%kokvilna), iep. | B29: 175 | C29: 0.33 | D29: =SUM(B29)*C29 -> 57.75 | E29: 0.43 | F29: =ROUND(E29*12/100,4) -> 0.0516 | G29: =ROUND(E29*21/100,4) -> 0.0903 | H29: =ROUND(G29-F29,4) -> 0.0387 | I29: =ROUND(H29*D29,2) -> 2.23
A30: Medicīnas piederumi | F30: =SUM(F31:F40) -> 13.4208 | G30: =SUM(G31:G40) -> 23.4864 | H30: =SUM(H31:H40) -> 10.0656 | I30: =SUM(I31:I40) -> 90.26
A31: Mēģenes 3ml, 75x10mm, gb | B31: 2000 | C31: 0.33 | D31: =SUM(B31)*C31 -> 660 | E31: 0.04 | F31: =ROUND(E31*12/100,4) -> 0.0048 | G31: =ROUND(E31*21/100,4) -> 0.0084 | H31: =ROUND(G31-F31,4) -> 0.0036 | I31: =ROUND(H31*D31,2) -> 2.38
A32: Mēģenes 40ml, 85/28.5mm, gb | B32: 2400 | C32: 0.33 | D32: =SUM(B32)*C32 -> 792 | E32: 0.18 | F32: =ROUND(E32*12/100,4) -> 0.0216 | G32: =ROUND(E32*21/100,4) -> 0.0378 | H32: =ROUND(G32-F32,4) -> 0.0162 | I32: =ROUND(H32*D32,2) -> 12.83
A33: Priekšmetstikli ar baltu matētu malu 76x26x1mm 50gb/iep. | B33: 650 | C33: 0.33 | D33: =SUM(B33)*C33 -> 214.5 | E33: 1.14 | F33: =ROUND(E33*12/100,4) -> 0.1368 | G33: =ROUND(E33*21/100,4) -> 0.2394 | H33: =ROUND(G33-F33,4) -> 0.1026 | I33: =ROUND(H33*D33,2) -> 22.01
A34: Priekšmetstikliņi 76x26x1mm 50gab/iep. | B34: 400 | C34: 0.5 | D34: =SUM(B34)*C34 -> 200 | E34: 1.05 | F34: =ROUND(E34*12/100,4) -> 0.126 | G34: =ROUND(E34*21/100,4) -> 0.2205 | H34: =ROUND(G34-F34,4) -> 0.0945 | I34: =ROUND(H34*D34,2) -> 18.9
A35: Segstikliņi 24x40mm, 100gb./iep. | B35: 180 | C35: 0.5 | D35: =SUM(B35)*C35 -> 90 | E35: 1.21 | F35: =ROUND(E35*12/100,4) -> 0.1452 | G35: =ROUND(E35*21/100,4) -> 0.2541 | H35: =ROUND(G35-F35,4) -> 0.1089 | I35: =ROUND(H35*D35,2) -> 9.8
A36: Šļirce 2ml ar adatu, gb | B36: 200 | C36: 0.5 | D36: =SUM(B36)*C36 -> 100 | E36: 0.03 | F36: =ROUND(E36*12/100,4) -> 0.0036 | G36: =ROUND(E36*21/100,4) -> 0.0063 | H36: =ROUND(G36-F36,4) -> 0.0027 | I36: =ROUND(H36*D36,2) -> 0.27
A37: Šļirce 3-daļ.20ml N100 (0.8x38mm), gb | B37: 106 | C37: 0.5 | D37: =SUM(B37)*C37 -> 53 | E37: 0.08 | F37: =ROUND(E37*12/100,4) -> 0.0096 | G37: =ROUND(E37*21/100,4) -> 0.0168 | H37: =ROUND(G37-F37,4) -> 0.0072 | I37: =ROUND(H37*D37,2) -> 0.38
A38: Uzgaļi automātisko pipešu 200-1000mkl (1 iep. 10 x 96gb.) | B38: 5 | C38: 0.5 | D38: =SUM(B38)*C38 -> 2.5 | E38: 54 | F38: =ROUND(E38*12/100,4) -> 6.48 | G38: =ROUND(E38*21/100,4) -> 11.34 | H38: =ROUND(G38-F38,4) -> 4.86 | I38: =ROUND(H38*D38,2) -> 12.15
A39: Uzgaļi pipešu 5000mkl, gb | B39: 450 | C39: 0.5 | D39: =SUM(B39)*C39 -> 225 | E39: 0.09 | F39: =ROUND(E39*12/100,4) -> 0.0108 | G39: =ROUND(E39*21/100,4) -> 0.0189 | H39: =ROUND(G39-F39,4) -> 0.0081 | I39: =ROUND(H39*D39,2) -> 1.82
A40: Uzgaļi pipešu ar filtru 100 mkl (1 iep. 10 x 96gb.) | B40: 4 | C40: 0.5 | D40: =SUM(B40)*C40 -> 2 | E40: 54.02 | F40: =ROUND(E40*12/100,4) -> 6.4824 | G40: =ROUND(E40*21/100,4) -> 11.3442 | H40: =ROUND(G40-F40,4) -> 4.8618 | I40: =ROUND(H40*D40,2) -> 9.72
A41: Ķimikālijas/reaģenti | F41: =SUM(F42:F51) -> 41.3868 | G41: =SUM(G42:G51) -> 72.4269 | H41: =SUM(H42:H51) -> 31.0401 | I41: =SUM(I42:I51) -> 152.83
A42: Natrii Chloridi 0.9%, 500ml/1000ml Ecoflac plus, gb | B42: 24 | C42: 0.5 | D42: =SUM(B42)*C42 -> 12 | E42: 1.42 | F42: =ROUND(E42*12/100,4) -> 0.1704 | G42: =ROUND(E42*21/100,4) -> 0.2982 | H42: =ROUND(G42-F42,4) -> 0.1278 | I42: =ROUND(H42*D42,2) -> 1.53
A43: Natrium chloride 0.9%-20/10ml N20, gb | B43: 30 | C43: 0.5 | D43: =SUM(B43)*C43 -> 15 | E43: 4.4 | F43: =ROUND(E43*12/100,4) -> 0.528 | G43: =ROUND(E43*21/100,4) -> 0.924 | H43: =ROUND(G43-F43,4) -> 0.396 | I43: =ROUND(H43*D43,2) -> 5.94
A44: Eosīns 1% šķīdums ūdenī, 1000ml, gb | B44: 8 | C44: 0.5 | D44: =SUM(B44)*C44 -> 4 | E44: 16.21 | F44: =ROUND(E44*12/100,4) -> 1.9452 | G44: =ROUND(E44*21/100,4) -> 3.4041 | H44: =ROUND(G44-F44,4) -> 1.4589 | I44: =ROUND(H44*D44,2) -> 5.84
A45: Histoloģiskā krāsa (Kongo sarkanais) 100 testi/iep. | B45: 2 | C45: 0.5 | D45: =SUM(B45)*C45 -> 1 | E45: 44.29 | F45: =ROUND(E45*12/100,4) -> 5.3148 | G45: =ROUND(E45*21/100,4) -> 9.3009 | H45: =ROUND(G45-F45,4) -> 3.9861 | I45: =ROUND(H45*D45,2) -> 3.99
A46: Parafīns 10/12kg/iep. | B46: 25 | C46: 0.5 | D46: =SUM(B46)*C46 -> 12.5 | E46: 74.54 | F46: =ROUND(E46*12/100,4) -> 8.9448 | G46: =ROUND(E46*21/100,4) -> 15.6534 | H46: =ROUND(G46-F46,4) -> 6.7086 | I46: =ROUND(H46*D46,2) -> 83.86
A47: Periodic acid (perjodskābe) 500ml/1000ml, gb | B47: 2 | C47: 0.5 | D47: =SUM(B47)*C47 -> 1 | E47: 79.95 | F47: =ROUND(E47*12/100,4) -> 9.594 | G47: =ROUND(E47*21/100,4) -> 16.7895 | H47: =ROUND(G47-F47,4) -> 7.1955 | I47: =ROUND(H47*D47,2) -> 7.2
A48: Šķīdums EDTA 0.5M; PH-8.0, gb | B48: 2 | C48: 0.5 | D48: =SUM(B48)*C48 -> 1 | E48: 105.88 | F48: =ROUND(E48*12/100,4) -> 12.7056 | G48: =ROUND(E48*21/100,4) -> 22.2348 | H48: =ROUND(G48-F48,4) -> 9.5292 | I48: =ROUND(H48*D48,2) -> 9.53
A49: Indikators bioloģiskais N1 autoklāvam, gb | B49: 4 | C49: 0.5 | D49: =SUM(B49)*C49 -> 2 | E49: 2.82 | F49: =ROUND(E49*12/100,4) -> 0.3384 | G49: =ROUND(E49*21/100,4) -> 0.5922 | H49: =ROUND(G49-F49,4) -> 0.2538 | I49: =ROUND(H49*D49,2) -> 0.51
A50: Līdzeklis dezinfekcijas KLORILLI (5L), gb | B50: 53 | C50: 0.5 | D50: =SUM(B50)*C50 -> 26.5 | E50: 12.75 | F50: =ROUND(E50*12/100,4) -> 1.53 | G50: =ROUND(E50*21/100,4) -> 2.6775 | H50: =ROUND(G50-F50,4) -> 1.1475 | I50: =ROUND(H50*D50,2) -> 30.41
A51: Lignīns (loksnēs), gb | B51: 34 | C51: 0.5 | D51: =SUM(B51)*C51 -> 17 | E51: 2.63 | F51: =ROUND(E51*12/100,4) -> 0.3156 | G51: =ROUND(E51*21/100,4) -> 0.5523 | H51: =ROUND(G51-F51,4) -> 0.2367 | I51: =ROUND(H51*D51,2) -> 4.02
A52: Pavisam kopā | F52: =F41+F30+F23+F16+F8 -> 65.7372 | G52: =G41+G30+G23+G16+G8 -> 115.0401 | H52: =H41+H30+H23+H16+H8 -> 49.3029 | I52: =I41+I30+I23+I16+I8 -> 767.79

Sheet 14_pielikums
O1: 14.pielikums Ministru kabineta rīkojuma projektam “Par finanšu līdzekļu piešķiršanu no valsts budžeta programmas “Līdzekļi neparedzētiem gadījumiem”” sākotnējās ietekmes novērtējuma ziņojumam (anotācijai)
M2: =L10-L11 -> 0
A3: Asins un asins komponentu nodrošināšanai faktiskajiem izdevumiem pievienotās vērtības nodokļa likmes pieauguma segšanai laika posmā no 2021.gada 1.jūlija līdz 2021.gada 31.oktobrim par iegādātajām medicīniskajām ierīcēm un precēm, lai nodrošinātu Latvijas Republikas Senāta 2021. gada 22. marta sprieduma administratīvajā lietā Nr. A420143317 (SKA-123/2021) izpildi
M4: =#REF!+#REF!+#REF!+#REF!+#REF!+#REF!+#REF!+#REF!+#REF!+#REF!+#REF!+#REF! -> #REF!
A5: Nr. p.k. | C5: Līguma/ iepirkuma Nr. | D5: Nosaukums | E5: Līguma/iepirkuma izpildītājs | F5: EKK (2000 vai 5000) | G5: Līguma noslēgšanas datums | H5: Noslēgtā līguma | L5: 2021.gada kopējā summa | N5: t..sk. | P5: Kontrol Plānots ar PVN 12% | Q5: PVN 21% | R5: 2022.g. (Starpība 21%-12% gadā) | S5: 01.07.- 31.10.2021. (Starpība 21%-12%)
H6: darbības periods | J6: kopējā summa ar PVN, EUR | K6: Atlikusī līguma summa uz 01.01.2021 ar PVN | N6: Summa bez PVN | O6: PVN 12%
H7: no | I7: līdz
A9: 1 | C9: 2 | D9: 2 | E9: 4 | F9: 5 | G9: 6 | H9: 7 | I9: 8 | J9: 9 | K9: 10 | L9: 3 | M9: 3 | N9: 4 | O9: 5 | P9: 14 | Q9: 6 | R9: 16=14-12 | S9: 7
A10: 1 | B10: Noslēgtie līgumi kopā | F10: x | G10: x | H10: x | I10: x | L10: =L11 -> 2731174.1 | M10: =M11 -> #REF! | N10: =N11 -> 2438548.3 | O10: =O11 -> 292625.8 | P10: =P11 -> 2731174.1 | Q10: =Q11 -> 512095.15 | R10: =R11 -> 219469.35 | S10: =S11 -> 73156.45
A11: 1.1. Noslēgtie līgumi, izņemot IT līgumus | L11: =SUM(L12:L86) -> 2731174.1 | M11: =SUM(M12:M86) -> #REF! | N11: =SUM(N12:N86) -> 2438548.3 | O11: =SUM(O12:O86) -> 292625.8 | P11: =SUM(P12:P86) -> 2731174.1 | Q11: =SUM(Q12:Q86) -> 512095.15 | R11: =SUM(R12:R86) -> 219469.35 | S11: =SUM(S12:S86) -> 73156.45
A12: 1 | B12: 1.1.159. | C12: 097-1/2019 | D12: IH reaģenti pirmsdonācijas izmeklēšanai (Cell DYN Emerald) | E12: Abbott GmbH&Co KG | F12: 2341 | G12: 11.06.2019. | H12: 11.06.2019. | I12: 11.06.2021. | J12: 5894 | K12: 3052 | L12: =K12 -> 3052 | M12: =#REF!+#REF!+#REF!+#REF!+#REF!+#REF!+#REF!+#REF!+#REF!+#REF!+#REF!+#REF! -> #REF! | N12: =L12/112*100 -> 2725 | O12: =N12*12/100 -> 327 | P12: =SUM(N12:O12) -> 3052 | Q12: =N12*21/100 -> 572.25 | R12: =Q12-O12 -> 245.25 | S12: =R12/12*4 -> 81.75
A13: 2 | B13: 1.1.160. | C13: 174-1/2018. | D13: Termopārneses lentas ar čaulu | E13: Amro Baltic SIA | F13: 2341 | G13: 02.11.2018. | H13: 02.11.2018. | I13: 12.11.2019. | J13: 2624.01 | K13: 347.66 | L13: 348 | M13: =#REF!+#REF!+#REF!+#REF!+#REF!+#REF!+#REF!+#REF!+#REF!+#REF!+#REF!+#REF! -> #REF! | N13: =L13/112*100 -> 310.71429 | O13: =N13*12/100 -> 37.285714 | P13: =SUM(N13:O13) -> 348 | Q13: =N13*21/100 -> 65.25 | R13: =Q13-O13 -> 27.964286 | S13: =R13/12*4 -> 9.3214286
A14: 3 | B14: 1.1.161. | C14: 112/1-9.1/2020 | D14: Uzlīmes asins komponentu marķēšanai | E14: Amro Baltic SIA | F14: 2341 | G14: 27.08.2020. | H14: 27.08.2020. | I14: 25.08.2022. | J14: 33984.06 | K14: 28432.36 | L14: 16992 | M14: =#REF!+#REF!+#REF!+#REF!+#REF!+#REF!+#REF!+#REF!+#REF!+#REF!+#REF!+#REF! -> #REF! | N14: =L14/112*100 -> 15171.429 | O14: =N14*12/100 -> 1820.5714 | P14: =SUM(N14:O14) -> 16992 | Q14: =N14*21/100 -> 3186 | R14: =Q14-O14 -> 1365.4286 | S14: =R14/12*4 -> 455.14286
A15: 4 | B15: 1.1.162. | C15: 214/1-9.1/2020 | D15: Pašlīmējošs uzlīmju papīrs maisu un asins komponentu marķēšanai (svītrkodi) | E15: Amro Baltic SIA | F15: 2341 | G15: 16.12.2020. | H15: 16.12.2020. | I15: 16.12.2022. | J15: 567.49 | K15: 567.49 | L15: 190 | M15: =#REF!+#REF!+#REF!+#REF!+#REF!+#REF!+#REF!+#REF!+#REF!+#REF!+#REF!+#REF! -> #REF! | N15: =L15/112*100 -> 169.64286 | O15: =N15*12/100 -> 20.357143 | P15: =SUM(N15:O15) -> 190 | Q15: =N15*21/100 -> 35.625 | R15: =Q15-O15 -> 15.267857 | S15: =R15/12*4 -> 5.0892857
A16: 5 | B16: 1.1.163. | C16: 17/1-9.1/2021 | D16: Kociņi ar vates tinumu | E16: Arbor Medical Korporācija SIA | F16: 2341 | G16: 04.03.2021. | H16: 04.03.2021. | I16: 03.09.2021. | J16: 8848 | K16: 8848 | L16: 1062 | M16: =#REF!+#REF!+#REF!+#REF!+#REF!+#REF!+#REF!+#REF!+#REF!+#REF!+#REF!+#REF! -> #REF! | N16: =L16/112*100 -> 948.21429 | O16: =N16*12/100 -> 113.78571 | P16: =SUM(N16:O16) -> 1062 | Q16: =N16*21/100 -> 199.125 | R16: =Q16-O16 -> 85.339286 | S16: =R16/12*4 -> 28.446429
A17: 6 | B17: 1.1.164. | C17: 211/1-9.1/2020 | D17: Dezinfekcijas līdzekļi | E17: A.Medical | F17: 2341 | G17: 15.12.2020. | H17: 15.12.2020. | I17: 14.12.2023. | J17: 806.4 | K17: 806.4 | L17: 354 | M17: =#REF!+#REF!+#REF!+#REF!+#REF!+#REF!+#REF!+#REF!+#REF!+#REF!+#REF!+#REF! -> #REF! | N17: =L17/112*100 -> 316.07143 | O17: =N17*12/100 -> 37.928571 | P17: =SUM(N17:O17) -> 354 | Q17: =N17*21/100 -> 66.375 | R17: =Q17-O17 -> 28.446429 | S17: =R17/12*4 -> 9.4821429
A18: 7 | B18: 1.1.165. | C18: 216/1-9.1/2020 | D18: Dezinfekcijas līdzekļi | E18: Chemi Pharm Latvijā | F18: 2341 | G18: 17.12.2020. | H18: 17.12.2020. | I18: 16.12.2023. | J18: 7406.5 | K18: 7406.5 | L18: 2246 | M18: =#REF!+#REF!+#REF!+#REF!+#REF!+#REF!+#REF!+#REF!+#REF!+#REF!+#REF!+#REF! -> #REF! | N18: =L18/112*100 -> 2005.3571 | O18: =N18*12/100 -> 240.64286 | P18: =SUM(N18:O18) -> 2246 | Q18: =N18*21/100 -> 421.125 | R18: =Q18-O18 -> 180.48214 | S18: =R18/12*4 -> 60.160714
A19: 8 | B19: 1.1.166. | C19: 159-1/2018. | D19: Plazma un preparāti | E19: Baltijas Terapeitiskais Serviss SIA | F19: 2341 | G19: 25.09.2018. | H19: 25.09.2018. | I19: 01.01.2022. | J19: 2267983 | K19: 430171 | L19: 425490 | M19: =#REF!+#REF!+#REF!+#REF!+#REF!+#REF!+#REF!+#REF!+#REF!+#REF!+#REF!+#REF! -> #REF! | N19: =L19/112*100 -> 379901.79 | O19: =N19*12/100 -> 45588.214 | P19: =SUM(N19:O19) -> 425490 | Q19: =N19*21/100 -> 79779.375 | R19: =Q19-O19 -> 34191.161 | S19: =R19/12*4 -> 11397.054
A20: 9 | B20: 1.1.167. | C20: 122/1-9.1/2020 | D20: Četrkāršo plastisko maisu -caurulīšu sistēma asins/ asins komponentu sagatavošanai | E20: Baltijas Dializes serviss SIA | F20: 2341 | G20: 05.10.2020. | H20: 05.10.2020. | I20: 05.10.2023. | J20: 1204896 | K20: 1078710.5 | L20: 469883 | M20: =#REF!+#REF!+#REF!+#REF!+#REF!+#REF!+#REF!+#REF!+#REF!+#REF!+#REF!+#REF! -> #REF! | N20: =L20/112*100 -> 419538.39 | O20: =N20*12/100 -> 50344.607 | P20: =SUM(N20:O20) -> 469883 | Q20: =N20*21/100 -> 88103.062 | R20: =Q20-O20 -> 37758.455 | S20: =R20/12*4 -> 12586.152
A21: 10 | B21: 1.1.168. | C21: 131/1-9.1/2020 | D21: Sterilā antikoagulanta šķīdums ACD-A atomātiskajām aferēzes procedūrām piegādi (3000 gabX2.55euro =7650.00 euro) | E21: Baltijas Dializes serviss SIA | F21: 2341 | G21: 13.10.2020. | H21: 13.10.2020. | I21: 14.10.2023. | J21: 12499.2 | K21: 11732.58 | L21: 5536 | M21: =#REF!+#REF!+#REF!+#REF!+#REF!+#REF!+#REF!+#REF!+#REF!+#REF!+#REF!+#REF! -> #REF! | N21: =L21/112*100 -> 4942.8571 | O21: =N21*12/100 -> 593.14286 | P21: =SUM(N21:O21) -> 5536 | Q21: =N21*21/100 -> 1038 | R21: =Q21-O21 -> 444.85714 | S21: =R21/12*4 -> 148.28571
A22: 11 | B22: 1.1.169. | C22: 94/1-9.1/2020 | D22: Reaģenti, kontroles matertiāli un piederumi hemoglobīna noteikšanai kapilārās asinīs ar POCT aprīkojumu donoriem | E22: Baltijas Dializes serviss SIA | F22: 2341 | G22: 17.07.2020. | H22: 17.07.2020. | I22: 31.07.2024. | J22: 154248.64 | K22: 134274.2 | L22: 47707 | M22: =#REF!+#REF!+#REF!+#REF!+#REF!+#REF!+#REF!+#REF!+#REF!+#REF!+#REF!+#REF! -> #REF! | N22: =L22/112*100 -> 42595.536 | O22: =N22*12/100 -> 5111.4643 | P22: =SUM(N22:O22) -> 47707 | Q22: =N22*21/100 -> 8945.0625 | R22: =Q22-O22 -> 3833.5982 | S22: =R22/12*4 -> 1277.8661
A23: 12 | B23: 1.1.170. | C23: 21/1-9.1/2021 | D23: Par plastisko maisu - caurulīšu sistēmu ar filtru trombocītu masas no leikocītu - trombocītu slāņa sagatavošanai, filtrēšanai un uzglabāšanai | E23: Baltijas Dializes serviss SIA | F23: 2341 | G23: 08.03.2021. | H23: 08.03.2021. | I23: 08.03.2024. | J23: 225388.8 | K23: 225388.8 | L23: 61721 | M23: =#REF!+#REF!+#REF!+#REF!+#REF!+#REF!+#REF!+#REF!+#REF!+#REF!+#REF!+#REF! -> #REF! | N23: =L23/112*100 -> 55108.036 | O23: =N23*12/100 -> 6612.9643 | P23: =SUM(N23:O23) -> 61721 | Q23: =N23*21/100 -> 11572.688 | R23: =Q23-O23 -> 4959.7232 | S23: =R23/12*4 -> 1653.2411
A24: 13 | B24: 1.1.171. | C24: 146/3-9.1/2020 | D24: Polietilēna maisi asins komponentu iepakošanai | E24: Baltic Pack, SIA | F24: 2341 | G24: 30.10.2020. | H24: 30.10.2020. | I24: 30.10.2022. | J24: 6590.62 | K24: 5788.39 | L24: 3299 | M24: =#REF!+#REF!+#REF!+#REF!+#REF!+#REF!+#REF!+#REF!+#REF!+#REF!+#REF!+#REF! -> #REF! | N24: =L24/112*100 -> 2945.5357 | O24: =N24*12/100 -> 353.46429 | P24: =SUM(N24:O24) -> 3299 | Q24: =N24*21/100 -> 618.5625 | R24: =Q24-O24 -> 265.09821 | S24: =R24/12*4 -> 88.366071
A25: 14 | B25: 1.1.172. | C25: 238-1/2017 | D25: Nacryl 12 plāksnes asins grupas noteikšanai | E25: DIAMEDICA SIA | F25: 2341 | G25: 25.10.2017. | H25: 25.10.2017. | I25: līdz saistību izpildei | J25: 10953.6 | K25: 7119.8 | L25: 3709 | M25: =#REF!+#REF!+#REF!+#REF!+#REF!+#REF!+#REF!+#REF!+#REF!+#REF!+#REF!+#REF! -> #REF! | N25: =L25/112*100 -> 3311.6071 | O25: =N25*12/100 -> 397.39286 | P25: =SUM(N25:O25) -> 3709 | Q25: =N25*21/100 -> 695.4375 | R25: =Q25-O25 -> 298.04464 | S25: =R25/12*4 -> 99.348214
A26: 15 | B26: 1.1.173. | C26: 094-1/2019 | D26: Reaģenti imūnhematoloģiskai izmeklēšanai ar mikroplašu metodi | E26: DIAMEDICA SIA | F26: 2341 | G26: 31.05.2019. | H26: 31.05.2019. | I26: 44711 | J26: 341295.7 | K26: 218553.97 | L26: 109221 | M26: =#REF!+#REF!+#REF!+#REF!+#REF!+#REF!+#REF!+#REF!+#REF!+#REF!+#REF!+#REF! -> #REF! | N26: =L26/112*100 -> 97518.75 | O26: =N26*12/100 -> 11702.25 | P26: =SUM(N26:O26) -> 109221 | Q26: =N26*21/100 -> 20478.938 | R26: =Q26-O26 -> 8776.6875 | S26: =R26/12*4 -> 2925.5625
A27: 16 | B27: 1.1.174. | C27: 149-1/2019 | D27: Reaģenti pacientu imūnhematoloģiskajai izmeklēšanai manuālā tehnikā | E27: DIAMEDICA SIA | F27: 2341 | G27: 17.09.2019. | H27: 17.09.2019. | I27: 17.09.2022. | J27: 50487.83 | K27: 35877.67 | L27: 15419 | M27: =#REF!+#REF!+#REF!+#REF!+#REF!+#REF!+#REF!+#REF!+#REF!+#REF!+#REF!+#REF! -> #REF! | N27: =L27/112*100 -> 13766.964 | O27: =N27*12/100 -> 1652.0357 | P27: =SUM(N27:O27) -> 15419 | Q27: =N27*21/100 -> 2891.0625 | R27: =Q27-O27 -> 1239.0268 | S27: =R27/12*4 -> 413.00893
A28: 17 | B28: 1.1.175. | C28: 144-1/2019 | D28: Par labotarisko reaģentu un piederumu piegādi | E28: DIAMEDICA SIA | F28: 2341 | G28: 06.09.2019. | H28: 06.09.2019. | I28: 06.09.2020. | J28: 11883.76 | K28: 9450 | L28: 1316 | M28: =#REF!+#REF!+#REF!+#REF!+#REF!+#REF!+#REF!+#REF!+#REF!+#REF!+#REF!+#REF! -> #REF! | N28: =L28/112*100 -> 1175 | O28: =N28*12/100 -> 141 | P28: =SUM(N28:O28) -> 1316 | Q28: =N28*21/100 -> 246.75 | R28: =Q28-O28 -> 105.75 | S28: =R28/12*4 -> 35.25
A29: 19 | B29: 1.1.177. | C29: 129/1-9.1/2020. | D29: Par labotarisko reaģentu un piederumu piegādi | E29: DIAMEDICA SIA | F29: 2341 | G29: 15.10.2020. | H29: 15.10.2020. | I29: 15.10.2021. | J29: 5241.6 | K29: 3785.6 | L29: =K29 -> 3785.6 | M29: =#REF!+#REF!+#REF!+#REF!+#REF!+#REF!+#REF!+#REF!+#REF!+#REF!+#REF!+#REF! -> #REF! | N29: =L29/112*100 -> 3380 | O29: =N29*12/100 -> 405.6 | P29: =SUM(N29:O29) -> 3785.6 | Q29: =N29*21/100 -> 709.8 | R29: =Q29-O29 -> 304.2 | S29: =R29/12*4 -> 101.4
A30: 20 | B30: 1.1.178. | C30: 130/1-9.1/2020. | D30: Par labotarisko reaģentu un piederumu piegādi | E30: DIAMEDICA SIA | F30: 2341 | G30: 28.12.2020. | H30: 28.12.2020. | I30: 27.12.2021. | J30: 6432.36 | K30: 6432.36 | M30: =#REF!+#REF!+#REF!+#REF!+#REF!+#REF!+#REF!+#REF!+#REF!+#REF!+#REF!+#REF! -> #REF! | N30: =L30/112*100 -> 0 | O30: =N30*12/100 -> 0 | P30: =SUM(N30:O30) -> 0 | Q30: =N30*21/100 -> 0 | R30: =Q30-O30 -> 0 | S30: =R30/12*4 -> 0
A31: 21 | B31: 1.1.179. | C31: 143-9.1/2020. | D31: Par labotarisko reaģentu un piederumu piegādi | E31: DIAMEDICA SIA | F31: 2341 | G31: 28.10.2020. | H31: 28.10.2020. | I31: 27.10.2020. | J31: 1824.48 | K31: 1824.48 | L31: =K31 -> 1824.48 | M31: =#REF!+#REF!+#REF!+#REF!+#REF!+#REF!+#REF!+#REF!+#REF!+#REF!+#REF!+#REF! -> #REF! | N31: =L31/112*100 -> 1629 | O31: =N31*12/100 -> 195.48 | P31: =SUM(N31:O31) -> 1824.48 | Q31: =N31*21/100 -> 342.09 | R31: =Q31-O31 -> 146.61 | S31: =R31/12*4 -> 48.87
A32: 22 | B32: 1.1.180 | C32: 166-1/2018 | D32: Plastikāta maisiņu sistēma asins komponetu sadalīšanai mazākās devās (150x4) | E32: ELVIM SIA | F32: 2341 | G32: 10.08.2018. | H32: 10.08.2018. | I32: 10.08.2019. | J32: 5958.4 | K32: 1489.6 | L32: 1490 | M32: =#REF!+#REF!+#REF!+#REF!+#REF!+#REF!+#REF!+#REF!+#REF!+#REF!+#REF!+#REF! -> #REF! | N32: =L32/112*100 -> 1330.3571 | O32: =N32*12/100 -> 159.64286 | P32: =SUM(N32:O32) -> 1490 | Q32: =N32*21/100 -> 279.375 | R32: =Q32-O32 -> 119.73214 | S32: =R32/12*4 -> 39.910714
A33: 23 | B33: 1.1.181 | C33: 56/3-9.1/2020 | D33: Plastikāta maisiņi asins komponentu sagatavošanai, sadalīšanai un uzglabāšanai (300 ml) | E33: ELVIM SIA | F33: 2341 | G33: 27.04.2020. | H33: 27.04.2020. | I33: līdz saistību izpildei | J33: 13776 | K33: 4921 | L33: =K33 -> 4921 | M33: =#REF!+#REF!+#REF!+#REF!+#REF!+#REF!+#REF!+#REF!+#REF!+#REF!+#REF!+#REF! -> #REF! | N33: =L33/112*100 -> 4393.75 | O33: =N33*12/100 -> 527.25 | P33: =SUM(N33:O33) -> 4921 | Q33: =N33*21/100 -> 922.6875 | R33: =Q33-O33 -> 395.4375 | S33: =R33/12*4 -> 131.8125
A34: 24 | B34: 1.1.182 | C34: 13/1-9.1/2021. | D34: Plastikāta maisiņi asins komponentu sagatavošanai, sadalīšanai un uzglabāšanai (300 ml) | E34: ELVIM SIA | F34: 2341 | G34: 18.02.2021. | H34: 18.02.2021. | I34: 18.02.2024. | J34: 35952 | K34: 35952 | L34: 9597 | M34: =#REF!+#REF!+#REF!+#REF!+#REF!+#REF!+#REF!+#REF!+#REF!+#REF!+#REF!+#REF! -> #REF! | N34: =L34/112*100 -> 8568.75 | O34: =N34*12/100 -> 1028.25 | P34: =SUM(N34:O34) -> 9597 | Q34: =N34*21/100 -> 1799.4375 | R34: =Q34-O34 -> 771.1875 | S34: =R34/12*4 -> 257.0625
A35: 26 | C35: 35/1-9.1/2021. | D35: Dzesēšanas plāksnes pilnasiņu atdzesēšanai | E35: ELVIM SIA | F35: 2341 | G35: 30.03.2021. | H35: 30.03.2021. | I35: 30.03.2023. | J35: 8758.4 | K35: 8758.4 | L35: 3912 | M35: =#REF!+#REF!+#REF!+#REF!+#REF!+#REF!+#REF!+#REF!+#REF!+#REF!+#REF!+#REF! -> #REF! | N35: =L35/112*100 -> 3492.8571 | O35: =N35*12/100 -> 419.14286 | P35: =SUM(N35:O35) -> 3912 | Q35: =N35*21/100 -> 733.5 | R35: =Q35-O35 -> 314.35714 | S35: =R35/12*4 -> 104.78571
A36: 27 | B36: 1.1.184 | C36: 178-1/2018 | D36: Spirta piegāde | E36: Farma Balt Aptieka SIA | F36: 2341 | G36: 05.11.2020. | H36: 06.11.2018. | I36: 06.11.2018. | J36: 2000 | K36: 967.97 | L36: 584 | M36: =#REF!+#REF!+#REF!+#REF!+#REF!+#REF!+#REF!+#REF!+#REF!+#REF!+#REF!+#REF! -> #REF! | N36: =L36/112*100 -> 521.42857 | O36: =N36*12/100 -> 62.571429 | P36: =SUM(N36:O36) -> 584 | Q36: =N36*21/100 -> 109.5 | R36: =Q36-O36 -> 46.928571 | S36: =R36/12*4 -> 15.642857
A37: 28 | B37: 1.1.185 | C37: 245-2/2017 | D37: Par laboratorijas izmeklējumu veikšanu | E37: Gulbju laboratorija | F37: 2341 | G37: 43775 | H37: 43776 | I37: 43465 | J37: 9999.99 | K37: 8967.59 | L37: 1061 | M37: =#REF!+#REF!+#REF!+#REF!+#REF!+#REF!+#REF!+#REF!+#REF!+#REF!+#REF!+#REF! -> #REF! | N37: =L37/112*100 -> 947.32143 | O37: =N37*12/100 -> 113.67857 | P37: =SUM(N37:O37) -> 1061 | Q37: =N37*21/100 -> 198.9375 | R37: =Q37-O37 -> 85.258929 | S37: =R37/12*4 -> 28.419643
A38: 29 | B38: 1.1.186 | C38: 151/1-9.1/2020 | D38: Par laboratorijas piederumu piegādi | E38: Hydrox SIA | F38: 2341 | G38: 06.11.2020. | H38: 06.11.2020. | I38: 05.11.2021. | J38: 1393.92 | K38: 1393.92 | L38: 1323 | M38: =#REF!+#REF!+#REF!+#REF!+#REF!+#REF!+#REF!+#REF!+#REF!+#REF!+#REF!+#REF! -> #REF! | N38: =L38/112*100 -> 1181.25 | O38: =N38*12/100 -> 141.75 | P38: =SUM(N38:O38) -> 1323 | Q38: =N38*21/100 -> 248.0625 | R38: =Q38-O38 -> 106.3125 | S38: =R38/12*4 -> 35.4375
A39: 30 | B39: 1.1.187 | C39: 179-1/2019 | D39: Par asins komponentu apstarošanas indikatoru piegādi | E39: INTERLUX SIA | F39: 2341 | G39: 31.10.2019. | H39: 31.10.2019. | I39: 31.10.2020. | J39: 5517.6 | K39: 1103.52 | L39: 1104 | M39: =#REF!+#REF!+#REF!+#REF!+#REF!+#REF!+#REF!+#REF!+#REF!+#REF!+#REF!+#REF! -> #REF! | N39: =L39/112*100 -> 985.71429 | O39: =N39*12/100 -> 118.28571 | P39: =SUM(N39:O39) -> 1104 | Q39: =N39*21/100 -> 207 | R39: =Q39-O39 -> 88.714286 | S39: =R39/12*4 -> 29.571429
A40: 31 | B40: 1.1.188 | C40: 165/1-9.1/2020 | D40: Reaģenti bīstamo atkritumu inaktīvācijai iekārtāMedister 60/160 | E40: INTERLUX SIA | F40: 2341 | G40: 27.11.2020. | H40: 27.11.2020. | I40: 26.11.2022. | J40: 5118.3 | K40: 5118.3 | L40: 3382 | M40: =#REF!+#REF!+#REF!+#REF!+#REF!+#REF!+#REF!+#REF!+#REF!+#REF!+#REF!+#REF! -> #REF! | N40: =L40/112*100 -> 3019.6429 | O40: =N40*12/100 -> 362.35714 | P40: =SUM(N40:O40) -> 3382 | Q40: =N40*21/100 -> 634.125 | R40: =Q40-O40 -> 271.76786 | S40: =R40/12*4 -> 90.589286
A41: 32 | B41: 1.1.189 | C41: 226/1-9.1/2020. | D41: Reaģenti asins komponentu kvalitātes kontrolei | E41: Labochema Latvija SIA | F41: 2341 | G41: 28.12.2020. | H41: 28.12.2020. | I41: 27.12.2021. | J41: 231.84 | K41: 231.84 | L41: 21 | M41: =#REF!+#REF!+#REF!+#REF!+#REF!+#REF!+#REF!+#REF!+#REF!+#REF!+#REF!+#REF! -> #REF! | N41: =L41/112*100 -> 18.75 | O41: =N41*12/100 -> 2.25 | P41: =SUM(N41:O41) -> 21 | Q41: =N41*21/100 -> 3.9375 | R41: =Q41-O41 -> 1.6875 | S41: =R41/12*4 -> 0.5625
A42: 33 | B42: 1.1.190 | C42: 155/1-9.1/2020. | D42: Laboratorijas piederumi | E42: Mediq Latvija SIA | F42: 2341 | G42: 12.11.2020. | H42: 12.11.2020. | I42: 11.11.2021. | J42: 340.67 | K42: 292.27 | L42: 267 | M42: =#REF!+#REF!+#REF!+#REF!+#REF!+#REF!+#REF!+#REF!+#REF!+#REF!+#REF!+#REF! -> #REF! | N42: =L42/112*100 -> 238.39286 | O42: =N42*12/100 -> 28.607143 | P42: =SUM(N42:O42) -> 267 | Q42: =N42*21/100 -> 50.0625 | R42: =Q42-O42 -> 21.455357 | S42: =R42/12*4 -> 7.1517857
A43: 34 | B43: 1.1.191 | C43: 91/1-9.1/2020 | D43: Ķirurģiskas salvetes, sterilas | E43: Mediq Latvija SIA | F43: 2341 | G43: 44019 | H43: 44019 | I43: 44749 | J43: 1081.92 | K43: 367.85 | L43: 578 | M43: =#REF!+#REF!+#REF!+#REF!+#REF!+#REF!+#REF!+#REF!+#REF!+#REF!+#REF!+#REF! -> #REF! | N43: =L43/112*100 -> 516.07143 | O43: =N43*12/100 -> 61.928571 | P43: =SUM(N43:O43) -> 578 | Q43: =N43*21/100 -> 108.375 | R43: =Q43-O43 -> 46.446429 | S43: =R43/12*4 -> 15.482143
A44: 35 | B44: 1.1.192 | C44: 135-1/2016 | D44: Vakuumstobriņi bez antikoagulanta asins paraugu sagatavošanai (9 ml seruma) | E44: MEDILINK SIA | F44: 2341 | G44: 02.06.2016. | H44: 02.06.2016. | I44: 31.12.2020. | J44: 19278 | K44: 257.04 | L44: =K44 -> 257.04 | M44: =#REF!+#REF!+#REF!+#REF!+#REF!+#REF!+#REF!+#REF!+#REF!+#REF!+#REF!+#REF! -> #REF! | N44: =L44/112*100 -> 229.5 | O44: =N44*12/100 -> 27.54 | P44: =SUM(N44:O44) -> 257.04 | Q44: =N44*21/100 -> 48.195 | R44: =Q44-O44 -> 20.655 | S44: =R44/12*4 -> 6.885
A45: 36 | B45: 1.1.193 | C45: 085-1/2019 | D45: Reaģenti imūnhematoloģiskajai izmeklēšanai ar gēlkaršu metodi | E45: MEDILINK SIA | F45: 2341 | G45: 17.05.2019. | H45: 17.05.2019. | I45: 44697 | J45: 260155.96 | K45: 110118.52 | L45: 76101 | M45: =#REF!+#REF!+#REF!+#REF!+#REF!+#REF!+#REF!+#REF!+#REF!+#REF!+#REF!+#REF! -> #REF! | N45: =L45/112*100 -> 67947.321 | O45: =N45*12/100 -> 8153.6786 | P45: =SUM(N45:O45) -> 76101 | Q45: =N45*21/100 -> 14268.938 | R45: =Q45-O45 -> 6115.2589 | S45: =R45/12*4 -> 2038.4196
A46: 37 | B46: 1.1.194 | C46: 110-1/2019 | D46: Par reaģentu un kontroles meteriāli reziduālo leikocītu skaita noteikšanai ar plūsmas citometrijas metodi piegādi | E46: MEDILINK SIA | F46: 2341 | G46: 12.07.2019. | H46: 12.07.2019. | I46: līdz saistību izpildei VAI 12.07.2020. | J46: 2144.16 | K46: 482.93 | L46: 482 | M46: =#REF!+#REF!+#REF!+#REF!+#REF!+#REF!+#REF!+#REF!+#REF!+#REF!+#REF!+#REF! -> #REF! | N46: =L46/112*100 -> 430.35714 | O46: =N46*12/100 -> 51.642857 | P46: =SUM(N46:O46) -> 482 | Q46: =N46*21/100 -> 90.375 | R46: =Q46-O46 -> 38.732143 | S46: =R46/12*4 -> 12.910714
A47: 38 | B47: 1.1.195 | C47: 182-1/2018 206-1/2018 | D47: Reaģenti, kalibratori, kontroles materiāli, piederumi un tehniskie šķidumi asins/asins komponentu seroloģisko marķieru automatizētai izmeklēšanai | E47: MEDILINK SIA/ROCHE | F47: 2341 | G47: 13.11.2018. | H47: 13.11.2018. | I47: 13.11.2020. | J47: 764356.99 | K47: 245068.67 | L47: 245067 | M47: =#REF!+#REF!+#REF!+#REF!+#REF!+#REF!+#REF!+#REF!+#REF!+#REF!+#REF!+#REF! -> #REF! | N47: =L47/112*100 -> 218809.82 | O47: =N47*12/100 -> 26257.179 | P47: =SUM(N47:O47) -> 245067 | Q47: =N47*21/100 -> 45950.062 | R47: =Q47-O47 -> 19692.884 | S47: =R47/12*4 -> 6564.2946
A48: 39 | B48: 1.1.196 | C48: 054-1/2019. | D48: Laboratorijas piederumi: vakuumstobra adatas, turētāji | E48: MEDILINK SIA | F48: 2341 | G48: 20.03.2019. | H48: 20.03.2019. | I48: 21.11.2019. | J48: 1355.81 | K48: 260.35 | L48: 260 | M48: =#REF!+#REF!+#REF!+#REF!+#REF!+#REF!+#REF!+#REF!+#REF!+#REF!+#REF!+#REF! -> #REF! | N48: =L48/112*100 -> 232.14286 | O48: =N48*12/100 -> 27.857143 | P48: =SUM(N48:O48) -> 260 | Q48: =N48*21/100 -> 48.75 | R48: =Q48-O48 -> 20.892857 | S48: =R48/12*4 -> 6.9642857
A49: 40 | B49: 1.1.197 | C49: 142/1-9.1/2020. | D49: Laboratorijas reaģenti: | E49: MEDILINK SIA | F49: 2341 | G49: 28.10.2020. | H49: 28.10.2020. | I49: 27.10.2020. | J49: 266.56 | K49: 235.2 | L49: 235 | M49: =#REF!+#REF!+#REF!+#REF!+#REF!+#REF!+#REF!+#REF!+#REF!+#REF!+#REF!+#REF! -> #REF! | N49: =L49/112*100 -> 209.82143 | O49: =N49*12/100 -> 25.178571 | P49: =SUM(N49:O49) -> 235 | Q49: =N49*21/100 -> 44.0625 | R49: =Q49-O49 -> 18.883929 | S49: =R49/12*4 -> 6.2946429
A50: 41 | B50: 1.1.198 | C50: 130/1-9.1/2020. | D50: Laboratorijas reaģenti: | E50: MEDILINK SIA | F50: 2341 | G50: 13.10.2020. | H50: 13.10.2020. | I50: 12.10.2021. | J50: 10792.32 | K50: 7643.53 | L50: 3953 | M50: =#REF!+#REF!+#REF!+#REF!+#REF!+#REF!+#REF!+#REF!+#REF!+#REF!+#REF!+#REF! -> #REF! | N50: =L50/112*100 -> 3529.4643 | O50: =N50*12/100 -> 423.53571 | P50: =SUM(N50:O50) -> 3953 | Q50: =N50*21/100 -> 741.1875 | R50: =Q50-O50 -> 317.65179 | S50: =R50/12*4 -> 105.88393
A51: 42 | B51: 1.1.199 | C51: 81/1-9.1/2020 | D51: Medicīnisko preču piegāde | E51: MEDILINK SIA | F51: 2341 | G51: 28.07./2020. | H51: 28.07./2020. | I51: 09.09.2023. | J51: 20160 | K51: 20160 | L51: 11088 | M51: =#REF!+#REF!+#REF!+#REF!+#REF!+#REF!+#REF!+#REF!+#REF!+#REF!+#REF!+#REF! -> #REF! | N51: =L51/112*100 -> 9900 | O51: =N51*12/100 -> 1188 | P51: =SUM(N51:O51) -> 11088 | Q51: =N51*21/100 -> 2079 | R51: =Q51-O51 -> 891 | S51: =R51/12*4 -> 297
A52: 43 | B52: 1.1.200 | C52: 158-1/2019 | D52: Ķirurģisko salvešu piegāde | E52: MEDILINK SIA | F52: 2341 | G52: 24.09.2019. | H52: 24.09.2019. | I52: 27.09.2021. | J52: 1310.4 | K52: 524.16 | L52: 525 | M52: =#REF!+#REF!+#REF!+#REF!+#REF!+#REF!+#REF!+#REF!+#REF!+#REF!+#REF!+#REF! -> #REF! | N52: =L52/112*100 -> 468.75 | O52: =N52*12/100 -> 56.25 | P52: =SUM(N52:O52) -> 525 | Q52: =N52*21/100 -> 98.4375 | R52: =Q52-O52 -> 42.1875 | S52: =R52/12*4 -> 14.0625
A53: 44 | B53: 1.1.201 | C53: 148/1-9.1/2020 | D53: Laboratorijas reaģenti: | E53: MEDILINK SIA | F53: 2341 | G53: 04.11.2020. | H53: 04.11.2020. | I53: 03.11.2021. | J53: 179.2 | K53: 179.2 | L53: 179 | M53: =#REF!+#REF!+#REF!+#REF!+#REF!+#REF!+#REF!+#REF!+#REF!+#REF!+#REF!+#REF! -> #REF! | N53: =L53/112*100 -> 159.82143 | O53: =N53*12/100 -> 19.178571 | P53: =SUM(N53:O53) -> 179 | Q53: =N53*21/100 -> 33.5625 | R53: =Q53-O53 -> 14.383929 | S53: =R53/12*4 -> 4.7946429
A54: 45 | B54: 1.1.202 | C54: 212/1-9.1/2020. | D54: Dezinfekcijas līdzekļi | E54: MEDILINK SIA | F54: 2341 | G54: 15.12.2020. | H54: 15.12.2020. | I54: 14.12.2023. | J54: 5588.8 | K54: 5588.8 | L54: 1942 | M54: =#REF!+#REF!+#REF!+#REF!+#REF!+#REF!+#REF!+#REF!+#REF!+#REF!+#REF!+#REF! -> #REF! | N54: =L54/112*100 -> 1733.9286 | O54: =N54*12/100 -> 208.07143 | P54: =SUM(N54:O54) -> 1942 | Q54: =N54*21/100 -> 364.125 | R54: =Q54-O54 -> 156.05357 | S54: =R54/12*4 -> 52.017857
A55: 47 | B55: 1.1.204 | C55: 079-1/2017 | D55: Vienreizējās lietošanas maģistrāles donoru automātiskajai plazmaferēzei | E55: OU ECT Nordic | F55: 2341 | G55: 06.04.2017. | H55: 06.04.2017. | I55: 05.04.2019. | J55: 107040 | K55: 16769.6 | L55: 714 | M55: =#REF!+#REF!+#REF!+#REF!+#REF!+#REF!+#REF!+#REF!+#REF!+#REF!+#REF!+#REF! -> #REF! | N55: =L55/112*100 -> 637.5 | O55: =N55*12/100 -> 76.5 | P55: =SUM(N55:O55) -> 714 | Q55: =N55*21/100 -> 133.875 | R55: =Q55-O55 -> 57.375 | S55: =R55/12*4 -> 19.125
A56: 48 | B56: 1.1.205 | C56: 92/1-9.1/2020 | D56: Vienreizējās lietošanas maģistrāles donoru automātiskajai plazmaferēzei TRIMA | E56: OU ECT Nordic | F56: 2341 | G56: 44049 | H56: 44050 | I56: 06.08.2021. | J56: 9921.6 | K56: 8265 | L56: =K56 -> 8265 | M56: =#REF!+#REF!+#REF!+#REF!+#REF!+#REF!+#REF!+#REF!+#REF!+#REF!+#REF!+#REF! -> #REF! | N56: =L56/112*100 -> 7379.4643 | O56: =N56*12/100 -> 885.53571 | P56: =SUM(N56:O56) -> 8265 | Q56: =N56*21/100 -> 1549.6875 | R56: =Q56-O56 -> 664.15179 | S56: =R56/12*4 -> 221.38393
A57: 49 | B57: 1.1.206 | C57: 099-1/2019 | D57: Vienreizējās lietošanas maģistrāļu komplekti multikomponentu (trombocītu aferēzes) procedūru un donoru plazmaferēzes procedūru veikšanai | E57: OU ECT Nordic | F57: 2341 | G57: 18.06.2019. | H57: 18.06.2019. | I57: 17.06.2022. | J57: 706260 | K57: 367849.2 | L57: 227074 | M57: =#REF!+#REF!+#REF!+#REF!+#REF!+#REF!+#REF!+#REF!+#REF!+#REF!+#REF!+#REF! -> #REF! | N57: =L57/112*100 -> 202744.64 | O57: =N57*12/100 -> 24329.357 | P57: =SUM(N57:O57) -> 227074 | Q57: =N57*21/100 -> 42576.375 | R57: =Q57-O57 -> 18247.018 | S57: =R57/12*4 -> 6082.3393
A58: 50 | B58: 1.1.207 | C58: 044-1/2018 | D58: Vienreizējās lietošanas maģistrāles automātiskai asins komponentu atmazgāšanai | E58: OU ECT Nordic | F58: 2341 | G58: 02.03.2018 | H58: 02.03.2018 | I58: 02.03.2020 | J58: 4358.4 | K58: 3344.04 | L58: 2788 | M58: =#REF!+#REF!+#REF!+#REF!+#REF!+#REF!+#REF!+#REF!+#REF!+#REF!+#REF!+#REF! -> #REF! | N58: =L58/112*100 -> 2489.2857 | O58: =N58*12/100 -> 298.71429 | P58: =SUM(N58:O58) -> 2788 | Q58: =N58*21/100 -> 522.75 | R58: =Q58-O58 -> 224.03571 | S58: =R58/12*4 -> 74.678571
A59: 51 | C59: 56/1-9.1/2021 | D59: Vienreizējās lietošanas maģistrāles donoru automātiskajai plazmaferēzei, iekārtas un antikoagulanta šķīduma - 4% nātrija citrāts | E59: OU ECT Nordic | F59: 2341 | G59: 21.05.2021. | H59: 21.05.2021. | I59: 26.04.2024. | J59: 138539 | K59: 138539 | L59: =48906 -> 48906 | M59: =#REF!+#REF!+#REF!+#REF!+#REF!+#REF!+#REF!+#REF!+#REF!+#REF!+#REF!+#REF! -> #REF! | N59: =L59/112*100 -> 43666.071 | O59: =N59*12/100 -> 5239.9286 | P59: =SUM(N59:O59) -> 48906 | Q59: =N59*21/100 -> 9169.875 | R59: =Q59-O59 -> 3929.9464 | S59: =R59/12*4 -> 1309.9821
A60: 52 | B60: 1.1.208 | C60: 132/1-9.1/2020. | D60: Asins plastisko maisu caurulīšu sterilas sakausēšanas ierīces-asmenīši | E60: OU ECT Nordic | F60: 2341 | G60: 14.10.2020. | H60: 14.10.2020. | I60: 14.10.2023. | J60: 352800 | K60: 352800 | L60: 131712 | M60: =#REF!+#REF!+#REF!+#REF!+#REF!+#REF!+#REF!+#REF!+#REF!+#REF!+#REF!+#REF! -> #REF! | N60: =L60/112*100 -> 117600 | O60: =N60*12/100 -> 14112 | P60: =SUM(N60:O60) -> 131712 | Q60: =N60*21/100 -> 24696 | R60: =Q60-O60 -> 10584 | S60: =R60/12*4 -> 3528
A61: 53 | B61: 1.1.209 | C61: 028-1/2019 | D61: Reaģenti asins komponentu kvalitātes kontroles hematoloģiskai testēšanai | E61: ROCHE SIA | F61: 2341 | G61: 07.02.2019. | H61: 07.02.2019. | I61: 28.08.2020. | J61: 9498.72 | K61: 4903.2 | L61: 602 | M61: =#REF!+#REF!+#REF!+#REF!+#REF!+#REF!+#REF!+#REF!+#REF!+#REF!+#REF!+#REF! -> #REF! | N61: =L61/112*100 -> 537.5 | O61: =N61*12/100 -> 64.5 | P61: =SUM(N61:O61) -> 602 | Q61: =N61*21/100 -> 112.875 | R61: =Q61-O61 -> 48.375 | S61: =R61/12*4 -> 16.125 | Y61: =Y62-W62 -> 0 | AA61: =SUM(Z62:AA62) -> 0
A62: 54 | B62: 1.1.210 | C62: 119-1/2019 | D62: Par laboratorisko reaģentu un piederumi asins komponentu kvalitātes kontrolei piegādi | E62: ROCHE SIA | F62: 2341 | G62: 25.07.2019. | H62: 25.07.2019. | I62: 31.07.2020. | J62: 1742.05 | K62: 1028.84 | L62: 1028 | M62: =#REF!+#REF!+#REF!+#REF!+#REF!+#REF!+#REF!+#REF!+#REF!+#REF!+#REF!+#REF! -> #REF! | N62: =L62/112*100 -> 917.85714 | O62: =N62*12/100 -> 110.14286 | P62: =SUM(N62:O62) -> 1028 | Q62: =N62*21/100 -> 192.75 | R62: =Q62-O62 -> 82.607143 | S62: =R62/12*4 -> 27.535714 | Y62: =SUM(Y63:Y63) -> 0 | Z62: =SUM(Z63:Z63) -> 0 | AA62: =SUM(AA63:AA63) -> 0
A63: 55 | C63: 100/1-9.1/2021 | D63: NAT reaģenti vīrusu molekulārajam skrīningam donoru asins paraugiem | E63: Diamedika | F63: 2341 | G63: 27.07.2021. | H63: 27.07.2021. | I63: 27.07.2026. | J63: 3049532.8 | K63: 3049532.8 | L63: 564542 | N63: =L63/112*100 -> 504055.36 | O63: =N63*12/100 -> 60486.643 | P63: =SUM(N63:O63) -> 564542 | Q63: =N63*21/100 -> 105851.62 | R63: =Q63-O63 -> 45364.982 | S63: =R63/12*4 -> 15121.661 | Y63: =V63*21/100 -> 0 | Z63: =Y63-W63 -> 0
A64: 56 | B64: 1.1.212 | C64: 227/1-9.1/2020 | D64: Laboratorijas piederumi KKL | E64: ROCHE SIA | F64: 2341 | G64: 28.12.2020. | H64: 28.12.2020. | I64: 27.12.2021. | J64: 2412.92 | K64: 2412.92 | L64: 551 | M64: =#REF!+#REF!+#REF!+#REF!+#REF!+#REF!+#REF!+#REF!+#REF!+#REF!+#REF!+#REF! -> #REF! | N64: =L64/112*100 -> 491.96429 | O64: =N64*12/100 -> 59.035714 | P64: =SUM(N64:O64) -> 551 | Q64: =N64*21/100 -> 103.3125 | R64: =Q64-O64 -> 44.276786 | S64: =R64/12*4 -> 14.758929
A65: 57 | B65: 1.1.213 | C65: 4/1-9.1/2021 | D65: Reaģenti SARS-CoV-2 | E65: ROCHE SIA | F65: 2341 | G65: 07.01.2021. | H65: 07.01.2021. | I65: 07.07.2021. | J65: 36606.86 | K65: 36606.86 | L65: 36606 | M65: =#REF!+#REF!+#REF!+#REF!+#REF!+#REF!+#REF!+#REF!+#REF!+#REF!+#REF!+#REF! -> #REF! | N65: =L65/112*100 -> 32683.929 | O65: =N65*12/100 -> 3922.0714 | P65: =SUM(N65:O65) -> 36606 | Q65: =N65*21/100 -> 6863.625 | R65: =Q65-O65 -> 2941.5536 | S65: =R65/12*4 -> 980.51786
A66: 58 | B66: 1.1.214 | C66: 19/1-9.1/2021 | D66: Par asins komponentu apstarošanas indikatoru piegādi | E66: Raidynas UAB | F66: 2341 | G66: 04.03.2021. | H66: 04.03.2021. | I66: 04.03.2022. | J66: 5080 | K66: 5080 | L66: 3310 | M66: =#REF!+#REF!+#REF!+#REF!+#REF!+#REF!+#REF!+#REF!+#REF!+#REF!+#REF!+#REF! -> #REF! | N66: =L66/112*100 -> 2955.3571 | O66: =N66*12/100 -> 354.64286 | P66: =SUM(N66:O66) -> 3310 | Q66: =N66*21/100 -> 620.625 | R66: =Q66-O66 -> 265.98214 | S66: =R66/12*4 -> 88.660714
A67: 59 | B67: 1.1.215 | C67: 078-1/2017 | D67: Antikoagulanta šķīdums -4% nātrija citrāts | E67: PROSANGVIS SIA | F67: 2341 | G67: 06.04.2017. | H67: 06.04.2017. | I67: 05.04.2018. | J67: 24960 | K67: 7234.5 | L67: 1736 | M67: =#REF!+#REF!+#REF!+#REF!+#REF!+#REF!+#REF!+#REF!+#REF!+#REF!+#REF!+#REF! -> #REF! | N67: =L67/112*100 -> 1550 | O67: =N67*12/100 -> 186 | P67: =SUM(N67:O67) -> 1736 | Q67: =N67*21/100 -> 325.5 | R67: =Q67-O67 -> 139.5 | S67: =R67/12*4 -> 46.5
A68: 60 | B68: 1.1.216 | C68: 150/1-9.1/2020 | D68: Par mikrotrauciņu kapilāro asins paraugu ņemšanai | E68: SARSTED SIA | F68: 2341 | G68: 06.11.2020. | H68: 06.11.2020. | I68: 05.11.2021. | J68: 464.64 | K68: 392.96 | L68: 351 | M68: =#REF!+#REF!+#REF!+#REF!+#REF!+#REF!+#REF!+#REF!+#REF!+#REF!+#REF!+#REF! -> #REF! | N68: =L68/112*100 -> 313.39286 | O68: =N68*12/100 -> 37.607143 | P68: =SUM(N68:O68) -> 351 | Q68: =N68*21/100 -> 65.8125 | R68: =Q68-O68 -> 28.205357 | S68: =R68/12*4 -> 9.4017857
A69: 61 | B69: 1.1.217 | C69: 90/1-9.1/2020 | D69: Kokvilnas tamponi | E69: Santaks SIA | F69: 2341 | G69: 08.07.2020. | H69: 08.07.2020. | I69: 03.07.2021. | J69: 3818.76 | K69: 3818.76 | L69: 1646 | M69: =#REF!+#REF!+#REF!+#REF!+#REF!+#REF!+#REF!+#REF!+#REF!+#REF!+#REF!+#REF! -> #REF! | N69: =L69/112*100 -> 1469.6429 | O69: =N69*12/100 -> 176.35714 | P69: =SUM(N69:O69) -> 1646 | Q69: =N69*21/100 -> 308.625 | R69: =Q69-O69 -> 132.26786 | S69: =R69/12*4 -> 44.089286
A70: 62 | B70: 1.1.218 | C70: 149/1-9.1/2020 | D70: Laboratorijas piederumi | E70: Santaks SIA | F70: 2341 | G70: 04.11.2020. | H70: 04.11.2020. | I70: 03.11.2021. | J70: 664.29 | K70: 664.29 | L70: 664 | M70: =#REF!+#REF!+#REF!+#REF!+#REF!+#REF!+#REF!+#REF!+#REF!+#REF!+#REF!+#REF! -> #REF! | N70: =L70/112*100 -> 592.85714 | O70: =N70*12/100 -> 71.142857 | P70: =SUM(N70:O70) -> 664 | Q70: =N70*21/100 -> 124.5 | R70: =Q70-O70 -> 53.357143 | S70: =R70/12*4 -> 17.785714
A71: 63 | B71: 1.1.219 | C71: 220/1-9.1/2020 | D71: Dezinfekcijas līdzekļi | E71: SPODRA SIA | F71: 2341 | G71: 22.12.2020. | H71: 22.12.2020. | I71: 21.12.2023. | J71: 2952.4 | K71: 2952.4 | L71: 266 | M71: =#REF!+#REF!+#REF!+#REF!+#REF!+#REF!+#REF!+#REF!+#REF!+#REF!+#REF!+#REF! -> #REF! | N71: =L71/112*100 -> 237.5 | O71: =N71*12/100 -> 28.5 | P71: =SUM(N71:O71) -> 266 | Q71: =N71*21/100 -> 49.875 | R71: =Q71-O71 -> 21.375 | S71: =R71/12*4 -> 7.125
A72: 64 | B72: 1.1.220 | C72: 89/1-9.1/2020 | D72: Koaguloģijas reaģenti, kalibratori, kontroles materiāli, piederumi un citi tehnoloģiskie šķīdumi asins/asins komponentu kvalitātes kontrolei | E72: Siemens Healthcare Oy Latv.filiāle | F72: 2341 | G72: 44015 | H72: 44015 | I72: 45868 | J72: 89544 | K72: 81591.5 | L72: 17904 | M72: =#REF!+#REF!+#REF!+#REF!+#REF!+#REF!+#REF!+#REF!+#REF!+#REF!+#REF!+#REF! -> #REF! | N72: =L72/112*100 -> 15985.714 | O72: =N72*12/100 -> 1918.2857 | P72: =SUM(N72:O72) -> 17904 | Q72: =N72*21/100 -> 3357 | R72: =Q72-O72 -> 1438.7143 | S72: =R72/12*4 -> 479.57143
A73: 65 | B73: 1.1.221 | C73: 31/1-9.1/2021 | D73: Par termo pārneses lentu iegādi ar piegādi | E73: Timesaving SIA | F73: 2341 | G73: 23.03.2021. | H73: 23.03.2021. | I73: 23.09.2022. | J73: 1288.65 | K73: 1288.65 | L73: 816 | M73: =#REF!+#REF!+#REF!+#REF!+#REF!+#REF!+#REF!+#REF!+#REF!+#REF!+#REF!+#REF! -> #REF! | N73: =L73/112*100 -> 728.57143 | O73: =N73*12/100 -> 87.428571 | P73: =SUM(N73:O73) -> 816 | Q73: =N73*21/100 -> 153 | R73: =Q73-O73 -> 65.571429 | S73: =R73/12*4 -> 21.857143
A74: 66 | B74: 1.1.222 | C74: 149-1/2018 | D74: Sterilā antikoagulanta šķīdums ACD-A atomātiskajām aferēzes procedūrām piegādi (3000 gabX2.55euro =7650.00 euro) | E74: VIVOSPEKTRAS MB | F74: 2341 | G74: 10.09.2018. | H74: 10.09.2018. | I74: 10.09.2020. | J74: 7650 | K74: 1575 | L74: =K74 -> 1575 | M74: =#REF!+#REF!+#REF!+#REF!+#REF!+#REF!+#REF!+#REF!+#REF!+#REF!+#REF!+#REF! -> #REF! | N74: =L74/112*100 -> 1406.25 | O74: =N74*12/100 -> 168.75 | P74: =SUM(N74:O74) -> 1575 | Q74: =N74*21/100 -> 295.3125 | R74: =Q74-O74 -> 126.5625 | S74: =R74/12*4 -> 42.1875
A75: 67 | B75: 1.1.223 | C75: 048-1/2019. | D75: Plastiskie maisiņi asins komponentu mikrobioloģiskai (sterilitātes) kontrolei | E75: VIVOSPEKTRAS MB | F75: 2341 | G75: 29.03.2019. | H75: 29.03.2019. | I75: 18.03.2021. | J75: 3291.2 | K75: 231.8 | L75: 232 | M75: =#REF!+#REF!+#REF!+#REF!+#REF!+#REF!+#REF!+#REF!+#REF!+#REF!+#REF!+#REF! -> #REF! | N75: =L75/112*100 -> 207.14286 | O75: =N75*12/100 -> 24.857143 | P75: =SUM(N75:O75) -> 232 | Q75: =N75*21/100 -> 43.5 | R75: =Q75-O75 -> 18.642857 | S75: =R75/12*4 -> 6.2142857
A76: 68 | B76: 1.1.224 | C76: 40/1-9.2/2020 | D76: Aizvietojošs šķīdums trombocītu masas sagatavošanai SSP+ | E76: VIVOSPEKTRAS MB | F76: 2341 | G76: 18.03.2020. | H76: 18.03.2020. | I76: 31.03.2023. | J76: 115200 | K76: 76800 | L76: =K76 -> 76800 | M76: =#REF!+#REF!+#REF!+#REF!+#REF!+#REF!+#REF!+#REF!+#REF!+#REF!+#REF!+#REF! -> #REF! | N76: =L76/112*100 -> 68571.429 | O76: =N76*12/100 -> 8228.5714 | P76: =SUM(N76:O76) -> 76800 | Q76: =N76*21/100 -> 14400 | R76: =Q76-O76 -> 6171.4286 | S76: =R76/12*4 -> 2057.1429
A77: 69 | B77: 1.1.225 | C77: 103/1-9.1/2020. | D77: Hematoloģijas parametru reaģenti, kalibratori, kontroles materiāli, piederumi un citi tehnoloģiskie šķīdumi asins/asins komponentu kvalitātes kontrolei | E77: TAMRO SIA | F77: 2341 | G77: 44046 | H77: 44047 | I77: 45865 | J77: 26120 | K77: 21418.1 | L77: 10148 | M77: =#REF!+#REF!+#REF!+#REF!+#REF!+#REF!+#REF!+#REF!+#REF!+#REF!+#REF!+#REF! -> #REF! | N77: =L77/112*100 -> 9060.7143 | O77: =N77*12/100 -> 1087.2857 | P77: =SUM(N77:O77) -> 10148 | Q77: =N77*21/100 -> 1902.75 | R77: =Q77-O77 -> 815.46429 | S77: =R77/12*4 -> 271.82143
A78: 70 | B78: 1.1.226 | C78: EIS | D78: Natrija chloridi 0,9%, lancetes, ammonium solution 10%, 40ml, tamponi nesterīli, cimdi, salvetes | E78: NMS Laboratorijas SIA | F78: 2341 | L78: 25380 | M78: =#REF!+#REF!+#REF!+#REF!+#REF!+#REF!+#REF!+#REF!+#REF!+#REF!+#REF!+#REF! -> #REF! | N78: =L78/112*100 -> 22660.714 | O78: =N78*12/100 -> 2719.2857 | P78: =SUM(N78:O78) -> 25380 | Q78: =N78*21/100 -> 4758.75 | R78: =Q78-O78 -> 2039.4643 | S78: =R78/12*4 -> 679.82143
A79: 71 | B79: 1.1.227 | C79: VVnr.8-244-2020 | D79: Natrija chloridi 0,9%, lancetes | E79: Bbraun SIA | F79: 2341 | L79: 27 | M79: =#REF!+#REF!+#REF!+#REF!+#REF!+#REF!+#REF!+#REF!+#REF!+#REF!+#REF!+#REF! -> #REF! | N79: =L79/112*100 -> 24.107143 | O79: =N79*12/100 -> 2.8928571 | P79: =SUM(N79:O79) -> 27 | Q79: =N79*21/100 -> 5.0625 | R79: =Q79-O79 -> 2.1696429 | S79: =R79/12*4 -> 0.72321429
A80: 72 | B80: 1.1.228 | C80: VRAA/2017/05/AK/CI-112 | D80: Med. preces | E80: Prodlex SIA | F80: 2341 | L80: 62 | M80: =#REF!+#REF!+#REF!+#REF!+#REF!+#REF!+#REF!+#REF!+#REF!+#REF!+#REF!+#REF! -> #REF! | N80: =L80/112*100 -> 55.357143 | O80: =N80*12/100 -> 6.6428571 | P80: =SUM(N80:O80) -> 62 | Q80: =N80*21/100 -> 11.625 | R80: =Q80-O80 -> 4.9821429 | S80: =R80/12*4 -> 1.6607143
A81: 73 | B81: 1.1.229 | C81: VM NVD 2019/15 | D81: Med. preces | E81: Medilink SIA | F81: 2341 | L81: 3855 | M81: =#REF!+#REF!+#REF!+#REF!+#REF!+#REF!+#REF!+#REF!+#REF!+#REF!+#REF!+#REF! -> #REF! | N81: =L81/112*100 -> 3441.9643 | O81: =N81*12/100 -> 413.03571 | P81: =SUM(N81:O81) -> 3855 | Q81: =N81*21/100 -> 722.8125 | R81: =Q81-O81 -> 309.77679 | S81: =R81/12*4 -> 103.25893
A82: 74 | B82: 1.1.230 | C82: VADC/2020/84-8-24 | D82: Med. preces | E82: Magnum Medical | F82: 2341 | L82: 12924 | M82: =#REF!+#REF!+#REF!+#REF!+#REF!+#REF!+#REF!+#REF!+#REF!+#REF!+#REF!+#REF! -> #REF! | N82: =L82/112*100 -> 11539.286 | O82: =N82*12/100 -> 1384.7143 | P82: =SUM(N82:O82) -> 12924 | Q82: =N82*21/100 -> 2423.25 | R82: =Q82-O82 -> 1038.5357 | S82: =R82/12*4 -> 346.17857
A83: 75 | B83: 1.1.231 | C83: VM NVD 2019/15 | D83: Med. preces | E83: Prāna Ko, SIA | F83: 2341 | L83: 2326 | M83: =#REF!+#REF!+#REF!+#REF!+#REF!+#REF!+#REF!+#REF!+#REF!+#REF!+#REF!+#REF! -> #REF! | N83: =L83/112*100 -> 2076.7857 | O83: =N83*12/100 -> 249.21429 | P83: =SUM(N83:O83) -> 2326 | Q83: =N83*21/100 -> 436.125 | R83: =Q83-O83 -> 186.91071 | S83: =R83/12*4 -> 62.303571
A84: 76 | B84: 1.1.232 | C84: VM NVD 2019/15 | D84: Med. preces | E84: Onemed | F84: 2341 | L84: 6854 | M84: =#REF!+#REF!+#REF!+#REF!+#REF!+#REF!+#REF!+#REF!+#REF!+#REF!+#REF!+#REF! -> #REF! | N84: =L84/112*100 -> 6119.6429 | O84: =N84*12/100 -> 734.35714 | P84: =SUM(N84:O84) -> 6854 | Q84: =N84*21/100 -> 1285.125 | R84: =Q84-O84 -> 550.76786 | S84: =R84/12*4 -> 183.58929
A85: 77 | B85: 1.1.233 | C85: VM NVD 2019/15V | D85: Med. preces | E85: Tamro SIA | F85: 2341 | L85: 26 | M85: =#REF!+#REF!+#REF!+#REF!+#REF!+#REF!+#REF!+#REF!+#REF!+#REF!+#REF!+#REF! -> #REF! | N85: =L85/112*100 -> 23.214286 | O85: =N85*12/100 -> 2.7857143 | P85: =SUM(N85:O85) -> 26 | Q85: =N85*21/100 -> 4.875 | R85: =Q85-O85 -> 2.0892857 | S85: =R85/12*4 -> 0.69642857
A86: 78 | B86: 1.1.234 | F86: 2341 | M86: =#REF!+#REF!+#REF!+#REF!+#REF!+#REF!+#REF!+#REF!+#REF!+#REF!+#REF!+#REF! -> #REF! | N86: =L86/112*100 -> 0 | O86: =N86*12/100 -> 0 | P86: =SUM(N86:O86) -> 0 | Q86: =N86*21/100 -> 0 | R86: =Q86-O86 -> 0 | S86: =R86/12*4 -> 0
A87: 2 | B87: Pārējie iepirkumi kopā PĀRĒJIE PLĀNOTIE/ ZINĀMIE/ IZPILDĪTIE/ PAREDZAMIE IESTĀDES MAKSĀJUMI (t.sk. pārējie iepirkumi - visi iestādes maksājumi, sākot no pirmā euro): | F87: x | G87: x | H87: x | I87: x | J87: =SUM(J89:J98) -> 0 | K87: =SUM(K89:K98) -> 0 | L87: =SUM(L89:L98) -> 22308 | M87: =SUM(M89:M98) -> #REF! | N87: =SUM(N89:N98) -> 19917.857 | O87: =SUM(O89:O98) -> 2390.1429 | P87: =SUM(P89:P98) -> 22308 | Q87: =SUM(Q89:Q98) -> 4182.75 | ... S87: =SUM(S89:S98) -> 597.53571
A88: 2.1. Pārējie iepirkumi/izdevumi, izņemot IT izdevumus | L88: =SUM(L89:L98) -> 22308 | M88: =SUM(M89:M98) -> #REF! | N88: =SUM(N89:N98) -> 19917.857 | O88: =SUM(O89:O98) -> 2390.1429 | P88: =SUM(P89:P98) -> 22308 | Q88: =SUM(Q89:Q98) -> 4182.75 | R88: =SUM(R89:R98) -> 1792.6071 | S88: =SUM(S89:S98) -> 597.53571
B89: 2.1.38. | C89: bez līgumiem | D89: Vakumstobriņi, korķi stobriņiem 3 ml, vakuumstobriņu turētāji, dezinfekcijas līdzekļi | F89: 2341 | L89: 17624 | M89: =#REF!+#REF!+#REF!+#REF!+#REF!+#REF!+#REF!+#REF!+#REF!+#REF!+#REF!+#REF! -> #REF! | N89: =L89/112*100 -> 15735.714 | O89: =N89*12/100 -> 1888.2857 | P89: =SUM(N89:O89) -> 17624 | Q89: =N89*21/100 -> 3304.5 | R89: =Q89-O89 -> 1416.2143 | S89: =R89/12*4 -> 472.07143
B90: 2.1.39. | C90: bez līgumiem | E90: Medilink SIA | F90: 2341 | L90: 632 | M90: =#REF!+#REF!+#REF!+#REF!+#REF!+#REF!+#REF!+#REF!+#REF!+#REF!+#REF!+#REF! -> #REF! | N90: =L90/112*100 -> 564.28571 | O90: =N90*12/100 -> 67.714286 | P90: =SUM(N90:O90) -> 632 | Q90: =N90*21/100 -> 118.5 | R90: =Q90-O90 -> 50.785714 | S90: =R90/12*4 -> 16.928571
B91: 2.1.40. | C91: bez līgumiem | D91: Set | E91: OU ECT Nordek | F91: 2341 | L91: 960 | M91: =#REF!+#REF!+#REF!+#REF!+#REF!+#REF!+#REF!+#REF!+#REF!+#REF!+#REF!+#REF! -> #REF! | N91: =L91/112*100 -> 857.14286 | O91: =N91*12/100 -> 102.85714 | P91: =SUM(N91:O91) -> 960 | Q91: =N91*21/100 -> 180 | R91: =Q91-O91 -> 77.142857 | S91: =R91/12*4 -> 25.714286
B92: 2.1.41. | C92: bez līgumiem | D92: Klemmes | E92: Baltijas Dialīzes Serviss | F92: 2341 | L92: 147 | M92: =#REF!+#REF!+#REF!+#REF!+#REF!+#REF!+#REF!+#REF!+#REF!+#REF!+#REF!+#REF! -> #REF! | N92: =L92/112*100 -> 131.25 | O92: =N92*12/100 -> 15.75 | P92: =SUM(N92:O92) -> 147 | Q92: =N92*21/100 -> 27.5625 | R92: =Q92-O92 -> 11.8125 | S92: =R92/12*4 -> 3.9375
B93: 2.1.42. | C93: bez līgumiem | E93: Diagnostik Referenzinnnstitut | F93: 2341 | L93: 44 | M93: =#REF!+#REF!+#REF!+#REF!+#REF!+#REF!+#REF!+#REF!+#REF!+#REF!+#REF!+#REF! -> #REF! | N93: =L93/112*100 -> 39.285714 | O93: =N93*12/100 -> 4.7142857 | P93: =SUM(N93:O93) -> 44 | Q93: =N93*21/100 -> 8.25 | R93: =Q93-O93 -> 3.5357143 | S93: =R93/12*4 -> 1.1785714
B94: 2.1.43. | C94: bez līgumiem | E94: FermBaltAptieka | F94: 2341 | L94: 481 | M94: =#REF!+#REF!+#REF!+#REF!+#REF!+#REF!+#REF!+#REF!+#REF!+#REF!+#REF!+#REF! -> #REF! | N94: =L94/112*100 -> 429.46429 | O94: =N94*12/100 -> 51.535714 | P94: =SUM(N94:O94) -> 481 | Q94: =N94*21/100 -> 90.1875 | R94: =Q94-O94 -> 38.651786 | S94: =R94/12*4 -> 12.883929
B95: 2.1.44. | C95: bez līgumiem | E95: Recipe Plus SIA | F95: 2341 | L95: 1755 | M95: =#REF!+#REF!+#REF!+#REF!+#REF!+#REF!+#REF!+#REF!+#REF!+#REF!+#REF!+#REF! -> #REF! | N95: =L95/112*100 -> 1566.9643 | O95: =N95*12/100 -> 188.03571 | P95: =SUM(N95:O95) -> 1755 | Q95: =N95*21/100 -> 329.0625 | R95: =Q95-O95 -> 141.02679 | S95: =R95/12*4 -> 47.008929
B96: 2.1.45. | C96: bez līgumiem | E96: EDQM | F96: 2341 | L96: 150 | M96: =#REF!+#REF!+#REF!+#REF!+#REF!+#REF!+#REF!+#REF!+#REF!+#REF!+#REF!+#REF! -> #REF! | N96: =L96/112*100 -> 133.92857 | O96: =N96*12/100 -> 16.071429 | P96: =SUM(N96:O96) -> 150 | Q96: =N96*21/100 -> 28.125 | R96: =Q96-O96 -> 12.053571 | S96: =R96/12*4 -> 4.0178571
B97: 2.1.46. | C97: bez līgumiem | E97: Mediq SIA | F97: 2341 | L97: 104 | M97: =#REF!+#REF!+#REF!+#REF!+#REF!+#REF!+#REF!+#REF!+#REF!+#REF!+#REF!+#REF! -> #REF! | N97: =L97/112*100 -> 92.857143 | O97: =N97*12/100 -> 11.142857 | P97: =SUM(N97:O97) -> 104 | Q97: =N97*21/100 -> 19.5 | R97: =Q97-O97 -> 8.3571429 | S97: =R97/12*4 -> 2.7857143
B98: 2.1.47. | C98: bez līgumiem | E98: Laboratorine medicina | F98: 2341 | L98: 411 | M98: =#REF!+#REF!+#REF!+#REF!+#REF!+#REF!+#REF!+#REF!+#REF!+#REF!+#REF!+#REF! -> #REF! | N98: =L98/112*100 -> 366.96429 | O98: =N98*12/100 -> 44.035714 | P98: =SUM(N98:O98) -> 411 | Q98: =N98*21/100 -> 77.0625 | R98: =Q98-O98 -> 33.026786 | S98: =R98/12*4 -> 11.008929
A99: 3 | B99: Plānotie līgumi kopā | F99: x | G99: x | H99: x | I99: x | J99: =SUM(J101:J111) -> 2065382.8 | K99: =SUM(K101:K111) -> 2239893.5 | L99: =L100 -> 124723 | M99: =#REF!+#REF!+#REF!+#REF!+#REF!+#REF!+#REF!+#REF!+#REF!+#REF!+#REF!+#REF! -> #REF! | N99: =L99/112*100 -> 111359.82 | O99: =N99*12/100 -> 13363.179 | P99: =SUM(N99:O99) -> 124723 | Q99: =N99*21/100 -> 23385.562 | R99: =Q99-O99 -> 10022.384 | S99: =R99/12*4 -> 3340.7946
A100: 3.1. Plānotie līgumi, t.sk.iepirkumi, izņemot IT līgumus | L100: =SUM(L101:L111) -> 124723 | M100: =SUM(M101:M111) -> #REF! | N100: =L100/112*100 -> 111359.82 | O100: =N100*12/100 -> 13363.179 | P100: =SUM(N100:O100) -> 124723 | Q100: =N100*21/100 -> 23385.562 | R100: =Q100-O100 -> 10022.384 | S100: =R100/12*4 -> 3340.7946
B101: 3.1.52. | C101: janvāris | D101: Spirta piegāde | F101: 2341 | G101: 12 | H101: 2021 | I101: 2021 | J101: 450 | K101: =J101*112/100 -> 504 | L101: 504 | M101: =#REF!+#REF!+#REF!+#REF!+#REF!+#REF!+#REF!+#REF!+#REF!+#REF!+#REF!+#REF! -> #REF! | N101: =L101/112*100 -> 450 | O101: =N101*12/100 -> 54 | P101: =SUM(N101:O101) -> 504 | Q101: =N101*21/100 -> 94.5 | R101: =Q101-O101 -> 40.5 | S101: =R101/12*4 -> 13.5
...
