Workbook

Sheet Vidējais termiņš
A1: Pielikums likumprojekta "Grozījumi likumā "Par izdienas pensijām Iekšlietu ministrijas sistēmas darbiniekiem ar speciālajām dienesta pakāpēm"" sākotnējās ietekmes (ex-ante) novērtējuma ziņojumam (anotācijai)
A2: Ietekme uz valsts budžetu par Iekšlietu ministrijas sistēmas iestāžu un Ieslodzījuma vietu pārvaldes amatpersonu ar speciālajām dienesta pakāpēm potenciālajiem izdienas pensijas pieprasītājiem 2027. - 2029. gadā
A4: Sadalījumā pa iestādēm
B5: 2027. | C5: 2028. | D5: 2029.
A6: Tieslietu ministrija (Ieslodzījuma vietu pārvalde) | B6: ='1.piel_TM (IeVP)'!H6 -> 1281707 | C6: ='1.piel_TM (IeVP)'!I6 -> 1776074 | D6: ='1.piel_TM (IeVP)'!J6 -> 2203257
A7: Fiskālā ietekme | B7: =B6*0.064 -> 82029.248 | C7: =C6*0.064+B7 -> 195697.98 | D7: =D6*0.064+C7 -> 336706.43
A8: Valsts policija | B8: ='2.piel_Valsts policija'!M6 -> 3044828 | C8: ='2.piel_Valsts policija'!N6 -> 3453956 | D8: ='2.piel_Valsts policija'!O6 -> 2082945
A9: Fiskālā ietekme | B9: =B8*0.064 -> 194868.99 | C9: =C8*0.064+B9 -> 415922.18 | D9: =D8*0.064+C9 -> 549230.66
A10: Valsts ugunsdzēsības un glābšanas dienests | B10: ='3.piel_VUGD '!K6 -> 536156 | C10: ='3.piel_VUGD '!L6 -> 569976 | D10: ='3.piel_VUGD '!M6 -> 633213
A11: Fiskālā ietekme | B11: =B10*0.064 -> 34313.984 | C11: =C10*0.064+B11 -> 70792.448 | D11: =D10*0.064+C11 -> 111318.08
A12: Valsts robežsardze | B12: ='4.piel_Valsts robežsardze'!L6 -> 696362.4 | C12: ='4.piel_Valsts robežsardze'!M6 -> 420663 | D12: ='4.piel_Valsts robežsardze'!N6 -> 469107
A13: Fiskālā ietekme | B13: =B12*0.064 -> 44567.194 | C13: =C12*0.064+B13 -> 71489.626 | D13: =D12*0.064+C13 -> 101512.47
A14: Iekšējās drošības birojs | B14: ='5.piel_Ieksējās drošības birojs'!J8 -> 53721 | C14: ='5.piel_Ieksējās drošības birojs'!K8 -> 53369 | D14: ='5.piel_Ieksējās drošības birojs'!L8 -> 18944
A15: Fiskālā ietekme | B15: =B14*0.064 -> 3438.144 | C15: =C14*0.064+B15 -> 6853.76 | D15: =D14*0.064+C15 -> 8066.176
B16: =SUM(B6,B8,B10,B12,B14) -> 5612774.4 | C16: =SUM(C6,C8,C10,C12,C14) -> 6274038 | D16: =SUM(D6,D8,D10,D12,D14) -> 5407466
A17: Gada ietekme 2 mēneši* | B17: =B16*0.064 -> 359217.56 | C17: =C16*0.064 -> 401538.43 | D17: =D16*0.064 -> 346077.82
A18: Kopējā fiskālā ietekme 2 mēneši* | B18: =SUM(B7,B9,B11,B13,B15) -> 359217.56 | C18: =SUM(C7,C9,C11,C13,C15) -> 760755.99 | D18: =SUM(D7,D9,D11,D13,D15) -> 1106833.8
A21: Kopsavilkums
B22: 2027. | C22: 2028. | D22: 2029.
A23: Tieslietu ministrija | B23: =B6 -> 1281707 | C23: =C6 -> 1776074 | D23: =D6 -> 2203257
A24: Fiskālā ietekme | B24: =B7 -> 82029.248 | C24: =C7 -> 195697.98 | D24: =D7 -> 336706.43
A25: Iekšlietu ministrija | B25: =B8+B10+B12+B14 -> 4331067.4 | C25: =C8+C10+C12+C14 -> 4497964 | D25: =D8+D10+D12+D14 -> 3204209
A26: Fiskālā ietekme | B26: =B9+B11+B13+B15 -> 277188.31 | C26: =C9+C11+C13+C15 -> 565058.01 | D26: =D9+D11+D13+D15 -> 770127.39
B27: =SUM(B23,B25) -> 5612774.4 | C27: =SUM(C23,C25) -> 6274038 | D27: =SUM(D23,D25) -> 5407466
A28: Gada ietekme 2 mēneši* | B28: =B27*0.064 -> 359217.56 | C28: =C27*0.064 -> 401538.43 | D28: =D27*0.064 -> 346077.82
A29: Kopējā fiskālā ietekme 2 mēneši* | B29: =SUM(B24,B26) -> 359217.56 | C29: =SUM(C24,C26) -> 760755.99 | D29: =SUM(D24,D26) -> 1106833.8
A31: Fiskālā ietekme, nosacījumam, ka izdienas pensijas aprēķinā neņem vērā pēdējos 2 mēnešus, aprēkināta kā 6,4% no nepieciešamā finansējuma.
A32: Detalizēti aprēķini 1., 2., 3., 4. un 5. pielikumā.
A34: Aprēķinus veikusi Valsts kanceleja pēc vienotas metodoloģijas.

Sheet 1.piel_TM (IeVP)
J1: 1.pielikums
A2: Tieslietu ministrija
A4: Informācija par Ieslodzījuma vietu pārvaldes potenciālajiem izdienas pensiju saņēmējiem un pieprasītājiem 2026. - 2029.gadā | G4: Indikatīvi nepieciešams izdienas pensijām
A5: Rādītājs | B5: 2026.gads | C5: 2027.gads | D5: 2028.gads | E5: 2029.gads | G5: 2026 | H5: 2027 | I5: 2028 | J5: 2029
A6: Potenciālo jaunpiešķirto izdienas pensiju saņēmēju skaits vidēji mēnesī | B6: 9.8333333 | C6: 15.5 | D6: 21.916667 | E6: 27.666667 | F6: IeVP | G6: =ROUND((B6*(B7*B9))*12+(B6*(B7*B9))*11+(B6*(B7*B9))*10+(B6*(B7*B9))*9+(B6*(B7*B9))*8+(B6*(B7*B9))*7+(B6*(B7*B9))*6+(B6*(B7*B9))*5+(B6*(B7*B9))*4+(B6*(B7*B9))*3+(B6*(B7*B9))*2+(B6*(B7*B9))*1,0) -> 837468 | H6: =ROUND((C6*(C7*C9))*12+(C6*(C7*C9))*11+(C6*(C7*C9))*10+(C6*(C7*C9))*9+(C6*(C7*C9))*8+(C6*(C7*C9))*7+(C6*(C7*C9))*6+(C6*(C7*C9))*5+(C6*(C7*C9))*4+(C6*(C7*C9))*3+(C6*(C7*C9))*2+(C6*(C7*C9))*1,0) -> 1281707 | I6: =ROUND((D6*(D7*D9))*12+(D6*(D7*D9))*11+(D6*(D7*D9))*10+(D6*(D7*D9))*9+(D6*(D7*D9))*8+(D6*(D7*D9))*7+(D6*(D7*D9))*6+(D6*(D7*D9))*5+(D6*(D7*D9))*4+(D6*(D7*D9))*3+(D6*(D7*D9))*2+(D6*(D7*D9))*1,0) -> 1776074 | J6: =ROUND((E6*(E7*E9))*12+(E6*(E7*E9))*11+(E6*(E7*E9))*10+(E6*(E7*E9))*9+(E6*(E7*E9))*8+(E6*(E7*E9))*7+(E6*(E7*E9))*6+(E6*(E7*E9))*5+(E6*(E7*E9))*4+(E6*(E7*E9))*3+(E6*(E7*E9))*2+(E6*(E7*E9))*1,0) -> 2203257
A7: Vidējās darba samaksas apmērs, kas noteikts par gadiem, kas tiek ņemti vērā izdienas pensijas aprēķinā (euro) | B7: 1704.19 | C7: 1655.69 | D7: 1616.53 | E7: 1600.52
A8: Vidējais izdienas stāžs (gadi) | B8: 24.13 | C8: 24.25 | D8: 24.45 | E8: 24.246988
A9: Vidējais procents, kas piemērojams vidējai darba samaksai pirms plānotās izdienas pensijas piešķiršanas | B9: 0.6407 | C9: 0.6403 | D9: 0.6427 | E9: 0.6379

Sheet 2.piel_Valsts policija
O1: 2.pielikums
A2: Informācija par Valsts policijas* potenciālajiem izdienas pensiju pieprasītājiem 2026. - 2029.gadā
H3: Aprēķins
A4: Gads | B4: Mēnesis | C4: potenciālo jaunpiešķirto izdienas pensiju saņēmēju skaits vidēji mēnesī | D4: vidējās darba samaksas apmērs, kas noteikts par gadiem, kas tiek ņemti vērā izdienas pensijas aprēķinā | E4: vidējais izdienas stāžs | F4: vidējais procents, kas piemērojams vidējai darba samaksai pirms plānotās izdienas pensijas piešķiršanas | G4: Vidējais izdienas pensijas apmērs mēnesī | H4: Aprēķina periods konkrētajā gadā | I4: Indikatīvi nepieciešams izdienas pensijām | L4: Indikatīvi nepieciešams izdienas pensijām
A5: 1 | B5: 2 | C5: 3 | D5: 4 | E5: 5 | F5: 6 | G5: 7 = 4 x 6 | L5: 2026 | M5: 2027 | N5: 2028 | O5: 2029
A6: 2026 | B6: janvāris | C6: 29 | D6: 2321 | E6: 27 | F6: 69 | H6: 12 | I6: =C6*D6*F6/100*H6 -> 557318.52 | K6: VP | L6: =ROUND(SUM(I6:I17),0) -> 3211435 | M6: =ROUND(SUM(I19:I30),0) -> 3044828 | N6: =ROUND(SUM(I32:I43),0) -> 3453956 | O6: =ROUND(SUM(I45:I56),0) -> 2082945
B7: februāris | C7: 24 | D7: 2820 | E7: 29 | F7: 73 | H7: 11 | I7: =C7*D7*F7/100*H7 -> 543470.4
B8: marts | C8: 34 | D8: 2416 | E8: 28 | F8: 71 | H8: 10 | I8: =C8*D8*F8/100*H8 -> 583222.4
B9: aprīlis | C9: 23 | D9: 2540 | E9: 28 | F9: 71 | H9: 9 | I9: =C9*D9*F9/100*H9 -> 373303.8
B10: maijs | C10: 17 | D10: 2633 | E10: 27 | F10: 69 | H10: 8 | I10: =C10*D10*F10/100*H10 -> 247080.72
B11: jūnijs | C11: 15 | D11: 2157 | E11: 27 | F11: 69 | H11: 7 | I11: =C11*D11*F11/100*H11 -> 156274.65
B12: jūlijs | C12: 18 | D12: 2355 | E12: 25 | F12: 66 | H12: 6 | I12: =C12*D12*F12/100*H12 -> 167864.4
B13: augusts | C13: 25 | D13: 2638 | E13: 27 | F13: 69 | H13: 5 | I13: =C13*D13*F13/100*H13 -> 227527.5
B14: septembris | C14: 17 | D14: 2644 | E14: 28 | F14: 71 | H14: 4 | I14: =C14*D14*F14/100*H14 -> 127652.32
B15: oktobris | C15: 24 | D15: 2585 | E15: 28 | F15: 71 | H15: 3 | I15: =C15*D15*F15/100*H15 -> 132145.2
B16: novembris | C16: 17 | D16: 2220 | E16: 28 | F16: 71 | H16: 2 | I16: =C16*D16*F16/100*H16 -> 53590.8
B17: decembris | C17: 23 | D17: 2571 | E17: 28 | F17: 71 | H17: 1 | I17: =C17*D17*F17/100*H17 -> 41984.43
A18: Vidēji 2026.gadā | C18: =ROUND(SUM(C6:C17)/12,0) -> 22 | D18: =ROUND(SUM(D6:D17)/12,0) -> 2492 | E18: =ROUND(SUM(E6:E17)/12,0) -> 28 | F18: =ROUND(SUM(F6:F17)/12,0) -> 70 | G18: x
A19: 2027 | B19: janvāris | C19: 23 | D19: 2799.94 | E19: 27 | F19: 69 | H19: 12 | I19: =C19*D19*F19/100*H19 -> 533220.57
B20: februāris | C20: 13 | D20: 3069.11 | E20: 28 | F20: 71 | H20: 11 | I20: =C20*D20*F20/100*H20 -> 311606.74
B21: marts | C21: 26 | D21: 2746.22 | E21: 27 | F21: 69 | H21: 10 | I21: =C21*D21*F21/100*H21 -> 492671.87
B22: aprīlis | C22: 18 | D22: 2497.16 | E22: 29 | F22: 73 | H22: 9 | I22: =C22*D22*F22/100*H22 -> 295314.14
B23: maijs | C23: 19 | D23: 2963.12 | E23: 30 | F23: 75 | H23: 8 | I23: =C23*D23*F23/100*H23 -> 337795.68
B24: jūnijs | C24: 19 | D24: 2374.17 | E24: 26 | F24: 67 | H24: 7 | I24: =C24*D24*F24/100*H24 -> 211562.29
B25: jūlijs | C25: 25 | D25: 2693.75 | E25: 28 | F25: 71 | H25: 6 | I25: =C25*D25*F25/100*H25 -> 286884.38
B26: augusts | C26: 22 | D26: 3034.03 | E26: 27 | F26: 69 | H26: 5 | I26: =C26*D26*F26/100*H26 -> 230282.88
B27: septembris | C27: 19 | D27: 2827.14 | E27: 28 | F27: 71 | H27: 4 | I27: =C27*D27*F27/100*H27 -> 152552.47
B28: oktobris | C28: 13 | D28: 2685.96 | E28: 28 | F28: 71 | H28: 3 | I28: =C28*D28*F28/100*H28 -> 74374.232
B29: novembris | C29: 26 | D29: 2346 | E29: 25 | F29: 66 | H29: 2 | I29: =C29*D29*F29/100*H29 -> 80514.72
B30: decembris | C30: 19 | D30: 2743.18 | E30: 29 | F30: 73 | H30: 1 | I30: =C30*D30*F30/100*H30 -> 38047.907
A31: Vidēji 2027.gadā | C31: =ROUND(SUM(C19:C30)/12,0) -> 20 | D31: =ROUND(SUM(D19:D30)/12,0) -> 2732 | E31: =ROUND(SUM(E19:E30)/12,0) -> 28 | F31: =ROUND(SUM(F19:F30)/12,0) -> 70 | G31: x
A32: 2028 | B32: janvāris | C32: 23 | D32: 3145.59 | E32: 27 | F32: 69 | H32: 12 | I32: =C32*D32*F32/100*H32 -> 599046.16
B33: februāris | C33: 22 | D33: 3058.82 | E33: 27 | F33: 69 | H33: 11 | I33: =C33*D33*F33/100*H33 -> 510761.76
B34: marts | C34: 27 | D34: 2624.89 | E34: 28 | F34: 71 | H34: 10 | I34: =C34*D34*F34/100*H34 -> 503191.41
B35: aprīlis | C35: 33 | D35: 3212.65 | E35: 29 | F35: 73 | H35: 9 | I35: =C35*D35*F35/100*H35 -> 696534.65
B36: maijs | C36: 20 | D36: 2940.02 | E36: 29 | F36: 73 | H36: 8 | I36: =C36*D36*F36/100*H36 -> 343394.34
B37: jūnijs | C37: 7 | D37: 2587.52 | E37: 26 | F37: 67 | H37: 7 | I37: =C37*D37*F37/100*H37 -> 84948.282
B38: jūlijs | C38: 21 | D38: 2969.6 | E38: 27 | F38: 69 | H38: 6 | I38: =C38*D38*F38/100*H38 -> 258177.02
B39: augusts | C39: 15 | D39: 3252.3 | E39: 29 | F39: 73 | H39: 5 | I39: =C39*D39*F39/100*H39 -> 178063.42
B40: septembris | C40: 13 | D40: 2617.22 | E40: 24 | F40: 63 | H40: 4 | I40: =C40*D40*F40/100*H40 -> 85740.127
B41: oktobris | C41: 17 | D41: 2876.2 | E41: 26 | F41: 67 | H41: 3 | I41: =C41*D41*F41/100*H41 -> 98279.754
B42: novembris | C42: 12 | D42: 2438.81 | E42: 26 | F42: 67 | H42: 2 | I42: =C42*D42*F42/100*H42 -> 39216.065
B43: decembris | C43: 24 | D43: 3230.77 | E43: 29 | F43: 73 | H43: 1 | I43: =C43*D43*F43/100*H43 -> 56603.09
A44: Vidēji 2028.gadā | C44: =ROUND(SUM(C32:C43)/12,0) -> 20 | D44: =ROUND(SUM(D32:D43)/12,0) -> 2913 | E44: =ROUND(SUM(E32:E43)/12,0) -> 27 | F44: =ROUND(SUM(F32:F43)/12,0) -> 70 | G44: x
A45: 2029 | B45: janvāris | C45: 9 | D45: 3119.83 | E45: 26 | F45: 67 | H45: 12 | I45: =C45*D45*F45/100*H45 -> 225750.9
B46: februāris | C46: 16 | D46: 3149.08 | E46: 28 | F46: 71 | H46: 11 | I46: =C46*D46*F46/100*H46 -> 393509.04
B47: marts | C47: 15 | D47: 3117.66 | E47: 26 | F47: 67 | H47: 10 | I47: =C47*D47*F47/100*H47 -> 313324.83
B48: aprīlis | C48: 16 | D48: 2919.78 | E48: 29 | F48: 75 | H48: 9 | I48: =C48*D48*F48/100*H48 -> 315336.24
B49: maijs | C49: 13 | D49: 2995.43 | E49: 28 | F49: 71 | H49: 8 | I49: =C49*D49*F49/100*H49 -> 221182.55
B50: jūnijs | C50: 14 | D50: 2843.43 | E50: 26 | F50: 67 | H50: 7 | I50: =C50*D50*F50/100*H50 -> 186699.61
B51: jūlijs | C51: 8 | D51: 2816.22 | E51: 30 | F51: 75 | H51: 6 | I51: =C51*D51*F51/100*H51 -> 101383.92
B52: augusts | C52: 10 | D52: 2862.89 | E52: 25 | F52: 66 | H52: 5 | I52: =C52*D52*F52/100*H52 -> 94475.37
B53: septembris | C53: 16 | D53: 2600.47 | E53: 27 | F53: 69 | H53: 4 | I53: =C53*D53*F53/100*H53 -> 114836.76
B54: oktobris | C54: 11 | D54: 2811.29 | E54: 26 | F54: 67 | H54: 3 | I54: =C54*D54*F54/100*H54 -> 62157.622
B55: novembris | C55: 11 | D55: 2840.2 | E55: 27 | F55: 69 | H55: 2 | I55: =C55*D55*F55/100*H55 -> 43114.236
B56: decembris | C56: 7 | D56: 2533.77 | E56: 24 | F56: 63 | H56: 1 | I56: =C56*D56*F56/100*H56 -> 11173.926
A57: Vidēji 2029.gadā | C57: =ROUND(SUM(C45:C56)/12,0) -> 12 | D57: =ROUND(SUM(D45:D56)/12,0) -> 2884 | E57: =ROUND(SUM(E45:E56)/12,0) -> 27 | F57: =ROUND(SUM(F45:F56)/12,0) -> 69 | G57: x
A59: *kopā ar Valsts policijas koledžu

Sheet 3.piel_VUGD 
M1: 3. pielikums
A2: Informācija par Valsts ugunsdzēsības un glābšanas dienesta* potenciālajiem izdienas pensiju pieprasītājiem 2026. - 2029.gadā
A4: Gads | B4: Mēnesis | C4: potenciālo jaunpiešķirto izdienas pensiju saņēmēju skaits vidēji mēnesī | D4: vidējās darba samaksas apmērs, kas noteikts par gadiem, kas tiek ņemti vērā izdienas pensijas aprēķinā | E4: vidējais izdienas stāžs | F4: vidējais procents, kas piemērojams vidējai darba samaksai pirms plānotās izdienas pensijas piešķiršanas | G4: Vidējais izdienas pensijas apmērs mēnesī | J4: Indikatīvi nepieciešams izdienas pensijām
A5: 1 | B5: 2 | C5: 3 | D5: 4 | E5: 5 | F5: 6 | G5: 7 = 4 x 6 | J5: 2026 | K5: 2027 | L5: 2028 | M5: 2029
A6: Vidēji 2026.gadā | C6: 8 | D6: 1543.18 | E6: 23 | F6: 0.63 | G6: x | I6: VUGD | J6: =ROUND(J27,0) -> 606655 | K6: =ROUND(K27,0) -> 536156 | L6: =ROUND(L27,0) -> 569976 | M6: =ROUND(M27,0) -> 633213
A7: Vidēji 2027.gadā | C7: 6 | D7: 1762.51 | E7: 24 | F7: 0.65 | G7: x
A8: Vidēji 2028.gadā | C8: 6 | D8: 1933.17 | E8: 23 | F8: 0.63 | G8: x
A9: Vidēji 2029.gadā | C9: 6 | D9: 2147.65 | E9: 23 | F9: 0.63 | G9: x
A10: *kopā ar Ugunsdrošības un civilās aizsardzības koledžu
B13: Aprēķins
H14: Aprēķina periods konkrētajā gadā | J14: 2026. | K14: 2027. | L14: 2028. | M14: 2029.
B15: 6 | C15: 1543.18 | D15: 1762.51 | E15: 1933.17 | F15: 2147.65 | H15: 12 | J15: =$C$6*$D$6*$F$6*H15 -> 93331.526 | K15: =B15*D15*$F$7*H15 -> 82485.468 | L15: =B15*E15*$F$8*H15 -> 87688.591 | M15: =B15*F15*$F$9*H15 -> 97417.404
B16: 6 | C16: 1543.18 | D16: 1762.51 | E16: 1933.17 | F16: 2147.65 | H16: 11 | J16: =$C$6*$D$6*$F$6*H16 -> 85553.899 | K16: =B16*D16*$F$7*H16 -> 75611.679 | L16: =B16*E16*$F$8*H16 -> 80381.209 | M16: =B16*F16*$F$9*H16 -> 89299.287
B17: 6 | C17: 1543.18 | D17: 1762.51 | E17: 1933.17 | F17: 2147.65 | H17: 10 | J17: =$C$6*$D$6*$F$6*H17 -> 77776.272 | K17: =B17*D17*$F$7*H17 -> 68737.89 | L17: =B17*E17*$F$8*H17 -> 73073.826 | M17: =B17*F17*$F$9*H17 -> 81181.17
B18: 6 | C18: 1543.18 | D18: 1762.51 | E18: 1933.17 | F18: 2147.65 | H18: 9 | J18: =$C$6*$D$6*$F$6*H18 -> 69998.645 | K18: =B18*D18*$F$7*H18 -> 61864.101 | L18: =B18*E18*$F$8*H18 -> 65766.443 | M18: =B18*F18*$F$9*H18 -> 73063.053
B19: 6 | C19: 1543.18 | D19: 1762.51 | E19: 1933.17 | F19: 2147.65 | H19: 8 | J19: =$C$6*$D$6*$F$6*H19 -> 62221.018 | K19: =B19*D19*$F$7*H19 -> 54990.312 | L19: =B19*E19*$F$8*H19 -> 58459.061 | M19: =B19*F19*$F$9*H19 -> 64944.936
B20: 6 | C20: 1543.18 | D20: 1762.51 | E20: 1933.17 | F20: 2147.65 | H20: 7 | J20: =$C$6*$D$6*$F$6*H20 -> 54443.39 | K20: =B20*D20*$F$7*H20 -> 48116.523 | L20: =B20*E20*$F$8*H20 -> 51151.678 | M20: =B20*F20*$F$9*H20 -> 56826.819
B21: 6 | C21: 1543.18 | D21: 1762.51 | E21: 1933.17 | F21: 2147.65 | H21: 6 | J21: =$C$6*$D$6*$F$6*H21 -> 46665.763 | K21: =B21*D21*$F$7*H21 -> 41242.734 | L21: =B21*E21*$F$8*H21 -> 43844.296 | M21: =B21*F21*$F$9*H21 -> 48708.702
B22: 6 | C22: 1543.18 | D22: 1762.51 | E22: 1933.17 | F22: 2147.65 | H22: 5 | J22: =$C$6*$D$6*$F$6*H22 -> 38888.136 | K22: =B22*D22*$F$7*H22 -> 34368.945 | L22: =B22*E22*$F$8*H22 -> 36536.913 | M22: =B22*F22*$F$9*H22 -> 40590.585
B23: 6 | C23: 1543.18 | D23: 1762.51 | E23: 1933.17 | F23: 2147.65 | H23: 4 | J23: =$C$6*$D$6*$F$6*H23 -> 31110.509 | K23: =B23*D23*$F$7*H23 -> 27495.156 | L23: =B23*E23*$F$8*H23 -> 29229.53 | M23: =B23*F23*$F$9*H23 -> 32472.468
B24: 6 | C24: 1543.18 | D24: 1762.51 | E24: 1933.17 | F24: 2147.65 | H24: 3 | J24: =$C$6*$D$6*$F$6*H24 -> 23332.882 | K24: =B24*D24*$F$7*H24 -> 20621.367 | L24: =B24*E24*$F$8*H24 -> 21922.148 | M24: =B24*F24*$F$9*H24 -> 24354.351
B25: 6 | C25: 1543.18 | D25: 1762.51 | E25: 1933.17 | F25: 2147.65 | H25: 2 | J25: =$C$6*$D$6*$F$6*H25 -> 15555.254 | K25: =B25*D25*$F$7*H25 -> 13747.578 | L25: =B25*E25*$F$8*H25 -> 14614.765 | M25: =B25*F25*$F$9*H25 -> 16236.234
B26: 6 | C26: 1543.18 | D26: 1762.51 | E26: 1933.17 | F26: 2147.65 | H26: 1 | J26: =$C$6*$D$6*$F$6*H26 -> 7777.6272 | K26: =B26*D26*$F$7*H26 -> 6873.789 | L26: =B26*E26*$F$8*H26 -> 7307.3826 | M26: =B26*F26*$F$9*H26 -> 8118.117
J27: =SUM(J15:J26) -> 606654.92 | K27: =SUM(K15:K26) -> 536155.54 | L27: =SUM(L15:L26) -> 569975.84 | M27: =SUM(M15:M26) -> 633213.13

Sheet 4.piel_Valsts robežsardze
N1: 4. pielikums
A2: Informācija par Valsts robežsardzes* potenciālajiem izdienas pensiju pieprasītājiem 2026. - 2029.gadā
H3: Aprēķins
A4: Gads | B4: Mēnesis | C4: potenciālo jaunpiešķirto izdienas pensiju saņēmēju skaits vidēji mēnesī | D4: vidējās darba samaksas apmērs, kas noteikts par gadiem, kas tiek ņemti vērā izdienas pensijas aprēķinā | E4: vidējais izdienas stāžs | F4: vidējais procents, kas piemērojams vidējai darba samaksai pirms plānotās izdienas pensijas piešķiršanas | G4: Vidējais izdienas pensijas apmērs mēnesī | H4: Aprēķina periods konkrētajā gadā | I4: Indikatīvi nepieciešams izdienas pensijām | K4: Indikatīvi nepieciešams izdienas pensijām
A5: 1 | B5: 2 | C5: 3 | D5: 4 | E5: 5 | F5: 6 | G5: 7 = 4 x 6 | K5: 2026 | L5: 2027 | M5: 2028 | N5: 2029
A6: 2026 | B6: KOPĀ | C6: 82 | D6: 1925.5163 | E6: 28.304878 | F6: 0.71609756 | G6: 1378.86 | J6: VRS | K6: =ROUND(SUM(I7:I18),0) -> 738367 | L6: =SUM(I20:I31) -> 696362.4 | M6: =ROUND(SUM(I33:I44),0) -> 420663 | N6: =ROUND(SUM(I46:I57),0) -> 469107
A7: 2026 | B7: 1 | C7: 8 | D7: 1643.5567 | E7: 28.125 | F7: 0.7125 | G7: 1171.03 | H7: 12 | I7: =(C7*(D7*F7))*H7 -> 112419.28
A8: 2026 | B8: 2 | C8: 7 | D8: 2122.7241 | E8: 26 | F8: 0.67 | G8: 1422.23 | H8: 11 | I8: =(C8*(D8*F8))*H8 -> 109511.34
A9: 2026 | B9: 3 | C9: 7 | D9: 1847.3716 | E9: 25.571429 | F9: 0.66142857 | G9: 1221.9 | H9: 10 | I9: =(C9*(D9*F9))*H9 -> 85533.304
A10: 2026 | B10: 4 | C10: 6 | D10: 2002.5838 | E10: 28.666667 | F10: 0.72333333 | G10: 1448.54 | H10: 9 | I10: =(C10*(D10*F10))*H10 -> 78220.925
A11: 2026 | B11: 5 | C11: 6 | D11: 1937.5728 | E11: 28.333333 | F11: 0.71666667 | G11: 1388.59 | H11: 8 | I11: =(C11*(D11*F11))*H11 -> 66652.505
A12: 2026 | B12: 6 | C12: 9 | D12: 1915.8871 | E12: 29 | F12: 0.73 | G12: 1398.6 | H12: 7 | I12: =(C12*(D12*F12))*H12 -> 88111.648
A13: 2026 | B13: 7 | C13: 9 | D13: 1936.9048 | E13: 28.777778 | F13: 0.72555556 | G13: 1405.33 | H13: 6 | I13: =(C13*(D13*F13))*H13 -> 75887.929
A14: 2026 | B14: 8 | C14: 9 | D14: 1736.942 | E14: 26.555556 | F14: 0.68111111 | G14: 1183.05 | H14: 5 | I14: =(C14*(D14*F14))*H14 -> 53237.272
A15: 2026 | B15: 9 | C15: 3 | D15: 2460.2663 | E15: 31.333333 | F15: 0.77666667 | G15: 1910.81 | H15: 4 | I15: =(C15*(D15*F15))*H15 -> 22929.682
A16: 2026 | B16: 10 | C16: 2 | D16: 2096.4235 | E16: 30.5 | F16: 0.76 | G16: 1593.28 | H16: 3 | I16: =(C16*(D16*F16))*H16 -> 9559.6912
A17: 2026 | B17: 11 | C17: 9 | D17: 1897.2658 | E17: 29.888889 | F17: 0.74777778 | G17: 1418.73 | H17: 2 | I17: =(C17*(D17*F17))*H17 -> 25537.197
A18: 2026 | B18: 12 | C18: 7 | D18: 2050.8037 | E18: 30 | F18: 0.75 | G18: 1538.1 | H18: 1 | I18: =(C18*(D18*F18))*H18 -> 10766.72
A19: 2027 | B19: KOPĀ | C19: 73 | D19: 1930.5239 | E19: 28.09589 | F19: 0.71191781 | G19: 1374.37
A20: 2027 | B20: 1 | C20: 7 | D20: 1782.863 | E20: 28.714286 | F20: 0.72428571 | G20: 1291.3 | H20: 12 | I20: =(C20*(D20*F20))*H20 -> 108469.38
A21: 2027 | B21: 2 | C21: 6 | D21: 1887.5352 | E21: 26.333333 | F21: 0.67666667 | G21: 1277.23 | H21: 11 | I21: =(C21*(D21*F21))*H21 -> 84297.321
A22: 2027 | B22: 3 | C22: 9 | D22: 2113.2734 | E22: 30.444444 | F22: 0.75888889 | G22: 1603.74 | H22: 10 | I22: =(C22*(D22*F22))*H22 -> 144336.58
A23: 2027 | B23: 4 | C23: 7 | D23: 2015.0206 | E23: 27.285714 | F23: 0.69571429 | G23: 1401.88 | H23: 9 | I23: =(C23*(D23*F23))*H23 -> 88318.352
A24: 2027 | B24: 5 | C24: 9 | D24: 2055.1269 | E24: 27.555556 | F24: 0.70111111 | G24: 1440.87 | H24: 8 | I24: =(C24*(D24*F24))*H24 -> 103742.81
A25: 2027 | B25: 6 | C25: 3 | D25: 2000.5113 | E25: 28.666667 | F25: 0.72333333 | G25: 1447.04 | H25: 7 | I25: =(C25*(D25*F25))*H25 -> 30387.767
A26: 2027 | B26: 7 | C26: 3 | D26: 2207.9177 | E26: 30 | F26: 0.75 | G26: 1655.94 | H26: 6 | I26: =(C26*(D26*F26))*H26 -> 29806.889
A27: 2027 | B27: 8 | C27: 3 | D27: 1738.477 | E27: 29.333333 | F27: 0.73666667 | G27: 1280.68 | H27: 5 | I27: =(C27*(D27*F27))*H27 -> 19210.171
A28: 2027 | B28: 9 | C28: 8 | D28: 1864.5159 | E28: 26.875 | F28: 0.6875 | G28: 1281.85 | H28: 4 | I28: =(C28*(D28*F28))*H28 -> 41019.349
A29: 2027 | B29: 10 | C29: 5 | D29: 1864.9222 | E29: 30.4 | F29: 0.758 | G29: 1413.61 | H29: 3 | I29: =(C29*(D29*F29))*H29 -> 21204.165
A30: 2027 | B30: 11 | C30: 8 | D30: 1787.887 | E30: 25.75 | F30: 0.665 | G30: 1188.94 | H30: 2 | I30: =(C30*(D30*F30))*H30 -> 19023.118
A31: 2027 | B31: 12 | C31: 5 | D31: 1823.5382 | E31: 28.4 | F31: 0.718 | G31: 1309.3 | H31: 1 | I31: =(C31*(D31*F31))*H31 -> 6546.5021
A32: 2028 | B32: KOPĀ | C32: 54 | D32: 1828.0384 | E32: 26.851852 | F32: 0.68703704 | G32: 1255.93
A33: 2028 | B33: 1 | C33: 4 | D33: 1781.257 | E33: 29.75 | F33: 0.745 | G33: 1327.04 | H33: 12 | I33: =(C33*(D33*F33))*H33 -> 63697.75
A34: 2028 | B34: 2 | C34: 6 | D34: 1754.0365 | E34: 25.833333 | F34: 0.66666667 | G34: 1169.36 | H34: 11 | I34: =(C34*(D34*F34))*H34 -> 77177.606
A35: 2028 | B35: 3 | C35: 5 | D35: 2021.8074 | E35: 26.2 | F35: 0.674 | G35: 1362.7 | H35: 10 | I35: =(C35*(D35*F35))*H35 -> 68134.909
A36: 2028 | B36: 4 | C36: 2 | D36: 1762.141 | E36: 28.5 | F36: 0.72 | G36: 1268.74 | H36: 9 | I36: =(C36*(D36*F36))*H36 -> 22837.347
A37: 2028 | B37: 5 | C37: 2 | D37: 1617.307 | E37: 25 | F37: 0.65 | G37: 1051.25 | H37: 8 | I37: =(C37*(D37*F37))*H37 -> 16819.993
A38: 2028 | B38: 6 | C38: 5 | D38: 2002.2458 | E38: 29.2 | F38: 0.734 | G38: 1469.65 | H38: 7 | I38: =(C38*(D38*F38))*H38 -> 51437.695
A39: 2028 | B39: 7 | C39: 7 | D39: 1731.5259 | E39: 27.571429 | F39: 0.70142857 | G39: 1214.54 | H39: 6 | I39: =(C39*(D39*F39))*H39 -> 51010.752
A40: 2028 | B40: 8 | C40: 2 | D40: 1576.0305 | E40: 21 | F40: 0.57 | G40: 898.34 | H40: 5 | I40: =(C40*(D40*F40))*H40 -> 8983.3739
A41: 2028 | B41: 9 | C41: 4 | D41: 2013.2275 | E41: 23.25 | F41: 0.615 | G41: 1238.13 | H41: 4 | I41: =(C41*(D41*F41))*H41 -> 19810.159
A42: 2028 | B42: 10 | C42: 6 | D42: 1695.3383 | E42: 27.333333 | F42: 0.69666667 | G42: 1181.09 | H42: 3 | I42: =(C42*(D42*F42))*H42 -> 21259.543
A43: 2028 | B43: 11 | C43: 4 | D43: 1824.331 | E43: 27.5 | F43: 0.7 | G43: 1277.03 | H43: 2 | I43: =(C43*(D43*F43))*H43 -> 10216.254
A44: 2028 | B44: 12 | C44: 7 | D44: 1912.9511 | E44: 27.142857 | F44: 0.69285714 | G44: 1325.4 | H44: 1 | I44: =(C44*(D44*F44))*H44 -> 9277.813
A45: 2029 | B45: KOPĀ | C45: 52 | D45: 1904.3107 | E45: 28.25 | F45: 0.715 | G45: 1361.58
A46: 2029 | B46: 1 | C46: 4 | D46: 1530.6655 | E46: 27.5 | F46: 0.7 | G46: 1071.47 | H46: 12 | I46: =(C46*(D46*F46))*H46 -> 51430.361
A47: 2029 | B47: 2 | C47: 4 | D47: 1762.9848 | E47: 27.75 | F47: 0.705 | G47: 1242.9 | H47: 11 | I47: =(C47*(D47*F47))*H47 -> 54687.787
A48: 2029 | B48: 3 | C48: 4 | D48: 1698.9615 | E48: 29.5 | F48: 0.74 | G48: 1257.23 | H48: 10 | I48: =(C48*(D48*F48))*H48 -> 50289.26
A49: 2029 | B49: 4 | C49: 6 | D49: 1719.5603 | E49: 28.333333 | F49: 0.71666667 | G49: 1232.35 | H49: 9 | I49: =(C49*(D49*F49))*H49 -> 66546.985
A50: 2029 | B50: 5 | C50: 5 | D50: 1868.4344 | E50: 27.8 | F50: 0.706 | G50: 1319.11 | H50: 8 | I50: =(C50*(D50*F50))*H50 -> 52764.587
A51: 2029 | B51: 6 | C51: 7 | D51: 1719.4326 | E51: 27.285714 | F51: 0.69571429 | G51: 1196.23 | H51: 7 | I51: =(C51*(D51*F51))*H51 -> 58615.456
A52: 2029 | B52: 7 | C52: 5 | D52: 1922.3318 | E52: 26.2 | F52: 0.674 | G52: 1295.65 | H52: 6 | I52: =(C52*(D52*F52))*H52 -> 38869.549
A53: 2029 | B53: 8 | C53: 6 | D53: 2177.575 | E53: 29.833333 | F53: 0.74666667 | G53: 1625.92 | H53: 5 | I53: =(C53*(D53*F53))*H53 -> 48777.68
A54: 2029 | B54: 9 | C54: 4 | D54: 1858.983 | E54: 30.5 | F54: 0.76 | G54: 1412.83 | H54: 4 | I54: =(C54*(D54*F54))*H54 -> 22605.233
A55: 2029 | B55: 10 | C55: 3 | D55: 1533.8573 | E55: 27.666667 | F55: 0.70333333 | G55: 1078.81 | H55: 3 | I55: =(C55*(D55*F55))*H55 -> 9709.3169
A56: 2029 | B56: 11 | C56: 2 | D56: 3787.9295 | E56: 29.5 | F56: 0.74 | G56: 2803.07 | H56: 2 | I56: =(C56*(D56*F56))*H56 -> 11212.271
A57: 2029 | B57: 12 | C57: 2 | D57: 2533.8375 | E57: 28 | F57: 0.71 | G57: 1799.02 | H57: 1 | I57: =(C57*(D57*F57))*H57 -> 3598.0493
A59: *kopā ar Valsts robežsardzes koledžu

Sheet 5.piel_Ieksējās drošības birojs
L2: 5. pielikums
A4: Informācija par Iekšējās drošības biroja dienējošajām amatersonām, kurām iestājas tiesības saņemt izdienas pensiju 2026. - 2029. gadā
A6: Gads | B6: Gads | C6: Mēnesis | D6: skaits | E6: vidējās darba samaksas apmērs, kas noteikts par gadiem, kas tiek ņemti vērā izdienas pensijas aprēķinā | F6: vidējais izdienas stāžs | G6: vidējais procents, kas piemērojams vidējai darba samaksai pirms plānotās izdienas pensijas piešķiršanas | I6: Indikatīvi nepieciešams izdienas pensijām
A7: 2026.g. | B7: 2026.g. | C7: janvāris | D7: 1 (tiesības uz pens.iegūtas 01.07.2024.) | E7: 4350.59 | F7: 31 gads | G7: 0.77 | I7: 2026 | J7: 2027 | K7: 2028 | L7: 2029
C8: novembris | D8: 1 | E8: 4100.35 | F8: 25 gadi | G8: 0.65 | H8: IDB | I8: =ROUND((1*(E7*G7))*12+(D8*(E8*G8))*2,0) -> 45530 | J8: =ROUND((D9*(E9*G9))*8+(D10*(E10*G10))*7+(D11*(E11*G11))*3+(D12*(E12*G12))*2,0) -> 53721 | K8: =ROUND((D13*(E13*G13))*12+(D14*(E14*G14))*7,0) -> 53369 | L8: =ROUND((D15*(E15*G15))*7,0) -> 18944
A9: 2027.g. | B9: 2027.g. | C9: maijs | D9: 1 | E9: 4192.94 | F9: 29 gadi | G9: 0.73
C10: jūnijs | D10: 1 | E10: 3641.94 | F10: 28 gadi | G10: 0.71
C11: oktobris | D11: 1 | E11: 3588.34 | F11: 20 gadi | G11: 0.55
C12: novembris | D12: 1 | E12: 4272.66 | F12: 23 gadi | G12: 0.61
A13: 2028.g. | B13: 2028.g. | C13: janvāris | D13: 1 | E13: 3665.25 | F13: 30 gadi | G13: 0.75
C14: jūnijs | D14: 1 | E14: 4219.84 | F14: 27 gadi | G14: 0.69
A15: 2029.g. | B15: 2029.g. | C15: jūnija | D15: 1 | E15: 3811.69 | F15: 28 gadi | G15: 0.71
