Workbook

Sheet KOPĀ
D1: 10.pielikums Ministru kabineta rīkojuma projekta "Grozījumi Ministru kabineta 2021. gada 2.novembra rīkojumā Nr.775 "Par ceļu satiksmes pārkāpumu fiksēšanas tehnisko līdzekļu darbības nodrošināšanu" sākotnējās ietekmes novērtējuma ziņojumam (anotācijai)
H2: 1.tabula
A3: Iekšlietu ministrijai papildu nepieciešamais finansējumu 2023. gadā un turpmāk vienreizējām investīcijām valsts aizsardzības spēju attīstības un iekšējās drošības stiprināšanas pasākumu īstenošanai un transportlīdzekļu nomai
G4: euro
A5: Programma/apakšprogramma (kods, nosaukums) | E5: 2023.gads | F5: 2024.gads | G5: 2025.gads | H5: 2026.gads un turpmāk
A6: KOPĀ: | E6: =E7+E8 -> 900000 | F6: =F7+F8 -> 1297940 | G6: =G7+G8 -> 1499984 | H6: =H7+H8 -> 159984
A7: 06.01.00 "Valsts policija" | E7: =VP!E6 -> 793344 | F7: =VP!F6 -> 1137956 | G7: =VP!G6 -> 1340000 | H7: =VP!H6 -> 0
A8: 40.02.00 "Nekustamais īpašums un centralizētais iepirkums" | E8: =NVA!E6 -> 106656 | F8: =NVA!F6 -> 159984 | G8: =NVA!G6 -> 159984 | H8: =NVA!H6 -> 159984
A9: Uzturēšanas izdevumi | E9: =E11 -> 0 | F9: =F11 -> 0 | G9: =G11 -> 0
A10: Kārtējie izdevumi | E10: =E11 -> 0 | F10: =F11 -> 0 | G10: =G11 -> 0
A11: Preces un pakalpojumi | E11: =SUM(E12:E15) -> 0 | F11: =SUM(F12:F15) -> 0 | G11: =SUM(G12:G15) -> 0
A17: 67075415, inese.luce@vp.gov.lv 67075270, agnese.rozenvalde@vp.gov.lv
A18: (tālrunis, elektroniskā pasta adrese)

Sheet VP
G1: 2. tabula
A2: Iekšlietu ministrijai papildu nepieciešamais finansējumu 2023., 2024. un 2025. gadā vienreizējām investīcijām valsts aizsardzības spēju attīstības un iekšējās drošības stiprināšanas pasākumu īstenošanai Valsts policija
G3: euro
A4: Programma/apakšprogramma (kods, nosaukums) | E4: 2023.gads | F4: 2024.gads | G4: 2025.gads
A5: 06.01.00 "Valsts policija"
A6: Izdevumi kopā | E6: =E9+E15 -> 793344 | F6: =F9+F15 -> 1137956 | G6: =G9+G15 -> 1340000
A7: Uzturēšanas izdevumi | E7: =E9 -> 0 | F7: =F9 -> 0 | G7: =G9 -> 0
A8: Kārtējie izdevumi | E8: =E9 -> 0 | F8: =F9 -> 0 | G8: =G9 -> 0
A9: Preces un pakalpojumi | E9: =SUM(E10:E13) -> 0 | F9: =SUM(F10:F13) -> 0 | G9: =SUM(G10:G13) -> 0
A14: Kapitālie izdevumi | E14: =E15 -> 793344 | F14: =F15 -> 1137956 | G14: =G15 -> 1340000
A15: Pamatkapitāla veidošana | E15: =SUM(E16:E19) -> 793344 | F15: =SUM(F16:F19) -> 1137956 | G15: =SUM(G16:G19) -> 1340000
A16: 5140 Nemateriālo ieguldījumu izveidošana 2023.gadā: Valsts policijas mājas lapas izveide - 30 000 EUR | E16: 30000 | F16: 0 | G16: 0
A17: 5220 Tehnoloģiskās iekārtas un mašīnas 2024.gadā: Automātiskā mazgātava - 150 000 EUR 2025.gadā: Ūdensmetējs - 650 000 EUR | E17: 0 | F17: 150000 | G17: 650000
A18: 5231 Transportlīdzekļi 2023.gadā: 10 motociklu aprīkojums x 12 000 EUR = 120 000 EUR; 2 transportīdzekļu (ASV dāvinājums) aprīkojums x 7 500 EUR = 15 000 EUR; 5 autobusi GKPP Speciālo uzdevumu nodaļai x 78 000 EUR = 390 000 EUR; 2 autobusi x 190 000 EUR = 238 344 EUR (avansa maksājums: 119 172 x 2) 2024.gadā: 2 autobusi x 190 000 EUR = 141 656 EUR (gala maksājums: 70 828 x2)) Auto evakuators - 120 000 EUR 2 pilnpiedziņas mikroautobusi x 75 000 EUR = 150 000 EUR Dronu transportlīdzeklis - 350 000 EUR 2025.gadā: Bruņumašīna - 460 000 EUR | E18: =120000+15000+390000+238344 -> 763344 | F18: =141656+120000+150000+350000 -> 761656 | G18: 460000
A19: 5239 Pārējie iepriekš neklasificētie pamatlīdzekļi un ieguldījuma īpašumi 2024.gadā: elektrošoka pistoles 73 gab. x 3 100 EUR = 226 300 EUR 2025.gadā: Angāra iegāde - 230 000 EUR | E19: 0 | F19: =73*3100 -> 226300 | G19: 230000
A21: 1) Ūdensmetējs: Ņemot vērā ģeopolitisko situāciju un pēdējā laika aktivitātes starp dažādām valsts sabiedrības daļām, Valsts policija bieži saskaras ar sabiedriskās drošības un kārtības nodrošināšanas riskiem. Šādu aktivitāšu drošības un kārtības nodrošināšanai var rasties nepieciešamība izmantot Valsts policijas īpašumā no 2007. gada esošo speciālo transportlīdzekli – ūdensmetēju, ar kuru varētu gan apdzēst degošus priekšmetus, atbrīvot brauktuvi, gan izklīdināt pūli. Reālajā situācijā tas nav iespējams, jo ūdensmetējs ir novecojis, bieži jāremontē, detaļas ir dārgas un tiek saņemtas no ārzemēm. 2021.gada augustā tika veikta apskate un sastādīts defektācijas saraksts, kā rezultātā konstatēts, ka ūdensmetēja kā speclīdzekļa izmantošana faktiski ir neiespējama, jo Latvijā nav iespējams veikt ūdensmetēja elektronikas iekārtu labošanas un kalibrēšanas darbus. Kā pierādīja Lietuvas Republikas un Polijas Republikas tiesībsargājošo institūciju prakse, ūdensmetēju izmantošana ir arī viens no efektīvākajiem un humānākajiem speciālajiem līdzekļiem lielu masu nekārtību un nelegālo imigrantu grupu atspiešanai t.sk. no valsts robežas.
A22: 2) Bruņumašīna: Ūdensmetēja izmantošana masu nekārtību novēršanai (pūļa izkliedēšanai) nav iespējama, it sevišķi apstākļos, kad tiešs kontakts force to force (policists – likumpārkāpējs) faktiski ir nepieļaujams, bez blakus braucošas bruņumašīnas – pretējā gadījumā pastāv liela varbūtība ūdensmetēja bojāšanai. Bruņumašīnu pielietojums – aizsardzība pret pūli gan izmantojot pašas bruņumašīnas jaudu, gan bruņumašīnā izvietoto Speciālo uzdevumu bataljona personālsastāvu, kurš var neitralizēt aktīvākos noziedzniekus (masu nekārtību dalībniekus vai pierobežas apstākļos nelegālos migrantus), kuri uzbrukumā var izmantot šaujamieročus, granātas, improvizētās letālas iedarbības sprāgstvielas, neletālās iedarbības sprāgstvielas, aukstos ieročus, degmaisījumus. Nepieciešams pilnpiedziņas IIIA-III NIJ aizsardzības līmeņa transportlīdzeklis 10-12 amatpersonu pārvadāšanai.
A23: 3) Angārs: Savukārt, lai nodrošinātu ūdensmetēja un bruņumašīnu atbilstošu uzturēšanu (atbilstoši rūpnīcas norādījumiem, lai netiktu zaudēta garantija uzstādāmajām iekārtām) nepārtrauktā darba kārtībā, pasargājot no apkārtējās vides iedarbības (paaugstināts mitrums, ziema, tiešā saules ietekme), nepieciešams iegādāties angāru, kas nodrošina iekārtām noteiktu telpas klimatu visa gada garumā.
A24: 4) Motociklu aprīkojums: 2022.gadā tika iegādāti 10 motocikli, kas paredzētu izmantošanai ceļu satiksmes uzraudzībai, sabiedriskās kārtības nodrošināšanai. Ņemot vērā, ka 2022.gadā būtiski pieauga transportlīdzekļu iegādes un speciālā aprīkojuma un informācijas tehnoloģiju sistēmu izmaksas, Valsts policijai nebija pietiekošu finanšu resursu, lai nodrošinātu iegādāto motociklu pilnīgu aprīkošanu. Ieplānotie aprīkošanas darbi būtu jāīsteno 2023.gada pirmajā ceturksnī līdz vasaras sezonai (motociklu izmantošanas sezonas uzsākšanai).
A25: 5) Bezpilota gaisa kuģu (dronu) komandcentra transportlīdzeklis: Bezpilota gaisa kuģu tehniskā un tehnoloģiskā attīstība ir būtiski izmainījusi iespējas dažādās nozarēs pildīt dažāda rakstura uzdevumus. Valsts policijā šā tehniskā līdzekļa izmantošana ir tikai uzsākta un jau pierādījies, ka tas ir pietiekami efektīvs dažādu ar policijas pienākumiem saistīto darba uzdevumu izpildē. Valsts policijas bezpilotu gaisa kuģu tehnisko nodrošinājums ir ļoti ierobežots, jo ir tikai atsevišķi lidaparāti, bet nav nekāda veida atbalsta punkta gaisa operāciju veikšanai. Atbalsta punktam kā optimālākais risinājums ir autonoms un mobils komandcentrs, kurā atrodas nepieciešamie tehniskais resurss gaisa operāciju veikšanai. Komandcentra izveide radītu iespēju nodrošināt mobili un autonomi veikt gaisa operācijas praktiski jebkurā Latvijas vietā nepieciešamo darba uzdevumu izpildē kā arī sniegtu būtisku atbalstu veicamo pasākumu vadīšanā un koordinācijā. Komandcentrs nodrošinātu autonomu enerģiju, datu pārraidi, darba uzdevuma vadīšanu, kontroli un koordināciju, lidaparātu tehniskās sagatavošanu, pārbaudes un apkopes kā arī nodrošinātu ar citu tehnisko resursu lai nodrošinātu darbības, kas pilotam jāveic atbilstoši tiesiskajam regulējumam par bezpilota gaisa kuģu izmantošanu. Autonoma bezpilota gaisa kuģu mobilā komandcentra izmantošana paredzēta sabiedriskās kārtības un drošības pasākumu nodrošināšanā dažāda veida notikumos, personu meklēšanā, atsevišķu izmeklēšanas darbību veikšanā, drošības nodrošināšanā u.c. policijas uzdevumu izpildē.
A26: 6) Valsts policijas iekšējās Intarnet lapas intranet.vp.gov.lv, pilnveidošana: Valsts policijas Intranet uzlabošanas nepieciešamība ir iekļauta Eiropas Komisijas Strukturālo reformu atbalsta programmas projekta “Iekšlietu nozares iestāžu darbības efektivitātes paaugstināšana Latvijā” otrā posma (SRAP-2) rekomendāciju ieviešanas Rīcības plānā, nosakot: uzlabot Valsts polcijas intranet tīmekļa vietnes funkcionalitāti un dizainu, t.sk., izveidot mūsdienu tehnoloģiskajām prasībām atbilstošu Valsts policijas Intranet tīmekļa vietni, tostarp iekšējo tiesību aktu informācijas sistēmu un veikt esošo iekšējo normatīvo aktu un citu rīkojumu dokumentu izvērtējumu un aktualizāciju Valsts policijas Intranet tīmekļa vietnē. Papildu jānorāda, ka Valsts policijas Intranet, kādu to šobrīd redzam un izmantojam, ir būvēts 2014. gadā un kopš tā laika tajā nav veiktas izmaiņas dizainā, funkcionalitātē u.tml. Toties ir veiktas satura, to nemitīgi papildinot, kas rezultējies ar to, ka informācijas apjoms ir liels, sadrumstalots un apgrūtina darbiniekiem lietojamību. Turklāt lietojamību apgrūtina tas, ka Intranet nestrādā meklētājs, kas meklē tikai pēc attiecīgiem locījumiem, nevis atslēgvārdiem u.tml. Šīs Intranet lapas dizains ir morāli novecojis, vairs nepildot instrumenta, kas būtu ērts palīgs darbā policijas darbiniekiem. Valsts policija šajā laikā ir uzturējuši šo vietni, to arī strukturāli mēģinot sakārtot, pilnveidot, tomēr tas vairs nerisina problēmu. Lai iestādei un darbiniekiem būtu moderns, funkcionējošs un ērts Intranet, to ir nepieciešams būvēt no jauna, piesaistot atbilstošus speciālistus, kas ar to ikdienā nodarbojas.
A27: 7) Transportlīdzekļu aprīkošana: 2022.gadā Valsts policija kā dāvinājumu no ASV saņēma divus mikroautobusa tipa transportlīdzekļus ar iekārtām, kas paredzētas atsevišķu autopārvadājumu kontroles uzdevumu izpildē. Savukārt, lai pilnvērtīgi transportlīdzekļus varētu integrēt autopārvadājumu uzdevumu izpildē, tajos ir nepieciešama iekšējā pārbūve un aprīkošana ar darbam nepieciešamajām iekārtām un informāciju sistēmām.
A28: 8) Pilnpiedziņas mikroautobusi: Valsts policija tiek iesaistītas dažādu uzdevumu izpildē un bieži saskaras nepieciešamību pārvietoties pa zemes ceļiem un grūti šķērsojamu apvidu. Vērtējot dienesta uzdevumu izpildes uzkrāto pieredzi kārtības nodrošināšanas pasākumos, kā arī ņemot vērā uzdevumu izpildes teritorijas īpatnības, secināms, ka, lai nodrošinātu maksimāli efektīvu uzdevumu izpildi, būtu nepieciešams iegādāties 4x4 mikroautobusu ar paaugstinātu klīrensu, kas nodrošinātu iespēju pārvietot lielāku skaitu amatpersonu un speciālo taktisko līdzekļu (resursu pārdislokācija).
A29: 9) Autobusi: Valsts policijas rīcībā uz 2002.gadu bija divi pasažieru autobusi. Viens no tiem, tā sliktā tehniskā stāvokļa dēļ, jau atzīts par turpmāk neizmantojamu un norakstīts, savukārt arī atlikušais autobuss tiek diagnosticēts un lemts par tā norakstīšanu, jo tā uzturēšana kļūst neiespējama. Sakarā augstāk minēto nepieciešama jaunu divu autobusu iegāde, kas nodrošinās Valsts policijas reaģēšanas spējas pārvietot dienesta personālu un Valsts policijas koledžas kadetus jebkurā diennakts laikā un uz jebkuru vietu, tādā veidā nodrošinot nepieciešamo dienesta personāla mobilitāti.
A30: 10) Auto evakuators: Valsts policija, kas ir operatīvais dienests, ar noteiktiem uzdevumiem kuri veicami 24/7 režīmā un tā rīcībā atrodas gandrīz 1300 dažāda veida transportlīdzekļi. Ņemot vērā dažādo transportlīdzekļu tehnisko stāvokli, kā arī dažādo vidi kādā tie tiek ekspluatēti, ir jābūt nodrošinātai iespējai iestādei arī 24/7 režīmā reaģēt tehniskā rakstura problēmām, lai maksimāli īsinātu amatpersonu ar speciālo dienesta pakāpi kavēšanos novēršot tehniskās problēmas, kā arī tiktu radīta spēja maksimāli īsā termiņā veikt tehnisko resursu pārvietošanu un darba spēju atjaunošanu.
A31: 11) Elektrošoka pistoles: Elektrošoka pistoles (taizeri) ir sevi pierādījušas kā uzticamu darba instrumentu, kas palīdz policistam situācijās, kad šaujamieroča pielietošana ir galējs līdzeklis, rast aizsardzības un personas aizturēšanas pasākumus, neradot personai dzīvības apdraudējumu. Valsts policija pēdējos gados ir veikusi eletrošoka pistoļu (taizeru) iegādes, bet nepietiekošo finanšu līdzekļu nav bijis iespējams nodrošināt reaģējušos policistus ar šo iekārtu, tādā veidā radot aizsardzību policista dzīvībai un veselībai, kā arī rodot darba instrumentu likumpārkāpēju aizturēšanai.
A32: 12) Automātiskā mazgātava: Valsts policija, izmantojot dažāda veida transportlīdzekļus, ikdienu 24/7 režīmā veic uzticētos valsts uzdevumus, kas prasa rūpes arī par nevainojamu transportlīdzekļu ārējo izskatu. Lielākā daļa Valsts policijas autoparka dislocējas Vestienas ielā 4, Rīgā. Automātiskā mazgātava ļautu 24/7 režīmā policijas amatpersonām beidzot maiņu, vai arī sliktos laikapstākļos biežāk (it sevišķi kad jāveic ārvalstu vizīšu pavadīšanas), veikt transportlīdzekļa ārējā izskata sakopšanu, lai jaunā maiņa (norīkojums) netraucēti varētu uzsākt dienesta pienākumu izpildi.
A33: 13) Transportlīdzekļi GKPP Speciālo uzdevumu nodaļai: Speciālo uzdevumu nodaļas amatpersonas autopārvadājumu uzraudzības kontrolei lieto transportlīdzekļus, kas tikuši iegādāti pirms 9 gadiem. To esošais tehniskais stāvoklis ar gadiem ir ļoti pasliktinājies un aizvien vairāk laika tie pavada servisos, kā arī praktiski ir izsmelts un tiek lemts par pakāpenisku to norakstīšanu. Savukārt, lai nodrošinātu nodaļai noteikto uzdevumu izpildi atbilstošā apjomā un kvalitātē ir nepieciešams veikt autoparka atjaunošanas pasākumus un iegādāties 5 jaunus transportlīdzekļus un pielāgot tos nodaļas specifikai autopārvadājumu uzraudzībā.

Sheet NVA
H1: 3. tabula
A2: Iekšlietu ministrijai papildu nepieciešamais finansējumu 2023., 2024. un 2025. gadā un turpmāk, lai Iekšējās drošības biroju nodrošinatu ar transporlīdzekļiem Nodrošinājuma valsts aģentūra
G3: euro
A4: Programma/apakšprogramma (kods, nosaukums) | E4: 2023.gads | F4: 2024.gads | G4: 2025.gads | H4: 2026.gads un turpmāk katru gadu
A5: 40.02.00 "Nekustamais īpašums un centralizētais iepirkums"
A6: Izdevumi kopā | E6: =E14 -> 106656 | F6: =F14 -> 159984 | G6: =G14 -> 159984 | H6: =H14 -> 159984
A7: Uzturēšanas izdevumi | E7: =E9 -> 0 | F7: =F9 -> 0 | G7: =G9 -> 0
A8: Kārtējie izdevumi | E8: =E9 -> 0 | F8: =F9 -> 0 | G8: =G9 -> 0
A9: Preces un pakalpojumi | E9: =SUM(E10:E13) -> 0 | F9: =SUM(F10:F13) -> 0 | G9: =SUM(G10:G13) -> 0
A14: EEK 2262 Transportlīdzekļu noma Indikatīvi izdevumi Iekšējās drošības birojam nepieciešamo transportlīdzekļu nomai (ar PVN) , ievērojot to, ka vidējā 1 automašīnas nomas maksa mēnesī (prognoze atbilstoši noslēgtajiem iepirkuma līgumiem) ir 1 111 euro (ar PVN): 2023. gada 8 mēnešu nomas periodam - 106 656 euro (nomāto automašīnu skaits 12 x nomas periods 8 mēneši x 1 automašīnas nomas maksa 1 111 euro); 2024. gadā un turpmāk katru gadu - 159 984 euro (nomāto automašīnu skaits 12 x nomas periods 12 mēneši (2024.gada janvāris-decembris) x 1 automašīnas nomas maksa 1 111 euro). | E14: 106656 | F14: 159984 | G14: 159984 | H14: 159984
A15: 40.02.00 "Nekustamais īpašums un centralizētais iepirkums" | E15: 2023.gads | F15: 2024.gads | G15: 2025.gads
A16: Izdevumi kopā | E16: =E19 -> 0 | F16: =F19 -> 0 | G16: =G19 -> 0
A17: Uzturēšanas izdevumi | E17: =E19 -> 0 | F17: =F19 -> 0 | G17: =G19 -> 0
A18: Kārtējie izdevumi | E18: =E19 -> 0 | F18: =F19 -> 0 | G18: =G19 -> 0
A19: Preces un pakalpojumi | E19: =E20 -> 0 | F19: =F20 -> 0 | G19: =G20 -> 0
A20: 2241 Ēku, būvju un telpu būvdarbi 2023.gadā: Dienesta suņu - 8 voljēru remonts un 2 jaunu voljēru izbūve, lai nodrošinātu dzīvnieku labturības prasībām atbilstošus uzturēšanās apstākļus suņiem-bidetektoriem - 24 000 EUR; Ballistisko, sprādizentehnisko ekspertīžu un kontrolšāvienu kriminālistikas laboratorijas specializēta aprīkojuma modernizēšana atbilstoši metodēm, prasībām un standartiem: Pretrikošeta funkciju pildoša materiāla bloku izvietošana pirms ložu uztvērējiem - 9 000 EUR. Turpmāk ik gadu: Ballistisko, sprādizentehnisko ekspertīžu un kontrolšāvienu kriminālistikas laboratorijas specializēta aprīkojuma modernizēšana atbilstoši metodēm, prasībām un standartiem: Pretrikošeta un citu nolietoto materiālu nomaiņa - 1 600 EUR; Lokālās kanalizācijas sistēmas apkope, filtru nomaiņa - 2 000 EUR.
A21: Sagatavoja:
A22: VP FP Budžeta plānošanas un analīzes nodaļas vecākā speciāliste - Inese Luce
A23: VP GAP SAB Plānošanas un kontroles nodaļas priekšniece - Agnese Rozenvalde
A24: (amats, vārds, uzvārds)
A31: Pamatojums Nepieciešams nodrošināt iespēju Iekšējās drošības birojam izpildīt noteiktos uzdevumus un pamatfunkcijas, paredzot finansējumu 2023. gadā un turpmāk katru gadu Iekšējās drošības birojam nepieciešamo transportlīdzekļu nomas maksas segšanai.
A32: Ministru kabineta 2015. gada 9. jūnija rīkojums Nr. 299 "Par ilgtermiņa saistībām Iekšlietu ministrijai Iekšējās drošības biroja funkciju nodrošināšanai" (turpmāk - Rīkojums Nr. 299) paredz finansējumu transportlīdzekļu nomai. Atbilstoši Rīkojumam Nr. 299 pasākumam "Transportlīdzekļu noma" 2016. gadā bija paredzēts finansējums 159 984 euro apmērā (Rīkojuma Nr. 299 pamata redakcijā no 2015. gada 9. jūnija līdz 2016. gada 12. decembrim), savukārt 2023. gadā mazāks – 76 000 euro apmērā, kopumā laika periodam no 2015. gada līdz 2023. gada aprīlim piešķirti 820 132 euro. Iekšējās drošības birojs lieto transportlīdzekļus, kurus Nodrošinājuma valsts aģentūra ir saņēmusi transportlīdzekļu nomas iepirkuma pakalpojumu ietvaros. 2023. gada maija mēnesī beigsies trīs iepirkuma līgumu darbība par Iekšējās drošības birojam nepieciešamo transportlīdzekļu nomu. Tādējādi ir savlaicīgi un nekavējoši jāuzsāk jauna iepirkuma procedūra saskaņā ar Publisko iepirkumu likuma normām, lai nodrošinātu Iekšējās drošības biroja noteikto uzdevumu un funkciju kvalitatīvu izpildi un nepārtrauktību, kā arī operatīvu reaģētspēju.
A33: Iekšlietu ministrijas sistēmas iestādēs tika veikts audits "Autotransporta pārvaldības sistēmas pilnveide iekšlietu nozarē" (auditu veica SIA CSE COE), kura ietvaros Iekšējās drošības birojam ir sniegtas rekomendācijas tā autoparka pārvaldības uzlabošanai, kā arī rekomendācijas turpmākas transportlīdzekļu nomas pakalpojuma pilnveidošanai. Ievērojot, ka Iekšējās drošības biroja funkciju nodrošināšanai izmantotie transportlīdzekļi tiek izmantoti ievērojami intensīvāk nekā, piemēram, administratīvām vajadzībām paredzētie transportlīdzekļi, jo īpaši, ņemot vērā to izmantošanu 24 stundas diennaktī visa gada garumā, to faktiskais ekspluatācijas periods, pēc kura tas ir pilnībā noamortizējies, tiek plānots aptuveni 4 – 5 gadi. Intensīvā transportlīdzekļu izmantošana veicina nepieciešamību biežāk remontēt tos. Papildu izdevumi remontdarbu veikšanai netiek plānoti. Turklāt Iekšējās drošības birojam nav paredzēts materiāltehniskais nodrošinājums remontdarbu veikšanai. Ņemot vērā Valsts policijas pieredzi, ievērojot Valsts policijas nomāto transportlīdzekļu nolietojuma pakāpi, tika nolemts, ka finansiāli izdevīgākais variants ir transportlīdzekļu noma uz 5 gadiem, nevis jaunu transportlīdzekļu iegāde.
A34: Savukārt transportlīdzekļu nomas līgumu slēgšana uz ilgāku laika periodu par 5 gadiem būtiski palielinātu nomas maksājumus mēnesī, jo iznomātājs, sastādot nomas līgumu un nosakot nomas maksu mēnesī, ņem vērā transportlīdzekļu ražotāja sniegtās garantijas termiņu (atkarībā no transportlīdzekļu ražotāja un transportlīdzekļu markas garantija ir no 2 līdz 5 gadiem) un to, ka pēc tās būtiski palielinās transportlīdzekļu uzturēšanas izdevumi, tai skaitā, izdevumi par transportlīdzekļu apdrošināšanu. Ņemot vērā minēto, ir paredzams, ka Iekšējās drošības biroja transportlīdzekļu nobraukums kilometros (piecu gadu laikā) būs sasniedzis transportlīdzekļu ražotāju noteiktos maksimālos nobraukumus kilometros. Lai sasniedzot minētos (maksimālos) nobraukumus nomas maksa netiktu nepamatoti paaugstināta, plānots slēgt transportlīdzekļu nomas līgumus par automobiļu nomu, kas nav ilgāka par pieciem gadiem.
