Workbook

Sheet Pakalpojuma apraksts
B2: Pakalpojuma nosaukums: | C2: Fotoradaru atgādinājumu sagatavošanas pakalpojumu maksas aprēķins
B3: Cenrādis, kurā pakalpojums tiks iekļauts | C3: Līgums ar Valsts Policiju
B4: Pakalpojuma grupa | C4: Citi
B5: Pakalpojuma apraksts - īsumā Kas ir šis pakalpojums?
B6: Pakalpojuma apraksts - detalizēts Kādas darbības / procesi pakalpojumā tiek iekļauti?
B7: Plānotie klienti | C7: Valsts policija
B8: Plānotie pakalpojuma veidi (ja ir)
B9: Pakalpojuma mērvienība vienība, kas tiks apmaksāta (gab., h, min) | C9: 1 gab
B10: Pakalpojuma sniegšanas laiks kad pakalpojums būs (ir) pieejams kad tiek uzsākta pakalpojuma sniegšana, vai ir sezonalitāte | C10: strādājošo darba laiks
B11: Saistītie pakalpojumi saraksts ar pakalpojumiem, ko klients parasti izmanto kopā ar šo pakalpojumu jānorāda vai pakalpojumi tiek apmaksāti atsevišķi
B12: Plānotais pakalpojumu apjoms skaits un periods | C12: Vidējais prognozētas 3 gadu periodā
B13: Tiešās un netiešās izmaksas veidojošās komponentes Tiešās izmaksas (tiešās darba izmaksas, tiešās materiālu izmaksas, citas ar pakalpojuma sniegšanu tieši saistītas izmaksas, piem. pārdošana, piegāde, ārpakalpojumi) Netiešās izmaksas (netiešās darba izmaksas (finanšu departaments, juridiskā daļa, vispārējā daļa), citas netiešās izmaksas (ēku / telpu uzturēšana, IT infrastruktūra, reģistrs u.c.) | C13: - IT programmnodrošinājuma uzturēšana saskaņā ar pakalpojuma "Informācijas sistēmu uzturēšanas darbi (maksa par stundu)" noteikto cenu, atskaitot administrācijas izmaksas un uzcenojumu - disku masīvu nodrošināšana ar IBM esošā līguma ietvaros; kopējais apjoms 20 TB, par cenu 500 EUR / gadā / 1 TB - reģistra izmantošanas izmaksas - Programmnodrošinājuma papildus izstrāde (kopā 3 nedēļas darba), kas tiek cenots saskaņā ar pakalpojuma "Informācijas sistēmu izstrādes darbi (maksa par stundu)" noteikto cenu, atskaitot administrācijas izmaksas un uzcenojumu. - Izmaksas par protokolu nosūtīto vēstuļu uzglabāšanu elektroniskā tiešsaistes arhīvā -atbalstošā personāla atalgojuma izmaksas -atdministrācijas izmaksas
B14: Pakalpojuma īpašnieks
B15: Apraksta aizpildīšanas datums un aizpildītājs
B16: Service Level Agreement Vai tiks piemērots SLA; ja jā tad kāds
B17: Saistītie normatīvie akti (ja ir) Saites uz iekšējiem normatīvajiem aktiem, kas reglamentē pakalpojuma sniegšanu
B18: Papildus pieņēmumi pakalpojuma cenas aprēķinam piem., cena tiek aprēķināta aplēšot izmaksas 3 gadu periodam
B19: Citi pieņēmumi / ierobežojumi / komentāri Kas papildus būtu jāņen vērā, veicot aprēķinu
C22: Pakalpojuma apraksta aizpildīšanas datums _______________________ un Aizpildītājs__________________________
C23: (paraksts)

Sheet Cenas aprēķins
D1: 5.pielikums Ministru kabineta rīkojuma projekta "Grozījumi Ministru kabineta 2021. gada 2.novembra rīkojumā Nr.775 "Par ceļu satiksmes pārkāpumu fiksēšanas tehnisko līdzekļu darbības nodrošināšanu" sākotnējās ietekmes novērtējuma ziņojumam (anotācijai)
C2: Aprēķina datums | D2: 44812 | I2: Salīdzināšanai | K2: bez PVN
I3: Atšķirība
C4: Paziņojuma (atgādinājuma) sagatavošanas izmaksas (informācijas apstrāde)
B5: Nr.p.k. | C5: Pakalpojums / pozīcija | D5: Komentārs / detalizācija / aprēķina formula | E5: Skaits / summa | F5: Summa (EUR) | I5: Pieņēmums | J5: Komentārs | K5: Skaits / summa | L5: Mērvienība | M5: Summa (EUR)
B6: 1.1. | C6: Pakalpojumu skaits gadā | D6: sask. ar prognozi | E6: =(AVERAGE(230860,191760,185640)+AVERAGE(67576,73888,47088)+AVERAGE(48240,53600,42880))*0.15 -> 47076.6 | I6: Pakalpojumu skaits
B7: 2. | C7: Tiešās un jaukta tipa izmaksas | D7: =$B$8&"+"&$B$11&"+"&$B$13&"+"&$B$17 -> 2.1.+2.2.+2.3.+2.4. | F7: =SUM(F8,F11,F13,F17) -> 0.36 | I7: Tiešās izmaksas
B8: 2.1. | C8: Tiešās darba un ar darbu saistītās tiešās un jaukta tipa izmaksas | D8: =$B$9&" + "&$B$10 -> 2.1.1. + 2.1.2. | F8: =SUM(F9:F9) -> 0.06 | I8: Tiešās darba izmaksas
B9: 2.1.1. | C9: Programnodrošinājuma uzturēšanas izmaksas | D9: =$M$9&" "&$L$9&" ("&$I$9&" "&$J$9&") * "&$E$9&" stundas mēnesī * 12 mēneši / "&$B$6 -> 29,08 EUR stundā (IS uzturēšanas izmaksas sask. ar Valdes cenrādi) * 8 stundas mēnesī * 12 mēneši / 1.1. | E9: 8 | F9: =ROUND($M$9*$E$9*12/$E$6,2) -> 0.06 | I9: IS uzturēšanas izmaksas | J9: sask. ar Valdes cenrādi | L9: EUR stundā | M9: 29.08
B10: 2.1.2.
B11: 2.2. | C11: Tiešās materiālu izmaksas | D11: =$B$12 -> 2.2.1. | F11: =SUM(F12:F12) -> 0 | I11: Tiešās materiālu izmaksas
B12: 2.2.1. | F12: 0
B13: 2.3. | C13: Citas tiešās un jaukta tipa izmaksas | D13: =$B$14&"+"&$B$15&"+"&$B$16 -> 2.3.1.+2.3.2.+2.3.3. | F13: =SUM(F14:F16) -> 0.26 | I13: Citas tiešās izmaksas
B14: 2.3.1. | C14: Reģistra izmantošanas izmaksas, veicot CSDD datu ieguvi un apstrādi | D14: =$M$14&" "&$L$14&" ("&$I$14&" "&$J$14&")" -> 0,26 EUR par gab (Tiešās un netiešās izmaksas uz vienu reģistrā fiksētā pakalpojuma vienību sask. ar atbalstošo pakalpojumu, kas iekļauj izmaksas un to pieskaitījumus) | F14: =$M$14 -> 0.26 | I14: =IF(INDEX(legend!I:I,MATCH($C14,legend!$G:$G,FALSE))=0," ",INDEX(legend!I:I,MATCH($C14,legend!$G:$G,FALSE))) -> Tiešās un netiešās izmaksas uz vienu reģistrā fiksētā pakalpojuma vienību | J14: =IF(INDEX(legend!J:J,MATCH($C14,legend!$G:$G,FALSE))=0," ",INDEX(legend!J:J,MATCH($C14,legend!$G:$G,FALSE))) -> sask. ar atbalstošo pakalpojumu, kas iekļauj izmaksas un to pieskaitījumus | K14: =IF(INDEX(legend!K:K,MATCH($C14,legend!$G:$G,FALSE))=0," ",INDEX(legend!K:K,MATCH($C14,legend!$G:$G,FALSE))) | L14: =IF(INDEX(legend!L:L,MATCH($C14,legend!$G:$G,FALSE))=0," ",INDEX(legend!L:L,MATCH($C14,legend!$G:$G,FALSE))) -> EUR par gab | M14: =IF(INDEX(legend!M:M,MATCH($C14,legend!$G:$G,FALSE))=0," ",INDEX(legend!M:M,MATCH($C14,legend!$G:$G,FALSE))) -> 0.26
B15: 2.3.2. | C15: Izmaksas par protokolu nosūtīto vēstuļu uzglabāšanu elektroniskā tiešsaistes arhīvā | D15: =$M$15&" "&$L$15&" ("&$I$15&" "&$J$15&") * 12 mēneši / "&$B$6 -> 18 EUR mēnesī (Izmaksas par protokolu nosūtīto vēstuļu uzglabāšanu elektroniskā tiešsaistes arhīvā sask. ar līgumu ar piegādātāju) * 12 mēneši / 1.1. | F15: =ROUND($M$15*12/$E$6,2) -> 0 | I15: Izmaksas par protokolu nosūtīto vēstuļu uzglabāšanu elektroniskā tiešsaistes arhīvā | J15: sask. ar līgumu ar piegādātāju | K15: 0.09 | L15: EUR mēnesī | M15: =200*K15 -> 18
B16: 2.3.3.
B17: 2.4. | C17: Tieši attiecināmo ilgtermiņa ieguldījumu nolietojums | D17: =$B$18&"+"&$B$19&"+"&$B$20 -> 2.4.1.+2.4.2.+2.4.3. | F17: =SUM(F18:F20) -> 0.04 | I17: Tieši attiecināmo ilgtermiņa ieguldījumu nolietojums
B18: 2.4.1. | C18: Atgādinājumu apstrādes programmatūras izstrādes izmaksas, t.sk. izmaiņas saistībā ar Administratīvās atbildības likuma prasību ieviešanu | D18: =$M$18&" "&$L$18&" ("&$I$18&" "&$J$18&") * "&$E$18&" stundas / "&$K$18&" gadi / "&$B$6 -> 49,85 EUR stundā (IS izstrādes izmaksas sask. ar Valdes cenrādi) * 176 stundas / 5 gadi / 1.1. | E18: 176 | F18: =ROUND($M$18*$E$18/$K$18/$E$6,2) -> 0.04 | I18: IS izstrādes izmaksas | J18: sask. ar Valdes cenrādi | K18: 5 | L18: EUR stundā | M18: 49.85
B19: 2.4.2. | F19: -
B20: 2.4.3. | F20: -
B21: 3. | C21: Netiešās izmaksas | D21: =$B$22&"+"&$B$26&"+"&$B$30 -> 3.1.+3.2.+3.3. | F21: =SUM(F22,F26,F30) -> 0.04 | I21: Netiešās izmaksas
B22: 3.1. | C22: Netiešās darba un ar darbu saistītās tiešās un jaukta tipa izmaksas | D22: =$B$23&"+"&$B$24&"+"&$B$25 -> 3.1.1.+3.1.2.+3.1.3. | F22: =SUM(F23:F25) -> 0.01 | I22: Netiešās darba izmaksas
B23: 3.1.1. | C23: Atbalstošo funkciju personāla izmaksas | D23: =$K23*100&"% ("&$I23&" "&$J23&") * ("&$B$8&" + "&$B$11&" + "&$B$18&")" -> 7,53% (Izmaksu pieskaitījuma koeficients atbalstošo funkciju personāla nodrošināšanai sask. ar atbalstošo pakalpojumu) * (2.1. + 2.2. + 2.4.1.) | F23: =ROUND((F$11+F$8+F$18)*$K$23,2) -> 0.01 | I23: =IF(INDEX(legend!I:I,MATCH($C23,legend!$G:$G,FALSE))=0," ",INDEX(legend!I:I,MATCH($C23,legend!$G:$G,FALSE))) -> Izmaksu pieskaitījuma koeficients atbalstošo funkciju personāla nodrošināšanai | J23: =IF(INDEX(legend!J:J,MATCH($C23,legend!$G:$G,FALSE))=0," ",INDEX(legend!J:J,MATCH($C23,legend!$G:$G,FALSE))) -> sask. ar atbalstošo pakalpojumu | K23: =IF(INDEX(legend!K:K,MATCH($C23,legend!$G:$G,FALSE))=0," ",INDEX(legend!K:K,MATCH($C23,legend!$G:$G,FALSE))) -> 0.0753 | L23: =IF(INDEX(legend!L:L,MATCH($C23,legend!$G:$G,FALSE))=0," ",INDEX(legend!L:L,MATCH($C23,legend!$G:$G,FALSE))) | M23: =IF(INDEX(legend!M:M,MATCH($C23,legend!$G:$G,FALSE))=0," ",INDEX(legend!M:M,MATCH($C23,legend!$G:$G,FALSE)))
B24: 3.1.2. | F24: -
B25: 3.1.3. | F25: -
B26: 3.2. | C26: Citas netiešās izmaksas | D26: =$B$27&"+"&$B$28&"+"&$B$29 -> 3.2.1.+3.2.2.+3.2.3. | F26: =SUM(F27:F29) -> 0 | I26: Citas netiešās izmaksas
B27: 3.2.1. | C27: Izmaksas par PVN neatskaitāmo daļu | D27: ="("&$B$13&"-"&$B$14&") * "&$K$34*100&"% * "&$K$27*100&"%" -> (2.3.-2.3.1.) * 21% * 15% | F27: =ROUND((F$13-$F14)*$K$27*$K$34,2) -> 0 | I27: =IF(INDEX(legend!I:I,MATCH($C27,legend!$G:$G,FALSE))=0," ",INDEX(legend!I:I,MATCH($C27,legend!$G:$G,FALSE))) -> PVN neatskaitāmā daļa | J27: =IF(INDEX(legend!J:J,MATCH($C27,legend!$G:$G,FALSE))=0," ",INDEX(legend!J:J,MATCH($C27,legend!$G:$G,FALSE))) | K27: =IF(INDEX(legend!K:K,MATCH($C27,legend!$G:$G,FALSE))=0," ",INDEX(legend!K:K,MATCH($C27,legend!$G:$G,FALSE))) -> 0.15 | L27: =IF(INDEX(legend!L:L,MATCH($C27,legend!$G:$G,FALSE))=0," ",INDEX(legend!L:L,MATCH($C27,legend!$G:$G,FALSE))) | M27: =IF(INDEX(legend!M:M,MATCH($C27,legend!$G:$G,FALSE))=0," ",INDEX(legend!M:M,MATCH($C27,legend!$G:$G,FALSE)))
B28: 3.2.2. | F28: -
B29: 3.2.3. | F29: -
B30: 3.3. | C30: Administrācijas izmaksas | D30: =K30*100&"%*("&$B$7&"+"&$B$22&"+"&$B$26&")" -> 8,802%*(2.+3.1.+3.2.) | F30: =ROUND(SUM(F7,F22,F26)*$K$30,2) -> 0.03 | I30: =IF(INDEX(legend!I:I,MATCH($C30,legend!$G:$G,FALSE))=0," ",INDEX(legend!I:I,MATCH($C30,legend!$G:$G,FALSE))) -> Administrācijas izmaksu proporcija | K30: =IF(INDEX(legend!K:K,MATCH($C30,legend!$G:$G,FALSE))=0," ",INDEX(legend!K:K,MATCH($C30,legend!$G:$G,FALSE))) -> 0.08802
B31: 4. | C31: Tiešās un netiešās izmaksas kopā | D31: =$B$7&"+"&$B$21 -> 2.+3. | F31: =ROUND(F7+F21,2) -> 0.4 | I31: Tiešās un netiešās izmaksas kopā
B32: 5. | C32: Plānotie pieskaitījumi / Peļņa | D32: =$K$32*100&"%*"&$B$31 -> 5%*4. | F32: =ROUND(F31*$K$32,2) -> 0.02 | I32: Plānotie pieskaitījumi / Peļņa | K32: 0.05
B33: 6. | C33: Pakalpojuma cena bez PVN | D33: =$B$31&"+"&$B$32 -> 4.+5. | F33: =ROUND(F31+F32,2) -> 0.42 | I33: Pakalpojuma cena bez PVN
B34: 7. | I34: Pakalpojuma cena ar PVN | K34: 0.21 | L34: 0
C36: Izdevumi var mainīties pa izdevumu veidiem, ņemot vērā iepirkuma rezultātus un citus apstākļus.

Sheet Arhīva sadalījums
C2: Bez PVN | D2: Ar PVN
B3: Stacionārie FR | C3: 105.69 | D3: =C3*1.21 -> 127.8849 | E3: =(C3+C4+C5)/170 -> 0.75341176
B4: Pārvietojamie FR | C4: 19.11 | D4: =C4*1.21 -> 23.1231
B5: 360 | C5: 3.28 | D5: =C5*1.21 -> 3.9688
B6: FR atgādinājumi | C6: 14.71 | D6: =C6*1.21 -> 17.7991 | E6: =C6/C14 -> 0.086529412
B7: RS | C7: 10.16 | D7: =C7*1.21 -> 12.2936
B8: Brīdinājumi | C8: 0.37 | D8: =C8*1.21 -> 0.4477
B9: Soda punkti | C9: 1.74 | D9: =C9*1.21 -> 2.1054
B10: Atgādinājumi | C10: 0.04 | D10: =C10*1.21 -> 0.0484
B11: Paziņojumi | C11: 0.59 | D11: =C11*1.21 -> 0.7139
B12: Stāvvietas | C12: 2.54 | D12: =C12*1.21 -> 3.0734
B13: Stāvvietas | C13: 11.77 | D13: =C13*1.21 -> 14.2417
C14: =SUM(C3:C13) -> 170
C17: 170 vietā jaunajā līgumā 200 EUR/ mēnesī

Sheet legend
B2: ='Pakalpojuma apraksts'!B3 -> Cenrādis, kurā pakalpojums tiks iekļauts | D2: ='Pakalpojuma apraksts'!B4 -> Pakalpojuma grupa | G2: Pakalpojums / pozīcija | I2: Pieņēmums | J2: Komentārs | K2: Skaits / summa | L2: Mērvienība | M2: Summa (EUR)
B3: Izvēlne | D3: Izvēlne | G3: Izmaksas par PVN neatskaitāmo daļu | I3: PVN neatskaitāmā daļa | K3: 0.15
G4: Administrācijas izmaksas | I4: Administrācijas izmaksu proporcija | K4: 0.08802
B5: VAS CSDD pakalpojumu cenrādis | D5: Tehniskais pakalpojums | G5: KAC telpu izmaksas | I5: KAC telpu izmaksu proporcija pret atalgojuma izmaksām | J5: sask. ar atbalstošo pakalpojumu | K5: 0.3046
B6: MK noteikumi Nr. 1000 | D6: Reģistrācijas pakalpojums | G6: Pārvaldes telpu izmaksas | I6: Pārvaldes telpu izmaksu proporcija pret atalgojuma izmaksām | J6: sask. ar atbalstošo pakalpojumu | K6: 0.1379
B7: MK noteikumi Nr. 1000 & Valdes cenrādis | D7: Kvalifikācijas pakalpojums | G7: KAC tehnoloģisko iekārtu izmaksas | I7: KAC tehnoloģisko iekārtu izmaksu proporcija pret atalgojuma izmaksām | J7: sask. ar atbalstošo pakalpojumu | K7: 0.0228
B8: Līgums ar piegādātāju | D8: Citi | G8: Pārvaldes tehnoloģisko iekārtu izmaksas | I8: Pārvaldes tehnoloģisko iekārtu izmaksu proporcija pret atalgojuma izmaksām | J8: sask. ar atbalstošo pakalpojumu | K8: 0.0184
B9: Līgums ar Valsts Policiju | D9: Muzejs | G9: KAC auto izmaksas | I9: KAC auto izmaksu proporcija pret atalgojuma izmaksām | J9: sask. ar atbalstošo pakalpojumu | K9: 0.0387
B10: Aprēķins CSDD iekšējām vajadzībām | D10: BKSB | G10: Pārvaldes auto izmaksas | I10: Pārvaldes auto izmaksu proporcija pret atalgojuma izmaksām | J10: sask. ar atbalstošo pakalpojumu | K10: 0.1125
B11: Atbalstošais pakalpojums | G11: Personāla uzskaites procesa izmaksas (g) | I11: Tiešās un netiešās personāla uzskaites procesa izmaksas uz vienu darbinieku gadā | J11: sask. ar atbalstošo pakalpojumu, kas iekļauj izmaksas un to pieskaitījumus | L11: EUR par gadu | M11: 254.21
G12: Personāla uzskaites procesa izmaksas (d) | I12: Tiešās un netiešās personāla uzskaites procesa izmaksas uz vienu darbinieka darba dienu | J12: sask. ar atbalstošo pakalpojumu, kas iekļauj izmaksas un to pieskaitījumus | L12: EUR par dienu | M12: 1.1248
G13: Personāla uzskaites procesa izmaksas (h) | I13: Tiešās un netiešās personāla uzskaites procesa izmaksas uz vienu darbinieka darba stundu | J13: sask. ar atbalstošo pakalpojumu, kas iekļauj izmaksas un to pieskaitījumus | L13: EUR par stundu | M13: 0.1406
G14: Grāmatvedības procesa izmaksas (h) | I14: Tiešās un netiešās grāmatvedības procesa izmaksas uz vienu darba stundu | J14: sask. ar atbalstošo pakalpojumu, kas iekļauj izmaksas un to pieskaitījumus | L14: EUR stundā | M14: 23.46
G15: Reģistra izmantošanas izmaksas, veicot CSDD datu ieguvi un apstrādi | I15: Tiešās un netiešās izmaksas uz vienu reģistrā fiksētā pakalpojuma vienību | J15: sask. ar atbalstošo pakalpojumu, kas iekļauj izmaksas un to pieskaitījumus | L15: EUR par gab | M15: 0.26
G16: Reģistra izmantošanas izmaksas, veicot TA datu ieguvi un apstrādi | I16: Tiešās un netiešās izmaksas uz vienu reģistrā fiksētā pakalpojuma vienību | J16: sask. ar atbalstošo pakalpojumu, kas iekļauj izmaksas un to pieskaitījumus | L16: EUR par gab | M16: 0.27
G17: Maksājuma iekasēšanas izmaksas (pakalpojums) | I17: Maksājumu iekasēšanas tiešās un netiešās izmaksas kopā CSDD kasēs un izmantojot e-maksājumus, ņemot vērā transakciju veidu proporcionālo sadalījumu un dalītas ar maksājumā iekasēto pakalpojumu skaitu | J17: sask. ar atbalstošo pakalpojumu, kas iekļauj izmaksas un to pieskaitījumus | L17: EUR par gab | M17: 0.41
G18: Maksājuma iekasēšanas izmaksas (KAC pakalpojums) | I18: Maksājumu iekasēšanas tiešās un netiešās izmaksas CSDD kasēs , ņemot vērā transakciju veidu proporcionālo sadalījumu un dalītas ar maksājumā iekasēto pakalpojumu skaitu | J18: sask. ar atbalstošo pakalpojumu, kas iekļauj izmaksas un to pieskaitījumus | L18: EUR par gab | M18: 0.49
G19: Maksājuma iekasēšanas izmaksas (e.CSDD pakalpojums) | I19: Maksājumu iekasēšanas tiešās un netiešās izmaksas e.CSDD, ņemot vērā transakciju veidu proporcionālo sadalījumu un dalītas ar maksājumā iekasēto pakalpojumu skaitu | J19: sask. ar atbalstošo pakalpojumu, kas iekļauj izmaksas un to pieskaitījumus | L19: EUR par gab | M19: 0.22
G20: Maksājuma iekasēšanas izmaksas (maksājums) | I20: Maksājumu iekasēšanas izmaksas kopā CSDD kasēs un izmantojot e-maksājumus un, ņemot vērā transakciju veidu proporcionālo sadalījumu | J20: sask. ar atbalstošo pakalpojumu, kas iekļauj izmaksas un to pieskaitījumus | L20: EUR par gab | M20: 1.3
G21: Maksājuma iekasēšanas izmaksas (KAC maksājums) | I21: Maksājumu iekasēšanas izmaksas CSDD kasēs, ņemot vērā transakciju veidu proporcionālo sadalījumu | J21: sask. ar atbalstošo pakalpojumu, kas iekļauj izmaksas un to pieskaitījumus | L21: EUR par gab | M21: 1.57
G22: Maksājuma iekasēšanas izmaksas (e.CSDD maksājums) | I22: Maksājumu iekasēšanas izmaksas e.CSDD, ņemot vērā transakciju veidu proporcionālo sadalījumu | J22: sask. ar atbalstošo pakalpojumu, kas iekļauj izmaksas un to pieskaitījumus | L22: EUR par gab | M22: 0.69
G23: Atbalstošo funkciju personāla izmaksas | I23: Izmaksu pieskaitījuma koeficients atbalstošo funkciju personāla nodrošināšanai | J23: sask. ar atbalstošo pakalpojumu | K23: 0.0753
