Workbook

Sheet 1.IZD darbība (CSDD)
D1: 3.pielikums Ministru kabineta rīkojuma projekta "Grozījumi Ministru kabineta 2021. gada 2.novembra rīkojumā Nr.775 "Par ceļu satiksmes pārkāpumu fiksēšanas tehnisko līdzekļu darbības nodrošināšanu" sākotnējās ietekmes novērtējuma ziņojumam (anotācijai)
A2: uzstādīti pakāpeniski 2015.gadā (16 gab.), 2016.gadā (24 gab.), 2017.gadā (20 gab.) un 2018. gadā (40 gab.) | I2: 1. tabula
A3: CSDD izdevumi tehnisko līdzekļu (fotoradaru) darbības nodrošināšanai
A4: Nr.p.k. | B4: MK not. Nr.170 punkts | C4: Rādītāji | D4: 2023. rīk Nr.775 | E4: 2023. prec. | F4: 2024. rīk Nr.775 | G4: 2024. prec. | H4: 2025. rīk Nr.775 | I4: 2025. prec.
C5: Fotoradaru skaits, vidējais | D5: 84 | E5: 100 | F5: 60 | G5: 100 | H5: 40 | I5: 100
A7: 1. (1.1.+1.2.) | B7: 2.1. | C7: Prognozētās tehnisko līdzekļu darbības nodrošināšanas izmaksas - kopā (bez plānotās peļņas) | D7: =D8+D17 -> 933016 | E7: =E8+E17 -> 1670935 | F7: =F8+F17 -> 666440 | G7: =G8+G17 -> 1670935 | H7: =H8+H17 -> 444294 | I7: =I8+I17 -> 1670935
A8: 1.1. | B8: 2.1.1. | C8: Ar CSDD darbību saistītie izdevumi | D8: =D9+D10+D11+D12+D13+D14+D15+D16 -> 194365 | E8: =E9+E10+E11+E12+E13+E14+E15+E16 -> 357919 | F8: =F9+F10+F11+F12+F13+F14+F15+F16 -> 138832 | G8: =G9+G10+G11+G12+G13+G14+G15+G16 -> 357919 | H8: =H9+H10+H11+H12+H13+H14+H15+H16 -> 92555 | I8: =I9+I10+I11+I12+I13+I14+I15+I16 -> 357919
A9: 1.1.1. | B9: 2.1.1.1. | C9: Tieši iesaistītā personāla izmaksas PRECIZĒTAIS aprēķins: (2484 euro bruto alga + 598,40 euro darba devēja VSAOI + 42,59 euro veselības un nelaimes gadījumu apdrošināšana + 0,36 euro riska nodeva) x 12 mēn. x 0,03 slodzes x fotoradaru skaits) SĀKOTNĒJAIS aprēķins: Saskaņā ar MK 29.07.2014. rīkojumu Nr.382 (ar grozījumiem, kas spēkā no 13.08.2020.) (iekļauts MK 02.11.2021. Nr.775) | D9: =ROUND((2300+554.07+42.59+0.36)*12*(2/100*D5),0) -> 58404 | E9: =ROUND((2484+598.4+42.59+0.36)*12*(0.03*E5),0) -> 112513 | F9: =ROUND((2300+554.07+42.59+0.36)*12*(2/100*F5),0) -> 41717 | G9: =ROUND((2484+598.4+42.59+0.36)*12*(0.03*G5),0) -> 112513 | H9: =ROUND((2300+554.07+42.59+0.36)*12*(2/100*H5),0) -> 27811 | I9: =ROUND((2484+598.4+42.59+0.36)*12*(0.03*I5),0) -> 112513
A10: 1.1.2. | B10: 2.1.1.2. | C10: Autotransporta noma (bez PVN) un instrumentu iegāde un atjaunošana PRECIZĒTAIS aprēķins: Autotransporta noma 0,44 euro stundā (bez PVN). Lai aprēķinātu attiecināmās stundas: 1) ceļā pavadītais laiks: mēnesī tiek apsekoti 10% no fotoradariem. Vidējais fotoradara attālums no Rīgas ir 72 km, tas ir 72 x 2 = 144 km uz vienu fotoradaru. Vidējais ātrums ir 40 km stundā. 2) uz vietas pavadītais laiks: 1 stunda vienam fotoradaram. Aprēķins: ((fotoradaru skaits x 0,1 x (72 km x 2) x 12 mēn.)/40 km stundā + (1 stunda x fotoradaru skaits x 0,1) x 12 mēn.)) x 0,44 euro SĀKOTNĒJAIS aprēķins: Saskaņā ar MK 29.07.2014. rīkojumu Nr.382 (ar grozījumiem, kas spēkā no 13.08.2020.) (iekļauts MK 02.11.2021. Nr.775) | D10: =ROUND(((D5*0.1*(72*2)/40*12)+(1*D5*0.1*12))*0.44,0) -> 204 | E10: =ROUND(((E5*0.1*(72*2)/40*12)+(1*E5*0.1*12))*0.44,0) -> 243 | F10: =ROUND(((F5*0.1*(72*2)/40*12)+(1*F5*0.1*12))*0.44,0) -> 146 | G10: =ROUND(((G5*0.1*(72*2)/40*12)+(1*G5*0.1*12))*0.44,0) -> 243 | H10: =ROUND(((H5*0.1*(72*2)/40*12)+(1*H5*0.1*12))*0.44,0) -> 97 | I10: =ROUND(((I5*0.1*(72*2)/40*12)+(1*I5*0.1*12))*0.44,0) -> 243
A11: 1.1.3. | B11: 2.1.1.2. | C11: Datortehnikas iegāde un atjaunošana (bez PVN) PRECIZĒTAIS aprēķins: Datoru skaits saskaņā ar plānoto slodžu skaitu, nolietojums 36 mēneši (770 euro x 3 datori)/3 gadi)/ 100 fotoradariem x fotoradaru skaits SĀKOTNĒJAIS aprēķins: Saskaņā ar MK 29.07.2014. rīkojumu Nr.382 (ar grozījumiem, kas spēkā no 13.08.2020.) (iekļauts MK 02.11.2021. Nr.775) | D11: =ROUND((770*2/3)/100*D5,0) -> 431 | E11: =ROUND((770*3/3)/100*E5,0) -> 770 | F11: =ROUND((770*2/3)/100*F5,0) -> 308 | G11: =ROUND((770*3/3)/100*G5,0) -> 770 | H11: =ROUND((770*2/3)/100*H5,0) -> 205 | I11: =ROUND((770*3/3)/100*I5,0) -> 770
A12: 1.1.4. | B12: 2.1.1.2. | C12: Degvielas izmaksas (bez PVN) PRECIZĒTAIS aprēķins: Mēnesī tiek apsekoti 10% no fotoradariem. Vidējais fotoradara attālums no Rīgas ir 72 km, tas ir 72 x 2 = 144 km uz vienu fotoradaru. Degvielas izmaksas 0,23 euro uz vienu nobraukto km. Aprēķins: fotoradaru skaits x 0,10 x (72 km x 2) x 0,13 euro) x 12 mēn. SĀKOTNĒJAIS aprēķins: Saskaņā ar MK 29.07.2014. rīkojumu Nr.382 (ar grozījumiem, kas spēkā no 13.08.2020.) (iekļauts MK 02.11.2021. Nr.775) | D12: =ROUND(D5*0.1*72*2*12*0.13,0) -> 1887 | E12: =ROUND(E5*0.1*72*2*12*0.23,0) -> 3974 | F12: =ROUND(F5*0.1*72*2*12*0.13,0) -> 1348 | G12: =ROUND(G5*0.1*72*2*12*0.23,0) -> 3974 | H12: =ROUND(H5*0.1*72*2*12*0.13,0) -> 899 | I12: =ROUND(I5*0.1*72*2*12*0.23,0) -> 3974
A13: 1.1.5. | B13: 2.1.1.3. | C13: Informatīvās sistēmas uzturēšanas un datu pārraides izmaksas 1 PRECIZĒTAIS aprēķins: 5,66% no 1.1.1+1.1.2.+1.1.3.+1.1.4. un 5,66% no 1.2. SĀKOTNĒJAIS aprēķins: Saskaņā ar MK 29.07.2014. rīkojumu Nr.382 (ar grozījumiem, kas spēkā no 13.08.2020.)(iekļauts MK 02.11.2021. Nr.775) | D13: =ROUND((D9+D10+D11+D12+D17)/100*5.66,0) -> 45256 | E13: =ROUND((E9+E10+E11+E12+E17)/100*5.66,0) -> 80967 | F13: =ROUND((F9+F10+F11+F12+F17)/100*5.66,0) -> 32326 | G13: =ROUND((G9+G10+G11+G12+G17)/100*5.66,0) -> 80967 | H13: =ROUND((H9+H10+H11+H12+H17)/100*5.66,0) -> 21551 | I13: =ROUND((I9+I10+I11+I12+I17)/100*5.66,0) -> 80967
A14: 1.1.6. | B14: 2.1.1.4. | C14: Ēku remonta, uzturēšanas izmaksas un komunālie pakalpojumi 2 PRECIZĒTAIS aprēķins: 18,53% no 1.1.1. SĀKOTNĒJAIS aprēķins: Saskaņā ar MK 29.07.2014. rīkojumu Nr.382 (ar grozījumiem, kas spēkā no 13.08.2020.) (iekļauts MK 02.11.2021. Nr.775) | D14: =ROUND(D9/100*18.53,0) -> 10822 | E14: =ROUND(E9/100*18.53,0) -> 20849 | F14: =ROUND(F9/100*18.53,0) -> 7730 | G14: =ROUND(G9/100*18.53,0) -> 20849 | H14: =ROUND(H9/100*18.53,0) -> 5153 | I14: =ROUND(I9/100*18.53,0) -> 20849
A15: 1.1.7. | B15: 2.1.1.5. | C15: Administrācijas (pieskaitāmās) izmaksas 3 PRECIZĒTAIS aprēķins: 8,811% no 1.1.1.+ 1.1.2.+1.1.3.+1.1.4.+1.1.5.+1.1.6.un 8,811% no 1.2. SĀKOTNĒJAIS aprēķins: Saskaņā ar MK 29.07.2014. rīkojumu Nr.382 (ar grozījumiem, kas spēkā no 13.08.2020.)(iekļauts MK 02.11.2021. Nr.775) | D15: =ROUND((D9+D10+D11+D12++D13+D14+D17)/100*8.811,0) -> 75392 | E15: =ROUND((E9+E10+E11+E12++E13+E14+E17)/100*8.811,0) -> 135014 | F15: =ROUND((F9+F10+F11+F12++F13+F14+F17)/100*8.811,0) -> 53851 | G15: =ROUND((G9+G10+G11+G12++G13+G14+G17)/100*8.811,0) -> 135014 | H15: =ROUND((H9+H10+H11+H12++H13+H14+H17)/100*8.811,0) -> 35901 | I15: =ROUND((I9+I10+I11+I12++I13+I14+I17)/100*8.811,0) -> 135014
A16: 1.1.8. | B16: 2.1.1.6. | C16: Neatgūstamā PVN daļa 4 PRECIZĒTAIS aprēķins: (1.1.2.+1.1.3.+1.1.4.+1.1.5.+1.1.6.) x 0,21 x 0,16 SĀKOTNĒJAIS aprēķins: Saskaņā ar MK 29.07.2014. rīkojumu Nr.382 (ar grozījumiem, kas spēkā no 13.08.2020.) (iekļauts MK 02.11.2021. Nr.775) | D16: =ROUND((D10+D11+D12+D13+D14)*0.21*0.16,0) -> 1969 | E16: =ROUND((E10+E11+E12+E13+E14)*0.21*0.16,0) -> 3589 | F16: =ROUND((F10+F11+F12+F13+F14)*0.21*0.16,0) -> 1406 | G16: =ROUND((G10+G11+G12+G13+G14)*0.21*0.16,0) -> 3589 | H16: =ROUND((H10+H11+H12+H13+H14)*0.21*0.16,0) -> 938 | I16: =ROUND((I10+I11+I12+I13+I14)*0.21*0.16,0) -> 3589
A17: 1.2. | B17: 2.1.2. | C17: Izdevumi, ko CSDD sedz ārpakalpojuma sniedzējam | D17: =D18+D19+D20+D21+D22+D23 -> 738651 | E17: =E18+E19+E20+E21+E22+E23 -> 1313016 | F17: =F18+F19+F20+F21+F22+F23 -> 527608 | G17: =G18+G19+G20+G21+G22+G23 -> 1313016 | H17: =H18+H19+H20+H21+H22+H23 -> 351739 | I17: =I18+I19+I20+I21+I22+I23 -> 1313016
A18: 1.2.1. | B18: 2.1.2.1. | C18: Elektroenerģijas izmaksas PRECIZĒTAIS aprēķins: (0,44442 euro ar PVN par kWh x 90 kWh x 12 mēn. x fotoradaru skaits) + (2,15 euro ar PVN fiksēta mēneša maksa x 12 mēn. x fotoradaru skaits) SĀKOTNĒJAIS aprēķins: Saskaņā ar MK 29.07.2014. rīkojumu Nr.382 (ar grozījumiem, kas spēkā no 13.08.2020.) (iekļauts MK 02.11.2021. Nr.775) | D18: =ROUND((0.13471*90*12*D5)+(2.37*12*D5),0) -> 14610 | E18: =ROUND((0.44442*90*12*E5)+(2.15*12*E5),0) -> 50577 | F18: =ROUND((0.13471*90*12*F5)+(2.37*12*F5),0) -> 10436 | G18: =ROUND((0.44442*90*12*G5)+(2.15*12*G5),0) -> 50577 | H18: =ROUND((0.13471*90*12*H5)+(2.37*12*H5),0) -> 6957 | I18: =ROUND((0.44442*90*12*I5)+(2.15*12*I5),0) -> 50577
A19: 1.2.2. | B19: 2.1.2.2. | C19: Apdrošināšanas izmaksas PRECIZĒTAIS aprēķins: Apdrošināšana gadā 1 600 euro gadā (neapliekas ar PVN) 1 600 euro x fotoradaru skaits SĀKOTNĒJAIS aprēķins: Saskaņā ar MK 29.07.2014. rīkojumu Nr.382 (ar grozījumiem, kas spēkā no 13.08.2020.) (iekļauts MK 02.11.2021. Nr.775) | D19: =ROUND(1600*D5,0) -> 134400 | E19: =ROUND(1600*E5,0) -> 160000 | F19: =ROUND(1600*F5,0) -> 96000 | G19: =ROUND(1600*G5,0) -> 160000 | H19: =ROUND(1600*H5,0) -> 64000 | I19: =ROUND(1600*I5,0) -> 160000
A20: 1.2.3. | B20: 2.1.2.3. | C20: Apsardzes izmaksas PRECIZĒTAIS aprēķins: Vidējās izmaksas 57,77 euro uz 1 fotoradaru mēnesī ar PVN 57,77 euro x 12 mēn. x fotoradaru skaits SĀKOTNĒJAIS aprēķins: Saskaņā ar MK 29.07.2014. rīkojumu Nr.382 (ar grozījumiem, kas spēkā no 13.08.2020.) (iekļauts MK 02.11.2021. Nr.775) | D20: =ROUND(57.77*12*D5,0) -> 58232 | E20: =ROUND(57.77*12*E5,0) -> 69324 | F20: =ROUND(57.77*12*F5,0) -> 41594 | G20: =ROUND(57.77*12*G5,0) -> 69324 | H20: =ROUND(57.77*12*H5,0) -> 27730 | I20: =ROUND(57.77*12*I5,0) -> 69324
A21: 1.2.4. | B21: 2.1.2.4. | C21: Sakaru pakalpojumu izmaksas Par 1 fotoradaru mēnesī 9,67 euro ar PVN 9,67 euro x 12 mēn. x fotoradaru skaits SĀKOTNĒJAIS aprēķins: Saskaņā ar MK 29.07.2014. rīkojumu Nr.382 (ar grozījumiem, kas spēkā no 13.08.2020.) (iekļauts MK 02.11.2021. Nr.775) | D21: =ROUND(9.67*12*D5,0) -> 9747 | E21: =ROUND(9.67*12*E5,0) -> 11604 | F21: =ROUND(9.67*12*F5,0) -> 6962 | G21: =ROUND(9.67*12*G5,0) -> 11604 | H21: =ROUND(9.67*12*H5,0) -> 4642 | I21: =ROUND(9.67*12*I5,0) -> 11604
A22: 1.2.5. | B22: 2.1.2.5. | C22: Ar tehnisko līdzekļu apkopi, remontu, verifikāciju, diennakts reaģēšanas servisa nodrošināšanu saistītās izmaksas PRECIZĒTAIS aprēķins: (1766,60 euro ar PVN (periodiskās verifikācijas) x fotoradaru skaits + 1766,60 euro ar PVN x 10% no fotoradaru skaita (ārpuskārtas verifikācijas))) + (30,25 euro ar PVN x 12 mēn. x fotoradaru skaits) (fotoradaru remontu izmaksas) + (11567,60 euro ar PVN x 12 mēn.) (fotoradaru pārvaldības sistēmas darbības nodrošināšanas un uzturēšanas izmaksas) + (17,57 euro ar PVN x 12 mēn. x fotoradaru skaits) (datu pārraides tīkla gala iekārtu uzturēšanas izmaksas) + (15210,00 euro ar PVN / 100 fotoradari x 12 mēn. x fotoradaru skaits) (fotoradaru objektu uzturēšanas un remontu izmaksas, fotoradaru noņemšana/uzstādīšana verifikācijai un remontiem) + (35997,50 euro ar PVN / 100 fotoradari x 12 mēn. x fotoradaru skaits)(fotoradaru darbības licenču izmaksas) SĀKOTNĒJAIS aprēķins: Saskaņā ar MK 29.07.2014. rīkojumu Nr.382 (ar grozījumiem, kas spēkā no 13.08.2020.) (iekļauts MK 02.11.2021. Nr.775) | D22: =ROUND((478.84+30.25)*12*D5,0) -> 513163 | E22: =ROUND((1766.6*E5)+(1766.6*E5/100*10)+(30.25*12*E5)+(11567.6*12)+(17.57*12*E5)+(15210/100*12*E5)+(35997.5/100*12*E5),0) -> 1005011 | F22: =ROUND((478.84+30.25)*12*F5,0) -> 366545 | G22: =ROUND((1766.6*G5)+(1766.6*G5/100*10)+(30.25*12*G5)+(11567.6*12)+(17.57*12*G5)+(15210/100*12*G5)+(35997.5/100*12*G5),0) -> 1005011 | H22: =ROUND((478.84+30.25)*12*H5,0) -> 244363 | I22: =ROUND((1766.6*I5)+(1766.6*I5/100*10)+(30.25*12*I5)+(11567.6*12)+(17.57*12*I5)+(15210/100*12*I5)+(35997.5/100*12*I5),0) -> 1005011
A23: 1.2.6. | B23: 2.1.2.6. | C23: Citas ar tehnisko līdzekļu darbības nodrošināšanu saistītās izmaksas Citas izmaksas (vidēji) 165,00 euro uz 1 fotoradaru gadā ar PVN euro gadā 165,00 euro x fotoradaru skaits SĀKOTNĒJAIS aprēķins: Saskaņā ar MK 29.07.2014. rīkojumu Nr.382 (ar grozījumiem, kas spēkā no 13.08.2020.) (iekļauts MK 02.11.2021. Nr.775) | D23: =ROUND(101.18*D5,0) -> 8499 | E23: =ROUND(165*E5,0) -> 16500 | F23: =ROUND(101.18*F5,0) -> 6071 | G23: =ROUND(165*G5,0) -> 16500 | H23: =ROUND(101.18*H5,0) -> 4047 | I23: =ROUND(165*I5,0) -> 16500
A24: 1.3. | B24: 2.1.3. | C24: Plānotā peļņa 5% apmērā (no 1.1. un 1.2.) | D24: =ROUND((D8+D17)*0.05,0) -> 46651 | E24: =ROUND((E8+E17)*0.05,0) -> 83547 | F24: =ROUND((F8+F17)*0.05,0) -> 33322 | G24: =ROUND((G8+G17)*0.05,0) -> 83547 | H24: =ROUND((H8+H17)*0.05,0) -> 22215 | I24: =ROUND((I8+I17)*0.05,0) -> 83547
A25: 2. (1.1.+1.2.+1.3.) | B25: 2.1. | C25: Prognozētās fotoradaru darbības nodrošināšanas izmaksas - pavisam (ar peļņu) | D25: =D8+D17+D24 -> 979667 | E25: =E8+E17+E24 -> 1754482 | F25: =F8+F17+F24 -> 699762 | G25: =G8+G17+G24 -> 1754482 | H25: =H8+H17+H24 -> 466509 | I25: =I8+I17+I24 -> 1754482
A26: 3. | C26: Saskaņā ar MK 29.07.2014. rīkojumu Nr.382 (ar grozījumiem, kas spēkā no 13.08.2020.) (iekļauts MK 02.11.2021. Nr.775) | E26: 979667 | F26: 0 | G26: 699762 | H26: 0 | I26: 466509
A27: 4. (2.-3.) | C27: Papildus nepieciešams (+) vai izdevumi mazāki nekā ieplānots (-) | D27: x | E27: =E25-E26 -> 774815 | F27: x | G27: =G25-G26 -> 1054720 | H27: x | I27: =I25-I26 -> 1287973
A28: 1, 2, un 3 procenti aprēķinā iekļauti atbiltoši CSDD sniegtajai informācijai, ņemot vērā 2021. gada pārskata datus (proporcionālā attiecināmā daļa attiecīgajam izdevumu veidam).
A29: 4 Pašizmaksas aprēķinā visas izmaksas norādītas bez PVN, jo daļa samaksātā PVN tiek atgūta, jo CSDD sniedz gan ar PVN apliekamus, gan neapliekamus pakalpojumus, kā rezultātā izmaksās tiek iekļauta neatgūstamā daļa. Proporcija PVN atskaitāmā priekšnodokļa aprēķināšanai tiek aprēķināta katru gadu, CSDD sagatavojot Pievienotās vērtības nodokļa deklarāciju par taksācijas gadu. Proporcija tiek aprēķināta dalot ar PVN neapliekamo darījumu ieņēmumu summu pret apliekamo darījumu ieņēmumu summu. Saskaņā ar Pievienotās vērtības nodokļa deklarāciju par 2021. taksācijas gadu, nepliekamo darījumu īpatnējais svars (%) ir 16%.
A31: Izdevumi var mainīties pa izdevumu veidiem, ņemot vērā iepirkuma rezultātus un citus apstākļus.

Sheet 2.IZD lēm stac ĀTRUMS (CSDD)
G1: 2. tabula
A2: CSDD izdevumi informācijas apstrādes un lēmumu nosūtīšanas adresātiem nodrošināšanai Lēmumi par atļautā braukšanas ātruma pārsniegšanu no: - valsts sabiedrība ar ierobežotu atbildību "Latvijas Valsts ceļi" tehniskajiem līdzekļiem: transportlīdzekļu vidējā braukšanas ātruma mērīšanas sistēmas (P2P) - valsts akciju sabiedrības "Ceļu satiksmes drošības direkcija" tehniskajiem līdzekļiem: transportlīdzekļu braukšanas ātruma kontroles mērierīces (fotoradars)
A3: Nr.p.k. | B3: MK not. Nr.170 punkts | C3: Rādītāji | D3: 2023. | E3: 2024. | F3: 2025. | G3: 2026. un turpmāk
C4: Lēmumu skaits (fiksētie pārkāpumi, par kuriem tiek nosūtīts lēmums), gadā | D4: 286240 | E4: 257600 | F4: 236160 | G4: 32160
A6: 1. (1.1.+1.2.+1.3.) | B6: 2.2. | C6: Prognozētās informācijas apstrādes izmaksas, informācijas sagatavošanas un nosūtīšanas Valsts policijai izmaksas, kā arī lēmuma nosūtīšanas personai izmaksas | D6: =D7+D9+D11 -> 659323 | E6: =E7+E9+E11 -> 593355 | F6: =F7+F9+F11 -> 543970 | G6: =G7+G9+G11 -> 74078
A7: 1.1. | B7: 2.2.1. | C7: Projekta sagatavošanas izmaksas | D7: =D8 -> 416050 | E7: =E8 -> 374422 | F7: =F8 -> 343259 | G7: =G8 -> 46745
C8: Plānotās fiksēto pārkāpumu informācijas apstrādes izmaksas Aprēķins: 0,95 euro 1 x 1,53 2 x lēmumu skaits | D8: =ROUND(0.95*1.53*D4,0) -> 416050 | E8: =ROUND(0.95*1.53*E4,0) -> 374422 | F8: =ROUND(0.95*1.53*F4,0) -> 343259 | G8: =ROUND(0.95*1.53*G4,0) -> 46745
A9: 1.2. | B9: 2.2.2. | C9: Vēstuļu sagatavošanas izmaksas | D9: =D10 -> 43938 | E9: =E10 -> 39542 | F9: =F10 -> 36251 | G9: =G10 -> 4937
C10: Aprēķins: 0,09 euro 3 x 0,24 4 x lēmumu skaits (Latvijas adresātiem) + 0,14 euro 3 x 0,25 4 x lēmumu skaits (ārvalstu adresātiem) + 0,19 euro 3 x 0,51 4 x lēmumus skaits (elektroniski Latvijas adresātiem) | D10: =ROUND((0.09*0.24*D4)+(0.14*0.25*D4)+(0.19*0.51*D4),0) -> 43938 | E10: =ROUND((0.09*0.24*E4)+(0.14*0.25*E4)+(0.19*0.51*E4),0) -> 39542 | F10: =ROUND((0.09*0.24*F4)+(0.14*0.25*F4)+(0.19*0.51*F4),0) -> 36251 | G10: =ROUND((0.09*0.24*G4)+(0.14*0.25*G4)+(0.19*0.51*G4),0) -> 4937
A11: 1.3. | B11: 2.2.3. | C11: Vēstuļu nosūtīšanas izmaksas atbilstoši VAS "Latvijas Pasts" noteiktajam attiecīgās vēstules nosūtīšanas pakalpojuma tarifam | D11: =D12 -> 199335 | E11: =E12 -> 179391 | F11: =F12 -> 164460 | G11: =G12 -> 22396
C12: Aprēķins: 1,20 euro 5 x 0,24 4 x lēmumu skaits ( vēstule Latvijas adresātiem) + 1,633571 euro 5 x 0,25 4 x lēmumu skaits (vēstule ārvalstu adresātiem) | D12: =ROUND((1.2*0.24*D4)+(1.633571*0.25*D4),0) -> 199335 | E12: =ROUND((1.2*0.24*E4)+(1.633571*0.25*E4),0) -> 179391 | F12: =ROUND((1.2*0.24*F4)+(1.633571*0.25*F4),0) -> 164460 | G12: =ROUND((1.2*0.24*G4)+(1.633571*0.25*G4),0) -> 22396
A13: 2. (2.1.+2.2.) | B13: 2.3. | C13: Ceļu satiksmes likuma 43.7 panta otrajā daļā noteiktā pienākuma - atsevišķu ar Administratīvās atbildības likuma (turpmāk - AAL) 268.pantu noteikto darbību izpilde (rakstveida atgādinājuma nosūtīšana AAL 162.panta pirmajā un 163.panta otrajā daļā minētajām personām par pienākumu noteiktā termiņā samaksāt piemēroto naudas sodu pilnā apmērā) | D13: =D14+D17 -> 29120 | E13: =E14+E17 -> 26207 | F13: =F14+F17 -> 24026 | G13: =G14+G17 -> 3271
A14: 2.1. | B14: 2.3.1. | C14: Izmaksas, kas saistītas ar paziņojumu sagatavošanu un nosūtīšanu ar elektroniskā pasta starpniecību | D14: =D15+D16 -> 14339 | E14: =E15+E16 -> 12905 | F14: =F15+F16 -> 11831 | G14: =G15+G16 -> 1611
C15: Paziņojuma sagatavošanas izmaksas (informācijas apstrāde) Aprēķins: 0,42 euro 7 x (0,75 8 x lēmumu skaits) x 0,15 x 0,73 8 | D15: =ROUND(0.42*0.75*D4*0.15*0.73,0) -> 9873 | E15: =ROUND(0.42*0.75*E4*0.15*0.73,0) -> 8885 | F15: =ROUND(0.42*0.75*F4*0.15*0.73,0) -> 8146 | G15: =ROUND(0.42*0.75*G4*0.15*0.73,0) -> 1109
C16: Paziņojuma nosūtīšanas adresātam izmaksas Aprēķins: 0,19 euro 6 x (0,75 8 x lēmumu skaits) x 0,15 x 0,73 8 | D16: =ROUND(0.19*(0.75*D4)*0.15*0.73,0) -> 4466 | E16: =ROUND(0.19*(0.75*E4)*0.15*0.73,0) -> 4020 | F16: =ROUND(0.19*(0.75*F4)*0.15*0.73,0) -> 3685 | G16: =ROUND(0.19*(0.75*G4)*0.15*0.73,0) -> 502
A17: 2.2. | B17: 2.3.2. | C17: Izmaksas, kas saistītas ar paziņojumu sagatavošanu un nosūtīšanu parastā vēstulē ar Latvijas Pasta starpniecību atbilstoši attiecīgo pakalpojumu sniedzēju noteiktajam pakalpojuma tarifam | D17: =D18+D19+D20 -> 14781 | E17: =E18+E19+E20 -> 13302 | F17: =F18+F19+F20 -> 12195 | G17: =G18+G19+G20 -> 1660
A18: 2.2.1. | C18: Paziņojuma sagatavošanas izmaksas (informācijas apstrāde) Aprēķins: 0,42 euro 7 x (0,75 8 x lēmumu skaits) x 0,15 x 0,27 8 | D18: =ROUND(0.42*0.75*D4*0.15*0.27,0) -> 3652 | E18: =ROUND(0.42*0.75*E4*0.15*0.27,0) -> 3286 | F18: =ROUND(0.42*0.75*F4*0.15*0.27,0) -> 3013 | G18: =ROUND(0.42*0.75*G4*0.15*0.27,0) -> 410
A19: 2.2.2. | C19: Paziņojuma sagatavošanas izmaksas Aprēķins: 0,08 euro 9 x (0,75 8 x lēmumu skaits) x 0,15 x 0,27 8 | D19: =ROUND(0.08*(0.75*D4)*0.15*0.27,0) -> 696 | E19: =ROUND(0.08*(0.75*E4)*0.15*0.27,0) -> 626 | F19: =ROUND(0.08*(0.75*F4)*0.15*0.27,0) -> 574 | G19: =ROUND(0.08*(0.75*G4)*0.15*0.27,0) -> 78
A20: 2.2.3. | C20: Paziņojuma nosūtīšanas adresātam izmaksas Aprēķins: 1,20 10 x 0,75 8 x lēmumu skaits) x 0,15 x 0,27 8 | D20: =ROUND(1.2*(0.75*D4)*0.15*0.27,0) -> 10433 | E20: =ROUND(1.2*(0.75*E4)*0.15*0.27,0) -> 9390 | F20: =ROUND(1.2*(0.75*F4)*0.15*0.27,0) -> 8608 | G20: =ROUND(1.2*(0.75*G4)*0.15*0.27,0) -> 1172
A21: 3. 1.+2. | C21: Pavisam: | D21: =D6+D13 -> 688443 | E21: =E6+E13 -> 619562 | F21: =F6+F13 -> 567996 | G21: =G6+G13 -> 77349
A22: 4. | C22: Saskaņā ar MK 02.11.2021. rīkojumu Nr.775 | D22: =101188+296474 -> 397662 | E22: =96307+211768 -> 308075 | F22: =91427+141177 -> 232604 | G22: 91427
A23: 5. (3.-4.) | C23: Papildus nepieciešams (+) vai izdevumi mazāki nekā ieplānots (-) | D23: =D21-D22 -> 290781 | E23: =E21-E22 -> 311487 | F23: =F21-F22 -> 335392 | G23: =G21-G22 -> -14078
A25: 1 Atbilstoši CSDD izdevumiem 0,95 euro (aprēķins anotācijas 4.pielikumā)
A26: 2 Atbilstoši statistikai ne visi apstrādātie dati (tiek sagatavoti lēmumu projekti) nosūtīti kā lēmumi. 2021. gadā faktiskais ar stacionāriem fotoradariem fiksēto apstrādāto pārkāpumu skaits bija 383 109, savukārt nosūtīto lēmumu skaits 250 816. Aprēķinos tiek piemērots koeficients 1,53 (383 109 / 250 816).
A27: 3 Atbilstoši CSDD līgumam ar pakalpojuma sniedzēju (lēmuma sagatavošana nosūtīšanai adresātam (vēstules sagatavošana)): Latvijas adresātiem 0,09 euro, ārvalstu adresātiem 0,14 euro Atbilstoši 20.03.2018. MK noteikumu Nr.170 anotācijai un likuma ""Grozījumi Ceļu satiksmes likumā"" (pieņemts 09.11.2017. ) anotācijas pielikuma 2.tabulai: 0,19 euro.
A28: 4 Atbilstoši statistikai aprēķinos izmantoti šādi dati: ar neierakstītu vēstuli (līdz 20g pa Latviju) tiek nosūtīts 24% protokoli-lēmumi; ar neierakstītu vēstuli (līdz 20g uz ārvalstīm) tiek nosūtīts 25% protokoli-lēmumi; elektroniski tiek nosūtīts 51% protokoli-lēmumi.
A29: 5 Atbilstoši Latvijas Pasta tarifam no 01.01.2020. un CSDD līgumam ar pakalpojuma sniedzēju ir 1,20 euro/gab. (neierakstīta vēstule līdz 20g pa Latviju bez PVN) un 1,633571 euro/gab. (vidēji neierakstīta vēstule līdz 20 g uz ES valstīm, bez PVN).
A30: 6 Atbilstoši 20.03.2018. MK noteikumu Nr.170 anotācijai un likuma "Grozījumi Ceļu satiksmes likumā" (pieņemts 09.11.2017.) anotācijas pielikuma 2.tabulai 0,19 euro. Atbilstoši CSDD un Valsts policijas 30.11.2020. deleģēšanas līgumā Nr.2380 noteiktajam.
A31: 7 Atbilstoši CSDD izdevumiem: 0,42 euro (aprēķins anotācijas 5.pielikumā)
A32: 8 Atbilstoši statistikai: 75 % (51% un 24%) lēmumi tiek adresēti personām Latvijā 15% no šiem lēmumiem netiek samaksāti 1 mēneša laikā un šiem adresātiem (Latvijā) tiek sagatavoti paziņojumi 73% no atgādinājumiem tiek nosūtīti elektroniski un 27% no atgādinājumiem tiek nosūtīt ar vēstuli
A33: 9 Atbilstoši CSDD līgumam ar pakalpojuma sniedzēju (paziņojuma sagatavošana nosūtīšanai adresātam): adresātiem Latvijā 0,08 euro.
A34: 10 Atbilstoši Latvijas Pasta tarifam 1,20 euro/gab. (neierakstīta vēstule līdz 20g pa Latviju, bez PVN)
A36: Izdevumi var mainīties pa izdevumu veidiem, ņemot vērā iepirkuma rezultātus un citus apstākļus.

Sheet 3.IZD lēm stac TAOCTAVIN (CSDD)
G1: 3. tabula
A2: CSDD izdevumi informācijas apstrādes un lēmumu nosūtīšanas adresātiem nodrošināšanai Lēmumi par: - tāda transportlīdzekļa izmantošanu ceļu satiksmē, kuram noteiktajā termiņā nav veikta valsts tehniskā apskate; - transportlīdzekļa izmantošanu ceļu satiksmē, par kuru nav veikta tā īpašnieka civiltiesiskās atbildības obligātā apdrošināšana; - Autoceļu lietošanas nodevas likma 11.panta otrajā daļā minētajiem pārkāpumiem (vinjete) ar valsts sabiedrības ar ierobežotu atbildību "Latvijas Valsts ceļi" tehniskajiem līdzekļiem: transportlīdzekļu vidējā braukšanas ātruma mērīšanas sistēmas (P2P) un meteostacijas
A3: Nr.p.k. | B3: MK not. Nr.170 punkts | C3: Rādītāji | D3: 2023. | E3: 2024. | F3: 2025. | G3: 2026. un turpmāk
C4: Lēmumu skaits (fiksētie pārkāpumi, par kuriem tiek nosūtīts lēmums), gadā | D4: 19336 | E4: 20288 | F4: 14928 | G4: 14928
A6: 1. (1.1.+1.2.+1.3.) | B6: 2.2. | C6: Prognozētās informācijas apstrādes izmaksas, informācijas sagatavošanas un nosūtīšanas Valsts policijai izmaksas, kā arī lēmuma nosūtīšanas personai izmaksas | D6: =D7+D9+D11 -> 37522 | E6: =E7+E9+E11 -> 39369 | F6: =F7+F9+F11 -> 28968 | G6: =G7+G9+G11 -> 28968
A7: 1.1. | B7: 2.2.1. | C7: Projekta sagatavošanas izmaksas | D7: =D8 -> 28105 | E7: =E8 -> 29489 | F7: =F8 -> 21698 | G7: =G8 -> 21698
C8: Plānotās fiksēto pārkāpumu informācijas apstrādes izmaksas Aprēķins: 0,95 euro 1 x 1,53 2 x lēmumu skaits | D8: =ROUND(0.95*1.53*D4,0) -> 28105 | E8: =ROUND(0.95*1.53*E4,0) -> 29489 | F8: =ROUND(0.95*1.53*F4,0) -> 21698 | G8: =ROUND(0.95*1.53*G4,0) -> 21698
A9: 1.2. | B9: 2.2.2. | C9: Vēstuļu sagatavošanas izmaksas | D9: =D10 -> 3152 | E9: =E10 -> 3307 | F9: =F10 -> 2433 | G9: =G10 -> 2433
C10: Aprēķins: 0,09 euro 3 x 0,27 4 x lēmumu skaits (Latvijas adresātiem) + 0,19 euro 3 x 0,73 4 x lēmumus skaits (elektroniski Latvijas adresātiem) | D10: =ROUND((0.09*0.27*D4)+(0.19*0.73*D4),0) -> 3152 | E10: =ROUND((0.09*0.27*E4)+(0.19*0.73*E4),0) -> 3307 | F10: =ROUND((0.09*0.27*F4)+(0.19*0.73*F4),0) -> 2433 | G10: =ROUND((0.09*0.27*G4)+(0.19*0.73*G4),0) -> 2433
A11: 1.3. | B11: 2.2.3. | C11: Vēstuļu nosūtīšanas izmaksas atbilstoši VAS "Latvijas Pasts" noteiktajam attiecīgās vēstules nosūtīšanas pakalpojuma tarifam | D11: =D12 -> 6265 | E11: =E12 -> 6573 | F11: =F12 -> 4837 | G11: =G12 -> 4837
C12: Aprēķins: 1,20 euro 5 x 0,27 4 x lēmumu skaits ( vēstule Latvijas adresātiem) | D12: =ROUND(1.2*0.27*D4,0) -> 6265 | E12: =ROUND(1.2*0.27*E4,0) -> 6573 | F12: =ROUND(1.2*0.27*F4,0) -> 4837 | G12: =ROUND(1.2*0.27*G4,0) -> 4837
A13: 2. (2.1.+2.2.) | B13: 2.3. | C13: Ceļu satiksmes likuma 43.7 panta otrajā daļā noteiktā pienākuma - atsevišķu ar Administratīvās atbildības likuma (turpmāk - AAL) 268.pantu noteikto darbību izpilde (rakstveida atgādinājuma nosūtīšana AAL 162.panta pirmajā un 163.panta otrajā daļā minētajām personām par pienākumu noteiktā termiņā samaksāt piemēroto naudas sodu pilnā apmērā) | D13: =D14+D17 -> 2623 | E13: =E14+E17 -> 2752 | F13: =F14+F17 -> 2026 | G13: =G14+G17 -> 2026
A14: 2.1. | B14: 2.3.1. | C14: Izmaksas, kas saistītas ar paziņojumu sagatavošanu un nosūtīšanu ar elektroniskā pasta starpniecību | D14: =D15+D16 -> 1291 | E14: =E15+E16 -> 1355 | F14: =F15+F16 -> 998 | G14: =G15+G16 -> 998
C15: Paziņojuma sagatavošanas izmaksas (informācijas apstrāde) Aprēķins: 0,42 euro7 x lēmumu skaits x 0,15 x 0,73 4 | D15: =ROUND(0.42*D4*0.15*0.73,0) -> 889 | E15: =ROUND(0.42*E4*0.15*0.73,0) -> 933 | F15: =ROUND(0.42*F4*0.15*0.73,0) -> 687 | G15: =ROUND(0.42*G4*0.15*0.73,0) -> 687
C16: Paziņojuma nosūtīšanas adresātam izmaksas Aprēķins: 0,19 euro6 x lēmumu skaits x 0,15 x 0,73 4 | D16: =ROUND(0.19*D4*0.15*0.73,0) -> 402 | E16: =ROUND(0.19*E4*0.15*0.73,0) -> 422 | F16: =ROUND(0.19*F4*0.15*0.73,0) -> 311 | G16: =ROUND(0.19*G4*0.15*0.73,0) -> 311
A17: 2.2. | B17: 2.3.2. | C17: Izmaksas, kas saistītas ar paziņojumu sagatavošanu un nosūtīšanu parastā vēstulē ar Latvijas Pasta starpniecību atbilstoši attiecīgo pakalpojumu sniedzēju noteiktajam pakalpojuma tarifam | D17: =D18+D19+D20 -> 1332 | E17: =E18+E19+E20 -> 1397 | F17: =F18+F19+F20 -> 1028 | G17: =G18+G19+G20 -> 1028
A18: 2.2.1. | C18: Paziņojuma sagatavošanas izmaksas (informācijas apstrāde) Aprēķins: 0,42 euro7 x lēmumu skaits x 0,15 x 0,27 4 | D18: =ROUND(0.42*D4*0.15*0.27,0) -> 329 | E18: =ROUND(0.42*E4*0.15*0.27,0) -> 345 | F18: =ROUND(0.42*F4*0.15*0.27,0) -> 254 | G18: =ROUND(0.42*G4*0.15*0.27,0) -> 254
A19: 2.2.2. | C19: Paziņojuma sagatavošanas izmaksas Aprēķins: 0,08 euro8 x lēmumu skaits x 0,15 x 0,27 4 | D19: =ROUND(0.08*D4*0.15*0.27,0) -> 63 | E19: =ROUND(0.08*E4*0.15*0.27,0) -> 66 | F19: =ROUND(0.08*F4*0.15*0.27,0) -> 48 | G19: =ROUND(0.08*G4*0.15*0.27,0) -> 48
A20: 2.2.3. | C20: Paziņojuma nosūtīšanas adresātam izmaksas Aprēķins: 1,20 9 x lēmumu skaits x 0,15 x 0,274 | D20: =ROUND(1.2*D4*0.15*0.27,0) -> 940 | E20: =ROUND(1.2*E4*0.15*0.27,0) -> 986 | F20: =ROUND(1.2*F4*0.15*0.27,0) -> 726 | G20: =ROUND(1.2*G4*0.15*0.27,0) -> 726
A21: 3. 1.+2. | C21: Pavisam: | D21: =D6+D13 -> 40145 | E21: =E6+E13 -> 42121 | F21: =F6+F13 -> 30994 | G21: =G6+G13 -> 30994
A22: 4. | C22: Saskaņā ar MK 02.11.2021. rīkojumu Nr.775 | D22: 48557 | E22: 43880 | F22: 39204 | G22: 39204
A23: 5. (3.-4.) | C23: Papildus nepieciešams (+) vai izdevumi mazāki nekā ieplānots (-) | D23: =D21-D22 -> -8412 | E23: =E21-E22 -> -1759 | F23: =F21-F22 -> -8210 | G23: =G21-G22 -> -8210
A25: 1 Atbilstoši CSDD izdevumiem 0,95 euro (aprēķins anotācijas 4.pielikumā)
A26: 2 Atbilstoši statistikai ne visi apstrādātie dati (tiek sagatavoti lēmumu projekti) nosūtīti kā lēmumi. 2021. gadā faktiskais ar stacionāriem fotoradariem fiksēto apstrādāto pārkāpumu skaits bija 383 109, savukārt nosūtīto lēmumu skaits 250 816. Aprēķinos tiek piemērots koeficients 1,53 (383 109 / 250 816).
A27: 3 Atbilstoši CSDD līgumam ar pakalpojuma sniedzēju (lēmuma sagatavošana nosūtīšanai adresātam (vēstules sagatavošana)): Latvijas adresātiem 0,09 euro, Atbilstoši 20.03.2018. MK noteikumu Nr.170 anotācijai un likuma ""Grozījumi Ceļu satiksmes likumā"" (pieņemts 09.11.2017. ) anotācijas pielikuma 2.tabulai: 0,19 euro.
A28: 4 Atbilstoši statistikai aprēķinos izmantoti šādi dati: 75 % (51% un 24%) lēmumi tiek adresēti personām Latvijā 15% no šiem lēmumiem netiek samaksāti 1 mēneša laikā un šiem adresātiem (Latvijā) tiek sagatavoti paziņojumi 73% no atgādinājumiem tiek nosūtīti elektroniski un 27% no atgādinājumiem tiek nosūtīt ar vēstuli
A29: 5 Atbilstoši Latvijas Pasta tarifam no 01.01.2020. un CSDD līgumam ar pakalpojuma sniedzēju ir 1,20 euro/gab. (neierakstīta vēstule līdz 20g pa Latviju bez PVN) un 1,633571 euro/gab. (vidēji neierakstīta vēstule līdz 20 g uz ES valstīm, bez PVN).
A30: 6 Atbilstoši 20.03.2018. MK noteikumu Nr.170 anotācijai un likuma "Grozījumi Ceļu satiksmes likumā" (pieņemts 09.11.2017.) anotācijas pielikuma 2.tabulai 0,19 euro. Atbilstoši CSDD un Valsts policijas 30.11.2020. deleģēšanas līgumā Nr.2380 noteiktajam.
A31: 7 Atbilstoši CSDD izdevumiem: 0,42 euro (aprēķins anotācijas 5.pielikumā)
A32: 8 Atbilstoši CSDD līgumam ar pakalpojuma sniedzēju (paziņojuma sagatavošana nosūtīšanai adresātam): adresātiem Latvijā 0,08 euro.
A33: 9 Atbilstoši Latvijas Pasta tarifam 1,20 euro/gab. (neierakstīta vēstule līdz 20g pa Latviju, bez PVN)
A35: Izdevumi var mainīties pa izdevumu veidiem, ņemot vērā iepirkuma rezultātus un citus apstākļus.

Sheet 4.IZD lēm pārviet (CSDD)
G1: 4. tabula
A2: CSDD izdevumi informācijas apstrādes un lēmumu nosūtīšanas adresātiem nodrošināšanai Lēmumi no Valsts policijas tehniskajiem līdzekļiem (pārvietojamie tehniskie līdzekļi) un automātiskās transportlīdzekļu valsts reģistrācijas numura zīmju nolasīšanas/atpazīšanas un ceļu satiksmē izdarītu pārkāpumu fiksēšanas sistēmas (360 grādu kameras transportlīdzekļos )
A3: Nr.p.k. | B3: MK not. Nr.170 punkts | C3: Rādītāji | D3: 2023. | E3: 2024. | F3: 2025. | G3: 2026. un turpmāk
C4: Lēmumu skaits (fiksētie pārkāpumi, par kuriem tiek nosūtīts lēmums), gadā | D4: =(13*12*320)+(26*3*235) -> 68250 | E4: =(12*12*320)+(23*3*235) -> 62295 | F4: =(11*12*320)+(19*3*235) -> 55635 | G4: =(11*12*320)+(19*3*235) -> 55635
A6: 1. (1.1.+1.2.+1.3.) | B6: 2.2. | C6: Prognozētās informācijas apstrādes izmaksas, informācijas sagatavošanas un nosūtīšanas Valsts policijai izmaksas, kā arī lēmuma nosūtīšanas personai izmaksas | D6: =D7+D9+D11 -> 127381 | E6: =E7+E9+E11 -> 116267 | F6: =F7+F9+F11 -> 103837 | G6: =G7+G9+G11 -> 103837
A7: 1.1. | B7: 2.2.1. | C7: Projekta sagatavošanas izmaksas | D7: =D8 -> 69376 | E7: =E8 -> 63323 | F7: =F8 -> 56553 | G7: =G8 -> 56553
C8: Plānotās fiksēto pārkāpumu informācijas apstrādes izmaksas Aprēķins: 0,95 euro 1 x 1,07 2 x lēmumu skaits | D8: =ROUND(0.95*1.07*D4,0) -> 69376 | E8: =ROUND(0.95*1.07*E4,0) -> 63323 | F8: =ROUND(0.95*1.07*F4,0) -> 56553 | G8: =ROUND(0.95*1.07*G4,0) -> 56553
A9: 1.2. | B9: 2.2.2. | C9: Vēstuļu sagatavošanas izmaksas | D9: =D10 -> 10476 | E9: =E10 -> 9562 | F9: =F10 -> 8540 | G9: =G10 -> 8540
C10: Aprēķins: 0,09 euro 3 x 0,24 4 x lēmumu skaits (Latvijas adresātiem) + 0,14 euro 3 x 0,25 4 x lēmumu skaits (ārvalstu adresātiem) + 0,19 euro 3 x 0,51 4 x lēmumus skaits (elektroniski Latvijas adresātiem) | D10: =ROUND((0.09*0.24*D4)+(0.14*0.25*D4)+(0.19*0.51*D4),0) -> 10476 | E10: =ROUND((0.09*0.24*E4)+(0.14*0.25*E4)+(0.19*0.51*E4),0) -> 9562 | F10: =ROUND((0.09*0.24*F4)+(0.14*0.25*F4)+(0.19*0.51*F4),0) -> 8540 | G10: =ROUND((0.09*0.24*G4)+(0.14*0.25*G4)+(0.19*0.51*G4),0) -> 8540
A11: 1.3. | B11: 2.2.3. | C11: Vēstuļu nosūtīšanas izmaksas atbilstoši VAS "Latvijas Pasts" noteiktajam attiecīgās vēstules nosūtīšanas pakalpojuma tarifam | D11: =D12 -> 47529 | E11: =E12 -> 43382 | F11: =F12 -> 38744 | G11: =G12 -> 38744
C12: Aprēķins: 1,20 euro 5 x 0,24 4 x lēmumu skaits ( vēstule Latvijas adresātiem) + 1,633571 euro 5 x 0,25 4 x lēmumu skaits (vēstule ārvalstu adresātiem) | D12: =ROUND((1.2*0.24*D4)+(1.633571*0.25*D4),0) -> 47529 | E12: =ROUND((1.2*0.24*E4)+(1.633571*0.25*E4),0) -> 43382 | F12: =ROUND((1.2*0.24*F4)+(1.633571*0.25*F4),0) -> 38744 | G12: =ROUND((1.2*0.24*G4)+(1.633571*0.25*G4),0) -> 38744
A13: 2. (2.1.+2.2.) | B13: 2.3. | C13: Ceļu satiksmes likuma 43.7 panta otrajā daļā noteiktā pienākuma - atsevišķu ar Administratīvās atbildības likuma (turpmāk - AAL) 268.pantu noteikto darbību izpilde (rakstveida atgādinājuma nosūtīšana AAL 162.panta pirmajā un 163.panta otrajā daļā minētajām personām par pienākumu noteiktā termiņā samaksāt piemēroto naudas sodu pilnā apmērā) | D13: =D14+D17 -> 6944 | E13: =E14+E17 -> 6338 | F13: =F14+F17 -> 5660 | G13: =G14+G17 -> 5660
A14: 2.1. | B14: 2.3.1. | C14: Izmaksas, kas saistītas ar paziņojumu sagatavošanu un nosūtīšanu ar elektroniskā pasta starpniecību | D14: =D15+D16 -> 3419 | E14: =E15+E16 -> 3121 | F14: =F15+F16 -> 2787 | G14: =G15+G16 -> 2787
C15: Paziņojuma sagatavošanas izmaksas (informācijas apstrāde) Aprēķins: 0,42 euro 7 x (0,75 8 x lēmumu skaits) x 0,15 x 0,73 8 | D15: =ROUND(0.42*0.75*D4*0.15*0.73,0) -> 2354 | E15: =ROUND(0.42*0.75*E4*0.15*0.73,0) -> 2149 | F15: =ROUND(0.42*0.75*F4*0.15*0.73,0) -> 1919 | G15: =ROUND(0.42*0.75*G4*0.15*0.73,0) -> 1919
C16: Paziņojuma nosūtīšanas adresātam izmaksas Aprēķins: 0,19 euro 6 x (0,75 8 x lēmumu skaits) x 0,15 x 0,73 8 | D16: =ROUND(0.19*(0.75*D4)*0.15*0.73,0) -> 1065 | E16: =ROUND(0.19*(0.75*E4)*0.15*0.73,0) -> 972 | F16: =ROUND(0.19*(0.75*F4)*0.15*0.73,0) -> 868 | G16: =ROUND(0.19*(0.75*G4)*0.15*0.73,0) -> 868
A17: 2.2. | B17: 2.3.2. | C17: Izmaksas, kas saistītas ar paziņojumu sagatavošanu un nosūtīšanu parastā vēstulē ar Latvijas Pasta starpniecību atbilstoši attiecīgo pakalpojumu sniedzēju noteiktajam pakalpojuma tarifam | D17: =D18+D19+D20 -> 3525 | E17: =E18+E19+E20 -> 3217 | F17: =F18+F19+F20 -> 2873 | G17: =G18+G19+G20 -> 2873
A18: 2.2.1. | C18: Paziņojuma sagatavošanas izmaksas (informācijas apstrāde) Aprēķins: 0,42 euro7 x (0,75 8 x lēmumu skaits) x 0,15 x 0,27 8 | D18: =ROUND(0.42*0.75*D4*0.15*0.27,0) -> 871 | E18: =ROUND(0.42*0.75*E4*0.15*0.27,0) -> 795 | F18: =ROUND(0.42*0.75*F4*0.15*0.27,0) -> 710 | G18: =ROUND(0.42*0.75*G4*0.15*0.27,0) -> 710
A19: 2.2.2. | C19: Paziņojuma sagatavošanas izmaksas Aprēķins: 0,08 euro 9 x (0,75 8 x lēmumu skaits) x 0,15 x 0,27 8 | D19: =ROUND(0.08*(0.75*D4)*0.15*0.27,0) -> 166 | E19: =ROUND(0.08*(0.75*E4)*0.15*0.27,0) -> 151 | F19: =ROUND(0.08*(0.75*F4)*0.15*0.27,0) -> 135 | G19: =ROUND(0.08*(0.75*G4)*0.15*0.27,0) -> 135
A20: 2.2.3. | C20: Paziņojuma nosūtīšanas adresātam izmaksas Aprēķins: 1,20 10 x 0,75 8 x lēmumu skaits) x 0,15 x 0,27 8 | D20: =ROUND(1.2*(0.75*D4)*0.15*0.27,0) -> 2488 | E20: =ROUND(1.2*(0.75*E4)*0.15*0.27,0) -> 2271 | F20: =ROUND(1.2*(0.75*F4)*0.15*0.27,0) -> 2028 | G20: =ROUND(1.2*(0.75*G4)*0.15*0.27,0) -> 2028
A21: 3. 1.+2. | C21: Pavisam: | D21: =D6+D13 -> 134325 | E21: =E6+E13 -> 122605 | F21: =F6+F13 -> 109497 | G21: =G6+G13 -> 109497
A22: 4. | C22: Saskaņā ar MK 02.11.2021. rīkojumu Nr.775 | D22: 0 | E22: 0 | F22: 0 | G22: 0
A23: 5. (3.-4.) | C23: Papildus nepieciešams (+) vai izdevumi mazāki nekā ieplānots (-) | D23: =D21-D22 -> 134325 | E23: =E21-E22 -> 122605 | F23: =F21-F22 -> 109497 | G23: =G21-G22 -> 109497
A25: 1 Atbilstoši CSDD izdevumiem 0,95 euro (aprēķins anotācijas 4.pielikumā)
A26: 2 Atbilstoši statistikai ne visi apstrādātie dati (tiek sagatavoti lēmumu projekti) nosūtīti kā lēmumi. Aprēķinos tiek piemērots koeficients 1,07 .
A27: 3 Atbilstoši CSDD līgumam ar pakalpojuma sniedzēju (lēmuma sagatavošana nosūtīšanai adresātam (vēstules sagatavošana)): Latvijas adresātiem 0,09 euro, ārvalstu adresātiem 0,14 euro Atbilstoši 20.03.2018. MK noteikumu Nr.170 anotācijai un likuma ""Grozījumi Ceļu satiksmes likumā"" (pieņemts 09.11.2017. ) anotācijas pielikuma 2.tabulai: 0,19 euro.
A28: 4 Atbilstoši statistikai aprēķinos izmantoti šādi dati: ar neierakstītu vēstuli (līdz 20g pa Latviju) tiek nosūtīts 24% protokoli-lēmumi; ar neierakstītu vēstuli (līdz 20g uz ārvalstīm) tiek nosūtīts 25% protokoli-lēmumi; elektroniski tiek nosūtīts 51% protokoli-lēmumi.
A29: 5 Atbilstoši Latvijas Pasta tarifam no 01.01.2020. un CSDD līgumam ar pakalpojuma sniedzēju ir 1,20 euro/gab. (neierakstīta vēstule līdz 20g pa Latviju bez PVN) un 1,633571 euro/gab. (vidēji neierakstīta vēstule līdz 20 g uz ES valstīm, bez PVN).
A30: 6 Atbilstoši 20.03.2018. MK noteikumu Nr.170 anotācijai un likuma "Grozījumi Ceļu satiksmes likumā" (pieņemts 09.11.2017.) anotācijas pielikuma 2.tabulai 0,19 euro. Atbilstoši CSDD un Valsts policijas 30.11.2020. deleģēšanas līgumā Nr.2380 noteiktajam.
A31: 7 Atbilstoši CSDD izdevumiem: 0,42 euro (aprēķins anotācijas 5.pielikumā)
A32: 8 Atbilstoši statistikai: 75 % (51% un 24%) lēmumi tiek adresēti personām Latvijā 15% no šiem lēmumiem netiek samaksāti 1 mēneša laikā un šiem adresātiem (Latvijā) tiek sagatavoti paziņojumi 73% no atgādinājumiem tiek nosūtīti elektroniski un 27% no atgādinājumiem tiek nosūtīt ar vēstuli
A33: 9 Atbilstoši CSDD līgumam ar pakalpojuma sniedzēju (paziņojuma sagatavošana nosūtīšanai adresātam): adresātiem Latvijā 0,08 euro.
A34: 10 Atbilstoši Latvijas Pasta tarifam 1,20 euro/gab. (neierakstīta vēstule līdz 20g pa Latviju, bez PVN)
A35: Izdevumi var mainīties pa izdevumu veidiem, ņemot vērā iepirkuma rezultātus un citus apstākļus.
A36: Pārvietojamie tehniskie līdzekļi
... A45: 2026. gads un turpmāk ik gadu: 19 lēmumi x 3 tehniskie līdzekļi x 235 (darbības dienu skaits) = 13 395 lēmumi gadā

Sheet 5.izd lem CSDD (VP)
F1: 5.tabula
A3: Prognozētās Valsts policijas izmaksas par atgādinājumu nosūtīšanu un dokumentu nosūtīšanu piespiedu piedziņai uz ES lēmumi no valsts akciju sabiedrības "Ceļu satiksmes drošības direkcija" tehniskajiem līdzekļiem
A4: Nr.p.k. | B4: Rādītājs | C4: 2023.gadā | D4: 2024.gadā | E4: 2025.gadā | F4: 2026.gadā un turpmāk
B5: Darbojošos iekārtu skaits gadā | C5: 100 | D5: 100 | E5: 100
B6: Vidējais iekārtas darbības dienu skaits gadā, ņemot vērā iespējamo dīkstāvi (365 dienas - 25 dienas dīkstāve = 340 dienas) | C6: 340 | D6: 340 | E6: 340
B7: Iekārtu darbības dienu skaits gadā | C7: =C5*C6 -> 34000 | D7: =D5*D6 -> 34000 | E7: =E5*E6 -> 34000 | F7: =F5*F6 -> 0
B8: Lēmumu skaits (fiksētie pārkāpumi, par kuriem tiek nosūtīts lēmums), gadā | C8: 238000 | D8: 204000 | E8: 204000
B9: atgādinājumu skaits 1 , gadā uz ES | C9: =ROUNDUP(C8*0.25*0.1,0) -> 5950 | D9: =ROUNDUP(D8*0.25*0.1,0) -> 5100 | E9: =ROUNDUP(E8*0.25*0.1,0) -> 5100 | F9: =ROUNDUP(F8*0.29*0.08,0) -> 0
B10: piespiedu piedziņai nosūtīto lēmumu skaits2, gadā uz ES | C10: =ROUNDUP(C9*0.8,0) -> 4760 | D10: =ROUNDUP(D9*0.8,0) -> 4080 | E10: =ROUNDUP(E9*0.8,0) -> 4080 | F10: =ROUNDUP(F9*0.05,0) -> 0
B11: pārsūdzību gadījumu skaits 3 , Latvijā un ES | C11: =ROUNDUP(C8*0.012,0) -> 2856 | D11: =ROUNDUP(D8*0.012,0) -> 2448 | E11: =ROUNDUP(E8*0.012,0) -> 2448 | F11: =ROUNDUP(F8*0.01,0) -> 0
A12: 1. | B12: Prognozētās pasta pakalpojumu izmaksas par atgādinājumu nosūtīšanu un dokumentu nosūtīšanu piespiedu piedziņai ES | C12: =C13+C14 -> 25095 | D12: =D13+D14 -> 21511 | E12: =E13+E14 -> 21511 | F12: =F13+F14 -> 0
A13: 1.1. | B13: Vēstuļu nosūtīšanas izmaksas atbilstoši VAS "Latvijas Pasts" noteiktajam attiecīgās vēstules nosūtīšanas pakalpojuma tarifam 1,633571 euro 4 x atgādinājumu skaits gadā | C13: =ROUNDUP(C9*1.633571,0) -> 9720 | D13: =ROUNDUP(D9*1.633571,0) -> 8332 | E13: =ROUNDUP(E9*1.633571,0) -> 8332 | F13: =ROUNDUP(F9*1.29,0) -> 0
A14: 1.2. | B14: Vēstuļu nosūtīšanas izmaksas atbilstoši VAS "Latvijas Pasts" noteiktajam attiecīgās vēstules nosūtīšanas pakalpojuma tarifam 3,23 euro 5 x piespiedu piedziņai nosūtīto lēmumu skaits gadā | C14: =ROUNDUP(C10*3.23,0) -> 15375 | D14: =ROUNDUP(D10*3.23,0) -> 13179 | E14: =ROUNDUP(E10*3.23,0) -> 13179 | F14: =ROUNDUP(F10*1.77,0) -> 0
A15: 2. | B15: Prognozētās pasta pakalpojumu izmaksas par augstākas instances lēmuma (pārsūdzības gadījumā) nosūtīšanu | C15: =C16+C17 -> 2923 | D15: =D16+D17 -> 2506 | E15: =E16+E17 -> 2506 | F15: =F16+F17 -> 0
A16: 2.1. | B16: 1,20 euro 6 x pārsūdzību gadījumu skaits (vēstule Latvijas adresātiem) 7 x 0,24 8 | C16: =ROUND(1.2*C11*0.75*0.24,0) -> 617 | D16: =ROUND(1.2*D11*0.75*0.24,0) -> 529 | E16: =ROUND(1.2*E11*0.75*0.24,0) -> 529 | F16: =ROUND(1*F11*0.71*0.3,0) -> 0
A17: 2.2. | B17: 3,23 euro 5 x pārsūdzību gadījumu skaits (vēstule ES adresātiem) 9 | C17: =ROUND(3.23*C11*0.25,0) -> 2306 | D17: =ROUND(3.23*D11*0.25,0) -> 1977 | E17: =ROUND(3.23*E11*0.25,0) -> 1977 | F17: =ROUND(1.77*F11*0.29,0) -> 0
A18: 3. (1.+ 2.) | B18: Pavisam: | C18: =C12+C15 -> 28018 | D18: =D12+D15 -> 24017 | E18: =E12+E15 -> 24017 | F18: =F12+F15 -> 0
A19: 4. | B19: Saskaņā ar MK 02.11.2021. rīkojumu Nr.775 | C19: 0 | D19: 0 | E19: 0 | F19: 0
A20: 5. (3.-4.) | B20: Papildus nepieciešams (+) vai izdevumi mazāki nekā ieplānots (-) | C20: =C18-C19 -> 28018 | D20: =D18-D19 -> 24017 | E20: =E18-E19 -> 24017 | F20: =F18-F19 -> 0
A21: 1 | B21: Atgādinājumi tiek nosūtīti lietās, kurās piemērotais sods pārsniedz 70 euro, kas sastāda 10% gadījumu no fiksēto pārkāpumu skaita, par kuriem tiek nosūtīts lēmums, un kas tiek izdarīts ar Eiropas Savienības dalībvalstīs reģistrētu transportlīdzekli. 25% gadījumu pārkāpums tiek izdarīts ar Eiropas Savienības dalībvalstīs reģistrētu transportlīdzekli
A22: 2 | B22: Piespiedu piedziņa tiek vērsta 80% gadījumu no atgādinājumu skaita, kas nosūtīti par pārkāpumiem, kas tiek izdarīti ar Eiropas Savienības dalībvalstīs reģistrētu transportlīdzekli
A23: 3 | B23: Prognozēts, ka pārsūdzības būs 1,2% no fiksēto pārkāpumu skaita par kuriem tiek nosūtīts lēmums (tai skaitā 1% - Latvijā reģistrētie transportlīdzekļi, 0,2% - ES reģistrētie transportlīdzekļi).
A24: 4 | B24: Aprēķinos izmantots vidējais tarifs saskaņā ar AS "Latvijas Pasts" noteiktajam attiecīgās vēstules nosūtīšanas pakalpojuma tarifiem uz ES ar vienkāršo vēstuļu korespondences (līdz 20 gramiem) sūtījumu
A25: 5 | B25: Aprēķinos izmantots vidējais tarifs saskaņā ar AS "Latvijas Pasts" noteiktajam attiecīgās vēstules nosūtīšanas pakalpojuma tarifiem uz ES ar vienkāršo vēstuļu korespondences (vairāk par 20 gramiem) sūtījumu
A26: 6 | B26: Samaksa saskaņā ar VAS "Latvijas Pasts" tarifu
A27: 7 | B27: Prognozēts, ka pārsūdzības būs 1,2% no fiksēto pārkāpumu skaita par kuriem tiek nosūtīts lēmums (tai skaitā 1% - Latvijā reģistrētie transportlīdzekļi, 0,2% - ES reģistrētie transportlīdzekļi). Atbilstoši statistikai 75 % (51% un 24%) lēmumi tiek adresēti personām Latvijā
A28: 8 | B28: Atbilstoši statistikai adresātam Latvijā lēmumu par soda piemērošanu 24% gadījumu nosūta ar vienkāršo vēstuļu korespondences (līdz 20 gramiem) sūtījumu
A29: 9 | B29: Atbilstoši statistikai 25% gadījumu pārkāpums tiek izdarīts ar Eiropas Savienības dalībvalstīs reģistrētu transportlīdzekli
B30: Izdevumi var mainīties pa izdevumu veidiem, ņemot vērā iepirkuma rezultātus un citus apstākļus.

Sheet 6.lem LVC (VP)
F1: 6.tabula
A2: Prognozētās Valsts policijas izmaksas par atgādinājumu nosūtīšanu un dokumentu nosūtīšanu piespiedu piedziņai uz ES lēmumi no valsts sabiedrības ar ierobežotu atbildību "Latvijas Valsts ceļi" tehniskajiem līdzekļiem: transportlīdzekļu vidējā braukšanas ātruma mērīšanas sistēmas (P2P) un meteostacijas
A3: Nr.p.k. | B3: Rādītājs | C3: 2023.gadā | D3: 2024.gadā | E3: 2025.gadā | F3: 2026.gadā un turpmāk
B4: Darbojošos iekārtu skaits gadā (P2P) | C4: 12 | D4: 16 | E4: 16 | F4: 16
B5: Darbojošos iekārtu skaits gadā (meteostacijas) | C5: 4 | D5: 4 | E5: 4 | F5: 4
B6: Lēmumu skaits par atļautā braukšanas ātruma pārsniegšanu | C6: 48240 | D6: 53600 | E6: 32160 | F6: 32160
B7: Lēmumu skaits par tāda transportlīdzekļa izmantošanu ceļu satiksmē, kuram noteiktajā termiņā nav veikta valsts tehniskā apskate | C7: 2854 | D7: 3806 | E7: 3806 | F7: 3806
B8: Lēmumu skaits par tāda transportlīdzekļa izmantošanu ceļu satiksmē, par kuru nav veikta tā īpašnieka civiltiesiskās atbildības obligātā apdrošināšana | C8: 12060 | D8: 10720 | E8: 5360 | F8: 5360
B9: Lēmumu skaits par Autoceļu lietošanas nodevas likma 11.panta otrajā daļā minētajiem pārkāpumiem (vinjete) | C9: 4422 | D9: 5762 | E9: 5762 | F9: 5762
B10: Lēmumu skaits (fiksētie pārkāpumi, par kuriem tiek nosūtīts lēmums), gadā | C10: =SUM(C6:C9) -> 67576 | D10: =SUM(D6:D9) -> 73888 | E10: =SUM(E6:E9) -> 47088 | F10: =SUM(F6:F9) -> 47088
B11: atgādinājumu skaits 1 , gadā uz ES | C11: =ROUNDUP(C10*0.25*0.1,0) -> 1690 | D11: =ROUNDUP(D10*0.25*0.1,0) -> 1848 | E11: =ROUNDUP(E10*0.25*0.1,0) -> 1178 | F11: =ROUNDUP(F10*0.25*0.1,0) -> 1178
B12: piespiedu piedziņai nosūtīto lēmumu skaits2, gadā uz ES | C12: =ROUNDUP(C11*0.8,0) -> 1352 | D12: =ROUNDUP(D11*0.8,0) -> 1479 | E12: =ROUNDUP(E11*0.8,0) -> 943 | F12: =ROUNDUP(F11*0.8,0) -> 943
B13: pārsūdzību gadījumu skaits 3 , Latvijā un ES | C13: =ROUNDUP(C10*0.02,0) -> 1352 | D13: =ROUNDUP(D10*0.02,0) -> 1478 | E13: =ROUNDUP(E10*0.02,0) -> 942 | F13: =ROUNDUP(F10*0.02,0) -> 942
A14: 1. | B14: Prognozētās pasta pakalpojumu izmaksas par atgādinājumu nosūtīšanu un dokumentu nosūtīšanu piespiedu piedziņai ES | C14: =C15+C16 -> 7128 | D14: =D15+D16 -> 7797 | E14: =E15+E16 -> 4971 | F14: =F15+F16 -> 4971
A15: 1.1. | B15: Vēstuļu nosūtīšanas izmaksas atbilstoši VAS "Latvijas Pasts" noteiktajam attiecīgās vēstules nosūtīšanas pakalpojuma tarifam 1,633571 euro 4 x atgādinājumu skaits gadā | C15: =ROUNDUP(C11*1.633571,0) -> 2761 | D15: =ROUNDUP(D11*1.633571,0) -> 3019 | E15: =ROUNDUP(E11*1.633571,0) -> 1925 | F15: =ROUNDUP(F11*1.633571,0) -> 1925
A16: 1.2. | B16: Vēstuļu nosūtīšanas izmaksas atbilstoši VAS "Latvijas Pasts" noteiktajam attiecīgās vēstules nosūtīšanas pakalpojuma tarifam 3,23 euro 5 x piespiedu piedziņai nosūtīto lēmumu skaits gadā | C16: =ROUNDUP(C12*3.23,0) -> 4367 | D16: =ROUNDUP(D12*3.23,0) -> 4778 | E16: =ROUNDUP(E12*3.23,0) -> 3046 | F16: =ROUNDUP(F12*3.23,0) -> 3046
A17: 2. | B17: Prognozētās pasta pakalpojumu izmaksas par augstākas instances lēmuma (pārsūdzības gadījumā) nosūtīšanu | C17: =C18+C19 -> 1384 | D17: =D18+D19 -> 1512 | E17: =E18+E19 -> 964 | F17: =F18+F19 -> 1085
A18: 2.1. | B18: 1,20 euro 6 x pārsūdzību gadījumu skaits (vēstule Latvijas adresātiem) 7 x 0,24 8 | C18: =ROUND(1.2*C13*0.75*0.24,0) -> 292 | D18: =ROUND(1.2*D13*0.75*0.24,0) -> 319 | E18: =ROUND(1.2*E13*0.75*0.24,0) -> 203 | F18: =ROUND(1.2*F13*0.75*0.24,0) -> 203
A19: 2.2. | B19: 3,23 euro 5 x pārsūdzību gadījumu skaits (vēstule ES adresātiem) 9 | C19: =ROUND(3.23*C13*0.25,0) -> 1092 | D19: =ROUND(3.23*D13*0.25,0) -> 1193 | E19: =ROUND(3.23*E13*0.25,0) -> 761 | F19: =ROUND(3.23*F13*0.29,0) -> 882
A20: 3. (1.+ 2.) | B20: Pavisam: | C20: =C14+C17 -> 8512 | D20: =D14+D17 -> 9309 | E20: =E14+E17 -> 5935 | F20: =F14+F17 -> 6056
A21: 4. | B21: Saskaņā ar MK 02.11.2021. rīkojumu Nr.775 (anotācijas pielikuma 7.tabula (2.1.1.+2.2.1.) | C21: =5178+1125 -> 6303 | D21: =5178+937 -> 6115 | E21: =5178+751 -> 5929 | F21: 5929
A22: 5. (3.-4.) | B22: Papildus nepieciešams (+) vai izdevumi mazāki nekā ieplānots (-) | C22: =C20-C21 -> 2209 | D22: =D20-D21 -> 3194 | E22: =E20-E21 -> 6 | F22: =F20-F21 -> 127
A23: 1 | B23: Atgādinājumi tiek nosūtīti lietās, kurās piemērotais sods pārsniedz 70 euro, kas sastāda 10% gadījumu no fiksēto pārkāpumu skaita, par kuriem tiek nosūtīts lēmums, un kas tiek izdarīts ar Eiropas Savienības dalībvalstīs reģistrētu transportlīdzekli. 25% gadījumu pārkāpums tiek izdarīts ar Eiropas Savienības dalībvalstīs reģistrētu transportlīdzekli
A24: 2 | B24: Piespiedu piedziņa tiek vērsta 80% gadījumu no atgādinājumu skaita, kas nosūtīti par pārkāpumiem, kas tiek izdarīti ar Eiropas Savienības dalībvalstīs reģistrētu transportlīdzekli
A25: 3 | B25: Prognozēts, ka pārsūdzības būs 2% no fiksēto pārkāpumu skaita par kuriem tiek nosūtīts lēmums (tai skaitā 1,8% - Latvijā reģistrētie transportlīdzekļi, 0,2% - ES reģistrētie transportlīdzekļi).
A26: 4 | B26: Aprēķinos izmantots vidējais tarifs saskaņā ar AS "Latvijas Pasts" noteiktajam attiecīgās vēstules nosūtīšanas pakalpojuma tarifiem uz ES ar vienkāršo vēstuļu korespondences (līdz 20 gramiem) sūtījumu
A27: 5 | B27: Aprēķinos izmantots vidējais tarifs saskaņā ar AS "Latvijas Pasts" noteiktajam attiecīgās vēstules nosūtīšanas pakalpojuma tarifiem uz ES ar vienkāršo vēstuļu korespondences (vairāk par 20 gramiem) sūtījumu
A28: 6 | B28: Samaksa saskaņā ar VAS "Latvijas Pasts" tarifu
A29: 7 | B29: Prognozēts, ka pārsūdzības būs 2% no fiksēto pārkāpumu skaita par kuriem tiek nosūtīts lēmums (tai skaitā 1,8% - Latvijā reģistrētie transportlīdzekļi, 0,2% - ES reģistrētie transportlīdzekļi). Atbilstoši statistikai 75 % (51% un 24%) lēmumi tiek adresēti personām Latvijā
A30: 8 | B30: Atbilstoši statistikai adresātam Latvijā lēmumu par soda piemērošanu 24% gadījumu nosūta ar vienkāršo vēstuļu korespondences (līdz 20 gramiem) sūtījumu
A31: 9 | B31: Atbilstoši statistikai 25% gadījumu pārkāpums tiek izdarīts ar Eiropas Savienības dalībvalstīs reģistrētu transportlīdzekli
B32: Izdevumi var mainīties pa izdevumu veidiem, ņemot vērā iepirkuma rezultātus un citus apstākļus.

Sheet 7.Iem VP pārv (VP)
F1: 7.tabula
A2: Prognozētās Valsts policijas izmaksas par atgādinājumu nosūtīšanu un dokumentu nosūtīšanu piespiedu piedziņai uz ES lēmumi no Valsts policijas tehniskajiem līdzekļiem (pārvietojamie tehniskie līdzekļi - 12 gab.) un automātiskās transportlīdzekļu valsts reģistrācijas numura zīmju nolasīšanas/atpazīšanas un ceļu satiksmē izdarītu pārkāpumu fiksēšanas sistēmas (360 grādu kameras transportlīdzekļos - 3 gab.)
A3: Nr.p.k. | B3: Rādītājs | C3: 2023.gadā | D3: 2024.gadā | E3: 2025.gadā | F3: 2026.gadā un turpmāk
B4: Lēmumu skaits (fiksētie pārkāpumi, par kuriem tiek nosūtīts lēmums), gadā | C4: =(13*12*320)+(26*3*235) -> 68250 | D4: =(12*12*320)+(23*3*235) -> 62295 | E4: =(11*12*320)+(19*3*235) -> 55635 | F4: =(11*12*320)+(19*3*235) -> 55635
B5: atgādinājumu skaits 1 , gadā uz ES | C5: =ROUNDUP(C4*0.25*0.1,0) -> 1707 | D5: =ROUNDUP(D4*0.25*0.1,0) -> 1558 | E5: =ROUNDUP(E4*0.25*0.1,0) -> 1391 | F5: =ROUNDUP(F4*0.25*0.1,0) -> 1391
B6: piespiedu piedziņai nosūtīto lēmumu skaits2, gadā uz ES | C6: =ROUNDUP(C5*0.8,0) -> 1366 | D6: =ROUNDUP(D5*0.8,0) -> 1247 | E6: =ROUNDUP(E5*0.8,0) -> 1113 | F6: =ROUNDUP(F5*0.8,0) -> 1113
B7: pārsūdzību gadījumu skaits 3 , Latvijā un ES | C7: =ROUNDUP(C4*0.012,0) -> 819 | D7: =ROUNDUP(D4*0.012,0) -> 748 | E7: =ROUNDUP(E4*0.012,0) -> 668 | F7: =ROUNDUP(F4*0.012,0) -> 668
A8: 1. | B8: Prognozētās pasta pakalpojumu izmaksas par atgādinājumu nosūtīšanu un dokumentu nosūtīšanu piespiedu piedziņai ES | C8: =C9+C10 -> 7202 | D8: =D9+D10 -> 6574 | E8: =E9+E10 -> 5868 | F8: =F9+F10 -> 5868
A9: 1.1. | B9: Vēstuļu nosūtīšanas izmaksas atbilstoši VAS "Latvijas Pasts" noteiktajam attiecīgās vēstules nosūtīšanas pakalpojuma tarifam 1,633571 euro 4 x atgādinājumu skaits gadā | C9: =ROUNDUP(C5*1.633571,0) -> 2789 | D9: =ROUNDUP(D5*1.633571,0) -> 2546 | E9: =ROUNDUP(E5*1.633571,0) -> 2273 | F9: =ROUNDUP(F5*1.633571,0) -> 2273
A10: 1.2. | B10: Vēstuļu nosūtīšanas izmaksas atbilstoši VAS "Latvijas Pasts" noteiktajam attiecīgās vēstules nosūtīšanas pakalpojuma tarifam 3,23 euro 5 x piespiedu piedziņai nosūtīto lēmumu skaits gadā | C10: =ROUNDUP(C6*3.23,0) -> 4413 | D10: =ROUNDUP(D6*3.23,0) -> 4028 | E10: =ROUNDUP(E6*3.23,0) -> 3595 | F10: =ROUNDUP(F6*3.23,0) -> 3595
A11: 2. | B11: Prognozētās pasta pakalpojumu izmaksas par augstākas instances lēmuma (pārsūdzības gadījumā) nosūtīšanu | C11: =C12+C13 -> 838 | D11: =D12+D13 -> 766 | E11: =E12+E13 -> 683 | F11: =F12+F13 -> 683
A12: 2.1. | B12: 1,20 euro 6 x pārsūdzību gadījumu skaits (vēstule Latvijas adresātiem) 7 x 0,24 8 | C12: =ROUND(1.2*C7*0.75*0.24,0) -> 177 | D12: =ROUND(1.2*D7*0.75*0.24,0) -> 162 | E12: =ROUND(1.2*E7*0.75*0.24,0) -> 144 | F12: =ROUND(1.2*F7*0.75*0.24,0) -> 144
A13: 2.2. | B13: 3,23 euro 5 x pārsūdzību gadījumu skaits (vēstule ES adresātiem) 9 | C13: =ROUND(3.23*C7*0.25,0) -> 661 | D13: =ROUND(3.23*D7*0.25,0) -> 604 | E13: =ROUND(3.23*E7*0.25,0) -> 539 | F13: =ROUND(3.23*F7*0.25,0) -> 539
A14: 3. (1.+ 2.) | B14: Pavisam: | C14: =C8+C11 -> 8040 | D14: =D8+D11 -> 7340 | E14: =E8+E11 -> 6551 | F14: =F8+F11 -> 6551
A15: 4. | B15: Saskaņā ar MK 02.11.2021. rīkojumu Nr.775 | C15: 0 | D15: 0 | E15: 0 | F15: 0
A16: 5. (3.-4.) | B16: Papildus nepieciešams (+) vai izdevumi mazāki nekā ieplānots (-) | C16: =C14-C15 -> 8040 | D16: =D14-D15 -> 7340 | E16: =E14-E15 -> 6551 | F16: =F14-F15 -> 6551
A17: 1 | B17: Atgādinājumi tiek nosūtīti lietās, kurās piemērotais sods pārsniedz 70 euro, kas sastāda 10% gadījumu no fiksēto pārkāpumu skaita, par kuriem tiek nosūtīts lēmums, un kas tiek izdarīts ar Eiropas Savienības dalībvalstīs reģistrētu transportlīdzekli. 25% gadījumu pārkāpums tiek izdarīts ar Eiropas Savienības dalībvalstīs reģistrētu transportlīdzekli
A18: 2 | B18: Piespiedu piedziņa tiek vērsta 80% gadījumu no atgādinājumu skaita, kas nosūtīti par pārkāpumiem, kas tiek izdarīti ar Eiropas Savienības dalībvalstīs reģistrētu transportlīdzekli
A19: 3 | B19: Prognozēts, ka pārsūdzības būs 1,2% no fiksēto pārkāpumu skaita par kuriem tiek nosūtīts lēmums (tai skaitā 1% - Latvijā reģistrētie transportlīdzekļi, 0,2% - ES reģistrētie transportlīdzekļi).
A20: 4 | B20: Aprēķinos izmantots vidējais tarifs saskaņā ar AS "Latvijas Pasts" noteiktajam attiecīgās vēstules nosūtīšanas pakalpojuma tarifiem uz ES ar vienkāršo vēstuļu korespondences (līdz 20 gramiem) sūtījumu
A21: 5 | B21: Aprēķinos izmantots vidējais tarifs saskaņā ar AS "Latvijas Pasts" noteiktajam attiecīgās vēstules nosūtīšanas pakalpojuma tarifiem uz ES ar vienkāršo vēstuļu korespondences (vairāk par 20 gramiem) sūtījumu
A22: 6 | B22: Samaksa saskaņā ar VAS "Latvijas Pasts" tarifu
A23: 7 | B23: Prognozēts, ka pārsūdzības būs 1,2% no fiksēto pārkāpumu skaita par kuriem tiek nosūtīts lēmums (tai skaitā 1% - Latvijā reģistrētie transportlīdzekļi, 0,2% - ES reģistrētie transportlīdzekļi). Atbilstoši statistikai 75 % (51% un 24%) lēmumi tiek adresēti personām Latvijā
A24: 8 | B24: Atbilstoši statistikai adresātam Latvijā lēmumu par soda piemērošanu 24% gadījumu nosūta ar vienkāršo vēstuļu korespondences (līdz 20 gramiem) sūtījumu
A25: 9 | B25: Atbilstoši statistikai 25% gadījumu pārkāpums tiek izdarīts ar Eiropas Savienības dalībvalstīs reģistrētu transportlīdzekli

Sheet KOPSAVILKUMS
K1: 8.tabula
A2: KOPSAVILKUMS
A3: Nr.p. k. | B3: Rādītāji | C3: Ieņēmumu un izdevumu kods | D3: 2023. rīk Nr.775 | E3: 2023. prec. | F3: 2024. rīk Nr.775 | G3: 2024. prec. | H3: 2025. rīk Nr.775 | I3: 2025. prec. | J3: 2026. un turpmāk ik gadu rīk Nr.775 | K3: 2026. un turpmāk ik gadu prec.
A4: I. | B4: Ieņēmumi no naudas sodiem | C4: 10.1.5.2. | D4: 5554988 | E4: 8407888 | F4: 4074326 | G4: 7793732 | H4: 2790690 | I4: 6973319 | J4: 806178 | K4: 2175472
A5: II. | B5: Izdevumi PAVISAM (III+IV) | C5: x | D5: =D6+D15 -> 2024032 | E5: =E6+E15 -> 3797453 | F5: =F6+F15 -> 1649675 | G5: =G6+G15 -> 3739424 | H5: =H6+H15 -> 1336089 | I5: =I6+I15 -> 3652560 | J5: =J6+J15 -> 136560 | K5: =K6+K15 -> 1345435
A6: III. | B6: Izdevumi kopā (1.+2.) ilgtermiņa saistības "Ceļu satiksmes pārkāpumu fiksēšanas tehnisko līdzekļu darbības nodrošināšana" | C6: x | D6: =D7+D14 -> 2024032 | E6: =E7+E14 -> 2742303 | F6: =F7+F14 -> 1649675 | G6: =G7+G14 -> 2684274 | H6: =H7+H14 -> 1336089 | I6: =I7+I14 -> 2597410 | J6: =J7+J14 -> 136560 | K6: =K7+K14 -> 290285
A7: 1. | B7: 06.01.00 "Valsts policija" | C7: x | D7: =D8+D11 -> 1983959 | E7: =E8+E11 -> 2661965 | F7: =F8+F11 -> 1609602 | G7: =G8+G11 -> 2579436 | H7: =H8+H11 -> 1296016 | I7: =I8+I11 -> 2499472 | J7: =J8+J11 -> 136560 | K7: =K8+K11 -> 230447
A8: 1.1. | B8: Valsts policija | C8: x | D8: =D9+D10 -> 558073 | E8: =E9+E10 -> 44570 | F8: =F9+F10 -> 557885 | G8: =G9+G10 -> 40666 | H8: =H9+H10 -> 557699 | I8: =I9+I10 -> 36503 | J8: =J9+J10 -> 5929 | K8: =K9+K10 -> 12607
A9: 1.1.1. | B9: Valsts policijas izdevumi (atlīdzība) | C9: 1000 | D9: 551770 | F9: 551770 | H9: 551770
A10: 1.1.2. | B10: Valsts policijas izmaksas par atgādinājumu nosūtīšanu un dokumentu nosūtīšanu piespiedu piedziņai uz ES | C10: 2210 | D10: 6303 | E10: ='5.izd lem CSDD (VP)'!C18+'6.lem LVC (VP)'!C20+'7.Iem VP pārv (VP)'!C14 -> 44570 | F10: 6115 | G10: ='5.izd lem CSDD (VP)'!D18+'6.lem LVC (VP)'!D20+'7.Iem VP pārv (VP)'!D14 -> 40666 | H10: 5929 | I10: ='5.izd lem CSDD (VP)'!E18+'6.lem LVC (VP)'!E20+'7.Iem VP pārv (VP)'!E14 -> 36503 | J10: 5929 | K10: ='5.izd lem CSDD (VP)'!F18+'6.lem LVC (VP)'!F20+'7.Iem VP pārv (VP)'!F14 -> 12607
A11: 1.2. | B11: CSDD | D11: =D12+D13 -> 1425886 | E11: =E12+E13 -> 2617395 | F11: =F12+F13 -> 1051717 | G11: =G12+G13 -> 2538770 | H11: =H12+H13 -> 738317 | I11: =I12+I13 -> 2462969 | J11: =J12+J13 -> 130631 | K11: =K12+K13 -> 217840
A12: 1.2.1. | B12: Kopā fotoradaru darbības nodrošināšanas izmaksas | C12: 3262 | D12: 979667 | E12: ='1.IZD darbība (CSDD)'!E25 -> 1754482 | F12: 699762 | G12: ='1.IZD darbība (CSDD)'!G25 -> 1754482 | H12: 466509 | I12: ='1.IZD darbība (CSDD)'!I25 -> 1754482 | J12: 0 | K12: 0
A13: 1.2.2. | B13: Kopā informācijas apstrādes un lēmuma un atgādinājuma nosūtīšanas adresātam izmaksas | C13: 3262 | D13: 446219 | E13: ='2.IZD lēm stac ĀTRUMS (CSDD)'!D21+'3.IZD lēm stac TAOCTAVIN (CSDD)'!D21+'4.IZD lēm pārviet (CSDD)'!D21 -> 862913 | F13: 351955 | G13: ='2.IZD lēm stac ĀTRUMS (CSDD)'!E21+'3.IZD lēm stac TAOCTAVIN (CSDD)'!E21+'4.IZD lēm pārviet (CSDD)'!E21 -> 784288 | H13: 271808 | I13: ='2.IZD lēm stac ĀTRUMS (CSDD)'!F21+'3.IZD lēm stac TAOCTAVIN (CSDD)'!F21+'4.IZD lēm pārviet (CSDD)'!F21 -> 708487 | J13: 130631 | K13: ='2.IZD lēm stac ĀTRUMS (CSDD)'!G21+'3.IZD lēm stac TAOCTAVIN (CSDD)'!G21+'4.IZD lēm pārviet (CSDD)'!G21 -> 217840
A14: 2. | B14: 02.03.00 "Vienotās sakaru un informācijas sistēmas uzturēšana un vadība" | C14: 2000 5238 | D14: 40073 | E14: 80338 | F14: 40073 | G14: 104838 | H14: 40073 | I14: 97938 | J14: 0 | K14: 59838
A15: IV. | B15: 06.01.00 "Valsts policija" | C15: x | D15: =D16+D17 -> 0 | E15: =E16+E17 -> 1055150 | F15: =F16+F17 -> 0 | G15: =G16+G17 -> 1055150 | H15: =H16+H17 -> 0 | I15: =I16+I17 -> 1055150 | J15: =J16+J17 -> 0 | K15: =K16+K17 -> 1055150
A16: 1. | B16: Valsts policijas izdevumi (atlīdzība) | C16: 1000 | E16: 685103 | G16: 685103 | I16: 685103 | K16: 685103
A17: 2. | B17: Valsts policijas izdevumi (atlīdzībai 15 amata vietas) | C17: 1000 | E17: 370047 | G17: 370047 | I17: 370047 | K17: 370047
A18: V. | B18: Ieņēmumu pārsniegums pār izdevumiem (I-II) | C18: x | D18: =D4-D5 -> 3530956 | E18: =E4-E5 -> 4610435 | F18: =F4-F5 -> 2424651 | G18: =G4-G5 -> 4054308 | H18: =H4-H5 -> 1454601 | I18: =I4-I5 -> 3320759 | J18: =J4-J5 -> 669618 | K18: =K4-K5 -> 830037
B19: Izmaiņas:
A20: 1. | B20: Ieņēmumu palielinājums pret plānoto | E20: =E4-D4 -> 2852900 | G20: =G4-F4 -> 3719406 | I20: =I4-H4 -> 4182629 | K20: =K4-J4 -> 1369294
A21: 2. | B21: Izdevumu palielinājums pret plānoto | E21: =E5-D5 -> 1773421 | G21: =G5-F5 -> 2089749 | I21: =I5-H5 -> 2316471 | K21: =K5-J5 -> 1208875
A22: 3 (1.-2.) | B22: BILANCE | E22: =E20-E21 -> 1079479 | G22: =G20-G21 -> 1629657 | I22: =I20-I21 -> 1866158 | K22: =K20-K21 -> 160419
