Workbook

Sheet IEŅ P2P ātrums
C1: 2.pielikums Ministru kabineta rīkojuma projekta "Grozījumi Ministru kabineta 2021. gada 2.novembra rīkojumā Nr.775 "Par ceļu satiksmes pārkāpumu fiksēšanas tehnisko līdzekļu darbības nodrošināšanu" sākotnējās ietekmes novērtējuma ziņojumam (anotācijai)
F2: 1.tabula
A3: Prognozētie valsts pamatbudžeta IEŅĒMUMI no naudas sodiem, kas fiksēti ar komersanta tehniskajiem līdzekļiem Naudas sods par atļautā braukšanas ātruma pārsniegšanu (Valsts sabiedrība ar ierobežotu atbildību "Latvijas Valsts ceļi") Transportlidzekļu vidējā braukšanas ātruma mērīšanas sistēmas
A5: Nr.p.k. | B5: Rādītāji | C5: 2023 | D5: 2024 | E5: 2025 | F5: 2026 un turpmāk ik gadu
A6: 1. | B6: Darbojošos iekārtu skaits - vidēji gadā | C6: 12 | D6: 16 | E6: 16 | F6: 16
A7: 2. | B7: Prognozētie vienas iekārtas fiksētie pārkāpumi, par kuriem tiek nosūtīts lēmums (vidēji diennaktī) | C7: 12 | D7: 10 | E7: 6 | F7: 6
A8: 3. | B8: Vidējais iekārtas darbības dienu skaits gadā, ņemot vērā iespējamo dīkstāvi tehnisku u.c. iemeslu dēļ (365 dienas - 30 dienas dīkstāve = 335 dienas) | C8: 335 | D8: 335 | E8: 335 | F8: 335
A9: 4. | B9: Prognozētais lēmumu skaits (fiksētie pārkāpumi, par kuriem tiek nosūtīts lēmums), gadā (iekārtu skaits x fiksētie pārkāpumi, par kuriem tiek nosūtīts lēmums (vidēji diennaktī) x darbības dienu skaits gadā) | C9: =ROUND(C6*C7*C8,0) -> 48240 | D9: =ROUND(D6*D7*D8,0) -> 53600 | E9: =ROUND(E6*E7*E8,0) -> 32160 | F9: =ROUND(F6*F7*F8,0) -> 32160
A10: 5. | B10: Vidējais svērtais naudas soda apmērs par 1 pārkāpumu, euro | C10: 25 | D10: 25 | E10: 25 | F10: 25
A11: 6. (4.x5.) | B11: Kopējā uzlikto naudas sodu summa, euro | C11: =ROUND(C9*C10,0) -> 1206000 | D11: =ROUND(D9*D10,0) -> 1340000 | E11: =ROUND(E9*E10,0) -> 804000 | F11: =ROUND(F9*F10,0) -> 804000
A12: 7. | B12: Valsts pamatbudžeta ieņēmumus koriģējošais koeficients | C12: 0.4 | D12: 0.4 | E12: 0.36 | F12: 0.4
A13: 8. (6 x7.) | B13: Prognozēto valsts pamatbudžeta ieņēmumu no naudas sodiem summa, euro (ņemot vērā ieņēmumu nobīdi, nesamaksāšanas un citu risku koriģējošo koeficientu ) | C13: =ROUND(C11*C12,0) -> 482400 | D13: =ROUND(D11*D12,0) -> 536000 | E13: =ROUND(E11*E12,0) -> 289440 | F13: =ROUND(F11*F12,0) -> 321600
A14: 9. | B14: Saskaņā ar MK 02.11.2021. rīkojumu Nr.775 (anotācijas pielikuma 4.tabula) | C14: 102313 | D14: 97244 | E14: 92178 | F14: 92178
A15: 10. (8.-9.) | B15: Papildu ieņēmumi (+) vai ieņēmumu samazinājums (-) | C15: =C13-C14 -> 380087 | D15: =D13-D14 -> 438756 | E15: =E13-E14 -> 197262 | F15: =F13-F14 -> 229422

Sheet IEŅ P2P tehn. apskate
E1: 2.tabula
A2: Prognozētie valsts pamatbudžeta IEŅĒMUMI no naudas sodiem, kas fiksēti ar komersanta tehniskajiem līdzekļiem Naudas sods par tāda transportlīdzekļa izmantošanu ceļu satiksmē, kuram noteiktajā termiņā nav veikta valsts tehniskā apskate; (Valsts sabiedrība ar ierobežotu atbildību "Latvijas Valsts ceļi") Transportlīdzekļu vidējā braukšanas ātruma mērīšanas sistēmas
A4: Nr.p.k. | B4: Rādītāji | C4: 2023 | D4: 2024 | E4: 2025 | F4: 2026 un turpmāk ik gadu
A5: 1. | B5: Darbojošos iekārtu skaits - vidēji gadā | C5: 12 | D5: 16 | E5: 16 | F5: 16
A6: 2. | B6: Prognozētie vienas iekārtas fiksētie pārkāpumi, par kuriem tiek nosūtīts lēmums (vidēji diennaktī) | C6: 0.71 | D6: 0.71 | E6: 0.71 | F6: 0.71
A7: 3. | B7: Vidējais iekārtas darbības dienu skaits gadā, ņemot vērā iespējamo dīkstāvi tehnisku u.c. iemeslu dēļ (365 dienas - 30 dienas dīkstāve = 335 dienas) | C7: 335 | D7: 335 | E7: 335 | F7: 335
A8: 4. | B8: Prognozētais lēmumu skaits (fiksētie pārkāpumi, par kuriem tiek nosūtīts lēmums), gadā (iekārtu skaits x fiksētie pārkāpumi, par kuriem tiek nosūtīts lēmums (vidēji diennaktī) x darbības dienu skaits gadā) | C8: =ROUND(C5*C6*C7,0) -> 2854 | D8: =ROUND(D5*D6*D7,0) -> 3806 | E8: =ROUND(E5*E6*E7,0) -> 3806 | F8: =ROUND(F5*F6*F7,0) -> 3806
A9: 5. | B9: Vidējais svērtais naudas soda apmērs par 1 pārkāpumu, euro | C9: 55 | D9: 55 | E9: 55 | F9: 55
A10: 6. (4.x5.) | B10: Kopējā uzlikto naudas sodu summa, euro | C10: =ROUND(C8*C9,0) -> 156970 | D10: =ROUND(D8*D9,0) -> 209330 | E10: =ROUND(E8*E9,0) -> 209330 | F10: =ROUND(F8*F9,0) -> 209330
A11: 7. | B11: Valsts pamatbudžeta ieņēmumus koriģējošais koeficients | C11: 0.4 | D11: 0.4 | E11: 0.36 | F11: 0.4
A12: 8. (6 x7.) | B12: Prognozēto valsts pamatbudžeta ieņēmumu no naudas sodiem summa, euro (ņemot vērā ieņēmumu nobīdi, nesamaksāšanas un citu risku koriģējošo koeficientu ) | C12: =ROUND(C10*C11,0) -> 62788 | D12: =ROUND(D10*D11,0) -> 83732 | E12: =ROUND(E10*E11,0) -> 75359 | F12: =ROUND(F10*F11,0) -> 83732
A13: 9. | B13: Saskaņā ar MK 02.11.2021. rīkojumu Nr.775 | C13: 0 | D13: 0 | E13: 0 | F13: 0
A14: 10. (8.-9.) | B14: Papildu ieņēmumi (+) vai ieņēmumu samazinājums (-) | C14: =C12-C13 -> 62788 | D14: =D12-D13 -> 83732 | E14: =E12-E13 -> 75359 | F14: =F12-F13 -> 83732

Sheet IEŅ P2P OCTA
E1: 3.tabula
A2: Prognozētie valsts pamatbudžeta IEŅĒMUMI no naudas sodiem, kas fiksēti ar komersanta tehniskajiem līdzekļiem Nudas sods par tāda transportlīdzekļa izmantošanu ceļu satiksmē, par kuru nav veikta tā īpašnieka civiltiesiskās atbildības obligātā apdrošināšana (Valsts sabiedrība ar ierobežotu atbildību "Latvijas Valsts ceļi") Transportlīdzekļu vidējā braukšanas ātruma mērīšanas sistēmas
A4: Nr.p.k. | B4: Rādītāji | C4: 2023 | D4: 2024 | E4: 2025 | F4: 2026 un turpmāk ik gadu
A5: 1. | B5: Darbojošos iekārtu skaits - vidēji gadā | C5: 12 | D5: 16 | E5: 16 | F5: 16
A6: 2. | B6: Prognozētie vienas iekārtas fiksētie pārkāpumi, par kuriem tiek nosūtīts lēmums (vidēji diennaktī) | C6: 3 | D6: 2 | E6: 1 | F6: 1
A7: 3. | B7: Vidējais iekārtas darbības dienu skaits gadā, ņemot vērā iespējamo dīkstāvi tehnisku u.c. iemeslu dēļ (365 dienas - 30 dienas dīkstāve = 335 dienas) | C7: 335 | D7: 335 | E7: 335 | F7: 335
A8: 4. | B8: Prognozētais lēmumu skaits (fiksētie pārkāpumi, par kuriem tiek nosūtīts lēmums), gadā (iekārtu skaits x fiksētie pārkāpumi, par kuriem tiek nosūtīts lēmums (vidēji diennaktī) x darbības dienu skaits gadā) | C8: =ROUND(C5*C6*C7,0) -> 12060 | D8: =ROUND(D5*D6*D7,0) -> 10720 | E8: =ROUND(E5*E6*E7,0) -> 5360 | F8: =ROUND(F5*F6*F7,0) -> 5360
A9: 5. | B9: Vidējais svērtais naudas soda apmērs par 1 pārkāpumu, euro | C9: 350 | D9: 350 | E9: 350 | F9: 350
A10: 6. (4.x5.) | B10: Kopējā uzlikto naudas sodu summa, euro | C10: =ROUND(C8*C9,0) -> 4221000 | D10: =ROUND(D8*D9,0) -> 3752000 | E10: =ROUND(E8*E9,0) -> 1876000 | F10: =ROUND(F8*F9,0) -> 1876000
A11: 7. | B11: Valsts pamatbudžeta ieņēmumus koriģējošais koeficients | C11: 0.3 | D11: 0.3 | E11: 0.36 | F11: 0.36
A12: 8. (6 x7.) | B12: Prognozēto valsts pamatbudžeta ieņēmumu no naudas sodiem summa, euro (ņemot vērā ieņēmumu nobīdi, nesamaksāšanas un citu risku koriģējošo koeficientu ) | C12: =ROUND(C10*C11,0) -> 1266300 | D12: =ROUND(D10*D11,0) -> 1125600 | E12: =ROUND(E10*E11,0) -> 675360 | F12: =ROUND(F10*F11,0) -> 675360
A13: 9. | B13: Saskaņā ar MK 02.11.2021. rīkojumu Nr.775 | C13: 0 | D13: 0 | E13: 0 | F13: 0
A14: 10. (8.-9.) | B14: Papildu ieņēmumi (+) vai ieņēmumu samazinājums (-) | C14: =C12-C13 -> 1266300 | D14: =D12-D13 -> 1125600 | E14: =E12-E13 -> 675360 | F14: =F12-F13 -> 675360

Sheet IEŅ  P2P vinjete
E1: 4.tabula
A2: Prognozētie valsts pamatbudžeta IEŅĒMUMI no naudas sodiem, kas fiksēti ar komersanta tehniskajiem līdzekļiem Naudas sods par Autoceļu lietošanas nodevas likma 11.panta otrajā daļā minētajiem pārkāpumiem (vinjete) (Valsts sabiedrība ar ierobežotu atbildību "Latvijas Valsts ceļi") Transportlīdzekļu vidējā braukšanas ātruma mērīšanas sistēmas
A4: Nr.p.k. | B4: Rādītāji | C4: 2023 | D4: 2024 | E4: 2025 | F4: 2026 un turpmāk ik gadu
A5: 1. | B5: Darbojošos iekārtu skaits - vidēji gadā | C5: 12 | D5: 16 | E5: 16 | F5: 16
A6: 2. | B6: Prognozētie vienas iekārtas fiksētie pārkāpumi, par kuriem tiek nosūtīts lēmums (vidēji diennaktī) | C6: 1 | D6: 1 | E6: 1 | F6: 1
A7: 3. | B7: Vidējais iekārtas darbības dienu skaits gadā, ņemot vērā iespējamo dīkstāvi tehnisku u.c. iemeslu dēļ (365 dienas - 30 dienas dīkstāve = 335 dienas) | C7: 335 | D7: 335 | E7: 335 | F7: 335
A8: 4. | B8: Prognozētais lēmumu skaits (fiksētie pārkāpumi, par kuriem tiek nosūtīts lēmums), gadā (iekārtu skaits x fiksētie pārkāpumi, par kuriem tiek nosūtīts lēmums (vidēji diennaktī) x darbības dienu skaits gadā) | C8: =ROUND(C5*C6*C7,0) -> 4020 | D8: =ROUND(D5*D6*D7,0) -> 5360 | E8: =ROUND(E5*E6*E7,0) -> 5360 | F8: =ROUND(F5*F6*F7,0) -> 5360
A9: 5. | B9: Vidējais svērtais naudas soda apmērs par 1 pārkāpumu, euro | C9: 500 | D9: 500 | E9: 500 | F9: 500
A10: 6. (4.x5.) | B10: Kopējā uzlikto naudas sodu summa, euro | C10: =ROUND(C8*C9,0) -> 2010000 | D10: =ROUND(D8*D9,0) -> 2680000 | E10: =ROUND(E8*E9,0) -> 2680000 | F10: =ROUND(F8*F9,0) -> 2680000
A11: 7. | B11: Valsts pamatbudžeta ieņēmumus koriģējošais koeficients | C11: 0.4 | D11: 0.4 | E11: 0.36 | F11: 0.38
A12: 8. (6 x7.) | B12: Prognozēto valsts pamatbudžeta ieņēmumu no naudas sodiem summa, euro (ņemot vērā ieņēmumu nobīdi, nesamaksāšanas un citu risku koriģējošo koeficientu ) | C12: =ROUND(C10*C11,0) -> 804000 | D12: =ROUND(D10*D11,0) -> 1072000 | E12: =ROUND(E10*E11,0) -> 964800 | F12: =ROUND(F10*F11,0) -> 1018400
A13: 9. | B13: Saskaņā ar MK 02.11.2021. rīkojumu Nr.775 (anotācijas pielikuma 7.tabula) | C13: 1285200 | D13: 1000314 | E13: 714000 | F13: 714000
A14: 10. (8.-9.) | B14: Papildu ieņēmumi (+) vai ieņēmumu samazinājums (-) | C14: =C12-C13 -> -481200 | D14: =D12-D13 -> 71686 | E14: =E12-E13 -> 250800 | F14: =F12-F13 -> 304400

Sheet IEŅ metostac vinjete
F1: 5.tabula
A2: Prognozētie valsts pamatbudžeta IEŅĒMUMI no naudas sodiem, kas fiksēti ar komersanta tehniskajiem līdzekļiem Naudas sods par Autoceļu lietošanas nodevas likma 11.panta otrajā daļā minētajiem pārkāpumiem (vinjete) (Valsts sabiedrība ar ierobežotu atbildību "Latvijas Valsts ceļi") Meteostaciju kameras
A4: Nr.p.k. | B4: Rādītāji | C4: 2023 | D4: 2024 | E4: 2025 | F4: 2026 un turpmāk ik gadu
A5: 1. | B5: Darbojošos iekārtu skaits - vidēji gadā | C5: 4 | D5: 4 | E5: 4 | F5: 4
A6: 2. | B6: Prognozētie vienas iekārtas fiksētie pārkāpumi, par kuriem tiek nosūtīts lēmums (vidēji diennaktī) | C6: 0.3 | D6: 0.3 | E6: 0.3 | F6: 0.3
A7: 3. | B7: Vidējais iekārtas darbības dienu skaits gadā, ņemot vērā iespējamo dīkstāvi tehnisku u.c. iemeslu dēļ (365 dienas - 30 dienas dīkstāve = 335 dienas) | C7: 335 | D7: 335 | E7: 335 | F7: 335
A8: 4. | B8: Prognozētais lēmumu skaits (fiksētie pārkāpumi, par kuriem tiek nosūtīts lēmums), gadā (iekārtu skaits x fiksētie pārkāpumi, par kuriem tiek nosūtīts lēmums (vidēji diennaktī) x darbības dienu skaits gadā) | C8: =ROUND(C5*C6*C7,0) -> 402 | D8: =ROUND(D5*D6*D7,0) -> 402 | E8: =ROUND(E5*E6*E7,0) -> 402 | F8: =ROUND(F5*F6*F7,0) -> 402
A9: 5. | B9: Vidējais svērtais naudas soda apmērs par 1 pārkāpumu, euro | C9: 500 | D9: 500 | E9: 500 | F9: 500
A10: 6. (4.x5.) | B10: Kopējā uzlikto naudas sodu summa, euro | C10: =ROUND(C8*C9,0) -> 201000 | D10: =ROUND(D8*D9,0) -> 201000 | E10: =ROUND(E8*E9,0) -> 201000 | F10: =ROUND(F8*F9,0) -> 201000
A11: 7. | B11: Valsts pamatbudžeta ieņēmumus koriģējošais koeficients | C11: 0.4 | D11: 0.4 | E11: 0.36 | F11: 0.38
A12: 8. (6 x7.) | B12: Prognozēto valsts pamatbudžeta ieņēmumu no naudas sodiem summa, euro (ņemot vērā ieņēmumu nobīdi, nesamaksāšanas un citu risku koriģējošo koeficientu ) | C12: =ROUND(C10*C11,0) -> 80400 | D12: =ROUND(D10*D11,0) -> 80400 | E12: =ROUND(E10*E11,0) -> 72360 | F12: =ROUND(F10*F11,0) -> 76380
A13: 9. | B13: Saskaņā ar MK 02.11.2021. rīkojumu Nr.775 | C13: 0 | D13: 0 | E13: 0 | F13: 0
A14: 10. (8.-9.) | B14: Papildu ieņēmumi (+) vai ieņēmumu samazinājums (-) | C14: =C12-C13 -> 80400 | D14: =D12-D13 -> 80400 | E14: =E12-E13 -> 72360 | F14: =F12-F13 -> 76380

Sheet IEŅ fotoradari ātrums
E1: 6.tabula
A2: Prognozētie valsts pamatbudžeta IEŅĒMUMI no naudas sodiem, kas fiksēti ar komersanta tehniskajiem līdzekļiem Naudas sods par atļautā braukšanas ātruma pārsniegšanu (Valsts akciju sabiedrība "Ceļu satiksmes drošības direkcija") Transportlīdzekļu braukšanas ātruma kontroles mērierīces (fotoradars)
A4: Nr.p.k. | B4: Rādītāji | C4: 2023 | D4: 2024 | E4: 2025 | F4: 2026 un turpmāk ik gadu
A5: 1. | B5: Darbojošos iekārtu skaits - vidēji gadā | C5: 100 | D5: 100 | E5: 100 | F5: x
A6: 2. | B6: Prognozētie vienas iekārtas fiksētie pārkāpumi, par kuriem tiek nosūtīts lēmums (vidēji diennaktī) | C6: 7 | D6: 6 | E6: 6
A7: 3. | B7: Vidējais iekārtas darbības dienu skaits gadā, ņemot vērā iespējamo dīkstāvi tehnisku u.c. iemeslu dēļ (365 dienas - 25 dienas dīkstāve = 340 dienas) | C7: 340 | D7: 340 | E7: 340
A8: 4. | B8: Prognozētais lēmumu skaits (fiksētie pārkāpumi, par kuriem tiek nosūtīts lēmums), gadā (iekārtu skaits x fiksētie pārkāpumi, par kuriem tiek nosūtīts lēmums (vidēji diennaktī) x darbības dienu skaits gadā) | C8: =ROUND(C5*C6*C7,0) -> 238000 | D8: =ROUND(D5*D6*D7,0) -> 204000 | E8: =ROUND(E5*E6*E7,0) -> 204000
A9: 5. | B9: Vidējais svērtais naudas soda apmērs par 1 pārkāpumu, euro | C9: 40 | D9: 40 | E9: 40
A10: 6. (4.x5.) | B10: Kopējā uzlikto naudas sodu summa, euro | C10: =ROUND(C8*C9,0) -> 9520000 | D10: =ROUND(D8*D9,0) -> 8160000 | E10: =ROUND(E8*E9,0) -> 8160000
A11: 7. | B11: Valsts pamatbudžeta ieņēmumus koriģējošais koeficients | C11: 0.6 | D11: 0.6 | E11: 0.6
A12: 8. (6 x7.) | B12: Prognozēto valsts pamatbudžeta ieņēmumu no naudas sodiem summa, euro (ņemot vērā ieņēmumu nobīdi, nesamaksāšanas un citu risku koriģējošo koeficientu ) | C12: =ROUND(C10*C11,0) -> 5712000 | D12: =ROUND(D10*D11,0) -> 4896000 | E12: =ROUND(E10*E11,0) -> 4896000 | F12: x
A13: 9. | B13: Saskaņā ar MK 02.11.2021. rīkojumu Nr.775 | C13: 4167475 | D13: 2976768 | E13: 1984512 | F13: 0
A14: 10. (8.-9.) | B14: Papildu ieņēmumi (+) vai ieņēmumu samazinājums (-) | C14: =C12-C13 -> 1544525 | D14: =D12-D13 -> 1919232 | E14: =E12-E13 -> 2911488 | F14: x

Sheet IEŅ KOPĀ
J1: 7.tabula
A2: Prognozētie valsts pamatbudžeta IEŅĒMUMI no naudas sodiem, kas fiksēti ar komersanta tehniskajiem līdzekļiem ( ieņēmumu kods 10.1.5.2. Naudas sodi, ko uzliek Valsts policija par pārkāpumiem ceļu satiksmē, kas fiksēti ar komersanta tehniskajiem līdzekļiem)
A3: Nr.p.k. | B3: Rādītāji | C3: 2023 sask. ar MK rīk. Nr.775 | D3: 2023 prec | E3: 2024 sask. ar MK rīk. Nr.775 | F3: 2024 prec | G3: 2025 sask. ar MK rīk. Nr.775 | H3: 2025 prec | I3: 2026 un turpmāk ik gadu sask. ar MK rīk. Nr.775 | J3: 2026 un turpmāk ik gadu prec
A4: 1. | B4: Ieņēmumi no naudas sodiem, kas fiksēti ar VSIA "Latvijas valsts ceļi" tehniskajiem līdzekļiem (vidējā braukšanas ātruma mērīšanas sistēmas) | C4: ='IEŅ P2P ātrums'!C14+'IEŅ P2P tehn. apskate'!C13+'IEŅ P2P OCTA'!C13+'IEŅ P2P vinjete'!C13 -> 1387513 | D4: ='IEŅ P2P ātrums'!C13+'IEŅ P2P tehn. apskate'!C12+'IEŅ P2P OCTA'!C12+'IEŅ P2P vinjete'!C12 -> 2615488 | E4: ='IEŅ P2P ātrums'!D14+'IEŅ P2P tehn. apskate'!D13+'IEŅ P2P OCTA'!D13+'IEŅ P2P vinjete'!D13 -> 1097558 | F4: ='IEŅ P2P ātrums'!D13+'IEŅ P2P tehn. apskate'!D12+'IEŅ P2P OCTA'!D12+'IEŅ P2P vinjete'!D12 -> 2817332 | G4: ='IEŅ P2P ātrums'!E14+'IEŅ P2P tehn. apskate'!E13+'IEŅ P2P OCTA'!E13+'IEŅ P2P vinjete'!E13 -> 806178 | H4: ='IEŅ P2P ātrums'!E13+'IEŅ P2P tehn. apskate'!E12+'IEŅ P2P OCTA'!E12+'IEŅ P2P vinjete'!E12 -> 2004959 | I4: ='IEŅ P2P ātrums'!F14+'IEŅ P2P tehn. apskate'!F13+'IEŅ P2P OCTA'!F13+'IEŅ P2P vinjete'!F13 -> 806178 | J4: ='IEŅ P2P ātrums'!F13+'IEŅ P2P tehn. apskate'!F12+'IEŅ P2P OCTA'!F12+'IEŅ P2P vinjete'!F12 -> 2099092
A5: 2. | B5: Ieņēmumi no naudas sodiem, kas fiksēti ar VSIA "Latvijas valsts ceļi" tehniskajiem līdzekļiem (meteostacijas) | C5: 0 | D5: ='IEŅ metostac vinjete'!C12 -> 80400 | E5: 0 | F5: ='IEŅ metostac vinjete'!D12 -> 80400 | G5: 0 | H5: ='IEŅ metostac vinjete'!E12 -> 72360 | I5: 0 | J5: ='IEŅ metostac vinjete'!F12 -> 76380
A6: 3. | B6: Ieņēmumi no naudas sodiem, kas fiksēti ar VAS "Ceļu satiksmes drošības direkcija" tehniskajiem līdzekļiem (braukšanas ātruma kontroles mērierīces (fotoradari)) | C6: ='IEŅ fotoradari ātrums'!C13 -> 4167475 | D6: ='IEŅ fotoradari ātrums'!C12 -> 5712000 | E6: ='IEŅ fotoradari ātrums'!D13 -> 2976768 | F6: ='IEŅ fotoradari ātrums'!D12 -> 4896000 | G6: ='IEŅ fotoradari ātrums'!E13 -> 1984512 | H6: ='IEŅ fotoradari ātrums'!E12 -> 4896000 | I6: 0 | J6: 0
B7: KOPĀ | C7: =C4+C5+C6 -> 5554988 | D7: =D4+D5+D6 -> 8407888 | E7: =E4+E5+E6 -> 4074326 | F7: =F4+F5+F6 -> 7793732 | G7: =G4+G5+G6 -> 2790690 | H7: =H4+H5+H6 -> 6973319 | I7: =I4+I5+I6 -> 806178 | J7: =J4+J5+J6 -> 2175472
B8: Palielinājums | D8: =D7-C7 -> 2852900 | F8: =F7-E7 -> 3719406 | H8: =H7-G7 -> 4182629 | J8: =J7-I7 -> 1369294

Sheet Statistika lēmumi
J1: 8.tabula
B2: Informācija par prognozēto lēmumu skaitu, saistībā ar par pārkāpumiem ceļu satiksmē, kas fiksēti ar komersanta tehniskajiem līdzekļiem un Valsts policijas tehniskajiem līdzekļiem
B4: Rādītāji | C4: 2023 sask. ar MK rīk. Nr.775 | D4: 2023 prec | E4: 2024 sask. ar MK rīk. Nr.775 | F4: 2024 prec | G4: 2025 sask. ar MK rīk. Nr.775 | H4: 2025 prec | I4: 2026 un turpmāk ik gadu sask. ar MK rīk. Nr.775 | J4: 2026 un turpmāk ik gadu prec
B5: Pavisam lēmumu skaits (1.+2.) | C5: =C6+C15 -> 190400 | D5: =D6+D15 -> 373826 | E5: =E6+E15 -> 140080 | F5: =F6+F15 -> 340183 | G5: =G6+G15 -> 96560 | H5: =H6+H15 -> 306723 | I5: =I6+I15 -> 28560 | J5: =J6+J15 -> 102723
B6: 1. Lēmumu skaits (pārkāpumi fiksēti ar komersanta tehniskajiem līdzekļiem), tajā skaitā | C6: =142800+19040+28560 -> 190400 | D6: ='IEŅ P2P ātrums'!C9+'IEŅ P2P tehn. apskate'!C8+'IEŅ P2P OCTA'!C8+'IEŅ P2P vinjete'!C8+'IEŅ metostac vinjete'!C8+'IEŅ fotoradari ātrums'!C8 -> 305576 | E6: =102000+14280+23800 -> 140080 | F6: ='IEŅ P2P ātrums'!D9+'IEŅ P2P tehn. apskate'!D8+'IEŅ P2P OCTA'!D8+'IEŅ P2P vinjete'!D8+'IEŅ metostac vinjete'!D8+'IEŅ fotoradari ātrums'!D8 -> 277888 | G6: =68000+19040+9520 -> 96560 | H6: ='IEŅ P2P ātrums'!E9+'IEŅ P2P tehn. apskate'!E8+'IEŅ P2P OCTA'!E8+'IEŅ P2P vinjete'!E8+'IEŅ metostac vinjete'!E8+'IEŅ fotoradari ātrums'!E8 -> 251088 | I6: =9520+19040 -> 28560 | J6: ='IEŅ P2P ātrums'!F9+'IEŅ P2P tehn. apskate'!F8+'IEŅ P2P OCTA'!F8+'IEŅ P2P vinjete'!F8+'IEŅ metostac vinjete'!F8+'IEŅ fotoradari ātrums'!F8 -> 47088
B7: ātrums, tajā skaitā | D7: =D8+D9 -> 286240 | F7: =F8+F9 -> 257600 | H7: =H8+H9 -> 236160 | J7: =J8+J9 -> 32160
B8: P2P ātrums (LVC) | D8: ='IEŅ P2P ātrums'!C9 -> 48240 | F8: ='IEŅ P2P ātrums'!D9 -> 53600 | H8: ='IEŅ P2P ātrums'!E9 -> 32160 | J8: ='IEŅ P2P ātrums'!F9 -> 32160
B9: fotoradari ātrums (CSDD) | D9: ='IEŅ fotoradari ātrums'!C8 -> 238000 | F9: ='IEŅ fotoradari ātrums'!D8 -> 204000 | H9: ='IEŅ fotoradari ātrums'!E8 -> 204000 | J9: 0
B10: pārējie, tajā skaitā | D10: =D11+D12+D13+D14 -> 19336 | F10: =F11+F12+F13+F14 -> 20288 | H10: =H11+H12+H13+H14 -> 14928 | J10: =J11+J12+J13+J14 -> 14928
B11: P2P tehniskā apskate (LVC) | D11: ='IEŅ P2P tehn. apskate'!C8 -> 2854 | F11: ='IEŅ P2P tehn. apskate'!D8 -> 3806 | H11: ='IEŅ P2P tehn. apskate'!E8 -> 3806 | J11: ='IEŅ P2P tehn. apskate'!F8 -> 3806
B12: P2P OCTA (LVC) | D12: ='IEŅ P2P OCTA'!C8 -> 12060 | F12: ='IEŅ P2P OCTA'!D8 -> 10720 | H12: ='IEŅ P2P OCTA'!E8 -> 5360 | J12: ='IEŅ P2P OCTA'!F8 -> 5360
B13: P2P vinjete (LVC) | D13: ='IEŅ P2P vinjete'!C8 -> 4020 | F13: ='IEŅ P2P vinjete'!D8 -> 5360 | H13: ='IEŅ P2P vinjete'!E8 -> 5360 | J13: ='IEŅ P2P vinjete'!F8 -> 5360
B14: Metostacijas vinjete (LVC) | D14: ='IEŅ metostac vinjete'!C8 -> 402 | F14: ='IEŅ metostac vinjete'!D8 -> 402 | H14: ='IEŅ metostac vinjete'!E8 -> 402 | J14: ='IEŅ metostac vinjete'!F8 -> 402
B15: 2. Lēmumu skaits (pārkāpumi fiksēti ar Valsts policijas tehniskajiem līdzekļiem), tajā skaitā | D15: =D16+D17 -> 68250 | F15: =F16+F17 -> 62295 | H15: =H16+H17 -> 55635 | J15: =J16+J17 -> 55635
B16: pārvietojamie fotoradai (VP) | D16: 49920 | F16: 46080 | H16: 42240 | J16: 42240
B17: EUNOMIA sistēmas jeb 360 grādu kameras (VP) | D17: 18330 | F17: 16215 | H17: 13395 | J17: 13395

Sheet Statistika P2P
N1: 9.tabula
A2: Vidējā braukšanas ātruma kontroles posmu statistika (prognoze)
I3: Pārkāpumu skaits diennaktī (prognoze)
A4: Nr. | B4: AutoCeļš* | C4: no km | D4: līdz km | E4: Garums, km | F4: Plānotais darba uzsākš. Laiks | G4: Satiksmes intensitāte, transportlīdzekļi diennaktī | H4: Kravas transportlīdzekļu īpatsvars, % | I4: Vidējais ātrums | J4: Tehniskā apskate | K4: OCTA | L4: Vinjete | M4: Darbojošos mēnešu skaits 2023. gadā | N4: Vidējais darbojošos iekārtu skaits 2023. gadā
A5: 1 | B5: A7 | C5: 24.24 | D5: 40.1 | E5: 15.86 | F5: 44986 | G5: 12011 | H5: 0.347 | I5: =ROUND($G5*$D$24,2) -> 10.81 | J5: =ROUND($G5*$D$25,2) -> 1.2 | K5: =ROUND($G5*$D$26,2) -> 1.2 | L5: =ROUND($G5*$D$27*H5,2) -> 2.5 | M5: 10
A6: 2 | B6: A9 | C6: 157.2 | D6: 169.65 | E6: 12.45 | F6: 44958 | G6: 4610 | H6: 0.32 | I6: =ROUND($G6*$D$24,2) -> 4.15 | J6: =ROUND($G6*$D$25,2) -> 0.46 | K6: =ROUND($G6*$D$26,2) -> 0.46 | L6: =ROUND($G6*$D$27*H6,2) -> 0.89 | M6: 11
A7: 3 | B7: A13 | C7: 81.75 | D7: 88.46 | E7: 6.71 | F7: 44958 | G7: 2280 | H7: 0.4 | I7: =ROUND($G7*$D$24,2) -> 2.05 | J7: =ROUND($G7*$D$25,2) -> 0.23 | K7: =ROUND($G7*$D$26,2) -> 0.23 | L7: =ROUND($G7*$D$27*H7,2) -> 0.55 | M7: 11
A8: 4 | B8: P30 | C8: 22.075 | D8: 29.15 | E8: 7.075 | F8: 44986 | G8: 8300 | H8: 0.03 | I8: =ROUND($G8*$D$24,2) -> 7.47 | J8: =ROUND($G8*$D$25,2) -> 0.83 | K8: =ROUND($G8*$D$26,2) -> 0.83 | L8: =ROUND($G8*$D$27*H8,2) -> 0.15 | M8: 10
A9: 5 | B9: A5 | C9: 23 | D9: 28.69 | E9: 5.69 | F9: 44986 | G9: 13324 | H9: 0.2 | I9: =ROUND($G9*$D$24,2) -> 11.99 | J9: =ROUND($G9*$D$25,2) -> 1.33 | K9: =ROUND($G9*$D$26,2) -> 1.33 | L9: =ROUND($G9*$D$27*H9,2) -> 1.6 | M9: 10
A10: 6 | B10: A1 | C10: 13.44 | D10: 20.035 | E10: 6.595 | F10: 44986 | G10: 6814 | H10: 0.33 | I10: =ROUND($G10*$D$24,2) -> 6.13 | J10: =ROUND($G10*$D$25,2) -> 0.68 | K10: =ROUND($G10*$D$26,2) -> 0.68 | L10: =ROUND($G10*$D$27*H10,2) -> 1.35 | M10: 10
A11: 7 | B11: A3 | C11: 36.205 | D11: 38.85 | E11: 2.645 | F11: 44986 | G11: 5350 | H11: 0.33 | I11: =ROUND($G11*$D$24,2) -> 4.82 | J11: =ROUND($G11*$D$25,2) -> 0.54 | K11: =ROUND($G11*$D$26,2) -> 0.54 | L11: =ROUND($G11*$D$27*H11,2) -> 1.06 | M11: 10
A12: 8 | B12: A10 | C12: 24 | D12: 30.8 | E12: 6.8 | F12: 45017 | G12: 11685 | H12: 0.2 | I12: =ROUND($G12*$D$24,2) -> 10.52 | J12: =ROUND($G12*$D$25,2) -> 1.17 | K12: =ROUND($G12*$D$26,2) -> 1.17 | L12: =ROUND($G12*$D$27*H12,2) -> 1.4 | M12: 9
A13: 9 | B13: A2 | C13: 54.4 | D13: 62.23 | E13: 7.83 | F13: 45017 | G13: 11580 | H13: 0.21 | I13: =ROUND($G13*$D$24,2) -> 10.42 | J13: =ROUND($G13*$D$25,2) -> 1.16 | K13: =ROUND($G13*$D$26,2) -> 1.16 | L13: =ROUND($G13*$D$27*H13,2) -> 1.46 | M13: 9
A14: 10 | B14: A6 | C14: 150.22 | D14: 159.65 | E14: 9.43 | F14: 45047 | G14: 3957 | H14: 0.22 | I14: =ROUND($G14*$D$24,2) -> 3.56 | J14: =ROUND($G14*$D$25,2) -> 0.4 | K14: =ROUND($G14*$D$26,2) -> 0.4 | L14: =ROUND($G14*$D$27*H14,2) -> 0.52 | M14: 8
A15: 11 | B15: A6 | C15: 133.3 | D15: 139.2 | E15: 5.9 | F15: 45047 | G15: 7394 | H15: 0.24 | I15: =ROUND($G15*$D$24,2) -> 6.65 | J15: =ROUND($G15*$D$25,2) -> 0.74 | K15: =ROUND($G15*$D$26,2) -> 0.74 | L15: =ROUND($G15*$D$27*H15,2) -> 1.06 | M15: 8
A16: 12 | B16: A9 | C16: 26 | D16: 38.15 | E16: 12.15 | F16: 45047 | G16: 7311 | H16: 0.24 | I16: =ROUND($G16*$D$24,2) -> 6.58 | J16: =ROUND($G16*$D$25,2) -> 0.73 | K16: =ROUND($G16*$D$26,2) -> 0.73 | L16: =ROUND($G16*$D$27*H16,2) -> 1.05 | M16: 8
... A20: 16 | B20: A10 | C20: 134.9 | D20: 140.8 | E20: 5.9 | F20: 45078 | G20: 2600 | H20: 0.24 | I20: =ROUND($G20*$D$24,2) -> 2.34 | J20: =ROUND($G20*$D$25,2) -> 0.26 | K20: =ROUND($G20*$D$26,2) -> 0.26 | L20: =ROUND($G20*$D$27*H20,2) -> 0.37 | M20: 7
H21: Kopā | I21: =SUM(I5:I20) -> 102.4 | J21: =SUM(J5:J20) -> 11.38 | K21: =SUM(K5:K20) -> 11.38 | L21: =SUM(L5:L20) -> 16.47 | M21: =SUM(M5:M20) -> 144 | N21: =M21/12 -> 12
H22: vidēji uz vienu iekārtu | I22: =ROUND(I21/16,0) -> 6 | J22: =ROUND(J21/16,2) -> 0.71 | K22: =ROUND(K21/16,0) -> 1 | L22: =ROUND(L21/16,0) -> 1 | M22: x | N22: x
B23: Pārkāpēju procents (% no kopējās plūsmas)
B24: Vidējais ātrums | D24: 0.0009 | H24: 2023. gadam ar koef. 2,00 | I24: =I22*2 -> 12 | J24: 2023. gadam ar koef. 3,00 | K24: =K22*3 -> 3
B25: Tehniskā apskate | D25: 0.0001 | H25: 2024. gadam ar koef. 1,66 | I25: =ROUND(I22*1.66,0) -> 10 | J25: 2024. gadam ar koef. 2,00 | K25: =K22*2 -> 2
B26: OCTA | D26: 0.0001 | H26: 2025. gadam ar koef. 1,00 | I26: =I22*1 -> 6 | J26: 2025. gadam ar koef. 1,00 | K26: =K22*1 -> 1
B27: Vinjete | D27: 0.0006 | H27: 2026. gadam ar koef. 1,00 | I27: =I22*1 -> 6 | J27: 2026. gadam ar koef. 1,00 | K27: =K22*1 -> 1
A29: Piezīme: * auto ceļi un to posmi var tikt mainīti atbilstoši faktiskajiem apstākļiem.

Sheet Statistika Meteo
G1: 10.tabula
B2: Ceļu meteostaciju tehniskais aprīkojuma vinješu kontrolei statistika (prognoze)
A4: Nr. | B4: AutoCeļš* | C4: no km | D4: Plānotais darba uzsākš. Laiks | E4: Satiksmes intensitāte, transportlīdzekļi diennaktī | F4: Kravas transportlīdzekļu īpatsvars, % | G4: Pārkāpumu skaits diennaktī
A5: 1 | B5: A2 | C5: 27 | D5: 44927 | E5: 15000 | F5: 0.2 | G5: =ROUND($E5*D12*F5,2) -> 0.3
A6: 2 | B6: A4 | C6: 7.5 | D6: 44927 | E6: 12038 | F6: 0.35 | G6: =ROUND($E6*D12*F6,2) -> 0.42
A7: 3 | B7: A9 | C7: 13 | D7: 44927 | E7: 8300 | F7: 0.28 | G7: =ROUND($E7*D12*F7,2) -> 0.23
A8: 4 | B8: P80 | C8: 13 | D8: 44927 | E8: 5000 | F8: 0.45 | G8: =ROUND($E8*D12*F8,2) -> 0.23
F9: Kopā | G9: =SUM(G5:G8) -> 1.18
F10: vidēji uz vienu iekārtu | G10: =ROUND(G9/4,2) -> 0.3
B11: Pārkāpēju procents (% no kopējās plūsmas)
B12: Vinjete | D12: 0.0001
A14: Piezīme: * auto ceļi un to posmi var tikt mainīti atbilstoši faktiskajiem apstākļiem.
