Workbook

Sheet Kopsavilkums
A1: Pielikums Ministru kabineta rīkojuma projekta "Par apropriācijas pārdali no budžeta resora "74. Gadskārtējā valsts budžeta izpildes procesā pārdalāmais finansējums" programmas 17.00.00 "Finansējums Ukrainas civiliedzīvotāju atbalsta likumā noteikto pasākumu īstenošanai"" sākotnējās ietekmes novērtējuma ziņojumam (anotācijai)
E2: 25-TA-2470
A3: Psiholoģiskā atbalsta kursa sniegšana Ukrainas Valsts robežsardzes dienesta un Ukrainas Valsts ārkārtējo situāciju dienesta amatpersonām
A4: IZDEVUMU KOPSAVILKUMS
A5: Psiholoģiskā atbalsta kursa norises laikposms: | B5: no 2025.gada 8.septembra līdz 2025.gada 19.septembrim
A6: Faktiskais skaits: | B6: 38 dalībnieki
A7: 1. Iekšlietu ministrijas veselības un sporta centrs
A8: Iekšlietu ministrijas budžeta apakšprogramma 38.05.00 "Veselības aprūpe un fiziskā sagatavotība"
A9: Nosaukums | B9: EKK* | C9: Izdevumi, euro | D9: Pamatojums** | E9: Aprēķins
A10: Atlīdzība | B10: 1000 | C10: =ROUND('1.tabula_VSC'!P21,0) -> 1851 | D10: IeMVSC 25.09.2025 rīkojums Nr. 28/1.1.1-22/110 | E10: 1.tabulā
A11: Preces un pakalpojumi | B11: 2000 | C11: =ROUND(C12+C13,0) -> 13084
A12: Ēdināšana | B12: 2239 | C12: ='2.tabula_VSC'!E25 -> 11743.8 | D12: SIA CNC, līgums Nr.28/1.1.1-42/26 rēķins: - NR.16533, 22.09.2025, periods: 8.09.-19.09.2025, summa 11 743.80 euro | E12: 2.tabulā
A13: Peldbaseina apmeklējumi | B13: 2261 | C13: ='3.tabula_VSC'!D14 -> 1340 | D13: SIA BBH Investments, līgums 28/1.1.1-42/37 (2025.gads) rēķins: - Nr. 15840, 23.09.2025, periods: 10.09.-18.09.2025, summa 1340.00 euro | E13: 3.tabulā
A14: Kopā: | C14: =C10+C11 -> 14935
A16: 2. Nodrošinājuma valsts aģentūra
A17: Iekšlietu ministrijas budžeta apakšprogramma 40.02.00 “Nekustamais īpašums un centralizētais iepirkums”
A18: Nosaukums | B18: EKK* | C18: Izdevumi, euro | D18: Pamatojums** | E18: Aprēķins
A19: Preces un pakalpojumi (Viesnīcas pakalpojumi) | B19: 2000 | C19: =ROUNDUP('4.tabula_NVA'!G11,0) -> 14276 | D19: Kursa dalībnieku viesnīcas pakalpojumu izdevumu segšana | E19: 4.tabulā
A20: Kopā: | C20: =ROUNDUP(C19,0) -> 14276
A22: 3. Valsts ugunsdzēsības un glābšanas dienests
A23: Iekšlietu ministrijas budžeta programma 07.00.00 „Ugunsdrošība, glābšana un civilā aizsardzība”
A24: Nosaukums | B24: EKK* | C24: Izdevumi, euro | D24: Pamatojums** | E24: Aprēķins
A25: Preces un pakalpojumi | B25: 2000 | C25: =ROUND(SUM(C26:C28),0) -> 968
A26: Komandējuma izdevumi | B26: 2120 | C26: ='5.tabula_VUGD'!D9 -> 474.9 | D26: skatīt 5. tabulā | E26: 5.tabulā
A27: Ēdināšana | B27: 2231 | C27: ='5.tabula_VUGD'!D15 -> 440
A28: Reprezentācijas priekšmeti | B28: 2314 | C28: ='5.tabula_VUGD'!D16 -> 53.025
A29: Kopā: | C29: =C25 -> 968
A31: Pavisam (1.+2.) | C31: =C14+C20+C29 -> 30179
A33: * budžetu izdevumu klasifikācijas kods atbilstoši ekonomiskajām kategorijām
A34: ** Iekšlietu ministrijas 2025. gada 13. augusta rīkojums Nr.1-2/997/25 “Par psiholoģiskā atbalsta kursa organizēšanu Ukrainas dienestu amatpersonām”

Sheet 1.tabula_VSC
R1: 1.tabula
A2: Psiholoģiskā atbalsta kursa sniegšana Ukrainas Valsts robežsardzes dienesta un Ukrainas Valsts ārkārtējo situāciju dienesta amatpersonām
A3: Iekšlietu ministrijas veselības un sporta centra Nodaļa "Dzintari"
A4: Iekšlietu ministrijas budžeta apakšprogramma 38.05.00 "Veselības aprūpe un fiziskā sagatavotība"
A5: Pasākuma norises laiks: no 2025.gada 8.septembra līdz 2025.gada 19.septembrim
A6: 1. Atlīdzība - piemaksa par papildu darbu
A7: Nr.p.k. | B7: Amats | C7: Amata klasifikācija (saime un apakšsaime) | D7: Mēnešalgu grupa | E7: Mēnesis | F7: Plānotais darba dienu /stundu skaits mēnesī | H7: Slodze | I7: Mēnešalga, euro | J7: Likme, euro 1 | K7: Procenti | L7: Piemaksa pilnam mēnesim (EKK 11471) Valsts un pašvaldību institūciju amatpersonu un darbinieku atlīdzības likuma 14.panta 1. daļa, euro | M7: Faktiski nostrādāto dienu/stundu skaits kursa laikā | O7: Faktiskias piemaksas apmērs no 08.09.2025.-19.09.2025., euro (EKK 1100) | P7: Darba devēja VSAOI (EKK 1210) euro; likme: 23,59% (EKK 1210) | Q7: Izmaksas saraksta numurs | R7: Izmaksas mēnesis
A8: 1 | B8: 2 | C8: 3 | D8: 4 | E8: 5 | F8: 6 | H8: 7 | I8: 8 | J8: 9 | K8: 10 | L8: 11 | M8: 12 | O8: 13=11/6x12 | P8: 14 | Q8: 15 | R8: 16
A9: 1 | B9: Vecākais sporta speciālists | C9: 44. | D9: 9 | E9: septembris | G9: 88 | H9: 0.5 | I9: 1300 | J9: 7.85498 | K9: 0.3 | L9: =ROUND(J9*G9*K9,32) -> 207.37147 | N9: 16 | O9: =ROUND(L9/G9*N9,2) -> 37.7 | P9: =ROUND(O9*23.59/100,2) -> 8.89 | Q9: 100 | R9: septembris
A10: 2 | B10: ADMINISTRATORS | C10: 25. | D10: 7 | E10: septembris | F10: 22 | H10: 1 | I10: 1000 | J10: =ROUND(I10*H10,2) -> 1000 | K10: 0.3 | L10: =ROUND(J10*K10,2) -> 300 | M10: 9 | O10: =ROUND(L10/F10*M10,2) -> 122.73 | P10: =ROUND(O10*23.59/100,2) -> 28.95 | Q10: 100 | R10: septembris
A11: 3 | B11: PSIHOLOGS | C11: 43.2 | D11: 9 | E11: septembris | G11: 88 | H11: 0.5 | I11: 1400 | J11: =ROUND(I11*H11,0) -> 700 | K11: 0.3 | L11: =ROUND(J11*K11,2) -> 210 | N11: 40 | O11: =ROUND(L11/G11*N11,2) -> 95.45 | P11: =ROUND(O11*23.59/100,2) -> 22.52 | Q11: 100 | R11: septembris
A12: 4 | B12: PSIHOLOGS | C12: 43.2 | D12: 9 | E12: septembris | G12: 88 | H12: 0.5 | I12: 1400 | J12: =ROUND(I12*H12,0) -> 700 | K12: 0.3 | L12: =ROUND(J12*K12,2) -> 210 | N12: 40 | O12: =ROUND(L12/G12*N12,2) -> 95.45 | P12: =ROUND(O12*23.59/100,2) -> 22.52 | Q12: 100 | R12: septembris
A13: 5 | B13: Vecākais sporta speciālists | C13: 44. | D13: 9 | E13: septembris | G13: 132 | H13: 0.75 | I13: 1300 | J13: 7.85498 | K13: 0.3 | L13: =ROUND(J13*G13*K13,32) -> 311.05721 | N13: 60 | O13: =ROUND(L13/G13*N13,2) -> 141.39 | P13: =ROUND(O13*23.59/100,2) -> 33.35 | Q13: 100 | R13: septembris
A14: 6 | B14: PSIHOLOGS, Nodaļas vadītājas vietniece | C14: 43.2 | D14: 10 | E14: septembris | F14: 22 | H14: 1 | I14: 1600 | J14: =ROUND(I14*H14,2) -> 1600 | K14: 0.3 | L14: =ROUND(J14*K14,2) -> 480 | M14: 10 | O14: =ROUND(L14/F14*M14,2) -> 218.18 | P14: =ROUND(O14*23.59/100,2) -> 51.47 | Q14: 100 | R14: septembris
A15: 7 | B15: PSIHOLOGS | C15: 43.2 | D15: 9 | E15: septembris | G15: 88 | H15: 0.5 | I15: 1400 | J15: =ROUND(I15*H15,2) -> 700 | K15: 0.3 | L15: =ROUND(J15*K15,2) -> 210 | N15: 40 | O15: =ROUND(L15/G15*N15,2) -> 95.45 | P15: =ROUND(O15*23.59/100,2) -> 22.52 | Q15: 100 | R15: septembris
A16: 8 | B16: Vecākais sporta speciālists | C16: 44. | D16: 9 | E16: septembris | G16: 176 | H16: 1 | I16: 1300 | J16: 7.85498 | K16: 0.3 | L16: =ROUND(J16*G16*K16,32) -> 414.74294 | N16: 80 | O16: =ROUND(L16/G16*N16,2) -> 188.52 | P16: =ROUND(O16*23.59/100,2) -> 44.47 | Q16: 100 | R16: septembris
A17: 9 | B17: Vecākais sporta speciālists | C17: 44. | D17: 9 | E17: septembris | G17: 132 | H17: 0.75 | I17: 1300 | J17: 7.85498 | K17: 0.3 | L17: =ROUND(J17*G17*K17,32) -> 311.05721 | N17: 60 | O17: =ROUND(L17/G17*N17,2) -> 141.39 | P17: =ROUND(O17*23.59/100,2) -> 33.35 | Q17: 100 | R17: septembris
A18: 10 | B18: PSIHOLOGS | C18: 43.2 | D18: 9 | E18: septembris | G18: 88 | H18: 0.5 | I18: 1400 | J18: =ROUND(I18*H18,2) -> 700 | K18: 0.3 | L18: =ROUND(J18*K18,2) -> 210 | N18: 40 | O18: =ROUND(L18/G18*N18,2) -> 95.45 | P18: =ROUND(O18*23.59/100,2) -> 22.52 | Q18: 100 | R18: septembris
A19: 11 | B19: Nodaļas VADĪTĀJS | C19: 36 | D19: 11 | E19: septembris | F19: 22 | H19: 1 | I19: 1950 | J19: =ROUND(I19*H19,2) -> 1950 | K19: 0.3 | L19: =ROUND(J19*K19,2) -> 585 | M19: 10 | O19: =ROUND(L19/F19*M19,2) -> 265.91 | P19: =ROUND(O19*23.59/100,2) -> 62.73 | Q19: 100 | R19: septembris
A20: KOPĀ | E20: x | F20: x | G20: x | J20: x | K20: x | L20: x | M20: x | N20: x | O20: =SUM(O9:O19) -> 1497.62 | P20: =ROUND(SUM(P9:P19),2)-0.01 -> 353.28 | Q20: x | R20: x
N21: Kopā EKK 1000 | P21: =O20+P20 -> 1850.9
A22: 1 - Nodaļas "Dzintari" vecākajiem sporta speciālistiem noteikts summētais darba laiks, ar darba stundu likmi 7.8550 euro (septiņi euro un 85, komats, 50 centi)

Sheet 2.tabula_VSC
H1: 2. tabula
A2: Psiholoģiskā atbalsta kursa sniegšana Ukrainas Valsts robežsardzes dienesta un Ukrainas Valsts ārkārtējo situāciju dienesta amatpersonām
A3: Iekšlietu ministrijas veselības un sporta centrs
A4: Iekšlietu ministrijas budžeta apakšprogramma 38.05.00 "Veselības aprūpe un fiziskā sagatavotība"
A5: Pasākuma norises laiks: no 2025.gada 8.septembra līdz 2025.gada 19.septembrim
A6: Skaits: | B6: 38 dalībnieki
A7: 2. Ēdināšanas pakalpojumi
A8: Datums | B8: BROKASTIS | C8: PUSDIENAS | D8: VAKARIŅAS
A9: 45908 | B9: 38 | C9: 38 | D9: 38 | E9: =SUM(B9:D9) -> 114
A10: 45909 | B10: 38 | C10: 38 | D10: 38 | E10: =SUM(B10:D10) -> 114
A11: 45910 | B11: 38 | C11: 38 | D11: 38 | E11: =SUM(B11:D11) -> 114
A12: 45911 | B12: 38 | C12: 38 | D12: 38 | E12: =SUM(B12:D12) -> 114
A13: 45912 | B13: 38 | C13: 38 | D13: 38 | E13: =SUM(B13:D13) -> 114
A14: 45913 | B14: 38 | C14: 0 | D14: 38 | E14: =SUM(B14:D14) -> 76
A15: 45914 | B15: 38 | C15: 38 | D15: 38 | E15: =SUM(B15:D15) -> 114
A16: 45915 | B16: 38 | C16: 38 | D16: 38 | E16: =SUM(B16:D16) -> 114
A17: 45916 | B17: 37 | C17: 37 | D17: 37 | E17: =SUM(B17:D17) -> 111
A18: 45917 | B18: 37 | C18: 37 | D18: 37 | E18: =SUM(B18:D18) -> 111
A19: 45918 | B19: 37 | C19: 37 | D19: 37 | E19: =SUM(B19:D19) -> 111
A20: 45919 | B20: 37 | C20: 37 | D20: 37 | E20: =SUM(B20:D20) -> 111
A21: PORCIJAS | B21: =SUM(B9:B20) -> 452 | C21: =SUM(C9:C20) -> 414 | D21: =SUM(D9:D20) -> 452 | E21: =SUM(E9:E20) -> 1318
A22: CENA | B22: 6.22 | C22: 8.89 | D22: 7.11 | E22: =SUM(B22:D22) -> 22.22
A23: KOPĀ: | B23: =B21*B22 -> 2811.44 | C23: =C21*C22 -> 3680.46 | D23: =D21*D22 -> 3213.72 | E23: =SUM(B23:D23) -> 9705.62
D24: pvn 21% | E24: =E23*0.21 -> 2038.1802
D25: Kopā | E25: =E23+E24 -> 11743.8 | F25: Rēķins | G25: Nr. 16533, 22.09.2025, apmaksāts 29.09.2025

Sheet 3.tabula_VSC
H1: 3.tabula
A2: Psiholoģiskā atbalsta kursa sniegšana Ukrainas Valsts robežsardzes dienesta un Ukrainas Valsts ārkārtējo situāciju dienesta amatpersonām
A3: Iekšlietu ministrijas veselības un sporta centrs
A4: Iekšlietu ministrijas budžeta apakšprogramma 38.05.00 "Veselības aprūpe un fiziskā sagatavotība"
A5: Pasākuma norises laiks: no 2025.gada 8.septembra līdz 2025.gada 19.septembrim
A6: 3. Baseina apmeklējums
C7: Cena, euro | D7: 20
A8: Datums | B8: Baseina apmeklējuma laiks | C8: Maksimālais personu skaits vienā reizē | D8: Faktiskais skaits
A9: 45910 | B9: 10:00- 11:00 | C9: 20 | D9: 18
A10: 45911 | B10: 10:00- 11:00 | C10: 20 | D10: 20
A11: 45917 | B11: 10:00- 11:00 | C11: 20 | D11: 12
A12: 45918 | B12: 10:00- 11:00 | C12: 20 | D12: 17
A13: Kopā | C13: =SUM(C9:C12) -> 80 | D13: =SUM(D9:D12) -> 67
D14: =D13*D7 -> 1340 | E14: Rēķins | F14: Nr. 15840, 23.09.2025, apmaksa 26.09.2025;

Sheet 4.tabula_NVA
G1: 4.tabula
A2: Psiholoģiskā atbalsta kursa sniegšana Ukrainas Valsts robežsardzes dienesta un Ukrainas Valsts ārkārtējo situāciju dienesta amatpersonām
A3: Nodrošinājuma valsts aģentūra
A4: Iekšlietu ministrijas budžeta apakšprogramma 40.02.00 "Nekustamais īpašums un centralizētais iepirkums"
A5: Pasākuma norises laiks: no 2025.gada 8.septembra līdz 2025.gada 19.septembrim
A6: Skaits: | B6: 38 dalībnieki
A7: Viesnīcas pakalpojumu izdevumi
A8: Nr.p.k. | B8: Nosaukums | C8: Mērvienība | D8: Daudzums | E8: Izmantoto numuru skaits | F8: Summa euro ar PVN | G8: Summa euro kopā ar PVN | H8: EKK
A9: 1. | B9: 34 amatpersonām Divistabu divvietīgs numuri (telpa Nr. 1, 2, 3, 6, 11, 12, 13, 16, 17, 18, 19, 20, 21,23, 24, 25, 26) | C9: diennakts | D9: 11 | E9: 17 | F9: 68.52 | G9: =D9*E9*F9 -> 12813.24 | H9: 2000
A10: 2. | B10: 4 amatpersonām (telpa Nr.7 un 10) | C10: diennakts | D10: 11 | E10: 2 | F10: 66.45 | G10: =D10*E10*F10 -> 1461.9 | H10: 2000
B11: Izdevumi kopā | G11: =G9+G10 -> 14275.14
A12: Pamatojoties uz Ministru kabineta 2024. gada 18. jūnija noteikumu Nr. 371 “Nodrošinājuma valsts aģentūras maksas pakalpojumu cenrādis” Pielikuma 2.1.1. un 2.1.4. punktu.

Sheet 5.tabula_VUGD
E1: 5.tabula
A2: Psiholoģiskā atbalsta kursa sniegšana Ukrainas Valsts robežsardzes dienesta un Ukrainas Valsts ārkārtējo situāciju dienesta amatpersonām
A3: Valsts ugunsdzēsības un glābšanas dienests
A4: Iekšlietu ministrijas budžeta programma 07.00.00 „Ugunsdrošība, glābšana un civilā aizsardzība”
A5: Pasākuma norises laiks: no 2025.gada 8.septembra līdz 2025.gada 19.septembrim
A6: Valsts ugunsdzēsības un glābšanas dienesta izdevumi attiecībā uz Kursu Ukrainas Valsts ārkārtējo situāciju dienesta amatpersonām (20 personas)
A7: EKK | B7: Nosaukums | C7: Faktisko izdevumu aprēķins | D7: Izdevumi | E7: Attaisnojuma dokumenti*
A8: EKK 2000 | B8: Preces un pakalpojumi | D8: =D9+D13+D16 -> 967.925
A9: EKK 2100 | B9: Mācību, darba un dienesta komandējumi, darba braucieni | D9: =D10 -> 474.9
A10: EKK 2120 | B10: Ārvalstu mācību, darba un dienesta komandējumi, darba braucieni | C10: Valsts ugunsdzēsības un glābšanas dienesta pavadošai amatpersonai (kuratoram) - kursa dalībnieku sagaidīšana un pavadīšana | D10: =D11+D12 -> 474.9
A11: EKK 2121 | B11: Dienas nauda | C11: Dienas nauda, Polija: 2 braucieni x 1 persona x 3 dienas x 35,00 euro = 210,00 euro | D11: =2*(1*3*35) -> 210 | E11: 24.09.2025.maksājums Nr. 44473 - 105,00 euro 24.09.2025. maksājums Nr. 44471 - 105,00 euro
A12: EKK 2122 | B12: Pārējie komandējumu un darba braucienu izdevumi | C12: Apdrošināšana: 2 braucieni x 1 persona x 3 dienas x 1,15 euro = 6,90 euro Viesnīcas pakalpojumi: 1 persona x 1 nakts x 127 euro =127,00 euro 1 persona x 1 nakts x 131 euro =131,00 euro KOPĀ: 264,90 euro | D12: 264.9 | E12: 09.09.2025. maksājums Nr.42199 - 264, 90 euro CB Express Travel rēķins 02.09.2025. Nr 107412 Apdrošināšanas polise 06.09.25.- 08.09.25 Apdrošināšanas polise19.09.25.- 21.09.25 Viesnīcas kupons 06.09.25.- 08.09.25 Viesnīcas kupons 19.09.25.- 21.09.25
A13: EKK 2200 | B13: Pakalpojumi | D13: =D14 -> 440
A14: EKK 2230 | B14: Dažādi pakalpojumi | D14: =D15 -> 440
A15: EKK 2231 | B15: Izdevumi iestādes sabiedrisko aktivitāšu īstenošanai | C15: Ēdināšana pakalpojumi kursa dalīdniekiem, kuratoram un autovadītājam trīs muzeju apmaklējuma dienā (13.09.2025.): 22 personas x 20,00 euro = 440,00 euro | D15: =22*20 -> 440 | E15: 24.09.2025. maksājums Nr.44455 - 440,00 euro AS "LIDO" 13.09.2025. rēķins Nr. PAK16035959
A16: EKK 2300 | B16: Krājumi, materiāli, energoresursi, preces, biroja preces un inventārs, kurus neuzskaita kodā 5000 | D16: =D17 -> 53.025
A17: EKK 2310 | B17: Izdevumi par dažādām precēm un inventāru | D17: =D18 -> 53.025
A18: EKK 2314 | B18: Izdevumi par precēm iestādes sabiedrisko aktivitāšu īstenošanai | C18: Reprezentācijas priekšmeti (kursa dalībniekiem un kuratoram): Maisiņi papīra ar logo 21 gab. x 2,41 euro =50,61euro Pildspalvas 21 gab. x 0,115 euro = 2,42 euro | D18: =2.41*21+0.115*21 -> 53.025 | E18: 30.09.2025. izsniegšanas lapa Nr.22/2-7.21/8363 10.03.2025. maksājums Nr.13543 Pro-Baltic 21.02.2025. rēķins Nr.PB250214 19.02.2025. maksājums Nr.09858 Lotos 30.01.2025. rēķins Nr.2500607 LOT
