Workbook

Sheet Saturs
B1: 8.pielikums
B2: Ministru kabineta noteikumu projekta "Noteikumi par Sociālās integrācijas
B3: valstas aģentūras sniegto maksas pakalpojumu cenrādi"
B4: sākotnējās ietekmes novērtējuma ziņojumam (anotācijai)
A10: Satura rādītājs
A13: 7.1. | B13: Viena vieta automobilim maksas stāvvietā, 1 mēnesis
A14: 7.2. | B14: Viena vieta autobusam maksas stāvvietā, 1 mēnesis
A15: 7.3. | B15: Autobusa (septiņas vietas) iznomāšana ar šoferi vismaz uz četrām stundām, 1 stunda
A16: 7.3.1. | B16: Autobusa (septiņas vietas) iznomāšana ar šoferi, 1 diennakts
A17: 7.3.2. | B17: Papildus par katru kilometru virs 100 km
A18: 7.4. | B18: Vieglā automobiļa (līdz 3,5 t) iznomāšana ar šoferi klientiem nobraukumam līdz 50 km, līdz 2 stundām
A19: 7.4.1. | B19: Papildus par katru kilometru virs 50 km
A20: 7.4.2. | B20: Laiks virs 2 stundām
A21: 7.5.1. | B21: Transportlīdzekļa vadītāja teorijas mācību kursa 1 mācību stunda (45 min)
A22: 7.5.2. | B22: Transportlīdzekļa vadītāja teorijas mācību kurss (1 kurss , 57 mācību stundas)
A23: 7.5.3. | B23: Atkārtots eksāmens teorijā, 1 stunda (60 min)
A24: 7.6.1. | B24: Transportlīdzekļa vadītāja praktiskas braukšanas kursa 1 mācību stunda
A25: 7.6.2. | B25: Atkārtots eksāmens praktiskajā braukšanā

Sheet 7.1.
D1: SASKAŅOTS | E1: SASKAŅOTS | F1: SASKAŅOTS
D2: Sociālās integrācijas valsts aģentūras | E2: Sociālās integrācijas valsts aģentūras | F2: Sociālās integrācijas valsts aģentūras
D3: direktore I.Jurševska | E3: direktore I.Jurševska | F3: direktore I.Jurševska
D5: 2022. gada | E5: 2022. gada | F5: 2023. gada 29.martā
A7: Maksas pakalpojuma izcenojuma aprēķins
A9: Sociālās integrācijas valsts aģentūra
A10: Publiskā pakalpojuma veids:
B11: 7. Transportlīdzekļi, transportlīdzekļu stāvvietas un transportlīdzekļu vadītāju apmācība
B12: 7.1. Viena vieta automobilim maksas stāvvietā (1 mēnesis)
A13: Laikposms | B13: 2023.gadā un turpmāk
A14: Izdevumu klasifikācijas kods | B14: Rādītājs (materiāla/izejvielas nosaukums, atlīdzība un citi izmaksu veidi) | D14: Izmaksu apjoms noteiktā laikposmā viena maksas pakalpojuma veida nodrošināšanai | E14: Izmaksu apjoms noteiktā laikposmā viena maksas pakalpojuma veida nodrošināšanai | F14: Izmaksu apjoms noteiktā laikposmā viena maksas pakalpojuma veida nodrošināšanai
A15: 1 | B15: 2 | D15: 3 | E15: 3 | F15: 3
B16: Tiešās izmaksas
A17: 1100 | B17: Atalgojums | C17: =[3]Sheet2!$E$8 -> 3.6853919 | D17: 110.56 | E17: 294.83 | F17: 191.65
A18: 1200 | B18: Darba devēja valsts sociālās apdrošināšanas obligātās iemaksas, pabalsti un kompensācijas | C18: =C17*0.2359 -> 0.86938394 | D18: 26.08 | E18: 69.55 | F18: 45.21
A19: 2243 | B19: Iekārtas, inventāra un aparatūras remonts, tehniskā apkalpošana | C19: =[3]Sheet2!$E$12 -> 1.8605 | D19: 55.82 | E19: 148.85 | F19: 74.43
A20: 2244 | B20: Nekustamā īpašuma uzturēšana | D20: =C20*30 -> 0 | E20: =D20/30*80 -> 0 | F20: =E20/80*40 -> 0
A21: 2312 | B21: Inventārs | C21: =[3]Sheet2!$E$14+[3]Sheet2!$E$15+[3]Sheet2!$E$16+[3]Sheet2!$E$17+[3]Sheet2!$E$18 -> 0.9201 | D21: 27.6 | E21: 73.6 | F21: 36.8
A22: 2350 | B22: Iestāžu uzturēšanas materiāli un preces | C22: =[3]Sheet2!$E$19+[3]Sheet2!$E$20+[3]Sheet2!$E$21 -> 1.6116667 | D22: 48.35 | E22: 128.93 | F22: 64.47
A23: 2263 | B23: Zemes noma | C23: =[3]Sheet2!$E$10 -> 26.92046 | D23: 807.61 | E23: 2153.63 | F23: 1076.82
A24: 2515 | B24: Dabas resursu nodoklis | C24: =[3]Sheet2!$E$11 -> 0.84690972 | D24: 25.41 | E24: 67.76 | F24: 33.88
B25: Tiešās izmaksas kopā | C25: =SUM(C17:C24) -> 36.714412 | D25: =SUM(D17:D24) -> 1101.43 | E25: =SUM(E17:E24) -> 2937.15 | F25: =SUM(F17:F24) -> 1523.26
B26: Netiešās izmaksas
A27: 1100 | B27: Atalgojums | C27: 0.5144 | D27: 130.31 | E27: 347.49 | F27: 191.14
A28: 1200 | B28: Darba devēja valsts sociālās apdrošināšanas obligātās iemaksas, pabalsti un kompensācijas | C28: =C27*0.2359 -> 0.12134696 | D28: 30.74 | E28: 81.97 | F28: 45.09
A29: 2100 | B29: Mācību, darba un dienesta komandējumi, dienesta, darba braucieni | C29: 0.00081 | D29: 0.21 | E29: 0.56 | F29: =E29/80*40 -> 0.28
A30: 2210 | B30: Izdevumi par sakaru pakalpojumiem | C30: 0.008 | D30: 2.03 | E30: 5.41 | F30: 2.71
A31: 2222 | B31: Izdevumi par ūdensapgādi un kanalizāciju | C31: 0.00444 | D31: 1.12 | E31: 2.99 | F31: 1.5
A32: 2223 | B32: Izdevumi par elektroenerģiju | C32: 0.05494 | D32: 13.92 | E32: 37.12 | F32: =E32/80*40 -> 18.56
A33: 2224 | B33: Izdevumi par atkritumu savākšanu, izvešanu no apdzīvotām vietām un teritorijām ārpus apdzīvotām vietām un atkritumu utilizāciju | C33: 0.00309 | D33: 0.78 | E33: 2.08 | F33: =E33/80*40 -> 1.04
A34: 2231 | B34: Izdevumi iestādes sabiedrisko aktivitāšu īstenošanai | C34: 0.0015 | D34: 0.38 | E34: 1.01 | F34: 0.51
A35: 2235 | B35: Izdevumi par saņemtajiem mācību pakalpojumiem | C35: 0.00251 | D35: 0.64 | E35: 1.71 | F35: 0.86
A36: 2239 | B36: Pārējie neklasificētie pakalpojumi | C36: 0.00179 | D36: 0.45 | E36: 1.2 | F36: =E36/80*40 -> 0.6
A37: 2241 | B37: Ēku, būvju un telpu būvdarbi | C37: 0.0165 | D37: 4.18 | E37: 11.15 | F37: 5.58
A38: 2242 | B38: Transportlīdzekļu uzturēšana un remonts | C38: 0.00085 | D38: 0.22 | E38: 0.59 | F38: 0.3
A39: 2243 | B39: Iekārtas, inventāra un aparatūras remonts, tehniskā apkalpošana | C39: 0.0004 | D39: 0.1 | E39: 0.27 | F39: 0.14
A40: 2244 | B40: Nekustamā īpašuma uzturēšana | C40: 0.06807 | D40: 17.24 | E40: 45.97 | F40: =22.99+0.08 -> 23.07
A41: 2247 | B41: Apdrošināšanas izdevumi | C41: 0.00022 | D41: 0.06 | E41: 0.16
A42: 2249 | B42: Pārējie remonta darbu un iestāžu uzturēšanas pakalpojumi | C42: 0.00025 | D42: 0.06 | E42: 0.16 | F42: =E42/80*40 -> 0.08
A43: 2250 | B43: Informācijas tehnoloģiju pakalpojumi | C43: 0.0284 | D43: 7.19 | E43: 19.17 | F43: 9.59
A44: 2262 | B44: Transportlīdzekļu noma | C44: 0.01137 | D44: 2.88 | E44: 7.68 | F44: =E44/80*40 -> 3.84
A45: 2263 | B45: Zemes noma | C45: 0.0458 | D45: 11.6 | E45: 30.93 | F45: 15.47
A46: 2264 | B46: Iekārtu, aparatūras un inventāra īre un noma | C46: 0.00024 | D46: 0.06 | E46: 0.16 | F46: =E46/80*40 -> 0.08
A47: 2311 | B47: Biroja preces | C47: 0.00071 | D47: 0.18 | E47: 0.48 | F47: =E47/80*40 -> 0.24
A48: 2314 | B48: Izdevumi par precēm iestādes sabiedrisko aktivitāšu īstenošanai | C48: 0.00046 | D48: 0.12 | E48: 0.32 | F48: =E48/80*40 -> 0.16
A49: 2321 | B49: Kurināmais | C49: 0.06022 | D49: 15.26 | E49: 40.69 | F49: 20.35
A50: 2322 | B50: Degviela | C50: 0.0021 | D50: 0.53 | E50: 1.41 | F50: 0.71
A51: 2512 | B51: Budžeta iestāžu pievienotās vērtības nodokļa maksājumi | C51: 0 | D51: =C51*253.33 -> 0 | E51: =D51/30*80 -> 0 | F51: =E51/80*40 -> 0
A52: 2513 | B52: Budžeta iestāžu nekustamā īpašuma nodokļa maksājumi | C52: 0.00063 | D52: 0.16 | E52: 0.43 | F52: 0.22
A53: 2515 | B53: Budžeta iestāžu dabas resursu nodokļa maksājumi | C53: 0.00275 | D53: 0.7 | E53: 1.87 | F53: 0.94
A54: 2519 | B54: Pārējie budžeta iestāžu pārskaitītie nodokļi un nodevas | C54: 0.00151 | D54: 0.38 | E54: 1.01 | F54: 0.51
A55: 5220 | B55: Tehnoloģiskās iekārtas un mašīnas | C55: 0.0106 | D55: 2.69 | E55: 7.17 | F55: 3.59
A56: 5238 | B56: Datortehnika, sakaru un cita biroja tehnika | C56: 0.00165 | D56: 0.44 | E56: 1.19 | F56: 0.6
A57: 5239 | B57: Pārējie iepriekš neklasificētie pamatlīdzekļi un ieguldījuma īpašumi | C57: 0.0195 | D57: 4.94 | E57: 13.17 | F57: 6.31
A58: 5250 | B58: Kapitālais remonts un rekonstrukcija | C58: 0.015 | D58: 3.8 | E58: 10.13 | F58: 5.07
B59: Netiešās izmaksas kopā | C59: =SUM(C27:C58) -> 1.000057 | D59: =SUM(D27:D58) -> 253.37 | E59: =SUM(E27:E58) -> 675.65 | F59: =SUM(F27:F58) -> 359.14
B60: Pakalpojumu izmaksas kopā | D60: =D59+D25 -> 1354.8 | E60: =E25+E59 -> 3612.8 | F60: =F25+F59 -> 1882.4
A62: Maksas pakalpojuma vienību skaits noteiktā laikposmā (gab.) | D62: 30 | E62: 80 | F62: 40
A63: Maksas pakalpojuma izcenojums (euro) | D63: =ROUND(D60/D62,2) -> 45.16 | E63: =ROUND(E60/E62,2) -> 45.16 | F63: =ROUND(F60/F62,2) -> 47.06
A65: Prognozētais maksas pakalpojumu skaits gadā (gab.)*
A66: Prognozētie ieņēmumi gadā (euro)*
A68: Piezīme. *Ailes neaizpilda, ja izvēlētais laikposms ir viens gads.
A70: Aprēķinu sastādīja: SIVA Finanšu nodaļas vecākā finanšu ekonomiste Anita Ozoliņa

Sheet 7.2.
D1: SASKAŅOTS
D2: Sociālās integrācijas valsts aģentūras
D3: direktore I.Jurševska
D5: 2023. gada 29.martā
A7: Maksas pakalpojuma izcenojuma aprēķins
A9: Sociālās integrācijas valsts aģentūra
A10: Publiskā pakalpojuma veids:
B11: 7. Transportlīdzekļi, transportlīdzekļu stāvvietas un transportlīdzekļu vadītāju apmācība
B12: 7.2. Viena vieta autobusam maksas stāvvietā (1 mēnesis)
A13: Laikposms | B13: 2023.gadā un turpmāk
A14: Izdevumu klasifikācijas kods | B14: Rādītājs (materiāla/izejvielas nosaukums, atlīdzība un citi izmaksu veidi) | D14: Izmaksu apjoms noteiktā laikposmā viena maksas pakalpojuma veida nodrošināšanai
A15: 1 | B15: 2 | D15: 3
B16: Tiešās izmaksas
A17: 1100 | B17: Atalgojums | C17: =[3]Sheet2!$E$31 -> 5.5280878 | D17: 71.86
A18: 1200 | B18: Darba devēja valsts sociālās apdrošināšanas obligātās iemaksas, pabalsti un kompensācijas | C18: =C17*0.2359 -> 1.3040759 | D18: 16.95
A19: 2243 | B19: Iekārtas, inventāra un aparatūras remonts, tehniskā apkalpošana | C19: =[3]Sheet2!$E$35 -> 2.8623077 | D19: 28.62
A20: 2312 | B20: Inventārs | C20: =[3]Sheet2!$E$37+[3]Sheet2!$E$38+[3]Sheet2!$E$39+[3]Sheet2!$E$40+[3]Sheet2!$E$41 -> 1.4155385 | D20: 14.16
A21: 2350 | B21: Iestāžu uzturēšanas materiāli un preces | C21: =[3]Sheet2!$E$42+[3]Sheet2!$E$43+[3]Sheet2!$E$44 -> 2.4794872 | D21: 24.79
A22: 2263 | B22: Zemes noma | C22: =[3]Sheet2!$E$33 -> 41.416093 | D22: 414.16
A23: 2515 | B23: Dabas resursu nodoklis | C23: =[3]Sheet2!$E$34 -> 1.302938 | D23: 13.03
B24: Tiešās izmaksas kopā | D24: =SUM(D17:D23) -> 583.57
B25: Netiešās izmaksas
A26: 1100 | B26: Atalgojums | C26: 0.5144 | D26: 73.28
A27: 1200 | B27: Darba devēja valsts sociālās apdrošināšanas obligātās iemaksas, pabalsti un kompensācijas | C27: =C26*0.2359 -> 0.12134696 | D27: 17.29
A28: 2100 | B28: Mācību, darba un dienesta komandējumi, dienesta, darba braucieni | C28: 0.00081 | D28: 0.1
A29: 2210 | B29: Izdevumi par sakaru pakalpojumiem | C29: 0.008 | D29: 1.04
A30: 2222 | B30: Izdevumi par ūdensapgādi un kanalizāciju | C30: 0.00444 | D30: 0.58
A31: 2223 | B31: Izdevumi par elektroenerģiju | C31: 0.05494 | D31: 7.12
A32: 2224 | B32: Izdevumi par atkritumu savākšanu, izvešanu no apdzīvotām vietām un teritorijām ārpus apdzīvotām vietām un atkritumu utilizāciju | C32: 0.00309 | D32: 0.4
A33: 2231 | B33: Izdevumi iestādes sabiedrisko aktivitāšu īstenošanai | C33: 0.0015 | D33: 0.19
A34: 2235 | B34: Izdevumi par saņemtajiem mācību pakalpojumiem | C34: 0.00251 | D34: 0.33
A35: 2239 | B35: Pārējie neklasificētie pakalpojumi | C35: 0.00179 | D35: 0.23
A36: 2241 | B36: Ēku, būvju un telpu būvdarbi | C36: 0.0165 | D36: 2.14
A37: 2242 | B37: Transportlīdzekļu uzturēšana un remonts | C37: 0.00085 | D37: 0.11
A38: 2243 | B38: Iekārtas, inventāra un aparatūras remonts, tehniskā apkalpošana | C38: 0.0004 | D38: 0.05
A39: 2244 | B39: Nekustamā īpašuma uzturēšana | C39: 0.06807 | D39: 8.82
... A49: 2322 | B49: Degviela | C49: 0.0021 | D49: 0.27
A50: 2512 | B50: Budžeta iestāžu pievienotās vērtības nodokļa maksājumi | C50: 0 | D50: =C50*129.51 -> 0
A51: 2513 | B51: Budžeta iestāžu nekustamā īpašuma nodokļa maksājumi | C51: 0.00063 | D51: 0.08
A52: 2515 | B52: Budžeta iestāžu dabas resursu nodokļa maksājumi | C52: 0.00275 | D52: 0.36
A53: 2519 | B53: Pārējie budžeta iestāžu pārskaitītie nodokļi un nodevas | C53: 0.00151 | D53: 0.2
A54: 5220 | B54: Tehnoloģiskās iekārtas un mašīnas | C54: 0.0106 | D54: 1.37
A55: 5238 | B55: Datortehnika, sakaru un cita biroja tehnika | C55: 0.00165 | D55: 0.24
A56: 5239 | B56: Pārējie iepriekš neklasificētie pamatlīdzekļi un ieguldījuma īpašumi | C56: 0.0195 | D56: 2.5
A57: 5250 | B57: Kapitālais remonts un rekonstrukcija | C57: 0.015 | D57: 1.94
B58: Netiešās izmaksas kopā | C58: =SUM(C26:C57) -> 1.000057 | D58: =SUM(D26:D57) -> 137.73
B59: Pakalpojumu izmaksas kopā | D59: =D58+D24 -> 721.3
A61: Maksas pakalpojuma vienību skaits noteiktā laikposmā (gab.) | D61: 10
A62: Maksas pakalpojuma izcenojums (euro) | D62: =ROUND(D59/D61,2) -> 72.13
A64: Prognozētais maksas pakalpojumu skaits gadā (gab.)*
A65: Prognozētie ieņēmumi gadā (euro)*
A67: Piezīme. *Ailes neaizpilda, ja izvēlētais laikposms ir viens gads.
A69: Aprēķinu sastādīja: SIVA Finanšu nodaļas vecākā finanšu ekonomiste Anita Ozoliņa

Sheet 7.3.
D1: SASKAŅOTS | E1: SASKAŅOTS | F1: SASKAŅOTS
D2: Sociālās integrācijas valsts aģentūras | E2: Sociālās integrācijas valsts aģentūras | F2: Sociālās integrācijas valsts aģentūras
D3: direktore I.Jurševska | E3: direktore I.Jurševska | F3: direktore I.Jurševska
D5: 2022.gada | E5: 2022.gada | F5: 2023. gada 29.martā
A7: Maksas pakalpojuma izcenojuma aprēķins
A9: Sociālās integrācijas valsts aģentūra
A10: Publiskā pakalpojuma veids:
B11: 7. Transportlīdzekļi, transportlīdzekļu stāvvietas un transportlīdzekļu vadītāju apmācība
B12: 7.3. Autobusa (septiņas vietas) iznomāšana ar šoferi vismaz uz četrām stundām (1 stunda)
A13: Laikposms | B13: 2023.gadā un turpmāk
A15: Izdevumu klasifikācijas kods | B15: Rādītājs (materiāla/izejvielas nosaukums, atlīdzība un citi izmaksu veidi) | D15: Izmaksu apjoms noteiktā laikposmā viena maksas pakalpojuma veida nodrošināšanai | E15: Izmaksu apjoms noteiktā laikposmā viena maksas pakalpojuma veida nodrošināšanai | F15: Izmaksu apjoms noteiktā laikposmā viena maksas pakalpojuma veida nodrošināšanai
A16: 1 | B16: 2 | D16: 3 | E16: 3 | F16: 3
B17: Tiešās izmaksas
A18: 1100 | B18: Atalgojums | C18: ='[2]trasnports noma_10.3.'!$D$7 -> 5.5443948 | D18: 277.22 | E18: =D18/50*20 -> 110.888 | F18: 31.33
A19: 1200 | B19: Darba devēja valsts sociālās apdrošināšanas obligātās iemaksas, pabalsti un kompensācijas | C19: =C18*0.2359 -> 1.3079227 | D19: 65.4 | E19: =D19/50*20 -> 26.16 | F19: 7.39
A20: 2222 | B20: Izdevumi par ūdensapgādi un kanalizāciju | C20: ='[2]trasnports noma_10.3.'!$D$12 -> 1.176 | D20: 58.8 | E20: =D20/50*20 -> 23.52 | F20: 5.88
A21: 2242 | B21: Transportlīdzekļu uzturēšana un remonts | C21: =[1]pašizmaksa!E15+[1]pašizmaksa!E16+[1]pašizmaksa!E17 -> 0.20069444 | D21: 10.03 | E21: =D21/50*20 -> 4.012 | F21: 1
A22: 2322 | B22: Degviela | C22: ='[2]trasnports noma_10.3.'!$D$9 -> 6.01975 | D22: 300.99 | E22: =D22/50*20 -> 120.396 | F22: 30.1
A23: 5231 | B23: Transportlīdzekļi | C23: ='[2]trasnports noma_10.3.'!$D$11 -> 1.6551587 | D23: 82.76 | E23: =D23/50*20 -> 33.104 | F23: 8.28
B24: Tiešās izmaksas kopā | C24: =SUM(C18:C23) -> 15.903921 | D24: =SUM(D18:D23) -> 795.2 | E24: =SUM(E18:E23) -> 318.08 | F24: =SUM(F18:F23) -> 83.98
B25: Netiešās izmaksas
A26: 1100 | B26: Atalgojums | C26: 1.65 | D26: 82.5 | E26: =D26/50*20 -> 33 | F26: 9.1
A27: 1200 | B27: Darba devēja valsts sociālās apdrošināšanas obligātās iemaksas, pabalsti un kompensācijas | C27: =C26*0.2359 -> 0.389235 | D27: 19.46 | E27: =D27/50*20 -> 7.784 | F27: 2.15
A28: 2210 | B28: Izdevumi par sakaru pakalpojumiem | D28: =C28*50 -> 0 | E28: =D28/50*20 -> 0 | F28: =E28/20*5 -> 0
A29: 2222 | B29: Izdevumi par ūdensapgādi un kanalizāciju | D29: =C29*50 -> 0 | E29: =D29/50*20 -> 0 | F29: =E29/20*5 -> 0
A30: 2223 | B30: Izdevumi par elektroenerģiju | C30: =0.18+0.1 -> 0.28 | D30: 14 | E30: =D30/50*20 -> 5.6 | F30: 1.4
A31: 2244 | B31: Nekustamā īpašuma uzturēšana | C31: =0.24+0.1 -> 0.34 | D31: 17 | E31: =D31/50*20 -> 6.8 | F31: 1.7
A32: 2311 | B32: Biroja preces | C32: =[1]pašizmaksa!E18 -> 0.05 | D32: 2.5 | E32: =D32/50*20 -> 1 | F32: 0.25
A33: 2312 | B33: Inventārs | C33: =[1]pašizmaksa!E21+[1]pašizmaksa!E22+[1]pašizmaksa!E23 -> 0.017455853 | D33: 0.87 | E33: =D33/50*20 -> 0.348 | F33: 0.09
A34: 2321 | B34: Kurināmais | C34: =0.17+0.1 -> 0.27 | D34: 13.47 | E34: =D34/50*20 -> 5.388 | F34: 1.33
A35: 2350 | B35: Iestāžu uzturēšanas materiāli un preces | C35: 0.1 | D35: 5 | E35: =D35/50*20 -> 2 | F35: 0.5
B36: Netiešās izmaksas kopā | C36: =SUM(C26:C35) -> 3.0966909 | D36: =SUM(D26:D35) -> 154.8 | E36: =SUM(E26:E35) -> 61.92 | F36: =SUM(F26:F35) -> 16.52
B37: Pakalpojumu izmaksas kopā | C37: =C24+C36 -> 19.000612 | D37: =D24+D36 -> 950 | E37: =E24+E36 -> 380 | F37: =F24+F36 -> 100.5
A39: Maksas pakalpojuma vienību skaits noteiktā laikposmā (gab.) | D39: 50 | E39: 20 | F39: 5
A40: Maksas pakalpojuma izcenojums (euro) | D40: =D37/D39 -> 19 | E40: =E37/E39 -> 19 | F40: =F37/F39 -> 20.1
A42: Prognozētais maksas pakalpojumu skaits gadā (gab.)*
A43: Prognozētie ieņēmumi gadā (euro)*
A45: Piezīme. *Ailes neaizpilda, ja izvēlētais laikposms ir viens gads.
A47: Aprēķinu sastādīja: SIVA Finanšu nodaļas finanšu ekonomiste E.Lipiņa

Sheet 7.3.1.
D1: SASKAŅOTS
D2: Sociālās integrācijas valsts aģentūras
D3: direktore I.Jurševska
D5: 2023. gada 29.martā
A7: Maksas pakalpojuma izcenojuma aprēķins
A9: Sociālās integrācijas valsts aģentūra
A10: Publiskā pakalpojuma veids:
B11: 7. Transportlīdzekļi, transportlīdzekļu stāvvietas un transportlīdzekļu vadītāju apmācība
B12: 7.3.1. Autobusa (septiņas vietas) iznomāšana ar šoferi (1 diennakts)
A13: Laikposms | B13: 2023.gadā un turpmāk
A15: Izdevumu klasifikācijas kods | B15: Rādītājs (materiāla/izejvielas nosaukums, atlīdzība un citi izmaksu veidi) | D15: Izmaksu apjoms noteiktā laikposmā viena maksas pakalpojuma veida nodrošināšanai
A16: 1 | B16: 2 | D16: 3
B17: Tiešās izmaksas
A18: 1100 | B18: Atalgojums | C18: ='[2]trasnports noma_10.3.'!$D$22 -> 135.28323 | D18: 764.35
A19: 1200 | B19: Darba devēja valsts sociālās apdrošināšanas obligātās iemaksas, pabalsti un kompensācijas | C19: =C18*0.2359 -> 31.913315 | D19: 180.31
A20: 2222 | B20: Izdevumi par ūdensapgādi un kanalizāciju | C20: ='[2]trasnports noma_10.3.'!$D$26 -> 1.176 | D20: 5.88
A21: 2242 | B21: Transportlīdzekļu uzturēšana un remonts | C21: =[1]pašizmaksa!E69+[1]pašizmaksa!E70+[1]pašizmaksa!E71 -> 1.7745614 | D21: 8.87
A22: 2322 | B22: Degviela | C22: ='[2]trasnports noma_10.3.'!$D$24 -> 24.079 | D22: 120.4
A23: 5231 | B23: Transportlīdzekļi | C23: ='[2]trasnports noma_10.3.'!$D$25 -> 19.861905 | D23: 99.31
B24: Tiešās izmaksas kopā | C24: =SUM(C18:C23) -> 214.08802 | D24: =SUM(D18:D23) -> 1179.12
B25: Netiešās izmaksas
A26: 1100 | B26: Atalgojums | C26: 22.29 | D26: 122.6
A27: 1200 | B27: Darba devēja valsts sociālās apdrošināšanas obligātās iemaksas, pabalsti un kompensācijas | C27: =C26*0.2359 -> 5.258211 | D27: 28.92
A28: 2210 | B28: Izdevumi par sakaru pakalpojumiem | C28: =[1]pašizmaksa!E78+[1]pašizmaksa!E79 -> 0.74194737 | D28: 3.71
A29: 2222 | B29: Izdevumi par ūdeni un kanalizāciju | C29: 0 | D29: 0
A30: 2223 | B30: Izdevumi par elektroenerģiju | C30: 2.78588 | D30: 13.92
A31: 2244 | B31: Nekustamā īpašuma uzturēšana | C31: =[1]pašizmaksa!E68 -> 1.8857143 | D31: 9.43
A32: 2311 | B32: Biroja preces | C32: =[1]pašizmaksa!E72 -> 0.5 | D32: 2.5
A33: 2312 | B33: Inventārs | C33: =[1]pašizmaksa!E75+[1]pašizmaksa!E76+[1]pašizmaksa!E77 -> #REF! | D33: 1.02
A34: 2321 | B34: Kurināmais | C34: =[1]pašizmaksa!E67+0.86 -> 2.2171429 | D34: 11.09
A35: 2350 | B35: Iestāžu uzturēšanas materiāli un preces | C35: =[1]pašizmaksa!E73 -> 6.931 | D35: 34.64
B36: Netiešās izmaksas kopā | C36: =SUM(C26:C35) -> #REF! | D36: =SUM(D26:D35) -> 227.83
B37: Pakalpojumu izmaksas kopā | C37: =C24+C36 -> #REF! | D37: =D36+D24 -> 1406.95
A39: Maksas pakalpojuma vienību skaits noteiktā laikposmā (gab.) | D39: 5
A40: Maksas pakalpojuma izcenojums (euro) | D40: =D37/D39 -> 281.39
A42: Prognozētais maksas pakalpojumu skaits gadā (gab.)*
A43: Prognozētie ieņēmumi gadā (euro)*
A45: Piezīme. *Ailes neaizpilda, ja izvēlētais laikposms ir viens gads.
A47: Aprēķinu sastādīja: SIVA Finanšu nodaļas finanšu ekonomiste E.Lipiņa

Sheet 7.3.2.
D1: SASKAŅOTS
D2: Sociālās integrācijas valsts aģentūras
D3: direktore I.Jurševska
D5: 2023. gada 29.martā
A7: Maksas pakalpojuma izcenojuma aprēķins
A9: Sociālās integrācijas valsts aģentūra
A10: Publiskā pakalpojuma veids:
B11: 7. Transportlīdzekļi, transportlīdzekļu stāvvietas un transportlīdzekļu vadītāju apmācība
B12: 7.3.2. Papildus par katru kilometru virs 100 km
A13: Laikposms | B13: 2023.gadā un turpmāk
A15: Izdevumu klasifikācijas kods | B15: Rādītājs (materiāla/izejvielas nosaukums, atlīdzība un citi izmaksu veidi) | D15: Izmaksu apjoms noteiktā laikposmā viena maksas pakalpojuma veida nodrošināšanai
A16: 1 | B16: 2 | D16: 3
B17: Tiešās izmaksas
A18: 1100 | B18: Atalgojums | C18: =[1]pašizmaksa!E32/1.2359 -> 0.20238095 | D18: 44.53
A19: 1200 | B19: Darba devēja valsts sociālās apdrošināšanas obligātās iemaksas, pabalsti un kompensācijas | C19: =C18*0.2359 -> 0.047741667 | D19: 10.5
A20: 2242 | B20: Transportlīdzekļu uzturēšana un remonts | C20: =[1]pašizmaksa!E42+[1]pašizmaksa!E43+[1]pašizmaksa!E44 -> 0.0080277778 | D20: 8.99
A21: 2322 | B21: Degviela | C21: =[1]pašizmaksa!E34 -> 0.2071 | D21: 41.42
A22: 5231 | B22: Transportlīdzekļi | C22: =[1]pašizmaksa!E33 -> 0.066207798 | D22: 13.24
B23: Tiešās izmaksas kopā | C23: =SUM(C18:C22) -> 0.53145819 | D23: =SUM(D18:D22) -> 118.68
B24: Netiešās izmaksas
A25: 1100 | B25: Atalgojums | C25: =[1]pašizmaksa!E37/1.2359 -> 0.086746032 | D25: 20.4
A26: 1200 | B26: Darba devēja valsts sociālās apdrošināšanas obligātās iemaksas, pabalsti un kompensācijas | C26: =C25*0.2359 -> 0.020463389 | D26: 4.81
A27: 2210 | B27: Izdevumi par sakaru pakalpojumiem | D27: 0.5
A28: 2222 | B28: Izdevumi par ūdeni un kanalizāciju | C28: =[1]pašizmaksa!E38 -> 0.032666667 | D28: 0
A29: 2223 | B29: Izdevumi par elektroenerģiju | C29: =[1]pašizmaksa!E39 -> 0.0070714286 | D29: 1.42
A30: 2244 | B30: Nekustamā īpašuma uzturēšana | C30: =[1]pašizmaksa!E41 -> 0.0094285714 | D30: 1.89
A31: 2311 | B31: Biroja preces | C31: =[1]pašizmaksa!E45 -> 0.002 | D31: 0.4
A32: 2312 | B32: Inventārs | C32: =[1]pašizmaksa!E48+[1]pašizmaksa!E49+[1]pašizmaksa!E50 -> 0.00069823413 | D32: 0.14
A33: 2321 | B33: Kurināmais | C33: =[1]pašizmaksa!E40 -> 0.0067857143 | D33: 1.36
A34: 2350 | B34: Iestāžu uzturēšanas materiāli un preces | C34: =[1]pašizmaksa!E46 -> 0.002 | D34: 0.4
B35: Netiešās izmaksas kopā | C35: =SUM(C25:C34) -> 0.16786004 | D35: =SUM(D25:D34) -> 31.32
B36: Pakalpojumu izmaksas kopā | C36: =C23+C35 -> 0.69931823 | D36: =D35+D23 -> 150
A38: Maksas pakalpojuma vienību skaits noteiktā laikposmā (gab.) | D38: 200
A39: Maksas pakalpojuma izcenojums (euro) | D39: =D36/D38 -> 0.75
A41: Prognozētais maksas pakalpojumu skaits gadā (gab.)*
A42: Prognozētie ieņēmumi gadā (euro)*
A44: Piezīme. *Ailes neaizpilda, ja izvēlētais laikposms ir viens gads.
A46: Aprēķinu sastādīja: SIVA Finanšu nodaļas finanšu ekonomiste E.Lipiņa

Sheet 10.4.1.__
E1: SASKAŅOTS
E2: Sociālās integrācijas valsts aģentūras
E3: direktora p.i. I.Misūna
E4: (amats) (vārds, uzvārds) (paraksts)
E5: 2013.gada 19.jūnijā
A7: Maksas pakalpojuma izcenojuma aprēķins
A9: Sociālās integrācijas valsts aģentūra
A10: Publiskā pakalpojuma veids:
B11: 10. Autotransports un autotransporta stāvvietas
B12: 10.4.1. Vieglās automašīnas (līdz 3,5 t) iznomāšana ar šoferi klientiem nobraukumam līdz 50 km, līdz 2 stundām
A13: Laikposms | B13: 2013.gadā un turpmāk
F14: =850/580 -> 1.4655172
A15: Izdevumu klasifikācijas kods | B15: Rādītājs (materiāla/izejvielas nosaukums, atlīdzība un citi izmaksu veidi) | C15: Izmaksu apjoms noteiktā laikposmā viena maksas pakalpojuma veida nodrošināšanai | D15: Izmaksu apjoms noteiktā laikposmā viena maksas pakalpojuma veida nodrošināšanai (2013.gada II pusgads) | E15: Izmaksu apjoms noteiktā laikposmā viena maksas pakalpojuma veida nodrošināšanai (2014) un turpmākajos gados
A16: 1 | B16: 2 | C16: 3 | D16: 3 | E16: 4
B17: Tiešās izmaksas
A18: 1100 | B18: Atalgojums | C18: 73.01 | D18: =C18/20*20 -> 73.01 | E18: =C18/20*20 -> 73.01
A19: 1200 | B19: Darba devēja valsts sociālās apdrošināšanas obligātās iemaksas, sociāla rakstura pabalsti un kompensācijas | C19: 17.59 | D19: =C19/20*20 -> 17.59 | E19: =C19/20*20 -> 17.59
A20: 2242 | B20: Transportlīdzekļu uzturēšana un remonts | C20: 31.6 | D20: =C20/20*20 -> 31.6 | E20: =C20/20*20 -> 31.6
A21: 2322 | B21: Degviela | C21: 95 | D21: =C21/20*20 -> 95 | E21: =C21/20*20 -> 95
D22: =C22/20*20 -> 0 | E22: =C22/20*20 -> 0
D23: =C23/20*20 -> 0 | E23: =C23/20*20 -> 0
B24: Tiešās izmaksas kopā | C24: =SUM(C18:C23) -> 217.2 | D24: =SUM(D18:D23) -> 217.2 | E24: =SUM(E18:E23) -> 217.2
B25: Netiešās izmaksas
A26: 1100 | B26: Atalgojums | C26: 17.73 | D26: =C26/20*20 -> 17.73 | E26: =C26/20*20 -> 17.73
A27: 1200 | B27: Darba devēja valsts sociālās apdrošināšanas obligātās iemaksas, sociāla rakstura pabalsti un kompensācijas | C27: 4.27 | D27: =C27/20*20 -> 4.27 | E27: =C27/20*20 -> 4.27
A28: 2100 | B28: Mācību, darba un dienesta komandējumi, dienesta, darba braucieni | D28: =C28/20*20 -> 0 | E28: =C28/20*20 -> 0
A29: 2210 | B29: Pasta, telefona un citu sakaru pakalpojumi | C29: 7.5 | D29: =C29/20*20 -> 7.5 | E29: =C29/20*20 -> 7.5
A30: 2222 | B30: Izdevumi par ūdeni un kanalizāciju | C30: 1 | D30: =C30/20*20 -> 1 | E30: =C30/20*20 -> 1
A31: 2223 | B31: Izdevumi par elektroenerģiju | C31: 1 | D31: =C31/20*20 -> 1 | E31: =C31/20*20 -> 1
A32: 2230 | B32: Iestādes administratīvie izdevumi un ar iestādes darbības nodrošināšanu saistītie izdevumi | C32: 2 | D32: =C32/20*20 -> 2 | E32: =C32/20*20 -> 2
A33: 2241 | B33: Ēku, būvju un telpu kārtējais remonts | D33: =C33/20*20 -> 0 | E33: =C33/20*20 -> 0
A34: 2242 | B34: Transportlīdzekļu uzturēšana un remonts | C34: 0 | D34: =C34/20*20 -> 0 | E34: =C34/20*20 -> 0
A35: 2243 | B35: Iekārtas, inventāra un aparatūras remonts, tehniskā apkalpošana | C35: 1 | D35: =C35/20*20 -> 1 | E35: =C35/20*20 -> 1
A36: 2244 | B36: Ēku, būvju un telpu uzturēšana | C36: 1.99 | D36: =C36/20*20 -> 1.99 | E36: =C36/20*20 -> 1.99
A37: 2247 | B37: Apdrošināšanas izdevumi | C37: 0 | D37: =C37/20*20 -> 0 | E37: =C37/20*20 -> 0
A38: 2249 | B38: Pārējie remonta darbu un iestāžu uzturēšanas pakalpojumi | C38: 0 | D38: =C38/20*20 -> 0 | E38: =C38/20*20 -> 0
A39: 2251 | B39: Informācijas sistēmas uzturēšana | C39: 1 | D39: =C39/20*20 -> 1 | E39: =C39/20*20 -> 1
A40: 2252 | B40: Informācijas sistēmas licenču nomas izdevumi | D40: =C40/20*20 -> 0 | E40: =C40/20*20 -> 0
A41: 2259 | B41: Pārējie informācijas tehnoloģiju pakalpojumi | D41: =C41/20*20 -> 0 | E41: =C41/20*20 -> 0
A42: 2261 | B42: Ēku, telpu īre un noma | C42: 1 | D42: =C42/20*20 -> 1 | E42: =C42/20*20 -> 1
A43: 2262 | B43: Transportlīdzekļu noma | C43: 0 | D43: =C43/20*20 -> 0 | E43: =C43/20*20 -> 0
A44: 2263 | B44: Zemes noma | C44: 2 | D44: =C44/20*20 -> 2 | E44: =C44/20*20 -> 2
A45: 2264 | B45: Iekārtu un inventāra īre un noma | C45: 0 | D45: =C45/20*20 -> 0 | E45: =C45/20*20 -> 0
A46: 2279 | B46: Pārējie iepriekš neklasificētie pakalpojumu veidi | C46: 1 | D46: =C46/20*20 -> 1 | E46: =C46/20*20 -> 1
A47: 2311 | B47: Biroja preces | C47: 2 | D47: =C47/20*20 -> 2 | E47: =C47/20*20 -> 2
A48: 2312 | B48: Inventārs | C48: 2 | D48: =C48/20*20 -> 2 | E48: =C48/20*20 -> 2
A49: 2321 | B49: Kurināmais | C49: 0 | D49: =C49/20*20 -> 0 | E49: =C49/20*20 -> 0
A50: 2322 | B50: Degviela | C50: 0 | D50: =C50/20*20 -> 0 | E50: =C50/20*20 -> 0
A51: 2341 | B51: Zāles, ķimikālijas, laboratorijas preces | C51: 0 | D51: =C51/20*20 -> 0 | E51: =C51/20*20 -> 0
A52: 2344 | B52: Medicīnas instrumenti, laboratorijas dzīvnieki un to uzturēšana | C52: 0 | D52: =C52/20*20 -> 0 | E52: =C52/20*20 -> 0
A53: 2350 | B53: Kārtējā remonta un iestāžu uzturēšanas materiāli | C53: 6.5 | D53: =C53/20*20 -> 6.5 | E53: =C53/20*20 -> 6.5
A54: 2361 | B54: Mīkstais inventārs | C54: 1 | D54: =C54/20*20 -> 1 | E54: =C54/20*20 -> 1
A55: 2362 | B55: Virtuves inventārs, trauki un galda piederumi | D55: =C55/20*20 -> 0 | E55: =C55/20*20 -> 0
A56: 2363 | B56: Ēdināšanas izdevumi | D56: =C56/20*20 -> 0 | E56: =C56/20*20 -> 0
A57: 2370 | B57: Mācību līdzekļi un materiāli | D57: =C57/20*20 -> 0 | E57: =C57/20*20 -> 0
A58: 2400 | B58: Izdevumi periodikas iegādei | C58: 1 | D58: =C58/20*20 -> 1 | E58: =C58/20*20 -> 1
A59: 2512 | B59: Budžeta iestāžu pievienotās vērtības nodokļa maksājumi | C59: 58.21 | D59: =C59/20*20 -> 58.21 | E59: =C59/20*20 -> 58.21
A60: 2513 | B60: Budžeta iestāžu nekustamā īpašuma nodokļa (t.sk. zemes nodokļa parāda) maksājumi budžetā | C60: 1 | D60: =C60/20*20 -> 1 | E60: =C60/20*20 -> 1
A61: 2515 | B61: Budžeta iestāžu dabas resursu nodokļa maksājumi | C61: 1 | D61: =C61/20*20 -> 1 | E61: =C61/20*20 -> 1
A62: 2519 | B62: Pārējie budžeta iestāžu pārskaitītie nodokļi un nodevas | C62: 2 | D62: =C62/20*20 -> 2 | E62: =C62/20*20 -> 2
A63: 6240 | D63: =C63/20*20 -> 0 | E63: =C63/20*20 -> 0
A64: 6290 | D64: =C64/20*20 -> 0 | E64: =C64/20*20 -> 0
A65: 5121 | B65: Datorprogrammas | C65: 2 | D65: =C65/20*20 -> 2 | E65: =C65/20*20 -> 2
A66: 5238 | B66: Datortehnika, sakaru un cita biroja tehnika | C66: 0 | D66: =C66/20*20 -> 0 | E66: =C66/20*20 -> 0
A67: 5240 | B67: Pamatlīdzekļu izveidošana un nepabeigtā būvniecība | C67: 0 | D67: =C67/20*20 -> 0 | E67: =C67/20*20 -> 0
A68: 5250 | B68: Kapitālais remonts un rekonstrukcija | C68: 0 | D68: =C68/20*20 -> 0 | E68: =C68/20*20 -> 0
B69: Netiešās izmaksas kopā | C69: =SUM(C25:C68) -> 118.2 | D69: =SUM(D25:D68) -> 118.2 | E69: =SUM(E25:E68) -> 118.2
B70: Pakalpojumu izmaksas kopā | C70: =C69+C24 -> 335.4 | D70: =D69+D24 -> 335.4 | E70: =E69+E24 -> 335.4
A72: Maksas pakalpojuma vienību skaits noteiktā laikposmā (gab.) | C72: 20 | D72: 20 | E72: 20
A73: Maksas pakalpojuma izcenojums (latos) (pakalpojuma izmaksas kopā, dalītas ar maksas pakalpojuma vienību skaitu noteiktā laikposmā) | C73: =C70/C72 -> 16.77 | D73: =D70/D72 -> 16.77 | E73: =E70/E72 -> 16.77
A75: Prognozētais maksas pakalpojumu skaits gadā (gab.)* | E75: =E69/E24 -> 0.5441989
A76: Prognozētie ieņēmumi gadā (latos)* (prognozētais maksas pakalpojumu skaits gadā, reizināts ar maksas pakalpojuma izcenojumu)
A78: Piezīme. *Ailes neaizpilda, ja izvēlētais laikposms ir viens gads.
A80: Aprēķinu sastādīja: SIVA Finanšu nodaļas vecākā ekonomiste Anita Ozoliņa
B81: (amats) (Vārds, Uzvārds) (paraksts)

Sheet 7.4.
D1: SASKAŅOTS | E1: SASKAŅOTS
D2: Sociālās integrācijas valsts aģentūras | E2: Sociālās integrācijas valsts aģentūras
D3: direktore I.Jurševska | E3: direktore I.Jurševska
D5: 2022.gada | E5: 2023. gada 29.martā
A7: Maksas pakalpojuma izcenojuma aprēķins
A9: Sociālās integrācijas valsts aģentūra
A10: Publiskā pakalpojuma veids:
B11: 7. Transportlīdzekļi, transportlīdzekļu stāvvietas un transportlīdzekļu vadītāju apmācība
B12: 7.4. Vieglā automobiļa (līdz 3,5 t) iznomāšana ar šoferi klientiem nobraukumam līdz 50 km, līdz 2 stundām
A13: Laikposms | B13: 2023.gadā un turpmāk
A15: Izdevumu klasifikācijas kods | B15: Rādītājs (materiāla/izejvielas nosaukums, atlīdzība un citi izmaksu veidi) | D15: Izmaksu apjoms noteiktā laikposmā viena maksas pakalpojuma veida nodrošināšanai | E15: Izmaksu apjoms noteiktā laikposmā viena maksas pakalpojuma veida nodrošināšanai
A16: 1 | B16: 2 | D16: 3 | E16: 3
B17: Tiešās izmaksas
A18: 1100 | B18: Atalgojums | D18: 152.24 | E18: 41.87
A19: 1200 | B19: Darba devēja valsts sociālās apdrošināšanas obligātās iemaksas, pabalsti un kompensācijas | D19: 35.91 | E19: 9.88
A20: 2222 | B20: Izdevumi par ūdensapgādi un kanalizāciju | D20: 23.52 | E20: =D20/20*5 -> 5.88
A21: 2242 | B21: Transportlīdzekļu uzturēšana un remonts | D21: 44.96 | E21: =D21/20*5 -> 11.24
A22: 2322 | B22: Degviela | D22: 201.4 | E22: =D22/20*5 -> 50.35
A23: 5231 | B23: Transportlīdzekļi | C23: =15344*0.1/12/168*2 -> 1.5222222 | D23: 30.44 | E23: =D23/20*5 -> 7.61
B24: Tiešās izmaksas kopā | C24: =SUM(C18:C23) -> 1.5222222 | D24: =SUM(D18:D23) -> 488.47 | E24: =SUM(E18:E23) -> 126.83
B25: Netiešās izmaksas
A26: 1100 | B26: Atalgojums | C26: 0.52067 | D26: 63.52 | E26: 17.47
A27: 1200 | B27: Darba devēja valsts sociālās apdrošināšanas obligātās iemaksas, pabalsti un kompensācijas | C27: 0.12282 | D27: 14.98 | E27: 4.12
A28: 2210 | B28: Izdevumi par sakaru pakalpojumiem | C28: 0.01733 | D28: 2.11 | E28: 0.53
A29: 2222 | B29: Izdevumi par ūdeni un kanalizāciju | D29: 0 | E29: =D29/20*5 -> 0
A30: 2223 | B30: Izdevumi par elektroenerģiju | C30: 0.06503 | D30: 7.93 | E30: 1.98
A31: 2244 | B31: Nekustamā īpašuma uzturēšana | C31: 0.04406 | D31: 5.33 | E31: 1.33
A32: 2311 | B32: Biroja preces | C32: 0.01168 | D32: 1.42 | E32: 0.36
A33: 2312 | B33: Inventārs | C33: 0.00477 | D33: 0.58 | E33: 0.15
A34: 2321 | B34: Kurināmais | C34: 0.05181 | D34: 6.32 | E34: 1.58
A35: 2350 | B35: Iestāžu uzturēšanas materiāli un preces | C35: 0.16183 | D35: 19.74 | E35: 4.9
B36: Netiešās izmaksas kopā | C36: =SUM(C26:C35) -> 1 | D36: =SUM(D26:D35) -> 121.93 | E36: =SUM(E26:E35) -> 32.42
B37: Pakalpojumu izmaksas kopā | D37: =D36+D24 -> 610.4 | E37: =E36+E24 -> 159.25
A39: Maksas pakalpojuma vienību skaits noteiktā laikposmā (gab.) | D39: 20 | E39: 5
A40: Maksas pakalpojuma izcenojums (euro) | D40: =D37/D39 -> 30.52 | E40: =E37/E39 -> 31.85
A42: Prognozētais maksas pakalpojumu skaits gadā (gab.)*
A43: Prognozētie ieņēmumi gadā (euro)*
A45: Piezīme. *Ailes neaizpilda, ja izvēlētais laikposms ir viens gads.
A47: Aprēķinu sastādīja: SIVA Finanšu nodaļas finanšu ekonomiste E.Lipiņa

Sheet 7.4.1.
D1: SASKAŅOTS | E1: SASKAŅOTS
D2: Sociālās integrācijas valsts aģentūras | E2: Sociālās integrācijas valsts aģentūras
D3: direktore I.Jurševska | E3: direktore I.Jurševska
D5: 2022.gada | E5: 2023. gada 29.martā
A7: Maksas pakalpojuma izcenojuma aprēķins
A9: Sociālās integrācijas valsts aģentūra
A10: Publiskā pakalpojuma veids:
B11: 7. Transportlīdzekļi, transportlīdzekļu stāvvietas un transportlīdzekļu vadītāju apmācība
B12: 7.4. Vieglā automobiļa (līdz 3,5 t) iznomāšana ar šoferi
B13: 7.4.1. Papildus par katru kilometru virs 50 km
A14: Laikposms | B14: 2023.gadā un turpmāk
A15: Izdevumu klasifikācijas kods | B15: Rādītājs (materiāla/izejvielas nosaukums, atlīdzība un citi izmaksu veidi) | D15: Izmaksu apjoms noteiktā laikposmā viena maksas pakalpojuma veida nodrošināšanai | E15: Izmaksu apjoms noteiktā laikposmā viena maksas pakalpojuma veida nodrošināšanai
A16: 1 | B16: 2 | D16: 3 | E16: 3
B17: Tiešās izmaksas
A18: 1100 | B18: Atalgojums | D18: 40.48 | E18: 11.13
A19: 1200 | B19: Darba devēja valsts sociālās apdrošināšanas obligātās iemaksas, pabalsti un kompensācijas | D19: 9.55 | E19: 2.63
A20: 2222 | B20: Izdevumi par ūdensapgādi un kanalizāciju | D20: 4 | E20: 1
A21: 2242 | B21: Transportlīdzekļu uzturēšana un remonts | C21: =44.96/20/50 -> 0.04496 | D21: 8.99 | E21: 2.25
A22: 2322 | B22: Degviela | D22: 40.28 | E22: 10.07
A23: 5231 | B23: Transportlīdzekļi | C23: =15344*0.1/12/168*2/50 -> 0.030444444 | D23: 6.09 | E23: 1.52
B24: Tiešās izmaksas kopā | C24: =SUM(C18:C23) -> 0.075404444 | D24: =SUM(D18:D23) -> 109.39 | E24: =SUM(E18:E23) -> 28.6
B25: Netiešās izmaksas
A26: 1100 | B26: Atalgojums | C26: 0.52067 | D26: 10.62 | E26: 2.93
A27: 1200 | B27: Darba devēja valsts sociālās apdrošināšanas obligātās iemaksas, pabalsti un kompensācijas | C27: 0.12282 | D27: 2.51 | E27: 0.69
A28: 2210 | B28: Izdevumi par sakaru pakalpojumiem | C28: 0.01733 | D28: 0.42 | E28: 0.11
A29: 2222 | B29: Izdevumi par ūdeni un kanalizāciju | D29: 0 | E29: =D29/200*50 -> 0
A30: 2223 | B30: Izdevumi par elektroenerģiju | C30: 0.06503 | D30: 1.58 | E30: 0.4
A31: 2244 | B31: Nekustamā īpašuma uzturēšana | C31: 0.04406 | D31: 1.07 | E31: 0.27
A32: 2311 | B32: Biroja preces | C32: 0.01168 | D32: 0.28 | E32: 0.07
A33: 2312 | B33: Inventārs | C33: 0.00477 | D33: 0.12 | E33: 0.03
A34: 2321 | B34: Kurināmais | C34: 0.05181 | D34: 1.26 | E34: 0.32
A35: 2350 | B35: Iestāžu uzturēšanas materiāli un preces | C35: 0.16183 | D35: 2.75 | E35: 0.58
B36: Netiešās izmaksas kopā | C36: =SUM(C26:C35) -> 1 | D36: =SUM(D26:D35) -> 20.61 | E36: =SUM(E26:E35) -> 5.4
B37: Pakalpojumu izmaksas kopā | D37: =D24+D36 -> 130 | E37: =E36+E24 -> 34
A39: Maksas pakalpojuma vienību skaits noteiktā laikposmā (gab.) | D39: 200 | E39: 50
A40: Maksas pakalpojuma izcenojums (euro) | D40: =D37/D39 -> 0.65 | E40: =E37/E39 -> 0.68
A42: Prognozētais maksas pakalpojumu skaits gadā (gab.)*
A43: Prognozētie ieņēmumi gadā (euro)*
A45: Piezīme. *Ailes neaizpilda, ja izvēlētais laikposms ir viens gads.
A47: Aprēķinu sastādīja: SIVA Finanšu nodaļas finanšu ekonomiste E.Lipiņa

Sheet 10.4.2._
E1: SASKAŅOTS
E2: Sociālās integrācijas valsts aģentūras
E3: direktora p.i. I.Misūna
E4: (amats) (vārds, uzvārds) (paraksts)
E5: 2013.gada 19.jūnijā
A7: Maksas pakalpojuma izcenojuma aprēķins
A9: Sociālās integrācijas valsts aģentūra
A10: Publiskā pakalpojuma veids:
B11: 10. Autotransports un autotransporta stāvvietas
B12: 10.4. Vieglās automašīnas (līdz 3,5 t) iznomāšana ar šoferi klientiem nobraukumam līdz 50 km, līdz 2 stundām
B13: 10.4.2. Papildus par katru kilometru virs 50 km
A14: Laikposms | B14: 2013.gadā un turpmāk
A16: Izdevumu klasifikācijas kods | B16: Rādītājs (materiāla/izejvielas nosaukums, atlīdzība un citi izmaksu veidi) | C16: Izmaksu apjoms noteiktā laikposmā viena maksas pakalpojuma veida nodrošināšanai | D16: Izmaksu apjoms noteiktā laikposmā viena maksas pakalpojuma veida nodrošināšanai (2013.gada II pusgads) | E16: Izmaksu apjoms noteiktā laikposmā viena maksas pakalpojuma veida nodrošināšanai (2014) un turpmākajos gados
A17: 1 | B17: 2 | C17: 3 | D17: 3 | E17: 4
B18: Tiešās izmaksas
A19: 1000 | B19: Atlīdzība | C19: 0 | D19: =C19/200*300 -> 0 | E19: =C19/200*300 -> 0
A20: 2322 | B20: Degviela | C20: 30.66 | D20: =C20/200*300 -> 45.99 | E20: =C20/200*300 -> 45.99
C21: 0 | D21: =C21/200*300 -> 0 | E21: =C21/200*300 -> 0
D22: =C22/200*300 -> 0 | E22: =C22/200*300 -> 0
B23: Tiešās izmaksas kopā | C23: =SUM(C19:C22) -> 30.66 | D23: =SUM(D19:D22) -> 45.99 | E23: =SUM(E19:E22) -> 45.99
B24: Netiešās izmaksas
A25: 1100 | B25: Atalgojums | C25: 12.89 | D25: =C25/200*300 -> 19.335 | E25: =C25/200*300 -> 19.335
A26: 1200 | B26: Darba devēja valsts sociālās apdrošināšanas obligātās iemaksas, sociāla rakstura pabalsti un kompensācijas | C26: 3.11 | D26: =C26/200*300 -> 4.665 | E26: =C26/200*300 -> 4.665
A27: 2100 | B27: Mācību, darba un dienesta komandējumi, dienesta, darba braucieni | D27: =C27/200*300 -> 0 | E27: =C27/200*300 -> 0
A28: 2210 | B28: Pasta, telefona un citu sakaru pakalpojumi | C28: 6 | D28: =C28/200*300 -> 9 | E28: =C28/200*300 -> 9
A29: 2222 | B29: Izdevumi par ūdeni un kanalizāciju | C29: 0 | D29: =C29/200*300 -> 0 | E29: =C29/200*300 -> 0
A30: 2223 | B30: Izdevumi par elektroenerģiju | C30: 0 | D30: =C30/200*300 -> 0 | E30: =C30/200*300 -> 0
A31: 2230 | B31: Iestādes administratīvie izdevumi un ar iestādes darbības nodrošināšanu saistītie izdevumi | C31: 1 | D31: =C31/200*300 -> 1.5 | E31: =C31/200*300 -> 1.5
A32: 2241 | B32: Ēku, būvju un telpu kārtējais remonts | D32: =C32/200*300 -> 0 | E32: =C32/200*300 -> 0
A33: 2242 | B33: Transportlīdzekļu uzturēšana un remonts | C33: 0 | D33: =C33/200*300 -> 0 | E33: =C33/200*300 -> 0
A34: 2243 | B34: Iekārtas, inventāra un aparatūras remonts, tehniskā apkalpošana | C34: 0 | D34: =C34/200*300 -> 0 | E34: =C34/200*300 -> 0
A35: 2244 | B35: Ēku, būvju un telpu uzturēšana | C35: 0 | D35: =C35/200*300 -> 0 | E35: =C35/200*300 -> 0
A36: 2247 | B36: Apdrošināšanas izdevumi | C36: 0 | D36: =C36/200*300 -> 0 | E36: =C36/200*300 -> 0
A37: 2249 | B37: Pārējie remonta darbu un iestāžu uzturēšanas pakalpojumi | C37: 0 | D37: =C37/200*300 -> 0 | E37: =C37/200*300 -> 0
A38: 2251 | B38: Informācijas sistēmas uzturēšana | C38: 0 | D38: =C38/200*300 -> 0 | E38: =C38/200*300 -> 0
A39: 2252 | B39: Informācijas sistēmas licenču nomas izdevumi | D39: =C39/200*300 -> 0 | E39: =C39/200*300 -> 0
A40: 2259 | B40: Pārējie informācijas tehnoloģiju pakalpojumi | D40: =C40/200*300 -> 0 | E40: =C40/200*300 -> 0
A41: 2261 | B41: Ēku, telpu īre un noma | C41: 0 | D41: =C41/200*300 -> 0 | E41: =C41/200*300 -> 0
A42: 2262 | B42: Transportlīdzekļu noma | C42: 0 | D42: =C42/200*300 -> 0 | E42: =C42/200*300 -> 0
A43: 2263 | B43: Zemes noma | C43: 0 | D43: =C43/200*300 -> 0 | E43: =C43/200*300 -> 0
A44: 2264 | B44: Iekārtu un inventāra īre un noma | C44: 0 | D44: =C44/200*300 -> 0 | E44: =C44/200*300 -> 0
A45: 2279 | B45: Pārējie iepriekš neklasificētie pakalpojumu veidi | C45: 0 | D45: =C45/200*300 -> 0 | E45: =C45/200*300 -> 0
A46: 2311 | B46: Biroja preces | C46: 0 | D46: =C46/200*300 -> 0 | E46: =C46/200*300 -> 0
A47: 2312 | B47: Inventārs | C47: 0 | D47: =C47/200*300 -> 0 | E47: =C47/200*300 -> 0
A48: 2321 | B48: Kurināmais | C48: 0 | D48: =C48/200*300 -> 0 | E48: =C48/200*300 -> 0
A49: 2322 | B49: Degviela | C49: 0 | D49: =C49/200*300 -> 0 | E49: =C49/200*300 -> 0
A50: 2341 | B50: Zāles, ķimikālijas, laboratorijas preces | C50: 0 | D50: =C50/200*300 -> 0 | E50: =C50/200*300 -> 0
A51: 2344 | B51: Medicīnas instrumenti, laboratorijas dzīvnieki un to uzturēšana | C51: 0 | D51: =C51/200*300 -> 0 | E51: =C51/200*300 -> 0
A52: 2350 | B52: Kārtējā remonta un iestāžu uzturēšanas materiāli | C52: 0 | D52: =C52/200*300 -> 0 | E52: =C52/200*300 -> 0
A53: 2361 | B53: Mīkstais inventārs | C53: 0 | D53: =C53/200*300 -> 0 | E53: =C53/200*300 -> 0
A54: 2362 | B54: Virtuves inventārs, trauki un galda piederumi | D54: =C54/200*300 -> 0 | E54: =C54/200*300 -> 0
A55: 2363 | B55: Ēdināšanas izdevumi | D55: =C55/200*300 -> 0 | E55: =C55/200*300 -> 0
A56: 2370 | B56: Mācību līdzekļi un materiāli | D56: =C56/200*300 -> 0 | E56: =C56/200*300 -> 0
A57: 2400 | B57: Izdevumi periodikas iegādei | C57: 0 | D57: =C57/200*300 -> 0 | E57: =C57/200*300 -> 0
A58: 2512 | B58: Budžeta iestāžu pievienotās vērtības nodokļa maksājumi | C58: 11.34 | D58: =C58/200*300 -> 17.01 | E58: =C58/200*300 -> 17.01
A59: 2513 | B59: Budžeta iestāžu nekustamā īpašuma nodokļa (t.sk. zemes nodokļa parāda) maksājumi budžetā | C59: 0 | D59: =C59/200*300 -> 0 | E59: =C59/200*300 -> 0
A60: 2515 | B60: Budžeta iestāžu dabas resursu nodokļa maksājumi | C60: 0 | D60: =C60/200*300 -> 0 | E60: =C60/200*300 -> 0
A61: 2519 | B61: Pārējie budžeta iestāžu pārskaitītie nodokļi un nodevas | C61: 0 | D61: =C61/200*300 -> 0 | E61: =C61/200*300 -> 0
A62: 6240 | D62: =C62/200*300 -> 0 | E62: =C62/200*300 -> 0
A63: 6290 | D63: =C63/200*300 -> 0 | E63: =C63/200*300 -> 0
A64: 5121 | B64: Datorprogrammas | C64: 1 | D64: =C64/200*300 -> 1.5 | E64: =C64/200*300 -> 1.5
A65: 5232 | B65: Saimniecības pamatlīdzekļi | C65: 0 | D65: =C65/200*300 -> 0 | E65: =C65/200*300 -> 0
A66: 5238 | B66: Datortehnika, sakaru un cita biroja tehnika | C66: 0 | D66: =C66/200*300 -> 0 | E66: =C66/200*300 -> 0
A67: 5240 | B67: Pamatlīdzekļu izveidošana un nepabeigtā būvniecība | C67: 0 | D67: =C67/200*300 -> 0 | E67: =C67/200*300 -> 0
A68: 5250 | B68: Kapitālais remonts un rekonstrukcija | C68: 0 | D68: =C68/200*300 -> 0 | E68: =C68/200*300 -> 0
B69: Netiešās izmaksas kopā | C69: =SUM(C25:C68) -> 35.34 | D69: =SUM(D25:D68) -> 53.01 | E69: =SUM(E25:E68) -> 53.01
B70: Pakalpojumu izmaksas kopā | C70: =C69+C23 -> 66 | D70: =D69+D23 -> 99 | E70: =E69+E23 -> 99
A72: Maksas pakalpojuma vienību skaits noteiktā laikposmā (gab.) | C72: 200 | D72: 300 | E72: 300
A73: Maksas pakalpojuma izcenojums (latos) (pakalpojuma izmaksas kopā, dalītas ar maksas pakalpojuma vienību skaitu noteiktā laikposmā) | C73: =C70/C72 -> 0.33 | D73: =D70/D72 -> 0.33 | E73: =E70/E72 -> 0.33
A75: Prognozētais maksas pakalpojumu skaits gadā (gab.)*
A76: Prognozētie ieņēmumi gadā (latos)* (prognozētais maksas pakalpojumu skaits gadā, reizināts ar maksas pakalpojuma izcenojumu)
A78: Piezīme. *Ailes neaizpilda, ja izvēlētais laikposms ir viens gads.
A80: Aprēķinu sastādīja: SIVA Finanšu nodaļas vecākā ekonomiste Anita Ozoliņa
B81: (amats) (Vārds, Uzvārds) (paraksts)

Sheet 7.4.2.
D1: SASKAŅOTS | E1: SASKAŅOTS
D2: Sociālās integrācijas valsts aģentūras | E2: Sociālās integrācijas valsts aģentūras
D3: direktore I.Jurševska | E3: direktore I.Jurševska
D5: 2022.gada | E5: 2023. gada 29.martā
A7: Maksas pakalpojuma izcenojuma aprēķins
A9: Sociālās integrācijas valsts aģentūra
A10: Publiskā pakalpojuma veids:
B11: 7. Transportlīdzekļi, transportlīdzekļu stāvvietas un transportlīdzekļu vadītāju apmācība
B12: 7.4. Vieglā automobiļa (līdz 3,5 t) iznomāšana ar šoferi
B13: 7.4.2. Laiks virs 2 stundām (1 stunda)
A14: Laikposms | B14: 2023.gadā un turpmāk
A15: Izdevumu klasifikācijas kods | B15: Rādītājs (materiāla/izejvielas nosaukums, atlīdzība un citi izmaksu veidi) | D15: Izmaksu apjoms noteiktā laikposmā viena maksas pakalpojuma veida nodrošināšanai | E15: Izmaksu apjoms noteiktā laikposmā viena maksas pakalpojuma veida nodrošināšanai
A16: 1 | B16: 2 | D16: 3 | E16: 3
B17: Tiešās izmaksas
A18: 1100 | B18: Atalgojums | C18: ='7.4.'!D18/20/2 -> 3.806 | D18: 76.12 | E18: 20.93
A19: 1200 | B19: Darba devēja valsts sociālās apdrošināšanas obligātās iemaksas, pabalsti un kompensācijas | C19: =C18*0.2359 -> 0.8978354 | D19: 17.96 | E19: 4.94
A20: 2222 | B20: Izdevumi par ūdensapgādi un kanalizāciju | D20: =C20*20 -> 0 | E20: =D20/20*5 -> 0
A21: 2242 | B21: Transportlīdzekļu uzturēšana un remonts | C21: ='7.4.'!D21/20/2 -> 1.124 | D21: 22.48 | E21: 5.62
A22: 2322 | B22: Degviela | C22: =1.9*10.6/100 -> 0.2014 | D22: 4.03 | E22: 1.01
A23: 5231 | B23: Transportlīdzekļi | C23: =15344*0.1/12/168 -> 0.76111111 | D23: 15.22 | E23: 3.81
B24: Tiešās izmaksas kopā | C24: =SUM(C18:C23) -> 6.7903465 | D24: =SUM(D18:D23) -> 135.81 | E24: =SUM(E18:E23) -> 36.31
B25: Netiešās izmaksas
A26: 1100 | B26: Atalgojums | C26: 0.52067 | D26: 16.26 | E26: 4.48
A27: 1200 | B27: Darba devēja valsts sociālās apdrošināšanas obligātās iemaksas, pabalsti un kompensācijas | C27: 0.12282 | D27: 3.84 | E27: 1.06
A28: 2210 | B28: Izdevumi par sakaru pakalpojumiem | C28: 0.01733 | D28: 0.54 | E28: 0.14
A29: 2222 | B29: Izdevumi par ūdeni un kanalizāciju | D29: =C29*31.2356 -> 0 | E29: =D29/20*5 -> 0
A30: 2223 | B30: Izdevumi par elektroenerģiju | C30: 0.06503 | D30: 2.03 | E30: 0.51
A31: 2244 | B31: Nekustamā īpašuma uzturēšana | C31: 0.04406 | D31: 1.38 | E31: 0.35
A32: 2311 | B32: Biroja preces | C32: 0.01168 | D32: 0.36 | E32: 0.09
A33: 2312 | B33: Inventārs | C33: 0.00477 | D33: 0.15 | E33: 0.04
A34: 2321 | B34: Kurināmais | C34: 0.05181 | D34: 1.62 | E34: 0.41
A35: 2350 | B35: Iestāžu uzturēšanas materiāli un preces | C35: 0.16183 | D35: 5.01 | E35: 1.21
B36: Netiešās izmaksas kopā | C36: =SUM(C26:C35) -> 1 | D36: =SUM(D26:D35) -> 31.19 | E36: =SUM(E26:E35) -> 8.29
B37: Pakalpojumu izmaksas kopā | D37: =D36+D24 -> 167 | E37: =E36+E24 -> 44.6
A39: Maksas pakalpojuma vienību skaits noteiktā laikposmā (gab.) | D39: 20 | E39: 5
A40: Maksas pakalpojuma izcenojums (euro) | D40: =D37/D39 -> 8.35 | E40: =E37/E39 -> 8.92
A42: Prognozētais maksas pakalpojumu skaits gadā (gab.)*
A43: Prognozētie ieņēmumi gadā (euro)*
A45: Piezīme. *Ailes neaizpilda, ja izvēlētais laikposms ir viens gads.
A47: Aprēķinu sastādīja: SIVA Finanšu nodaļas finanšu ekonomiste E.Lipiņa

Sheet 10.4.3.
E1: SASKAŅOTS
E2: Sociālās integrācijas valsts aģentūras
E3: direktora p.i. I.Misūna
E4: (amats) (vārds, uzvārds) (paraksts)
E5: 2013.gada 19.jūnijā
A7: Maksas pakalpojuma izcenojuma aprēķins
A9: Sociālās integrācijas valsts aģentūra
A10: Publiskā pakalpojuma veids:
B11: 10. Autotransports un autotransporta stāvvietas
B12: 10.4. Vieglās automašīnas (līdz 3,5 t) iznomāšana ar šoferi klientiem nobraukumam līdz 50 km, līdz 2 stundām
B13: 10.4.3. Laiks virs 2 stundām (1 stunda)
A14: Laikposms | B14: 2013.gadā un turpmāk
A16: Izdevumu klasifikācijas kods | B16: Rādītājs (materiāla/izejvielas nosaukums, atlīdzība un citi izmaksu veidi) | C16: Izmaksu apjoms noteiktā laikposmā viena maksas pakalpojuma veida nodrošināšanai | D16: Izmaksu apjoms noteiktā laikposmā viena maksas pakalpojuma veida nodrošināšanai (2013.gada II pusgads) | E16: Izmaksu apjoms noteiktā laikposmā viena maksas pakalpojuma veida nodrošināšanai (2014) un turpmākajos gados
A17: 1 | B17: 2 | C17: 3 | D17: 3 | E17: 4
B18: Tiešās izmaksas
A19: 1100 | B19: Atalgojums | C19: 36.43 | D19: =C19/20*20 -> 36.43 | E19: =C19/20*20 -> 36.43
A20: 1200 | B20: Darba devēja valsts sociālās apdrošināšanas obligātās iemaksas, sociāla rakstura pabalsti un kompensācijas | C20: 8.77 | D20: =C20/20*20 -> 8.77 | E20: =C20/20*20 -> 8.77
A21: 2242 | B21: Transportlīdzekļu uzturēšana un remonts | C21: 15.8 | D21: =C21/20*20 -> 15.8 | E21: =C21/20*20 -> 15.8
A22: 2249 | B22: Pārējie remonta darbu un iestāžu uzturēšanas pakalpojumi | C22: 0 | D22: =C22/20*20 -> 0 | E22: =C22/20*20 -> 0
D23: =C23/20*20 -> 0 | E23: =C23/20*20 -> 0
B24: Tiešās izmaksas kopā | C24: =SUM(C19:C23) -> 61 | D24: =SUM(D19:D23) -> 61 | E24: =SUM(E19:E23) -> 61
B25: Netiešās izmaksas
A26: 1100 | B26: Atalgojums | C26: 11.44 | D26: =C26/20*20 -> 11.44 | E26: =C26/20*20 -> 11.44
A27: 1200 | B27: Darba devēja valsts sociālās apdrošināšanas obligātās iemaksas, sociāla rakstura pabalsti un kompensācijas | C27: 2.76 | D27: =C27/20*20 -> 2.76 | E27: =C27/20*20 -> 2.76
A28: 2100 | B28: Mācību, darba un dienesta komandējumi, dienesta, darba braucieni | D28: =C28/20*20 -> 0 | E28: =C28/20*20 -> 0
A29: 2210 | B29: Pasta, telefona un citu sakaru pakalpojumi | C29: 5.6 | D29: =C29/20*20 -> 5.6 | E29: =C29/20*20 -> 5.6
A30: 2222 | B30: Izdevumi par ūdeni un kanalizāciju | C30: 0 | D30: =C30/20*20 -> 0 | E30: =C30/20*20 -> 0
A31: 2223 | B31: Izdevumi par elektroenerģiju | C31: 0 | D31: =C31/20*20 -> 0 | E31: =C31/20*20 -> 0
A32: 2230 | B32: Iestādes administratīvie izdevumi un ar iestādes darbības nodrošināšanu saistītie izdevumi | C32: 2 | D32: =C32/20*20 -> 2 | E32: =C32/20*20 -> 2
A33: 2241 | B33: Ēku, būvju un telpu kārtējais remonts | D33: =C33/20*20 -> 0 | E33: =C33/20*20 -> 0
A34: 2242 | B34: Transportlīdzekļu uzturēšana un remonts | C34: 0 | D34: =C34/20*20 -> 0 | E34: =C34/20*20 -> 0
A35: 2243 | B35: Iekārtas, inventāra un aparatūras remonts, tehniskā apkalpošana | C35: 0 | D35: =C35/20*20 -> 0 | E35: =C35/20*20 -> 0
A36: 2244 | B36: Ēku, būvju un telpu uzturēšana | C36: 0 | D36: =C36/20*20 -> 0 | E36: =C36/20*20 -> 0
A37: 2247 | B37: Apdrošināšanas izdevumi | C37: 0 | D37: =C37/20*20 -> 0 | E37: =C37/20*20 -> 0
A38: 2249 | B38: Pārējie remonta darbu un iestāžu uzturēšanas pakalpojumi | C38: 0 | D38: =C38/20*20 -> 0 | E38: =C38/20*20 -> 0
A39: 2251 | B39: Informācijas sistēmas uzturēšana | C39: 1 | D39: =C39/20*20 -> 1 | E39: =C39/20*20 -> 1
A40: 2252 | B40: Informācijas sistēmas licenču nomas izdevumi | D40: =C40/20*20 -> 0 | E40: =C40/20*20 -> 0
A41: 2259 | B41: Pārējie informācijas tehnoloģiju pakalpojumi | D41: =C41/20*20 -> 0 | E41: =C41/20*20 -> 0
A42: 2261 | B42: Ēku, telpu īre un noma | C42: 0 | D42: =C42/20*20 -> 0 | E42: =C42/20*20 -> 0
A43: 2262 | B43: Transportlīdzekļu noma | C43: 0 | D43: =C43/20*20 -> 0 | E43: =C43/20*20 -> 0
A44: 2263 | B44: Zemes noma | C44: 0 | D44: =C44/20*20 -> 0 | E44: =C44/20*20 -> 0
A45: 2264 | B45: Iekārtu un inventāra īre un noma | C45: 0 | D45: =C45/20*20 -> 0 | E45: =C45/20*20 -> 0
A46: 2279 | B46: Pārējie iepriekš neklasificētie pakalpojumu veidi | C46: 0 | D46: =C46/20*20 -> 0 | E46: =C46/20*20 -> 0
A47: 2311 | B47: Biroja preces | C47: 1.03 | D47: =C47/20*20 -> 1.03 | E47: =C47/20*20 -> 1.03
A48: 2312 | B48: Inventārs | C48: 0 | D48: =C48/20*20 -> 0 | E48: =C48/20*20 -> 0
A49: 2321 | B49: Kurināmais | C49: 0 | D49: =C49/20*20 -> 0 | E49: =C49/20*20 -> 0
A50: 2322 | B50: Degviela | C50: 0 | D50: =C50/20*20 -> 0 | E50: =C50/20*20 -> 0
A51: 2341 | B51: Zāles, ķimikālijas, laboratorijas preces | C51: 0 | D51: =C51/20*20 -> 0 | E51: =C51/20*20 -> 0
A52: 2344 | B52: Medicīnas instrumenti, laboratorijas dzīvnieki un to uzturēšana | C52: 0 | D52: =C52/20*20 -> 0 | E52: =C52/20*20 -> 0
A53: 2350 | B53: Kārtējā remonta un iestāžu uzturēšanas materiāli | C53: 9 | D53: =C53/20*20 -> 9 | E53: =C53/20*20 -> 9
A54: 2361 | B54: Mīkstais inventārs | C54: 1 | D54: =C54/20*20 -> 1 | E54: =C54/20*20 -> 1
A55: 2362 | B55: Virtuves inventārs, trauki un galda piederumi | D55: =C55/20*20 -> 0 | E55: =C55/20*20 -> 0
A56: 2363 | B56: Ēdināšanas izdevumi | D56: =C56/20*20 -> 0 | E56: =C56/20*20 -> 0
A57: 2370 | B57: Mācību līdzekļi un materiāli | D57: =C57/20*20 -> 0 | E57: =C57/20*20 -> 0
A58: 2400 | B58: Izdevumi periodikas iegādei | C58: 1 | D58: =C58/20*20 -> 1 | E58: =C58/20*20 -> 1
A59: 2512 | B59: Budžeta iestāžu pievienotās vērtības nodokļa maksājumi | C59: 21.17 | D59: =C59/20*20 -> 21.17 | E59: =C59/20*20 -> 21.17
A60: 2513 | B60: Budžeta iestāžu nekustamā īpašuma nodokļa (t.sk. zemes nodokļa parāda) maksājumi budžetā | C60: 2 | D60: =C60/20*20 -> 2 | E60: =C60/20*20 -> 2
A61: 2515 | B61: Budžeta iestāžu dabas resursu nodokļa maksājumi | C61: 1 | D61: =C61/20*20 -> 1 | E61: =C61/20*20 -> 1
A62: 2519 | B62: Pārējie budžeta iestāžu pārskaitītie nodokļi un nodevas | C62: 1 | D62: =C62/20*20 -> 1 | E62: =C62/20*20 -> 1
A63: 6240 | D63: =C63/20*20 -> 0 | E63: =C63/20*20 -> 0
A64: 6290 | D64: =C64/20*20 -> 0 | E64: =C64/20*20 -> 0
A65: 5121 | B65: Datorprogrammas | C65: 1 | D65: =C65/20*20 -> 1 | E65: =C65/20*20 -> 1
A66: 5232 | B66: Saimniecības pamatlīdzekļi | C66: 0 | D66: =C66/200*300 -> 0 | E66: =C66/200*300 -> 0
A67: 5238 | B67: Datortehnika, sakaru un cita biroja tehnika | C67: 0 | D67: =C67/200*300 -> 0 | E67: =C67/200*300 -> 0
A68: 5240 | B68: Pamatlīdzekļu izveidošana un nepabeigtā būvniecība | C68: 0 | D68: =C68/200*300 -> 0 | E68: =C68/200*300 -> 0
A69: 5250 | B69: Kapitālais remonts un rekonstrukcija | D69: =SUM(D25:D68) -> 61 | E69: =SUM(E25:E68) -> 61
B70: Netiešās izmaksas kopā | C70: =SUM(C26:C65) -> 61 | D70: =SUM(D26:D65) -> 61 | E70: =SUM(E26:E65) -> 61
B71: Pakalpojumu izmaksas kopā | C71: =C70+C24 -> 122 | D71: =D70+D24 -> 122 | E71: =E70+E24 -> 122
A73: Maksas pakalpojuma vienību skaits noteiktā laikposmā (gab.) | C73: 20 | D73: 20 | E73: 20
A74: Maksas pakalpojuma izcenojums (latos) (pakalpojuma izmaksas kopā, dalītas ar maksas pakalpojuma vienību skaitu noteiktā laikposmā) | C74: =C71/C73 -> 6.1 | D74: =D71/D73 -> 6.1 | E74: =E71/E73 -> 6.1
A76: Prognozētais maksas pakalpojumu skaits gadā (gab.)*
A77: Prognozētie ieņēmumi gadā (latos)* (prognozētais maksas pakalpojumu skaits gadā, reizināts ar maksas pakalpojuma izcenojumu)
A79: Piezīme. *Ailes neaizpilda, ja izvēlētais laikposms ir viens gads.
A81: Aprēķinu sastādīja: SIVA Finanšu nodaļas vecākā ekonomiste Anita Ozoliņa
B82: (amats) (Vārds, Uzvārds) (paraksts)

Sheet 7.5.1.
E1: SASKAŅOTS
E2: Sociālās integrācijas valsts aģentūras
E3: direktore I.Jurševska
E5: 2023. gada 29.martā
A7: Maksas pakalpojuma izcenojuma aprēķins
A9: Sociālās integrācijas valsts aģentūra
A10: Publiskā pakalpojuma veids:
B11: 7. Transportlīdzekļi, transportlīdzekļu stāvvietas un transportlīdzekļu vadītāju apmācība
B12: 7.5. Transportlīdzekļa vadītāja kursu teorijas apmācība
B13: 7.5.1. Teorijas mācību stunda
A14: Laikposms | B14: 2023.gadā un turpmāk
A15: Izdevumu klasifikācijas kods | B15: Rādītājs (materiāla/izejvielas nosaukums, atlīdzība un citi izmaksu veidi) | E15: Izmaksu apjoms noteiktā laikposmā viena maksas pakalpojuma veida nodrošināšanai
A16: 1 | B16: 2 | E16: 3
B17: Tiešās izmaksas
A18: 1100 | B18: Atalgojums | D18: =[4]MPC!D4 -> 3.1549708 | E18: 69.41
A19: 1200 | B19: Darba devēja valsts sociālās apdrošināšanas obligātās iemaksas, pabalsti un kompensācijas | D19: =[4]MPC!D5 -> 0.7442576 | E19: 16.37
A20: 2223 | B20: Izdevumi par elektroenerģiju | D20: =[4]MPC!D6 -> 0.07397432 | E20: 1.48
A21: 2321 | B21: Kurināmais | D21: =[4]MPC!D7 -> 0.078122413 | E21: 1.56
A22: 2311 | B22: Biroja preces | D22: =[4]MPC!D8 -> 0.0043421053 | E22: 0.09
A23: 2312 | B23: Inventārs | D23: =[4]MPC!D9 -> 0.054742484 | E23: 1.09
A24: 2370 | B24: Mācību līdzekļi un materiāli | D24: =[4]MPC!D10 -> 0.11175439 | E24: 2.24
A25: 2244 | B25: Nekustamā īpašuma uzturēšana | D25: =[4]MPC!D11 -> 0.043136986 | E25: 0.86
B26: Tiešās izmaksas kopā | D26: =[4]MPC!D12 -> 4.2653011 | E26: =SUM(E18:E25) -> 93.1
B27: Netiešās izmaksas
A28: 1100 | B28: Atalgojums | C28: 0.5144 | D28: =[4]MPC!D14 -> 0.95112944 | E28: 20.97
A29: 1200 | B29: Darba devēja valsts sociālās apdrošināšanas obligātās iemaksas, pabalsti un kompensācijas | C29: =C28*0.2359 -> 0.12134696 | D29: =[4]MPC!D15 -> 0.22437143 | E29: 4.95
A30: 2100 | B30: Mācību, darba un dienesta komandējumi, dienesta, darba braucieni | C30: 0.00081 | D30: =[4]MPC!D16 -> 0.001497696 | E30: 0.03
A31: 2210 | B31: Izdevumi par sakaru pakalpojumiem | C31: 0.008 | D31: =[4]MPC!D17 -> 0.01479206 | E31: 0.3
A32: 2222 | B32: Izdevumi par ūdensapgādi un kanalizāciju | C32: 0.00444 | D32: =[4]MPC!D18 -> 0.0082095931 | E32: 0.16
A33: 2223 | B33: Izdevumi par elektroenerģiju | C33: 0.05494 | D33: =[4]MPC!D19 -> 0.10158447 | E33: 2.03
A34: 2224 | B34: Izdevumi par atkritumu savākšanu, izvešanu no apdzīvotām vietām un teritorijām ārpus apdzīvotām vietām un atkritumu utilizāciju | C34: 0.00309 | D34: =[4]MPC!D20 -> 0.0057134331 | E34: 0.11
A35: 2231 | B35: Izdevumi iestādes sabiedrisko aktivitāšu īstenošanai | C35: 0.0015 | D35: =[4]MPC!D21 -> 0.0027735112 | E35: 0.06
A36: 2235 | B36: Izdevumi par saņemtajiem mācību pakalpojumiem | C36: 0.00251 | D36: =[4]MPC!D22 -> 0.0046410087 | E36: 0.09
A37: 2239 | B37: Pārējie neklasificētie pakalpojumi | C37: 0.00179 | D37: =[4]MPC!D23 -> 0.0033097234 | E37: 0.07
A38: 2241 | B38: Ēku, būvju un telpu būvdarbi | C38: 0.0165 | D38: =[4]MPC!D24 -> 0.030508623 | E38: 0.61
A39: 2242 | B39: Transportlīdzekļu uzturēšana un remonts | C39: 0.00085 | D39: =[4]MPC!D25 -> 0.0015716563 | E39: 0.03
A40: 2243 | B40: Iekārtas, inventāra un aparatūras remonts, tehniskā apkalpošana | C40: 0.0004 | D40: =[4]MPC!D26 -> 0.00073960299 | E40: 0.01
A41: 2244 | B41: Nekustamā īpašuma uzturēšana | C41: 0.06807 | D41: =[4]MPC!D27 -> 0.12586194 | E41: 2.53
... A59: 5250 | B59: Kapitālais remonts un rekonstrukcija | C59: 0.015 | D59: =[4]MPC!D45 -> 0.027735112 | E59: 0.45
B60: Netiešās izmaksas kopā | D60: =SUM(D28:D59) -> 1.8491128 | E60: =SUM(E28:E59) -> 39.1
B61: Pakalpojumu izmaksas kopā | D61: =D26+D60 -> 6.1144138 | E61: =E26+E60 -> 132.2
A63: Maksas pakalpojuma vienību skaits noteiktā laikposmā (gab.) | E63: 20
A64: Maksas pakalpojuma izcenojums (euro) | E64: =E61/E63 -> 6.61
A66: Prognozētais maksas pakalpojumu skaits gadā (gab.)*
A67: Prognozētie ieņēmumi gadā (euro)*
A69: Piezīme. *Ailes neaizpilda, ja izvēlētais laikposms ir viens gads.
A71: Aprēķinu sastādīja: SIVA Finanšu nodaļas finanšu ekonomiste Erna Lipiņa

Sheet 7.5.2.
C1: SASKAŅOTS | D1: SASKAŅOTS
C2: Sociālās integrācijas valsts aģentūras | D2: Sociālās integrācijas valsts aģentūras
C3: direktore I.Jurševska | D3: direktore I.Jurševska
C5: 2022.gada | D5: 2023. gada 29.martā
A7: Maksas pakalpojuma izcenojuma aprēķins
A9: Sociālās integrācijas valsts aģentūra
A10: Publiskā pakalpojuma veids:
B11: 7. Transportlīdzekļi, transportlīdzekļu stāvvietas un transportlīdzekļu vadītāju apmācība
B12: 7.5. Transportlīdzekļa vadītāja kursu teorijas apmācība
B13: 7.5.2. Teorijas mācību kurss , 1 kurss (57 mācību stundas)
A14: Laikposms | B14: 2023.gadā un turpmāk
A15: Izdevumu klasifikācijas kods | B15: Rādītājs (materiāla/izejvielas nosaukums, atlīdzība un citi izmaksu veidi) | C15: Izmaksu apjoms noteiktā laikposmā viena maksas pakalpojuma veida nodrošināšanai | D15: Izmaksu apjoms noteiktā laikposmā viena maksas pakalpojuma veida nodrošināšanai
A16: 1 | B16: 2 | C16: 3 | D16: 3
B17: Tiešās izmaksas
A18: 1100 | B18: Atalgojums | C18: =[5]MPC!H4 -> 54.350858 | D18: 163.05
A19: 1200 | B19: Darba devēja valsts sociālās apdrošināšanas obligātās iemaksas, pabalsti un kompensācijas | C19: =[5]MPC!H5 -> 12.821367 | D19: 38.46
A20: 2223 | B20: Izdevumi par elektroenerģiju | C20: =[5]MPC!H6 -> 1.0681892 | D20: 3.2
A21: 2321 | B21: Kurināmais | C21: =[5]MPC!H7 -> 1.1280876 | D21: 3.38
A22: 2311 | B22: Biroja preces | C22: =[5]MPC!H8 -> 0.03135 | D22: 0.09
A23: 2312 | B23: Inventārs | C23: =[5]MPC!H9 -> 1.8012815 | D23: 5.4
A24: 2370 | B24: Mācību līdzekļi un materiāli | C24: =[5]MPC!H10 -> 1.428 | D24: 4.28
A25: 2244 | B25: Nekustamā īpašuma uzturēšana | C25: =[5]MPC!H11 -> 0.62289807 | D25: 1.87
B26: Tiešās izmaksas kopā | C26: =SUM(C18:C25) -> 73.252031 | D26: =SUM(D18:D25) -> 219.73
B27: Netiešās izmaksas
A28: 1100 | B28: Atalgojums | C28: =[5]MPC!$H$14 -> 6.6814562 | D28: 20.01
A29: 1200 | B29: Darba devēja valsts sociālās apdrošināšanas obligātās iemaksas, pabalsti un kompensācijas | C29: =C28*0.2359 -> 1.5761555 | D29: 4.73
A30: 2100 | B30: Mācību, darba un dienesta komandējumi, dienesta, darba braucieni | C30: =[5]MPC!H16 -> 0.010520955 | D30: 0.03
A31: 2210 | B31: Izdevumi par sakaru pakalpojumiem | C31: =[5]MPC!H17 -> 0.10391067 | D31: 0.31
A32: 2222 | B32: Izdevumi par ūdensapgādi un kanalizāciju | C32: =[5]MPC!H18 -> 0.057670422 | D32: 0.17
A33: 2223 | B33: Izdevumi par elektroenerģiju | C33: =[5]MPC!H19 -> 0.71360653 | D33: 2.14
A34: 2224 | B34: Izdevumi par atkritumu savākšanu, izvešanu no apdzīvotām vietām un teritorijām ārpus apdzīvotām vietām un atkritumu utilizāciju | C34: =[5]MPC!H20 -> 0.040135497 | D34: 0.12
A35: 2231 | B35: Izdevumi iestādes sabiedrisko aktivitāšu īstenošanai | C35: =[5]MPC!H21 -> 0.019483251 | D35: 0.06
A36: 2235 | B36: Izdevumi par saņemtajiem mācību pakalpojumiem | C36: =[5]MPC!H22 -> 0.032601973 | D36: 0.1
A37: 2239 | B37: Pārējie neklasificētie pakalpojumi | C37: =[5]MPC!H23 -> 0.023250013 | D37: 0.07
A38: 2241 | B38: Ēku, būvju un telpu būvdarbi | C38: =[5]MPC!H24 -> 0.21431576 | D38: 0.64
A39: 2242 | B39: Transportlīdzekļu uzturēšana un remonts | C39: =[5]MPC!H25 -> 0.011040509 | D39: 0.03
A40: 2243 | B40: Iekārtas, inventāra un aparatūras remonts, tehniskā apkalpošana | C40: =[5]MPC!H26 -> 0.0051955336 | D40: 0.02
A41: 2244 | B41: Nekustamā īpašuma uzturēšana | C41: =[5]MPC!H27 -> 0.88414992 | D41: 2.66
... A51: 2322 | B51: Degviela | C51: =[5]MPC!H37 -> 0.027276551 | D51: 0.08
A52: 2512 | B52: Budžeta iestāžu pievienotās vērtības nodokļa maksājumi | C52: =[5]MPC!H38 -> 0 | D52: =C52*3 -> 0
A53: 2513 | B53: Budžeta iestāžu nekustamā īpašuma nodokļa maksājumi | C53: =[5]MPC!H39 -> 0.0081829654 | D53: 0.02
A54: 2515 | B54: Budžeta iestāžu dabas resursu nodokļa maksājumi | C54: =[5]MPC!H40 -> 0.035719293 | D54: 0.11
A55: 2519 | B55: Pārējie budžeta iestāžu pārskaitītie nodokļi un nodevas | C55: =[5]MPC!H41 -> 0.019613139 | D55: 0.06
A56: 5220 | B56: Tehnoloģiskās iekārtas un mašīnas | C56: =[5]MPC!H42 -> 0.13768164 | D56: 0.41
A57: 5238 | B57: Datortehnika, sakaru un cita biroja tehnika | C57: =[5]MPC!H43 -> 0.021431576 | D57: 0.06
A58: 5239 | B58: Pārējie iepriekš neklasificētie pamatlīdzekļi un ieguldījuma īpašumi | C58: =[5]MPC!H44 -> 0.25328226 | D58: 0.83
A59: 5250 | B59: Kapitālais remonts un rekonstrukcija | C59: =[5]MPC!H45 -> 0.19483251 | D59: 0.58
B60: Netiešās izmaksas kopā | C60: =SUM(C28:C59) -> 12.989574 | D60: =SUM(D28:D59) -> 38.99
B61: Pakalpojumu izmaksas kopā | C61: =C26+C60 -> 86.241605 | D61: =D26+D60 -> 258.72
A63: Maksas pakalpojuma vienību skaits noteiktā laikposmā (gab.) | C63: 1 | D63: 3
A64: Maksas pakalpojuma izcenojums (euro) | C64: =C61/C63 -> 86.241605 | D64: =D61/D63 -> 86.24
A66: Prognozētais maksas pakalpojumu skaits gadā (gab.)*
A67: Prognozētie ieņēmumi gadā (euro)*
A69: Piezīme. *Ailes neaizpilda, ja izvēlētais laikposms ir viens gads.
A71: Aprēķinu sastādīja: SIVA Finanšu nodaļas finanšu ekonomiste Erna Lipiņa

Sheet 10.5.2._
C1: SASKAŅOTS
C2: Sociālās integrācijas valsts aģentūras
C3: direktore I.Jurševska
C5: 2022.gada
A7: Maksas pakalpojuma izcenojuma aprēķins
A9: Sociālās integrācijas valsts aģentūra
A10: Publiskā pakalpojuma veids:
B11: 10. Transportlīdzekļi, transportlīdzekļu stāvvietas un transportlīdzekļu vadītāju apmācība
B12: 10.5. Transportlīdzekļa vadītāja kursu teorijas apmācība
B13: 10.5.2. Teorijas mācību kurss
A14: Laikposms | B14: 2023.gadā un turpmāk
A16: Izdevumu klasifikācijas kods | B16: Rādītājs (materiāla/izejvielas nosaukums, atlīdzība un citi izmaksu veidi) | C16: Izmaksu apjoms noteiktā laikposmā viena maksas pakalpojuma veida nodrošināšanai
A17: 1 | B17: 2 | C17: 3
B18: Tiešās izmaksas
A19: 1100 | B19: Atalgojums | C19: 193.38
A20: 1200 | B20: Darba devēja valsts sociālās apdrošināšanas obligātās iemaksas, sociāla rakstura pabalsti un kompensācijas | C20: 46.59
A21: 2223 | B21: Izdevumi par elektroenerģiju | C21: 3.99
A22: 2321 | B22: Kurināmais | C22: 5.7
A23: 2311 | B23: Biroja preces | C23: 0.57
A24: 2312 | B24: Inventārs | C24: 24.51
A25: 2370 | B25: Mācību līdzekļi un materiāli | C25: 7.41
A26: 2244 | B26: Ēku, būvju un telpu uzturēšana | C26: 5.13
B27: Tiešās izmaksas kopā | C27: =SUM(C19:C26) -> 287.28
B28: Netiešās izmaksas
A29: 1100 | B29: Atalgojums | C29: 39.96
A30: 1200 | B30: Darba devēja valsts sociālās apdrošināšanas obligātās iemaksas, sociāla rakstura pabalsti un kompensācijas | C30: 9.63
A31: 2100 | B31: Mācību, darba un dienesta komandējumi, dienesta, darba braucieni
A32: 2210 | B32: Pasta, telefona un citu sakaru pakalpojumi | C32: 0.27
A33: 2222 | B33: Izdevumi par ūdeni un kanalizāciju | C33: 0.57
A34: 2223 | B34: Izdevumi par elektroenerģiju | C34: 1.91
A35: 2230 | B35: Iestādes administratīvie izdevumi un ar iestādes darbības nodrošināšanu saistītie izdevumi
A36: 2241 | B36: Ēku, būvju un telpu kārtējais remonts
A37: 2242 | B37: Transportlīdzekļu uzturēšana un remonts
A38: 2243 | B38: Iekārtas, inventāra un aparatūras remonts, tehniskā apkalpošana
A39: 2244 | B39: Ēku, būvju un telpu uzturēšana | C39: 1.71
A40: 2247 | B40: Apdrošināšanas izdevumi
A41: 2249 | B41: Pārējie remonta darbu un iestāžu uzturēšanas pakalpojumi
A42: 2251 | B42: Informācijas sistēmas uzturēšana | C42: 1.28
A43: 2252 | B43: Informācijas sistēmas licenču nomas izdevumi
A44: 2259 | B44: Pārējie informācijas tehnoloģiju pakalpojumi
A45: 2261 | B45: Ēku, telpu īre un noma
A46: 2262 | B46: Transportlīdzekļu noma
A47: 2263 | B47: Zemes noma
A48: 2264 | B48: Iekārtu un inventāra īre un noma
A49: 2279 | B49: Pārējie iepriekš neklasificētie pakalpojumu veidi
A50: 2311 | B50: Biroja preces | C50: 0.78
A51: 2312 | B51: Inventārs
A52: 2321 | B52: Kurināmais | C52: 2.46
A53: 2322 | B53: Degviela | C53: 0.77
A54: 2341 | B54: Zāles, ķimikālijas, laboratorijas preces
A55: 2344 | B55: Medicīnas instrumenti, laboratorijas dzīvnieki un to uzturēšana
A56: 2350 | B56: Kārtējā remonta un iestāžu uzturēšanas materiāli
A57: 2361 | B57: Mīkstais inventārs
A58: 2362 | B58: Virtuves inventārs, trauki un galda piederumi
A59: 2363 | B59: Ēdināšanas izdevumi
A60: 2370 | B60: Mācību līdzekļi un materiāli
A61: 2400 | B61: Izdevumi periodikas iegādei
A62: 2512 | B62: Budžeta iestāžu pievienotās vērtības nodokļa maksājumi
A63: 2513 | B63: Budžeta iestāžu nekustamā īpašuma nodokļa (t.sk. zemes nodokļa parāda) maksājumi budžetā
A64: 2515 | B64: Budžeta iestāžu dabas resursu nodokļa maksājumi
A65: 2519 | B65: Pārējie budžeta iestāžu pārskaitītie nodokļi un nodevas
A66: 6240
A67: 6290
A68: 5121 | B68: Datorprogrammas
A69: 5232 | B69: Saimniecības pamatlīdzekļi
A70: 5238 | B70: Datortehnika, sakaru un cita biroja tehnika
A71: 5240 | B71: Pamatlīdzekļu izveidošana un nepabeigtā būvniecība
A72: 5250 | B72: Kapitālais remonts un rekonstrukcija | C72: 0.6
B73: Netiešās izmaksas kopā | C73: =SUM(C29:C72) -> 59.94
B74: Pakalpojumu izmaksas kopā | C74: =C27+C73 -> 347.22
A76: Maksas pakalpojuma vienību skaits noteiktā laikposmā (gab.) | C76: 6
A77: Maksas pakalpojuma izcenojums (euro) | C77: =C74/C76 -> 57.87
A79: Prognozētais maksas pakalpojumu skaits gadā (gab.)*
A80: Prognozētie ieņēmumi gadā (euro)*
A82: Piezīme. *Ailes neaizpilda, ja izvēlētais laikposms ir viens gads.
A84: Aprēķinu sastādīja: SIVA Finanšu nodaļas vecākā finanšu ekonomiste Anita Ozoliņa

Sheet 7.5.3.
C1: SASKAŅOTS
C2: Sociālās integrācijas valsts aģentūras
C3: direktore I.Jurševska
C5: 2023. gada 29.martā
A7: Maksas pakalpojuma izcenojuma aprēķins
A9: Sociālās integrācijas valsts aģentūra
A10: Publiskā pakalpojuma veids:
B11: 7. Transportlīdzekļi, transportlīdzekļu stāvvietas un transportlīdzekļu vadītāju apmācība
B12: 7.5. Transportlīdzekļa vadītāja kursu teorijas apmācība
B13: 7.5.3.Atkārtots eksāmens teorijā, 1 stunda (60 min)
A14: Laikposms | B14: 2023.gadā un turpmāk
A16: Izdevumu klasifikācijas kods | B16: Rādītājs (materiāla/izejvielas nosaukums, atlīdzība un citi izmaksu veidi) | C16: Izmaksu apjoms noteiktā laikposmā viena maksas pakalpojuma veida nodrošināšanai
A17: 1 | B17: 2 | C17: 3
B18: Tiešās izmaksas
A19: 1100 | B19: Atalgojums | C19: 29.31
A20: 1200 | B20: Darba devēja valsts sociālās apdrošināšanas obligātās iemaksas, pabalsti un kompensācijas | C20: 6.91
A21: 2223 | B21: Izdevumi par elektroenerģiju | C21: 0.74
A22: 2321 | B22: Kurināmais | C22: 0.78
A23: 2311 | B23: Biroja preces | C23: 0.04
A24: 2312 | B24: Inventārs | C24: 0.55
A25: 2370 | B25: Mācību līdzekļi un materiāli
A26: 2244 | B26: Nekustamā īpašuma uzturēšana | C26: 0.4
B27: Tiešās izmaksas kopā | C27: =SUM(C19:C26) -> 38.73
B28: Netiešās izmaksas
A29: 1100 | B29: Atalgojums | C29: 6.27
A30: 1200 | B30: Darba devēja valsts sociālās apdrošināšanas obligātās iemaksas, pabalsti un kompensācijas | C30: 1.48
A31: 2100 | B31: Mācību, darba un dienesta komandējumi, dienesta, darba braucieni | C31: 0.01
A32: 2210 | B32: Izdevumi par sakaru pakalpojumiem | C32: 0.09
A33: 2222 | B33: Izdevumi par ūdensapgādi un kanalizāciju | C33: 0.05
A34: 2223 | B34: Izdevumi par elektroenerģiju | C34: 0.59
A35: 2224 | B35: Izdevumi par atkritumu savākšanu, izvešanu no apdzīvotām vietām un teritorijām ārpus apdzīvotām vietām un atkritumu utilizāciju | C35: 0.03
A36: 2231 | B36: Izdevumi iestādes sabiedrisko aktivitāšu īstenošanai | C36: 0.02
A37: 2235 | B37: Izdevumi par saņemtajiem mācību pakalpojumiem | C37: 0.03
A38: 2239 | B38: Pārējie neklasificētie pakalpojumi | C38: 0.02
A39: 2241 | B39: Ēku, būvju un telpu būvdarbi | C39: 0.21
A40: 2242 | B40: Transportlīdzekļu uzturēšana un remonts | C40: 0.01
... A60: 5250 | B60: Kapitālais remonts un rekonstrukcija | C60: 0.16
B61: Netiešās izmaksas kopā | C61: =SUM(C29:C60) -> 11.72
B62: Pakalpojumu izmaksas kopā | C62: =C27+C61 -> 50.45
A64: Maksas pakalpojuma vienību skaits noteiktā laikposmā (gab.) | C64: 5
A65: Maksas pakalpojuma izcenojums (euro) | C65: =C62/C64 -> 10.09
A67: Prognozētais maksas pakalpojumu skaits gadā (gab.)*
A68: Prognozētie ieņēmumi gadā (euro)*
A70: Piezīme. *Ailes neaizpilda, ja izvēlētais laikposms ir viens gads.
A72: Aprēķinu sastādīja: SIVA Finanšu nodaļas vecākā finanšu ekonomiste Anita Ozoliņa

Sheet 7.6.1.
C1: SASKAŅOTS | D1: SASKAŅOTS
C2: Sociālās integrācijas valsts aģentūras | D2: Sociālās integrācijas valsts aģentūras
C3: direktore I.Jurševska | D3: direktore I.Jurševska
C5: 2022.gada | D5: 2023. gada 29.martā
A7: Maksas pakalpojuma izcenojuma aprēķins
A9: Sociālās integrācijas valsts aģentūra
A10: Publiskā pakalpojuma veids:
B11: 7. Transportlīdzekļi, transportlīdzekļu stāvvietas un transportlīdzekļu vadītāju apmācība
B12: 7.6. Transportlīdzekļu vadītāju kursu praktiskā braukšana
B13: 7.6.1. Transportlīdzekļu vadītāju kursu praktiskā braukšana, 1 mācību stunda (45 min)
A14: Laikposms | B14: 2023.gadā un turpmāk
A15: Izdevumu klasifikācijas kods | B15: Rādītājs (materiāla/izejvielas nosaukums, atlīdzība un citi izmaksu veidi) | C15: Izmaksu apjoms noteiktā laikposmā viena maksas pakalpojuma veida nodrošināšanai | D15: Izmaksu apjoms noteiktā laikposmā viena maksas pakalpojuma veida nodrošināšanai
A16: 1 | B16: 2 | C16: 3 | D16: 3
B17: Tiešās izmaksas
A18: 1100 | B18: Atalgojums | C18: 736.4 | D18: =1046.46 -> 1046.46
A19: 1200 | B19: Darba devēja valsts sociālās apdrošināšanas obligātās iemaksas, pabalsti un kompensācijas | C19: 173.72 | D19: 246.87
A20: 2222 | B20: Izdevumi par ūdensapgādi un kanalizāciju | C20: 0 | D20: 0
A21: 2242 | B21: Transportlīdzekļu uzturēšana un remonts | C21: 8.18 | D21: 11.62
A22: 2322 | B22: Degviela | C22: 1598.03 | D22: 2270.88
A23: 2370 | B23: Mācību līdzekļi un materiāli | C23: 11.31 | D23: 16.07
A24: 5231 | B24: Transportlīdzekļi | C24: 39.04 | D24: 55.48
B25: Tiešās izmaksas kopā | C25: =SUM(C18:C24) -> 2566.68 | D25: =SUM(D18:D24) -> 3647.38
B26: Netiešās izmaksas
A27: 1100 | B27: Atalgojums | C27: 280.62 | D27: 453.4
A28: 1200 | B28: Darba devēja valsts sociālās apdrošināšanas obligātās iemaksas, pabalsti un kompensācijas | C28: 66.2 | D28: 106.96
A29: 2210 | B29: Izdevumi par sakaru pakalpojumiem | C29: 9.34 | D29: 13.27
A30: 2222 | B30: Izdevumi par ūdensapgādi un kanalizāciju | C30: 1.9 | D30: 2.7
A31: 2223 | B31: Izdevumi par elektroenerģiju | C31: 35.05 | D31: 49.81
A32: 2244 | B32: Nekustamā īpašuma uzturēšana | C32: 23.74 | D32: 33.74
A33: 2311 | B33: Biroja preces | C33: 6.29 | D33: 8.94
A34: 2312 | B34: Inventārs | C34: 3.44 | D34: 4.89
A35: 2321 | B35: Kurināmais | C35: 27.92 | D35: 39.68
A36: 2350 | B36: Iestāžu uzturēšanas materiāli un preces | C36: 87.22 | D36: 123.93
B37: Netiešās izmaksas kopā | C37: =SUM(C27:C36) -> 541.72 | D37: =SUM(D27:D36) -> 837.32
B38: Pakalpojumu izmaksas kopā | C38: =C37+C25 -> 3108.4 | D38: =D37+D25 -> 4484.7
A40: Maksas pakalpojuma vienību skaits noteiktā laikposmā (gab.) | C40: 190 | D40: 270
A41: Maksas pakalpojuma izcenojums (euro) | C41: =C38/C40 -> 16.36 | D41: =D38/D40 -> 16.61
A43: Prognozētais maksas pakalpojumu skaits gadā (gab.)*
A44: Prognozētie ieņēmumi gadā (euro)*
A46: Piezīme. *Ailes neaizpilda, ja izvēlētais laikposms ir viens gads.
A48: Aprēķinu sastādīja: SIVA Finanšu nodaļas finanšu ekonomiste E.Lipiņa

Sheet 7.6.2.
C1: SASKAŅOTS
C2: Sociālās integrācijas valsts aģentūras
C3: direktore I.Jurševska
C5: 2023. gada 29.martā
A7: Maksas pakalpojuma izcenojuma aprēķins
A9: Sociālās integrācijas valsts aģentūra
A10: Publiskā pakalpojuma veids:
B11: 7. Transportlīdzekļi, transportlīdzekļu stāvvietas un transportlīdzekļu vadītāju apmācība
B12: 7.6. Transportlīdzekļu vadītāju kursu praktiskā braukšana
B13: 7.6.2. Atkārtots eksāmens praktiskajā braukšanā 1 stunda (60 min)
A14: Laikposms | B14: 2023.gadā un turpmāk
A15: Izdevumu klasifikācijas kods | B15: Rādītājs (materiāla/izejvielas nosaukums, atlīdzība un citi izmaksu veidi) | C15: Izmaksu apjoms noteiktā laikposmā viena maksas pakalpojuma veida nodrošināšanai
A16: 1 | B16: 2 | C16: 3
B17: Tiešās izmaksas
A18: 1100 | B18: Atalgojums | C18: 60.29
A19: 1200 | B19: Darba devēja valsts sociālās apdrošināšanas obligātās iemaksas, pabalsti un kompensācijas | C19: 14.22
A20: 2222 | B20: Izdevumi par ūdensapgādi un kanalizāciju | C20: 0
A21: 2242 | B21: Transportlīdzekļu uzturēšana un remonts | C21: 0.53
A22: 2322 | B22: Degviela | C22: 91.2
A23: 2370 | B23: Mācību līdzekļi un materiāli | C23: 0
A24: 5231 | B24: Transportlīdzekļi | C24: 2.66
B25: Tiešās izmaksas kopā | C25: =SUM(C18:C24) -> 168.9
B26: Netiešās izmaksas
A27: 1100 | B27: Atalgojums | C27: 20.32
A28: 1200 | B28: Darba devēja valsts sociālās apdrošināšanas obligātās iemaksas, pabalsti un kompensācijas | C28: 4.79
A29: 2210 | B29: Izdevumi par sakaru pakalpojumiem | C29: 0.61
A30: 2222 | B30: Izdevumi par ūdensapgādi un kanalizāciju | C30: 0
A31: 2223 | B31: Izdevumi par elektroenerģiju | C31: 2.31
A32: 2244 | B32: Nekustamā īpašuma uzturēšana | C32: 1.56
A33: 2311 | B33: Biroja preces | C33: 0.41
A34: 2312 | B34: Inventārs | C34: 0.2
A35: 2321 | B35: Kurināmais | C35: 1.84
A36: 2350 | B36: Iestāžu uzturēšanas materiāli un preces | C36: 5.66
B37: Netiešās izmaksas kopā | C37: =SUM(C27:C36) -> 37.7
B38: Pakalpojumu izmaksas kopā | C38: =C37+C25 -> 206.6
A40: Maksas pakalpojuma vienību skaits noteiktā laikposmā (gab.) | C40: 10
A41: Maksas pakalpojuma izcenojums (euro) | C41: =C38/C40 -> 20.66
A43: Prognozētais maksas pakalpojumu skaits gadā (gab.)*
A44: Prognozētie ieņēmumi gadā (euro)*
A46: Piezīme. *Ailes neaizpilda, ja izvēlētais laikposms ir viens gads.
A48: Aprēķinu sastādīja: SIVA Finanšu nodaļas finanšu ekonomiste E.Lipiņa
