Workbook

Sheet Saturs
M1: 5.pielikums
M2: Ministru kabineta noteikumu projekta "Grozījumi Ministru kabineta
M3: 2013.gada 24.septembra noteikumos Nr.1002 "Sociālās
M4: integrācijas valstas aģentūras sniegto maksas pakalpojumu cenrādis""
M5: sākotnējās ietekmes novērtējuma ziņojumam (anotācijai)
A13: Satura rādītājs
A15: 7.1. | B15: Viesu izmitināšana Dubultu prospektā 71, 2.korpusā, Jūrmalā (viena vieta vienvietīgā numurā)
A16: 4.1.1. | B16: Viesu izmitināšana Dubultu prospektā 71, 2.korpusā, Jūrmalā, viena vieta vienvietīgā numurā (ar brokastīm),
A17: 4.1.2. | B17: Viesu izmitināšana Dubultu prospektā 71, 2.korpusā, Jūrmalā, viena vieta vienvietīgā numurā (ar trīsreizēju ēdināšanu),
A18: 4.2.1. | B18: Viesu izmitināšana Dubultu prospektā 71, 2.korpusā, Jūrmalā viena vieta divvietīgā numurā(ar brokastīm)
A19: 4.2.2. | B19: Viesu izmitināšana Dubultu prospektā 71, 2.korpusā, Jūrmalā viena vieta divvietīgā numurā (ar trīsreizēju ēdināšanu)
A20: 4.2.3. | B20: Viesu izmitināšana pielāgotā numurā Dubultu prospektā 71, 2.korpusā, Jūrmalā, viena vieta divvietīgā pielāgotā numurā (ar brokastīm)
A21: 4.2.4. | B21: Viesu izmitināšana pielāgotā numurā Dubultu prospektā 71, 2.korpusā, Jūrmalā, viena vieta divvietīgā pielāgotā numurā (ar trīsreizēju ēdināšanu)
A22: 4.2.5. | B22: Piemaksa par uzturēšanos vienai personai divvietīgā numurā, Dubultu prospektā 71, 2.korpusā, Jūrmalā
A23: 4.3.1. | B23: Papildu vieta bērnam no 2 līdz 14 gadu vecumam Dubultu prospektā 71, 2 korpuss, Jūrmalā (ar brokastīm)
A24: 4.3.2. | B24: Papildu vieta bērnam no 2 līdz 14 gadu vecumam Dubultu prospektā 71, 2 korpuss, Jūrmalā (ar trīsreizēju ēdināšanu)
A25: 4.3.3. | B25: Papildu vieta vienai personai Dubultu prospektā 71, 2 korpuss, Jūrmalā (ar brokastīm)
A26: 4.3.4. | B26: Papildu vieta vienai personai Dubultu prospektā 71, 2 korpuss, Jūrmalā (ar trīsreizēju ēdināšanu)
... A39: 4.13. | B39: Viesu izmitināšana Slokas ielā 68, Jūrmalā

Sheet 4.1.1.
E1: SASKAŅOTS
E2: Sociālās integrācijas valsts aģentūras
E3: direktore I.Jurševska
E5: 2023. gada 29. martā
A7: Maksas pakalpojuma izcenojuma aprēķins
A9: Sociālās integrācijas valsts aģentūra
A10: Publiskā pakalpojuma veids:
B11: 4. Viesu izmitināšana
B12: 4.1. Viesu izmitināšana - Dubultu prospekts 71, 2.korpuss, Jūrmala (viena vieta vienvietīgā numurā)
B13: 4.1.1. Viesu izmitināšana - Dubultu prospekts 71, 2.korpuss, Jūrmala (viena vieta vienvietīgā numurā, ar brokastīm)
A14: Laikposms | B14: 2023.gadā un turpmāk
A15: Izdevumu klasifikācijas kods | B15: Rādītājs (materiāla/izejvielas nosaukums, atlīdzība un citi izmaksu veidi) | E15: Izmaksu apjoms noteiktā laikposmā viena maksas pakalpojuma veida nodrošināšanai
A16: 1 | B16: 2 | E16: 3
B17: Tiešās izmaksas
A18: 1100 | B18: Atalgojums | D18: ='[1]7._izmitināšana_GALA mpc'!$P$6 -> 11.804 | E18: 266.77
A19: 1200 | B19: Darba devēja valsts sociālās apdrošināšanas obligātās iemaksas, pabalsti un kompensācijas | D19: =D18*0.2359 -> 2.7845636 | E19: 62.93
A20: 2222 | B20: Izdevumi par ūdensapgādi un kanalizāciju | D20: ='[1]7._izmitināšana_GALA mpc'!$P$8 -> 0.53 | E20: 10.6
A21: 2223 | B21: Izdevumi par elektroenerģiju | D21: ='[1]7._izmitināšana_GALA mpc'!$P$9 -> 1.59 | E21: 31.8
A22: 2243 | B22: Iekārtas, inventāra un aparatūras remonts, tehniskā apkalpošana | D22: ='[1]7._izmitināšana_GALA mpc'!$P$11 -> 0.07 | E22: 1.4
A23: 2244 | B23: Nekustamā īpašuma uzturēšana | D23: ='[1]7._izmitināšana_GALA mpc'!$P$12 -> 1.89 | E23: 37.8
A24: 2250 | B24: Informācijas tehnoloģiju pakalpojumi | D24: ='[1]7._izmitināšana_GALA mpc'!$P$13 -> 0.19 | E24: 3.8
A25: 2311 | B25: Biroja preces | D25: ='[1]7._izmitināšana_GALA mpc'!$P$14 -> 2.47 | E25: 49.4
A26: 2312 | B26: Inventārs | D26: ='[1]7._izmitināšana_GALA mpc'!$P$15 -> 0.8 | E26: 16
A27: 2321 | B27: Kurināmais | D27: ='[1]7._izmitināšana_GALA mpc'!$P$16 -> 1.09 | E27: 21.8
A28: 2350 | B28: Iestāžu uzturēšanas materiāli un preces | D28: ='[1]7._izmitināšana_GALA mpc'!$P$17 -> 0.36 | E28: 7.2
A29: 2361 | B29: Mīkstais inventārs | D29: ='[1]7._izmitināšana_GALA mpc'!$P$18 -> 0.18 | E29: 3.6
A30: 2362 | B30: Virtuves inventārs, trauki un galda piederumi | D30: ='[1]7._izmitināšana_GALA mpc'!$P$19 -> 0.02 | E30: 0.4
A31: 2363 | B31: Ēdināšanas izdevumi | D31: ='[1]7._izmitināšana_GALA mpc'!$P$20 -> 3.87 | E31: 77.4
A32: 5239 | B32: Pārējie iepriekš neklasificētie pamatlīdzekļi un ieguldījuma īpašumi | D32: ='[1]7._izmitināšana_GALA mpc'!$P$21 -> 1.27 | E32: 25.4
B33: Tiešās izmaksas kopā | D33: =SUM(D18:D32) -> 28.918564 | E33: =SUM(E18:E32) -> 616.3
B34: Netiešās izmaksas
A35: 1100 | B35: Atalgojums | C35: 0.4855 | E35: 285.05
A36: 1200 | B36: Darba devēja valsts sociālās apdrošināšanas obligātās iemaksas, pabalsti un kompensācijas | C36: =C35*0.2359 -> 0.11452945 | E36: 67.24
A37: 2100 | B37: Mācību, darba un dienesta komandējumi, dienesta, darba braucieni | C37: 0.001166 | E37: 0.76
A38: 2210 | B38: Izdevumi par sakaru pakalpojumiem | C38: 0.0076 | E38: 4.95
A39: 2222 | B39: Izdevumi par ūdensapgādi un kanalizāciju | C39: =0.0095*1.15 -> 0.010925 | E39: 7.11
A40: 2223 | B40: Izdevumi par elektroenerģiju | C40: =0.01902*2.13 -> 0.0405126 | E40: 26.37
A41: 2224 | B41: Izdevumi par atkritumu savākšanu, izvešanu no apdzīvotām vietām un teritorijām ārpus apdzīvotām vietām un atkritumu utilizāciju | C41: =0.00495*1.15 -> 0.0056925 | E41: 3.7
A42: 2231 | B42: Izdevumi iestādes sabiedrisko aktivitāšu īstenošanai | C42: 0.00155 | E42: 1.01
A43: 2235 | B43: Izdevumi par saņemtajiem mācību pakalpojumiem | C43: 0.00165 | E43: 1.07
...

Sheet 4.1.2.
E1: SASKAŅOTS
E2: Sociālās integrācijas valsts aģentūras
E3: direktore I.Jurševska
E5: 2023. gada 29. martā
A7: Maksas pakalpojuma izcenojuma aprēķins
A9: Sociālās integrācijas valsts aģentūra
A10: Publiskā pakalpojuma veids:
B11: 4. Viesu izmitināšana
B12: 4.1. Viesu izmitināšana - Dubultu prospekts 71, 2.korpuss, Jūrmala (viena vieta vienvietīgā numurā)
B13: 4.1.2. Viesu izmitināšana - Dubultu prospekts 71, 2.korpuss, Jūrmala (viena vieta vienvietīgā numurā, ar trīsreizēju ēdināšanu)
A14: Laikposms | B14: 2023.gadā un turpmāk
A15: Izdevumu klasifikācijas kods | B15: Rādītājs (materiāla/izejvielas nosaukums, atlīdzība un citi izmaksu veidi) | E15: Izmaksu apjoms noteiktā laikposmā viena maksas pakalpojuma veida nodrošināšanai
A16: 1 | B16: 2 | E16: 3
B17: Tiešās izmaksas
A18: 1100 | B18: Atalgojums | D18: ='[1]7._izmitināšana_GALA mpc'!$Q$6 -> 15.694 | E18: 354.68
A19: 1200 | B19: Darba devēja valsts sociālās apdrošināšanas obligātās iemaksas, pabalsti un kompensācijas | D19: =D18*0.2359 -> 3.7022146 | E19: 83.67
A20: 2222 | B20: Izdevumi par ūdensapgādi un kanalizāciju | D20: ='[1]7._izmitināšana_GALA mpc'!$Q$8 -> 0.6 | E20: 12
A21: 2223 | B21: Izdevumi par elektroenerģiju | D21: ='[1]7._izmitināšana_GALA mpc'!$Q$9 -> 1.66 | E21: 33.2
A22: 2243 | B22: Iekārtas, inventāra un aparatūras remonts, tehniskā apkalpošana | D22: ='[1]7._izmitināšana_GALA mpc'!$Q$11 -> 0.082990839 | E22: 1.66
A23: 2244 | B23: Nekustamā īpašuma uzturēšana | D23: ='[1]7._izmitināšana_GALA mpc'!$Q$12 -> 1.9878511 | E23: 39.77
A24: 2250 | B24: Informācijas tehnoloģiju pakalpojumi | D24: ='[1]7._izmitināšana_GALA mpc'!$Q$13 -> 0.19 | E24: 3.8
A25: 2311 | B25: Biroja preces | D25: ='[1]7._izmitināšana_GALA mpc'!$Q$14 -> 2.47 | E25: 49.4
A26: 2312 | B26: Inventārs | D26: ='[1]7._izmitināšana_GALA mpc'!$Q$15 -> 0.91939188 | E26: 18.41
A27: 2321 | B27: Kurināmais | D27: ='[1]7._izmitināšana_GALA mpc'!$Q$16 -> 1.1514594 | E27: 23.04
A28: 2350 | B28: Iestāžu uzturēšanas materiāli un preces | D28: ='[1]7._izmitināšana_GALA mpc'!$Q$17 -> 0.41019892 | E28: 8.21
A29: 2361 | B29: Mīkstais inventārs | D29: ='[1]7._izmitināšana_GALA mpc'!$Q$18 -> 0.18 | E29: 3.6
A30: 2362 | B30: Virtuves inventārs, trauki un galda piederumi | D30: ='[1]7._izmitināšana_GALA mpc'!$Q$19 -> 0.048496534 | E30: 0.97
A31: 2363 | B31: Ēdināšanas izdevumi | D31: 9.75 | E31: =D31*20 -> 195
A32: 5239 | B32: Pārējie iepriekš neklasificētie pamatlīdzekļi un ieguldījuma īpašumi | D32: ='[1]7._izmitināšana_GALA mpc'!$Q$21 -> 1.3731894 | E32: 27.48
B33: Tiešās izmaksas kopā | D33: =SUM(D18:D32) -> 40.219793 | E33: =SUM(E18:E32) -> 854.89
B34: Netiešās izmaksas
A35: 1100 | B35: Atalgojums | C35: 0.4855 | E35: 314.44
A36: 1200 | B36: Darba devēja valsts sociālās apdrošināšanas obligātās iemaksas, pabalsti un kompensācijas | C36: =C35*0.2359 -> 0.11452945 | E36: 74.18
A37: 2100 | B37: Mācību, darba un dienesta komandējumi, dienesta, darba braucieni | C37: 0.001166 | E37: 0.85
A38: 2210 | B38: Izdevumi par sakaru pakalpojumiem | C38: 0.0076 | E38: 5.56
A39: 2222 | B39: Izdevumi par ūdensapgādi un kanalizāciju | C39: =0.0095*1.15 -> 0.010925 | E39: 8
A40: 2223 | B40: Izdevumi par elektroenerģiju | C40: =0.01902*2.13 -> 0.0405126 | E40: 29.66
A41: 2224 | B41: Izdevumi par atkritumu savākšanu, izvešanu no apdzīvotām vietām un teritorijām ārpus apdzīvotām vietām un atkritumu utilizāciju | C41: =0.00495*1.15 -> 0.0056925 | E41: 4.17
A42: 2231 | B42: Izdevumi iestādes sabiedrisko aktivitāšu īstenošanai | C42: 0.00155 | E42: 1.13
A43: 2235 | B43: Izdevumi par saņemtajiem mācību pakalpojumiem | C43: 0.00165 | E43: 1.21
...

Sheet 4.2.1.
E1: SASKAŅOTS | F1: SASKAŅOTS
F2: Sociālās integrācijas valsts aģentūras
E3: direktore I.Jurševska | F3: direktore I.Jurševska
E5: 2023. gada | F5: 2023. gada 29. martā
A7: Maksas pakalpojuma izcenojuma aprēķins
A9: Sociālās integrācijas valsts aģentūra
A10: Publiskā pakalpojuma veids:
B11: 4. Viesu izmitināšana
B12: 4.2. Viesu izmitināšana - Dubultu prospekts 71, 2.korpuss, Jūrmala (viena vieta divvietīgā numurā)
B13: 4.2.1. Viesu izmitināšana - Dubultu prospekts 71, 2.korpuss, Jūrmala (viena vieta divvietīgā numurā, ar brokastīm)
A14: Laikposms | B14: 2023.gadā un turpmāk
A15: Izdevumu klasifikācijas kods | B15: Rādītājs (materiāla/izejvielas nosaukums, atlīdzība un citi izmaksu veidi) | E15: Izmaksu apjoms noteiktā laikposmā viena maksas pakalpojuma veida nodrošināšanai | F15: Izmaksu apjoms noteiktā laikposmā viena maksas pakalpojuma veida nodrošināšanai
A16: 1 | B16: 2 | E16: 3 | F16: 3
B17: Tiešās izmaksas
A18: 1100 | B18: Atalgojums | D18: ='[1]7._izmitināšana_GALA mpc'!$R$6 -> 9.6161298 | E18: 7606.05 | F18: =E18/700*500 -> 5432.8929
A19: 1200 | B19: Darba devēja valsts sociālās apdrošināšanas obligātās iemaksas, pabalsti un kompensācijas | D19: =D18*0.2359 -> 2.268445 | E19: 1794.27 | F19: =E19/700*500 -> 1281.6214
A20: 2222 | B20: Izdevumi par ūdensapgādi un kanalizāciju | D20: ='[1]7._izmitināšana_GALA mpc'!$R$8 -> 0.30567649 | E20: 213.95 | F20: =E20/700*500 -> 152.82143
A21: 2223 | B21: Izdevumi par elektroenerģiju | D21: ='[1]7._izmitināšana_GALA mpc'!$R$9 -> 0.91225662 | E21: 638.5 | F21: =E21/700*500 -> 456.07143
A22: 2243 | B22: Iekārtas, inventāra un aparatūras remonts, tehniskā apkalpošana | D22: ='[1]7._izmitināšana_GALA mpc'!$R$11 -> 0.046135796 | E22: 32.29 | F22: =E22/700*500 -> 23.064286
A23: 2244 | B23: Nekustamā īpašuma uzturēšana | D23: ='[1]7._izmitināšana_GALA mpc'!$R$12 -> 1.1167998 | E23: 781.66 | F23: =E23/700*500 -> 558.32857
A24: 2250 | B24: Informācijas tehnoloģiju pakalpojumi | D24: ='[1]7._izmitināšana_GALA mpc'!$R$13 -> 0.19 | E24: 133 | F24: =E24/700*500 -> 95
A25: 2311 | B25: Biroja preces | D25: ='[1]7._izmitināšana_GALA mpc'!$R$14 -> 1.9879431 | E25: 1391.5 | F25: =E25/700*500 -> 993.92857
A26: 2312 | B26: Inventārs | D26: ='[1]7._izmitināšana_GALA mpc'!$R$15 -> 0.57567649 | E26: 402.95 | F26: =E26/700*500 -> 287.82143
A27: 2321 | B27: Kurināmais | D27: ='[1]7._izmitināšana_GALA mpc'!$R$16 -> 0.64135297 | E27: 448.89 | F27: =E27/700*500 -> 320.63571
A28: 2350 | B28: Iestāžu uzturēšanas materiāli un preces | D28: ='[1]7._izmitināšana_GALA mpc'!$R$17 -> 0.2072691 | E28: 145.07 | F28: =E28/700*500 -> 103.62143
A29: 2361 | B29: Mīkstais inventārs | D29: ='[1]7._izmitināšana_GALA mpc'!$R$18 -> 0.094088867 | E29: 65.85 | F29: =E29/700*500 -> 47.035714
A30: 2362 | B30: Virtuves inventārs, trauki un galda piederumi | D30: ='[1]7._izmitināšana_GALA mpc'!$R$19 -> 0.02 | E30: 14 | F30: =E30/700*500 -> 10
A31: 2363 | B31: Ēdināšanas izdevumi | D31: 3.87 | E31: 2709 | F31: =E31/700*500 -> 1935
A32: 5239 | B32: Pārējie iepriekš neklasificētie pamatlīdzekļi un ieguldījuma īpašumi | D32: ='[1]7._izmitināšana_GALA mpc'!$R$21 -> 0.8595357 | E32: 601.62 | F32: =E32/700*500 -> 429.72857
B33: Tiešās izmaksas kopā | D33: =SUM(D18:D32) -> 22.71131 | E33: =SUM(E18:E32) -> 16978.6 | F33: =SUM(F18:F32) -> 12127.571
B34: Netiešās izmaksas
A35: 1100 | B35: Atalgojums | C35: 0.4855 | E35: 5790.12 | F35: =E35/700*500 -> 4135.8
A36: 1200 | B36: Darba devēja valsts sociālās apdrošināšanas obligātās iemaksas, pabalsti un kompensācijas | C36: =C35*0.2359 -> 0.11452945 | E36: 1365.89 | F36: =E36/700*500 -> 975.63571
A37: 2100 | B37: Mācību, darba un dienesta komandējumi, dienesta, darba braucieni | C37: 0.001166 | E37: 16.01 | F37: =E37/700*500 -> 11.435714
A38: 2210 | B38: Izdevumi par sakaru pakalpojumiem | C38: 0.0076 | E38: 104.38 | F38: =E38/700*500 -> 74.557143
A39: 2222 | B39: Izdevumi par ūdensapgādi un kanalizāciju | C39: =0.0095*1.15 -> 0.010925 | E39: 150.04 | F39: =E39/700*500 -> 107.17143
A40: 2223 | B40: Izdevumi par elektroenerģiju | C40: =0.01902*2.13 -> 0.0405126 | E40: 556.39 | F40: =E40/700*500 -> 397.42143
A41: 2224 | B41: Izdevumi par atkritumu savākšanu, izvešanu no apdzīvotām vietām un teritorijām ārpus apdzīvotām vietām un atkritumu utilizāciju | C41: =0.00495*1.15 -> 0.0056925 | E41: 78.18 | F41: =E41/700*500 -> 55.842857
A42: 2231 | B42: Izdevumi iestādes sabiedrisko aktivitāšu īstenošanai | C42: 0.00155 | E42: 21.29 | F42: =E42/700*500 -> 15.207143
A43: 2235 | B43: Izdevumi par saņemtajiem mācību pakalpojumiem | C43: 0.00165 | E43: 22.66 | F43: =E43/700*500 -> 16.185714
...

Sheet 4.2.2.
E1: SASKAŅOTS | F1: SASKAŅOTS
E2: Sociālās integrācijas valsts aģentūras | F2: Sociālās integrācijas valsts aģentūras
E3: direktore I.Jurševska | F3: direktore I.Jurševska
E6: 2023. gada | F6: 2023. gada 29. martā
A7: Maksas pakalpojuma izcenojuma aprēķins
A9: Sociālās integrācijas valsts aģentūra
A10: Publiskā pakalpojuma veids:
B11: 4. Viesu izmitināšana
B12: 4.2. Viesu izmitināšana - Dubultu prospekts 71, 2.korpuss, Jūrmala (viena vieta divvietīgā numurā)
B13: 4.2.2. Viesu izmitināšana - Dubultu prospekts 71, 2.korpuss, Jūrmala (viena vieta divvietīgā numurā, ar trīsreizēju ēdināsanu)
A14: Laikposms | B14: 2023.gadā un turpmāk
A15: Izdevumu klasifikācijas kods | B15: Rādītājs (materiāla/izejvielas nosaukums, atlīdzība un citi izmaksu veidi) | E15: Izmaksu apjoms noteiktā laikposmā viena maksas pakalpojuma veida nodrošināšanai | F15: Izmaksu apjoms noteiktā laikposmā viena maksas pakalpojuma veida nodrošināšanai
A16: 1 | B16: 2 | E16: 3 | F16: 3
B17: Tiešās izmaksas
A18: 1100 | B18: Atalgojums | D18: ='[1]7._izmitināšana_GALA mpc'!$S$6 -> 13.50613 | E18: 13735.54 | F18: =E18/900*700 -> 10683.198
A19: 1200 | B19: Darba devēja valsts sociālās apdrošināšanas obligātās iemaksas, pabalsti un kompensācijas | D19: =D18*0.2359 -> 3.186096 | E19: 3240.21 | F19: =E19/900*700 -> 2520.1633
A20: 2222 | B20: Izdevumi par ūdensapgādi un kanalizāciju | D20: ='[1]7._izmitināšana_GALA mpc'!$S$8 -> 0.37567649 | E20: 338.07 | F20: =E20/900*700 -> 262.94333
A21: 2223 | B21: Izdevumi par elektroenerģiju | D21: ='[1]7._izmitināšana_GALA mpc'!$S$9 -> 0.98225662 | E21: 883.92 | F21: =E21/900*700 -> 687.49333
A22: 2243 | B22: Iekārtas, inventāra un aparatūras remonts, tehniskā apkalpošana | D22: ='[1]7._izmitināšana_GALA mpc'!$S$11 -> 0.059126636 | E22: 53.34 | F22: =E22/900*700 -> 41.486667
A23: 2244 | B23: Nekustamā īpašuma uzturēšana | D23: ='[1]7._izmitināšana_GALA mpc'!$S$12 -> 1.2146509 | E23: 1093.72 | F23: =E23/900*700 -> 850.67111
A24: 2250 | B24: Informācijas tehnoloģiju pakalpojumi | D24: ='[1]7._izmitināšana_GALA mpc'!$S$13 -> 0.19 | E24: 171 | F24: =E24/900*700 -> 133
A25: 2311 | B25: Biroja preces | D25: ='[1]7._izmitināšana_GALA mpc'!$S$14 -> 1.9879431 | E25: 1789.07 | F25: =E25/900*700 -> 1391.4989
A26: 2312 | B26: Inventārs | D26: ='[1]7._izmitināšana_GALA mpc'!$S$15 -> 0.69506837 | E26: 626.38 | F26: =E26/900*700 -> 487.18444
A27: 2321 | B27: Kurināmais | D27: ='[1]7._izmitināšana_GALA mpc'!$S$16 -> 0.70281237 | E27: 632.86 | F27: =E27/900*700 -> 492.22444
A28: 2350 | B28: Iestāžu uzturēšanas materiāli un preces | D28: ='[1]7._izmitināšana_GALA mpc'!$S$17 -> 0.25746801 | E28: 232.05 | F28: =E28/900*700 -> 180.48333
A29: 2361 | B29: Mīkstais inventārs | D29: ='[1]7._izmitināšana_GALA mpc'!$S$18 -> 0.094088867 | E29: 84.67 | F29: =E29/900*700 -> 65.854444
A30: 2362 | B30: Virtuves inventārs, trauki un galda piederumi | D30: ='[1]7._izmitināšana_GALA mpc'!$S$19 -> 0.048496534 | E30: 43.84 | F30: =E30/900*700 -> 34.097778
A31: 2363 | B31: Ēdināšanas izdevumi | D31: 9.75 | E31: =D31*900 -> 8775 | F31: =E31/900*700 -> 6825
A32: 5239 | B32: Pārējie iepriekš neklasificētie pamatlīdzekļi un ieguldījuma īpašumi | D32: ='[1]7._izmitināšana_GALA mpc'!$S$21 -> 0.96272507 | E32: 867.14 | F32: =E32/900*700 -> 674.44222
B33: Tiešās izmaksas kopā | D33: =SUM(D18:D32) -> 34.012539 | E33: =SUM(E18:E32) -> 32566.81 | F33: =SUM(F18:F32) -> 25329.741
B34: Netiešās izmaksas
A35: 1100 | B35: Atalgojums | C35: 0.4855 | E35: 8767.06 | F35: =E35/900*700 -> 6818.8244
A36: 1200 | B36: Darba devēja valsts sociālās apdrošināšanas obligātās iemaksas, pabalsti un kompensācijas | C36: =C35*0.2359 -> 0.11452945 | E36: 2068.15 | F36: =E36/900*700 -> 1608.5611
A37: 2100 | B37: Mācību, darba un dienesta komandējumi, dienesta, darba braucieni | C37: 0.001166 | E37: 24.85 | F37: =E37/900*700 -> 19.327778
A38: 2210 | B38: Izdevumi par sakaru pakalpojumiem | C38: 0.0076 | E38: 162 | F38: =E38/900*700 -> 126
A39: 2222 | B39: Izdevumi par ūdensapgādi un kanalizāciju | C39: =0.0095*1.15 -> 0.010925 | E39: 232.88 | F39: =E39/900*700 -> 181.12889
A40: 2223 | B40: Izdevumi par elektroenerģiju | C40: =0.01902*2.13 -> 0.0405126 | E40: 863.58 | F40: =E40/900*700 -> 671.67333
A41: 2224 | B41: Izdevumi par atkritumu savākšanu, izvešanu no apdzīvotām vietām un teritorijām ārpus apdzīvotām vietām un atkritumu utilizāciju | C41: =0.00495*1.15 -> 0.0056925 | E41: 121.34 | F41: =E41/900*700 -> 94.375556
A42: 2231 | B42: Izdevumi iestādes sabiedrisko aktivitāšu īstenošanai | C42: 0.00155 | E42: 33.04 | F42: =E42/900*700 -> 25.697778
A43: 2235 | B43: Izdevumi par saņemtajiem mācību pakalpojumiem | C43: 0.00165 | E43: 35.17 | F43: =E43/900*700 -> 27.354444
...

Sheet 4.2.3.
E1: SASKAŅOTS
E2: Sociālās integrācijas valsts aģentūras
E3: direktore I.Jurševska
E5: 2023. gada 29. martā
A7: Maksas pakalpojuma izcenojuma aprēķins
A9: Sociālās integrācijas valsts aģentūra
A10: Publiskā pakalpojuma veids:
B11: 4. Viesu izmitināšana
B12: 4.2. Viesu izmitināšana - Dubultu prospekts 71, 2.korpuss, Jūrmala (viena vieta divvietīgā numurā)
B13: 4.2.3. Viesu izmitināšana - Dubultu prospekts 71, 2.korpuss, Jūrmala (viena vieta divvietīgā pielāgotā numurā, ar brokastīm)
A14: Laikposms | B14: 2023.gadā un turpmāk
A15: Izdevumu klasifikācijas kods | B15: Rādītājs (materiāla/izejvielas nosaukums, atlīdzība un citi izmaksu veidi) | E15: Izmaksu apjoms noteiktā laikposmā viena maksas pakalpojuma veida nodrošināšanai
A16: 1 | B16: 2 | E16: 4
B17: Tiešās izmaksas
A18: 1100 | B18: Atalgojums | D18: ='[1]7._izmitināšana_GALA mpc'!$T$6 -> 9.8060809 | E18: 221.63
A19: 1200 | B19: Darba devēja valsts sociālās apdrošināšanas obligātās iemaksas, pabalsti un kompensācijas | D19: =D18*0.2359 -> 2.3132545 | E19: 52.28
A20: 2222 | B20: Izdevumi par ūdensapgādi un kanalizāciju | D20: ='[1]7._izmitināšana_GALA mpc'!$T$8 -> 0.32515227 | E20: 6.5
A21: 2223 | B21: Izdevumi par elektroenerģiju | D21: ='[1]7._izmitināšana_GALA mpc'!$T$9 -> 0.97109835 | E21: 19.43
A22: 2243 | B22: Iekārtas, inventāra un aparatūras remonts, tehniskā apkalpošana | D22: ='[1]7._izmitināšana_GALA mpc'!$T$11 -> 0.048207688 | E22: 0.96
A23: 2244 | B23: Nekustamā īpašuma uzturēšana | D23: ='[1]7._izmitināšana_GALA mpc'!$T$12 -> 1.1839291 | E23: 23.68
A24: 2250 | B24: Informācijas tehnoloģiju pakalpojumi | D24: ='[1]7._izmitināšana_GALA mpc'!$T$13 -> 0.19 | E24: 3.8
A25: 2311 | B25: Biroja preces | D25: ='[1]7._izmitināšana_GALA mpc'!$T$14 -> 2.0297953 | E25: 40.6
A26: 2312 | B26: Inventārs | D26: ='[1]7._izmitināšana_GALA mpc'!$T$15 -> 0.59515227 | E26: 11.9
A27: 2321 | B27: Kurināmais | D27: ='[1]7._izmitināšana_GALA mpc'!$T$16 -> 0.68030454 | E27: 13.61
A28: 2350 | B28: Iestāžu uzturēšanas materiāli un preces | D28: ='[1]7._izmitināšana_GALA mpc'!$T$17 -> 0.22052921 | E28: 4.41
A29: 2361 | B29: Mīkstais inventārs | D29: ='[1]7._izmitināšana_GALA mpc'!$T$18 -> 0.10154768 | E29: 2.03
A30: 2362 | B30: Virtuves inventārs, trauki un galda piederumi | D30: ='[1]7._izmitināšana_GALA mpc'!$T$19 -> 0.02 | E30: 0.4
A31: 2363 | B31: Ēdināšanas izdevumi | D31: 3.87 | E31: =D31*20 -> 77.4
A32: 5239 | B32: Pārējie iepriekš neklasificētie pamatlīdzekļi un ieguldījuma īpašumi | D32: ='[1]7._izmitināšana_GALA mpc'!$T$21 -> 0.89517224 | E32: 17.91
B33: Tiešās izmaksas kopā | D33: =SUM(D18:D32) -> 23.250224 | E33: =SUM(E18:E32) -> 496.54
B34: Netiešās izmaksas
A35: 1100 | B35: Atalgojums | C35: 0.4855 | E35: 175.88
A36: 1200 | B36: Darba devēja valsts sociālās apdrošināšanas obligātās iemaksas, pabalsti un kompensācijas | C36: =C35*0.2359 -> 0.11452945 | E36: 41.49
A37: 2100 | B37: Mācību, darba un dienesta komandējumi, dienesta, darba braucieni | C37: 0.001166 | E37: 0.48
A38: 2210 | B38: Izdevumi par sakaru pakalpojumiem | C38: 0.0076 | E38: 3.15
A39: 2222 | B39: Izdevumi par ūdensapgādi un kanalizāciju | C39: =0.0095*1.15 -> 0.010925 | E39: 4.53
A40: 2223 | B40: Izdevumi par elektroenerģiju | C40: =0.01902*2.13 -> 0.0405126 | E40: 16.81
A41: 2224 | B41: Izdevumi par atkritumu savākšanu, izvešanu no apdzīvotām vietām un teritorijām ārpus apdzīvotām vietām un atkritumu utilizāciju | C41: =0.00495*1.15 -> 0.0056925 | E41: 2.36
A42: 2231 | B42: Izdevumi iestādes sabiedrisko aktivitāšu īstenošanai | C42: 0.00155 | E42: 0.64
A43: 2235 | B43: Izdevumi par saņemtajiem mācību pakalpojumiem | C43: 0.00165 | E43: 0.68
...

Sheet 4.2.4.
E1: SASKAŅOTS
E2: Sociālās integrācijas valsts aģentūras
E3: direktore I.Jurševska
E5: 2023. gada 29. martā
A6: Maksas pakalpojuma izcenojuma aprēķins
A8: Sociālās integrācijas valsts aģentūra
A9: Publiskā pakalpojuma veids:
B10: 4. Viesu izmitināšana
B11: 4.2. Viesu izmitināšana - Dubultu prospekts 71, 2.korpuss, Jūrmala (viena vieta divvietīgā numurā)
B12: 4.2.4. Viesu izmitināšana - Dubultu prospekts 71, 2.korpuss, Jūrmala (viena vieta divvietīgā pielāgotā numurā, ar trīsreizēju ēdināšanu)
A13: Laikposms | B13: 2023.gadā un turpmāk
A14: Izdevumu klasifikācijas kods | B14: Rādītājs (materiāla/izejvielas nosaukums, atlīdzība un citi izmaksu veidi) | E14: Izmaksu apjoms noteiktā laikposmā viena maksas pakalpojuma veida nodrošināšanai
A15: 1 | B15: 2 | E15: 3
B16: Tiešās izmaksas
A17: 1100 | B17: Atalgojums | D17: ='[1]7._izmitināšana_GALA mpc'!$U$6 -> 13.696081 | E17: 309.54
A18: 1200 | B18: Darba devēja valsts sociālās apdrošināšanas obligātās iemaksas, pabalsti un kompensācijas | D18: =D17*0.2359 -> 3.2309055 | E18: 73.02
A19: 2222 | B19: Izdevumi par ūdensapgādi un kanalizāciju | D19: ='[1]7._izmitināšana_GALA mpc'!$U$8 -> 0.39515227 | E19: 7.9
A20: 2223 | B20: Izdevumi par elektroenerģiju | D20: ='[1]7._izmitināšana_GALA mpc'!$U$9 -> 1.0410984 | E20: 20.83
A21: 2243 | B21: Iekārtas, inventāra un aparatūras remonts, tehniskā apkalpošana | D21: ='[1]7._izmitināšana_GALA mpc'!$U$11 -> 0.061198528 | E21: 1.23
A22: 2244 | B22: Nekustamā īpašuma uzturēšana | D22: ='[1]7._izmitināšana_GALA mpc'!$U$12 -> 1.2817802 | E22: 25.65
A23: 2250 | B23: Informācijas tehnoloģiju pakalpojumi | D23: ='[1]7._izmitināšana_GALA mpc'!$U$13 -> 0.19 | E23: 3.8
A24: 2311 | B24: Biroja preces | D24: ='[1]7._izmitināšana_GALA mpc'!$U$14 -> 2.0297953 | E24: 40.6
A25: 2312 | B25: Inventārs | D25: ='[1]7._izmitināšana_GALA mpc'!$U$15 -> 0.71454415 | E25: 14.31
A26: 2321 | B26: Kurināmais | D26: ='[1]7._izmitināšana_GALA mpc'!$U$16 -> 0.74176394 | E26: 14.85
A27: 2350 | B27: Iestāžu uzturēšanas materiāli un preces | D27: ='[1]7._izmitināšana_GALA mpc'!$U$17 -> 0.27072812 | E27: 5.42
A28: 2361 | B28: Mīkstais inventārs | D28: ='[1]7._izmitināšana_GALA mpc'!$U$18 -> 0.10154768 | E28: 2.03
A29: 2362 | B29: Virtuves inventārs, trauki un galda piederumi | D29: ='[1]7._izmitināšana_GALA mpc'!$U$19 -> 0.048496534 | E29: 0.97
A30: 2363 | B30: Ēdināšanas izdevumi | D30: 9.75 | E30: =D30*20 -> 195
A31: 5239 | B31: Pārējie iepriekš neklasificētie pamatlīdzekļi un ieguldījuma īpašumi | D31: ='[1]7._izmitināšana_GALA mpc'!$U$21 -> 0.99836162 | E31: 19.99
B32: Tiešās izmaksas kopā | D32: =SUM(D17:D31) -> 34.551453 | E32: =SUM(E17:E31) -> 735.14
B33: Netiešās izmaksas
A34: 1100 | B34: Atalgojums | C34: 0.4855 | E34: 205.1
A35: 1200 | B35: Darba devēja valsts sociālās apdrošināšanas obligātās iemaksas, pabalsti un kompensācijas | C35: =C34*0.2359 -> 0.11452945 | E35: 48.38
A36: 2100 | B36: Mācību, darba un dienesta komandējumi, dienesta, darba braucieni | C36: 0.001166 | E36: 0.58
A37: 2210 | B37: Izdevumi par sakaru pakalpojumiem | C37: 0.0076 | E37: 3.77
A38: 2222 | B38: Izdevumi par ūdensapgādi un kanalizāciju | C38: =0.0095*1.15 -> 0.010925 | E38: 5.42
A39: 2223 | B39: Izdevumi par elektroenerģiju | C39: =0.01902*2.13 -> 0.0405126 | E39: 20.11
A40: 2224 | B40: Izdevumi par atkritumu savākšanu, izvešanu no apdzīvotām vietām un teritorijām ārpus apdzīvotām vietām un atkritumu utilizāciju | C40: =0.00495*1.15 -> 0.0056925 | E40: 2.82
A41: 2231 | B41: Izdevumi iestādes sabiedrisko aktivitāšu īstenošanai | C41: 0.00155 | E41: 0.77
A42: 2235 | B42: Izdevumi par saņemtajiem mācību pakalpojumiem | C42: 0.00165 | E42: 0.82
...

Sheet 4.2.5.
E1: SASKAŅOTS
E2: Sociālās integrācijas valsts aģentūras
E3: direktore I.Jurševska
E5: 2023. gada 29. martā
A7: Maksas pakalpojuma izcenojuma aprēķins
A9: Sociālās integrācijas valsts aģentūra
A10: Publiskā pakalpojuma veids:
B11: 4. Viesu izmitināšana
B12: 4.2. Viesu izmitināšana Dubultu prospektā 71, 2.korpusā, Jūrmalā (viena vieta divvietīgā numurā)
B13: 4.2.5. Piemaksa par uzturēšanos vienai personai divvietīgā numurā
A14: Laikposms | B14: ='4.2.4.'!B13 -> 2023.gadā un turpmāk
A15: Izdevumu klasifikācijas kods | B15: Rādītājs (materiāla/izejvielas nosaukums, atlīdzība un citi izmaksu veidi) | C15: 1 | E15: Izmaksu apjoms noteiktā laikposmā viena maksas pakalpojuma veida nodrošināšanai
A16: 1 | B16: 2 | E16: 3
B17: Tiešās izmaksas
A18: 1100 | B18: Atalgojums | C18: ='[1]7._izmitināšana_GALA mpc'!$V$6 -> 2.1878702 | E18: 568.73
A19: 1200 | B19: Darba devēja valsts sociālās apdrošināšanas obligātās iemaksas, pabalsti un kompensācijas | C19: =C18*0.2359 -> 0.51611858 | E19: 134.16
A20: 2222 | B20: Izdevumi par ūdensapgādi un kanalizāciju | C20: ='[1]7._izmitināšana_GALA mpc'!$V$8 -> 0.22432351 | E20: 51.6
A21: 2223 | B21: Izdevumi par elektroenerģiju | C21: ='[1]7._izmitināšana_GALA mpc'!$V$9 -> 0.67774338 | E21: 155.91
A22: 2243 | B22: Iekārtas, inventāra un aparatūras remonts, tehniskā apkalpošana | C22: ='[1]7._izmitināšana_GALA mpc'!$V$11 -> 0.023864204 | E22: 5.49
A23: 2244 | B23: Nekustamā īpašuma uzturēšana | C23: ='[1]7._izmitināšana_GALA mpc'!$V$12 -> 0.7732002 | E23: 177.87
A24: 2250 | B24: Informācijas tehnoloģiju pakalpojumi | C24: ='[1]7._izmitināšana_GALA mpc'!$V$13 -> 0 | E24: 0
A25: 2311 | B25: Biroja preces | C25: ='[1]7._izmitināšana_GALA mpc'!$V$14 -> 0.48205691 | E25: 110.89
A26: 2312 | B26: Inventārs | C26: ='[1]7._izmitināšana_GALA mpc'!$V$15 -> 0.22432351 | E26: 51.6
A27: 2321 | B27: Kurināmais | C27: ='[1]7._izmitināšana_GALA mpc'!$V$16 -> 0.44864703 | E27: 103.21
A28: 2341 | B28: Zāles, ķimikālijas, laboratorijas preces | C28: 0 | E28: =C28*230 -> 0
A29: 2350 | B29: Iestāžu uzturēšanas materiāli un preces | C29: ='[1]7._izmitināšana_GALA mpc'!$V$17 -> 0.1527309 | E29: 35.13
A30: 2361 | B30: Mīkstais inventārs | C30: ='[1]7._izmitināšana_GALA mpc'!$V$18 -> 0.085911133 | E30: 19.76
A31: 2363 | B31: Ēdināšanas izdevumi | C31: 0 | E31: 0
A32: 5239 | B32: Pārējie iepriekš neklasificētie pamatlīdzekļi un ieguldījuma īpašumi | C32: ='[1]7._izmitināšana_GALA mpc'!$V$21 -> 0.4104643 | E32: 94.42
B33: Tiešās izmaksas kopā | C33: =SUM(C18:C32) -> 6.2072539 | E33: =SUM(E18:E32) -> 1508.77
B34: Netiešās izmaksas
A35: 1100 | B35: Atalgojums | D35: 0.4855 | E35: 1376.11
A36: 1200 | B36: Darba devēja valsts sociālās apdrošināšanas obligātās iemaksas, pabalsti un kompensācijas | D36: =D35*0.2359 -> 0.11452945 | E36: 324.62
A37: 2100 | B37: Mācību, darba un dienesta komandējumi, dienesta, darba braucieni | D37: 0.001166 | E37: 3.46
A38: 2210 | B38: Izdevumi par sakaru pakalpojumiem | D38: 0.0076 | E38: 22.57
A39: 2222 | B39: Izdevumi par ūdensapgādi un kanalizāciju | D39: =0.0095*1.15 -> 0.010925 | E39: 32.44
A40: 2223 | B40: Izdevumi par elektroenerģiju | D40: =0.01902*2.13 -> 0.0405126 | E40: 120.31
A41: 2224 | B41: Izdevumi par atkritumu savākšanu, izvešanu no apdzīvotām vietām un teritorijām ārpus apdzīvotām vietām un atkritumu utilizāciju | D41: =0.00495*1.15 -> 0.0056925 | E41: 16.9
A42: 2231 | B42: Izdevumi iestādes sabiedrisko aktivitāšu īstenošanai | D42: 0.00155 | E42: 4.6
A43: 2235 | B43: Izdevumi par saņemtajiem mācību pakalpojumiem | D43: 0.00165 | E43: 4.9
...

Sheet 7.3.1.
E1: SASKAŅOTS
E2: Sociālās integrācijas valsts aģentūras
E3: direktore I.Jurševska
E5: 2021. gada 30. augustā
A7: Maksas pakalpojuma izcenojuma aprēķins
A9: Sociālās integrācijas valsts aģentūra
A10: Publiskā pakalpojuma veids:
B11: 7. Viesu izmitināšana
B12: 7.3. Viesu izmitināšana - Dubultu prospekts 71, 1.korpuss, Jūrmala (viena vieta vienvietīgā numurā)
B13: 7.3.1. Viesu izmitināšana - Dubultu prospekts 71, 1.korpuss, Jūrmala (viena vieta vienvietīgā numurā, ar brokastīm)
A14: Laikposms | B14: 2022.gadā un turpmāk
A15: Izdevumu klasifikācijas kods | B15: Rādītājs (materiāla/izejvielas nosaukums, atlīdzība un citi izmaksu veidi) | E15: Izmaksu apjoms noteiktā laikposmā viena maksas pakalpojuma veida nodrošināšanai
A16: 1 | B16: 2 | E16: 3
B17: Tiešās izmaksas
A18: 1100 | B18: Atalgojums | D18: =5.91/1.2359 -> 4.7819403 | E18: 717.29
A19: 1200 | B19: Darba devēja valsts sociālās apdrošināšanas obligātās iemaksas, pabalsti un kompensācijas | D19: =D18*0.2359 -> 1.1280597 | E19: 169.21
A20: 2210 | B20: Izdevumi par sakaru pakalpojumiem | D20: 0.08 | E20: =D20*150 -> 12
A21: 2222 | B21: Izdevumi par ūdensapgādi un kanalizāciju | D21: 1.88 | E21: =D21*150 -> 282
A22: 2223 | B22: Izdevumi par elektroenerģiju | D22: 1.92339 | E22: 288.51
A23: 2243 | B23: Iekārtas, inventāra un aparatūras remonts, tehniskā apkalpošana | D23: 0.04 | E23: =D23*150 -> 6
A24: 2244 | B24: Nekustamā īpašuma uzturēšana | D24: 2.95964 | E24: 443.95
A25: 2250 | B25: Informācijas tehnoloģiju pakalpojumi | D25: 0.16 | E25: =D25*150 -> 24
A26: 2311 | B26: Biroja preces | D26: 0.48 | E26: =D26*150 -> 72
A27: 2312 | B27: Inventārs | D27: 1.55 | E27: =D27*150 -> 232.5
A28: 2321 | B28: Kurināmais | D28: 2.504884 | E28: 375.73
A29: 2350 | B29: Iestāžu uzturēšanas materiāli un preces | D29: 0.28 | E29: =D29*150 -> 42
A30: 2361 | B30: Mīkstais inventārs | D30: 0.28 | E30: =D30*150 -> 42
A31: 2362 | B31: Virtuves inventārs, trauki un galda piederumi | D31: 0.12 | E31: =D31*150 -> 18
A32: 2363 | B32: Ēdināšanas izdevumi | D32: 3.58 | E32: =D32*150 -> 537
A33: 5239 | B33: Pārējie iepriekš neklasificētie pamatlīdzekļi un ieguldījuma īpašumi | D33: 0.82 | E33: =D33*150 -> 123
B34: Tiešās izmaksas kopā | D34: =SUM(D18:D33) -> 22.567914 | E34: =SUM(E18:E33) -> 3385.19
B35: Netiešās izmaksas
A36: 1100 | B36: Atalgojums | C36: =0.388+0.024 -> 0.412 | E36: 629.25
A37: 1200 | B37: Darba devēja valsts sociālās apdrošināšanas obligātās iemaksas, pabalsti un kompensācijas | C37: =C36*0.2359 -> 0.0971908 | E37: 148.44
A38: 2100 | B38: Mācību, darba un dienesta komandējumi, dienesta, darba braucieni | C38: 0.001166 | E38: 1.78
A39: 2210 | B39: Izdevumi par sakaru pakalpojumiem | C39: 0.0076 | E39: 11.61
A40: 2222 | B40: Izdevumi par ūdensapgādi un kanalizāciju | C40: 0.0095 | E40: 14.51
A41: 2223 | B41: Izdevumi par elektroenerģiju | C41: 0.01902 | E41: 29.05
A42: 2224 | B42: Izdevumi par atkritumu savākšanu, izvešanu no apdzīvotām vietām un teritorijām ārpus apdzīvotām vietām un atkritumu utilizāciju | C42: 0.00495 | E42: 7.56
A43: 2231 | B43: Izdevumi iestādes sabiedrisko aktivitāšu īstenošanai | C43: 0.00155 | E43: 2.37
...

Sheet 7.3.2.
E1: SASKAŅOTS
E2: Sociālās integrācijas valsts aģentūras
E3: direktore I.Jurševska
E5: 2021. gada 30. augustā
A7: Maksas pakalpojuma izcenojuma aprēķins
A9: Sociālās integrācijas valsts aģentūra
A10: Publiskā pakalpojuma veids:
B11: 7. Viesu izmitināšana
B12: 7.3. Viesu izmitināšana - Dubultu prospekts 71, 2.korpuss, Jūrmala (viena vieta vienvietīgā numurā)
B13: 7.3.2. Viesu izmitināšana - Dubultu prospekts 71, 1.korpuss, Jūrmala (viena vieta vienvietīgā numurā, ar trīsreizēju ēdināšanu)
A14: Laikposms | B14: 2022.gadā un turpmāk
A15: Izdevumu klasifikācijas kods | B15: Rādītājs (materiāla/izejvielas nosaukums, atlīdzība un citi izmaksu veidi) | E15: Izmaksu apjoms noteiktā laikposmā viena maksas pakalpojuma veida nodrošināšanai
A16: 1 | B16: 2 | E16: 3
B17: Tiešās izmaksas
A18: 1100 | B18: Atalgojums | D18: =7.12/1.2359 -> 5.7609839 | E18: 1440.25
A19: 1200 | B19: Darba devēja valsts sociālās apdrošināšanas obligātās iemaksas, pabalsti un kompensācijas | D19: =D18*0.2359 -> 1.3590161 | E19: 339.75
A20: 2210 | B20: Izdevumi par sakaru pakalpojumiem | D20: 0.08 | E20: =D20*250 -> 20
A21: 2222 | B21: Izdevumi par ūdensapgādi un kanalizāciju | D21: 1.9928 | E21: 498.2
A22: 2223 | B22: Izdevumi par elektroenerģiju | D22: 2.0387969 | E22: 509.7
A23: 2243 | B23: Iekārtas, inventāra un aparatūras remonts, tehniskā apkalpošana | D23: 0.06 | E23: 15
A24: 2244 | B24: Nekustamā īpašuma uzturēšana | D24: 3.1372185 | E24: 784.3
A25: 2250 | B25: Informācijas tehnoloģiju pakalpojumi | D25: 0.16 | E25: 40
A26: 2311 | B26: Biroja preces | D26: 0.48 | E26: =D26*250 -> 120
A27: 2312 | B27: Inventārs | D27: 1.63 | E27: =D27*250 -> 407.5
A28: 2321 | B28: Kurināmais | D28: 2.6551774 | E28: 663.79
A29: 2350 | B29: Iestāžu uzturēšanas materiāli un preces | D29: 0.33 | E29: =D29*250 -> 82.5
A30: 2361 | B30: Mīkstais inventārs | D30: 0.28 | E30: =D30*250 -> 70
A31: 2362 | B31: Virtuves inventārs, trauki un galda piederumi | D31: 0.18 | E31: =D31*250 -> 45
A32: 2363 | B32: Ēdināšanas izdevumi | D32: 8.12 | E32: =D32*250 -> 2030
A33: 5239 | B33: Pārējie iepriekš neklasificētie pamatlīdzekļi un ieguldījuma īpašumi | D33: 0.8692545 | E33: 217.31
B34: Tiešās izmaksas kopā | D34: =SUM(D18:D33) -> 29.133247 | E34: =SUM(E18:E33) -> 7283.3
B35: Netiešās izmaksas
A36: 1100 | B36: Atalgojums | C36: =0.388+0.024 -> 0.412 | E36: 1351.03
A37: 1200 | B37: Darba devēja valsts sociālās apdrošināšanas obligātās iemaksas, pabalsti un kompensācijas | C37: =C36*0.2359 -> 0.0971908 | E37: 318.71
A38: 2100 | B38: Mācību, darba un dienesta komandējumi, dienesta, darba braucieni | C38: 0.001166 | E38: 3.82
A39: 2210 | B39: Izdevumi par sakaru pakalpojumiem | C39: 0.0076 | E39: 24.92
A40: 2222 | B40: Izdevumi par ūdensapgādi un kanalizāciju | C40: 0.0095 | E40: 31.15
A41: 2223 | B41: Izdevumi par elektroenerģiju | C41: 0.01902 | E41: 62.37
A42: 2224 | B42: Izdevumi par atkritumu savākšanu, izvešanu no apdzīvotām vietām un teritorijām ārpus apdzīvotām vietām un atkritumu utilizāciju | C42: 0.00495 | E42: 16.23
A43: 2231 | B43: Izdevumi iestādes sabiedrisko aktivitāšu īstenošanai | C43: 0.00155 | E43: 5.08
...

Sheet 7.4.1.
E1: SASKAŅOTS
E2: Sociālās integrācijas valsts aģentūras
E3: direktore I.Jurševska
E5: 2021. gada 30. augustā
A7: Maksas pakalpojuma izcenojuma aprēķins
A9: Sociālās integrācijas valsts aģentūra
A10: Publiskā pakalpojuma veids:
B11: 7. Viesu izmitināšana
B12: 7.4. Viesu izmitināšana - Dubultu prospekts 71, 1.korpuss, Jūrmala (viena vieta divvietīgā numurā)
B13: 7.4.1. Viesu izmitināšana - Dubultu prospekts 71, 1.korpuss, Jūrmala (viena vieta divvietīgā numurā, ar brokastīm)
A14: Laikposms | B14: 2022.gadā un turpmāk
A15: Izdevumu klasifikācijas kods | B15: Rādītājs (materiāla/izejvielas nosaukums, atlīdzība un citi izmaksu veidi) | E15: Izmaksu apjoms noteiktā laikposmā viena maksas pakalpojuma veida nodrošināšanai
A16: 1 | B16: 2 | E16: 3
B17: Tiešās izmaksas
A18: 1100 | B18: Atalgojums | D18: =5.91/1.2359 -> 4.7819403 | E18: 4064.65
A19: 1200 | B19: Darba devēja valsts sociālās apdrošināšanas obligātās iemaksas, pabalsti un kompensācijas | D19: =D18*0.2359 -> 1.1280597 | E19: 958.85
A20: 2210 | B20: Izdevumi par sakaru pakalpojumiem | D20: 0.08 | E20: =D20*850 -> 68
A21: 2222 | B21: Izdevumi par ūdensapgādi un kanalizāciju | D21: 1.88 | E21: =D21*850 -> 1598
A22: 2223 | B22: Izdevumi par elektroenerģiju | D22: 1.1222 | E22: 953.87
A23: 2243 | B23: Iekārtas, inventāra un aparatūras remonts, tehniskā apkalpošana | D23: 0.04 | E23: =D23*850 -> 34
A24: 2244 | B24: Nekustamā īpašuma uzturēšana | D24: 1.7267969 | E24: 1467.78
A25: 2250 | B25: Informācijas tehnoloģiju pakalpojumi | D25: 0.16 | E25: =D25*850 -> 136
A26: 2311 | B26: Biroja preces | D26: 0.48 | E26: =D26*850 -> 408
A27: 2312 | B27: Inventārs | D27: 1.55 | E27: =D27*850 -> 1317.5
A28: 2321 | B28: Kurināmais | D28: 1.46147 | E28: 1242.25
A29: 2350 | B29: Iestāžu uzturēšanas materiāli un preces | D29: 0.28 | E29: =D29*850 -> 238
A30: 2361 | B30: Mīkstais inventārs | D30: 0.28 | E30: =D30*850 -> 238
A31: 2362 | B31: Virtuves inventārs, trauki un galda piederumi | D31: 0.12 | E31: =D31*850 -> 102
A32: 2363 | B32: Ēdināšanas izdevumi | D32: 3.58 | E32: =D32*850 -> 3043
A33: 5239 | B33: Pārējie iepriekš neklasificētie pamatlīdzekļi un ieguldījuma īpašumi | D33: 0.47846 | E33: 406.69
B34: Tiešās izmaksas kopā | D34: =SUM(D18:D33) -> 19.148927 | E34: =SUM(E18:E33) -> 16276.59
B35: Netiešās izmaksas
A36: 1100 | B36: Atalgojums | C36: =0.388+0.024 -> 0.412 | E36: 3761.52
A37: 1200 | B37: Darba devēja valsts sociālās apdrošināšanas obligātās iemaksas, pabalsti un kompensācijas | C37: =C36*0.2359 -> 0.0971908 | E37: 887.34
A38: 2100 | B38: Mācību, darba un dienesta komandējumi, dienesta, darba braucieni | C38: 0.001166 | E38: 10.65
A39: 2210 | B39: Izdevumi par sakaru pakalpojumiem | C39: 0.0076 | E39: 69.39
A40: 2222 | B40: Izdevumi par ūdensapgādi un kanalizāciju | C40: 0.0095 | E40: 86.73
A41: 2223 | B41: Izdevumi par elektroenerģiju | C41: 0.01902 | E41: 173.65
A42: 2224 | B42: Izdevumi par atkritumu savākšanu, izvešanu no apdzīvotām vietām un teritorijām ārpus apdzīvotām vietām un atkritumu utilizāciju | C42: 0.00495 | E42: 45.19
A43: 2231 | B43: Izdevumi iestādes sabiedrisko aktivitāšu īstenošanai | C43: 0.00155 | E43: 14.15
...

Sheet 7.4.2.
E1: SASKAŅOTS
E2: Sociālās integrācijas valsts aģentūras
E3: direktore I.Jurševska
E5: 2021. gada 30. augustā
A7: Maksas pakalpojuma izcenojuma aprēķins
A9: Sociālās integrācijas valsts aģentūra
A10: Publiskā pakalpojuma veids:
B11: 7. Viesu izmitināšana
B12: 7.4. Viesu izmitināšana - Dubultu prospekts 71, 2.korpuss, Jūrmala (viena vieta divvietīgā numurā)
B13: 7.4.2. Viesu izmitināšana - Dubultu prospekts 71, 1.korpuss, Jūrmala (viena vieta divvietīgā numurā, ar trīsreizēju ēdināšanu)
A14: Laikposms | B14: 2022.gadā un turpmāk
A15: Izdevumu klasifikācijas kods | B15: Rādītājs (materiāla/izejvielas nosaukums, atlīdzība un citi izmaksu veidi) | E15: Izmaksu apjoms noteiktā laikposmā viena maksas pakalpojuma veida nodrošināšanai
A16: 1 | B16: 2 | E16: 3
B17: Tiešās izmaksas
A18: 1100 | B18: Atalgojums | D18: =7.12/1.2359 -> 5.7609839 | E18: 5472.93
A19: 1200 | B19: Darba devēja valsts sociālās apdrošināšanas obligātās iemaksas, pabalsti un kompensācijas | D19: =D18*0.2359 -> 1.3590161 | E19: 1291.06
A20: 2210 | B20: Izdevumi par sakaru pakalpojumiem | D20: 0.08 | E20: =D20*950 -> 76
A21: 2222 | B21: Izdevumi par ūdensapgādi un kanalizāciju | D21: 1.9928 | E21: 1893.16
A22: 2223 | B22: Izdevumi par elektroenerģiju | D22: 1.18953 | E22: 1130.05
A23: 2243 | B23: Iekārtas, inventāra un aparatūras remonts, tehniskā apkalpošana | D23: 0.06 | E23: =D23*950 -> 57
A24: 2244 | B24: Nekustamā īpašuma uzturēšana | D24: 1.8304 | E24: 1738.88
A25: 2250 | B25: Informācijas tehnoloģiju pakalpojumi | D25: 0.16 | E25: =D25*950 -> 152
A26: 2311 | B26: Biroja preces | D26: 0.48 | E26: =D26*950 -> 456
A27: 2312 | B27: Inventārs | D27: 1.63 | E27: =D27*950 -> 1548.5
A28: 2321 | B28: Kurināmais | D28: 1.5491587 | E28: 1471.7
A29: 2350 | B29: Iestāžu uzturēšanas materiāli un preces | D29: 0.33 | E29: =D29*950 -> 313.5
A30: 2361 | B30: Mīkstais inventārs | D30: 0.28 | E30: =D30*950 -> 266
A31: 2362 | B31: Virtuves inventārs, trauki un galda piederumi | D31: 0.18 | E31: =D31*950 -> 171
A32: 2363 | B32: Ēdināšanas izdevumi | D32: 8.12 | E32: =D32*950 -> 7714
A33: 5239 | B33: Pārējie iepriekš neklasificētie pamatlīdzekļi un ieguldījuma īpašumi | D33: 0.507165 | E33: 481.81
B34: Tiešās izmaksas kopā | D34: =SUM(D18:D33) -> 25.509054 | E34: =SUM(E18:E33) -> 24233.59
B35: Netiešās izmaksas
A36: 1100 | B36: Atalgojums | C36: =0.388+0.024 -> 0.412 | E36: 5433
A37: 1200 | B37: Darba devēja valsts sociālās apdrošināšanas obligātās iemaksas, pabalsti un kompensācijas | C37: =C36*0.2359 -> 0.0971908 | E37: 1281.64
A38: 2100 | B38: Mācību, darba un dienesta komandējumi, dienesta, darba braucieni | C38: 0.001166 | E38: 15.38
A39: 2210 | B39: Izdevumi par sakaru pakalpojumiem | C39: 0.0076 | E39: 100.22
A40: 2222 | B40: Izdevumi par ūdensapgādi un kanalizāciju | C40: 0.0095 | E40: 125.28
A41: 2223 | B41: Izdevumi par elektroenerģiju | C41: 0.01902 | E41: 250.81
A42: 2224 | B42: Izdevumi par atkritumu savākšanu, izvešanu no apdzīvotām vietām un teritorijām ārpus apdzīvotām vietām un atkritumu utilizāciju | C42: 0.00495 | E42: 65.28
A43: 2231 | B43: Izdevumi iestādes sabiedrisko aktivitāšu īstenošanai | C43: 0.00155 | E43: 20.44
...

Sheet 7.4.3.
D1: SASKAŅOTS
D2: Sociālās integrācijas valsts aģentūras
D3: direktores p.i. G.Apele
D5: 2019. gada 15.martā
A7: Maksas pakalpojuma izcenojuma aprēķins
A9: Sociālās integrācijas valsts aģentūra
A10: Publiskā pakalpojuma veids:
B11: 7. Viesu izmitināšana
B12: 7.4. Viesu izmitināšana Dubultu prospektā 71, 1.korpusā Jūrmalā (viena vieta divvietīgā numurā)
B13: 7.4.3. Piemaksa par uzturēšanos vienai personai divvietīgā numurā
A14: Laikposms | B14: ='7.4.2.'!B14 -> 2022.gadā un turpmāk
A15: Izdevumu klasifikācijas kods | B15: Rādītājs (materiāla/izejvielas nosaukums, atlīdzība un citi izmaksu veidi) | C15: Izmaksu apjoms noteiktā laikposmā viena maksas pakalpojuma veida nodrošināšanai | D15: Izmaksu apjoms noteiktā laikposmā viena maksas pakalpojuma veida nodrošināšanai
A16: 1 | B16: 2 | D16: 3
B17: Tiešās izmaksas
A18: 1100 | B18: Atalgojums | C18: 31.18 | D18: =C18/30*340 -> 353.37333
A19: 1200 | B19: Darba devēja valsts sociālās apdrošināšanas obligātās iemaksas, sociāla rakstura pabalsti un kompensācijas | C19: 7.51 | D19: =C19/30*340 -> 85.113333
A20: 2210 | B20: Pasta, telefona un citu sakaru pakalpojumi | C20: 0 | D20: =C20/30*340 -> 0
A21: 2222 | B21: Izdevumi par ūdeni un kanalizāciju | C21: 22.55 | D21: =C21/30*340 -> 255.56667
A22: 2223 | B22: Izdevumi par elektroenerģiju | C22: 28.66 | D22: =C22/30*340 -> 324.81333
A23: 2230 | B23: Iestādes administratīvie izdevumi un ar iestādes darbības nodrošināšanu saistītie izdevumi | C23: 0 | D23: =C23/30*340 -> 0
A24: 2243 | B24: Iekārtas, inventāra un aparatūras remonts, tehniskā apkalpošana | C24: 0.44 | D24: =C24/30*340 -> 4.9866667
A25: 2244 | B25: Ēku, būvju un telpu uzturēšana | C25: 32.12 | D25: 934.21
A26: 2249 | B26: Pārējie remonta darbu un iestāžu uzturēšanas pakalpojumi | C26: 0 | D26: =C26/30*340 -> 0
A27: 2251 | B27: Informācijas sistēmas uzturēšana | C27: 0 | D27: =C27/30*340 -> 0
A28: 2263 | B28: Zemes noma | C28: 8.57 | D28: =C28/30*340 -> 97.126667
A29: 2264 | B29: Iekārtu un inventāra īre un noma | C29: 0 | D29: =C29/30*340 -> 0
A30: 2279 | B30: Pārējie iepriekš neklasificētie pakalpojumu veidi | C30: 5.21 | D30: =C30/30*340 -> 59.046667
A31: 2321 | B31: Kurināmais | C31: 34.65 | D31: =C31/30*340 -> 392.7
A32: 2341 | B32: Zāles, ķimikālijas, laboratorijas preces | C32: 0 | D32: =C32/30*340 -> 0
A33: 2350 | B33: Kārtējā remonta un iestāžu uzturēšanas materiāli | C33: 0 | D33: =C33/30*340 -> 0
A34: 2362 | B34: Virtuves inventārs, trauki un galda piederumi | C34: 0 | D34: =C34/30*340 -> 0
A35: 2363 | B35: Ēdināšanas izdevumi | C35: 0 | D35: =C35/30*340 -> 0
A36: 2513 | B36: Budžeta iestāžu nekustamā īpašuma nodokļa (t.sk. zemes nodokļa parāda) maksājumi budžetā | C36: 1.21 | D36: =C36/30*340 -> 13.713333
A37: 2519 | B37: Pārējie budžeta iestāžu pārskaitītie nodokļi un nodevas | C37: 0.63 | D37: =C37/30*340 -> 7.14
A38: 5232 | B38: Saimniecības pamatlīdzekļi
B39: Tiešās izmaksas kopā | C39: =SUM(C18:C38) -> 172.73 | D39: =SUM(D18:D38) -> 2527.79
B40: Netiešās izmaksas
A41: 1100 | B41: Atalgojums | C41: 56.1 | D41: =C41/30*340 -> 635.8
A42: 1200 | B42: Darba devēja valsts sociālās apdrošināšanas obligātās iemaksas, sociāla rakstura pabalsti un kompensācijas | C42: 13.51 | D42: =C42/30*340 -> 153.11333
A43: 2100 | B43: Mācību, darba un dienesta komandējumi, dienesta, darba braucieni | C43: 0 | D43: =C43/30*340 -> 0
...

Sheet 4.3.1.
E1: SASKAŅOTS
E2: Sociālās integrācijas valsts aģentūras
E3: direktore I.Jurševska
E5: 2023. gada 29. martā
A7: Maksas pakalpojuma izcenojuma aprēķins
A9: Sociālās integrācijas valsts aģentūra
A10: Publiskā pakalpojuma veids:
B11: 4. Viesu izmitināšana
B12: 4.3. Viesu izmitināšana Dubultu prospektā 71, Jūrmalā, papildus vieta
B13: 4.3.1. Papildu vieta bērnam no 2 līdz 14 gadu vecumam Dubultu prospektā 71, 2 korpuss, Jūrmalā (ar brokastīm)
A14: Laikposms | B14: 2023.gadā un turpmāk
A15: Izdevumu klasifikācijas kods | B15: Rādītājs (materiāla/izejvielas nosaukums, atlīdzība un citi izmaksu veidi) | E15: Izmaksu apjoms noteiktā laikposmā viena maksas pakalpojuma veida nodrošināšanai
A16: 1 | B16: 2 | E16: 3
B17: Tiešās izmaksas
A18: 1100 | B18: Atalgojums | C18: ='[1]7._izmitināšana_GALA mpc'!$W$6 -> 5.3220007 | E18: 180.07
A19: 1200 | B19: Darba devēja valsts sociālās apdrošināšanas obligātās iemaksas, pabalsti un kompensācijas | C19: =C18*0.2359 -> 1.25546 | E19: 42.48
A20: 2222 | B20: Izdevumi par ūdensapgādi un kanalizāciju | C20: ='[1]7._izmitināšana_GALA mpc'!$W$8 -> 0.1774443 | E20: 5.2
A21: 2223 | B21: Izdevumi par elektroenerģiju | C21: ='[1]7._izmitināšana_GALA mpc'!$W$9 -> 0.52153524 | E21: 15.26
A22: 2243 | B22: Iekārtas, inventāra un aparatūras remonts, tehniskā apkalpošana | C22: ='[1]7._izmitināšana_GALA mpc'!$W$11 -> 0.024067273 | E22: 0.71
A23: 2244 | B23: Nekustamā īpašuma uzturēšana | C23: ='[1]7._izmitināšana_GALA mpc'!$W$12 -> 0.63560965 | E23: 18.63
A24: 2250 | B24: Informācijas tehnoloģiju pakalpojumi | C24: ='[1]7._izmitināšana_GALA mpc'!$W$13 -> 0.095 | E24: 2.85
A25: 2311 | B25: Biroja preces | C25: ='[1]7._izmitināšana_GALA mpc'!$W$14 -> 1.0355716 | E25: 30.79
A26: 2312 | B26: Inventārs | C26: ='[1]7._izmitināšana_GALA mpc'!$W$15 -> 0.31664822 | E26: 9.38
A27: 2321 | B27: Kurināmais | C27: ='[1]7._izmitināšana_GALA mpc'!$W$16 -> 0.3668872 | E27: 10.75
A28: 2350 | B28: Iestāžu uzturēšanas materiāli un preces | C28: ='[1]7._izmitināšana_GALA mpc'!$W$17 -> 0.12125717 | E28: 3.55
A29: 2361 | B29: Mīkstais inventārs | C29: ='[1]7._izmitināšana_GALA mpc'!$W$18 -> 0.054458313 | E29: 1.58
A30: 2362 | B30: Virtuves inventārs, trauki un galda piederumi | C30: ='[1]7._izmitināšana_GALA mpc'!$W$19 -> 0.013141747 | E30: 0.4
A31: 2363 | B31: Ēdināšanas izdevumi | C31: 2.09 | E31: 62.7
A32: 5239 | B32: Pārējie iepriekš neklasificētie pamatlīdzekļi un ieguldījuma īpašumi | C32: ='[1]7._izmitināšana_GALA mpc'!$W$21 -> 0.47254079 | E32: 13.94
B33: Tiešās izmaksas kopā | C33: =SUM(C18:C32) -> 12.501622 | E33: =SUM(E18:E32) -> 398.29
B34: Netiešās izmaksas
A35: 1100 | B35: Atalgojums | D35: 0.4855 | E35: 137.26
A36: 1200 | B36: Darba devēja valsts sociālās apdrošināšanas obligātās iemaksas, pabalsti un kompensācijas | D36: =D35*0.2359 -> 0.11452945 | E36: 32.38
A37: 2100 | B37: Mācību, darba un dienesta komandējumi, dienesta, darba braucieni | D37: 0.001166 | E37: 0.36
A38: 2210 | B38: Izdevumi par sakaru pakalpojumiem | D38: 0.0076 | E38: 2.33
A39: 2222 | B39: Izdevumi par ūdensapgādi un kanalizāciju | D39: =0.0095*1.15 -> 0.010925 | E39: 3.35
A40: 2223 | B40: Izdevumi par elektroenerģiju | D40: =0.01902*2.13 -> 0.0405126 | E40: 12.43
A41: 2224 | B41: Izdevumi par atkritumu savākšanu, izvešanu no apdzīvotām vietām un teritorijām ārpus apdzīvotām vietām un atkritumu utilizāciju | D41: =0.00495*1.15 -> 0.0056925 | E41: 1.75
A42: 2231 | B42: Izdevumi iestādes sabiedrisko aktivitāšu īstenošanai | D42: 0.00155 | E42: 0.48
A43: 2235 | B43: Izdevumi par saņemtajiem mācību pakalpojumiem | D43: 0.00165 | E43: 0.51
...

Sheet 4.3.2.
E1: SASKAŅOTS
E2: Sociālās integrācijas valsts aģentūras
E3: direktore I.Jurševska
E5: 2023. gada 29. martā
A7: Maksas pakalpojuma izcenojuma aprēķins
A9: Sociālās integrācijas valsts aģentūra
A10: Publiskā pakalpojuma veids:
B11: 4. Viesu izmitināšana
B12: 4.3. Viesu izmitināšana Dubultu prospektā 71, Jūrmalā, papildus vieta
B13: 4.3.2. Papildu vieta bērnam no 2 līdz 14 gadu vecumam Dubultu prospektā 71, 2 korpuss, Jūrmalā (ar trīsreizēju ēdināšanu)
A14: Laikposms | B14: 2023.gadā un turpmāk
A15: Izdevumu klasifikācijas kods | B15: Rādītājs (materiāla/izejvielas nosaukums, atlīdzība un citi izmaksu veidi) | E15: Izmaksu apjoms noteiktā laikposmā viena maksas pakalpojuma veida nodrošināšanai
A16: 1 | B16: 2 | E16: 3
B17: Tiešās izmaksas
A18: 1100 | B18: Atalgojums | C18: ='[1]7._izmitināšana_GALA mpc'!$X$6 -> 7.8366013 | E18: 266.81
A19: 1200 | B19: Darba devēja valsts sociālās apdrošināšanas obligātās iemaksas, pabalsti un kompensācijas | C19: =C18*0.2359 -> 1.8486542 | E19: 62.94
A20: 2222 | B20: Izdevumi par ūdensapgādi un kanalizāciju | C20: ='[1]7._izmitināšana_GALA mpc'!$X$8 -> 0.22548084 | E20: 6.65
A21: 2223 | B21: Izdevumi par elektroenerģiju | C21: ='[1]7._izmitināšana_GALA mpc'!$X$9 -> 0.56503637 | E21: 16.57
A22: 2243 | B22: Iekārtas, inventāra un aparatūras remonts, tehniskā apkalpošana | C22: ='[1]7._izmitināšana_GALA mpc'!$X$11 -> 0.03625094 | E22: 1.08
A23: 2244 | B23: Nekustamā īpašuma uzturēšana | C23: ='[1]7._izmitināšana_GALA mpc'!$X$12 -> 0.69759783 | E23: 20.49
A24: 2250 | B24: Informācijas tehnoloģiju pakalpojumi | C24: ='[1]7._izmitināšana_GALA mpc'!$X$13 -> 0.095 | E24: 2.85
A25: 2311 | B25: Biroja preces | C25: ='[1]7._izmitināšana_GALA mpc'!$X$14 -> 1.0355716 | E25: 30.79
A26: 2312 | B26: Inventārs | C26: ='[1]7._izmitināšana_GALA mpc'!$X$15 -> 0.39767064 | E26: 11.82
A27: 2321 | B27: Kurināmais | C27: ='[1]7._izmitināšana_GALA mpc'!$X$16 -> 0.40435662 | E27: 11.88
A28: 2350 | B28: Iestāžu uzturēšanas materiāli un preces | C28: ='[1]7._izmitināšana_GALA mpc'!$X$17 -> 0.15456804 | E28: 4.56
A29: 2361 | B29: Mīkstais inventārs | C29: ='[1]7._izmitināšana_GALA mpc'!$X$18 -> 0.054458313 | E29: 1.58
A30: 2362 | B30: Virtuves inventārs, trauki un galda piederumi | C30: ='[1]7._izmitināšana_GALA mpc'!$X$19 -> 0.031051737 | E30: 0.94
A31: 2363 | B31: Ēdināšanas izdevumi | C31: 5.36 | E31: =5.36*30 -> 160.8
A32: 5239 | B32: Pārējie iepriekš neklasificētie pamatlīdzekļi un ieguldījuma īpašumi | C32: ='[1]7._izmitināšana_GALA mpc'!$X$21 -> 0.54388651 | E32: 16.09
B33: Tiešās izmaksas kopā | C33: =SUM(C18:C32) -> 19.286185 | E33: =SUM(E18:E32) -> 615.85
B34: Netiešās izmaksas
A35: 1100 | B35: Atalgojums | D35: 0.4855 | E35: 148.57
A36: 1200 | B36: Darba devēja valsts sociālās apdrošināšanas obligātās iemaksas, pabalsti un kompensācijas | D36: =D35*0.2359 -> 0.11452945 | E36: 35.05
A37: 2100 | B37: Mācību, darba un dienesta komandējumi, dienesta, darba braucieni | D37: 0.001166 | E37: 0.41
A38: 2210 | B38: Izdevumi par sakaru pakalpojumiem | D38: 0.0076 | E38: 2.67
A39: 2222 | B39: Izdevumi par ūdensapgādi un kanalizāciju | D39: =0.0095*1.15 -> 0.010925 | E39: 3.83
A40: 2223 | B40: Izdevumi par elektroenerģiju | D40: =0.01902*2.13 -> 0.0405126 | E40: 14.22
A41: 2224 | B41: Izdevumi par atkritumu savākšanu, izvešanu no apdzīvotām vietām un teritorijām ārpus apdzīvotām vietām un atkritumu utilizāciju | D41: =0.00495*1.15 -> 0.0056925 | E41: 2
A42: 2231 | B42: Izdevumi iestādes sabiedrisko aktivitāšu īstenošanai | D42: 0.00155 | E42: 0.54
A43: 2235 | B43: Izdevumi par saņemtajiem mācību pakalpojumiem | D43: 0.00165 | E43: 0.58
...

Sheet 7.5.3.
C1: SASKAŅOTS
C2: Sociālās integrācijas valsts aģentūras
C3: direktores p.i. G.Apele
C5: 2019. gada 15.martā
A7: Maksas pakalpojuma izcenojuma aprēķins
A9: Sociālās integrācijas valsts aģentūra
A10: Publiskā pakalpojuma veids:
B11: 7. Viesu izmitināšana
B12: 7.5. Viesu izmitināšana Dubultu prospektā 71, Jūrmalā, papildus vieta
B13: 7.5.3. Papildu vieta bērnam no 2 līdz 14 gadu vecumam Dubultu prospektā 71, 1 korpuss, Jūrmalā (ar brokastīm)
A14: Laikposms | B14: ='4.3.2.'!B14 -> 2023.gadā un turpmāk
A15: Izdevumu klasifikācijas kods | B15: Rādītājs (materiāla/izejvielas nosaukums, atlīdzība un citi izmaksu veidi) | C15: Izmaksu apjoms noteiktā laikposmā viena maksas pakalpojuma veida nodrošināšanai
A16: 1 | B16: 2 | C16: 3
B17: Tiešās izmaksas
A18: 1100 | B18: Atalgojums | C18: 52.66
A19: 1200 | B19: Darba devēja valsts sociālās apdrošināšanas obligātās iemaksas, sociāla rakstura pabalsti un kompensācijas | C19: 12.69
A20: 2219 | B20: Pārējie sakaru pakalpojumi | C20: 0.97
A21: 2222 | B21: Izdevumi par ūdeni un kanalizāciju | C21: 29.19
A22: 2223 | B22: Izdevumi par elektroenerģiju | C22: 32.92
A23: 2243 | B23: Iekārtas, inventāra un aparatūras remonts, tehniskā apkalpošana | C23: 0.45
A24: 2244 | B24: Ēku, būvju un telpu uzturēšana | C24: 50.57
A25: 2249 | B25: Pārējie remontdarbu un iestāžu uzturēšanas pakalpojumi | C25: 0
A26: 2263 | B26: Zemes noma | C26: 9.22
A27: 2264 | B27: Iekārtu un inventāra īre un noma | C27: 0.06
A28: 2279 | B28: Pārējie iepriekš neklasificētie pakalpojumu veidi | C28: 5.06
A29: 2321 | B29: Kurināmais | C29: 45.16
... A32: 2519 | B32: Pārējie budžeta iestāžu pārskaitītie nodokļi un nodevas | C32: 0.65
B33: Tiešās izmaksas kopā | C33: =SUM(C18:C32) -> 294.77
B34: Netiešās izmaksas
A35: 1100 | B35: Atalgojums | C35: 57.79
A36: 1200 | B36: Darba devēja valsts sociālās apdrošināšanas obligātās iemaksas, sociāla rakstura pabalsti un kompensācijas | C36: 13.92
A37: 2219 | B37: Pārējie sakaru pakalpojumi | C37: 1.56
A38: 2234 | B38: Normatīvajos aktos noteiktie darba devēja veselības izdevumi darba ņēmējiem | C38: 0.13
A39: 2239 | B39: Pārējie iestādes administratīvie izdevumi un ar iestādes darbības nodrošināšanu saistītie pakalpojumi | C39: 0.65
A40: 2241 | B40: Ēku, būvju un telpu remonts | C40: 0.13
A41: 2242 | B41: Transportlīdzekļu uzturēšana un remonts | C41: 0
A42: 2243 | B42: Iekārtas, inventāra un aparatūras remonts, tehniskā apkalpošana | C42: 0.52
A43: 2244 | B43: Ēku, būvju un telpu uzturēšana | C43: 8.76
A44: 2247 | B44: Apdrošināšanas izdevumi | C44: 0.2
A45: 2251 | B45: Informācijas sistēmas uzturēšana | C45: 7.1
...

Sheet 7.5.4.
C1: SASKAŅOTS
C2: Sociālās integrācijas valsts aģentūras
C3: direktores p.i. G.Apele
C5: 2019. gada 15.martā
A7: Maksas pakalpojuma izcenojuma aprēķins
A9: Sociālās integrācijas valsts aģentūra
A10: Publiskā pakalpojuma veids:
B11: 7. Viesu izmitināšana
B12: 7.5. Viesu izmitināšana Dubultu prospektā 71, Jūrmalā, papildus vieta
B13: 7.5.4. Papildu vieta bērnam no 2 līdz 14 gadu vecumam Dubultu prospektā 71, 1 korpuss, Jūrmalā (ar trīsreizēju ēdināšanu)
A14: Laikposms | B14: ='7.5.3.'!B14 -> 2023.gadā un turpmāk
A15: Izdevumu klasifikācijas kods | B15: Rādītājs (materiāla/izejvielas nosaukums, atlīdzība un citi izmaksu veidi) | C15: Izmaksu apjoms noteiktā laikposmā viena maksas pakalpojuma veida nodrošināšanai
A16: 1 | B16: 2 | C16: 3
B17: Tiešās izmaksas
A18: 1100 | B18: Atalgojums | C18: 63.2
A19: 1200 | B19: Darba devēja valsts sociālās apdrošināšanas obligātās iemaksas, sociāla rakstura pabalsti un kompensācijas | C19: 15.23
A20: 2219 | B20: Pārējie sakaru pakalpojumi | C20: 1.16
A21: 2222 | B21: Izdevumi par ūdeni un kanalizāciju | C21: 35.03
A22: 2223 | B22: Izdevumi par elektroenerģiju | C22: 39.51
A23: 2243 | B23: Iekārtas, inventāra un aparatūras remonts, tehniskā apkalpošana | C23: 0.54
A24: 2244 | B24: Ēku, būvju un telpu uzturēšana | C24: 63
A25: 2249 | B25: Pārējie remontdarbu un iestāžu uzturēšanas pakalpojumi | C25: 0
A26: 2263 | B26: Zemes noma | C26: 11.06
A27: 2264 | B27: Iekārtu un inventāra īre un noma | C27: 0.07
A28: 2279 | B28: Pārējie iepriekš neklasificētie pakalpojumu veidi | C28: 6.07
A29: 2321 | B29: Kurināmais | C29: 54.19
... A32: 2519 | B32: Pārējie budžeta iestāžu pārskaitītie nodokļi un nodevas | C32: 0.78
B33: Tiešās izmaksas kopā | C33: =SUM(C18:C32) -> 408.84
B34: Netiešās izmaksas
A35: 1100 | B35: Atalgojums | C35: 63.57
A36: 1200 | B36: Darba devēja valsts sociālās apdrošināšanas obligātās iemaksas, sociāla rakstura pabalsti un kompensācijas | C36: 15.31
A37: 2219 | B37: Pārējie sakaru pakalpojumi | C37: 1.87
A38: 2234 | B38: Normatīvajos aktos noteiktie darba devēja veselības izdevumi darba ņēmējiem | C38: 0.16
A39: 2239 | B39: Pārējie iestādes administratīvie izdevumi un ar iestādes darbības nodrošināšanu saistītie pakalpojumi | C39: 0.78
A40: 2241 | B40: Ēku, būvju un telpu remonts | C40: 0.16
A41: 2242 | B41: Transportlīdzekļu uzturēšana un remonts | C41: 0
A42: 2243 | B42: Iekārtas, inventāra un aparatūras remonts, tehniskā apkalpošana | C42: 1.02
A43: 2244 | B43: Ēku, būvju un telpu uzturēšana | C43: 25.25
A44: 2247 | B44: Apdrošināšanas izdevumi | C44: 0.24
A45: 2251 | B45: Informācijas sistēmas uzturēšana | C45: 8.52
...

Sheet 4.3.3.
E1: SASKAŅOTS
E2: Sociālās integrācijas valsts aģentūras
E3: direktore I.Jurševska
E5: 2023. gada 29. martā
A7: Maksas pakalpojuma izcenojuma aprēķins
A9: Sociālās integrācijas valsts aģentūra
A10: Publiskā pakalpojuma veids:
B11: 4. Viesu izmitināšana
B12: 4.3. Viesu izmitināšana Dubultu prospektā 71, Jūrmalā, papildus vieta
B13: 4.3.3. Papildu vieta vienai personai Dubultu prospektā 71, 2. korp., Jūrmalā (ar brokastīm)
A14: Laikposms | B14: 2023.gadā un turpmāk
A15: Izdevumu klasifikācijas kods | B15: Rādītājs (materiāla/izejvielas nosaukums, atlīdzība un citi izmaksu veidi) | E15: Izmaksu apjoms noteiktā laikposmā viena maksas pakalpojuma veida nodrošināšanai
A16: 1 | B16: 2 | E16: 3
B17: Tiešās izmaksas
A18: 1100 | B18: Atalgojums | C18: ='[1]7._izmitināšana_GALA mpc'!$Y$6 -> 8.6068717 | E18: 282.63
A19: 1200 | B19: Darba devēja valsts sociālās apdrošināšanas obligātās iemaksas, pabalsti un kompensācijas | C19: =C18*0.2359 -> 2.030361 | E19: 66.67
A20: 2222 | B20: Izdevumi par ūdensapgādi un kanalizāciju | C20: ='[1]7._izmitināšana_GALA mpc'!$Y$8 -> 0.2021967 | E20: 5.94
A21: 2223 | B21: Izdevumi par elektroenerģiju | C21: ='[1]7._izmitināšana_GALA mpc'!$Y$9 -> 0.59961558 | E21: 17.6
A22: 2243 | B22: Iekārtas, inventāra un aparatūras remonts, tehniskā apkalpošana | C22: ='[1]7._izmitināšana_GALA mpc'!$Y$11 -> 0.035127309 | E22: 1.04
A23: 2244 | B23: Nekustamā īpašuma uzturēšana | C23: ='[1]7._izmitināšana_GALA mpc'!$Y$12 -> 0.76012481 | E23: 22.35
A24: 2250 | B24: Informācijas tehnoloģiju pakalpojumi | C24: ='[1]7._izmitināšana_GALA mpc'!$Y$13 -> 0.19 | E24: 5.7
A25: 2311 | B25: Biroja preces | C25: ='[1]7._izmitināšana_GALA mpc'!$Y$14 -> 1.7655716 | E25: 52.69
A26: 2312 | B26: Inventārs | C26: ='[1]7._izmitināšana_GALA mpc'!$Y$15 -> 0.4721967 | E26: 14.04
A27: 2321 | B27: Kurināmais | C27: ='[1]7._izmitināšana_GALA mpc'!$Y$16 -> 0.43439341 | E27: 12.77
A28: 2350 | B28: Iestāžu uzturēšanas materiāli un preces | C28: ='[1]7._izmitināšana_GALA mpc'!$Y$17 -> 0.13681478 | E28: 4.02
A29: 2361 | B29: Mīkstais inventārs | C29: ='[1]7._izmitināšana_GALA mpc'!$Y$18 -> 0.054458313 | E29: 1.58
A30: 2362 | B30: Virtuves inventārs, trauki un galda piederumi | C30: ='[1]7._izmitināšana_GALA mpc'!$Y$19 -> 0.02 | E30: 0.6
