Workbook

Sheet Saturs
M1: 5.pielikums
M2: Ministru kabineta noteikumu projekta "Grozījumi Ministru kabineta
M3: 2013.gada 24.septembra noteikumos Nr.1002 "Sociālās
M4: integrācijas valstas aģentūras sniegto maksas pakalpojumu cenrādis""
M5: sākotnējās ietekmes novērtējuma ziņojumam (anotācijai)
A13: Satura rādītājs
A15: 7.1. | B15: Viesu izmitināšana Dubultu prospektā 71, 2.korpusā, Jūrmalā (viena vieta vienvietīgā numurā)
A16: 4.1.1. | B16: Viesu izmitināšana Dubultu prospektā 71, 2.korpusā, Jūrmalā, viena vieta vienvietīgā numurā (ar brokastīm),
A17: 4.1.2. | B17: Viesu izmitināšana Dubultu prospektā 71, 2.korpusā, Jūrmalā, viena vieta vienvietīgā numurā (ar trīsreizēju ēdināšanu),
A18: 4.2.1. | B18: Viesu izmitināšana Dubultu prospektā 71, 2.korpusā, Jūrmalā viena vieta divvietīgā numurā(ar brokastīm)
A19: 4.2.2. | B19: Viesu izmitināšana Dubultu prospektā 71, 2.korpusā, Jūrmalā viena vieta divvietīgā numurā (ar trīsreizēju ēdināšanu)
A20: 4.2.3. | B20: Viesu izmitināšana pielāgotā numurā Dubultu prospektā 71, 2.korpusā, Jūrmalā, viena vieta divvietīgā pielāgotā numurā (ar brokastīm)
A21: 4.2.4. | B21: Viesu izmitināšana pielāgotā numurā Dubultu prospektā 71, 2.korpusā, Jūrmalā, viena vieta divvietīgā pielāgotā numurā (ar trīsreizēju ēdināšanu)
A22: 4.2.5. | B22: Piemaksa par uzturēšanos vienai personai divvietīgā numurā, Dubultu prospektā 71, 2.korpusā, Jūrmalā
A23: 4.3.1. | B23: Papildu vieta bērnam no 2 līdz 14 gadu vecumam Dubultu prospektā 71, 2 korpuss, Jūrmalā (ar brokastīm)
A24: 4.3.2. | B24: Papildu vieta bērnam no 2 līdz 14 gadu vecumam Dubultu prospektā 71, 2 korpuss, Jūrmalā (ar trīsreizēju ēdināšanu)
A25: 4.3.3. | B25: Papildu vieta vienai personai Dubultu prospektā 71, 2 korpuss, Jūrmalā (ar brokastīm)
A26: 4.3.4. | B26: Papildu vieta vienai personai Dubultu prospektā 71, 2 korpuss, Jūrmalā (ar trīsreizēju ēdināšanu)
... A39: 4.13. | B39: Viesu izmitināšana Slokas ielā 68, Jūrmalā

Sheet 4.1.1.
E1: SASKAŅOTS
E2: Sociālās integrācijas valsts aģentūras
E3: direktore I.Jurševska
E5: 2023. gada 29. martā
A7: Maksas pakalpojuma izcenojuma aprēķins
A9: Sociālās integrācijas valsts aģentūra
A10: Publiskā pakalpojuma veids:
B11: 4. Viesu izmitināšana
B12: 4.1. Viesu izmitināšana - Dubultu prospekts 71, 2.korpuss, Jūrmala (viena vieta vienvietīgā numurā)
B13: 4.1.1. Viesu izmitināšana - Dubultu prospekts 71, 2.korpuss, Jūrmala (viena vieta vienvietīgā numurā, ar brokastīm)
A14: Laikposms | B14: 2023.gadā un turpmāk
A15: Izdevumu klasifikācijas kods | B15: Rādītājs (materiāla/izejvielas nosaukums, atlīdzība un citi izmaksu veidi) | E15: Izmaksu apjoms noteiktā laikposmā viena maksas pakalpojuma veida nodrošināšanai
A16: 1 | B16: 2 | E16: 3
B17: Tiešās izmaksas
A18: 1100 | B18: Atalgojums | D18: ='[1]7._izmitināšana_GALA mpc'!$P$6 -> 11.804 | E18: 266.77
A19: 1200 | B19: Darba devēja valsts sociālās apdrošināšanas obligātās iemaksas, pabalsti un kompensācijas | D19: =D18*0.2359 -> 2.7845636 | E19: 62.93
A20: 2222 | B20: Izdevumi par ūdensapgādi un kanalizāciju | D20: ='[1]7._izmitināšana_GALA mpc'!$P$8 -> 0.53 | E20: 10.6
A21: 2223 | B21: Izdevumi par elektroenerģiju | D21: ='[1]7._izmitināšana_GALA mpc'!$P$9 -> 1.59 | E21: 31.8
A22: 2243 | B22: Iekārtas, inventāra un aparatūras remonts, tehniskā apkalpošana | D22: ='[1]7._izmitināšana_GALA mpc'!$P$11 -> 0.07 | E22: 1.4
A23: 2244 | B23: Nekustamā īpašuma uzturēšana | D23: ='[1]7._izmitināšana_GALA mpc'!$P$12 -> 1.89 | E23: 37.8
A24: 2250 | B24: Informācijas tehnoloģiju pakalpojumi | D24: ='[1]7._izmitināšana_GALA mpc'!$P$13 -> 0.19 | E24: 3.8
A25: 2311 | B25: Biroja preces | D25: ='[1]7._izmitināšana_GALA mpc'!$P$14 -> 2.47 | E25: 49.4
A26: 2312 | B26: Inventārs | D26: ='[1]7._izmitināšana_GALA mpc'!$P$15 -> 0.8 | E26: 16
A27: 2321 | B27: Kurināmais | D27: ='[1]7._izmitināšana_GALA mpc'!$P$16 -> 1.09 | E27: 21.8
A28: 2350 | B28: Iestāžu uzturēšanas materiāli un preces | D28: ='[1]7._izmitināšana_GALA mpc'!$P$17 -> 0.36 | E28: 7.2
A29: 2361 | B29: Mīkstais inventārs | D29: ='[1]7._izmitināšana_GALA mpc'!$P$18 -> 0.18 | E29: 3.6
A30: 2362 | B30: Virtuves inventārs, trauki un galda piederumi | D30: ='[1]7._izmitināšana_GALA mpc'!$P$19 -> 0.02 | E30: 0.4
A31: 2363 | B31: Ēdināšanas izdevumi | D31: ='[1]7._izmitināšana_GALA mpc'!$P$20 -> 3.87 | E31: 77.4
A32: 5239 | B32: Pārējie iepriekš neklasificētie pamatlīdzekļi un ieguldījuma īpašumi | D32: ='[1]7._izmitināšana_GALA mpc'!$P$21 -> 1.27 | E32: 25.4
B33: Tiešās izmaksas kopā | D33: =SUM(D18:D32) -> 28.918564 | E33: =SUM(E18:E32) -> 616.3
B34: Netiešās izmaksas
A35: 1100 | B35: Atalgojums | C35: 0.4855 | E35: 285.05
A36: 1200 | B36: Darba devēja valsts sociālās apdrošināšanas obligātās iemaksas, pabalsti un kompensācijas | C36: =C35*0.2359 -> 0.11452945 | E36: 67.24
A37: 2100 | B37: Mācību, darba un dienesta komandējumi, dienesta, darba braucieni | C37: 0.001166 | E37: 0.76
A38: 2210 | B38: Izdevumi par sakaru pakalpojumiem | C38: 0.0076 | E38: 4.95
A39: 2222 | B39: Izdevumi par ūdensapgādi un kanalizāciju | C39: =0.0095*1.15 -> 0.010925 | E39: 7.11
A40: 2223 | B40: Izdevumi par elektroenerģiju | C40: =0.01902*2.13 -> 0.0405126 | E40: 26.37
A41: 2224 | B41: Izdevumi par atkritumu savākšanu, izvešanu no apdzīvotām vietām un teritorijām ārpus apdzīvotām vietām un atkritumu utilizāciju | C41: =0.00495*1.15 -> 0.0056925 | E41: 3.7
A42: 2231 | B42: Izdevumi iestādes sabiedrisko aktivitāšu īstenošanai | C42: 0.00155 | E42: 1.01
A43: 2235 | B43: Izdevumi par saņemtajiem mācību pakalpojumiem | C43: 0.00165 | E43: 1.07
A44: 2239 | B44: Pārējie neklasificētie pakalpojumi | C44: 0.00441 | E44: 2.87
A45: 2241 | B45: Ēku, būvju un telpu būvdarbi | C45: 0.0165 | E45: 10.74
A46: 2242 | B46: Transportlīdzekļu uzturēšana un remonts | C46: 0.00226 | E46: 1.47
A47: 2243 | B47: Iekārtas, inventāra un aparatūras remonts, tehniskā apkalpošana | C47: 0.0326 | E47: 21.22
A48: 2244 | B48: Nekustamā īpašuma uzturēšana | C48: =0.20397-0.09084 -> 0.11313 | E48: 73.63
A49: 2247 | B49: Apdrošināšanas izdevumi | C49: 0.000719 | E49: 0.47
A50: 2249 | B50: Pārējie remontdarbu un iestāžu uzturēšanas pakalpojumi | C50: 0.000232 | E50: 0.15
A51: 2250 | B51: Informācijas tehnoloģiju pakalpojumi | C51: =0.024026-0.005 -> 0.019026 | E51: 12.38
A52: 2261 | B52: Ēku, telpu īre un noma | C52: 0 | E52: =C52*650.83 -> 0
A53: 2262 | B53: Transportlīdzekļu noma | C53: 0.00626 | E53: 4.07
A54: 2263 | B54: Zemes noma | C54: 0.0458 | E54: 29.81
A55: 2264 | B55: Iekārtu, aparatūras un inventāra īre un noma | C55: 0.00149 | E55: 0.97
A56: 2311 | B56: Biroja preces | C56: 0.00477 | E56: 3.1
A57: 2312 | B57: Inventārs | C57: 0.00579 | E57: 3.77
A58: 2314 | B58: Izdevumi par precēm iestādes sabiedrisko aktivitāšu īstenošanai | C58: 0.00222 | E58: 1.44
A59: 2321 | B59: Kurināmais | C59: =0.0198*1.2+0.005 -> 0.02876 | E59: 18.72
A60: 2322 | B60: Degviela | C60: =0.0035*1.2 -> 0.0042 | E60: 2.73
A61: 2341 | B61: Zāles, ķimikālijas, laboratorijas preces | E61: =C61*650.83 -> 0
A62: 2350 | B62: Iestāžu uzturēšanas materiāli un preces | C62: 0.0085 | E62: 5.53
A63: 2512 | B63: Budžeta iestāžu pievienotās vērtības nodokļa maksājumi | C63: 0 | E63: =C63*650.83 -> 0
A64: 2513 | B64: Budžeta iestāžu nekustamā īpašuma nodokļa maksājumi | C64: 0.00146 | E64: 0.95
A65: 2515 | B65: Budžeta iestāžu dabas resursu nodokļa maksājumi | C65: 0.0019 | E65: 1.24
A66: 2519 | B66: Pārējie budžeta iestāžu pārskaitītie nodokļi un nodevas | C66: 0.002 | E66: 1.3
A67: 5220 | B67: Tehnoloģiskās iekārtas un mašīnas | C67: 0.0106 | E67: 6.9
A68: 5238 | B68: Datortehnika, sakaru un cita biroja tehnika | C68: 0.00165 | E68: 1.07
A69: 5239 | B69: Pārējie iepriekš neklasificētie pamatlīdzekļi un ieguldījuma īpašumi | C69: 0.00954 | E69: 6.4
A70: 5250 | B70: Kapitālais remonts un rekonstrukcija | C70: 0.00706 | E70: 4.51
B71: Netiešās izmaksas kopā | C71: =SUM(C35:C70) -> 1.0000026 | E71: =SUM(E35:E70) -> 612.7
B72: Pakalpojumu izmaksas kopā | E72: =E33+E71 -> 1229
A74: Maksas pakalpojuma vienību skaits noteiktā laikposmā (gab.) | E74: 20
A75: Maksas pakalpojuma izcenojums (euro) | E75: =E72/E74 -> 61.45
A77: Prognozētais maksas pakalpojumu skaits gadā (gab.)*
A78: Prognozētie ieņēmumi gadā (euro)*
A80: Piezīme. *Ailes neaizpilda, ja izvēlētais laikposms ir viens gads.
A82: Aprēķinu sastādīja: SIVA Finanšu nodaļas finanšu ekonomiste E.Lipiņa

Sheet 4.1.2.
E1: SASKAŅOTS
E2: Sociālās integrācijas valsts aģentūras
E3: direktore I.Jurševska
E5: 2023. gada 29. martā
A7: Maksas pakalpojuma izcenojuma aprēķins
A9: Sociālās integrācijas valsts aģentūra
A10: Publiskā pakalpojuma veids:
B11: 4. Viesu izmitināšana
B12: 4.1. Viesu izmitināšana - Dubultu prospekts 71, 2.korpuss, Jūrmala (viena vieta vienvietīgā numurā)
B13: 4.1.2. Viesu izmitināšana - Dubultu prospekts 71, 2.korpuss, Jūrmala (viena vieta vienvietīgā numurā, ar trīsreizēju ēdināšanu)
A14: Laikposms | B14: 2023.gadā un turpmāk
A15: Izdevumu klasifikācijas kods | B15: Rādītājs (materiāla/izejvielas nosaukums, atlīdzība un citi izmaksu veidi) | E15: Izmaksu apjoms noteiktā laikposmā viena maksas pakalpojuma veida nodrošināšanai
A16: 1 | B16: 2 | E16: 3
B17: Tiešās izmaksas
A18: 1100 | B18: Atalgojums | D18: ='[1]7._izmitināšana_GALA mpc'!$Q$6 -> 15.694 | E18: 354.68
A19: 1200 | B19: Darba devēja valsts sociālās apdrošināšanas obligātās iemaksas, pabalsti un kompensācijas | D19: =D18*0.2359 -> 3.7022146 | E19: 83.67
A20: 2222 | B20: Izdevumi par ūdensapgādi un kanalizāciju | D20: ='[1]7._izmitināšana_GALA mpc'!$Q$8 -> 0.6 | E20: 12
A21: 2223 | B21: Izdevumi par elektroenerģiju | D21: ='[1]7._izmitināšana_GALA mpc'!$Q$9 -> 1.66 | E21: 33.2
A22: 2243 | B22: Iekārtas, inventāra un aparatūras remonts, tehniskā apkalpošana | D22: ='[1]7._izmitināšana_GALA mpc'!$Q$11 -> 0.082990839 | E22: 1.66
A23: 2244 | B23: Nekustamā īpašuma uzturēšana | D23: ='[1]7._izmitināšana_GALA mpc'!$Q$12 -> 1.9878511 | E23: 39.77
A24: 2250 | B24: Informācijas tehnoloģiju pakalpojumi | D24: ='[1]7._izmitināšana_GALA mpc'!$Q$13 -> 0.19 | E24: 3.8
A25: 2311 | B25: Biroja preces | D25: ='[1]7._izmitināšana_GALA mpc'!$Q$14 -> 2.47 | E25: 49.4
A26: 2312 | B26: Inventārs | D26: ='[1]7._izmitināšana_GALA mpc'!$Q$15 -> 0.91939188 | E26: 18.41
A27: 2321 | B27: Kurināmais | D27: ='[1]7._izmitināšana_GALA mpc'!$Q$16 -> 1.1514594 | E27: 23.04
A28: 2350 | B28: Iestāžu uzturēšanas materiāli un preces | D28: ='[1]7._izmitināšana_GALA mpc'!$Q$17 -> 0.41019892 | E28: 8.21
A29: 2361 | B29: Mīkstais inventārs | D29: ='[1]7._izmitināšana_GALA mpc'!$Q$18 -> 0.18 | E29: 3.6
A30: 2362 | B30: Virtuves inventārs, trauki un galda piederumi | D30: ='[1]7._izmitināšana_GALA mpc'!$Q$19 -> 0.048496534 | E30: 0.97
A31: 2363 | B31: Ēdināšanas izdevumi | D31: 9.75 | E31: =D31*20 -> 195
A32: 5239 | B32: Pārējie iepriekš neklasificētie pamatlīdzekļi un ieguldījuma īpašumi | D32: ='[1]7._izmitināšana_GALA mpc'!$Q$21 -> 1.3731894 | E32: 27.48
B33: Tiešās izmaksas kopā | D33: =SUM(D18:D32) -> 40.219793 | E33: =SUM(E18:E32) -> 854.89
B34: Netiešās izmaksas
A35: 1100 | B35: Atalgojums | C35: 0.4855 | E35: 314.44
A36: 1200 | B36: Darba devēja valsts sociālās apdrošināšanas obligātās iemaksas, pabalsti un kompensācijas | C36: =C35*0.2359 -> 0.11452945 | E36: 74.18
A37: 2100 | B37: Mācību, darba un dienesta komandējumi, dienesta, darba braucieni | C37: 0.001166 | E37: 0.85
A38: 2210 | B38: Izdevumi par sakaru pakalpojumiem | C38: 0.0076 | E38: 5.56
A39: 2222 | B39: Izdevumi par ūdensapgādi un kanalizāciju | C39: =0.0095*1.15 -> 0.010925 | E39: 8
A40: 2223 | B40: Izdevumi par elektroenerģiju | C40: =0.01902*2.13 -> 0.0405126 | E40: 29.66
A41: 2224 | B41: Izdevumi par atkritumu savākšanu, izvešanu no apdzīvotām vietām un teritorijām ārpus apdzīvotām vietām un atkritumu utilizāciju | C41: =0.00495*1.15 -> 0.0056925 | E41: 4.17
A42: 2231 | B42: Izdevumi iestādes sabiedrisko aktivitāšu īstenošanai | C42: 0.00155 | E42: 1.13
A43: 2235 | B43: Izdevumi par saņemtajiem mācību pakalpojumiem | C43: 0.00165 | E43: 1.21
A44: 2239 | B44: Pārējie neklasificētie pakalpojumi | C44: 0.00441 | E44: 3.23
A45: 2241 | B45: Ēku, būvju un telpu būvdarbi | C45: 0.0165 | E45: 12.08
A46: 2242 | B46: Transportlīdzekļu uzturēšana un remonts | C46: 0.00226 | E46: 1.65
A47: 2243 | B47: Iekārtas, inventāra un aparatūras remonts, tehniskā apkalpošana | C47: 0.0326 | E47: 23.87
A48: 2244 | B48: Nekustamā īpašuma uzturēšana | C48: =0.20397-0.09084 -> 0.11313 | E48: 82.83
A49: 2247 | B49: Apdrošināšanas izdevumi | C49: 0.000719 | E49: 0.53
A50: 2249 | B50: Pārējie remontdarbu un iestāžu uzturēšanas pakalpojumi | C50: 0.000232 | E50: 0.17
A51: 2250 | B51: Informācijas tehnoloģiju pakalpojumi | C51: =0.024026-0.005 -> 0.019026 | E51: 14.01
A52: 2261 | B52: Ēku, telpu īre un noma | C52: 0 | E52: =C52*732.13 -> 0
A53: 2262 | B53: Transportlīdzekļu noma | C53: 0.00626 | E53: 4.58
A54: 2263 | B54: Zemes noma | C54: 0.0458 | E54: 33.53
A55: 2264 | B55: Iekārtu, aparatūras un inventāra īre un noma | C55: 0.00149 | E55: 1.09
A56: 2311 | B56: Biroja preces | C56: 0.00477 | E56: 3.49
A57: 2312 | B57: Inventārs | C57: 0.00579 | E57: 4.24
A58: 2314 | B58: Izdevumi par precēm iestādes sabiedrisko aktivitāšu īstenošanai | C58: 0.00222 | E58: 1.63
A59: 2321 | B59: Kurināmais | C59: =0.0198*1.2+0.005 -> 0.02876 | E59: 21.06
A60: 2322 | B60: Degviela | C60: =0.0035*1.2 -> 0.0042 | E60: 3.07
A61: 2341 | B61: Zāles, ķimikālijas, laboratorijas preces | E61: =C61*732.13 -> 0
A62: 2350 | B62: Iestāžu uzturēšanas materiāli un preces | C62: 0.0085 | E62: 6.22
A63: 2512 | B63: Budžeta iestāžu pievienotās vērtības nodokļa maksājumi | C63: 0 | E63: =C63*732.13 -> 0
A64: 2513 | B64: Budžeta iestāžu nekustamā īpašuma nodokļa maksājumi | C64: 0.00146 | E64: 1.07
A65: 2515 | B65: Budžeta iestāžu dabas resursu nodokļa maksājumi | C65: 0.0019 | E65: 1.39
A66: 2519 | B66: Pārējie budžeta iestāžu pārskaitītie nodokļi un nodevas | C66: 0.002 | E66: 1.46
A67: 5220 | B67: Tehnoloģiskās iekārtas un mašīnas | C67: 0.0106 | E67: 7.76
A68: 5238 | B68: Datortehnika, sakaru un cita biroja tehnika | C68: 0.00165 | E68: 1.21
A69: 5239 | B69: Pārējie iepriekš neklasificētie pamatlīdzekļi un ieguldījuma īpašumi | C69: 0.00954 | E69: 6.97
A70: 5250 | B70: Kapitālais remonts un rekonstrukcija | C70: 0.00706 | E70: 5.17
B71: Netiešās izmaksas kopā | C71: =SUM(C35:C70) -> 1.0000026 | E71: =SUM(E35:E70) -> 681.51
B72: Pakalpojumu izmaksas kopā | E72: =E33+E71 -> 1536.4
A74: Maksas pakalpojuma vienību skaits noteiktā laikposmā (gab.) | E74: 20
A75: Maksas pakalpojuma izcenojums (euro) | E75: =E72/E74 -> 76.82
A77: Prognozētais maksas pakalpojumu skaits gadā (gab.)*
A78: Prognozētie ieņēmumi gadā (euro)*
A80: Piezīme. *Ailes neaizpilda, ja izvēlētais laikposms ir viens gads.
A82: Aprēķinu sastādīja: SIVA Finanšu nodaļas finanšu ekonomiste E.Lipiņa

Sheet 4.2.1.
E1: SASKAŅOTS | F1: SASKAŅOTS
F2: Sociālās integrācijas valsts aģentūras
E3: direktore I.Jurševska | F3: direktore I.Jurševska
E5: 2023. gada | F5: 2023. gada 29. martā
A7: Maksas pakalpojuma izcenojuma aprēķins
A9: Sociālās integrācijas valsts aģentūra
A10: Publiskā pakalpojuma veids:
B11: 4. Viesu izmitināšana
B12: 4.2. Viesu izmitināšana - Dubultu prospekts 71, 2.korpuss, Jūrmala (viena vieta divvietīgā numurā)
B13: 4.2.1. Viesu izmitināšana - Dubultu prospekts 71, 2.korpuss, Jūrmala (viena vieta divvietīgā numurā, ar brokastīm)
A14: Laikposms | B14: 2023.gadā un turpmāk
A15: Izdevumu klasifikācijas kods | B15: Rādītājs (materiāla/izejvielas nosaukums, atlīdzība un citi izmaksu veidi) | E15: Izmaksu apjoms noteiktā laikposmā viena maksas pakalpojuma veida nodrošināšanai | F15: Izmaksu apjoms noteiktā laikposmā viena maksas pakalpojuma veida nodrošināšanai
A16: 1 | B16: 2 | E16: 3 | F16: 3
B17: Tiešās izmaksas
A18: 1100 | B18: Atalgojums | D18: ='[1]7._izmitināšana_GALA mpc'!$R$6 -> 9.6161298 | E18: 7606.05 | F18: =E18/700*500 -> 5432.8929
A19: 1200 | B19: Darba devēja valsts sociālās apdrošināšanas obligātās iemaksas, pabalsti un kompensācijas | D19: =D18*0.2359 -> 2.268445 | E19: 1794.27 | F19: =E19/700*500 -> 1281.6214
A20: 2222 | B20: Izdevumi par ūdensapgādi un kanalizāciju | D20: ='[1]7._izmitināšana_GALA mpc'!$R$8 -> 0.30567649 | E20: 213.95 | F20: =E20/700*500 -> 152.82143
A21: 2223 | B21: Izdevumi par elektroenerģiju | D21: ='[1]7._izmitināšana_GALA mpc'!$R$9 -> 0.91225662 | E21: 638.5 | F21: =E21/700*500 -> 456.07143
A22: 2243 | B22: Iekārtas, inventāra un aparatūras remonts, tehniskā apkalpošana | D22: ='[1]7._izmitināšana_GALA mpc'!$R$11 -> 0.046135796 | E22: 32.29 | F22: =E22/700*500 -> 23.064286
A23: 2244 | B23: Nekustamā īpašuma uzturēšana | D23: ='[1]7._izmitināšana_GALA mpc'!$R$12 -> 1.1167998 | E23: 781.66 | F23: =E23/700*500 -> 558.32857
A24: 2250 | B24: Informācijas tehnoloģiju pakalpojumi | D24: ='[1]7._izmitināšana_GALA mpc'!$R$13 -> 0.19 | E24: 133 | F24: =E24/700*500 -> 95
A25: 2311 | B25: Biroja preces | D25: ='[1]7._izmitināšana_GALA mpc'!$R$14 -> 1.9879431 | E25: 1391.5 | F25: =E25/700*500 -> 993.92857
A26: 2312 | B26: Inventārs | D26: ='[1]7._izmitināšana_GALA mpc'!$R$15 -> 0.57567649 | E26: 402.95 | F26: =E26/700*500 -> 287.82143
A27: 2321 | B27: Kurināmais | D27: ='[1]7._izmitināšana_GALA mpc'!$R$16 -> 0.64135297 | E27: 448.89 | F27: =E27/700*500 -> 320.63571
A28: 2350 | B28: Iestāžu uzturēšanas materiāli un preces | D28: ='[1]7._izmitināšana_GALA mpc'!$R$17 -> 0.2072691 | E28: 145.07 | F28: =E28/700*500 -> 103.62143
A29: 2361 | B29: Mīkstais inventārs | D29: ='[1]7._izmitināšana_GALA mpc'!$R$18 -> 0.094088867 | E29: 65.85 | F29: =E29/700*500 -> 47.035714
A30: 2362 | B30: Virtuves inventārs, trauki un galda piederumi | D30: ='[1]7._izmitināšana_GALA mpc'!$R$19 -> 0.02 | E30: 14 | F30: =E30/700*500 -> 10
A31: 2363 | B31: Ēdināšanas izdevumi | D31: 3.87 | E31: 2709 | F31: =E31/700*500 -> 1935
A32: 5239 | B32: Pārējie iepriekš neklasificētie pamatlīdzekļi un ieguldījuma īpašumi | D32: ='[1]7._izmitināšana_GALA mpc'!$R$21 -> 0.8595357 | E32: 601.62 | F32: =E32/700*500 -> 429.72857
B33: Tiešās izmaksas kopā | D33: =SUM(D18:D32) -> 22.71131 | E33: =SUM(E18:E32) -> 16978.6 | F33: =SUM(F18:F32) -> 12127.571
B34: Netiešās izmaksas
A35: 1100 | B35: Atalgojums | C35: 0.4855 | E35: 5790.12 | F35: =E35/700*500 -> 4135.8
A36: 1200 | B36: Darba devēja valsts sociālās apdrošināšanas obligātās iemaksas, pabalsti un kompensācijas | C36: =C35*0.2359 -> 0.11452945 | E36: 1365.89 | F36: =E36/700*500 -> 975.63571
A37: 2100 | B37: Mācību, darba un dienesta komandējumi, dienesta, darba braucieni | C37: 0.001166 | E37: 16.01 | F37: =E37/700*500 -> 11.435714
A38: 2210 | B38: Izdevumi par sakaru pakalpojumiem | C38: 0.0076 | E38: 104.38 | F38: =E38/700*500 -> 74.557143
A39: 2222 | B39: Izdevumi par ūdensapgādi un kanalizāciju | C39: =0.0095*1.15 -> 0.010925 | E39: 150.04 | F39: =E39/700*500 -> 107.17143
A40: 2223 | B40: Izdevumi par elektroenerģiju | C40: =0.01902*2.13 -> 0.0405126 | E40: 556.39 | F40: =E40/700*500 -> 397.42143
A41: 2224 | B41: Izdevumi par atkritumu savākšanu, izvešanu no apdzīvotām vietām un teritorijām ārpus apdzīvotām vietām un atkritumu utilizāciju | C41: =0.00495*1.15 -> 0.0056925 | E41: 78.18 | F41: =E41/700*500 -> 55.842857
A42: 2231 | B42: Izdevumi iestādes sabiedrisko aktivitāšu īstenošanai | C42: 0.00155 | E42: 21.29 | F42: =E42/700*500 -> 15.207143
A43: 2235 | B43: Izdevumi par saņemtajiem mācību pakalpojumiem | C43: 0.00165 | E43: 22.66 | F43: =E43/700*500 -> 16.185714
A44: 2239 | B44: Pārējie neklasificētie pakalpojumi | C44: 0.00441 | E44: 60.57 | F44: =E44/700*500 -> 43.264286
A45: 2241 | B45: Ēku, būvju un telpu būvdarbi | C45: 0.0165 | E45: =226.61+3.26 -> 229.87 | F45: =E45/700*500 -> 164.19286
A46: 2242 | B46: Transportlīdzekļu uzturēšana un remonts | C46: 0.00226 | E46: 31.04 | F46: =E46/700*500 -> 22.171429
A47: 2243 | B47: Iekārtas, inventāra un aparatūras remonts, tehniskā apkalpošana | C47: 0.0326 | E47: 447.72 | F47: =E47/700*500 -> 319.8
A48: 2244 | B48: Nekustamā īpašuma uzturēšana | C48: =0.20397-0.09084 -> 0.11313 | E48: 1553.71 | F48: =E48/700*500 -> 1109.7929
A49: 2247 | B49: Apdrošināšanas izdevumi | C49: 0.000719 | E49: 9.87 | F49: =E49/700*500 -> 7.05
A50: 2249 | B50: Pārējie remontdarbu un iestāžu uzturēšanas pakalpojumi | C50: 0.000232 | E50: 3.19 | F50: =E50/700*500 -> 2.2785714
A51: 2250 | B51: Informācijas tehnoloģiju pakalpojumi | C51: =0.024026-0.005 -> 0.019026 | E51: 261.3 | F51: =E51/700*500 -> 186.64286
A52: 2261 | B52: Ēku, telpu īre un noma | C52: 0 | E52: =C52*13733.854 -> 0 | F52: =E52/700*500 -> 0
A53: 2262 | B53: Transportlīdzekļu noma | C53: 0.00626 | E53: 85.97 | F53: =E53/700*500 -> 61.407143
A54: 2263 | B54: Zemes noma | C54: 0.0458 | E54: 629.01 | F54: =E54/700*500 -> 449.29286
A55: 2264 | B55: Iekārtu, aparatūras un inventāra īre un noma | C55: 0.00149 | E55: 20.46 | F55: =E55/700*500 -> 14.614286
A56: 2311 | B56: Biroja preces | C56: 0.00477 | E56: 65.51 | F56: =E56/700*500 -> 46.792857
A57: 2312 | B57: Inventārs | C57: 0.00579 | E57: 79.52 | F57: =E57/700*500 -> 56.8
A58: 2314 | B58: Izdevumi par precēm iestādes sabiedrisko aktivitāšu īstenošanai | C58: 0.00222 | E58: 30.49 | F58: =E58/700*500 -> 21.778571
A59: 2321 | B59: Kurināmais | C59: =0.0198*1.2+0.005 -> 0.02876 | E59: 394.99 | F59: =E59/700*500 -> 282.13571
A60: 2322 | B60: Degviela | C60: =0.0035*1.2 -> 0.0042 | E60: 57.68 | F60: =E60/700*500 -> 41.2
A61: 2341 | B61: Zāles, ķimikālijas, laboratorijas preces | E61: =C61*13733.854 -> 0 | F61: =E61/700*500 -> 0
A62: 2350 | B62: Iestāžu uzturēšanas materiāli un preces | C62: 0.0085 | E62: 116.74 | F62: =E62/700*500 -> 83.385714
A63: 2512 | B63: Budžeta iestāžu pievienotās vērtības nodokļa maksājumi | C63: 0 | E63: =C63*13733.854 -> 0 | F63: =E63/700*500 -> 0
A64: 2513 | B64: Budžeta iestāžu nekustamā īpašuma nodokļa maksājumi | C64: 0.00146 | E64: 20.05 | F64: =E64/700*500 -> 14.321429
A65: 2515 | B65: Budžeta iestāžu dabas resursu nodokļa maksājumi | C65: 0.0019 | E65: 26.09 | F65: =E65/700*500 -> 18.635714
A66: 2519 | B66: Pārējie budžeta iestāžu pārskaitītie nodokļi un nodevas | C66: 0.002 | E66: 27.47 | F66: =E66/700*500 -> 19.621429
A67: 5220 | B67: Tehnoloģiskās iekārtas un mašīnas | C67: 0.0106 | E67: 145.58 | F67: =E67/700*500 -> 103.98571
A68: 5238 | B68: Datortehnika, sakaru un cita biroja tehnika | C68: 0.00165 | E68: 22.66 | F68: =E68/700*500 -> 16.185714
A69: 5239 | B69: Pārējie iepriekš neklasificētie pamatlīdzekļi un ieguldījuma īpašumi | C69: 0.00954 | E69: 131.02 | F69: =E69/700*500 -> 93.585714
A70: 5250 | B70: Kapitālais remonts un rekonstrukcija | C70: 0.00706 | E70: 96.93 | F70: =E70/700*500 -> 69.235714
B71: Netiešās izmaksas kopā | C71: =SUM(C35:C70) -> 1.0000026 | E71: =SUM(E35:E70) -> 12652.4 | F71: =SUM(F35:F70) -> 9037.4286
B72: Pakalpojumu izmaksas kopā | E72: =E33+E71 -> 29631 | F72: =F33+F71 -> 21165
A74: Maksas pakalpojuma vienību skaits noteiktā laikposmā (gab.) | E74: 700 | F74: 500
A75: Maksas pakalpojuma izcenojums (euro) | E75: =E72/E74 -> 42.33 | F75: =F72/F74 -> 42.33
A77: Prognozētais maksas pakalpojumu skaits gadā (gab.)*
A78: Prognozētie ieņēmumi gadā (euro)*
A80: Piezīme. *Ailes neaizpilda, ja izvēlētais laikposms ir viens gads.
A82: Aprēķinu sastādīja: SIVA Finanšu nodaļas finanšu ekonomiste E.Lipiņa

Sheet 4.2.2.
E1: SASKAŅOTS | F1: SASKAŅOTS
E2: Sociālās integrācijas valsts aģentūras | F2: Sociālās integrācijas valsts aģentūras
E3: direktore I.Jurševska | F3: direktore I.Jurševska
E6: 2023. gada | F6: 2023. gada 29. martā
A7: Maksas pakalpojuma izcenojuma aprēķins
A9: Sociālās integrācijas valsts aģentūra
A10: Publiskā pakalpojuma veids:
B11: 4. Viesu izmitināšana
B12: 4.2. Viesu izmitināšana - Dubultu prospekts 71, 2.korpuss, Jūrmala (viena vieta divvietīgā numurā)
B13: 4.2.2. Viesu izmitināšana - Dubultu prospekts 71, 2.korpuss, Jūrmala (viena vieta divvietīgā numurā, ar trīsreizēju ēdināsanu)
A14: Laikposms | B14: 2023.gadā un turpmāk
A15: Izdevumu klasifikācijas kods | B15: Rādītājs (materiāla/izejvielas nosaukums, atlīdzība un citi izmaksu veidi) | E15: Izmaksu apjoms noteiktā laikposmā viena maksas pakalpojuma veida nodrošināšanai | F15: Izmaksu apjoms noteiktā laikposmā viena maksas pakalpojuma veida nodrošināšanai
A16: 1 | B16: 2 | E16: 3 | F16: 3
B17: Tiešās izmaksas
A18: 1100 | B18: Atalgojums | D18: ='[1]7._izmitināšana_GALA mpc'!$S$6 -> 13.50613 | E18: 13735.54 | F18: =E18/900*700 -> 10683.198
A19: 1200 | B19: Darba devēja valsts sociālās apdrošināšanas obligātās iemaksas, pabalsti un kompensācijas | D19: =D18*0.2359 -> 3.186096 | E19: 3240.21 | F19: =E19/900*700 -> 2520.1633
A20: 2222 | B20: Izdevumi par ūdensapgādi un kanalizāciju | D20: ='[1]7._izmitināšana_GALA mpc'!$S$8 -> 0.37567649 | E20: 338.07 | F20: =E20/900*700 -> 262.94333
A21: 2223 | B21: Izdevumi par elektroenerģiju | D21: ='[1]7._izmitināšana_GALA mpc'!$S$9 -> 0.98225662 | E21: 883.92 | F21: =E21/900*700 -> 687.49333
A22: 2243 | B22: Iekārtas, inventāra un aparatūras remonts, tehniskā apkalpošana | D22: ='[1]7._izmitināšana_GALA mpc'!$S$11 -> 0.059126636 | E22: 53.34 | F22: =E22/900*700 -> 41.486667
A23: 2244 | B23: Nekustamā īpašuma uzturēšana | D23: ='[1]7._izmitināšana_GALA mpc'!$S$12 -> 1.2146509 | E23: 1093.72 | F23: =E23/900*700 -> 850.67111
A24: 2250 | B24: Informācijas tehnoloģiju pakalpojumi | D24: ='[1]7._izmitināšana_GALA mpc'!$S$13 -> 0.19 | E24: 171 | F24: =E24/900*700 -> 133
A25: 2311 | B25: Biroja preces | D25: ='[1]7._izmitināšana_GALA mpc'!$S$14 -> 1.9879431 | E25: 1789.07 | F25: =E25/900*700 -> 1391.4989
A26: 2312 | B26: Inventārs | D26: ='[1]7._izmitināšana_GALA mpc'!$S$15 -> 0.69506837 | E26: 626.38 | F26: =E26/900*700 -> 487.18444
A27: 2321 | B27: Kurināmais | D27: ='[1]7._izmitināšana_GALA mpc'!$S$16 -> 0.70281237 | E27: 632.86 | F27: =E27/900*700 -> 492.22444
A28: 2350 | B28: Iestāžu uzturēšanas materiāli un preces | D28: ='[1]7._izmitināšana_GALA mpc'!$S$17 -> 0.25746801 | E28: 232.05 | F28: =E28/900*700 -> 180.48333
A29: 2361 | B29: Mīkstais inventārs | D29: ='[1]7._izmitināšana_GALA mpc'!$S$18 -> 0.094088867 | E29: 84.67 | F29: =E29/900*700 -> 65.854444
A30: 2362 | B30: Virtuves inventārs, trauki un galda piederumi | D30: ='[1]7._izmitināšana_GALA mpc'!$S$19 -> 0.048496534 | E30: 43.84 | F30: =E30/900*700 -> 34.097778
A31: 2363 | B31: Ēdināšanas izdevumi | D31: 9.75 | E31: =D31*900 -> 8775 | F31: =E31/900*700 -> 6825
A32: 5239 | B32: Pārējie iepriekš neklasificētie pamatlīdzekļi un ieguldījuma īpašumi | D32: ='[1]7._izmitināšana_GALA mpc'!$S$21 -> 0.96272507 | E32: 867.14 | F32: =E32/900*700 -> 674.44222
B33: Tiešās izmaksas kopā | D33: =SUM(D18:D32) -> 34.012539 | E33: =SUM(E18:E32) -> 32566.81 | F33: =SUM(F18:F32) -> 25329.741
B34: Netiešās izmaksas
A35: 1100 | B35: Atalgojums | C35: 0.4855 | E35: 8767.06 | F35: =E35/900*700 -> 6818.8244
A36: 1200 | B36: Darba devēja valsts sociālās apdrošināšanas obligātās iemaksas, pabalsti un kompensācijas | C36: =C35*0.2359 -> 0.11452945 | E36: 2068.15 | F36: =E36/900*700 -> 1608.5611
A37: 2100 | B37: Mācību, darba un dienesta komandējumi, dienesta, darba braucieni | C37: 0.001166 | E37: 24.85 | F37: =E37/900*700 -> 19.327778
A38: 2210 | B38: Izdevumi par sakaru pakalpojumiem | C38: 0.0076 | E38: 162 | F38: =E38/900*700 -> 126
A39: 2222 | B39: Izdevumi par ūdensapgādi un kanalizāciju | C39: =0.0095*1.15 -> 0.010925 | E39: 232.88 | F39: =E39/900*700 -> 181.12889
A40: 2223 | B40: Izdevumi par elektroenerģiju | C40: =0.01902*2.13 -> 0.0405126 | E40: 863.58 | F40: =E40/900*700 -> 671.67333
A41: 2224 | B41: Izdevumi par atkritumu savākšanu, izvešanu no apdzīvotām vietām un teritorijām ārpus apdzīvotām vietām un atkritumu utilizāciju | C41: =0.00495*1.15 -> 0.0056925 | E41: 121.34 | F41: =E41/900*700 -> 94.375556
A42: 2231 | B42: Izdevumi iestādes sabiedrisko aktivitāšu īstenošanai | C42: 0.00155 | E42: 33.04 | F42: =E42/900*700 -> 25.697778
A43: 2235 | B43: Izdevumi par saņemtajiem mācību pakalpojumiem | C43: 0.00165 | E43: 35.17 | F43: =E43/900*700 -> 27.354444
A44: 2239 | B44: Pārējie neklasificētie pakalpojumi | C44: 0.00441 | E44: 94.01 | F44: =E44/900*700 -> 73.118889
A45: 2241 | B45: Ēku, būvju un telpu būvdarbi | C45: 0.0165 | E45: =351.72+2.03 -> 353.75 | F45: =E45/900*700 -> 275.13889
A46: 2242 | B46: Transportlīdzekļu uzturēšana un remonts | C46: 0.00226 | E46: 48.17 | F46: =E46/900*700 -> 37.465556
A47: 2243 | B47: Iekārtas, inventāra un aparatūras remonts, tehniskā apkalpošana | C47: 0.0326 | E47: 694.91 | F47: =E47/900*700 -> 540.48556
A48: 2244 | B48: Nekustamā īpašuma uzturēšana | C48: =0.20397-0.09084 -> 0.11313 | E48: 2411.52 | F48: =E48/900*700 -> 1875.6267
A49: 2247 | B49: Apdrošināšanas izdevumi | C49: 0.000719 | E49: 15.33 | F49: =E49/900*700 -> 11.923333
A50: 2249 | B50: Pārējie remontdarbu un iestāžu uzturēšanas pakalpojumi | C50: 0.000232 | E50: 4.95 | F50: =E50/900*700 -> 3.85
A51: 2250 | B51: Informācijas tehnoloģiju pakalpojumi | C51: =0.024026-0.005 -> 0.019026 | E51: 405.57 | F51: =E51/900*700 -> 315.44333
A52: 2261 | B52: Ēku, telpu īre un noma | C52: 0 | E52: =C52*21316.37 -> 0 | F52: =E52/900*700 -> 0
A53: 2262 | B53: Transportlīdzekļu noma | C53: 0.00626 | E53: 133.44 | F53: =E53/900*700 -> 103.78667
A54: 2263 | B54: Zemes noma | C54: 0.0458 | E54: 976.29 | F54: =E54/900*700 -> 759.33667
A55: 2264 | B55: Iekārtu, aparatūras un inventāra īre un noma | C55: 0.00149 | E55: 31.76 | F55: =E55/900*700 -> 24.702222
A56: 2311 | B56: Biroja preces | C56: 0.00477 | E56: 101.68 | F56: =E56/900*700 -> 79.084444
A57: 2312 | B57: Inventārs | C57: 0.00579 | E57: 123.42 | F57: =E57/900*700 -> 95.993333
A58: 2314 | B58: Izdevumi par precēm iestādes sabiedrisko aktivitāšu īstenošanai | C58: 0.00222 | E58: 47.32 | F58: =E58/900*700 -> 36.804444
A59: 2321 | B59: Kurināmais | C59: =0.0198*1.2+0.005 -> 0.02876 | E59: 613.06 | F59: =E59/900*700 -> 476.82444
A60: 2322 | B60: Degviela | C60: =0.0035*1.2 -> 0.0042 | E60: 89.53 | F60: =E60/900*700 -> 69.634444
A61: 2341 | B61: Zāles, ķimikālijas, laboratorijas preces | E61: =C61*21316.37 -> 0 | F61: =E61/900*700 -> 0
A62: 2350 | B62: Iestāžu uzturēšanas materiāli un preces | C62: 0.0085 | E62: 181.19 | F62: =E62/900*700 -> 140.92556
A63: 2512 | B63: Budžeta iestāžu pievienotās vērtības nodokļa maksājumi | C63: 0 | E63: =C63*21316.37 -> 0 | F63: =E63/900*700 -> 0
A64: 2513 | B64: Budžeta iestāžu nekustamā īpašuma nodokļa maksājumi | C64: 0.00146 | E64: 31.12 | F64: =E64/900*700 -> 24.204444
A65: 2515 | B65: Budžeta iestāžu dabas resursu nodokļa maksājumi | C65: 0.0019 | E65: 40.5 | F65: =E65/900*700 -> 31.5
A66: 2519 | B66: Pārējie budžeta iestāžu pārskaitītie nodokļi un nodevas | C66: 0.002 | E66: 42.63 | F66: =E66/900*700 -> 33.156667
A67: 5220 | B67: Tehnoloģiskās iekārtas un mašīnas | C67: 0.0106 | E67: 225.95 | F67: =E67/900*700 -> 175.73889
A68: 5238 | B68: Datortehnika, sakaru un cita biroja tehnika | C68: 0.00165 | E68: 35.17 | F68: =E68/900*700 -> 27.354444
A69: 5239 | B69: Pārējie iepriekš neklasificētie pamatlīdzekļi un ieguldījuma īpašumi | C69: 0.00954 | E69: 203.36 | F69: =E69/900*700 -> 158.16889
A70: 5250 | B70: Kapitālais remonts un rekonstrukcija | C70: 0.00706 | E70: 150.49 | F70: =E70/900*700 -> 117.04778
B71: Netiešās izmaksas kopā | C71: =SUM(C35:C70) -> 1.0000026 | E71: =SUM(E35:E70) -> 19363.19 | F71: =SUM(F35:F70) -> 15060.259
B72: Pakalpojumu izmaksas kopā | E72: =E33+E71 -> 51930 | F72: =F33+F71 -> 40390
A74: Maksas pakalpojuma vienību skaits noteiktā laikposmā (gab.) | E74: 900 | F74: 700
A75: Maksas pakalpojuma izcenojums (euro) | E75: =E72/E74 -> 57.7 | F75: =F72/F74 -> 57.7
A77: Prognozētais maksas pakalpojumu skaits gadā (gab.)*
A78: Prognozētie ieņēmumi gadā (euro)*
A80: Piezīme. *Ailes neaizpilda, ja izvēlētais laikposms ir viens gads.
A82: Aprēķinu sastādīja: SIVA Finanšu nodaļas finanšu ekonomiste E.Lipiņa

Sheet 4.2.3.
E1: SASKAŅOTS
E2: Sociālās integrācijas valsts aģentūras
E3: direktore I.Jurševska
E5: 2023. gada 29. martā
A7: Maksas pakalpojuma izcenojuma aprēķins
A9: Sociālās integrācijas valsts aģentūra
A10: Publiskā pakalpojuma veids:
B11: 4. Viesu izmitināšana
B12: 4.2. Viesu izmitināšana - Dubultu prospekts 71, 2.korpuss, Jūrmala (viena vieta divvietīgā numurā)
B13: 4.2.3. Viesu izmitināšana - Dubultu prospekts 71, 2.korpuss, Jūrmala (viena vieta divvietīgā pielāgotā numurā, ar brokastīm)
A14: Laikposms | B14: 2023.gadā un turpmāk
A15: Izdevumu klasifikācijas kods | B15: Rādītājs (materiāla/izejvielas nosaukums, atlīdzība un citi izmaksu veidi) | E15: Izmaksu apjoms noteiktā laikposmā viena maksas pakalpojuma veida nodrošināšanai
A16: 1 | B16: 2 | E16: 4
B17: Tiešās izmaksas
A18: 1100 | B18: Atalgojums | D18: ='[1]7._izmitināšana_GALA mpc'!$T$6 -> 9.8060809 | E18: 221.63
A19: 1200 | B19: Darba devēja valsts sociālās apdrošināšanas obligātās iemaksas, pabalsti un kompensācijas | D19: =D18*0.2359 -> 2.3132545 | E19: 52.28
A20: 2222 | B20: Izdevumi par ūdensapgādi un kanalizāciju | D20: ='[1]7._izmitināšana_GALA mpc'!$T$8 -> 0.32515227 | E20: 6.5
A21: 2223 | B21: Izdevumi par elektroenerģiju | D21: ='[1]7._izmitināšana_GALA mpc'!$T$9 -> 0.97109835 | E21: 19.43
A22: 2243 | B22: Iekārtas, inventāra un aparatūras remonts, tehniskā apkalpošana | D22: ='[1]7._izmitināšana_GALA mpc'!$T$11 -> 0.048207688 | E22: 0.96
A23: 2244 | B23: Nekustamā īpašuma uzturēšana | D23: ='[1]7._izmitināšana_GALA mpc'!$T$12 -> 1.1839291 | E23: 23.68
A24: 2250 | B24: Informācijas tehnoloģiju pakalpojumi | D24: ='[1]7._izmitināšana_GALA mpc'!$T$13 -> 0.19 | E24: 3.8
A25: 2311 | B25: Biroja preces | D25: ='[1]7._izmitināšana_GALA mpc'!$T$14 -> 2.0297953 | E25: 40.6
A26: 2312 | B26: Inventārs | D26: ='[1]7._izmitināšana_GALA mpc'!$T$15 -> 0.59515227 | E26: 11.9
A27: 2321 | B27: Kurināmais | D27: ='[1]7._izmitināšana_GALA mpc'!$T$16 -> 0.68030454 | E27: 13.61
A28: 2350 | B28: Iestāžu uzturēšanas materiāli un preces | D28: ='[1]7._izmitināšana_GALA mpc'!$T$17 -> 0.22052921 | E28: 4.41
A29: 2361 | B29: Mīkstais inventārs | D29: ='[1]7._izmitināšana_GALA mpc'!$T$18 -> 0.10154768 | E29: 2.03
A30: 2362 | B30: Virtuves inventārs, trauki un galda piederumi | D30: ='[1]7._izmitināšana_GALA mpc'!$T$19 -> 0.02 | E30: 0.4
A31: 2363 | B31: Ēdināšanas izdevumi | D31: 3.87 | E31: =D31*20 -> 77.4
A32: 5239 | B32: Pārējie iepriekš neklasificētie pamatlīdzekļi un ieguldījuma īpašumi | D32: ='[1]7._izmitināšana_GALA mpc'!$T$21 -> 0.89517224 | E32: 17.91
B33: Tiešās izmaksas kopā | D33: =SUM(D18:D32) -> 23.250224 | E33: =SUM(E18:E32) -> 496.54
B34: Netiešās izmaksas
A35: 1100 | B35: Atalgojums | C35: 0.4855 | E35: 175.88
A36: 1200 | B36: Darba devēja valsts sociālās apdrošināšanas obligātās iemaksas, pabalsti un kompensācijas | C36: =C35*0.2359 -> 0.11452945 | E36: 41.49
A37: 2100 | B37: Mācību, darba un dienesta komandējumi, dienesta, darba braucieni | C37: 0.001166 | E37: 0.48
A38: 2210 | B38: Izdevumi par sakaru pakalpojumiem | C38: 0.0076 | E38: 3.15
A39: 2222 | B39: Izdevumi par ūdensapgādi un kanalizāciju | C39: =0.0095*1.15 -> 0.010925 | E39: 4.53
A40: 2223 | B40: Izdevumi par elektroenerģiju | C40: =0.01902*2.13 -> 0.0405126 | E40: 16.81
A41: 2224 | B41: Izdevumi par atkritumu savākšanu, izvešanu no apdzīvotām vietām un teritorijām ārpus apdzīvotām vietām un atkritumu utilizāciju | C41: =0.00495*1.15 -> 0.0056925 | E41: 2.36
A42: 2231 | B42: Izdevumi iestādes sabiedrisko aktivitāšu īstenošanai | C42: 0.00155 | E42: 0.64
A43: 2235 | B43: Izdevumi par saņemtajiem mācību pakalpojumiem | C43: 0.00165 | E43: 0.68
A44: 2239 | B44: Pārējie neklasificētie pakalpojumi | C44: 0.00441 | E44: 1.83
A45: 2241 | B45: Ēku, būvju un telpu būvdarbi | C45: 0.0165 | E45: 6.85
A46: 2242 | B46: Transportlīdzekļu uzturēšana un remonts | C46: 0.00226 | E46: 0.94
A47: 2243 | B47: Iekārtas, inventāra un aparatūras remonts, tehniskā apkalpošana | C47: 0.0326 | E47: 13.53
A48: 2244 | B48: Nekustamā īpašuma uzturēšana | C48: =0.20397-0.09084 -> 0.11313 | E48: 46.94
A49: 2247 | B49: Apdrošināšanas izdevumi | C49: 0.000719 | E49: 0.3
A50: 2249 | B50: Pārējie remontdarbu un iestāžu uzturēšanas pakalpojumi | C50: 0.000232 | E50: 0.1
A51: 2250 | B51: Informācijas tehnoloģiju pakalpojumi | C51: =0.024026-0.005 -> 0.019026 | E51: 7.9
A52: 2261 | B52: Ēku, telpu īre un noma | C52: 0 | E52: =C52*414.965 -> 0
A53: 2262 | B53: Transportlīdzekļu noma | C53: 0.00626 | E53: 2.6
A54: 2263 | B54: Zemes noma | C54: 0.0458 | E54: 19.01
A55: 2264 | B55: Iekārtu, aparatūras un inventāra īre un noma | C55: 0.00149 | E55: 0.62
A56: 2311 | B56: Biroja preces | C56: 0.00477 | E56: 1.98
A57: 2312 | B57: Inventārs | C57: 0.00579 | E57: 2.4
A58: 2314 | B58: Izdevumi par precēm iestādes sabiedrisko aktivitāšu īstenošanai | C58: 0.00222 | E58: 0.92
A59: 2321 | B59: Kurināmais | C59: =0.0198*1.2+0.005 -> 0.02876 | E59: 11.93
A60: 2322 | B60: Degviela | C60: =0.0035*1.2 -> 0.0042 | E60: 1.74
A61: 2341 | B61: Zāles, ķimikālijas, laboratorijas preces | E61: =C61*414.965 -> 0
A62: 2350 | B62: Iestāžu uzturēšanas materiāli un preces | C62: 0.0085 | E62: 3.53
A63: 2512 | B63: Budžeta iestāžu pievienotās vērtības nodokļa maksājumi | C63: 0 | D63: 4.15 | E63: =C63*414.965 -> 0
A64: 2513 | B64: Budžeta iestāžu nekustamā īpašuma nodokļa maksājumi | C64: 0.00146 | E64: 0.61
A65: 2515 | B65: Budžeta iestāžu dabas resursu nodokļa maksājumi | C65: 0.0019 | E65: 0.79
A66: 2519 | B66: Pārējie budžeta iestāžu pārskaitītie nodokļi un nodevas | C66: 0.002 | E66: 0.83
A67: 5220 | B67: Tehnoloģiskās iekārtas un mašīnas | C67: 0.0106 | E67: 4.33
A68: 5238 | B68: Datortehnika, sakaru un cita biroja tehnika | C68: 0.00165 | E68: 0.68
A69: 5239 | B69: Pārējie iepriekš neklasificētie pamatlīdzekļi un ieguldījuma īpašumi | C69: 0.00954 | E69: 3.95
A70: 5250 | B70: Kapitālais remonts un rekonstrukcija | C70: 0.00706 | E70: 2.93
B71: Netiešās izmaksas kopā | C71: =SUM(C35:C70) -> 1.0000026 | E71: =SUM(E35:E70) -> 383.26
B72: Pakalpojumu izmaksas kopā | E72: =E33+E71 -> 879.8
A74: Maksas pakalpojuma vienību skaits noteiktā laikposmā (gab.) | E74: 20
A75: Maksas pakalpojuma izcenojums (euro) | E75: =E72/E74 -> 43.99
A77: Prognozētais maksas pakalpojumu skaits gadā (gab.)*
A78: Prognozētie ieņēmumi gadā (euro)*
A80: Piezīme. *Ailes neaizpilda, ja izvēlētais laikposms ir viens gads.
A82: Aprēķinu sastādīja: SIVA Finanšu nodaļas finanšu ekonomiste E.Lipiņa

Sheet 4.2.4.
E1: SASKAŅOTS
E2: Sociālās integrācijas valsts aģentūras
E3: direktore I.Jurševska
E5: 2023. gada 29. martā
A6: Maksas pakalpojuma izcenojuma aprēķins
A8: Sociālās integrācijas valsts aģentūra
A9: Publiskā pakalpojuma veids:
B10: 4. Viesu izmitināšana
B11: 4.2. Viesu izmitināšana - Dubultu prospekts 71, 2.korpuss, Jūrmala (viena vieta divvietīgā numurā)
B12: 4.2.4. Viesu izmitināšana - Dubultu prospekts 71, 2.korpuss, Jūrmala (viena vieta divvietīgā pielāgotā numurā, ar trīsreizēju ēdināšanu)
A13: Laikposms | B13: 2023.gadā un turpmāk
A14: Izdevumu klasifikācijas kods | B14: Rādītājs (materiāla/izejvielas nosaukums, atlīdzība un citi izmaksu veidi) | E14: Izmaksu apjoms noteiktā laikposmā viena maksas pakalpojuma veida nodrošināšanai
A15: 1 | B15: 2 | E15: 3
B16: Tiešās izmaksas
A17: 1100 | B17: Atalgojums | D17: ='[1]7._izmitināšana_GALA mpc'!$U$6 -> 13.696081 | E17: 309.54
A18: 1200 | B18: Darba devēja valsts sociālās apdrošināšanas obligātās iemaksas, pabalsti un kompensācijas | D18: =D17*0.2359 -> 3.2309055 | E18: 73.02
A19: 2222 | B19: Izdevumi par ūdensapgādi un kanalizāciju | D19: ='[1]7._izmitināšana_GALA mpc'!$U$8 -> 0.39515227 | E19: 7.9
A20: 2223 | B20: Izdevumi par elektroenerģiju | D20: ='[1]7._izmitināšana_GALA mpc'!$U$9 -> 1.0410984 | E20: 20.83
A21: 2243 | B21: Iekārtas, inventāra un aparatūras remonts, tehniskā apkalpošana | D21: ='[1]7._izmitināšana_GALA mpc'!$U$11 -> 0.061198528 | E21: 1.23
A22: 2244 | B22: Nekustamā īpašuma uzturēšana | D22: ='[1]7._izmitināšana_GALA mpc'!$U$12 -> 1.2817802 | E22: 25.65
A23: 2250 | B23: Informācijas tehnoloģiju pakalpojumi | D23: ='[1]7._izmitināšana_GALA mpc'!$U$13 -> 0.19 | E23: 3.8
A24: 2311 | B24: Biroja preces | D24: ='[1]7._izmitināšana_GALA mpc'!$U$14 -> 2.0297953 | E24: 40.6
A25: 2312 | B25: Inventārs | D25: ='[1]7._izmitināšana_GALA mpc'!$U$15 -> 0.71454415 | E25: 14.31
A26: 2321 | B26: Kurināmais | D26: ='[1]7._izmitināšana_GALA mpc'!$U$16 -> 0.74176394 | E26: 14.85
A27: 2350 | B27: Iestāžu uzturēšanas materiāli un preces | D27: ='[1]7._izmitināšana_GALA mpc'!$U$17 -> 0.27072812 | E27: 5.42
A28: 2361 | B28: Mīkstais inventārs | D28: ='[1]7._izmitināšana_GALA mpc'!$U$18 -> 0.10154768 | E28: 2.03
A29: 2362 | B29: Virtuves inventārs, trauki un galda piederumi | D29: ='[1]7._izmitināšana_GALA mpc'!$U$19 -> 0.048496534 | E29: 0.97
A30: 2363 | B30: Ēdināšanas izdevumi | D30: 9.75 | E30: =D30*20 -> 195
A31: 5239 | B31: Pārējie iepriekš neklasificētie pamatlīdzekļi un ieguldījuma īpašumi | D31: ='[1]7._izmitināšana_GALA mpc'!$U$21 -> 0.99836162 | E31: 19.99
B32: Tiešās izmaksas kopā | D32: =SUM(D17:D31) -> 34.551453 | E32: =SUM(E17:E31) -> 735.14
B33: Netiešās izmaksas
A34: 1100 | B34: Atalgojums | C34: 0.4855 | E34: 205.1
A35: 1200 | B35: Darba devēja valsts sociālās apdrošināšanas obligātās iemaksas, pabalsti un kompensācijas | C35: =C34*0.2359 -> 0.11452945 | E35: 48.38
A36: 2100 | B36: Mācību, darba un dienesta komandējumi, dienesta, darba braucieni | C36: 0.001166 | E36: 0.58
A37: 2210 | B37: Izdevumi par sakaru pakalpojumiem | C37: 0.0076 | E37: 3.77
A38: 2222 | B38: Izdevumi par ūdensapgādi un kanalizāciju | C38: =0.0095*1.15 -> 0.010925 | E38: 5.42
A39: 2223 | B39: Izdevumi par elektroenerģiju | C39: =0.01902*2.13 -> 0.0405126 | E39: 20.11
A40: 2224 | B40: Izdevumi par atkritumu savākšanu, izvešanu no apdzīvotām vietām un teritorijām ārpus apdzīvotām vietām un atkritumu utilizāciju | C40: =0.00495*1.15 -> 0.0056925 | E40: 2.82
A41: 2231 | B41: Izdevumi iestādes sabiedrisko aktivitāšu īstenošanai | C41: 0.00155 | E41: 0.77
A42: 2235 | B42: Izdevumi par saņemtajiem mācību pakalpojumiem | C42: 0.00165 | E42: 0.82
A43: 2239 | B43: Pārējie neklasificētie pakalpojumi | C43: 0.00441 | E43: 2.19
A44: 2241 | B44: Ēku, būvju un telpu būvdarbi | C44: 0.0165 | E44: 8.28
A45: 2242 | B45: Transportlīdzekļu uzturēšana un remonts | C45: 0.00226 | E45: 1.12
A46: 2243 | B46: Iekārtas, inventāra un aparatūras remonts, tehniskā apkalpošana | C46: 0.0326 | E46: 16.18
A47: 2244 | B47: Nekustamā īpašuma uzturēšana | C47: =0.20397-0.09084 -> 0.11313 | E47: 56.14
A48: 2247 | B48: Apdrošināšanas izdevumi | C48: 0.000719 | E48: 0.36
A49: 2249 | B49: Pārējie remontdarbu un iestāžu uzturēšanas pakalpojumi | C49: 0.000232 | E49: 0.12
A50: 2250 | B50: Informācijas tehnoloģiju pakalpojumi | C50: =0.024026-0.005 -> 0.019026 | E50: 9.44
A51: 2261 | B51: Ēku, telpu īre un noma | C51: 0 | E51: 0
A52: 2262 | B52: Transportlīdzekļu noma | C52: 0.00626 | E52: 3.11
A53: 2263 | B53: Zemes noma | C53: 0.0458 | E53: 22.73
A54: 2264 | B54: Iekārtu, aparatūras un inventāra īre un noma | C54: 0.00149 | E54: 0.74
A55: 2311 | B55: Biroja preces | C55: 0.00477 | E55: 2.37
A56: 2312 | B56: Inventārs | C56: 0.00579 | E56: 2.87
A57: 2314 | B57: Izdevumi par precēm iestādes sabiedrisko aktivitāšu īstenošanai | C57: 0.00222 | E57: 1.1
A58: 2321 | B58: Kurināmais | C58: =0.0198*1.2+0.005 -> 0.02876 | E58: 14.27
A59: 2322 | B59: Degviela | C59: =0.0035*1.2 -> 0.0042 | E59: 2.08
A60: 2341 | B60: Zāles, ķimikālijas, laboratorijas preces | E60: 0
A61: 2350 | B61: Iestāžu uzturēšanas materiāli un preces | C61: 0.0085 | E61: 4.22
A62: 2512 | B62: Budžeta iestāžu pievienotās vērtības nodokļa maksājumi | C62: 0 | E62: 0
A63: 2513 | B63: Budžeta iestāžu nekustamā īpašuma nodokļa maksājumi | C63: 0.00146 | E63: 0.72
A64: 2515 | B64: Budžeta iestāžu dabas resursu nodokļa maksājumi | C64: 0.0019 | E64: 0.94
A65: 2519 | B65: Pārējie budžeta iestāžu pārskaitītie nodokļi un nodevas | C65: 0.002 | E65: 0.99
A66: 5220 | B66: Tehnoloģiskās iekārtas un mašīnas | C66: 0.0106 | E66: 5.26
A67: 5238 | B67: Datortehnika, sakaru un cita biroja tehnika | C67: 0.00165 | E67: 0.82
A68: 5239 | B68: Pārējie iepriekš neklasificētie pamatlīdzekļi un ieguldījuma īpašumi | C68: 0.00954 | E68: 4.73
A69: 5250 | B69: Kapitālais remonts un rekonstrukcija | C69: 0.00706 | E69: 3.51
B70: Netiešās izmaksas kopā | C70: =SUM(C34:C69) -> 1.0000026 | E70: =SUM(E34:E69) -> 452.06
B71: Pakalpojumu izmaksas kopā | E71: =E32+E70 -> 1187.2
A73: Maksas pakalpojuma vienību skaits noteiktā laikposmā (gab.) | E73: 20
A74: Maksas pakalpojuma izcenojums (euro) | E74: =E71/E73 -> 59.36
A76: Prognozētais maksas pakalpojumu skaits gadā (gab.)*
A77: Prognozētie ieņēmumi gadā (euro)*
A79: Piezīme. *Ailes neaizpilda, ja izvēlētais laikposms ir viens gads.
A81: Aprēķinu sastādīja: SIVA Finanšu nodaļas finanšu ekonomiste E.Lipiņa

Sheet 4.2.5.
E1: SASKAŅOTS
E2: Sociālās integrācijas valsts aģentūras
E3: direktore I.Jurševska
E5: 2023. gada 29. martā
A7: Maksas pakalpojuma izcenojuma aprēķins
A9: Sociālās integrācijas valsts aģentūra
A10: Publiskā pakalpojuma veids:
B11: 4. Viesu izmitināšana
B12: 4.2. Viesu izmitināšana Dubultu prospektā 71, 2.korpusā, Jūrmalā (viena vieta divvietīgā numurā)
B13: 4.2.5. Piemaksa par uzturēšanos vienai personai divvietīgā numurā
A14: Laikposms | B14: ='4.2.4.'!B13 -> 2023.gadā un turpmāk
A15: Izdevumu klasifikācijas kods | B15: Rādītājs (materiāla/izejvielas nosaukums, atlīdzība un citi izmaksu veidi) | C15: 1 | E15: Izmaksu apjoms noteiktā laikposmā viena maksas pakalpojuma veida nodrošināšanai
A16: 1 | B16: 2 | E16: 3
B17: Tiešās izmaksas
A18: 1100 | B18: Atalgojums | C18: ='[1]7._izmitināšana_GALA mpc'!$V$6 -> 2.1878702 | E18: 568.73
A19: 1200 | B19: Darba devēja valsts sociālās apdrošināšanas obligātās iemaksas, pabalsti un kompensācijas | C19: =C18*0.2359 -> 0.51611858 | E19: 134.16
A20: 2222 | B20: Izdevumi par ūdensapgādi un kanalizāciju | C20: ='[1]7._izmitināšana_GALA mpc'!$V$8 -> 0.22432351 | E20: 51.6
A21: 2223 | B21: Izdevumi par elektroenerģiju | C21: ='[1]7._izmitināšana_GALA mpc'!$V$9 -> 0.67774338 | E21: 155.91
A22: 2243 | B22: Iekārtas, inventāra un aparatūras remonts, tehniskā apkalpošana | C22: ='[1]7._izmitināšana_GALA mpc'!$V$11 -> 0.023864204 | E22: 5.49
A23: 2244 | B23: Nekustamā īpašuma uzturēšana | C23: ='[1]7._izmitināšana_GALA mpc'!$V$12 -> 0.7732002 | E23: 177.87
A24: 2250 | B24: Informācijas tehnoloģiju pakalpojumi | C24: ='[1]7._izmitināšana_GALA mpc'!$V$13 -> 0 | E24: 0
A25: 2311 | B25: Biroja preces | C25: ='[1]7._izmitināšana_GALA mpc'!$V$14 -> 0.48205691 | E25: 110.89
A26: 2312 | B26: Inventārs | C26: ='[1]7._izmitināšana_GALA mpc'!$V$15 -> 0.22432351 | E26: 51.6
A27: 2321 | B27: Kurināmais | C27: ='[1]7._izmitināšana_GALA mpc'!$V$16 -> 0.44864703 | E27: 103.21
A28: 2341 | B28: Zāles, ķimikālijas, laboratorijas preces | C28: 0 | E28: =C28*230 -> 0
A29: 2350 | B29: Iestāžu uzturēšanas materiāli un preces | C29: ='[1]7._izmitināšana_GALA mpc'!$V$17 -> 0.1527309 | E29: 35.13
A30: 2361 | B30: Mīkstais inventārs | C30: ='[1]7._izmitināšana_GALA mpc'!$V$18 -> 0.085911133 | E30: 19.76
A31: 2363 | B31: Ēdināšanas izdevumi | C31: 0 | E31: 0
A32: 5239 | B32: Pārējie iepriekš neklasificētie pamatlīdzekļi un ieguldījuma īpašumi | C32: ='[1]7._izmitināšana_GALA mpc'!$V$21 -> 0.4104643 | E32: 94.42
B33: Tiešās izmaksas kopā | C33: =SUM(C18:C32) -> 6.2072539 | E33: =SUM(E18:E32) -> 1508.77
B34: Netiešās izmaksas
A35: 1100 | B35: Atalgojums | D35: 0.4855 | E35: 1376.11
A36: 1200 | B36: Darba devēja valsts sociālās apdrošināšanas obligātās iemaksas, pabalsti un kompensācijas | D36: =D35*0.2359 -> 0.11452945 | E36: 324.62
A37: 2100 | B37: Mācību, darba un dienesta komandējumi, dienesta, darba braucieni | D37: 0.001166 | E37: 3.46
A38: 2210 | B38: Izdevumi par sakaru pakalpojumiem | D38: 0.0076 | E38: 22.57
A39: 2222 | B39: Izdevumi par ūdensapgādi un kanalizāciju | D39: =0.0095*1.15 -> 0.010925 | E39: 32.44
A40: 2223 | B40: Izdevumi par elektroenerģiju | D40: =0.01902*2.13 -> 0.0405126 | E40: 120.31
A41: 2224 | B41: Izdevumi par atkritumu savākšanu, izvešanu no apdzīvotām vietām un teritorijām ārpus apdzīvotām vietām un atkritumu utilizāciju | D41: =0.00495*1.15 -> 0.0056925 | E41: 16.9
A42: 2231 | B42: Izdevumi iestādes sabiedrisko aktivitāšu īstenošanai | D42: 0.00155 | E42: 4.6
A43: 2235 | B43: Izdevumi par saņemtajiem mācību pakalpojumiem | D43: 0.00165 | E43: 4.9
A44: 2239 | B44: Pārējie neklasificētie pakalpojumi | D44: 0.00441 | E44: 13.1
A45: 2241 | B45: Ēku, būvju un telpu būvdarbi | D45: 0.0165 | E45: 49.32
A46: 2242 | B46: Transportlīdzekļu uzturēšana un remonts | D46: 0.00226 | E46: 6.71
A47: 2243 | B47: Iekārtas, inventāra un aparatūras remonts, tehniskā apkalpošana | D47: 0.0326 | E47: 96.81
A48: 2244 | B48: Nekustamā īpašuma uzturēšana | D48: =0.20397-0.09084 -> 0.11313 | E48: 335.96
A49: 2247 | B49: Apdrošināšanas izdevumi | D49: 0.000719 | E49: 2.14
A50: 2249 | B50: Pārējie remontdarbu un iestāžu uzturēšanas pakalpojumi | D50: 0.000232 | E50: 0.69
A51: 2250 | B51: Informācijas tehnoloģiju pakalpojumi | D51: =0.024026-0.005 -> 0.019026 | E51: 56.5
A52: 2261 | B52: Ēku, telpu īre un noma | D52: 0 | E52: 0
A53: 2262 | B53: Transportlīdzekļu noma | D53: 0.00626 | E53: 18.59
A54: 2263 | B54: Zemes noma | D54: 0.0458 | E54: 136.01
A55: 2264 | B55: Iekārtu, aparatūras un inventāra īre un noma | D55: 0.00149 | E55: 4.42
A56: 2311 | B56: Biroja preces | D56: 0.00477 | E56: 14.17
A57: 2312 | B57: Inventārs | D57: 0.00579 | E57: 17.19
A58: 2314 | B58: Izdevumi par precēm iestādes sabiedrisko aktivitāšu īstenošanai | D58: 0.00222 | E58: 6.59
A59: 2321 | B59: Kurināmais | D59: =0.0198*1.2+0.005 -> 0.02876 | E59: 85.41
A60: 2322 | B60: Degviela | D60: =0.0035*1.2 -> 0.0042 | E60: 12.47
A61: 2341 | B61: Zāles, ķimikālijas, laboratorijas preces | E61: 0
A62: 2350 | B62: Iestāžu uzturēšanas materiāli un preces | D62: 0.0085 | E62: 25.24
A63: 2512 | B63: Budžeta iestāžu pievienotās vērtības nodokļa maksājumi | D63: 0 | E63: 0
A64: 2513 | B64: Budžeta iestāžu nekustamā īpašuma nodokļa maksājumi | D64: 0.00146 | E64: 4.34
A65: 2515 | B65: Budžeta iestāžu dabas resursu nodokļa maksājumi | D65: 0.0019 | E65: 5.64
A66: 2519 | B66: Pārējie budžeta iestāžu pārskaitītie nodokļi un nodevas | D66: 0.002 | E66: 5.94
A67: 5220 | B67: Tehnoloģiskās iekārtas un mašīnas | D67: 0.0106 | E67: 31.48
A68: 5238 | B68: Datortehnika, sakaru un cita biroja tehnika | D68: 0.00165 | E68: 4.9
A69: 5239 | B69: Pārējie iepriekš neklasificētie pamatlīdzekļi un ieguldījuma īpašumi | D69: 0.00954 | E69: 28.33
A70: 5250 | B70: Kapitālais remonts un rekonstrukcija | D70: 0.00706 | E70: 20.97
B71: Netiešās izmaksas kopā | D71: =SUM(D35:D70) -> 1.0000026 | E71: =SUM(E35:E70) -> 2888.83
B72: Pakalpojumu izmaksas kopā | E72: =E33+E71 -> 4397.6
A74: Maksas pakalpojuma vienību skaits noteiktā laikposmā | E74: 230
A75: Maksas pakalpojuma izcenojums (euro) | E75: =E72/E74 -> 19.12
A77: Prognozētais maksas pakalpojumu skaits gadā (gab.)*
A78: Prognozētie ieņēmumi gadā (euro)*
A80: Piezīme. *Ailes neaizpilda, ja izvēlētais laikposms ir viens gads.
A82: Aprēķinu sastādīja: SIVA Finanšu nodaļas finanšu ekonomiste E.Lipiņa

Sheet 7.3.1.
E1: SASKAŅOTS
E2: Sociālās integrācijas valsts aģentūras
E3: direktore I.Jurševska
E5: 2021. gada 30. augustā
A7: Maksas pakalpojuma izcenojuma aprēķins
A9: Sociālās integrācijas valsts aģentūra
A10: Publiskā pakalpojuma veids:
B11: 7. Viesu izmitināšana
B12: 7.3. Viesu izmitināšana - Dubultu prospekts 71, 1.korpuss, Jūrmala (viena vieta vienvietīgā numurā)
B13: 7.3.1. Viesu izmitināšana - Dubultu prospekts 71, 1.korpuss, Jūrmala (viena vieta vienvietīgā numurā, ar brokastīm)
A14: Laikposms | B14: 2022.gadā un turpmāk
A15: Izdevumu klasifikācijas kods | B15: Rādītājs (materiāla/izejvielas nosaukums, atlīdzība un citi izmaksu veidi) | E15: Izmaksu apjoms noteiktā laikposmā viena maksas pakalpojuma veida nodrošināšanai
A16: 1 | B16: 2 | E16: 3
B17: Tiešās izmaksas
A18: 1100 | B18: Atalgojums | D18: =5.91/1.2359 -> 4.7819403 | E18: 717.29
A19: 1200 | B19: Darba devēja valsts sociālās apdrošināšanas obligātās iemaksas, pabalsti un kompensācijas | D19: =D18*0.2359 -> 1.1280597 | E19: 169.21
A20: 2210 | B20: Izdevumi par sakaru pakalpojumiem | D20: 0.08 | E20: =D20*150 -> 12
A21: 2222 | B21: Izdevumi par ūdensapgādi un kanalizāciju | D21: 1.88 | E21: =D21*150 -> 282
A22: 2223 | B22: Izdevumi par elektroenerģiju | D22: 1.92339 | E22: 288.51
A23: 2243 | B23: Iekārtas, inventāra un aparatūras remonts, tehniskā apkalpošana | D23: 0.04 | E23: =D23*150 -> 6
A24: 2244 | B24: Nekustamā īpašuma uzturēšana | D24: 2.95964 | E24: 443.95
A25: 2250 | B25: Informācijas tehnoloģiju pakalpojumi | D25: 0.16 | E25: =D25*150 -> 24
A26: 2311 | B26: Biroja preces | D26: 0.48 | E26: =D26*150 -> 72
A27: 2312 | B27: Inventārs | D27: 1.55 | E27: =D27*150 -> 232.5
A28: 2321 | B28: Kurināmais | D28: 2.504884 | E28: 375.73
A29: 2350 | B29: Iestāžu uzturēšanas materiāli un preces | D29: 0.28 | E29: =D29*150 -> 42
A30: 2361 | B30: Mīkstais inventārs | D30: 0.28 | E30: =D30*150 -> 42
A31: 2362 | B31: Virtuves inventārs, trauki un galda piederumi | D31: 0.12 | E31: =D31*150 -> 18
A32: 2363 | B32: Ēdināšanas izdevumi | D32: 3.58 | E32: =D32*150 -> 537
A33: 5239 | B33: Pārējie iepriekš neklasificētie pamatlīdzekļi un ieguldījuma īpašumi | D33: 0.82 | E33: =D33*150 -> 123
B34: Tiešās izmaksas kopā | D34: =SUM(D18:D33) -> 22.567914 | E34: =SUM(E18:E33) -> 3385.19
B35: Netiešās izmaksas
A36: 1100 | B36: Atalgojums | C36: =0.388+0.024 -> 0.412 | E36: 629.25
A37: 1200 | B37: Darba devēja valsts sociālās apdrošināšanas obligātās iemaksas, pabalsti un kompensācijas | C37: =C36*0.2359 -> 0.0971908 | E37: 148.44
A38: 2100 | B38: Mācību, darba un dienesta komandējumi, dienesta, darba braucieni | C38: 0.001166 | E38: 1.78
A39: 2210 | B39: Izdevumi par sakaru pakalpojumiem | C39: 0.0076 | E39: 11.61
A40: 2222 | B40: Izdevumi par ūdensapgādi un kanalizāciju | C40: 0.0095 | E40: 14.51
A41: 2223 | B41: Izdevumi par elektroenerģiju | C41: 0.01902 | E41: 29.05
A42: 2224 | B42: Izdevumi par atkritumu savākšanu, izvešanu no apdzīvotām vietām un teritorijām ārpus apdzīvotām vietām un atkritumu utilizāciju | C42: 0.00495 | E42: 7.56
A43: 2231 | B43: Izdevumi iestādes sabiedrisko aktivitāšu īstenošanai | C43: 0.00155 | E43: 2.37
A44: 2235 | B44: Izdevumi par saņemtajiem mācību pakalpojumiem | C44: 0.00165 | E44: 2.52
A45: 2239 | B45: Pārējie neklasificētie pakalpojumi | C45: 0.00441 | E45: 6.74
A46: 2241 | B46: Ēku, būvju un telpu būvdarbi | C46: 0.0165 | E46: 25.2
A47: 2242 | B47: Transportlīdzekļu uzturēšana un remonts | C47: 0.00226 | E47: 3.45
A48: 2243 | B48: Iekārtas, inventāra un aparatūras remonts, tehniskā apkalpošana | C48: 0.0326 | E48: 49.79
A49: 2244 | B49: Nekustamā īpašuma uzturēšana | C49: 0.20397 | E49: 311.53
... A52: 2250 | B52: Informācijas tehnoloģiju pakalpojumi | C52: 0.024026 | E52: 36.7
A53: 2261 | B53: Ēku, telpu īre un noma | C53: 0 | E53: =C53*1527.31 -> 0
A54: 2262 | B54: Transportlīdzekļu noma | C54: 0.00626 | E54: 9.56
A55: 2263 | B55: Zemes noma | C55: 0.0458 | E55: 69.95
A56: 2264 | B56: Iekārtu, aparatūras un inventāra īre un noma | C56: 0.00149 | E56: 2.28
A57: 2311 | B57: Biroja preces | C57: 0.00477 | E57: 7.29
A58: 2312 | B58: Inventārs | C58: 0.00579 | E58: 8.84
A59: 2314 | B59: Izdevumi par precēm iestādes sabiedrisko aktivitāšu īstenošanai | C59: 0.00222 | E59: 3.39
A60: 2321 | B60: Kurināmais | C60: 0.0198 | E60: 30.24
A61: 2322 | B61: Degviela | C61: 0.0035 | E61: 5.35
A62: 2341 | B62: Zāles, ķimikālijas, laboratorijas preces | E62: =C62*1527.31 -> 0
A63: 2350 | B63: Iestāžu uzturēšanas materiāli un preces | C63: 0.0085 | E63: 12.98
A64: 2512 | B64: Budžeta iestāžu pievienotās vērtības nodokļa maksājumi | C64: 0 | D64: 3.93 | E64: 0
A65: 2513 | B65: Budžeta iestāžu nekustamā īpašuma nodokļa maksājumi | C65: 0.00146 | E65: 2.23
A66: 2515 | B66: Budžeta iestāžu dabas resursu nodokļa maksājumi | C66: 0.0019 | E66: 2.9
A67: 2519 | B67: Pārējie budžeta iestāžu pārskaitītie nodokļi un nodevas | C67: 0.002 | E67: 3.05
A68: 5220 | B68: Tehnoloģiskās iekārtas un mašīnas | C68: 0.0106 | E68: 16.19
A69: 5238 | B69: Datortehnika, sakaru un cita biroja tehnika | C69: 0.00165 | E69: 2.59
A70: 5239 | B70: Pārējie iepriekš neklasificētie pamatlīdzekļi un ieguldījuma īpašumi | C70: 0.0198 | E70: 30.24
A71: 5250 | B71: Kapitālais remonts un rekonstrukcija | C71: 0.025 | E71: 38.28
B72: Netiešās izmaksas kopā | C72: =SUM(C36:C71) -> 0.9998838 | E72: =SUM(E36:E71) -> 1527.31
B73: Pakalpojumu izmaksas kopā | E73: =E34+E72 -> 4912.5
A75: Maksas pakalpojuma vienību skaits noteiktā laikposmā (gab.) | E75: 150
A76: Maksas pakalpojuma izcenojums (euro) | E76: =E73/E75 -> 32.75
A78: Prognozētais maksas pakalpojumu skaits gadā (gab.)*
A79: Prognozētie ieņēmumi gadā (euro)*
A81: Piezīme. *Ailes neaizpilda, ja izvēlētais laikposms ir viens gads.
A83: Aprēķinu sastādīja: SIVA Finanšu nodaļas vecākā finanšu ekonomiste Anita Ozoliņa

Sheet 7.3.2.
E1: SASKAŅOTS
E2: Sociālās integrācijas valsts aģentūras
E3: direktore I.Jurševska
E5: 2021. gada 30. augustā
A7: Maksas pakalpojuma izcenojuma aprēķins
A9: Sociālās integrācijas valsts aģentūra
A10: Publiskā pakalpojuma veids:
B11: 7. Viesu izmitināšana
B12: 7.3. Viesu izmitināšana - Dubultu prospekts 71, 2.korpuss, Jūrmala (viena vieta vienvietīgā numurā)
B13: 7.3.2. Viesu izmitināšana - Dubultu prospekts 71, 1.korpuss, Jūrmala (viena vieta vienvietīgā numurā, ar trīsreizēju ēdināšanu)
A14: Laikposms | B14: 2022.gadā un turpmāk
A15: Izdevumu klasifikācijas kods | B15: Rādītājs (materiāla/izejvielas nosaukums, atlīdzība un citi izmaksu veidi) | E15: Izmaksu apjoms noteiktā laikposmā viena maksas pakalpojuma veida nodrošināšanai
A16: 1 | B16: 2 | E16: 3
B17: Tiešās izmaksas
A18: 1100 | B18: Atalgojums | D18: =7.12/1.2359 -> 5.7609839 | E18: 1440.25
A19: 1200 | B19: Darba devēja valsts sociālās apdrošināšanas obligātās iemaksas, pabalsti un kompensācijas | D19: =D18*0.2359 -> 1.3590161 | E19: 339.75
A20: 2210 | B20: Izdevumi par sakaru pakalpojumiem | D20: 0.08 | E20: =D20*250 -> 20
A21: 2222 | B21: Izdevumi par ūdensapgādi un kanalizāciju | D21: 1.9928 | E21: 498.2
A22: 2223 | B22: Izdevumi par elektroenerģiju | D22: 2.0387969 | E22: 509.7
A23: 2243 | B23: Iekārtas, inventāra un aparatūras remonts, tehniskā apkalpošana | D23: 0.06 | E23: 15
A24: 2244 | B24: Nekustamā īpašuma uzturēšana | D24: 3.1372185 | E24: 784.3
A25: 2250 | B25: Informācijas tehnoloģiju pakalpojumi | D25: 0.16 | E25: 40
A26: 2311 | B26: Biroja preces | D26: 0.48 | E26: =D26*250 -> 120
A27: 2312 | B27: Inventārs | D27: 1.63 | E27: =D27*250 -> 407.5
A28: 2321 | B28: Kurināmais | D28: 2.6551774 | E28: 663.79
A29: 2350 | B29: Iestāžu uzturēšanas materiāli un preces | D29: 0.33 | E29: =D29*250 -> 82.5
A30: 2361 | B30: Mīkstais inventārs | D30: 0.28 | E30: =D30*250 -> 70
A31: 2362 | B31: Virtuves inventārs, trauki un galda piederumi | D31: 0.18 | E31: =D31*250 -> 45
A32: 2363 | B32: Ēdināšanas izdevumi | D32: 8.12 | E32: =D32*250 -> 2030
A33: 5239 | B33: Pārējie iepriekš neklasificētie pamatlīdzekļi un ieguldījuma īpašumi | D33: 0.8692545 | E33: 217.31
B34: Tiešās izmaksas kopā | D34: =SUM(D18:D33) -> 29.133247 | E34: =SUM(E18:E33) -> 7283.3
B35: Netiešās izmaksas
A36: 1100 | B36: Atalgojums | C36: =0.388+0.024 -> 0.412 | E36: 1351.03
A37: 1200 | B37: Darba devēja valsts sociālās apdrošināšanas obligātās iemaksas, pabalsti un kompensācijas | C37: =C36*0.2359 -> 0.0971908 | E37: 318.71
A38: 2100 | B38: Mācību, darba un dienesta komandējumi, dienesta, darba braucieni | C38: 0.001166 | E38: 3.82
A39: 2210 | B39: Izdevumi par sakaru pakalpojumiem | C39: 0.0076 | E39: 24.92
A40: 2222 | B40: Izdevumi par ūdensapgādi un kanalizāciju | C40: 0.0095 | E40: 31.15
A41: 2223 | B41: Izdevumi par elektroenerģiju | C41: 0.01902 | E41: 62.37
A42: 2224 | B42: Izdevumi par atkritumu savākšanu, izvešanu no apdzīvotām vietām un teritorijām ārpus apdzīvotām vietām un atkritumu utilizāciju | C42: 0.00495 | E42: 16.23
A43: 2231 | B43: Izdevumi iestādes sabiedrisko aktivitāšu īstenošanai | C43: 0.00155 | E43: 5.08
A44: 2235 | B44: Izdevumi par saņemtajiem mācību pakalpojumiem | C44: 0.00165 | E44: 5.41
A45: 2239 | B45: Pārējie neklasificētie pakalpojumi | C45: 0.00441 | E45: 14.46
A46: 2241 | B46: Ēku, būvju un telpu būvdarbi | C46: 0.0165 | E46: 54.11
A47: 2242 | B47: Transportlīdzekļu uzturēšana un remonts | C47: 0.00226 | E47: 7.41
A48: 2243 | B48: Iekārtas, inventāra un aparatūras remonts, tehniskā apkalpošana | C48: 0.0326 | E48: 107.27
A49: 2244 | B49: Nekustamā īpašuma uzturēšana | C49: 0.20397 | E49: 668.86
... A61: 2322 | B61: Degviela | C61: 0.0035 | E61: 11.48
A62: 2341 | B62: Zāles, ķimikālijas, laboratorijas preces | E62: 0
A63: 2350 | B63: Iestāžu uzturēšanas materiāli un preces | C63: 0.0085 | E63: 27.87
A64: 2512 | B64: Budžeta iestāžu pievienotās vērtības nodokļa maksājumi | C64: 0 | D64: 5.07 | E64: 0
A65: 2513 | B65: Budžeta iestāžu nekustamā īpašuma nodokļa maksājumi | C65: 0.00146 | E65: 4.79
A66: 2515 | B66: Budžeta iestāžu dabas resursu nodokļa maksājumi | C66: 0.0019 | E66: 6.23
A67: 2519 | B67: Pārējie budžeta iestāžu pārskaitītie nodokļi un nodevas | C67: 0.002 | E67: 6.56
A68: 5220 | B68: Tehnoloģiskās iekārtas un mašīnas | C68: 0.0106 | E68: 34.76
A69: 5238 | B69: Datortehnika, sakaru un cita biroja tehnika | C69: 0.00165 | E69: 5.41
A70: 5239 | B70: Pārējie iepriekš neklasificētie pamatlīdzekļi un ieguldījuma īpašumi | C70: 0.0198 | E70: 64.93
A71: 5250 | B71: Kapitālais remonts un rekonstrukcija | C71: 0.025 | E71: 81.98
B72: Netiešās izmaksas kopā | C72: =SUM(C36:C71) -> 0.9998838 | E72: =SUM(E36:E71) -> 3279.2
B73: Pakalpojumu izmaksas kopā | E73: =E34+E72 -> 10562.5
A75: Maksas pakalpojuma vienību skaits noteiktā laikposmā (gab.) | E75: 250
A76: Maksas pakalpojuma izcenojums (euro) | E76: =E73/E75 -> 42.25
A78: Prognozētais maksas pakalpojumu skaits gadā (gab.)*
A79: Prognozētie ieņēmumi gadā (euro)*
A81: Piezīme. *Ailes neaizpilda, ja izvēlētais laikposms ir viens gads.
A83: Aprēķinu sastādīja: SIVA Finanšu nodaļas vecākā finanšu ekonomiste Anita Ozoliņa

Sheet 7.4.1.
E1: SASKAŅOTS
E2: Sociālās integrācijas valsts aģentūras
E3: direktore I.Jurševska
E5: 2021. gada 30. augustā
A7: Maksas pakalpojuma izcenojuma aprēķins
A9: Sociālās integrācijas valsts aģentūra
A10: Publiskā pakalpojuma veids:
B11: 7. Viesu izmitināšana
B12: 7.4. Viesu izmitināšana - Dubultu prospekts 71, 1.korpuss, Jūrmala (viena vieta divvietīgā numurā)
B13: 7.4.1. Viesu izmitināšana - Dubultu prospekts 71, 1.korpuss, Jūrmala (viena vieta divvietīgā numurā, ar brokastīm)
A14: Laikposms | B14: 2022.gadā un turpmāk
A15: Izdevumu klasifikācijas kods | B15: Rādītājs (materiāla/izejvielas nosaukums, atlīdzība un citi izmaksu veidi) | E15: Izmaksu apjoms noteiktā laikposmā viena maksas pakalpojuma veida nodrošināšanai
A16: 1 | B16: 2 | E16: 3
B17: Tiešās izmaksas
A18: 1100 | B18: Atalgojums | D18: =5.91/1.2359 -> 4.7819403 | E18: 4064.65
A19: 1200 | B19: Darba devēja valsts sociālās apdrošināšanas obligātās iemaksas, pabalsti un kompensācijas | D19: =D18*0.2359 -> 1.1280597 | E19: 958.85
A20: 2210 | B20: Izdevumi par sakaru pakalpojumiem | D20: 0.08 | E20: =D20*850 -> 68
A21: 2222 | B21: Izdevumi par ūdensapgādi un kanalizāciju | D21: 1.88 | E21: =D21*850 -> 1598
A22: 2223 | B22: Izdevumi par elektroenerģiju | D22: 1.1222 | E22: 953.87
A23: 2243 | B23: Iekārtas, inventāra un aparatūras remonts, tehniskā apkalpošana | D23: 0.04 | E23: =D23*850 -> 34
A24: 2244 | B24: Nekustamā īpašuma uzturēšana | D24: 1.7267969 | E24: 1467.78
A25: 2250 | B25: Informācijas tehnoloģiju pakalpojumi | D25: 0.16 | E25: =D25*850 -> 136
A26: 2311 | B26: Biroja preces | D26: 0.48 | E26: =D26*850 -> 408
A27: 2312 | B27: Inventārs | D27: 1.55 | E27: =D27*850 -> 1317.5
A28: 2321 | B28: Kurināmais | D28: 1.46147 | E28: 1242.25
A29: 2350 | B29: Iestāžu uzturēšanas materiāli un preces | D29: 0.28 | E29: =D29*850 -> 238
A30: 2361 | B30: Mīkstais inventārs | D30: 0.28 | E30: =D30*850 -> 238
A31: 2362 | B31: Virtuves inventārs, trauki un galda piederumi | D31: 0.12 | E31: =D31*850 -> 102
A32: 2363 | B32: Ēdināšanas izdevumi | D32: 3.58 | E32: =D32*850 -> 3043
A33: 5239 | B33: Pārējie iepriekš neklasificētie pamatlīdzekļi un ieguldījuma īpašumi | D33: 0.47846 | E33: 406.69
B34: Tiešās izmaksas kopā | D34: =SUM(D18:D33) -> 19.148927 | E34: =SUM(E18:E33) -> 16276.59
B35: Netiešās izmaksas
A36: 1100 | B36: Atalgojums | C36: =0.388+0.024 -> 0.412 | E36: 3761.52
A37: 1200 | B37: Darba devēja valsts sociālās apdrošināšanas obligātās iemaksas, pabalsti un kompensācijas | C37: =C36*0.2359 -> 0.0971908 | E37: 887.34
A38: 2100 | B38: Mācību, darba un dienesta komandējumi, dienesta, darba braucieni | C38: 0.001166 | E38: 10.65
A39: 2210 | B39: Izdevumi par sakaru pakalpojumiem | C39: 0.0076 | E39: 69.39
A40: 2222 | B40: Izdevumi par ūdensapgādi un kanalizāciju | C40: 0.0095 | E40: 86.73
A41: 2223 | B41: Izdevumi par elektroenerģiju | C41: 0.01902 | E41: 173.65
A42: 2224 | B42: Izdevumi par atkritumu savākšanu, izvešanu no apdzīvotām vietām un teritorijām ārpus apdzīvotām vietām un atkritumu utilizāciju | C42: 0.00495 | E42: 45.19
A43: 2231 | B43: Izdevumi iestādes sabiedrisko aktivitāšu īstenošanai | C43: 0.00155 | E43: 14.15
A44: 2235 | B44: Izdevumi par saņemtajiem mācību pakalpojumiem | C44: 0.00165 | E44: 15.06
A45: 2239 | B45: Pārējie neklasificētie pakalpojumi | C45: 0.00441 | E45: 40.26
A46: 2241 | B46: Ēku, būvju un telpu būvdarbi | C46: 0.0165 | E46: 150.64
A47: 2242 | B47: Transportlīdzekļu uzturēšana un remonts | C47: 0.00226 | E47: 20.63
A48: 2243 | B48: Iekārtas, inventāra un aparatūras remonts, tehniskā apkalpošana | C48: 0.0326 | E48: 297.94
A49: 2244 | B49: Nekustamā īpašuma uzturēšana | C49: 0.20397 | E49: 1862.23
... A52: 2250 | B52: Informācijas tehnoloģiju pakalpojumi | C52: 0.024026 | E52: 219.76
A53: 2261 | B53: Ēku, telpu īre un noma | C53: 0 | E53: =C53*9129.91 -> 0
A54: 2262 | B54: Transportlīdzekļu noma | C54: 0.00626 | E54: 57.15
A55: 2263 | B55: Zemes noma | C55: 0.0458 | E55: 418.45
A56: 2264 | B56: Iekārtu, aparatūras un inventāra īre un noma | C56: 0.00149 | E56: 13.6
A57: 2311 | B57: Biroja preces | C57: 0.00477 | E57: 43.55
A58: 2312 | B58: Inventārs | C58: 0.00579 | E58: 52.86
A59: 2314 | B59: Izdevumi par precēm iestādes sabiedrisko aktivitāšu īstenošanai | C59: 0.00222 | E59: 20.27
A60: 2321 | B60: Kurināmais | C60: 0.0198 | E60: 180.77
A61: 2322 | B61: Degviela | C61: 0.0035 | E61: 31.95
A62: 2341 | B62: Zāles, ķimikālijas, laboratorijas preces | E62: =C62*9129.91 -> 0
A63: 2350 | B63: Iestāžu uzturēšanas materiāli un preces | C63: 0.0085 | E63: 77.6
A64: 2512 | B64: Budžeta iestāžu pievienotās vērtības nodokļa maksājumi | C64: 0 | D64: 3.59 | E64: 0
A65: 2513 | B65: Budžeta iestāžu nekustamā īpašuma nodokļa maksājumi | C65: 0.00146 | E65: 13.33
A66: 2515 | B66: Budžeta iestāžu dabas resursu nodokļa maksājumi | C66: 0.0019 | E66: 17.35
A67: 2519 | B67: Pārējie budžeta iestāžu pārskaitītie nodokļi un nodevas | C67: 0.002 | E67: 18.26
A68: 5220 | B68: Tehnoloģiskās iekārtas un mašīnas | C68: 0.0106 | E68: 96.78
A69: 5238 | B69: Datortehnika, sakaru un cita biroja tehnika | C69: 0.00165 | E69: 15.15
A70: 5239 | B70: Pārējie iepriekš neklasificētie pamatlīdzekļi un ieguldījuma īpašumi | C70: 0.0198 | E70: 180.77
A71: 5250 | B71: Kapitālais remonts un rekonstrukcija | C71: 0.025 | E71: 228.25
B72: Netiešās izmaksas kopā | C72: =SUM(C36:C71) -> 0.9998838 | E72: =SUM(E36:E71) -> 9129.91
B73: Pakalpojumu izmaksas kopā | E73: =E34+E72 -> 25406.5
A75: Maksas pakalpojuma vienību skaits noteiktā laikposmā (gab.) | E75: 850
A76: Maksas pakalpojuma izcenojums (euro) | E76: =E73/E75 -> 29.89
A78: Prognozētais maksas pakalpojumu skaits gadā (gab.)*
A79: Prognozētie ieņēmumi gadā (euro)*
A81: Piezīme. *Ailes neaizpilda, ja izvēlētais laikposms ir viens gads.
A83: Aprēķinu sastādīja: SIVA Finanšu nodaļas vecākā finanšu ekonomiste Anita Ozoliņa

Sheet 7.4.2.
E1: SASKAŅOTS
E2: Sociālās integrācijas valsts aģentūras
E3: direktore I.Jurševska
E5: 2021. gada 30. augustā
A7: Maksas pakalpojuma izcenojuma aprēķins
A9: Sociālās integrācijas valsts aģentūra
A10: Publiskā pakalpojuma veids:
B11: 7. Viesu izmitināšana
B12: 7.4. Viesu izmitināšana - Dubultu prospekts 71, 2.korpuss, Jūrmala (viena vieta divvietīgā numurā)
B13: 7.4.2. Viesu izmitināšana - Dubultu prospekts 71, 1.korpuss, Jūrmala (viena vieta divvietīgā numurā, ar trīsreizēju ēdināšanu)
A14: Laikposms | B14: 2022.gadā un turpmāk
A15: Izdevumu klasifikācijas kods | B15: Rādītājs (materiāla/izejvielas nosaukums, atlīdzība un citi izmaksu veidi) | E15: Izmaksu apjoms noteiktā laikposmā viena maksas pakalpojuma veida nodrošināšanai
A16: 1 | B16: 2 | E16: 3
B17: Tiešās izmaksas
A18: 1100 | B18: Atalgojums | D18: =7.12/1.2359 -> 5.7609839 | E18: 5472.93
A19: 1200 | B19: Darba devēja valsts sociālās apdrošināšanas obligātās iemaksas, pabalsti un kompensācijas | D19: =D18*0.2359 -> 1.3590161 | E19: 1291.06
A20: 2210 | B20: Izdevumi par sakaru pakalpojumiem | D20: 0.08 | E20: =D20*950 -> 76
A21: 2222 | B21: Izdevumi par ūdensapgādi un kanalizāciju | D21: 1.9928 | E21: 1893.16
A22: 2223 | B22: Izdevumi par elektroenerģiju | D22: 1.18953 | E22: 1130.05
A23: 2243 | B23: Iekārtas, inventāra un aparatūras remonts, tehniskā apkalpošana | D23: 0.06 | E23: =D23*950 -> 57
A24: 2244 | B24: Nekustamā īpašuma uzturēšana | D24: 1.8304 | E24: 1738.88
A25: 2250 | B25: Informācijas tehnoloģiju pakalpojumi | D25: 0.16 | E25: =D25*950 -> 152
A26: 2311 | B26: Biroja preces | D26: 0.48 | E26: =D26*950 -> 456
A27: 2312 | B27: Inventārs | D27: 1.63 | E27: =D27*950 -> 1548.5
A28: 2321 | B28: Kurināmais | D28: 1.5491587 | E28: 1471.7
A29: 2350 | B29: Iestāžu uzturēšanas materiāli un preces | D29: 0.33 | E29: =D29*950 -> 313.5
A30: 2361 | B30: Mīkstais inventārs | D30: 0.28 | E30: =D30*950 -> 266
A31: 2362 | B31: Virtuves inventārs, trauki un galda piederumi | D31: 0.18 | E31: =D31*950 -> 171
A32: 2363 | B32: Ēdināšanas izdevumi | D32: 8.12 | E32: =D32*950 -> 7714
A33: 5239 | B33: Pārējie iepriekš neklasificētie pamatlīdzekļi un ieguldījuma īpašumi | D33: 0.507165 | E33: 481.81
B34: Tiešās izmaksas kopā | D34: =SUM(D18:D33) -> 25.509054 | E34: =SUM(E18:E33) -> 24233.59
B35: Netiešās izmaksas
A36: 1100 | B36: Atalgojums | C36: =0.388+0.024 -> 0.412 | E36: 5433
A37: 1200 | B37: Darba devēja valsts sociālās apdrošināšanas obligātās iemaksas, pabalsti un kompensācijas | C37: =C36*0.2359 -> 0.0971908 | E37: 1281.64
A38: 2100 | B38: Mācību, darba un dienesta komandējumi, dienesta, darba braucieni | C38: 0.001166 | E38: 15.38
A39: 2210 | B39: Izdevumi par sakaru pakalpojumiem | C39: 0.0076 | E39: 100.22
A40: 2222 | B40: Izdevumi par ūdensapgādi un kanalizāciju | C40: 0.0095 | E40: 125.28
A41: 2223 | B41: Izdevumi par elektroenerģiju | C41: 0.01902 | E41: 250.81
A42: 2224 | B42: Izdevumi par atkritumu savākšanu, izvešanu no apdzīvotām vietām un teritorijām ārpus apdzīvotām vietām un atkritumu utilizāciju | C42: 0.00495 | E42: 65.28
A43: 2231 | B43: Izdevumi iestādes sabiedrisko aktivitāšu īstenošanai | C43: 0.00155 | E43: 20.44
A44: 2235 | B44: Izdevumi par saņemtajiem mācību pakalpojumiem | C44: 0.00165 | E44: 21.76
A45: 2239 | B45: Pārējie neklasificētie pakalpojumi | C45: 0.00441 | E45: 58.15
A46: 2241 | B46: Ēku, būvju un telpu būvdarbi | C46: 0.0165 | E46: 217.58
A47: 2242 | B47: Transportlīdzekļu uzturēšana un remonts | C47: 0.00226 | E47: 29.8
A48: 2243 | B48: Iekārtas, inventāra un aparatūras remonts, tehniskā apkalpošana | C48: 0.0326 | E48: 429.89
A49: 2244 | B49: Nekustamā īpašuma uzturēšana | C49: 0.20397 | E49: 2689.73
... A52: 2250 | B52: Informācijas tehnoloģiju pakalpojumi | C52: 0.024026 | E52: 316.83
A53: 2261 | B53: Ēku, telpu īre un noma | C53: 0 | E53: =C53*13186.9 -> 0
A54: 2262 | B54: Transportlīdzekļu noma | C54: 0.00626 | E54: 82.55
A55: 2263 | B55: Zemes noma | C55: 0.0458 | E55: 604.53
A56: 2264 | B56: Iekārtu, aparatūras un inventāra īre un noma | C56: 0.00149 | E56: 19.65
A57: 2311 | B57: Biroja preces | C57: 0.00477 | E57: 62.9
A58: 2312 | B58: Inventārs | C58: 0.00579 | E58: 76.35
A59: 2314 | B59: Izdevumi par precēm iestādes sabiedrisko aktivitāšu īstenošanai | C59: 0.00222 | E59: 29.27
A60: 2321 | B60: Kurināmais | C60: 0.0198 | E60: 261.1
A61: 2322 | B61: Degviela | C61: 0.0035 | E61: 46.15
A62: 2341 | B62: Zāles, ķimikālijas, laboratorijas preces | E62: =C62*13186.9 -> 0
A63: 2350 | B63: Iestāžu uzturēšanas materiāli un preces | C63: 0.0085 | E63: 112.09
A64: 2512 | B64: Budžeta iestāžu pievienotās vērtības nodokļa maksājumi | C64: 0 | D64: 4.73 | E64: =D64*950 -> 4493.5
A65: 2513 | B65: Budžeta iestāžu nekustamā īpašuma nodokļa maksājumi | C65: 0.00146 | E65: 19.25
A66: 2515 | B66: Budžeta iestāžu dabas resursu nodokļa maksājumi | C66: 0.0019 | E66: 25.06
A67: 2519 | B67: Pārējie budžeta iestāžu pārskaitītie nodokļi un nodevas | C67: 0.002 | E67: 26.37
A68: 5220 | B68: Tehnoloģiskās iekārtas un mašīnas | C68: 0.0106 | E68: 139.78
A69: 5238 | B69: Datortehnika, sakaru un cita biroja tehnika | C69: 0.00165 | E69: 22.76
A70: 5239 | B70: Pārējie iepriekš neklasificētie pamatlīdzekļi un ieguldījuma īpašumi | C70: 0.0198 | E70: 261.1
A71: 5250 | B71: Kapitālais remonts un rekonstrukcija | C71: 0.025 | E71: 329.67
B72: Netiešās izmaksas kopā | C72: =SUM(C36:C71) -> 0.9998838 | E72: =SUM(E36:E71) -> 17680.41
B73: Pakalpojumu izmaksas kopā | E73: =E34+E72 -> 41914
A75: Maksas pakalpojuma vienību skaits noteiktā laikposmā (gab.) | E75: 950
A76: Maksas pakalpojuma izcenojums (euro) | E76: =E73/E75 -> 44.12
A78: Prognozētais maksas pakalpojumu skaits gadā (gab.)*
A79: Prognozētie ieņēmumi gadā (euro)*
A81: Piezīme. *Ailes neaizpilda, ja izvēlētais laikposms ir viens gads.
A83: Aprēķinu sastādīja: SIVA Finanšu nodaļas vecākā finanšu ekonomiste Anita Ozoliņa

Sheet 7.4.3.
D1: SASKAŅOTS
D2: Sociālās integrācijas valsts aģentūras
D3: direktores p.i. G.Apele
D5: 2019. gada 15.martā
A7: Maksas pakalpojuma izcenojuma aprēķins
A9: Sociālās integrācijas valsts aģentūra
A10: Publiskā pakalpojuma veids:
B11: 7. Viesu izmitināšana
B12: 7.4. Viesu izmitināšana Dubultu prospektā 71, 1.korpusā Jūrmalā (viena vieta divvietīgā numurā)
B13: 7.4.3. Piemaksa par uzturēšanos vienai personai divvietīgā numurā
A14: Laikposms | B14: ='7.4.2.'!B14 -> 2022.gadā un turpmāk
A15: Izdevumu klasifikācijas kods | B15: Rādītājs (materiāla/izejvielas nosaukums, atlīdzība un citi izmaksu veidi) | C15: Izmaksu apjoms noteiktā laikposmā viena maksas pakalpojuma veida nodrošināšanai | D15: Izmaksu apjoms noteiktā laikposmā viena maksas pakalpojuma veida nodrošināšanai
A16: 1 | B16: 2 | D16: 3
B17: Tiešās izmaksas
A18: 1100 | B18: Atalgojums | C18: 31.18 | D18: =C18/30*340 -> 353.37333
A19: 1200 | B19: Darba devēja valsts sociālās apdrošināšanas obligātās iemaksas, sociāla rakstura pabalsti un kompensācijas | C19: 7.51 | D19: =C19/30*340 -> 85.113333
A20: 2210 | B20: Pasta, telefona un citu sakaru pakalpojumi | C20: 0 | D20: =C20/30*340 -> 0
A21: 2222 | B21: Izdevumi par ūdeni un kanalizāciju | C21: 22.55 | D21: =C21/30*340 -> 255.56667
A22: 2223 | B22: Izdevumi par elektroenerģiju | C22: 28.66 | D22: =C22/30*340 -> 324.81333
A23: 2230 | B23: Iestādes administratīvie izdevumi un ar iestādes darbības nodrošināšanu saistītie izdevumi | C23: 0 | D23: =C23/30*340 -> 0
A24: 2243 | B24: Iekārtas, inventāra un aparatūras remonts, tehniskā apkalpošana | C24: 0.44 | D24: =C24/30*340 -> 4.9866667
A25: 2244 | B25: Ēku, būvju un telpu uzturēšana | C25: 32.12 | D25: 934.21
A26: 2249 | B26: Pārējie remonta darbu un iestāžu uzturēšanas pakalpojumi | C26: 0 | D26: =C26/30*340 -> 0
A27: 2251 | B27: Informācijas sistēmas uzturēšana | C27: 0 | D27: =C27/30*340 -> 0
A28: 2263 | B28: Zemes noma | C28: 8.57 | D28: =C28/30*340 -> 97.126667
A29: 2264 | B29: Iekārtu un inventāra īre un noma | C29: 0 | D29: =C29/30*340 -> 0
A30: 2279 | B30: Pārējie iepriekš neklasificētie pakalpojumu veidi | C30: 5.21 | D30: =C30/30*340 -> 59.046667
A31: 2321 | B31: Kurināmais | C31: 34.65 | D31: =C31/30*340 -> 392.7
A32: 2341 | B32: Zāles, ķimikālijas, laboratorijas preces | C32: 0 | D32: =C32/30*340 -> 0
A33: 2350 | B33: Kārtējā remonta un iestāžu uzturēšanas materiāli | C33: 0 | D33: =C33/30*340 -> 0
A34: 2362 | B34: Virtuves inventārs, trauki un galda piederumi | C34: 0 | D34: =C34/30*340 -> 0
A35: 2363 | B35: Ēdināšanas izdevumi | C35: 0 | D35: =C35/30*340 -> 0
A36: 2513 | B36: Budžeta iestāžu nekustamā īpašuma nodokļa (t.sk. zemes nodokļa parāda) maksājumi budžetā | C36: 1.21 | D36: =C36/30*340 -> 13.713333
A37: 2519 | B37: Pārējie budžeta iestāžu pārskaitītie nodokļi un nodevas | C37: 0.63 | D37: =C37/30*340 -> 7.14
A38: 5232 | B38: Saimniecības pamatlīdzekļi
B39: Tiešās izmaksas kopā | C39: =SUM(C18:C38) -> 172.73 | D39: =SUM(D18:D38) -> 2527.79
B40: Netiešās izmaksas
A41: 1100 | B41: Atalgojums | C41: 56.1 | D41: =C41/30*340 -> 635.8
A42: 1200 | B42: Darba devēja valsts sociālās apdrošināšanas obligātās iemaksas, sociāla rakstura pabalsti un kompensācijas | C42: 13.51 | D42: =C42/30*340 -> 153.11333
A43: 2100 | B43: Mācību, darba un dienesta komandējumi, dienesta, darba braucieni | C43: 0 | D43: =C43/30*340 -> 0
A44: 2210 | B44: Pasta, telefona un citu sakaru pakalpojumi | C44: 0 | D44: =C44/30*340 -> 0
A45: 2222 | B45: Izdevumi par ūdeni un kanalizāciju | C45: 0 | D45: =C45/30*340 -> 0
A46: 2223 | B46: Izdevumi par elektroenerģiju | C46: 0 | D46: =C46/30*340 -> 0
A47: 2230 | B47: Iestādes administratīvie izdevumi un ar iestādes darbības nodrošināšanu saistītie izdevumi | C47: 0 | D47: =C47/30*340 -> 0
A48: 2234 | B48: Normatīvajos aktos noteiktie darba devēja veselības izdevumi darba ņēmējiem | C48: 0 | D48: =C48/30*340 -> 0
A49: 2239 | B49: Pārējie iestādes administratīvie izdevumi un ar iestādes darbības nodrošināšanu saistītie pakalpojumi | C49: 3.49 | D49: =C49/30*340 -> 39.553333
A50: 2241 | B50: Ēku, būvju un telpu kārtējais remonts | C50: 13.72 | D50: =C50/30*340 -> 155.49333
A51: 2242 | B51: Transportlīdzekļu uzturēšana un remonts | C51: 0.45 | D51: =C51/30*340 -> 5.1
A52: 2243 | B52: Iekārtas, inventāra un aparatūras remonts, tehniskā apkalpošana | C52: 2.39 | D52: =C52/30*340 -> 27.086667
... A75: 2400 | B75: Izdevumi periodikas iegādei | C75: 0.15 | D75: =C75/30*340 -> 1.7
A76: 2512 | B76: Budžeta iestāžu pievienotās vērtības nodokļa maksājumi | C76: 46.41 | D76: 595
A77: 2513 | B77: Budžeta iestāžu nekustamā īpašuma nodokļa (t.sk. zemes nodokļa parāda) maksājumi budžetā | C77: 0 | D77: =C77/30*340 -> 0
A78: 2515 | B78: Budžeta iestāžu dabas resursu nodokļa maksājumi | C78: 0.19 | D78: =C78/30*340 -> 2.1533333
A79: 2519 | B79: Pārējie budžeta iestāžu pārskaitītie nodokļi un nodevas | C79: 0.01 | D79: =C79/30*340 -> 0.11333333
A80: 6240 | B80: Bezdarbnieku stipendijas | C80: 0 | D80: =C80/30*340 -> 0
A81: 6290 | B81: Stipendijas | C81: 0 | D81: =C81/30*340 -> 0
A82: 5121 | B82: Datorprogrammas | C82: 0 | D82: =C82/30*340 -> 0
A83: 5232 | B83: Saimniecības pamatlīdzekļi | C83: 57.2 | D83: =C83/30*340 -> 648.26667
A84: 5238 | B84: Datortehnika, sakaru un cita biroja tehnika | C84: 0 | D84: =C84/30*340 -> 0
A85: 5240 | B85: Pamatlīdzekļu izveidošana un nepabeigtā būvniecība | C85: 1.23 | D85: =C85/30*340 -> 13.94
A86: 5250 | B86: Kapitālais remonts un rekonstrukcija | C86: 52.92 | D86: =C86/30*340 -> 599.76
B87: Netiešās izmaksas kopā | C87: =SUM(C41:C86) -> 260.47 | D87: =SUM(D41:D86) -> 3021.0133
B88: Pakalpojumu izmaksas kopā | C88: =C87+C39 -> 433.2 | D88: =D87+D39 -> 5548.8033
A90: Maksas pakalpojuma vienību skaits noteiktā laikposmā | C90: 30 | D90: 340
A91: Maksas pakalpojuma izcenojums (euro) | C91: =C88/C90 -> 14.44 | D91: =D88/D90 -> 16.32001
A93: Prognozētais maksas pakalpojumu skaits gadā (gab.)*
A94: Prognozētie ieņēmumi gadā (euro)*
A96: Piezīme. *Ailes neaizpilda, ja izvēlētais laikposms ir viens gads.
A98: Aprēķinu sastādīja:SIVA Finanšu nodaļas vecākā finanšu ekonomiste Anita Ozoliņa

Sheet 4.3.1.
E1: SASKAŅOTS
E2: Sociālās integrācijas valsts aģentūras
E3: direktore I.Jurševska
E5: 2023. gada 29. martā
A7: Maksas pakalpojuma izcenojuma aprēķins
A9: Sociālās integrācijas valsts aģentūra
A10: Publiskā pakalpojuma veids:
B11: 4. Viesu izmitināšana
B12: 4.3. Viesu izmitināšana Dubultu prospektā 71, Jūrmalā, papildus vieta
B13: 4.3.1. Papildu vieta bērnam no 2 līdz 14 gadu vecumam Dubultu prospektā 71, 2 korpuss, Jūrmalā (ar brokastīm)
A14: Laikposms | B14: 2023.gadā un turpmāk
A15: Izdevumu klasifikācijas kods | B15: Rādītājs (materiāla/izejvielas nosaukums, atlīdzība un citi izmaksu veidi) | E15: Izmaksu apjoms noteiktā laikposmā viena maksas pakalpojuma veida nodrošināšanai
A16: 1 | B16: 2 | E16: 3
B17: Tiešās izmaksas
A18: 1100 | B18: Atalgojums | C18: ='[1]7._izmitināšana_GALA mpc'!$W$6 -> 5.3220007 | E18: 180.07
A19: 1200 | B19: Darba devēja valsts sociālās apdrošināšanas obligātās iemaksas, pabalsti un kompensācijas | C19: =C18*0.2359 -> 1.25546 | E19: 42.48
A20: 2222 | B20: Izdevumi par ūdensapgādi un kanalizāciju | C20: ='[1]7._izmitināšana_GALA mpc'!$W$8 -> 0.1774443 | E20: 5.2
A21: 2223 | B21: Izdevumi par elektroenerģiju | C21: ='[1]7._izmitināšana_GALA mpc'!$W$9 -> 0.52153524 | E21: 15.26
A22: 2243 | B22: Iekārtas, inventāra un aparatūras remonts, tehniskā apkalpošana | C22: ='[1]7._izmitināšana_GALA mpc'!$W$11 -> 0.024067273 | E22: 0.71
A23: 2244 | B23: Nekustamā īpašuma uzturēšana | C23: ='[1]7._izmitināšana_GALA mpc'!$W$12 -> 0.63560965 | E23: 18.63
A24: 2250 | B24: Informācijas tehnoloģiju pakalpojumi | C24: ='[1]7._izmitināšana_GALA mpc'!$W$13 -> 0.095 | E24: 2.85
A25: 2311 | B25: Biroja preces | C25: ='[1]7._izmitināšana_GALA mpc'!$W$14 -> 1.0355716 | E25: 30.79
A26: 2312 | B26: Inventārs | C26: ='[1]7._izmitināšana_GALA mpc'!$W$15 -> 0.31664822 | E26: 9.38
A27: 2321 | B27: Kurināmais | C27: ='[1]7._izmitināšana_GALA mpc'!$W$16 -> 0.3668872 | E27: 10.75
A28: 2350 | B28: Iestāžu uzturēšanas materiāli un preces | C28: ='[1]7._izmitināšana_GALA mpc'!$W$17 -> 0.12125717 | E28: 3.55
A29: 2361 | B29: Mīkstais inventārs | C29: ='[1]7._izmitināšana_GALA mpc'!$W$18 -> 0.054458313 | E29: 1.58
A30: 2362 | B30: Virtuves inventārs, trauki un galda piederumi | C30: ='[1]7._izmitināšana_GALA mpc'!$W$19 -> 0.013141747 | E30: 0.4
A31: 2363 | B31: Ēdināšanas izdevumi | C31: 2.09 | E31: 62.7
A32: 5239 | B32: Pārējie iepriekš neklasificētie pamatlīdzekļi un ieguldījuma īpašumi | C32: ='[1]7._izmitināšana_GALA mpc'!$W$21 -> 0.47254079 | E32: 13.94
B33: Tiešās izmaksas kopā | C33: =SUM(C18:C32) -> 12.501622 | E33: =SUM(E18:E32) -> 398.29
B34: Netiešās izmaksas
A35: 1100 | B35: Atalgojums | D35: 0.4855 | E35: 137.26
A36: 1200 | B36: Darba devēja valsts sociālās apdrošināšanas obligātās iemaksas, pabalsti un kompensācijas | D36: =D35*0.2359 -> 0.11452945 | E36: 32.38
A37: 2100 | B37: Mācību, darba un dienesta komandējumi, dienesta, darba braucieni | D37: 0.001166 | E37: 0.36
A38: 2210 | B38: Izdevumi par sakaru pakalpojumiem | D38: 0.0076 | E38: 2.33
A39: 2222 | B39: Izdevumi par ūdensapgādi un kanalizāciju | D39: =0.0095*1.15 -> 0.010925 | E39: 3.35
A40: 2223 | B40: Izdevumi par elektroenerģiju | D40: =0.01902*2.13 -> 0.0405126 | E40: 12.43
A41: 2224 | B41: Izdevumi par atkritumu savākšanu, izvešanu no apdzīvotām vietām un teritorijām ārpus apdzīvotām vietām un atkritumu utilizāciju | D41: =0.00495*1.15 -> 0.0056925 | E41: 1.75
A42: 2231 | B42: Izdevumi iestādes sabiedrisko aktivitāšu īstenošanai | D42: 0.00155 | E42: 0.48
A43: 2235 | B43: Izdevumi par saņemtajiem mācību pakalpojumiem | D43: 0.00165 | E43: 0.51
A44: 2239 | B44: Pārējie neklasificētie pakalpojumi | D44: 0.00441 | E44: 1.35
A45: 2241 | B45: Ēku, būvju un telpu būvdarbi | D45: 0.0165 | E45: 5.06
A46: 2242 | B46: Transportlīdzekļu uzturēšana un remonts | D46: 0.00226 | E46: 0.69
A47: 2243 | B47: Iekārtas, inventāra un aparatūras remonts, tehniskā apkalpošana | D47: 0.0326 | E47: 10
A48: 2244 | B48: Nekustamā īpašuma uzturēšana | D48: =0.20397-0.09084 -> 0.11313 | E48: 34.71
A49: 2247 | B49: Apdrošināšanas izdevumi | D49: 0.000719 | E49: 0.22
A50: 2249 | B50: Pārējie remontdarbu un iestāžu uzturēšanas pakalpojumi | D50: 0.000232 | E50: 0.07
A51: 2250 | B51: Informācijas tehnoloģiju pakalpojumi | D51: =0.024026-0.005 -> 0.019026 | E51: 5.84
A52: 2261 | B52: Ēku, telpu īre un noma | D52: 0 | E52: =D52*306.82 -> 0
A53: 2262 | B53: Transportlīdzekļu noma | D53: 0.00626 | E53: 1.92
A54: 2263 | B54: Zemes noma | D54: 0.0458 | E54: 14.05
A55: 2264 | B55: Iekārtu, aparatūras un inventāra īre un noma | D55: 0.00149 | E55: 0.46
A56: 2311 | B56: Biroja preces | D56: 0.00477 | E56: 1.46
A57: 2312 | B57: Inventārs | D57: 0.00579 | E57: 1.78
A58: 2314 | B58: Izdevumi par precēm iestādes sabiedrisko aktivitāšu īstenošanai | D58: 0.00222 | E58: 0.68
A59: 2321 | B59: Kurināmais | D59: =0.0198*1.2+0.005 -> 0.02876 | E59: 8.82
A60: 2322 | B60: Degviela | D60: =0.0035*1.2 -> 0.0042 | E60: 1.29
A61: 2341 | B61: Zāles, ķimikālijas, laboratorijas preces | E61: =D61*306.82 -> 0
A62: 2350 | B62: Iestāžu uzturēšanas materiāli un preces | D62: 0.0085 | E62: 2.61
A63: 2512 | B63: Budžeta iestāžu pievienotās vērtības nodokļa maksājumi | D63: 0 | E63: =D63*306.82 -> 0
A64: 2513 | B64: Budžeta iestāžu nekustamā īpašuma nodokļa maksājumi | D64: 0.00146 | E64: 0.45
A65: 2515 | B65: Budžeta iestāžu dabas resursu nodokļa maksājumi | D65: 0.0019 | E65: 0.58
A66: 2519 | B66: Pārējie budžeta iestāžu pārskaitītie nodokļi un nodevas | D66: 0.002 | E66: 0.61
A67: 5220 | B67: Tehnoloģiskās iekārtas un mašīnas | D67: 0.0106 | E67: 3.2
A68: 5238 | B68: Datortehnika, sakaru un cita biroja tehnika | D68: 0.00165 | E68: 0.51
A69: 5239 | B69: Pārējie iepriekš neklasificētie pamatlīdzekļi un ieguldījuma īpašumi | D69: 0.00954 | E69: 2.93
A70: 5250 | B70: Kapitālais remonts un rekonstrukcija | D70: 0.00706 | E70: 2.17
B71: Netiešās izmaksas kopā | D71: =SUM(D35:D70) -> 1.0000026 | E71: =SUM(E35:E70) -> 292.31
B72: Pakalpojumu izmaksas kopā | E72: =E71+E33 -> 690.6
A74: Maksas pakalpojuma vienību skaits noteiktā laikposmā | E74: 30
A75: Maksas pakalpojuma izcenojums (euro) | E75: =E72/E74 -> 23.02
A77: Prognozētais maksas pakalpojumu skaits gadā (gab.)*
A78: Prognozētie ieņēmumi gadā (euro)*
A80: Piezīme. *Ailes neaizpilda, ja izvēlētais laikposms ir viens gads.
A82: Aprēķinu sastādīja: SIVA Finanšu nodaļas finanšu ekonomiste E.Lipiņa

Sheet 4.3.2.
E1: SASKAŅOTS
E2: Sociālās integrācijas valsts aģentūras
E3: direktore I.Jurševska
E5: 2023. gada 29. martā
A7: Maksas pakalpojuma izcenojuma aprēķins
A9: Sociālās integrācijas valsts aģentūra
A10: Publiskā pakalpojuma veids:
B11: 4. Viesu izmitināšana
B12: 4.3. Viesu izmitināšana Dubultu prospektā 71, Jūrmalā, papildus vieta
B13: 4.3.2. Papildu vieta bērnam no 2 līdz 14 gadu vecumam Dubultu prospektā 71, 2 korpuss, Jūrmalā (ar trīsreizēju ēdināšanu)
A14: Laikposms | B14: 2023.gadā un turpmāk
A15: Izdevumu klasifikācijas kods | B15: Rādītājs (materiāla/izejvielas nosaukums, atlīdzība un citi izmaksu veidi) | E15: Izmaksu apjoms noteiktā laikposmā viena maksas pakalpojuma veida nodrošināšanai
A16: 1 | B16: 2 | E16: 3
B17: Tiešās izmaksas
A18: 1100 | B18: Atalgojums | C18: ='[1]7._izmitināšana_GALA mpc'!$X$6 -> 7.8366013 | E18: 266.81
A19: 1200 | B19: Darba devēja valsts sociālās apdrošināšanas obligātās iemaksas, pabalsti un kompensācijas | C19: =C18*0.2359 -> 1.8486542 | E19: 62.94
A20: 2222 | B20: Izdevumi par ūdensapgādi un kanalizāciju | C20: ='[1]7._izmitināšana_GALA mpc'!$X$8 -> 0.22548084 | E20: 6.65
A21: 2223 | B21: Izdevumi par elektroenerģiju | C21: ='[1]7._izmitināšana_GALA mpc'!$X$9 -> 0.56503637 | E21: 16.57
A22: 2243 | B22: Iekārtas, inventāra un aparatūras remonts, tehniskā apkalpošana | C22: ='[1]7._izmitināšana_GALA mpc'!$X$11 -> 0.03625094 | E22: 1.08
A23: 2244 | B23: Nekustamā īpašuma uzturēšana | C23: ='[1]7._izmitināšana_GALA mpc'!$X$12 -> 0.69759783 | E23: 20.49
A24: 2250 | B24: Informācijas tehnoloģiju pakalpojumi | C24: ='[1]7._izmitināšana_GALA mpc'!$X$13 -> 0.095 | E24: 2.85
A25: 2311 | B25: Biroja preces | C25: ='[1]7._izmitināšana_GALA mpc'!$X$14 -> 1.0355716 | E25: 30.79
A26: 2312 | B26: Inventārs | C26: ='[1]7._izmitināšana_GALA mpc'!$X$15 -> 0.39767064 | E26: 11.82
A27: 2321 | B27: Kurināmais | C27: ='[1]7._izmitināšana_GALA mpc'!$X$16 -> 0.40435662 | E27: 11.88
A28: 2350 | B28: Iestāžu uzturēšanas materiāli un preces | C28: ='[1]7._izmitināšana_GALA mpc'!$X$17 -> 0.15456804 | E28: 4.56
A29: 2361 | B29: Mīkstais inventārs | C29: ='[1]7._izmitināšana_GALA mpc'!$X$18 -> 0.054458313 | E29: 1.58
A30: 2362 | B30: Virtuves inventārs, trauki un galda piederumi | C30: ='[1]7._izmitināšana_GALA mpc'!$X$19 -> 0.031051737 | E30: 0.94
A31: 2363 | B31: Ēdināšanas izdevumi | C31: 5.36 | E31: =5.36*30 -> 160.8
A32: 5239 | B32: Pārējie iepriekš neklasificētie pamatlīdzekļi un ieguldījuma īpašumi | C32: ='[1]7._izmitināšana_GALA mpc'!$X$21 -> 0.54388651 | E32: 16.09
B33: Tiešās izmaksas kopā | C33: =SUM(C18:C32) -> 19.286185 | E33: =SUM(E18:E32) -> 615.85
B34: Netiešās izmaksas
A35: 1100 | B35: Atalgojums | D35: 0.4855 | E35: 148.57
A36: 1200 | B36: Darba devēja valsts sociālās apdrošināšanas obligātās iemaksas, pabalsti un kompensācijas | D36: =D35*0.2359 -> 0.11452945 | E36: 35.05
A37: 2100 | B37: Mācību, darba un dienesta komandējumi, dienesta, darba braucieni | D37: 0.001166 | E37: 0.41
A38: 2210 | B38: Izdevumi par sakaru pakalpojumiem | D38: 0.0076 | E38: 2.67
A39: 2222 | B39: Izdevumi par ūdensapgādi un kanalizāciju | D39: =0.0095*1.15 -> 0.010925 | E39: 3.83
A40: 2223 | B40: Izdevumi par elektroenerģiju | D40: =0.01902*2.13 -> 0.0405126 | E40: 14.22
A41: 2224 | B41: Izdevumi par atkritumu savākšanu, izvešanu no apdzīvotām vietām un teritorijām ārpus apdzīvotām vietām un atkritumu utilizāciju | D41: =0.00495*1.15 -> 0.0056925 | E41: 2
A42: 2231 | B42: Izdevumi iestādes sabiedrisko aktivitāšu īstenošanai | D42: 0.00155 | E42: 0.54
A43: 2235 | B43: Izdevumi par saņemtajiem mācību pakalpojumiem | D43: 0.00165 | E43: 0.58
A44: 2239 | B44: Pārējie neklasificētie pakalpojumi | D44: 0.00441 | E44: 1.55
A45: 2241 | B45: Ēku, būvju un telpu būvdarbi | D45: 0.0165 | E45: 5.87
A46: 2242 | B46: Transportlīdzekļu uzturēšana un remonts | D46: 0.00226 | E46: 0.79
A47: 2243 | B47: Iekārtas, inventāra un aparatūras remonts, tehniskā apkalpošana | D47: 0.0326 | E47: 11.44
A48: 2244 | B48: Nekustamā īpašuma uzturēšana | D48: =0.20397-0.09084 -> 0.11313 | E48: 39.7
A49: 2247 | B49: Apdrošināšanas izdevumi | D49: 0.000719 | E49: 0.25
A50: 2249 | B50: Pārējie remontdarbu un iestāžu uzturēšanas pakalpojumi | D50: 0.000232 | E50: 0.08
A51: 2250 | B51: Informācijas tehnoloģiju pakalpojumi | D51: =0.024026-0.005 -> 0.019026 | E51: 6.68
A52: 2261 | B52: Ēku, telpu īre un noma | D52: 0 | E52: =D52*350.9 -> 0
A53: 2262 | B53: Transportlīdzekļu noma | D53: 0.00626 | E53: 2.2
A54: 2263 | B54: Zemes noma | D54: 0.0458 | E54: 16.07
A55: 2264 | B55: Iekārtu, aparatūras un inventāra īre un noma | D55: 0.00149 | E55: 0.52
A56: 2311 | B56: Biroja preces | D56: 0.00477 | E56: 1.67
A57: 2312 | B57: Inventārs | D57: 0.00579 | E57: 2.03
A58: 2314 | B58: Izdevumi par precēm iestādes sabiedrisko aktivitāšu īstenošanai | D58: 0.00222 | E58: 0.78
A59: 2321 | B59: Kurināmais | D59: =0.0198*1.2+0.005 -> 0.02876 | E59: 10.09
A60: 2322 | B60: Degviela | D60: =0.0035*1.2 -> 0.0042 | E60: 1.47
A61: 2341 | B61: Zāles, ķimikālijas, laboratorijas preces | E61: =D61*350.9 -> 0
A62: 2350 | B62: Iestāžu uzturēšanas materiāli un preces | D62: 0.0085 | E62: 2.98
A63: 2512 | B63: Budžeta iestāžu pievienotās vērtības nodokļa maksājumi | D63: 0 | E63: =D63*350.9 -> 0
A64: 2513 | B64: Budžeta iestāžu nekustamā īpašuma nodokļa maksājumi | D64: 0.00146 | E64: 0.51
A65: 2515 | B65: Budžeta iestāžu dabas resursu nodokļa maksājumi | D65: 0.0019 | E65: 0.67
A66: 2519 | B66: Pārējie budžeta iestāžu pārskaitītie nodokļi un nodevas | D66: 0.002 | E66: 0.7
A67: 5220 | B67: Tehnoloģiskās iekārtas un mašīnas | D67: 0.0106 | E67: 3.72
A68: 5238 | B68: Datortehnika, sakaru un cita biroja tehnika | D68: 0.00165 | E68: 0.58
A69: 5239 | B69: Pārējie iepriekš neklasificētie pamatlīdzekļi un ieguldījuma īpašumi | D69: 0.00954 | E69: 3.35
A70: 5250 | B70: Kapitālais remonts un rekonstrukcija | D70: 0.00706 | E70: 2.48
B71: Netiešās izmaksas kopā | D71: =SUM(D35:D70) -> 1.0000026 | E71: =SUM(E35:E70) -> 324.05
B72: Pakalpojumu izmaksas kopā | E72: =E71+E33 -> 939.9
A74: Maksas pakalpojuma vienību skaits noteiktā laikposmā | E74: 30
A75: Maksas pakalpojuma izcenojums (euro) | E75: =E72/E74 -> 31.33
A77: Prognozētais maksas pakalpojumu skaits gadā (gab.)*
A78: Prognozētie ieņēmumi gadā (euro)*
A80: Piezīme. *Ailes neaizpilda, ja izvēlētais laikposms ir viens gads.
A82: Aprēķinu sastādīja: SIVA Finanšu nodaļas finanšu ekonomiste E.Lipiņa

Sheet 7.5.3.
C1: SASKAŅOTS
C2: Sociālās integrācijas valsts aģentūras
C3: direktores p.i. G.Apele
C5: 2019. gada 15.martā
A7: Maksas pakalpojuma izcenojuma aprēķins
A9: Sociālās integrācijas valsts aģentūra
A10: Publiskā pakalpojuma veids:
B11: 7. Viesu izmitināšana
B12: 7.5. Viesu izmitināšana Dubultu prospektā 71, Jūrmalā, papildus vieta
B13: 7.5.3. Papildu vieta bērnam no 2 līdz 14 gadu vecumam Dubultu prospektā 71, 1 korpuss, Jūrmalā (ar brokastīm)
A14: Laikposms | B14: ='4.3.2.'!B14 -> 2023.gadā un turpmāk
A15: Izdevumu klasifikācijas kods | B15: Rādītājs (materiāla/izejvielas nosaukums, atlīdzība un citi izmaksu veidi) | C15: Izmaksu apjoms noteiktā laikposmā viena maksas pakalpojuma veida nodrošināšanai
A16: 1 | B16: 2 | C16: 3
B17: Tiešās izmaksas
A18: 1100 | B18: Atalgojums | C18: 52.66
A19: 1200 | B19: Darba devēja valsts sociālās apdrošināšanas obligātās iemaksas, sociāla rakstura pabalsti un kompensācijas | C19: 12.69
A20: 2219 | B20: Pārējie sakaru pakalpojumi | C20: 0.97
A21: 2222 | B21: Izdevumi par ūdeni un kanalizāciju | C21: 29.19
A22: 2223 | B22: Izdevumi par elektroenerģiju | C22: 32.92
A23: 2243 | B23: Iekārtas, inventāra un aparatūras remonts, tehniskā apkalpošana | C23: 0.45
A24: 2244 | B24: Ēku, būvju un telpu uzturēšana | C24: 50.57
A25: 2249 | B25: Pārējie remontdarbu un iestāžu uzturēšanas pakalpojumi | C25: 0
A26: 2263 | B26: Zemes noma | C26: 9.22
A27: 2264 | B27: Iekārtu un inventāra īre un noma | C27: 0.06
A28: 2279 | B28: Pārējie iepriekš neklasificētie pakalpojumu veidi | C28: 5.06
A29: 2321 | B29: Kurināmais | C29: 45.16
... A32: 2519 | B32: Pārējie budžeta iestāžu pārskaitītie nodokļi un nodevas | C32: 0.65
B33: Tiešās izmaksas kopā | C33: =SUM(C18:C32) -> 294.77
B34: Netiešās izmaksas
A35: 1100 | B35: Atalgojums | C35: 57.79
A36: 1200 | B36: Darba devēja valsts sociālās apdrošināšanas obligātās iemaksas, sociāla rakstura pabalsti un kompensācijas | C36: 13.92
A37: 2219 | B37: Pārējie sakaru pakalpojumi | C37: 1.56
A38: 2234 | B38: Normatīvajos aktos noteiktie darba devēja veselības izdevumi darba ņēmējiem | C38: 0.13
A39: 2239 | B39: Pārējie iestādes administratīvie izdevumi un ar iestādes darbības nodrošināšanu saistītie pakalpojumi | C39: 0.65
A40: 2241 | B40: Ēku, būvju un telpu remonts | C40: 0.13
A41: 2242 | B41: Transportlīdzekļu uzturēšana un remonts | C41: 0
A42: 2243 | B42: Iekārtas, inventāra un aparatūras remonts, tehniskā apkalpošana | C42: 0.52
A43: 2244 | B43: Ēku, būvju un telpu uzturēšana | C43: 8.76
A44: 2247 | B44: Apdrošināšanas izdevumi | C44: 0.2
A45: 2251 | B45: Informācijas sistēmas uzturēšana | C45: 7.1
A46: 2259 | B46: Pārējie informācijas tehnoloģiju pakalpojumi | C46: 0.06
... A62: 5250 | B62: Kapitālais remonts un rekonstrukcija | C62: 2.62
B63: Netiešās izmaksas kopā | C63: =SUM(C35:C62) -> 173.53
B64: Pakalpojumu izmaksas kopā | C64: =C63+C33 -> 468.3
A66: Maksas pakalpojuma vienību skaits noteiktā laikposmā | C66: 30
A67: Maksas pakalpojuma izcenojums (euro) | C67: =C64/C66 -> 15.61
A69: Prognozētais maksas pakalpojumu skaits gadā (gab.)*
A70: Prognozētie ieņēmumi gadā (euro)*
A72: Piezīme. *Ailes neaizpilda, ja izvēlētais laikposms ir viens gads.
A74: Aprēķinu sastādīja:SIVA Finanšu nodaļas vecākā finanšu ekonomiste Anita Ozoliņa

Sheet 7.5.4.
C1: SASKAŅOTS
C2: Sociālās integrācijas valsts aģentūras
C3: direktores p.i. G.Apele
C5: 2019. gada 15.martā
A7: Maksas pakalpojuma izcenojuma aprēķins
A9: Sociālās integrācijas valsts aģentūra
A10: Publiskā pakalpojuma veids:
B11: 7. Viesu izmitināšana
B12: 7.5. Viesu izmitināšana Dubultu prospektā 71, Jūrmalā, papildus vieta
B13: 7.5.4. Papildu vieta bērnam no 2 līdz 14 gadu vecumam Dubultu prospektā 71, 1 korpuss, Jūrmalā (ar trīsreizēju ēdināšanu)
A14: Laikposms | B14: ='7.5.3.'!B14 -> 2023.gadā un turpmāk
A15: Izdevumu klasifikācijas kods | B15: Rādītājs (materiāla/izejvielas nosaukums, atlīdzība un citi izmaksu veidi) | C15: Izmaksu apjoms noteiktā laikposmā viena maksas pakalpojuma veida nodrošināšanai
A16: 1 | B16: 2 | C16: 3
B17: Tiešās izmaksas
A18: 1100 | B18: Atalgojums | C18: 63.2
A19: 1200 | B19: Darba devēja valsts sociālās apdrošināšanas obligātās iemaksas, sociāla rakstura pabalsti un kompensācijas | C19: 15.23
A20: 2219 | B20: Pārējie sakaru pakalpojumi | C20: 1.16
A21: 2222 | B21: Izdevumi par ūdeni un kanalizāciju | C21: 35.03
A22: 2223 | B22: Izdevumi par elektroenerģiju | C22: 39.51
A23: 2243 | B23: Iekārtas, inventāra un aparatūras remonts, tehniskā apkalpošana | C23: 0.54
A24: 2244 | B24: Ēku, būvju un telpu uzturēšana | C24: 63
A25: 2249 | B25: Pārējie remontdarbu un iestāžu uzturēšanas pakalpojumi | C25: 0
A26: 2263 | B26: Zemes noma | C26: 11.06
A27: 2264 | B27: Iekārtu un inventāra īre un noma | C27: 0.07
A28: 2279 | B28: Pārējie iepriekš neklasificētie pakalpojumu veidi | C28: 6.07
A29: 2321 | B29: Kurināmais | C29: 54.19
... A32: 2519 | B32: Pārējie budžeta iestāžu pārskaitītie nodokļi un nodevas | C32: 0.78
B33: Tiešās izmaksas kopā | C33: =SUM(C18:C32) -> 408.84
B34: Netiešās izmaksas
A35: 1100 | B35: Atalgojums | C35: 63.57
A36: 1200 | B36: Darba devēja valsts sociālās apdrošināšanas obligātās iemaksas, sociāla rakstura pabalsti un kompensācijas | C36: 15.31
A37: 2219 | B37: Pārējie sakaru pakalpojumi | C37: 1.87
A38: 2234 | B38: Normatīvajos aktos noteiktie darba devēja veselības izdevumi darba ņēmējiem | C38: 0.16
A39: 2239 | B39: Pārējie iestādes administratīvie izdevumi un ar iestādes darbības nodrošināšanu saistītie pakalpojumi | C39: 0.78
A40: 2241 | B40: Ēku, būvju un telpu remonts | C40: 0.16
A41: 2242 | B41: Transportlīdzekļu uzturēšana un remonts | C41: 0
A42: 2243 | B42: Iekārtas, inventāra un aparatūras remonts, tehniskā apkalpošana | C42: 1.02
A43: 2244 | B43: Ēku, būvju un telpu uzturēšana | C43: 25.25
A44: 2247 | B44: Apdrošināšanas izdevumi | C44: 0.24
A45: 2251 | B45: Informācijas sistēmas uzturēšana | C45: 8.52
A46: 2259 | B46: Pārējie informācijas tehnoloģiju pakalpojumi | C46: 0.07
... A62: 5250 | B62: Kapitālais remonts un rekonstrukcija | C62: 3.14
B63: Netiešās izmaksas kopā | C63: =SUM(C35:C62) -> 225.96
B64: Pakalpojumu izmaksas kopā | C64: =C33+C63 -> 634.8
A66: Maksas pakalpojuma vienību skaits noteiktā laikposmā | C66: 30
A67: Maksas pakalpojuma izcenojums (euro) | C67: =C64/C66 -> 21.16
A69: Prognozētais maksas pakalpojumu skaits gadā (gab.)*
A70: Prognozētie ieņēmumi gadā (euro)*
A72: Piezīme. *Ailes neaizpilda, ja izvēlētais laikposms ir viens gads.
A74: Aprēķinu sastādīja:SIVA Finanšu nodaļas vecākā finanšu ekonomiste Anita Ozoliņa

Sheet 4.3.3.
E1: SASKAŅOTS
E2: Sociālās integrācijas valsts aģentūras
E3: direktore I.Jurševska
E5: 2023. gada 29. martā
A7: Maksas pakalpojuma izcenojuma aprēķins
A9: Sociālās integrācijas valsts aģentūra
A10: Publiskā pakalpojuma veids:
B11: 4. Viesu izmitināšana
B12: 4.3. Viesu izmitināšana Dubultu prospektā 71, Jūrmalā, papildus vieta
B13: 4.3.3. Papildu vieta vienai personai Dubultu prospektā 71, 2. korp., Jūrmalā (ar brokastīm)
A14: Laikposms | B14: 2023.gadā un turpmāk
A15: Izdevumu klasifikācijas kods | B15: Rādītājs (materiāla/izejvielas nosaukums, atlīdzība un citi izmaksu veidi) | E15: Izmaksu apjoms noteiktā laikposmā viena maksas pakalpojuma veida nodrošināšanai
A16: 1 | B16: 2 | E16: 3
B17: Tiešās izmaksas
A18: 1100 | B18: Atalgojums | C18: ='[1]7._izmitināšana_GALA mpc'!$Y$6 -> 8.6068717 | E18: 282.63
A19: 1200 | B19: Darba devēja valsts sociālās apdrošināšanas obligātās iemaksas, pabalsti un kompensācijas | C19: =C18*0.2359 -> 2.030361 | E19: 66.67
A20: 2222 | B20: Izdevumi par ūdensapgādi un kanalizāciju | C20: ='[1]7._izmitināšana_GALA mpc'!$Y$8 -> 0.2021967 | E20: 5.94
A21: 2223 | B21: Izdevumi par elektroenerģiju | C21: ='[1]7._izmitināšana_GALA mpc'!$Y$9 -> 0.59961558 | E21: 17.6
A22: 2243 | B22: Iekārtas, inventāra un aparatūras remonts, tehniskā apkalpošana | C22: ='[1]7._izmitināšana_GALA mpc'!$Y$11 -> 0.035127309 | E22: 1.04
A23: 2244 | B23: Nekustamā īpašuma uzturēšana | C23: ='[1]7._izmitināšana_GALA mpc'!$Y$12 -> 0.76012481 | E23: 22.35
A24: 2250 | B24: Informācijas tehnoloģiju pakalpojumi | C24: ='[1]7._izmitināšana_GALA mpc'!$Y$13 -> 0.19 | E24: 5.7
A25: 2311 | B25: Biroja preces | C25: ='[1]7._izmitināšana_GALA mpc'!$Y$14 -> 1.7655716 | E25: 52.69
A26: 2312 | B26: Inventārs | C26: ='[1]7._izmitināšana_GALA mpc'!$Y$15 -> 0.4721967 | E26: 14.04
A27: 2321 | B27: Kurināmais | C27: ='[1]7._izmitināšana_GALA mpc'!$Y$16 -> 0.43439341 | E27: 12.77
A28: 2350 | B28: Iestāžu uzturēšanas materiāli un preces | C28: ='[1]7._izmitināšana_GALA mpc'!$Y$17 -> 0.13681478 | E28: 4.02
A29: 2361 | B29: Mīkstais inventārs | C29: ='[1]7._izmitināšana_GALA mpc'!$Y$18 -> 0.054458313 | E29: 1.58
A30: 2362 | B30: Virtuves inventārs, trauki un galda piederumi | C30: ='[1]7._izmitināšana_GALA mpc'!$Y$19 -> 0.02 | E30: 0.6
A31: 2363 | B31: Ēdināšanas izdevumi | C31: 3.87 | E31: 116.1
A32: 5239 | B32: Pārējie iepriekš neklasificētie pamatlīdzekļi un ieguldījuma īpašumi | C32: ='[1]7._izmitināšana_GALA mpc'!$Y$21 -> 0.67018972 | E32: 19.87
B33: Tiešās izmaksas kopā | C33: =SUM(C18:C32) -> 19.847922 | E33: =SUM(E18:E32) -> 623.6
B34: Netiešās izmaksas
A35: 1100 | B35: Atalgojums | D35: 0.4855 | E35: 178.43
A36: 1200 | B36: Darba devēja valsts sociālās apdrošināšanas obligātās iemaksas, pabalsti un kompensācijas | D36: =D35*0.2359 -> 0.11452945 | E36: 42.09
A37: 2100 | B37: Mācību, darba un dienesta komandējumi, dienesta, darba braucieni | D37: 0.001166 | E37: 0.47
A38: 2210 | B38: Izdevumi par sakaru pakalpojumiem | D38: 0.0076 | E38: 3.06
A39: 2222 | B39: Izdevumi par ūdensapgādi un kanalizāciju | D39: =0.0095*1.15 -> 0.010925 | E39: 4.4
A40: 2223 | B40: Izdevumi par elektroenerģiju | D40: =0.01902*2.13 -> 0.0405126 | E40: 16.31
A41: 2224 | B41: Izdevumi par atkritumu savākšanu, izvešanu no apdzīvotām vietām un teritorijām ārpus apdzīvotām vietām un atkritumu utilizāciju | D41: =0.00495*1.15 -> 0.0056925 | E41: 2.29
A42: 2231 | B42: Izdevumi iestādes sabiedrisko aktivitāšu īstenošanai | D42: 0.00155 | E42: 0.62
A43: 2235 | B43: Izdevumi par saņemtajiem mācību pakalpojumiem | D43: 0.00165 | E43: 0.66
A44: 2239 | B44: Pārējie neklasificētie pakalpojumi | D44: 0.00441 | E44: 1.78
A45: 2241 | B45: Ēku, būvju un telpu būvdarbi | D45: 0.0165 | E45: 6.82
A46: 2242 | B46: Transportlīdzekļu uzturēšana un remonts | D46: 0.00226 | E46: 0.91
A47: 2243 | B47: Iekārtas, inventāra un aparatūras remonts, tehniskā apkalpošana | D47: 0.0326 | E47: 13.1
A48: 2244 | B48: Nekustamā īpašuma uzturēšana | D48: =0.20397-0.09084 -> 0.11313 | E48: 45.55
A49: 2247 | B49: Apdrošināšanas izdevumi | D49: 0.000719 | E49: 0.29
A50: 2249 | B50: Pārējie remontdarbu un iestāžu uzturēšanas pakalpojumi | D50: 0.000232 | E50: 0.09
A51: 2250 | B51: Informācijas tehnoloģiju pakalpojumi | D51: =0.024026-0.005 -> 0.019026 | E51: 7.66
A52: 2261 | B52: Ēku, telpu īre un noma | D52: 0 | E52: =D52*402.665 -> 0
A53: 2262 | B53: Transportlīdzekļu noma | D53: 0.00626 | E53: 2.52
A54: 2263 | B54: Zemes noma | D54: 0.0458 | E54: 18.44
A55: 2264 | B55: Iekārtu, aparatūras un inventāra īre un noma | D55: 0.00149 | E55: 0.6
A56: 2311 | B56: Biroja preces | D56: 0.00477 | E56: 1.92
A57: 2312 | B57: Inventārs | D57: 0.00579 | E57: 2.33
A58: 2314 | B58: Izdevumi par precēm iestādes sabiedrisko aktivitāšu īstenošanai | D58: 0.00222 | E58: 0.89
A59: 2321 | B59: Kurināmais | D59: =0.0198*1.2+0.005 -> 0.02876 | E59: 11.58
A60: 2322 | B60: Degviela | D60: =0.0035*1.2 -> 0.0042 | E60: 1.69
A61: 2341 | B61: Zāles, ķimikālijas, laboratorijas preces | E61: =D61*402.665 -> 0
A62: 2350 | B62: Iestāžu uzturēšanas materiāli un preces | D62: 0.0085 | E62: 3.42
A63: 2512 | B63: Budžeta iestāžu pievienotās vērtības nodokļa maksājumi | D63: 0 | E63: =D63*402.665 -> 0
A64: 2513 | B64: Budžeta iestāžu nekustamā īpašuma nodokļa maksājumi | D64: 0.00146 | E64: 0.59
A65: 2515 | B65: Budžeta iestāžu dabas resursu nodokļa maksājumi | D65: 0.0019 | E65: 0.77
A66: 2519 | B66: Pārējie budžeta iestāžu pārskaitītie nodokļi un nodevas | D66: 0.002 | E66: 0.81
A67: 5220 | B67: Tehnoloģiskās iekārtas un mašīnas | D67: 0.0106 | E67: 4.27
A68: 5238 | B68: Datortehnika, sakaru un cita biroja tehnika | D68: 0.00165 | E68: 0.66
A69: 5239 | B69: Pārējie iepriekš neklasificētie pamatlīdzekļi un ieguldījuma īpašumi | D69: 0.00954 | E69: 3.84
A70: 5250 | B70: Kapitālais remonts un rekonstrukcija | D70: 0.00706 | E70: 2.84
B71: Netiešās izmaksas kopā | D71: =SUM(D35:D70) -> 1.0000026 | E71: =SUM(E35:E70) -> 381.7
B72: Pakalpojumu izmaksas kopā | E72: =E71+E33 -> 1005.3
A74: Maksas pakalpojuma vienību skaits noteiktā laikposmā | E74: 30
A75: Maksas pakalpojuma izcenojums (euro) | E75: =E72/E74 -> 33.51
A77: Prognozētais maksas pakalpojumu skaits gadā (gab.)*
A78: Prognozētie ieņēmumi gadā (euro)*
A80: Piezīme. *Ailes neaizpilda, ja izvēlētais laikposms ir viens gads.
A82: Aprēķinu sastādīja: SIVA Finanšu nodaļas finanšu ekonomiste E.Lipiņa

Sheet 7.5.7.
C1: SASKAŅOTS
C2: Sociālās integrācijas valsts aģentūras
C3: direktores p.i. G.Apele
C5: 2019. gada 15.martā
A7: Maksas pakalpojuma izcenojuma aprēķins
A9: Sociālās integrācijas valsts aģentūra
A10: Publiskā pakalpojuma veids:
B11: 7. Viesu izmitināšana
B12: 7.5. Viesu izmitināšana Dubultu prospektā 71, Jūrmalā, papildus vieta
B13: 7.5.7. Papildu vieta vienai personai Dubultu prospektā 71, 1 korpuss, Jūrmalā (ar brokastīm)
A14: Laikposms | B14: ='4.3.4.'!B14 -> 2023.gadā un turpmāk
A15: Izdevumu klasifikācijas kods | B15: Rādītājs (materiāla/izejvielas nosaukums, atlīdzība un citi izmaksu veidi) | C15: Izmaksu apjoms noteiktā laikposmā viena maksas pakalpojuma veida nodrošināšanai
A16: 1 | B16: 2 | C16: 3
B17: Tiešās izmaksas
A18: 1100 | B18: Atalgojums | C18: 63.2
A19: 1200 | B19: Darba devēja valsts sociālās apdrošināšanas obligātās iemaksas, sociāla rakstura pabalsti un kompensācijas | C19: 15.22
A20: 2219 | B20: Pārējie sakaru pakalpojumi | C20: 0.97
A21: 2222 | B21: Izdevumi par ūdeni un kanalizāciju | C21: 38.02
A22: 2223 | B22: Izdevumi par elektroenerģiju | C22: 43.62
A23: 2243 | B23: Iekārtas, inventāra un aparatūras remonts, tehniskā apkalpošana | C23: 0.52
A24: 2244 | B24: Ēku, būvju un telpu uzturēšana | C24: 51.36
A25: 2249 | B25: Pārējie remontdarbu un iestāžu uzturēšanas pakalpojumi | C25: 0
A26: 2263 | B26: Zemes noma | C26: 10.14
A27: 2264 | B27: Iekārtu un inventāra īre un noma | C27: 0.06
A28: 2279 | B28: Pārējie iepriekš neklasificētie pakalpojumu veidi | C28: 5.06
A29: 2321 | B29: Kurināmais | C29: 54.19
... A32: 2519 | B32: Pārējie budžeta iestāžu pārskaitītie nodokļi un nodevas | C32: 0.65
B33: Tiešās izmaksas kopā | C33: =SUM(C18:C32) -> 391.58
B34: Netiešās izmaksas
A35: 1100 | B35: Atalgojums | C35: 63.57
A36: 1200 | B36: Darba devēja valsts sociālās apdrošināšanas obligātās iemaksas, sociāla rakstura pabalsti un kompensācijas | C36: 15.31
A37: 2219 | B37: Pārējie sakaru pakalpojumi | C37: 1.56
A38: 2234 | B38: Normatīvajos aktos noteiktie darba devēja veselības izdevumi darba ņēmējiem | C38: 0.13
A39: 2239 | B39: Pārējie iestādes administratīvie izdevumi un ar iestādes darbības nodrošināšanu saistītie pakalpojumi | C39: 0.65
A40: 2241 | B40: Ēku, būvju un telpu remonts | C40: 0.14
A41: 2242 | B41: Transportlīdzekļu uzturēšana un remonts | C41: 0
A42: 2243 | B42: Iekārtas, inventāra un aparatūras remonts, tehniskā apkalpošana | C42: 0.63
A43: 2244 | B43: Ēku, būvju un telpu uzturēšana | C43: 25.39
A44: 2247 | B44: Apdrošināšanas izdevumi | C44: 0.2
A45: 2251 | B45: Informācijas sistēmas uzturēšana | C45: 7.81
A46: 2259 | B46: Pārējie informācijas tehnoloģiju pakalpojumi | C46: 0.06
... A62: 5250 | B62: Kapitālais remonts un rekonstrukcija | C62: 2.88
B63: Netiešās izmaksas kopā | C63: =SUM(C35:C62) -> 218.62
B64: Pakalpojumu izmaksas kopā | C64: =C63+C33 -> 610.2
A66: Maksas pakalpojuma vienību skaits noteiktā laikposmā | C66: 30
A67: Maksas pakalpojuma izcenojums (euro) | C67: =C64/C66 -> 20.34
A69: Prognozētais maksas pakalpojumu skaits gadā (gab.)*
A70: Prognozētie ieņēmumi gadā (euro)*
A72: Piezīme. *Ailes neaizpilda, ja izvēlētais laikposms ir viens gads.
A74: Aprēķinu sastādīja:SIVA Finanšu nodaļas vecākā finanšu ekonomiste Anita Ozoliņa

Sheet 7.5.8.
C1: SASKAŅOTS | D1: SASKAŅOTS
C2: Sociālās integrācijas valsts aģentūras | D2: Sociālās integrācijas valsts aģentūras
C3: direktore I.Jurševska | D3: direktores p.i. G.Apele
C5: 2017. gada .novembrī | D5: 2019. gada 15.martā
A7: Maksas pakalpojuma izcenojuma aprēķins
A9: Sociālās integrācijas valsts aģentūra
A10: Publiskā pakalpojuma veids:
B11: 7. Viesu izmitināšana
B12: 7.5. Viesu izmitināšana Dubultu prospektā 71, Jūrmalā, papildus vieta
B13: 7.5.8. Papildu vieta vienai personai Dubultu prospektā 71, 1 korpuss, Jūrmalā (ar trīsreizēju ēdināšanu)
A14: Laikposms | B14: ='7.5.7.'!B14 -> 2023.gadā un turpmāk
A15: Izdevumu klasifikācijas kods | B15: Rādītājs (materiāla/izejvielas nosaukums, atlīdzība un citi izmaksu veidi) | C15: Izmaksu apjoms noteiktā laikposmā viena maksas pakalpojuma veida nodrošināšanai | D15: Izmaksu apjoms noteiktā laikposmā viena maksas pakalpojuma veida nodrošināšanai
A16: 1 | B16: 2 | C16: 3 | D16: 3
B17: Tiešās izmaksas
A18: 1100 | B18: Atalgojums | C18: 76.15 | D18: 126.39
A19: 1200 | B19: Darba devēja valsts sociālās apdrošināšanas obligātās iemaksas, sociāla rakstura pabalsti un kompensācijas | C19: 17.95 | D19: 30.45
A20: 2219 | B20: Pārējie sakaru pakalpojumi | C20: 1.16 | D20: =C20/30*50 -> 1.9333333
A21: 2222 | B21: Izdevumi par ūdeni un kanalizāciju | C21: 48.62 | D21: =C21/30*50 -> 81.033333
A22: 2223 | B22: Izdevumi par elektroenerģiju | C22: 52.87 | D22: =C22/30*50 -> 88.116667
A23: 2243 | B23: Iekārtas, inventāra un aparatūras remonts, tehniskā apkalpošana | C23: 0.62 | D23: =C23/30*50 -> 1.0333333
A24: 2244 | B24: Ēku, būvju un telpu uzturēšana | C24: 69.25 | D24: =C24/30*50 -> 115.41667
A25: 2249 | B25: Pārējie remontdarbu un iestāžu uzturēšanas pakalpojumi | C25: 0 | D25: =C25/30*50 -> 0
A26: 2263 | B26: Zemes noma | C26: 12.17 | D26: =C26/30*50 -> 20.283333
A27: 2264 | B27: Iekārtu un inventāra īre un noma | C27: 0.07 | D27: =C27/30*50 -> 0.11666667
A28: 2279 | B28: Pārējie iepriekš neklasificētie pakalpojumu veidi | C28: 6.07 | D28: =C28/30*50 -> 10.116667
A29: 2321 | B29: Kurināmais | C29: 73.25 | D29: =C29/30*50 -> 122.08333
A30: 2363 | B30: Ēdināšanas izdevumi | C30: 221.4 | D30: 406
A31: 2513 | B31: Budžeta iestāžu nekustamā īpašuma nodokļa (t.sk. zemes nodokļa parāda) maksājumi budžetā | C31: 1.4 | D31: =C31/30*50 -> 2.3333333
A32: 2519 | B32: Pārējie budžeta iestāžu pārskaitītie nodokļi un nodevas | C32: 0.78 | D32: =C32/30*50 -> 1.3
B33: Tiešās izmaksas kopā | C33: =SUM(C18:C32) -> 581.76 | D33: =SUM(D18:D32) -> 1006.6067
B34: Netiešās izmaksas
A35: 1100 | B35: Atalgojums | C35: 76.58 | D35: 127.13
A36: 1200 | B36: Darba devēja valsts sociālās apdrošināšanas obligātās iemaksas, sociāla rakstura pabalsti un kompensācijas | C36: 18.07 | D36: 30.62
A37: 2219 | B37: Pārējie sakaru pakalpojumi | C37: 1.87 | D37: =C37/30*50 -> 3.1166667
A38: 2234 | B38: Normatīvajos aktos noteiktie darba devēja veselības izdevumi darba ņēmējiem | C38: 0.16 | D38: =C38/30*50 -> 0.26666667
A39: 2239 | B39: Pārējie iestādes administratīvie izdevumi un ar iestādes darbības nodrošināšanu saistītie pakalpojumi | C39: 0.78 | D39: =C39/30*50 -> 1.3
A40: 2241 | B40: Ēku, būvju un telpu remonts | C40: 0.17 | D40: 0.32
A41: 2242 | B41: Transportlīdzekļu uzturēšana un remonts | C41: 0 | D41: =C41/30*50 -> 0
A42: 2243 | B42: Iekārtas, inventāra un aparatūras remonts, tehniskā apkalpošana | C42: 0.76 | D42: 1.33
A43: 2244 | B43: Ēku, būvju un telpu uzturēšana | C43: 0.18 | D43: 74.3
A44: 2247 | B44: Apdrošināšanas izdevumi | C44: 0.24 | D44: =C44/30*50 -> 0.4
A45: 2251 | B45: Informācijas sistēmas uzturēšana | C45: 12.39 | D45: =C45/30*50 -> 20.65
A46: 2259 | B46: Pārējie informācijas tehnoloģiju pakalpojumi | C46: 0.07 | D46: 0.15
A47: 2262 | B47: Transportlīdzekļu noma | C47: 1.48 | D47: =C47/30*50 -> 2.4666667
A48: 2264 | B48: Iekārtu un inventāra īre un noma | C48: 0.07 | D48: =C48/30*50 -> 0.11666667
A49: 2279 | B49: Pārējie iepriekš neklasificētie pakalpojumu veidi | C49: 0.16 | D49: =C49/30*50 -> 0.26666667
A50: 2311 | B50: Biroja preces | C50: 0.78 | D50: =C50/30*50 -> 1.3
A51: 2312 | B51: Inventārs | C51: 0.36 | D51: =C51/30*50 -> 0.6
A52: 2322 | B52: Degviela | C52: 3.11 | D52: =C52/30*50 -> 5.1833333
A53: 2350 | B53: Kārtējā remonta un iestāžu uzturēšanas materiāli | C53: 15.98 | D53: =C53/30*50 -> 26.633333
A54: 2361 | B54: Mīkstais inventārs | C54: 3.5 | D54: =C54/30*50 -> 5.8333333
A55: 2362 | B55: Virtuves inventārs, trauki un galda piederumi | C55: 2.4 | D55: =C55/30*50 -> 4
A56: 2400 | B56: Izdevumi periodikas iegādei | C56: 0.24 | D56: =C56/30*50 -> 0.4
A57: 2512 | B57: Budžeta iestāžu pievienotās vērtības nodokļa maksājumi | C57: 91.58 | D57: 166
A58: 2515 | B58: Budžeta iestāžu dabas resursu nodokļa maksājumi | C58: 0.31 | D58: =C58/30*50 -> 0.51666667
A59: 2519 | B59: Pārējie budžeta iestāžu pārskaitītie nodokļi un nodevas | C59: 0.07 | D59: =C59/30*50 -> 0.11666667
A60: 5232 | B60: Saimniecības pamatlīdzekļi | C60: 33.97 | D60: =C60/30*50 -> 56.616667
A61: 5240 | B61: Pamatlīdzekļu izveidošana un nepabeigtā būvniecība | C61: 1.97 | D61: =C61/30*50 -> 3.2833333
A62: 5250 | B62: Kapitālais remonts un rekonstrukcija | C62: 5.69 | D62: 9.48
B63: Netiešās izmaksas kopā | C63: =SUM(C35:C62) -> 272.94 | D63: =SUM(D35:D62) -> 542.39667
B64: Pakalpojumu izmaksas kopā | C64: =C63+C33 -> 854.7 | D64: =D63+D33 -> 1549.0033
A66: Maksas pakalpojuma vienību skaits noteiktā laikposmā | C66: 30 | D66: 50
A67: Maksas pakalpojuma izcenojums (euro) | C67: =C64/C66 -> 28.49 | D67: =D64/D66 -> 30.980067
A69: Prognozētais maksas pakalpojumu skaits gadā (gab.)*
A70: Prognozētie ieņēmumi gadā (euro)*
A72: Piezīme. *Ailes neaizpilda, ja izvēlētais laikposms ir viens gads.
A74: Aprēķinu sastādīja:SIVA Finanšu nodaļas vecākā finanšu ekonomiste Anita Ozoliņa

Sheet 4.3.4.
E1: SASKAŅOTS
E2: Sociālās integrācijas valsts aģentūras
E3: direktore I.Jurševska
E5: 2023. gada 29. martā
A7: Maksas pakalpojuma izcenojuma aprēķins
A9: Sociālās integrācijas valsts aģentūra
A10: Publiskā pakalpojuma veids:
B11: 4. Viesu izmitināšana
B12: 4.3. Viesu izmitināšana Dubultu prospektā 71, Jūrmalā, papildus vieta
B13: 4.3.4. Papildu vieta vienai personai Dubultu prospektā 71, 2. korp., Jūrmalā (ar ar trīsreizēju ēdināšanu)
A14: Laikposms | B14: 2023.gadā un turpmāk
A15: Izdevumu klasifikācijas kods | B15: Rādītājs (materiāla/izejvielas nosaukums, atlīdzība un citi izmaksu veidi) | E15: Izmaksu apjoms noteiktā laikposmā viena maksas pakalpojuma veida nodrošināšanai
A16: 1 | B16: 2 | E16: 3
B17: Tiešās izmaksas
A18: 1100 | B18: Atalgojums | C18: ='[1]7._izmitināšana_GALA mpc'!$Z$6 -> 12.496872 | E18: 422.21
A19: 1200 | B19: Darba devēja valsts sociālās apdrošināšanas obligātās iemaksas, pabalsti un kompensācijas | C19: =C18*0.2359 -> 2.948012 | E19: 99.6
A20: 2222 | B20: Izdevumi par ūdensapgādi un kanalizāciju | C20: ='[1]7._izmitināšana_GALA mpc'!$Z$8 -> 0.2721967 | E20: 8.04
A21: 2223 | B21: Izdevumi par elektroenerģiju | C21: ='[1]7._izmitināšana_GALA mpc'!$Z$9 -> 0.66961558 | E21: 19.7
A22: 2243 | B22: Iekārtas, inventāra un aparatūras remonts, tehniskā apkalpošana | C22: ='[1]7._izmitināšana_GALA mpc'!$Z$11 -> 0.048118148 | E22: 1.43
A23: 2244 | B23: Nekustamā īpašuma uzturēšana | C23: ='[1]7._izmitināšana_GALA mpc'!$Z$12 -> 0.85797593 | E23: 25.31
A24: 2250 | B24: Informācijas tehnoloģiju pakalpojumi | C24: ='[1]7._izmitināšana_GALA mpc'!$Z$13 -> 0.19 | E24: 5.7
A25: 2311 | B25: Biroja preces | C25: ='[1]7._izmitināšana_GALA mpc'!$Z$14 -> 1.7655716 | E25: 52.69
A26: 2312 | B26: Inventārs | C26: ='[1]7._izmitināšana_GALA mpc'!$Z$15 -> 0.59158859 | E26: 17.65
A27: 2321 | B27: Kurināmais | C27: ='[1]7._izmitināšana_GALA mpc'!$Z$16 -> 0.49585281 | E27: 14.63
A28: 2350 | B28: Iestāžu uzturēšanas materiāli un preces | C28: ='[1]7._izmitināšana_GALA mpc'!$Z$17 -> 0.1870137 | E28: 5.53
A29: 2361 | B29: Mīkstais inventārs | C29: ='[1]7._izmitināšana_GALA mpc'!$Z$18 -> 0.054458313 | E29: 1.58
A30: 2362 | B30: Virtuves inventārs, trauki un galda piederumi | C30: ='[1]7._izmitināšana_GALA mpc'!$Z$19 -> 0.048496534 | E30: 1.46
A31: 2363 | B31: Ēdināšanas izdevumi | C31: 9.75 | E31: 292.5
A32: 5239 | B32: Pārējie iepriekš neklasificētie pamatlīdzekļi un ieguldījuma īpašumi | C32: ='[1]7._izmitināšana_GALA mpc'!$Z$21 -> 0.77337909 | E32: 22.99
B33: Tiešās izmaksas kopā | C33: =SUM(C18:C32) -> 31.149151 | E33: =SUM(E18:E32) -> 991.02
B34: Netiešās izmaksas
A35: 1100 | B35: Atalgojums | D35: 0.4855 | E35: 214.75
A36: 1200 | B36: Darba devēja valsts sociālās apdrošināšanas obligātās iemaksas, pabalsti un kompensācijas | D36: =D35*0.2359 -> 0.11452945 | E36: 50.66
A37: 2100 | B37: Mācību, darba un dienesta komandējumi, dienesta, darba braucieni | D37: 0.001166 | E37: 0.61
A38: 2210 | B38: Izdevumi par sakaru pakalpojumiem | D38: 0.0076 | E38: 3.99
A39: 2222 | B39: Izdevumi par ūdensapgādi un kanalizāciju | D39: =0.0095*1.15 -> 0.010925 | E39: 5.73
A40: 2223 | B40: Izdevumi par elektroenerģiju | D40: =0.01902*2.13 -> 0.0405126 | E40: 21.25
A41: 2224 | B41: Izdevumi par atkritumu savākšanu, izvešanu no apdzīvotām vietām un teritorijām ārpus apdzīvotām vietām un atkritumu utilizāciju | D41: =0.00495*1.15 -> 0.0056925 | E41: 2.99
A42: 2231 | B42: Izdevumi iestādes sabiedrisko aktivitāšu īstenošanai | D42: 0.00155 | E42: 0.81
A43: 2235 | B43: Izdevumi par saņemtajiem mācību pakalpojumiem | D43: 0.00165 | E43: 0.87
A44: 2239 | B44: Pārējie neklasificētie pakalpojumi | D44: 0.00441 | E44: 2.31
A45: 2241 | B45: Ēku, būvju un telpu būvdarbi | D45: 0.0165 | E45: 8.8
A46: 2242 | B46: Transportlīdzekļu uzturēšana un remonts | D46: 0.00226 | E46: 1.19
A47: 2243 | B47: Iekārtas, inventāra un aparatūras remonts, tehniskā apkalpošana | D47: 0.0326 | E47: 17.1
A48: 2244 | B48: Nekustamā īpašuma uzturēšana | D48: =0.20397-0.09084 -> 0.11313 | E48: 59.35
A49: 2247 | B49: Apdrošināšanas izdevumi | D49: 0.000719 | E49: 0.38
A50: 2249 | B50: Pārējie remontdarbu un iestāžu uzturēšanas pakalpojumi | D50: 0.000232 | E50: 0.12
A51: 2250 | B51: Informācijas tehnoloģiju pakalpojumi | D51: =0.024026-0.005 -> 0.019026 | E51: 9.98
A52: 2261 | B52: Ēku, telpu īre un noma | D52: 0 | E52: 0
A53: 2262 | B53: Transportlīdzekļu noma | D53: 0.00626 | E53: 3.28
A54: 2263 | B54: Zemes noma | D54: 0.0458 | E54: 24.03
A55: 2264 | B55: Iekārtu, aparatūras un inventāra īre un noma | D55: 0.00149 | E55: 0.78
A56: 2311 | B56: Biroja preces | D56: 0.00477 | E56: 2.5
A57: 2312 | B57: Inventārs | D57: 0.00579 | E57: 3.04
A58: 2314 | B58: Izdevumi par precēm iestādes sabiedrisko aktivitāšu īstenošanai | D58: 0.00222 | E58: 1.16
A59: 2321 | B59: Kurināmais | D59: =0.0198*1.2+0.005 -> 0.02876 | E59: 15.09
A60: 2322 | B60: Degviela | D60: =0.0035*1.2 -> 0.0042 | E60: 2.2
A61: 2341 | B61: Zāles, ķimikālijas, laboratorijas preces | E61: 0
A62: 2350 | B62: Iestāžu uzturēšanas materiāli un preces | D62: 0.0085 | E62: 4.46
A63: 2512 | B63: Budžeta iestāžu pievienotās vērtības nodokļa maksājumi | D63: 0 | E63: 0
A64: 2513 | B64: Budžeta iestāžu nekustamā īpašuma nodokļa maksājumi | D64: 0.00146 | E64: 0.77
A65: 2515 | B65: Budžeta iestāžu dabas resursu nodokļa maksājumi | D65: 0.0019 | E65: 1
A66: 2519 | B66: Pārējie budžeta iestāžu pārskaitītie nodokļi un nodevas | D66: 0.002 | E66: 1.05
A67: 5220 | B67: Tehnoloģiskās iekārtas un mašīnas | D67: 0.0106 | E67: 5.56
A68: 5238 | B68: Datortehnika, sakaru un cita biroja tehnika | D68: 0.00165 | E68: 0.87
A69: 5239 | B69: Pārējie iepriekš neklasificētie pamatlīdzekļi un ieguldījuma īpašumi | D69: 0.00954 | E69: 5
A70: 5250 | B70: Kapitālais remonts un rekonstrukcija | D70: 0.00706 | E70: 3.7
B71: Netiešās izmaksas kopā | D71: =SUM(D35:D70) -> 1.0000026 | E71: =SUM(E35:E70) -> 475.38
B72: Pakalpojumu izmaksas kopā | E72: =E71+E33 -> 1466.4
A74: Maksas pakalpojuma vienību skaits noteiktā laikposmā | E74: 30
A75: Maksas pakalpojuma izcenojums (euro) | E75: =E72/E74 -> 48.88
A77: Prognozētais maksas pakalpojumu skaits gadā (gab.)*
A78: Prognozētie ieņēmumi gadā (euro)*
A80: Piezīme. *Ailes neaizpilda, ja izvēlētais laikposms ir viens gads.
A82: Aprēķinu sastādīja: SIVA Finanšu nodaļas finanšu ekonomiste E.Lipiņa

Sheet 4.4.1.
C1: SASKAŅOTS | E1: SASKAŅOTS | F1: SASKAŅOTS
C2: Sociālās integrācijas valsts aģentūras | E2: Sociālās integrācijas valsts aģentūras | F2: Sociālās integrācijas valsts aģentūras
C3: direktore I.Jurševska | E3: direktore I.Jurševska | F3: direktore I.Jurševska
C5: 2017. gada .novembrī | E5: 2022. gada | F5: 2023. gada 29. martā
A7: Maksas pakalpojuma izcenojuma aprēķins
A9: Sociālās integrācijas valsts aģentūra
A10: Publiskā pakalpojuma veids:
B11: 4. Viesu izmitināšana
B12: 4.4. Viesu izmitināšana - Dubultu prospekts 59, Jūrmala, 1. stāvs
B13: 4.4.1. Dubultu prospektā 59, Jūrmalā, četrvietīgs numurs
A14: Laikposms | B14: ='7.5.8.'!B14 -> 2023.gadā un turpmāk
A16: Izdevumu klasifikācijas kods | B16: Rādītājs (materiāla/izejvielas nosaukums, atlīdzība un citi izmaksu veidi) | C16: Izmaksu apjoms noteiktā laikposmā viena maksas pakalpojuma veida nodrošināšanai | E16: Izmaksu apjoms noteiktā laikposmā viena maksas pakalpojuma veida nodrošināšanai | F16: Izmaksu apjoms noteiktā laikposmā viena maksas pakalpojuma veida nodrošināšanai
A17: 1 | B17: 2 | C17: 3 | E17: 3 | F17: 3
B18: Tiešās izmaksas
A19: 1100 | B19: Atalgojums | C19: 3034.7 | E19: 1086.77 | F19: =E19/100*200 -> 2173.54
A20: 1200 | B20: Darba devēja valsts sociālās apdrošināšanas obligātās iemaksas, pabalsti un kompensācijas | C20: 715.87 | E20: 256.37 | F20: =E20/100*200 -> 512.74
A21: 2210 | B21: Izdevumi par sakaru pakalpojumiem | C21: 153.78 | E21: 46.6 | F21: =E21/100*200 -> 93.2
A22: 2222 | B22: Izdevumi par ūdensapgādi un kanalizāciju | C22: 2549.57 | E22: 772.65 | F22: =E22/100*200 -> 1545.3
A23: 2223 | B23: Izdevumi par elektroenerģiju | C23: 1184.2 | E23: 1480.25 | F23: =E23/100*200 -> 2960.5
A24: 2243 | B24: Iekārtas, inventāra un aparatūras remonts, tehniskā apkalpošana | C24: 141.49 | E24: 42.88 | F24: =E24/100*200 -> 85.76
A25: 2244 | B25: Nekustamā īpašuma uzturēšana | C25: 3095.49 | E25: =1183.4 -> 1183.4 | F25: =E25/100*200 -> 2366.8
A26: 2249 | B26: Pārējie remontdarbu un iestāžu uzturēšanas pakalpojumi | C26: 580.36 | E26: 0 | F26: =E26/100*200 -> 0
A27: 2261 | B27: Ēku, telpu īre un noma | C27: 0 | E27: =C27/330*200 -> 0 | F27: =E27/100*200 -> 0
A28: 2263 | B28: Zemes noma | C28: 1311.76 | E28: 552.53 | F28: =E28/100*200 -> 1105.06
A29: 2312 | B29: Inventārs | C29: 391.92 | E29: 118.76 | F29: =E29/100*200 -> 237.52
A30: 2321 | B30: Kurināmais | C30: 5398.86 | E30: 1363.22 | F30: =E30/100*200 -> 2726.44
A31: 2350 | B31: Iestāžu uzturēšanas materiāli un preces | C31: 327.51 | E31: 99.28 | F31: =E31/100*200 -> 198.56
A32: 2361 | B32: Mīkstais inventārs | C32: 274.92 | E32: 83.39 | F32: =E32/100*200 -> 166.78
A33: 2513 | B33: Budžeta iestāžu nekustamā īpašuma nodokļa maksājumi | C33: 617.46 | E33: 187.11 | F33: =E33/100*200 -> 374.22
A34: 2519 | B34: Pārējie budžeta iestāžu pārskaitītie nodokļi un nodevas | C34: 437.23 | E34: 132.49 | F34: =E34/100*200 -> 264.98
B35: Tiešās izmaksas kopā | C35: =SUM(C19:C34) -> 20215.12 | E35: =SUM(E19:E34) -> 7405.7 | F35: =SUM(F19:F34) -> 14811.4
B36: Netiešās izmaksas
A37: 1100 | B37: Atalgojums | C37: 2930.86 | E37: 1049.53 | F37: =E37/100*200 -> 2099.06
A38: 1200 | B38: Darba devēja valsts sociālās apdrošināšanas obligātās iemaksas, pabalsti un kompensācijas | C38: 691.39 | E38: 247.58 | F38: =E38/100*200 -> 495.16
A39: 2210 | B39: Izdevumi par sakaru pakalpojumiem | C39: 28.33 | E39: 8.58 | F39: =E39/100*200 -> 17.16
A40: 2224 | B40: Izdevumi par atkritumu savākšanu, izvešanu no apdzīvotām vietām un teritorijām ārpus apdzīvotām vietām un atkritumu utilizāciju | D40: 0.243 - 4vv | E40: 24.3 | F40: =E40/100*200 -> 48.6
A41: 2239 | B41: Pārējie neklasificētie pakalpojumi | C41: 35.14 | E41: 10.65 | F41: =E41/100*200 -> 21.3
A42: 2241 | B42: Ēku, būvju un telpu būvdarbi | C42: 7.36 | E42: =2.23+175.87 -> 178.1 | F42: =E42/100*200 -> 356.2
A43: 2242 | B43: Transportlīdzekļu uzturēšana un remonts | C43: 28.64 | E43: 8.68 | F43: =E43/100*200 -> 17.36
A44: 2243 | B44: Iekārtas, inventāra un aparatūras remonts, tehniskā apkalpošana | C44: 28.09 | E44: =8.51+1.97 -> 10.48 | F44: =E44/100*200 -> 20.96
A45: 2244 | B45: Nekustamā īpašuma uzturēšana | C45: 5.95 | E45: =2.47+18.79+0.25 -> 21.51 | F45: =E45/100*200 -> 43.02
A46: 2249 | B46: Pārējie remontdarbu un iestāžu uzturēšanas pakalpojumi | C46: 7.51 | E46: =2.28 -> 2.28 | F46: =E46/100*200 -> 4.56
A47: 2250 | B47: Informācijas tehnoloģiju pakalpojumi | C47: 64.95 | E47: =19.68+0.28 -> 19.96 | F47: =E47/100*200 -> 39.92
A48: 2262 | B48: Transportlīdzekļu noma | C48: 68.32 | E48: 20.7 | F48: =E48/100*200 -> 41.4
A49: 2264 | B49: Iekārtu un inventāra īre un noma | C49: 0.63 | E49: 0.2 | F49: =E49/100*200 -> 0.4
A50: 2311 | B50: Biroja preces | C50: 37.33 | E50: 11.31 | F50: =E50/100*200 -> 22.62
A51: 2312 | B51: Inventārs | C51: 8.45 | F51: =E51/100*200 -> 0
A52: 2322 | B52: Degviela | C52: 174.59 | E52: 63.49 | F52: =E52/100*200 -> 126.98
A53: 2350 | B53: Iestāžu uzturēšanas materiāli un preces | C53: 174.28 | E53: =52.81+0.28 -> 53.09 | F53: =E53/100*200 -> 106.18
A54: 2515 | B54: Budžeta iestāžu dabas resursu nodokļa maksājumi | C54: 11.97 | E54: 3.63 | F54: =E54/100*200 -> 7.26
A55: 2519 | B55: Pārējie budžeta iestāžu pārskaitītie nodokļi un nodevas | C55: 0.55 | E55: 0.17 | F55: =E55/100*200 -> 0.34
A56: 5238 | B56: Datortehnika, sakaru un cita biroja tehnika | C56: 480.39 | E56: 25.3 | F56: =E56/100*200 -> 50.6
A57: 5239 | B57: Pārējie iepriekš neklasificētie pamatlīdzekļi un ieguldījuma īpašumi | C57: 84.36 | E57: 142.15 | F57: =E57/100*200 -> 284.3
A58: 5250 | B58: Kapitālais remonts un rekonstrukcija | C58: 337.53 | E58: 106.61 | F58: =E58/100*200 -> 213.22
B59: Netiešās izmaksas kopā | C59: =SUM(C37:C58) -> 5206.62 | E59: =SUM(E37:E58) -> 2008.3 | F59: =SUM(F37:F58) -> 4016.6
B60: Pakalpojumu izmaksas kopā | C60: =C59+C35 -> 25421.74 | E60: =E59+E35 -> 9414 | F60: =F59+F35 -> 18828
A62: Maksas pakalpojuma vienību skaits noteiktā laikposmā | C62: 330 | E62: 100 | F62: 200
A63: Maksas pakalpojuma izcenojums (euro) | C63: =C60/C62 -> 77.035576 | E63: =E60/E62 -> 94.14 | F63: =F60/F62 -> 94.14
A65: Prognozētais maksas pakalpojumu skaits gadā (gab.)*
A66: Prognozētie ieņēmumi gadā (euro)*
A68: Piezīme. *Ailes neaizpilda, ja izvēlētais laikposms ir viens gads.
A70: Aprēķinu sastādīja: SIVA Finanšu nodaļas finanšu ekonomiste E.Lipiņa

Sheet 4.4.2.
D1: SASKAŅOTS
D2: Sociālās integrācijas valsts aģentūras
D3: direktore I.Jurševska
D5: 2023. gada 29. martā
A7: Maksas pakalpojuma izcenojuma aprēķins
A9: Sociālās integrācijas valsts aģentūra
A10: Publiskā pakalpojuma veids:
B11: 4. Viesu izmitināšana
B12: 4.4. Viesu izmitināšana Dubultu prospektā 59, Jūrmalā, 1. stāvs
B13: 4.4.2. Dubultu prospektā 59, Jūrmalā, astoņvietīgs numurs
A14: Laikposms | B14: 2023.gadā un turpmāk
A16: Izdevumu klasifikācijas kods | B16: Rādītājs (materiāla/izejvielas nosaukums, atlīdzība un citi izmaksu veidi) | D16: Izmaksu apjoms noteiktā laikposmā viena maksas pakalpojuma veida nodrošināšanai
A17: 1 | B17: 2 | D17: 3
B18: Tiešās izmaksas
A19: 1100 | B19: Atalgojums | D19: 315.42
A20: 1200 | B20: Darba devēja valsts sociālās apdrošināšanas obligātās iemaksas, pabalsti un kompensācijas | D20: 74.41
A21: 2210 | B21: Izdevumi par sakaru pakalpojumiem | D21: 15.55
A22: 2222 | B22: Izdevumi par ūdensapgādi un kanalizāciju | D22: 355.42
A23: 2223 | B23: Izdevumi par elektroenerģiju | D23: 816.03
A24: 2243 | B24: Iekārtas, inventāra un aparatūras remonts, tehniskā apkalpošana | D24: 17.15
A25: 2244 | B25: Nekustamā īpašuma uzturēšana | D25: 236.6
A26: 2263 | B26: Zemes noma | D26: 127.08
A27: 2312 | B27: Inventārs | D27: 54.63
A28: 2321 | B28: Kurināmais | D28: 751.51
A29: 2350 | B29: Iestāžu uzturēšanas materiāli un preces | D29: 45.67
A30: 2361 | B30: Mīkstais inventārs | D30: 66.71
... A32: 2519 | B32: Pārējie budžeta iestāžu pārskaitītie nodokļi un nodevas | D32: 30.48
B33: Tiešās izmaksas kopā | D33: =SUM(D19:D32) -> 2949.7
B34: Netiešās izmaksas
A35: 1100 | B35: Atalgojums | C35: 0.50648 | D35: 345.76
A36: 1200 | B36: Darba devēja valsts sociālās apdrošināšanas obligātās iemaksas, pabalsti un kompensācijas | C36: =C35*0.2359 -> 0.11947863 | D36: 81.56
A37: 2210 | B37: Izdevumi par sakaru pakalpojumiem | C37: 0.00468 | D37: 2.83
A38: 2224 | B38: Izdevumi par atkritumu savākšanu, izvešanu no apdzīvotām vietām un teritorijām ārpus apdzīvotām vietām un atkritumu utilizāciju | C38: 0.243 | D38: 9.72
A39: 2239 | B39: Pārējie neklasificētie pakalpojumi | C39: 0.00581 | D39: 3.51
A40: 2241 | B40: Ēku, būvju un telpu būvdarbi | C40: 0.09712 | D40: 58.67
A41: 2242 | B41: Transportlīdzekļu uzturēšana un remonts | C41: 0.00473 | D41: 2.86
A42: 2243 | B42: Iekārtas, inventāra un aparatūras remonts, tehniskā apkalpošana | C42: =0.00571+0.03045 -> 0.03616 | D42: 21.85
A43: 2244 | B43: Nekustamā īpašuma uzturēšana | C43: 0.00135 | D43: =0.82+6.19 -> 7.01
A44: 2249 | B44: Pārējie remontdarbu un iestāžu uzturēšanas pakalpojumi | C44: 0.00124 | D44: 0.75
A45: 2250 | B45: Informācijas tehnoloģiju pakalpojumi | C45: 0.01088 | D45: 6.57
A46: 2262 | B46: Transportlīdzekļu noma | C46: 0.01129 | D46: 6.82
A47: 2264 | B47: Iekārtu un inventāra īre un noma | C47: 0.00011 | D47: 0.07
A48: 2311 | B48: Biroja preces | C48: 0.00617 | D48: 3.72
A49: 2312 | B49: Inventārs | C49: 0.01025 | D49: 0
A50: 2322 | B50: Degviela | C50: 0.0042 | D50: 3.67
A51: 2350 | B51: Iestāžu uzturēšanas materiāli un preces | C51: 0.02895 | D51: 17.44
A52: 2515 | B52: Budžeta iestāžu dabas resursu nodokļa maksājumi | C52: 0.002 | D52: 1.21
A53: 2519 | B53: Pārējie budžeta iestāžu pārskaitītie nodokļi un nodevas | C53: 0.0001 | D53: 0.06
A54: 5238 | B54: Datortehnika, sakaru un cita biroja tehnika | C54: 0.0134 | D54: 8.1
A55: 5239 | B55: Pārējie iepriekš neklasificētie pamatlīdzekļi un ieguldījuma īpašumi | C55: 0.0775 | D55: 46.82
A56: 5250 | B56: Kapitālais remonts un rekonstrukcija | C56: 0.0581 | D56: 35.1
B57: Netiešās izmaksas kopā | C57: =SUM(C35:C56) -> 1.2429986 | D57: =SUM(D35:D56) -> 664.1
B58: Pakalpojumu izmaksas kopā | D58: =D33+D57 -> 3613.8
A60: Maksas pakalpojuma vienību skaits noteiktā laikposmā | D60: 20
A61: Maksas pakalpojuma izcenojums (euro) | D61: =D58/D60 -> 180.69
A63: Prognozētais maksas pakalpojumu skaits gadā (gab.)*
A64: Prognozētie ieņēmumi gadā (euro)*
A66: Piezīme. *Ailes neaizpilda, ja izvēlētais laikposms ir viens gads.
A68: Aprēķinu sastādīja: SIVA Finanšu nodaļas finanšu ekonomiste E.Lipiņa

Sheet 4.5.1.
C1: SASKAŅOTS | D1: SASKAŅOTS | E1: SASKAŅOTS
C2: Sociālās integrācijas valsts aģentūras | D2: Sociālās integrācijas valsts aģentūras | E2: Sociālās integrācijas valsts aģentūras
C3: direktore I.Jurševska | D3: direktore I.Jurševska | E3: direktore I.Jurševska
C5: 2017. gada .novembrī | D5: 2023. gada | E5: 2023. gada 29. martā
A7: Maksas pakalpojuma izcenojuma aprēķins
A9: Sociālās integrācijas valsts aģentūra
A10: Publiskā pakalpojuma veids:
B11: 4. Viesu izmitināšana
B12: 4.5.. Viesu izmitināšana - Dubultu prospekts 59, Jūrmala, 2. stāvs
B13: 4.5.1. Dubultu prospektā 59, Jūrmalā, četrvietīgs numurs
A14: Laikposms | B14: ='4.4.2.'!B14 -> 2023.gadā un turpmāk
A16: Izdevumu klasifikācijas kods | B16: Rādītājs (materiāla/izejvielas nosaukums, atlīdzība un citi izmaksu veidi) | C16: Izmaksu apjoms noteiktā laikposmā viena maksas pakalpojuma veida nodrošināšanai | D16: Izmaksu apjoms noteiktā laikposmā viena maksas pakalpojuma veida nodrošināšanai | E16: Izmaksu apjoms noteiktā laikposmā viena maksas pakalpojuma veida nodrošināšanai
A17: 1 | B17: 2 | C17: 4 | D17: 3 | E17: 3
B18: Tiešās izmaksas
A19: 1100 | B19: Atalgojums | C19: 2493.25 | D19: 701.52 | E19: =D19/100*200 -> 1403.04
A20: 1200 | B20: Darba devēja valsts sociālās apdrošināšanas obligātās iemaksas, pabalsti un kompensācijas | C20: 588.16 | D20: 165.49 | E20: =D20/100*200 -> 330.98
A21: 2210 | B21: Izdevumi par sakaru pakalpojumiem | C21: 89.93 | D21: 22.48 | E21: =D21/100*200 -> 44.96
A22: 2222 | B22: Izdevumi par ūdensapgādi un kanalizāciju | C22: 2866.3 | D22: 824.07 | E22: =D22/100*200 -> 1648.14
A23: 2223 | B23: Izdevumi par elektroenerģiju | C23: 1839.08 | D23: 1064.29 | E23: =D23/100*200 -> 2128.58
A24: 2243 | B24: Iekārtas, inventāra un aparatūras remonts, tehniskā apkalpošana | C24: 82.81 | D24: 20.7 | E24: =D24/100*200 -> 41.4
A25: 2244 | B25: Nekustamā īpašuma uzturēšana | C25: 1810.72 | D25: =588.48 -> 588.48 | E25: =D25/100*200 -> 1176.96
A26: 2263 | B26: Zemes noma | C26: 767.31 | D26: 266.64 | E26: =D26/100*200 -> 533.28
A27: 2312 | B27: Inventārs | C27: 229.18 | D27: 57.3 | E27: =D27/100*200 -> 114.6
A28: 2321 | B28: Kurināmais | C28: 4737.21 | D28: 1184.3 | E28: =D28/100*200 -> 2368.6
A29: 2350 | B29: Iestāžu uzturēšanas materiāli un preces | C29: 191.52 | D29: 47.88 | E29: =D29/100*200 -> 95.76
A30: 2361 | B30: Mīkstais inventārs | C30: 160.88 | D30: 51.96 | E30: =D30/100*200 -> 103.92
A31: 2513 | B31: Budžeta iestāžu nekustamā īpašuma nodokļa maksājumi | C31: 361.22 | D31: 90.31 | E31: =D31/100*200 -> 180.62
A32: 2519 | B32: Pārējie budžeta iestāžu pārskaitītie nodokļi un nodevas | C32: 255.83 | D32: 63.96 | E32: =D32/100*200 -> 127.92
B33: Tiešās izmaksas kopā | C33: =SUM(C19:C32) -> 16473.4 | D33: =SUM(D19:D32) -> 5149.38 | E33: =SUM(E19:E32) -> 10298.76
B34: Netiešās izmaksas
A35: 1100 | B35: Atalgojums | C35: 2577.8 | D35: 725.3 | E35: =D35/100*200 -> 1450.6
A36: 1200 | B36: Darba devēja valsts sociālās apdrošināšanas obligātās iemaksas, pabalsti un kompensācijas | C36: 608.1 | D36: 171.1 | E36: =D36/100*200 -> 342.2
A37: 2210 | B37: Izdevumi par sakaru pakalpojumiem | C37: 76.93 | D37: 19.23 | E37: =D37/100*200 -> 38.46
A38: 2224 | B38: Izdevumi par atkritumu savākšanu, izvešanu no apdzīvotām vietām un teritorijām ārpus apdzīvotām vietām un atkritumu utilizāciju | D38: 24.3 | E38: =D38/100*200 -> 48.6
A39: 2241 | B39: Ēku, būvju un telpu būvdarbi | C39: 6.45 | D39: 1.61 | E39: =D39/100*200 -> 3.22
A40: 2242 | B40: Transportlīdzekļu uzturēšana un remonts | C40: 25.23 | D40: 6.23 | E40: =D40/100*200 -> 12.46
A41: 2243 | B41: Iekārtas, inventāra un aparatūras remonts, tehniskā apkalpošana | C41: 24.76 | D41: 6.19 | E41: =D41/100*200 -> 12.38
A42: 2244 | B42: Nekustamā īpašuma uzturēšana | C42: 5.12 | D42: =2.67+1.85+0.13 -> 4.65 | E42: =D42/100*200 -> 9.3
A43: 2249 | B43: Pārējie remontdarbu un iestāžu uzturēšanas pakalpojumi | C43: 7.3 | D43: 1.83 | E43: =D43/100*200 -> 3.66
A44: 2250 | B44: Informācijas tehnoloģiju pakalpojumi | C44: 57.1 | D44: 14.28 | E44: =D44/100*200 -> 28.56
A45: 2262 | B45: Transportlīdzekļu noma | C45: 60.05 | D45: 15 | E45: =D45/100*200 -> 30
A46: 2264 | B46: Iekārtu un inventāra īre un noma | C46: 0.47 | D46: 0.12 | E46: =D46/100*200 -> 0.24
A47: 2311 | B47: Biroja preces | C47: 32.92 | D47: 8.2 | E47: =D47/100*200 -> 16.4
A48: 2312 | B48: Inventārs | C48: 7.4 | D48: 0 | E48: =D48/100*200 -> 0
A49: 2322 | B49: Degviela | C49: 153.58 | D49: 45.97 | E49: =D49/100*200 -> 91.94
A50: 2350 | B50: Iestāžu uzturēšanas materiāli un preces | C50: 153.29 | D50: 38.32 | E50: =D50/100*200 -> 76.64
A51: 2512 | B51: Budžeta iestāžu pievienotās vērtības nodokļa maksājumi | C51: 2579.14 | D51: 0 | E51: =D51/100*200 -> 0
A52: 2515 | B52: Budžeta iestāžu dabas resursu nodokļa maksājumi | C52: 10.53 | D52: 2.63 | E52: =D52/100*200 -> 5.26
A53: 2519 | B53: Pārējie budžeta iestāžu pārskaitītie nodokļi un nodevas | C53: 0.47 | D53: 0.12 | E53: =D53/100*200 -> 0.24
A54: 5238 | B54: Datortehnika, sakaru un cita biroja tehnika | C54: 371.08 | D54: 18.75 | E54: =D54/100*200 -> 37.5
... A56: 5250 | B56: Kapitālais remonts un rekonstrukcija | C56: 327.43 | D56: 81.02 | E56: =D56/100*200 -> 162.04
B57: Netiešās izmaksas kopā | C57: =SUM(C35:C56) -> 7159.33 | D57: =SUM(D35:D56) -> 1277.62 | E57: =SUM(E35:E56) -> 2555.24
B58: Pakalpojumu izmaksas kopā | C58: =C57+C33 -> 23632.73 | D58: =D57+D33 -> 6427 | E58: =E57+E33 -> 12854
A60: Maksas pakalpojuma vienību skaits noteiktā laikposmā | C60: 400 | D60: 100 | E60: 200
A61: Maksas pakalpojuma izcenojums (euro) | C61: =C58/C60 -> 59.081825 | D61: =D58/D60 -> 64.27 | E61: =E58/E60 -> 64.27
A63: Prognozētais maksas pakalpojumu skaits gadā (gab.)*
A64: Prognozētie ieņēmumi gadā (euro)*
A66: Piezīme. *Ailes neaizpilda, ja izvēlētais laikposms ir viens gads.
A68: Aprēķinu sastādīja: SIVA Finanšu nodaļas finanšu ekonomiste E.Lipiņa

Sheet 4.5.2.
C1: SASKAŅOTS
C2: Sociālās integrācijas valsts aģentūras
C3: direktore I.Jurševska
C5: 2023. gada 29. martā
A7: Maksas pakalpojuma izcenojuma aprēķins
A9: Sociālās integrācijas valsts aģentūra
A10: Publiskā pakalpojuma veids:
B11: 4. Viesu izmitināšana
B12: 4.5. Viesu izmitināšana - Dubultu prospekts 59, Jūrmala, 2. stāvs
B13: 4.5.2. Dubultu prospektā 59, Jūrmalā, sešvietīgs numurs
A14: Laikposms | B14: 2023.gadā un turpmāk
A16: Izdevumu klasifikācijas kods | B16: Rādītājs (materiāla/izejvielas nosaukums, atlīdzība un citi izmaksu veidi) | C16: Izmaksu apjoms noteiktā laikposmā viena maksas pakalpojuma veida nodrošināšanai
A17: 1 | B17: 2 | C17: 3
B18: Tiešās izmaksas
A19: 1100 | B19: Atalgojums | C19: 177.98
A20: 1200 | B20: Darba devēja valsts sociālās apdrošināšanas obligātās iemaksas, pabalsti un kompensācijas | C20: 41.99
A21: 2210 | B21: Izdevumi par sakaru pakalpojumiem | C21: 10.04
A22: 2222 | B22: Izdevumi par ūdensapgādi un kanalizāciju | C22: 285.53
A23: 2223 | B23: Izdevumi par elektroenerģiju | C23: 339.33
A24: 2243 | B24: Iekārtas, inventāra un aparatūras remonts, tehniskā apkalpošana | C24: 12.87
A25: 2244 | B25: Nekustamā īpašuma uzturēšana | C25: 203.91
A26: 2263 | B26: Zemes noma | C26: 61.59
A27: 2312 | B27: Inventārs | C27: 22.84
A28: 2321 | B28: Kurināmais | C28: 328.28
A29: 2350 | B29: Iestāžu uzturēšanas materiāli un preces | C29: 34.25
A30: 2361 | B30: Mīkstais inventārs | C30: =28.89+5.59 -> 34.48
A31: 2513 | B31: Budžeta iestāžu nekustamā īpašuma nodokļa maksājumi | C31: 20.86
A32: 2519 | B32: Pārējie budžeta iestāžu pārskaitītie nodokļi un nodevas | C32: 14.77
B33: Tiešās izmaksas kopā | C33: =SUM(C19:C32) -> 1588.72
B34: Netiešās izmaksas
A35: 1100 | B35: Atalgojums | C35: 228.46
A36: 1200 | B36: Darba devēja valsts sociālās apdrošināšanas obligātās iemaksas, pabalsti un kompensācijas | C36: 53.89
A37: 2210 | B37: Izdevumi par sakaru pakalpojumiem | C37: 6.65
A38: 2224 | B38: Izdevumi par atkritumu savākšanu, izvešanu no apdzīvotām vietām un teritorijām ārpus apdzīvotām vietām un atkritumu utilizāciju | C38: 29.41
A39: 2239 | B39: Pārējie neklasificētie pakalpojumi | C39: 2.68
A40: 2241 | B40: Ēku, būvju un telpu būvdarbi | C40: 0.77
A41: 2242 | B41: Transportlīdzekļu uzturēšana un remonts | C41: 2.16
A42: 2243 | B42: Iekārtas, inventāra un aparatūras remonts, tehniskā apkalpošana | C42: =4.85+3.45 -> 8.3
A43: 2244 | B43: Nekustamā īpašuma uzturēšana | C43: =3.16+3.79 -> 6.95
A44: 2249 | B44: Pārējie remontdarbu un iestāžu uzturēšanas pakalpojumi | C44: 0.55
A45: 2250 | B45: Informācijas tehnoloģiju pakalpojumi | C45: =7.09+0.68 -> 7.77
A46: 2262 | B46: Transportlīdzekļu noma | C46: 5.2
A47: 2264 | B47: Iekārtu un inventāra īre un noma | C47: 0.1
A48: 2311 | B48: Biroja preces | C48: 5.2
A49: 2312 | B49: Inventārs | C49: 0
A50: 2322 | B50: Degviela | C50: =17.47-0.55 -> 16.92
A51: 2350 | B51: Iestāžu uzturēšanas materiāli un preces | C51: 18.21
A53: 2515 | B53: Budžeta iestāžu dabas resursu nodokļa maksājumi | C53: 1.25
A54: 2519 | B54: Pārējie budžeta iestāžu pārskaitītie nodokļi un nodevas | C54: =0.08 -> 0.08
A55: 5238 | B55: Datortehnika, sakaru un cita biroja tehnika | C55: 7.21
A56: 5239 | B56: Pārējie iepriekš neklasificētie pamatlīdzekļi un ieguldījuma īpašumi | C56: 20.25
A57: 5250 | B57: Kapitālais remonts un rekonstrukcija | C57: 15.27
B58: Netiešās izmaksas kopā | C58: =SUM(C35:C57) -> 437.28
B59: Pakalpojumu izmaksas kopā | C59: =C33+C58 -> 2026
A61: Maksas pakalpojuma vienību skaits noteiktā laikposmā | C61: 20
A62: Maksas pakalpojuma izcenojums (euro) | C62: =C59/C61 -> 101.3
A64: Prognozētais maksas pakalpojumu skaits gadā (gab.)*
A65: Prognozētie ieņēmumi gadā (euro)*
A67: Piezīme. *Ailes neaizpilda, ja izvēlētais laikposms ir viens gads.
A69: Aprēķinu sastādīja: SIVA Finanšu nodaļas finanšu ekonomiste E.Lipiņa

Sheet 4.6.1.
C1: SASKAŅOTS | D1: SASKAŅOTS | E1: SASKAŅOTS
C2: Sociālās integrācijas valsts aģentūras | D2: Sociālās integrācijas valsts aģentūras | E2: Sociālās integrācijas valsts aģentūras
C3: direktore I.Jurševska | D3: direktore I.Jurševska | E3: direktore I.Jurševska
C5: 2017. gada .novembrī | D5: 2023. gada | E5: 2023. gada 29. martā
A7: Maksas pakalpojuma izcenojuma aprēķins
A9: Sociālās integrācijas valsts aģentūra
A10: Publiskā pakalpojuma veids:
B11: 4. Viesu izmitināšana
B12: 4.6 Viesu izmitināšana - Dubultu prospekts 59, Jūrmala, 3. stāvs
B13: 4.6.1. Dubultu prospektā 59, Jūrmalā, divvietīgs numurs
A14: Laikposms | B14: ='4.5.2.'!B14 -> 2023.gadā un turpmāk
A16: Izdevumu klasifikācijas kods | B16: Rādītājs (materiāla/izejvielas nosaukums, atlīdzība un citi izmaksu veidi) | C16: Izmaksu apjoms noteiktā laikposmā viena maksas pakalpojuma veida nodrošināšanai | D16: Izmaksu apjoms noteiktā laikposmā viena maksas pakalpojuma veida nodrošināšanai | E16: Izmaksu apjoms noteiktā laikposmā viena maksas pakalpojuma veida nodrošināšanai
A17: 1 | B17: 2 | C17: 3 | D17: 3 | E17: 3
B18: Tiešās izmaksas
A19: 1100 | B19: Atalgojums | C19: 1169.13 | D19: 614.04 | E19: =D19/140*200 -> 877.2
A20: 1200 | B20: Darba devēja valsts sociālās apdrošināšanas obligātās iemaksas, pabalsti un kompensācijas | C20: 275.8 | D20: 144.85 | E20: =D20/140*200 -> 206.92857
A21: 2210 | B21: Izdevumi par sakaru pakalpojumiem | C21: 59.19 | D21: 27.62 | E21: =D21/140*200 -> 39.457143
A22: 2222 | B22: Izdevumi par ūdensapgādi un kanalizāciju | C22: 1474.86 | D22: 688.27 | E22: =D22/140*200 -> 983.24286
A23: 2223 | B23: Izdevumi par elektroenerģiju | C23: 989.66 | D23: 983.72 | E23: =D23/140*200 -> 1405.3143
A24: 2243 | B24: Iekārtas, inventāra un aparatūras remonts, tehniskā apkalpošana | C24: 54.5 | D24: 25.43 | E24: =D24/140*200 -> 36.328571
A25: 2244 | B25: Nekustamā īpašuma uzturēšana | C25: 1192.57 | D25: 723.49 | E25: =D25/140*200 -> 1033.5571
A26: 2261 | B26: Ēku, telpu īre un noma | C26: 0 | D26: =C26/300*200 -> 0 | E26: =D26/140*200 -> 0
A27: 2263 | B27: Zemes noma | C27: 505.33 | D27: 327.79 | E27: =D27/140*200 -> 468.27143
A28: 2312 | B28: Inventārs | C28: 150.97 | D28: 70.45 | E28: =D28/140*200 -> 100.64286
A29: 2321 | B29: Kurināmais | C29: 2179.88 | D29: 1017.28 | E29: =D29/140*200 -> 1453.2571
A30: 2350 | B30: Iestāžu uzturēšanas materiāli un preces | C30: 126.14 | D30: 58.87 | E30: =D30/140*200 -> 84.1
A31: 2361 | B31: Mīkstais inventārs | C31: 105.93 | D31: 49.43 | E31: =D31/140*200 -> 70.614286
A32: 2513 | B32: Budžeta iestāžu nekustamā īpašuma nodokļa maksājumi | C32: 237.9 | D32: 111.02 | E32: =D32/140*200 -> 158.6
A33: 2519 | B33: Pārējie budžeta iestāžu pārskaitītie nodokļi un nodevas | C33: 168.47 | D33: 78.62 | E33: =D33/140*200 -> 112.31429
B34: Tiešās izmaksas kopā | C34: =SUM(C19:C33) -> 8690.33 | D34: =SUM(D19:D33) -> 4920.88 | E34: =SUM(E19:E33) -> 7029.8286
B35: Netiešās izmaksas
A36: 1100 | B36: Atalgojums | C36: 1137.24 | D36: 660.49 | E36: =D36/140*200 -> 943.55714
A37: 1200 | B37: Darba devēja valsts sociālās apdrošināšanas obligātās iemaksas, pabalsti un kompensācijas | C37: 268.28 | D37: 155.81 | E37: =D37/140*200 -> 222.58571
A38: 2210 | B38: Izdevumi par sakaru pakalpojumiem | C38: 33.94 | D38: 17.52 | E38: =D38/140*200 -> 25.028571
A39: 2224 | B39: Izdevumi par atkritumu savākšanu, izvešanu no apdzīvotām vietām un teritorijām ārpus apdzīvotām vietām un atkritumu utilizāciju | D39: 18.81 | E39: =D39/140*200 -> 26.871429
A40: 2239 | B40: Pārējie neklasificētie pakalpojumi | C40: 13.59 | D40: 7.01 | E40: =D40/140*200 -> 10.014286
A41: 2241 | B41: Ēku, būvju un telpu būvdarbi | C41: 2.85 | D41: 1.47 | E41: =D41/140*200 -> 2.1
A42: 2242 | B42: Transportlīdzekļu uzturēšana un remonts | C42: 11.1 | D42: 5.73 | E42: =D42/140*200 -> 8.1857143
A43: 2243 | B43: Iekārtas, inventāra un aparatūras remonts, tehniskā apkalpošana | C43: 10.88 | D43: 5.62 | E43: =D43/140*200 -> 8.0285714
A44: 2244 | B44: Nekustamā īpašuma uzturēšana | C44: 2.42 | D44: =1.63+1.07 -> 2.7 | E44: =D44/140*200 -> 3.8571429
A45: 2249 | B45: Pārējie remontdarbu un iestāžu uzturēšanas pakalpojumi | C45: 223.6 | D45: 1.42 | E45: =D45/140*200 -> 2.0285714
A46: 2250 | B46: Informācijas tehnoloģiju pakalpojumi | C46: 25.18 | D46: 12.98 | E46: =D46/140*200 -> 18.542857
A47: 2262 | B47: Transportlīdzekļu noma | C47: 26.54 | D47: 13.7 | E47: =D47/140*200 -> 19.571429
A48: 2264 | B48: Iekārtu un inventāra īre un noma | C48: 0.28 | D48: 0.14 | E48: =D48/140*200 -> 0.2
A49: 2311 | B49: Biroja preces | C49: 14.51 | D49: 7.49 | E49: =D49/140*200 -> 10.7
A50: 2312 | B50: Inventārs | C50: 3.27 | E50: =D50/140*200 -> 0
A51: 2322 | B51: Degviela | C51: 67.73 | D51: 34.95 | E51: =D51/140*200 -> 49.928571
A52: 2350 | B52: Iestāžu uzturēšanas materiāli un preces | C52: 67.66 | D52: 34.91 | E52: =D52/140*200 -> 49.871429
A53: 2512 | B53: Budžeta iestāžu pievienotās vērtības nodokļa maksājumi | C53: 1316.25 | D53: 0 | E53: =D53/140*200 -> 0
A54: 2515 | B54: Budžeta iestāžu dabas resursu nodokļa maksājumi | C54: 4.7 | D54: 2.42 | E54: =D54/140*200 -> 3.4571429
A55: 2519 | B55: Pārējie budžeta iestāžu pārskaitītie nodokļi un nodevas | C55: 0.21 | D55: 0.11 | E55: =D55/140*200 -> 0.15714286
A56: 5238 | B56: Datortehnika, sakaru un cita biroja tehnika | C56: 166.87 | D56: 17.23 | E56: =D56/140*200 -> 24.614286
A57: 5239 | B57: Pārējie iepriekš neklasificētie pamatlīdzekļi un ieguldījuma īpašumi | C57: 32.73 | D57: 85.92 | E57: =D57/140*200 -> 122.74286
A58: 5250 | B58: Kapitālais remonts un rekonstrukcija | C58: 130.98 | D58: 67.29 | E58: =D58/140*200 -> 96.128571
B59: Netiešās izmaksas kopā | C59: =SUM(C36:C58) -> 3560.81 | D59: =SUM(D36:D58) -> 1153.72 | E59: =SUM(E36:E58) -> 1648.1714
B60: Pakalpojumu izmaksas kopā | C60: =C59+C34 -> 12251.14 | D60: =D59+D34 -> 6074.6 | E60: =E59+E34 -> 8678
A62: Maksas pakalpojuma vienību skaits noteiktā laikposmā | C62: 300 | D62: 140 | E62: 200
A63: Maksas pakalpojuma izcenojums (euro) | C63: =C60/C62 -> 40.837133 | D63: =D60/D62 -> 43.39 | E63: =E60/E62 -> 43.39
A65: Prognozētais maksas pakalpojumu skaits gadā (gab.)*
A66: Prognozētie ieņēmumi gadā (euro)*
A68: Piezīme. *Ailes neaizpilda, ja izvēlētais laikposms ir viens gads.
A70: Aprēķinu sastādīja: SIVA Finanšu nodaļas finanšu ekonomiste E.Lipiņa

Sheet 4.6.2.
C1: SASKAŅOTS
C2: Sociālās integrācijas valsts aģentūras
C3: direktore I.Jurševska
C5: 2023. gada 29. martā
A7: Maksas pakalpojuma izcenojuma aprēķins
A9: Sociālās integrācijas valsts aģentūra
A10: Publiskā pakalpojuma veids:
B11: 4. Viesu izmitināšana
B12: 4.6. Viesu izmitināšana - Dubultu prospekts 59, Jūrmala, 3. stāvs
B13: 4.6.2. Dubultu prospektā 59, Jūrmalā, trīsvietīgs numurs
A14: Laikposms | B14: 2023.gadā un turpmāk
A16: Izdevumu klasifikācijas kods | B16: Rādītājs (materiāla/izejvielas nosaukums, atlīdzība un citi izmaksu veidi) | C16: Izmaksu apjoms noteiktā laikposmā viena maksas pakalpojuma veida nodrošināšanai
A17: 1 | B17: 2 | C17: 3
B18: Tiešās izmaksas
A19: 1100 | B19: Atalgojums | C19: 177.98
A20: 1200 | B20: Darba devēja valsts sociālās apdrošināšanas obligātās iemaksas, pabalsti un kompensācijas | C20: 41.99
A21: 2210 | B21: Izdevumi par sakaru pakalpojumiem | C21: 10.04
A22: 2222 | B22: Izdevumi par ūdensapgādi un kanalizāciju | C22: 237.83
A23: 2223 | B23: Izdevumi par elektroenerģiju | C23: 339.33
A24: 2243 | B24: Iekārtas, inventāra un aparatūras remonts, tehniskā apkalpošana | C24: 12.87
A25: 2244 | B25: Nekustamā īpašuma uzturēšana | C25: 203.91
A26: 2250 | B26: Informācijas tehnoloģiju pakalpojumi
A27: 2261 | B27: Ēku, telpu īre un noma | C27: 0
A28: 2263 | B28: Zemes noma | C28: 61.59
A29: 2312 | B29: Inventārs | C29: 28.84
A30: 2321 | B30: Kurināmais | C30: 328.28
A31: 2350 | B31: Iestāžu uzturēšanas materiāli un preces | C31: 34.25
A32: 2361 | B32: Mīkstais inventārs | C32: 28.89
A33: 2513 | B33: Budžeta iestāžu nekustamā īpašuma nodokļa maksājumi | C33: 20.86
A34: 2519 | B34: Pārējie budžeta iestāžu pārskaitītie nodokļi un nodevas | C34: 14.77
B35: Tiešās izmaksas kopā | C35: =SUM(C19:C34) -> 1541.43
B36: Netiešās izmaksas
A37: 1100 | B37: Atalgojums | C37: 221.71
A38: 1200 | B38: Darba devēja valsts sociālās apdrošināšanas obligātās iemaksas, pabalsti un kompensācijas | C38: 52.3
A39: 2210 | B39: Izdevumi par sakaru pakalpojumiem | C39: 4.99
A40: 2224 | B40: Izdevumi par atkritumu savākšanu, izvešanu no apdzīvotām vietām un teritorijām ārpus apdzīvotām vietām un atkritumu utilizāciju | C40: 29.41
A41: 2239 | B41: Pārējie neklasificētie pakalpojumi | C41: 2.01
A42: 2241 | B42: Ēku, būvju un telpu būvdarbi | C42: 0.88
A43: 2242 | B43: Transportlīdzekļu uzturēšana un remonts | C43: 1.62
A44: 2243 | B44: Iekārtas, inventāra un aparatūras remonts, tehniskā apkalpošana | C44: 5.04
A45: 2244 | B45: Nekustamā īpašuma uzturēšana | C45: =3.71+2.84 -> 6.55
A46: 2249 | B46: Pārējie remontdarbu un iestāžu uzturēšanas pakalpojumi | C46: 2.25
A47: 2250 | B47: Informācijas tehnoloģiju pakalpojumi | C47: 6.32
A48: 2262 | B48: Transportlīdzekļu noma | C48: 3.9
A49: 2264 | B49: Iekārtu un inventāra īre un noma | C49: 0.08
A50: 2311 | B50: Biroja preces | C50: =3.9-0.14 -> 3.76
A51: 2312 | B51: Inventārs | C51: 0
A52: 2322 | B52: Degviela | C52: 10.92
A53: 2350 | B53: Iestāžu uzturēšanas materiāli un preces | C53: 13.66
A55: 2515 | B55: Budžeta iestāžu dabas resursu nodokļa maksājumi | C55: 0.94
A56: 2519 | B56: Pārējie budžeta iestāžu pārskaitītie nodokļi un nodevas | C56: 0.08
A57: 5238 | B57: Datortehnika, sakaru un cita biroja tehnika | C57: 6.51
A58: 5239 | B58: Pārējie iepriekš neklasificētie pamatlīdzekļi un ieguldījuma īpašumi | C58: 15.23
A59: 5250 | B59: Kapitālais remonts un rekonstrukcija | C59: 11.41
B60: Netiešās izmaksas kopā | C60: =SUM(C37:C59) -> 399.57
B61: Pakalpojumu izmaksas kopā | C61: =C35+C60 -> 1941
A63: Maksas pakalpojuma vienību skaits noteiktā laikposmā | C63: 30
A64: Maksas pakalpojuma izcenojums (euro) | C64: =C61/C63 -> 64.7
A66: Prognozētais maksas pakalpojumu skaits gadā (gab.)*
A67: Prognozētie ieņēmumi gadā (euro)*
A69: Piezīme. *Ailes neaizpilda, ja izvēlētais laikposms ir viens gads.
A71: Aprēķinu sastādīja: SIVA Finanšu nodaļas finanšu ekonomiste E.Lipiņa

Sheet 4.7.
C1: SASKAŅOTS | D1: SASKAŅOTS | E1: SASKAŅOTS
C2: Sociālās integrācijas valsts aģentūras | D2: Sociālās integrācijas valsts aģentūras | E2: Sociālās integrācijas valsts aģentūras
C3: direktore I.Jurševska | D3: direktore I.Jurševska | E3: direktore I.Jurševska
C5: 2017. gada .novembrī | D5: 2023. gada | E5: 2023. gada 29. martā
A7: Maksas pakalpojuma izcenojuma aprēķins
A9: Sociālās integrācijas valsts aģentūra
A10: Publiskā pakalpojuma veids:
B11: 4. Viesu izmitināšana
B12: 4.7. Papildu vieta vienai personai Dubultu prospektā 59, Jūrmalā
A13: Laikposms | B13: ='4.6.2.'!B14 -> 2023.gadā un turpmāk
A15: Izdevumu klasifikācijas kods | B15: Rādītājs (materiāla/izejvielas nosaukums, atlīdzība un citi izmaksu veidi) | C15: Izmaksu apjoms noteiktā laikposmā viena maksas pakalpojuma veida nodrošināšanai | D15: Izmaksu apjoms noteiktā laikposmā viena maksas pakalpojuma veida nodrošināšanai | E15: Izmaksu apjoms noteiktā laikposmā viena maksas pakalpojuma veida nodrošināšanai
A16: 1 | B16: 2 | C16: 3 | D16: 3 | E16: 3
B17: Tiešās izmaksas
A18: 1100 | B18: Atalgojums | C18: 1053.98 | D18: 499.45 | E18: =D18/400*100 -> 124.8625
A19: 1200 | B19: Darba devēja valsts sociālās apdrošināšanas obligātās iemaksas, pabalsti un kompensācijas | C19: 248.63 | D19: 117.82 | E19: =D19/400*100 -> 29.455
A20: 2210 | B20: Izdevumi par sakaru pakalpojumiem | C20: 53.39 | D20: 22.48 | E20: =D20/400*100 -> 5.62
A21: 2222 | B21: Izdevumi par ūdensapgādi un kanalizāciju | C21: 1785.65 | D21: =751.85 -> 751.85 | E21: =D21/400*100 -> 187.9625
A22: 2223 | B22: Izdevumi par elektroenerģiju | C22: 1178.33 | D22: 1421.16 | E22: =D22/400*100 -> 355.29
A23: 2243 | B23: Iekārtas, inventāra un aparatūras remonts, tehniskā apkalpošana | C23: 49.11 | D23: 20.68 | E23: =D23/400*100 -> 5.17
A24: 2244 | B24: Nekustamā īpašuma uzturēšana | C24: 1436.36 | D24: 1300.78 | E24: =D24/400*100 -> 325.195
A25: 2261 | B25: Ēku, telpu īre un noma | C25: 0 | D25: =C25/950*400 -> 0 | E25: =D25/400*100 -> 0
A26: 2263 | B26: Zemes noma | C26: 455.53 | D26: 411.8 | E26: =D26/400*100 -> 102.95
A27: 2312 | B27: Inventārs | C27: 136.07 | D27: 57.29 | E27: =D27/400*100 -> 14.3225
A28: 2321 | B28: Kurināmais | C28: 2812.72 | D28: 1056.78 | E28: =D28/400*100 -> 264.195
A29: 2350 | B29: Iestāžu uzturēšanas materiāli un preces | C29: 113.77 | D29: 47.9 | E29: =D29/400*100 -> 11.975
A30: 2361 | B30: Mīkstais inventārs | C30: 95.52 | D30: 40.22 | E30: =D30/400*100 -> 10.055
A31: 2513 | B31: Budžeta iestāžu nekustamā īpašuma nodokļa maksājumi | C31: 214.47 | D31: 90.3 | E31: =D31/400*100 -> 22.575
A32: 2519 | B32: Pārējie budžeta iestāžu pārskaitītie nodokļi un nodevas | C32: 151.84 | D32: 63.93 | E32: =D32/400*100 -> 15.9825
B33: Tiešās izmaksas kopā | C33: =SUM(C18:C32) -> 9785.37 | D33: =SUM(D18:D32) -> 5902.44 | E33: =SUM(E18:E32) -> 1475.61
B34: Netiešās izmaksas
A35: 1100 | B35: Atalgojums | C35: 1530.48 | D35: 725.26 | E35: =D35/400*100 -> 181.315
A36: 1200 | B36: Darba devēja valsts sociālās apdrošināšanas obligātās iemaksas, pabalsti un kompensācijas | C36: 361.04 | D36: 171.09 | E36: =D36/400*100 -> 42.7725
A37: 2210 | B37: Izdevumi par sakaru pakalpojumiem | C37: 45.73 | D37: 19.25 | E37: =D37/400*100 -> 4.8125
A38: 2224 | B38: Izdevumi par atkritumu savākšanu, izvešanu no apdzīvotām vietām un teritorijām ārpus apdzīvotām vietām un atkritumu utilizāciju | D38: 24.3 | E38: =D38/400*100 -> 6.075
A39: 2239 | B39: Pārējie neklasificētie pakalpojumi | C39: 18.47 | D39: 7.78 | E39: =D39/400*100 -> 1.945
A40: 2241 | B40: Ēku, būvju un telpu būvdarbi | C40: 4.73 | D40: 2.99 | E40: =D40/400*100 -> 0.7475
A41: 2242 | B41: Transportlīdzekļu uzturēšana un remonts | C41: 14.87 | D41: 6.26 | E41: =D41/400*100 -> 1.565
A42: 2243 | B42: Iekārtas, inventāra un aparatūras remonts, tehniskā apkalpošana | C42: 14.64 | D42: 7.16 | E42: =D42/400*100 -> 1.79
A43: 2244 | B43: Nekustamā īpašuma uzturēšana | C43: 4.73 | D43: =4.29+1.9+1.87 -> 8.06 | E43: =D43/400*100 -> 2.015
A44: 2249 | B44: Pārējie remontdarbu un iestāžu uzturēšanas pakalpojumi | C44: 201.63 | D44: 84.9 | E44: =D44/400*100 -> 21.225
A45: 2250 | B45: Informācijas tehnoloģiju pakalpojumi | C45: 34.02 | D45: 14.42 | E45: =D45/400*100 -> 3.605
A46: 2262 | B46: Transportlīdzekļu noma | C46: 35.6 | D46: 14.99 | E46: =D46/400*100 -> 3.7475
A47: 2264 | B47: Iekārtu un inventāra īre un noma | C47: 0.23 | D47: 0.1 | E47: =D47/400*100 -> 0.025
A48: 2311 | B48: Biroja preces | C48: 19.6 | D48: 8.25 | E48: =D48/400*100 -> 2.0625
A49: 2312 | B49: Inventārs | C49: 4.51 | D49: 0 | E49: =D49/400*100 -> 0
A50: 2322 | B50: Degviela | C50: 91.24 | D50: 46.1 | E50: =D50/400*100 -> 11.525
A51: 2350 | B51: Iestāžu uzturēšanas materiāli un preces | C51: 94.4 | D51: 39.75 | E51: =D51/400*100 -> 9.9375
A52: 2512 | B52: Budžeta iestāžu pievienotās vērtības nodokļa maksājumi | C52: 1531.88 | D52: 0 | E52: =D52/400*100 -> 0
A53: 2515 | B53: Budžeta iestāžu dabas resursu nodokļa maksājumi | C53: 6.31 | D53: 2.66 | E53: =D53/400*100 -> 0.665
A54: 2519 | B54: Pārējie budžeta iestāžu pārskaitītie nodokļi un nodevas | C54: 0.23 | D54: 0.1 | E54: =D54/400*100 -> 0.025
A55: 5238 | B55: Datortehnika, sakaru un cita biroja tehnika | C55: 220.33 | D55: 23.19 | E55: =D55/400*100 -> 5.7975
... A57: 5250 | B57: Kapitālais remonts un rekonstrukcija | C57: 176.18 | D57: 74.18 | E57: =D57/400*100 -> 18.545
B58: Netiešās izmaksas kopā | C58: =SUM(C35:C57) -> 4465.93 | D58: =SUM(D35:D57) -> 1373.56 | E58: =SUM(E35:E57) -> 343.39
B59: Pakalpojumu izmaksas kopā | C59: =C58+C33 -> 14251.3 | D59: =D58+D33 -> 7276 | E59: =E58+E33 -> 1819
A61: Maksas pakalpojuma vienību skaits noteiktā laikposmā | C61: 950 | D61: 400 | E61: 100
A62: Maksas pakalpojuma izcenojums (euro) | C62: =C59/C61 -> 15.001368 | D62: =D59/D61 -> 18.19 | E62: =E59/E61 -> 18.19
A64: Prognozētais maksas pakalpojumu skaits gadā (gab.)*
A65: Prognozētie ieņēmumi gadā (euro)*
A67: Piezīme. *Ailes neaizpilda, ja izvēlētais laikposms ir viens gads.
A69: Aprēķinu sastādīja: SIVA Finanšu nodaļas finanšu ekonomiste E.Lipiņa

Sheet 4.8.
E1: SASKAŅOTS
E2: Sociālās integrācijas valsts aģentūras
E3: direktore I.Jurševska
E5: 2023. gada 29. martā
A7: Maksas pakalpojuma izcenojuma aprēķins
A9: Sociālās integrācijas valsts aģentūra
A10: Publiskā pakalpojuma veids:
B11: 4. Viesu izmitināšana
B12: 4.8. Aģentūras izglītojamo izmitināšana dienesta viesnīcā Dubultu prospektā 59 , Slokas ielā 68, Jūrmalā (mēnesī)
A13: Laikposms | B13: ='4.7.'!B13 -> 2023.gadā un turpmāk
A15: Izdevumu klasifikācijas kods | B15: Rādītājs (materiāla/izejvielas nosaukums, atlīdzība un citi izmaksu veidi) | E15: Izmaksu apjoms noteiktā laikposmā viena maksas pakalpojuma veida nodrošināšanai
A16: 1 | B16: 2 | D16: =95.42/5.45 -> 17.508257 | E16: 3
B17: Tiešās izmaksas
A18: 1100 | B18: Atalgojums | D18: ='4.9.'!D18*'4.8.'!D16 -> 27.633282 | E18: 342.29
A19: 1200 | B19: Darba devēja valsts sociālās apdrošināšanas obligātās iemaksas, pabalsti un kompensācijas | D19: =D18*0.2359 -> 6.5186912 | E19: 80.75
A20: 2210 | B20: Izdevumi par sakaru pakalpojumiem | D20: ='4.9.'!D20*'4.8.'!D16 -> 0.1155545 | E20: 1.31
A21: 2222 | B21: Izdevumi par ūdensapgādi un kanalizāciju | D21: ='4.9.'!D21*'4.8.'!D16 -> 2.1867813 | E21: 61.93
A22: 2223 | B22: Izdevumi par elektroenerģiju | D22: ='4.9.'!D22*'4.8.'!D16 -> 7.7894235 | E22: 117.87
A23: 2243 | B23: Iekārtas, inventāra un aparatūras remonts, tehniskā apkalpošana | D23: ='4.9.'!D23*'4.8.'!D16 -> 0.11030202 | E23: 0.53
A24: 2244 | B24: Nekustamā īpašuma uzturēšana | D24: ='4.9.'!D24*'4.8.'!D16 -> 11.709522 | E24: 112.93
A25: 2263 | B25: Zemes noma | D25: ='4.9.'!D27*'4.8.'!D16 -> 12.054435 | E25: 93.76
A26: 2312 | B26: Inventārs | D26: ='4.9.'!D28*'4.8.'!D16 -> 4.7587442 | E26: 62.5
A27: 2321 | B27: Kurināmais | D27: ='4.9.'!D29*'4.8.'!D16 -> 7.4987864 | E27: 104
A28: 2350 | B28: Iestāžu uzturēšanas materiāli un preces | D28: ='4.9.'!D30*'4.8.'!D16 -> 0.23110899 | E28: 40.71
A29: 2361 | B29: Mīkstais inventārs | D29: ='4.9.'!D31*'4.8.'!D16 -> 0.43245394 | E29: 51.47
A30: 2513 | B30: Budžeta iestāžu nekustamā īpašuma nodokļa maksājumi | D30: ='4.9.'!D32*'4.8.'!D16 -> 1.0890136 | E30: 25.84
A31: 2519 | B31: Pārējie budžeta iestāžu pārskaitītie nodokļi un nodevas | D31: ='4.9.'!D33*'4.8.'!D16 -> 1.0820103 | E31: 10.03
B32: Tiešās izmaksas kopā | D32: =SUM(D18:D31) -> 83.210109 | E32: =SUM(E18:E31) -> 1105.92
B33: Netiešās izmaksas
A34: 1100 | B34: Atalgojums | C34: ='4.9.'!D36 -> 0.2048 | D34: =C34*$D$16 -> 3.585691 | E34: 60.57
A35: 1200 | B35: Darba devēja valsts sociālās apdrošināšanas obligātās iemaksas, pabalsti un kompensācijas | C35: ='4.9.'!D37 -> 0.0483 | D35: =C35*$D$16 -> 0.84564881 | E35: 14.29
A36: 2210 | B36: Izdevumi par sakaru pakalpojumiem | C36: ='4.9.'!D38 -> 0.0043 | D36: =C36*$D$16 -> 0.075285505 | E36: 1.26
A37: 2224 | B37: Izdevumi par atkritumu savākšanu, izvešanu no apdzīvotām vietām un teritorijām ārpus apdzīvotām vietām un atkritumu utilizāciju | C37: ='4.9.'!D39 -> 0.0473 | D37: =C37*$D$16 -> 0.82814055 | E37: =18.36-10 -> 8.36
A38: 2239 | B38: Pārējie neklasificētie pakalpojumi | C38: ='4.9.'!D40 -> 0.0064 | D38: =C38*$D$16 -> 0.11205284 | E38: 1.89
A39: 2241 | B39: Ēku, būvju un telpu būvdarbi | C39: ='4.9.'!D41 -> 0.0006 | D39: =C39*$D$16 -> 0.010504954 | E39: 0.18
A40: 2242 | B40: Transportlīdzekļu uzturēšana un remonts | C40: ='4.9.'!D42 -> 0.0027 | D40: =C40*$D$16 -> 0.047272294 | E40: 0.79
A41: 2243 | B41: Iekārtas, inventāra un aparatūras remonts, tehniskā apkalpošana | C41: ='4.9.'!D43 -> 0.0027 | D41: =C41*$D$16 -> 0.047272294 | E41: 0.79
A42: 2244 | B42: Nekustamā īpašuma uzturēšana | C42: ='4.9.'!D44 -> 0.056 | D42: =C42*$D$16 -> 0.98046239 | E42: =0.55+5.49+8+2 -> 16.04
A43: 2249 | B43: Pārējie remontdarbu un iestāžu uzturēšanas pakalpojumi | C43: ='4.9.'!D45 -> 0.0018 | D43: =C43*$D$16 -> 0.031514862 | E43: 0.53
A44: 2250 | B44: Informācijas tehnoloģiju pakalpojumi | C44: ='4.9.'!D46 -> 0.054 | D44: =C44*$D$16 -> 0.94544587 | E44: 15.97
A45: 2262 | B45: Transportlīdzekļu noma | C45: ='4.9.'!D47 -> 0.0053 | D45: =C45*$D$16 -> 0.092793761 | E45: 1.58
A46: 2264 | B46: Iekārtu un inventāra īre un noma | C46: ='4.9.'!D48 -> 0.0014 | D46: =C46*$D$16 -> 0.02451156 | E46: 0.03
A47: 2311 | B47: Biroja preces | C47: ='4.9.'!D49 -> 0.0025 | D47: =C47*$D$16 -> 0.043770642 | E47: 0.74
A48: 2312 | B48: Inventārs | C48: ='4.9.'!D50 -> 0 | D48: =C48*$D$16 -> 0 | E48: 0
A49: 2322 | B49: Degviela | C49: ='4.9.'!D51 -> 0.0094 | D49: =C49*$D$16 -> 0.16457761 | E49: 2.78
A50: 2350 | B50: Iestāžu uzturēšanas materiāli un preces | C50: ='4.9.'!D52 -> 0.0124 | D50: =C50*$D$16 -> 0.21710239 | E50: 3.68
A51: 2512 | B51: Budžeta iestāžu pievienotās vērtības nodokļa maksājumi | C51: ='4.9.'!D53 -> 0 | D51: =C51*$D$16 -> 0 | E51: 0
A52: 2515 | B52: Budžeta iestāžu dabas resursu nodokļa maksājumi | C52: ='4.9.'!D54 -> 0.0007 | D52: =C52*$D$16 -> 0.01225578 | E52: 0.23
A53: 2519 | B53: Pārējie budžeta iestāžu pārskaitītie nodokļi un nodevas | C53: ='4.9.'!D55 -> 0.0001 | D53: =C53*$D$16 -> 0.0017508257 | E53: 0.03
A54: 5238 | B54: Datortehnika, sakaru un cita biroja tehnika | C54: ='4.9.'!D56 -> 0.1054 | D54: =C54*$D$16 -> 1.8453703 | E54: 31.17
... A56: 5250 | B56: Kapitālais remonts un rekonstrukcija | C56: ='4.9.'!D58 -> 0.2522 | D56: =C56*$D$16 -> 4.4155824 | E56: 74.57
B57: Netiešās izmaksas kopā | C57: =E57/15 -> 23.992 | D57: =SUM(D34:D56) -> 24.290956 | E57: =SUM(E34:E56) -> 359.88
B58: Pakalpojumu izmaksas kopā | E58: =E57+E32 -> 1465.8
A60: Maksas pakalpojuma vienību skaits noteiktā laikposmā | E60: 15
A61: Maksas pakalpojuma izcenojums (euro) | E61: =(E58/E60) -> 97.72
A63: Prognozētais maksas pakalpojumu skaits gadā (gab.)*
A64: Prognozētie ieņēmumi gadā (euro)*
A66: Piezīme. *Ailes neaizpilda, ja izvēlētais laikposms ir viens gads.
A68: Aprēķinu sastādīja: SIVA Finanšu nodaļas finanšu ekonomiste E.Lipiņa

Sheet 4.9.
C1: SASKAŅOTS | E1: SASKAŅOTS
C2: Sociālās integrācijas valsts aģentūras | E2: Sociālās integrācijas valsts aģentūras
C3: direktore I.Jurševska | E3: direktore I.Jurševska
C5: 2017. gada .novembrī | E5: 2023. gada 29. martā
A7: Maksas pakalpojuma izcenojuma aprēķins
A9: Sociālās integrācijas valsts aģentūra
A10: Publiskā pakalpojuma veids:
B11: 4. Viesu izmitināšana
B12: 4.9. Aģentūras izglītojamo un Ukrainas civiliedzīvotāju izmitināšana dienesta viesnīcā Dubultu prospektā 59, Slokas ielā 68, Jūrmalā, (diennaktī)
A13: Laikposms | B13: ='4.8.'!B13 -> 2023.gadā un turpmāk
A15: Izdevumu klasifikācijas kods | B15: Rādītājs (materiāla/izejvielas nosaukums, atlīdzība un citi izmaksu veidi) | C15: Izmaksu apjoms noteiktā laikposmā viena maksas pakalpojuma veida nodrošināšanai | E15: Izmaksu apjoms noteiktā laikposmā viena maksas pakalpojuma veida nodrošināšanai
A16: 1 | B16: 2 | C16: 3 | E16: 3
B17: Tiešās izmaksas
A18: 1100 | B18: Atalgojums | C18: 289.52 | D18: =E18/100 -> 1.5783 | E18: 157.83
A19: 1200 | B19: Darba devēja valsts sociālās apdrošināšanas obligātās iemaksas, pabalsti un kompensācijas | C19: 68.3 | D19: =E19/100 -> 0.3723 | E19: 37.23
A20: 2210 | B20: Izdevumi par sakaru pakalpojumiem | C20: 1.25 | D20: =E20/100 -> 0.0066 | E20: 0.66
A21: 2222 | B21: Izdevumi par ūdensapgādi un kanalizāciju | C21: 51.25 | D21: =E21/100 -> 0.1249 | E21: 12.49
A22: 2223 | B22: Izdevumi par elektroenerģiju | C22: 52.6 | D22: =E22/100 -> 0.4449 | E22: 44.49
A23: 2243 | B23: Iekārtas, inventāra un aparatūras remonts, tehniskā apkalpošana | C23: 0.5 | D23: =E23/100 -> 0.0063 | E23: 0.63
A24: 2244 | B24: Nekustamā īpašuma uzturēšana | C24: 82.5 | D24: =E24/100 -> 0.6688 | E24: 66.88
A25: 2252 | B25: Informācijas sistēmas uzturēšana | C25: 0 | D25: =E25/100 -> 0 | E25: =C25/250*100 -> 0
A26: 2261 | B26: Ēku, telpu īre un noma | C26: 0 | D26: =E26/100 -> 0 | E26: =C26/250*100 -> 0
A27: 2263 | B27: Zemes noma | C27: 64.25 | D27: =E27/100 -> 0.6885 | E27: 68.85
A28: 2312 | B28: Inventārs | C28: 59.5 | D28: =E28/100 -> 0.2718 | E28: 27.18
A29: 2321 | B29: Kurināmais | C29: 82.5 | D29: =E29/100 -> 0.4283 | E29: 42.83
A30: 2350 | B30: Iestāžu uzturēšanas materiāli un preces | C30: 38.75 | D30: =E30/100 -> 0.0132 | E30: 1.32
A31: 2361 | B31: Mīkstais inventārs | C31: 49 | D31: =E31/100 -> 0.0247 | E31: 2.47
A32: 2513 | B32: Budžeta iestāžu nekustamā īpašuma nodokļa maksājumi | C32: 24.58 | D32: =E32/100 -> 0.0622 | E32: 6.22
A33: 2519 | B33: Pārējie budžeta iestāžu pārskaitītie nodokļi un nodevas | C33: 9.55 | D33: =E33/100 -> 0.0618 | E33: 6.18
B34: Tiešās izmaksas kopā | C34: =SUM(C18:C33) -> 874.05 | D34: =SUM(D18:D33) -> 4.7526 | E34: =SUM(E18:E33) -> 475.26
B35: Netiešās izmaksas
A36: 1100 | B36: Atalgojums | C36: 51.23 | D36: =E36/100 -> 0.2048 | E36: 20.48
A37: 1200 | B37: Darba devēja valsts sociālās apdrošināšanas obligātās iemaksas, pabalsti un kompensācijas | C37: 12.09 | D37: =E37/100 -> 0.0483 | E37: 4.83
A38: 2210 | B38: Izdevumi par sakaru pakalpojumiem | C38: 1.2 | D38: =E38/100 -> 0.0043 | E38: 0.43
A39: 2224 | B39: Izdevumi par atkritumu savākšanu, izvešanu no apdzīvotām vietām un teritorijām ārpus apdzīvotām vietām un atkritumu utilizāciju | D39: =E39/100 -> 0.0473 | E39: 4.73
A40: 2239 | B40: Pārējie neklasificētie pakalpojumi | C40: 1.8 | D40: =E40/100 -> 0.0064 | E40: 0.64
A41: 2241 | B41: Ēku, būvju un telpu būvdarbi | C41: 0 | D41: =E41/100 -> 0.0006 | E41: 0.06
A42: 2242 | B42: Transportlīdzekļu uzturēšana un remonts | C42: 0.75 | D42: =E42/100 -> 0.0027 | E42: 0.27
A43: 2243 | B43: Iekārtas, inventāra un aparatūras remonts, tehniskā apkalpošana | C43: 0.75 | D43: =E43/100 -> 0.0027 | E43: 0.27
A44: 2244 | B44: Nekustamā īpašuma uzturēšana | C44: 0 | D44: =E44/100 -> 0.056 | E44: 5.6
A45: 2249 | B45: Pārējie remontdarbu un iestāžu uzturēšanas pakalpojumi | C45: 0.5 | D45: =E45/100 -> 0.0018 | E45: 0.18
A46: 2250 | B46: Informācijas tehnoloģiju pakalpojumi | C46: 15.2 | D46: =E46/100 -> 0.054 | E46: 5.4
A47: 2262 | B47: Transportlīdzekļu noma | C47: 1.5 | D47: =E47/100 -> 0.0053 | E47: 0.53
A48: 2264 | B48: Iekārtu un inventāra īre un noma | C48: 0 | D48: =E48/100 -> 0.0014 | E48: 0.14
A49: 2311 | B49: Biroja preces | C49: 0.7 | D49: =E49/100 -> 0.0025 | E49: 0.25
A50: 2312 | B50: Inventārs | C50: 5.23 | D50: =E50/100 -> 0 | E50: 0
A51: 2322 | B51: Degviela | C51: 2.2 | D51: =E51/100 -> 0.0094 | E51: 0.94
... A58: 5250 | B58: Kapitālais remonts un rekonstrukcija | C58: 118.75 | D58: =E58/100 -> 0.2522 | E58: 25.22
B59: Netiešās izmaksas kopā | C59: =SUM(C36:C58) -> 394.39 | D59: =SUM(D36:D58) -> 1.3874 | E59: =SUM(E36:E58) -> 138.74
B60: Pakalpojumu izmaksas kopā | C60: =C59+C34 -> 1268.44 | E60: =E59+E34 -> 614
A62: Maksas pakalpojuma vienību skaits noteiktā laikposmā | C62: 250 | E62: 100
A63: Maksas pakalpojuma izcenojums (euro) | C63: =(C60/C62) -> 5.07376 | E63: =(E60/E62) -> 6.14
A65: Prognozētais maksas pakalpojumu skaits gadā (gab.)*
A66: Prognozētie ieņēmumi gadā (euro)*
A68: Piezīme. *Ailes neaizpilda, ja izvēlētais laikposms ir viens gads.
A70: Aprēķinu sastādīja: SIVA Finanšu nodaļas finanšu ekonomiste E.Lipiņa

Sheet 4.10.
C1: SASKAŅOTS
C2: Sociālās integrācijas valsts aģentūras
C3: direktore I.Jurševska
C5: 2023. gada 29. martā
A7: Maksas pakalpojuma izcenojuma aprēķins
A9: Sociālās integrācijas valsts aģentūra
A10: Publiskā pakalpojuma veids:
B11: 4. Viesu izmitināšana
B12: 4.10. Dubultu prospektā 59, Jūrmalā viena ēka 20 vietas
A13: Laikposms | B13: 2023.gadā un turpmāk
A15: Izdevumu klasifikācijas kods | B15: Rādītājs (materiāla/izejvielas nosaukums, atlīdzība un citi izmaksu veidi) | C15: Izmaksu apjoms noteiktā laikposmā viena maksas pakalpojuma veida nodrošināšanai
A16: 1 | B16: 2 | C16: 3
B17: Tiešās izmaksas
A18: 1100 | B18: Atalgojums | C18: 217.51
A19: 1200 | B19: Darba devēja valsts sociālās apdrošināšanas obligātās iemaksas, pabalsti un kompensācijas | C19: 51.31
A20: 2210 | B20: Izdevumi par sakaru pakalpojumiem | C20: 8.88
A21: 2222 | B21: Izdevumi par ūdensapgādi un kanalizāciju | C21: 227.8
A22: 2223 | B22: Izdevumi par elektroenerģiju | C22: 244.63
A23: 2243 | B23: Iekārtas, inventāra un aparatūras remonts, tehniskā apkalpošana | C23: 8.17
A24: 2244 | B24: Nekustamā īpašuma uzturēšana | C24: 228.87
A25: 2261 | B25: Ēku, telpu īre un noma
A26: 2263 | B26: Zemes noma | C26: 105.33
A27: 2312 | B27: Inventārs | C27: 22.64
A28: 2321 | B28: Kurināmais | C28: 425.63
A29: 2350 | B29: Iestāžu uzturēšanas materiāli un preces | C29: 18.92
A30: 2361 | B30: Mīkstais inventārs | C30: 15.89
A31: 2513 | B31: Budžeta iestāžu nekustamā īpašuma nodokļa maksājumi | C31: 35.67
A32: 2519 | B32: Pārējie budžeta iestāžu pārskaitītie nodokļi un nodevas | C32: 25.26
B33: Tiešās izmaksas kopā | C33: =SUM(C18:C32) -> 1636.51
B34: Netiešās izmaksas
A35: 1100 | B35: Atalgojums | C35: 191.44
A36: 1200 | B36: Darba devēja valsts sociālās apdrošināšanas obligātās iemaksas, pabalsti un kompensācijas | C36: 45.16
A37: 2210 | B37: Izdevumi par sakaru pakalpojumiem | C37: 3.91
A38: 2224 | B38: Izdevumi par atkritumu savākšanu, izvešanu no apdzīvotām vietām un teritorijām ārpus apdzīvotām vietām un atkritumu utilizāciju | C38: =33.53-20 -> 13.53
A39: 2239 | B39: Pārējie neklasificētie pakalpojumi | C39: 2.29
A40: 2241 | B40: Ēku, būvju un telpu būvdarbi | C40: =1.48+2 -> 3.48
A41: 2242 | B41: Transportlīdzekļu uzturēšana un remonts | C41: 1.86
A42: 2243 | B42: Iekārtas, inventāra un aparatūras remonts, tehniskā apkalpošana | C42: =1.83+5.5 -> 7.33
A43: 2244 | B43: Nekustamā īpašuma uzturēšana | C43: 24.12
A44: 2249 | B44: Pārējie remontdarbu un iestāžu uzturēšanas pakalpojumi | C44: 0.6
A45: 2250 | B45: Informācijas tehnoloģiju pakalpojumi | C45: 8.05
A46: 2262 | B46: Transportlīdzekļu noma | C46: 4.46
A47: 2264 | B47: Iekārtu un inventāra īre un noma | C47: 0.04
A48: 2311 | B48: Biroja preces | C48: =2.43-2 -> 0.43
A49: 2312 | B49: Inventārs | C49: 0
A50: 2322 | B50: Degviela | C50: 6.38
A51: 2350 | B51: Iestāžu uzturēšanas materiāli un preces | C51: 11.3
A53: 2515 | B53: Budžeta iestāžu dabas resursu nodokļa maksājumi | C53: 0.78
A54: 2519 | B54: Pārējie budžeta iestāžu pārskaitītie nodokļi un nodevas | C54: 0.04
A55: 5238 | B55: Datortehnika, sakaru un cita biroja tehnika | C55: 4.29
A56: 5239 | B56: Pārējie iepriekš neklasificētie pamatlīdzekļi un ieguldījuma īpašumi | C56: 29.38
A57: 5250 | B57: Kapitālais remonts un rekonstrukcija | C57: 22.67
B58: Netiešās izmaksas kopā | C58: =SUM(C35:C57) -> 381.54
B59: Pakalpojumu izmaksas kopā | C59: =C33+C58 -> 2018.05
A61: Maksas pakalpojuma vienību skaits noteiktā laikposmā | C61: 5
A62: Maksas pakalpojuma izcenojums (euro) | C62: =C59/C61 -> 403.61
A64: Prognozētais maksas pakalpojumu skaits gadā (gab.)*
A65: Prognozētie ieņēmumi gadā (euro)*
A67: Piezīme. *Ailes neaizpilda, ja izvēlētais laikposms ir viens gads.
A69: Aprēķinu sastādīja: SIVA Finanšu nodaļas finanšu ekonomiste E.Lipiņa

Sheet 4.11.
C1: SASKAŅOTS
C2: Sociālās integrācijas valsts aģentūras
C3: direktore I.Jurševska
C5: 2023. gada 29. martā
A7: Maksas pakalpojuma izcenojuma aprēķins
A9: Sociālās integrācijas valsts aģentūra
A10: Publiskā pakalpojuma veids:
B11: 4. Viesu izmitināšana
B12: 4.11. Dubultu prospektā 59, Jūrmalā viena ēka 34 vietas
A13: Laikposms | B13: 2023.gadā un turpmāk
A15: Izdevumu klasifikācijas kods | B15: Rādītājs (materiāla/izejvielas nosaukums, atlīdzība un citi izmaksu veidi) | C15: Izmaksu apjoms noteiktā laikposmā viena maksas pakalpojuma veida nodrošināšanai
A16: 1 | B16: 2 | C16: 3
B17: Tiešās izmaksas
A18: 1100 | B18: Atalgojums | C18: 369.77
A19: 1200 | B19: Darba devēja valsts sociālās apdrošināšanas obligātās iemaksas, pabalsti un kompensācijas | C19: 87.23
A20: 2210 | B20: Izdevumi par sakaru pakalpojumiem | C20: 15.1
A21: 2222 | B21: Izdevumi par ūdensapgādi un kanalizāciju | C21: 387.26
A22: 2223 | B22: Izdevumi par elektroenerģiju | C22: 415.87
A23: 2243 | B23: Iekārtas, inventāra un aparatūras remonts, tehniskā apkalpošana | C23: 13.89
A24: 2244 | B24: Nekustamā īpašuma uzturēšana | C24: 389.08
A25: 2263 | B25: Zemes noma | C25: 179.06
A26: 2312 | B26: Inventārs | C26: 38.49
A27: 2321 | B27: Kurināmais | C27: 723.57
A28: 2350 | B28: Iestāžu uzturēšanas materiāli un preces | C28: 32.16
A29: 2361 | B29: Mīkstais inventārs | C29: 27.01
... A31: 2519 | B31: Pārējie budžeta iestāžu pārskaitītie nodokļi un nodevas | C31: 42.94
B32: Tiešās izmaksas kopā | C32: =SUM(C18:C31) -> 2782.07
B33: Netiešās izmaksas
A34: 1100 | B34: Atalgojums | C34: 342.07
A35: 1200 | B35: Darba devēja valsts sociālās apdrošināšanas obligātās iemaksas, pabalsti un kompensācijas | C35: 80.7
A36: 2210 | B36: Izdevumi par sakaru pakalpojumiem | C36: =7.28-2 -> 5.28
A37: 2224 | B37: Izdevumi par atkritumu savākšanu, izvešanu no apdzīvotām vietām un teritorijām ārpus apdzīvotām vietām un atkritumu utilizāciju | C37: =57-45-3.02 -> 8.98
A38: 2239 | B38: Pārējie neklasificētie pakalpojumi | C38: 3.65
A39: 2241 | B39: Ēku, būvju un telpu būvdarbi | C39: =0.83+20+10 -> 30.83
A40: 2242 | B40: Transportlīdzekļu uzturēšana un remonts | C40: 2.96
A41: 2243 | B41: Iekārtas, inventāra un aparatūras remonts, tehniskā apkalpošana | C41: 12.91
A42: 2244 | B42: Nekustamā īpašuma uzturēšana | C42: =44.63-1.45 -> 43.18
A43: 2249 | B43: Pārējie remontdarbu un iestāžu uzturēšanas pakalpojumi | C43: 0.71
A44: 2250 | B44: Informācijas tehnoloģiju pakalpojumi | C44: =6.74+0.07+10 -> 16.81
A45: 2262 | B45: Transportlīdzekļu noma | C45: 7.08
A46: 2264 | B46: Iekārtu un inventāra īre un noma | C46: 0.06
A47: 2311 | B47: Biroja preces | C47: 0.88
A48: 2312 | B48: Inventārs | C48: 0
A49: 2322 | B49: Degviela | C49: 18.11
A50: 2350 | B50: Iestāžu uzturēšanas materiāli un preces | C50: 18.32
A51: 2512 | B51: Budžeta iestāžu pievienotās vērtības nodokļa maksājumi | C51: 0
A52: 2515 | B52: Budžeta iestāžu dabas resursu nodokļa maksājumi | C52: 1.25
A53: 2519 | B53: Pārējie budžeta iestāžu pārskaitītie nodokļi un nodevas | C53: 0.05
A54: 5238 | B54: Datortehnika, sakaru un cita biroja tehnika | C54: 9.56
A55: 5239 | B55: Pārējie iepriekš neklasificētie pamatlīdzekļi un ieguldījuma īpašumi | C55: 45.65
A56: 5250 | B56: Kapitālais remonts un rekonstrukcija | C56: 35.74
B57: Netiešās izmaksas kopā | C57: =SUM(C34:C56) -> 684.78
B58: Pakalpojumu izmaksas kopā | C58: =C57+C32 -> 3466.85
A60: Maksas pakalpojuma vienību skaits noteiktā laikposmā | C60: 5
A61: Maksas pakalpojuma izcenojums (euro) | C61: =C58/C60 -> 693.37
A63: Prognozētais maksas pakalpojumu skaits gadā (gab.)*
A64: Prognozētie ieņēmumi gadā (euro)*
A66: Piezīme. *Ailes neaizpilda, ja izvēlētais laikposms ir viens gads.
A68: Aprēķinu sastādīja: SIVA Finanšu nodaļas finanšu ekonomiste E.Lipiņa

Sheet 4.12.
E1: SASKAŅOTS
E2: Sociālās integrācijas valsts aģentūras
E3: direktore I.Jurševska
E5: 2023. gada 29. martā
A7: Maksas pakalpojuma izcenojuma aprēķins
A9: Sociālās integrācijas valsts aģentūra
A10: Publiskā pakalpojuma veids:
B11: 4. Viesu izmitināšana
B12: 4.12. Pavadošās personas izmitināšana Dubultu prospektā 71, Dubultu prospektā 59, Slokas ielā 68, Jūrmalā ar trīsreizējo ēdināšanu (pavada valsts budžeta klientu)
A13: Laikposms | B13: ='4.13.'!B13 -> 2023.gadā un turpmāk
A15: Izdevumu klasifikācijas kods | B15: Rādītājs (materiāla/izejvielas nosaukums, atlīdzība un citi izmaksu veidi) | E15: Izmaksu apjoms noteiktā laikposmā viena maksas pakalpojuma veida nodrošināšanai
A16: 1 | B16: 2 | E16: 3
B17: Tiešās izmaksas
A18: 1100 | B18: Atalgojums | C18: ='[1]7._izmitināšana_GALA mpc'!$AA$6 -> 8.3168717 | E18: 1215.53
A19: 1200 | B19: Darba devēja valsts sociālās apdrošināšanas obligātās iemaksas, pabalsti un kompensācijas | C19: =C18*0.2359 -> 1.96195 | E19: 286.74
A20: 2222 | B20: Izdevumi par ūdensapgādi un kanalizāciju | C20: ='[1]7._izmitināšana_GALA mpc'!$AA$8 -> 0.2721967 | E20: 34.82
A21: 2223 | B21: Izdevumi par elektroenerģiju | C21: ='[1]7._izmitināšana_GALA mpc'!$AA$9 -> 0.54961558 | E21: 69.75
A22: 2243 | B22: Iekārtas, inventāra un aparatūras remonts, tehniskā apkalpošana | C22: ='[1]7._izmitināšana_GALA mpc'!$AA$11 -> 0.048118148 | E22: 6.21
A23: 2244 | B23: Nekustamā īpašuma uzturēšana | C23: ='[1]7._izmitināšana_GALA mpc'!$AA$12 -> 0.65797593 | E23: 83.69
A24: 2311 | B24: Biroja preces | C24: ='[1]7._izmitināšana_GALA mpc'!$AA$14 -> 0.30557164 | E24: 38.51
A25: 2312 | B25: Inventārs | C25: ='[1]7._izmitināšana_GALA mpc'!$AA$15 -> 0.36158859 | E25: 46.57
A26: 2321 | B26: Kurināmais | C26: ='[1]7._izmitināšana_GALA mpc'!$AA$16 -> 0.38585281 | E26: 49.09
A27: 2350 | B27: Iestāžu uzturēšanas materiāli un preces | C27: ='[1]7._izmitināšana_GALA mpc'!$AA$17 -> 0.1870137 | E27: 23.98
A28: 2361 | B28: Mīkstais inventārs | C28: ='[1]7._izmitināšana_GALA mpc'!$AA$18 -> 0.054458313 | E28: 6.86
A29: 2362 | B29: Virtuves inventārs, trauki un galda piederumi | C29: ='[1]7._izmitināšana_GALA mpc'!$AA$19 -> 0.048496534 | E29: 6.33
A30: 2363 | B30: Ēdināšanas izdevumi | C30: 5.58 | E30: =5.58*130 -> 725.4
A31: 5239 | B31: Pārējie iepriekš neklasificētie pamatlīdzekļi un ieguldījuma īpašumi | C31: ='[1]7._izmitināšana_GALA mpc'!$AA$21 -> 0.45337909 | E31: 58.02
B32: Tiešās izmaksas kopā | C32: =SUM(C18:C31) -> 19.183089 | E32: =SUM(E18:E30) -> 2593.48
B33: Netiešās izmaksas
A34: 1100 | B34: Atalgojums | D34: 0.4855 | E34: 608.82
A35: 1200 | B35: Darba devēja valsts sociālās apdrošināšanas obligātās iemaksas, pabalsti un kompensācijas | D35: =D34*0.2359 -> 0.11452945 | E35: 143.62
A36: 2100 | B36: Mācību, darba un dienesta komandējumi, dienesta, darba braucieni | D36: 0.001166 | E36: 1.46
A37: 2210 | B37: Izdevumi par sakaru pakalpojumiem | D37: 0.0076 | E37: 9.53
A38: 2222 | B38: Izdevumi par ūdensapgādi un kanalizāciju | D38: =0.0095*1.15 -> 0.010925 | E38: 13.7
A39: 2223 | B39: Izdevumi par elektroenerģiju | D39: =0.01902*2.13 -> 0.0405126 | E39: 50.8
A40: 2224 | B40: Izdevumi par atkritumu savākšanu, izvešanu no apdzīvotām vietām un teritorijām ārpus apdzīvotām vietām un atkritumu utilizāciju | D40: =0.00495*1.15 -> 0.0056925 | E40: 7.14
A41: 2231 | B41: Izdevumi iestādes sabiedrisko aktivitāšu īstenošanai | D41: 0.00155 | E41: 1.94
A42: 2235 | B42: Izdevumi par saņemtajiem mācību pakalpojumiem | D42: 0.00165 | E42: 2.07
A43: 2239 | B43: Pārējie neklasificētie pakalpojumi | D43: 0.00441 | E43: 5.53
A44: 2241 | B44: Ēku, būvju un telpu būvdarbi | D44: 0.0165 | E44: =20.69+0.33 -> 21.02
A45: 2242 | B45: Transportlīdzekļu uzturēšana un remonts | D45: 0.00226 | E45: 2.83
A46: 2243 | B46: Iekārtas, inventāra un aparatūras remonts, tehniskā apkalpošana | D46: 0.0326 | E46: 40.88
A47: 2244 | B47: Nekustamā īpašuma uzturēšana | D47: =0.20397-0.09084 -> 0.11313 | E47: 141.87
A48: 2247 | B48: Apdrošināšanas izdevumi | D48: 0.000719 | E48: 0.9
A49: 2249 | B49: Pārējie remontdarbu un iestāžu uzturēšanas pakalpojumi | D49: 0.000232 | E49: 0.29
A50: 2250 | B50: Informācijas tehnoloģiju pakalpojumi | D50: =0.024026-0.005 -> 0.019026 | E50: 23.86
A51: 2261 | B51: Ēku, telpu īre un noma | D51: 0 | E51: =1254*D51 -> 0
A52: 2262 | B52: Transportlīdzekļu noma | D52: 0.00626 | E52: 7.85
A53: 2263 | B53: Zemes noma | D53: 0.0458 | E53: 57.43
A54: 2264 | B54: Iekārtu, aparatūras un inventāra īre un noma | D54: 0.00149 | E54: 1.87
A55: 2311 | B55: Biroja preces | D55: 0.00477 | E55: 5.98
A56: 2312 | B56: Inventārs | D56: 0.00579 | E56: 7.26
A57: 2314 | B57: Izdevumi par precēm iestādes sabiedrisko aktivitāšu īstenošanai | D57: 0.00222 | E57: 2.78
A58: 2321 | B58: Kurināmais | D58: =0.0198*1.2+0.005 -> 0.02876 | E58: 36.07
A59: 2322 | B59: Degviela | D59: =0.0035*1.2 -> 0.0042 | E59: =5.27+0.2 -> 5.47
A60: 2341 | B60: Zāles, ķimikālijas, laboratorijas preces | E60: =1254*D60 -> 0
A61: 2350 | B61: Iestāžu uzturēšanas materiāli un preces | D61: 0.0085 | E61: 10.66
A62: 2512 | B62: Budžeta iestāžu pievienotās vērtības nodokļa maksājumi | D62: 0 | E62: =1254*D62 -> 0
A63: 2513 | B63: Budžeta iestāžu nekustamā īpašuma nodokļa maksājumi | D63: 0.00146 | E63: 1.83
A64: 2515 | B64: Budžeta iestāžu dabas resursu nodokļa maksājumi | D64: 0.0019 | E64: 2.38
A65: 2519 | B65: Pārējie budžeta iestāžu pārskaitītie nodokļi un nodevas | D65: 0.002 | E65: 2.51
A66: 5220 | B66: Tehnoloģiskās iekārtas un mašīnas | D66: 0.0106 | E66: 13.29
A67: 5238 | B67: Datortehnika, sakaru un cita biroja tehnika | D67: 0.00165 | E67: 2.07
A68: 5239 | B68: Pārējie iepriekš neklasificētie pamatlīdzekļi un ieguldījuma īpašumi | D68: 0.00954 | E68: 11.96
A69: 5250 | B69: Kapitālais remonts un rekonstrukcija | D69: 0.00706 | E69: 8.85
B70: Netiešās izmaksas kopā | E70: =SUM(E34:E69) -> 1254.52
B71: Pakalpojumu izmaksas kopā | E71: =E70+E32 -> 3848
A73: Maksas pakalpojuma vienību skaits noteiktā laikposmā (gab.) | E73: 130
A74: Maksas pakalpojuma izcenojums (euro) | E74: =E71/E73 -> 29.6
A76: Prognozētais maksas pakalpojumu skaits gadā (gab.)*
A77: Prognozētie ieņēmumi gadā (euro)*
A79: Piezīme. *Ailes neaizpilda, ja izvēlētais laikposms ir viens gads.
A81: Aprēķinu sastādīja: SIVA Finanšu nodaļas finanšu ekonomiste E.Lipiņa

Sheet 4.13.
C1: SASKAŅOTS
C2: Sociālās integrācijas valsts aģentūras
C3: direktore I.Jurševska
C5: 2023. gada 29. martā
A7: Maksas pakalpojuma izcenojuma aprēķins
A9: Sociālās integrācijas valsts aģentūra
A10: Publiskā pakalpojuma veids:
B11: 4. Viesu izmitināšana
B12: 4.13. Slokas ielā 68, Jūrmalā, 1 diennakts
A13: Laikposms | B13: 2023.gadā un turpmāk
A14: Izdevumu klasifikācijas kods | B14: Rādītājs (materiāla/izejvielas nosaukums, atlīdzība un citi izmaksu veidi) | C14: Izmaksu apjoms noteiktā laikposmā viena maksas pakalpojuma veida nodrošināšanai
A15: 1 | B15: 2 | C15: 3
B16: Tiešās izmaksas
A17: 1100 | B17: Atalgojums | C17: 15.4
A18: 1200 | B18: Darba devēja valsts sociālās apdrošināšanas obligātās iemaksas, pabalsti un kompensācijas | C18: 3.63
A19: 2210 | B19: Izdevumi par sakaru pakalpojumiem | C19: 0.62
A20: 2222 | B20: Izdevumi par ūdensapgādi un kanalizāciju | C20: 13.29
A21: 2223 | B21: Izdevumi par elektroenerģiju | C21: 21.21
A22: 2230 | B22: Iestādes administratīvie izdevumi un ar iestādes darbības nodrošināšanu saistītie izdevumi
A23: 2243 | B23: Iekārtas, inventāra un aparatūras remonts, tehniskā apkalpošana | C23: 0.51
A24: 2244 | B24: Nekustamā īpašuma uzturēšana | C24: 9.86
A25: 2312 | B25: Inventārs | C25: 4.01
A26: 2321 | B26: Kurināmais | C26: 26.7
A27: 2350 | B27: Iestāžu uzturēšanas materiāli un preces | C27: 1.3
A28: 2361 | B28: Mīkstais inventārs | C28: 2.53
A29: 2513 | B29: Budžeta iestāžu nekustamā īpašuma nodokļa maksājumi | C29: 2.22
B30: Tiešās izmaksas kopā | C30: =SUM(C17:C29) -> 101.28
B31: Netiešās izmaksas
A32: 1100 | B32: Atalgojums | C32: 12.12
A33: 1200 | B33: Darba devēja valsts sociālās apdrošināšanas obligātās iemaksas, pabalsti un kompensācijas | C33: 2.86
A34: 2210 | B34: Izdevumi par sakaru pakalpojumiem | C34: 0.32
A35: 2222 | B35: Izdevumi par ūdensapgādi un kanalizāciju
A36: 2223 | B36: Izdevumi par elektroenerģiju
A37: 2231 | B37: Izdevumi iestādes sabiedrisko aktivitāšu īstenošanai | C37: 0.17
A38: 2239 | B38: Pārējie neklasificētie pakalpojumi | C38: 0.03
A39: 2241 | B39: Ēku, būvju un telpu būvdarbi | C39: 0.03
A40: 2242 | B40: Transportlīdzekļu uzturēšana un remonts | C40: 0.12
A41: 2243 | B41: Iekārtas, inventāra un aparatūras remonts, tehniskā apkalpošana | C41: 0.12
A42: 2244 | B42: Nekustamā īpašuma uzturēšana | C42: =0.24+0.62+1.5 -> 2.36
A43: 2249 | B43: Pārējie remontdarbu un iestāžu uzturēšanas pakalpojumi | C43: =2.08-1.5 -> 0.58
A44: 2250 | B44: Informācijas tehnoloģiju pakalpojumi | C44: 1.26
A45: 2262 | B45: Transportlīdzekļu noma | C45: 0.28
A46: 2263 | B46: Zemes noma
A47: 2264 | B47: Iekārtu un inventāra īre un noma | C47: 0.02
A48: 2311 | B48: Biroja preces | C48: 0.19
A49: 2312 | B49: Inventārs | C49: 0
A50: 2321 | B50: Kurināmais
A51: 2322 | B51: Degviela | C51: 0.71
A52: 2350 | B52: Iestāžu uzturēšanas materiāli un preces | C52: 0.72
A53: 2512 | B53: Budžeta iestāžu pievienotās vērtības nodokļa maksājumi | C53: 0
A54: 2513 | B54: Budžeta iestāžu nekustamā īpašuma nodokļa maksājumi
A55: 2515 | B55: Budžeta iestāžu dabas resursu nodokļa maksājumi | C55: 0.05
A56: 2519 | B56: Pārējie budžeta iestāžu pārskaitītie nodokļi un nodevas | C56: 1.4
A57: 5238 | B57: Datortehnika, sakaru un cita biroja tehnika | C57: 0.85
A58: 5239 | B58: Pārējie iepriekš neklasificētie pamatlīdzekļi un ieguldījuma īpašumi | C58: 2.51
A59: 5250 | B59: Kapitālais remonts un rekonstrukcija | C59: 2.22
B60: Netiešās izmaksas kopā | C60: =SUM(C32:C59) -> 28.92
B61: Pakalpojumu izmaksas kopā | C61: =C60+C30 -> 130.2
A63: Maksas pakalpojuma vienību skaits noteiktā laikposmā | C63: 10
A64: Maksas pakalpojuma izcenojums (euro) | C64: =C61/C63 -> 13.02
A66: Prognozētais maksas pakalpojumu skaits gadā (gab.)*
A67: Prognozētie ieņēmumi gadā (euro)*
A69: Piezīme. *Ailes neaizpilda, ja izvēlētais laikposms ir viens gads.
A71: Aprēķinu sastādīja: SIVA Finanšu nodaļas finanšu ekonomiste E.Lipiņa
