Workbook

Sheet Saturs
C1: 1.pielikums
B2: Ministru kabineta noteikumu projekta "Grozījumi Ministru kabineta
A3: 2013.gada 24.septembra noteikumos Nr.1002 "Sociālās
B4: integrācijas valstas aģentūras sniegto maksas pakalpojumu cenrādis""
F5: sākotnējās ietekmes novērtējuma ziņojumam (anotācijai)
B11: Satura rādītājs
B13: 1.1. | C13: Profesionālās pilnveides un tālākizglītības programmas, 480 stundu programma
B14: 1.2. | C14: Profesionālās pilnveides un tālākizglītības programmas, 570 stundu programma
B15: 1.3. | C15: Profesionālās pilnveides un tālākizglītības programmas, 640 stundu programma
B16: 1.4. | C16: Profesionālās pilnveides un tālākizglītības programmas, 960 stundu programma
B17: 1.5. | C17: Profesionālās pilnveides un tālākizglītības programmas, 720 stundu programma
B18: 2.1. | C18: Profesionālās pamatizglītības programmas, arodizglītības programmas un profesionālās vidējās izglītības programmas, Ēdināšanas pakalpojumi
B19: 2.2. | C19: Profesionālās pamatizglītības programmas, arodizglītības programmas un profesionālās vidējās izglītības programmas, Datorsistēmas
B20: 2.3. | C20: Profesionālās pamatizglītības programmas, arodizglītības programmas un profesionālās vidējās izglītības programmas, Datoru lietošana
B21: 2.4. | C21: Profesionālās pamatizglītības programmas, arodizglītības programmas un profesionālās vidējās izglītības programmas, Šūto izstrādājumu ražošanas tehnoloģija
B22: 2.5. | C22: Profesionālās pamatizglītības programmas, arodizglītības programmas un profesionālās vidējās izglītības programmas, Elektronika un elektrotehnika
B23: 2.6. | C23: Profesionālās pamatizglītības programmas, arodizglītības programmas un profesionālās vidējās izglītības programmas, Metālapstrāde
B24: 3.1.1. | C24: Pirmā līmeņa profesionālās augstākās izglītības (koledžas izglītības) programmas, Studiju programmas pilna laika studijām, Studiju virzienu "Ekonomika" un "Vadība, administrēšana un nekustamo īpašumu pārvaldība" studiju programmas
... B29: 3.2.3. | C29: Pirmā līmeņa profesionālās augstākās izglītības (koledžas izglītības) programmas, Studiju programmas nepilna laika studijām, Studiju virziena "Viesnīcu un restorānu serviss, tūrisma un atpūtas organizācija" studiju programmas

Sheet Satura rādītājs
F1: 7.pielikums
F2: Ministru kabineta notiekumu projekta "Grozījumi Ministru kabineta
F3: 24.09.2013. notiekumos Nr.1002 "Sociālās integrācijas
F4: valsts aģentūras sniegto maksas pakalpojumu cenrādis"
F5: sākotnējās ietekmes novērtējuma ziņojumam (anotācijai)
C12: Satura rādītājs
B14: 6.1.1. | C14: Kabineta vai auditorijas noma, 1 stunda
B15: 6.1.2. | C15: Kabineta vai auditorijas noma, 1 diena (līdz 12 stundām)
B16: 6.1.3. | C16: Konferenču zāles noma Slokas ielā 61/3, Jūrmalā (135.7m2), 1 stunda
B17: 6.1.4. | C17: Konferenču zāles noma Slokas ielā 61/3, Jūrmalā (135.7m2), 1 diena (līdz 12 stundām)
B18: 6.1.5. | C18: Konferenču zāles noma Slokas ielā 68, Jūrmalā (126.4m2), 1 stunda
B19: 6.2. | C19: Sporta zāles noma Jūrmalā, Slokas ielā 61, 2.korpuss 1 stunda
B20: 6.3. | C20: Tirdzniecības vietas noma (26.1m2) Jūrmalā, Dubultu prospektā 71, 1 diena (līdz 12 stundām)
B21: 6.4. | C21: Baseina noma , 1 stunda
B22: 6.5. | C22: Baseina noma ar tvaika pirti , 1 stunda

Sheet 1.1.
B1: SASKAŅOTS
B2: Sociālās integrācijas valsts aģentūras
B3: direktores p.i. G.Apele
C5: 2020.gada 07.aprīlī
A7: Maksas pakalpojuma izcenojuma aprēķins
A9: Sociālās integrācijas valsts aģentūra
A10: Publiskā pakalpojuma veids:
B11: 1. Profesionālās pilnveides izglītības programmas un profesionālās tālākizglītības programmas
B12: 1.1. 684 stundu programma
A13: Laikposms | B13: 2019.gadā un turpmāk
A14: Izdevumu klasifikācijas kods | B14: Rādītājs (materiāla/izejvielas nosaukums, atlīdzība un citi izmaksu veidi) | C14: Izmaksu apjoms noteiktā laikposmā viena maksas pakalpojuma veida nodrošināšanai
A15: 1 | B15: 2 | C15: 3
B16: Tiešās izmaksas
A17: 1100 | B17: Atalgojums | C17: 2250.2
A18: 1200 | B18: Darba devēja valsts sociālās apdrošināšanas obligātās iemaksas, sociāla rakstura pabalsti un kompensācijas | C18: 542.07
A19: 2210 | B19: Pasta, telefona un citu sakaru pakalpojumi | C19: 0
A20: 2222 | B20: Izdevumi par ūdeni un kanalizāciju | C20: 23.69
A21: 2223 | B21: Izdevumi par elektroenerģiju | C21: 37.53
A22: 2243 | B22: Iekārtas, inventāra un aparatūras remonts, tehniskā apkalpošana | C22: 52.79
A23: 2251 | B23: Informācijas sistēmas uzturēšana | C23: 44.89
A24: 2261 | B24: Ēku, telpu īre un noma
A25: 2279 | B25: Pārējie iepriekš neklasificētie pakalpojumu veidi | C25: 0
A26: 2311 | B26: Biroja preces | C26: 44.79
A27: 2312 | B27: Inventārs | C27: 71.07
A28: 2321 | B28: Kurināmais | C28: 53.85
A29: 2350 | B29: Kārtējā remonta un iestāžu uzturēšanas materiāli
A30: 2361 | B30: Mīkstais inventārs
A31: 2370 | B31: Mācību līdzekļi un materiāli | C31: 104.52
A32: 2513 | B32: Budžeta iestāžu nekustamā īpašuma nodokļa (t.sk. zemes nodokļa parāda) maksājumi budžetā
A33: 5230 | B33: Pārējie pamatlīdzekļi | C33: 134.67
B34: Tiešās izmaksas kopā | C34: =SUM(C17:C33) -> 3360.07
B35: Netiešās izmaksas
A36: 1100 | B36: Atalgojums | C36: 335.06
A37: 1200 | B37: Darba devēja valsts sociālās apdrošināšanas obligātās iemaksas, sociāla rakstura pabalsti un kompensācijas | C37: 80.71
A38: 2210 | B38: Pasta, telefona un citu sakaru pakalpojumi | C38: 16
A39: 2230 | B39: Iestādes administratīvie izdevumi un ar iestādes darbības nodrošināšanu saistītie izdevumi | C39: 16.2
A40: 2241 | B40: Ēku, būvju un telpu kārtējais remonts | C40: 22.19
A41: 2242 | B41: Transportlīdzekļu uzturēšana un remonts | C41: 14.23
A42: 2243 | B42: Iekārtas, inventāra un aparatūras remonts, tehniskā apkalpošana | C42: 23.37
A43: 2244 | B43: Ēku, būvju un telpu uzturēšana | C43: 112.52
...

Sheet 1.2.
B1: SASKAŅOTS
B2: Sociālās integrācijas valsts aģentūras
B3: direktores p.i. G.Apele
F5: 2019. gada 15.martā
A7: Maksas pakalpojuma izcenojuma aprēķins
A9: Sociālās integrācijas valsts aģentūra
A10: Publiskā pakalpojuma veids:
B11: 1. Profesionālās pilnveides izglītības programmas un profesionālās tālākizglītības programmas
B12: 1.2. 570 stundu programma
A13: Laikposms | B13: 2019.gadā un turpmāk
A14: Izdevumu klasifikācijas kods | B14: Rādītājs (materiāla/izejvielas nosaukums, atlīdzība un citi izmaksu veidi) | C14: Izmaksu apjoms noteiktā laikposmā viena maksas pakalpojuma veida nodrošināšanai (2014) | D14: Izmaksu apjoms noteiktā laikposmā viena maksas pakalpojuma veida nodrošināšanai (2014.gada) | E14: Izmaksu apjoms noteiktā laikposmā viena maksas pakalpojuma veida nodrošināšanai (2014.gada II.pusgads) | F14: Izmaksu apjoms noteiktā laikposmā viena maksas pakalpojuma veida nodrošināšanai
A15: 1 | B15: 2 | C15: 3 | D15: 3 | E15: 4 | F15: 3
B16: Tiešās izmaksas
A17: 1100 | B17: Atalgojums | C17: 1197.23 | D17: 0 | E17: 3074.97 | F17: 2455.6
A18: 1200 | B18: Darba devēja valsts sociālās apdrošināšanas obligātās iemaksas, sociāla rakstura pabalsti un kompensācijas | C18: 282.43 | D18: 0 | E18: 725.39 | F18: 591.55
A19: 2210 | B19: Pasta, telefona un citu sakaru pakalpojumi | C19: 8.82 | F19: 0
A20: 2222 | B20: Izdevumi par ūdeni un kanalizāciju | C20: 24.08 | D20: 0 | E20: =ROUND(C20/2,2) -> 12.04 | F20: 15.21
A21: 2223 | B21: Izdevumi par elektroenerģiju | C21: 28.15 | D21: 0 | E21: =ROUND(C21/2,2) -> 14.08 | F21: 109.52
A22: 2243 | B22: Iekārtas, inventāra un aparatūras remonts, tehniskā apkalpošana | C22: 6.3 | D22: 0 | E22: =ROUND(C22/2,2) -> 3.15 | F22: 42.65
A23: 2251 | B23: Informācijas sistēmas uzturēšana | C23: 26.6 | F23: 0
A24: 2261 | B24: Ēku, telpu īre un noma
A25: 2279 | B25: Pārējie iepriekš neklasificētie pakalpojumu veidi | C25: 25.19 | F25: 0
A26: 2311 | B26: Biroja preces | C26: 25.84 | F26: 203.58
A27: 2312 | B27: Inventārs | C27: 25.75 | F27: 471.03
A28: 2321 | B28: Kurināmais | C28: 28.89 | D28: 0 | E28: =ROUND(C28/2,2) -> 14.45 | F28: 157.13
A29: 2350 | B29: Kārtējā remonta un iestāžu uzturēšanas materiāli | D29: 0 | E29: =ROUND(C29/2,2) -> 0
A30: 2361 | B30: Mīkstais inventārs
A31: 2370 | B31: Mācību līdzekļi un materiāli | C31: 140.5 | F31: 475.02
A32: 2513 | B32: Budžeta iestāžu nekustamā īpašuma nodokļa (t.sk. zemes nodokļa parāda) maksājumi budžetā
A33: 5230 | B33: Pārējie pamatlīdzekļi | C33: 0 | D33: 0 | E33: =ROUND(C33/2,2) -> 0 | F33: 332.85
B34: Tiešās izmaksas kopā | C34: =SUM(C17:C33) -> 1819.78 | D34: =SUM(D17:D33) -> 0 | E34: =SUM(E17:E33) -> 3844.08 | F34: =SUM(F17:F33) -> 4854.14
B35: Netiešās izmaksas
A36: 1100 | B36: Atalgojums | C36: 454.77 | D36: 0 | E36: =ROUND(C36/2,2) -> 227.39 | F36: 366.22
A37: 1200 | B37: Darba devēja valsts sociālās apdrošināšanas obligātās iemaksas, sociāla rakstura pabalsti un kompensācijas | C37: 109.15 | D37: 0 | E37: =ROUND(C37/2,2) -> 54.58 | F37: 88.22
A38: 2210 | B38: Pasta, telefona un citu sakaru pakalpojumi | C38: 10.84 | D38: 0 | E38: =ROUND(C38/2,2) -> 5.42 | F38: 8.74
A39: 2230 | B39: Iestādes administratīvie izdevumi un ar iestādes darbības nodrošināšanu saistītie izdevumi | C39: 11 | D39: 0 | E39: =ROUND(C39/2,2) -> 5.5 | F39: 20.41
A40: 2241 | B40: Ēku, būvju un telpu kārtējais remonts | C40: 15.05 | D40: 0 | E40: =ROUND(C40/2,2) -> 7.53 | F40: 40.98
A41: 2242 | B41: Transportlīdzekļu uzturēšana un remonts | C41: 13.64 | D41: 0 | E41: =ROUND(C41/2,2) -> 6.82 | F41: 10.99
A42: 2243 | B42: Iekārtas, inventāra un aparatūras remonts, tehniskā apkalpošana | C42: 15.85 | D42: 0 | E42: =ROUND(C42/2,2) -> 7.93 | F42: 112.77
A43: 2244 | B43: Ēku, būvju un telpu uzturēšana | F43: 144.45
...

Sheet 1.3.(N)
B1: SASKAŅOTS
B2: Sociālās integrācijas valsts aģentūras
B3: direktore I.Jurševska
F5: ='1.2.'!F5 -> 2019. gada 15.martā
A7: Maksas pakalpojuma izcenojuma aprēķins
A9: Sociālās integrācijas valsts aģentūra
A10: Publiskā pakalpojuma veids:
B11: 1. Profesionālās pilnveides izglītības programmas un profesionālās tālākizglītības programmas
B12: 1.3. 640 stundu programma
A13: Laikposms | B13: ='1.2.'!B13 -> 2019.gadā un turpmāk
A14: Izdevumu klasifikācijas kods | B14: Rādītājs (materiāla/izejvielas nosaukums, atlīdzība un citi izmaksu veidi) | C14: Izmaksu apjoms noteiktā laikposmā viena maksas pakalpojuma veida nodrošināšanai (2014) | D14: Izmaksu apjoms noteiktā laikposmā viena maksas pakalpojuma veida nodrošināšanai (2014.gada) | E14: Izmaksu apjoms noteiktā laikposmā viena maksas pakalpojuma veida nodrošināšanai (2014.gada II.pusgads) | F14: Izmaksu apjoms noteiktā laikposmā viena maksas pakalpojuma veida nodrošināšanai
A15: 1 | B15: 2 | C15: 3 | D15: 3 | E15: 4 | F15: 3
B16: Tiešās izmaksas
A17: 1100 | B17: Atalgojums | C17: 5789.22 | D17: 0 | E17: 3074.97 | F17: 1998.58
A18: 1200 | B18: Darba devēja valsts sociālās apdrošināšanas obligātās iemaksas, sociāla rakstura pabalsti un kompensācijas | C18: 1365.67 | D18: 0 | E18: 725.39 | F18: 481.46
A19: 2210 | B19: Pasta, telefona un citu sakaru pakalpojumi | F19: 15.17
A20: 2222 | B20: Izdevumi par ūdeni un kanalizāciju | C20: 516.82 | D20: 0 | E20: =ROUND(C20/2,2) -> 258.41 | F20: 78.62
A21: 2223 | B21: Izdevumi par elektroenerģiju | C21: 175.44 | D21: 0 | E21: =ROUND(C21/2,2) -> 87.72 | F21: 124.78
A22: 2243 | B22: Iekārtas, inventāra un aparatūras remonts, tehniskā apkalpošana | C22: 125.47 | D22: 0 | E22: =ROUND(C22/2,2) -> 62.74 | F22: 11.37
A23: 2244 | B23: Ēku, būvju un telpu uzturēšana | F23: 85.2
A24: 2251 | B24: Informācijas sistēmas uzturēšana | F24: 41.7
A25: 2261 | B25: Ēku, telpu īre un noma
A26: 2279 | B26: Pārējie iepriekš neklasificētie pakalpojumu veidi | F26: 17.69
A27: 2311 | B27: Biroja preces | F27: 21.48
A28: 2312 | B28: Inventārs | F28: 8.85
A29: 2321 | B29: Kurināmais | C29: 241.21 | D29: 0 | E29: =ROUND(C29/2,2) -> 120.61 | F29: 128.08
A30: 2350 | B30: Kārtējā remonta un iestāžu uzturēšanas materiāli | C30: 35.27 | D30: 0 | E30: =ROUND(C30/2,2) -> 17.64 | F30: 18.96
A31: 2361 | B31: Mīkstais inventārs
A32: 2370 | B32: Mācību līdzekļi un materiāli | F32: 136.95
A33: 2513 | B33: Budžeta iestāžu nekustamā īpašuma nodokļa (t.sk. zemes nodokļa parāda) maksājumi budžetā
A34: 5230 | B34: Pārējie pamatlīdzekļi | C34: 1.8 | D34: 0 | E34: =ROUND(C34/2,2) -> 0.9 | F34: 40.06
B35: Tiešās izmaksas kopā | C35: =SUM(C17:C34) -> 8250.9 | D35: =SUM(D17:D34) -> 0 | E35: =SUM(E17:E34) -> 4348.38 | F35: =SUM(F17:F34) -> 3208.95
B36: Netiešās izmaksas
A37: 1100 | B37: Atalgojums | C37: 4429 | D37: 0 | E37: =ROUND(C37/2,2) -> 2214.5 | F37: 690.72
A38: 1200 | B38: Darba devēja valsts sociālās apdrošināšanas obligātās iemaksas, sociāla rakstura pabalsti un kompensācijas | C38: 1044.8 | D38: 0 | E38: =ROUND(C38/2,2) -> 522.4 | F38: 166.39
A39: 2210 | B39: Pasta, telefona un citu sakaru pakalpojumi | C39: 93.67 | D39: 0 | E39: =ROUND(C39/2,2) -> 46.84 | F39: 6.76
A40: 2230 | B40: Iestādes administratīvie izdevumi un ar iestādes darbības nodrošināšanu saistītie izdevumi | C40: 72.35 | D40: 0 | E40: =ROUND(C40/2,2) -> 36.18 | F40: 4.55
A41: 2241 | B41: Ēku, būvju un telpu kārtējais remonts | C41: 0.1 | D41: 0 | E41: =ROUND(C41/2,2) -> 0.05 | F41: 0.86
A42: 2242 | B42: Transportlīdzekļu uzturēšana un remonts | C42: 21.56 | D42: 0 | E42: =ROUND(C42/2,2) -> 10.78 | F42: 3.13
A43: 2243 | B43: Iekārtas, inventāra un aparatūras remonts, tehniskā apkalpošana | C43: 68.84 | D43: 0 | E43: =ROUND(C43/2,2) -> 34.42 | F43: 3.63
...

Sheet 1.3.
B1: SASKAŅOTS
B2: Sociālās integrācijas valsts aģentūras
B3: direktores p.i. G.Apele
F5: ='1.1.'!C5 -> 2020.gada 07.aprīlī
A7: Maksas pakalpojuma izcenojuma aprēķins
A9: Sociālās integrācijas valsts aģentūra
A10: Publiskā pakalpojuma veids:
B11: ='1.5.'!B11 -> 1. Profesionālās pilnveides izglītības programmas un profesionālās tālākizglītības programmas
B12: 1.3. 1040 stundu programma
A13: Laikposms | B13: ='1.1.'!B13 -> 2019.gadā un turpmāk
A14: Izdevumu klasifikācijas kods | B14: Rādītājs (materiāla/izejvielas nosaukums, atlīdzība un citi izmaksu veidi) | C14: Izmaksu apjoms noteiktā laikposmā viena maksas pakalpojuma veida nodrošināšanai (2014) | D14: Izmaksu apjoms noteiktā laikposmā viena maksas pakalpojuma veida nodrošināšanai (2014.gada) | E14: Izmaksu apjoms noteiktā laikposmā viena maksas pakalpojuma veida nodrošināšanai (2014.gada II.pusgads) | F14: Izmaksu apjoms noteiktā laikposmā viena maksas pakalpojuma veida nodrošināšanai
A15: 1 | B15: 2 | C15: 3 | D15: 3 | E15: 4 | F15: 3
B16: Tiešās izmaksas
A17: 1100 | B17: Atalgojums | C17: 5789.22 | D17: 0 | E17: 3074.97 | F17: =711.61*5 -> 3558.05
A18: 1200 | B18: Darba devēja valsts sociālās apdrošināšanas obligātās iemaksas, sociāla rakstura pabalsti un kompensācijas | C18: 1365.67 | D18: 0 | E18: 725.39 | F18: =171.43*5 -> 857.15
A19: 2210 | B19: Pasta, telefona un citu sakaru pakalpojumi
A20: 2222 | B20: Izdevumi par ūdeni un kanalizāciju | C20: 516.82 | D20: 0 | E20: =ROUND(C20/2,2) -> 258.41 | F20: =5.55*5 -> 27.75
A21: 2223 | B21: Izdevumi par elektroenerģiju | C21: 175.44 | D21: 0 | E21: =ROUND(C21/2,2) -> 87.72 | F21: =25.56*5 -> 127.8
A22: 2243 | B22: Iekārtas, inventāra un aparatūras remonts, tehniskā apkalpošana | C22: 125.47 | D22: 0 | E22: =ROUND(C22/2,2) -> 62.74 | F22: =76.28*5 -> 381.4
A23: 2244 | B23: Ēku, būvju un telpu uzturēšana | F23: =52.71*5 -> 263.55
A24: 2251 | B24: Informācijas sistēmas uzturēšana
A25: 2261 | B25: Ēku, telpu īre un noma
A26: 2279 | B26: Pārējie iepriekš neklasificētie pakalpojumu veidi
A27: 2311 | B27: Biroja preces | F27: =7.8*5 -> 39
A28: 2312 | B28: Inventārs | F28: =46.26*5 -> 231.3
A29: 2321 | B29: Kurināmais | C29: 241.21 | D29: 0 | E29: =ROUND(C29/2,2) -> 120.61 | F29: =28.65*5 -> 143.25
A30: 2350 | B30: Kārtējā remonta un iestāžu uzturēšanas materiāli | C30: 35.27 | D30: 0 | E30: =ROUND(C30/2,2) -> 17.64 | F30: =50.85*5 -> 254.25
A31: 2361 | B31: Mīkstais inventārs | F31: 0
A32: 2370 | B32: Mācību līdzekļi un materiāli | F32: =31.21*5 -> 156.05
A33: 2513 | B33: Budžeta iestāžu nekustamā īpašuma nodokļa (t.sk. zemes nodokļa parāda) maksājumi budžetā
A34: 5230 | B34: Pārējie pamatlīdzekļi | C34: 1.8 | D34: 0 | E34: =ROUND(C34/2,2) -> 0.9 | F34: =127.13*5 -> 635.65
B35: Tiešās izmaksas kopā | C35: =SUM(C17:C34) -> 8250.9 | D35: =SUM(D17:D34) -> 0 | E35: =SUM(E17:E34) -> 4348.38 | F35: =SUM(F17:F34) -> 6675.2
B36: Netiešās izmaksas
A37: 1100 | B37: Atalgojums | C37: 4429 | D37: 0 | E37: =ROUND(C37/2,2) -> 2214.5 | F37: =236.92*5 -> 1184.6
A38: 1200 | B38: Darba devēja valsts sociālās apdrošināšanas obligātās iemaksas, sociāla rakstura pabalsti un kompensācijas | C38: 1044.8 | D38: 0 | E38: =ROUND(C38/2,2) -> 522.4 | F38: =57.07*5 -> 285.35
A39: 2210 | B39: Pasta, telefona un citu sakaru pakalpojumi | C39: 93.67 | D39: 0 | E39: =ROUND(C39/2,2) -> 46.84 | F39: =7.93*5 -> 39.65
A40: 2230 | B40: Iestādes administratīvie izdevumi un ar iestādes darbības nodrošināšanu saistītie izdevumi | C40: 72.35 | D40: 0 | E40: =ROUND(C40/2,2) -> 36.18 | F40: =10.25*5 -> 51.25
A41: 2241 | B41: Ēku, būvju un telpu kārtējais remonts | C41: 0.1 | D41: 0 | E41: =ROUND(C41/2,2) -> 0.05 | F41: =1.85*5 -> 9.25
A42: 2242 | B42: Transportlīdzekļu uzturēšana un remonts | C42: 21.56 | D42: 0 | E42: =ROUND(C42/2,2) -> 10.78 | F42: =7.07*5 -> 35.35
A43: 2243 | B43: Iekārtas, inventāra un aparatūras remonts, tehniskā apkalpošana | C43: 68.84 | D43: 0 | E43: =ROUND(C43/2,2) -> 34.42 | F43: =6.94*5 -> 34.7
...

Sheet 1.4.
B1: SASKAŅOTS
B2: Sociālās integrācijas valsts aģentūras
B3: direktores p.i. G.Apele
F5: ='1.2.'!F5 -> 2019. gada 15.martā
A7: Maksas pakalpojuma izcenojuma aprēķins
A9: Sociālās integrācijas valsts aģentūra
A10: Publiskā pakalpojuma veids:
B11: 1. Profesionālās pilnveides izglītības programmas un profesionālās tālākizglītības programmas
B12: 1.4. 960 stundu programma
A13: Laikposms | B13: ='1.2.'!B13 -> 2019.gadā un turpmāk
A14: Izdevumu klasifikācijas kods | B14: Rādītājs (materiāla/izejvielas nosaukums, atlīdzība un citi izmaksu veidi) | C14: Izmaksu apjoms noteiktā laikposmā viena maksas pakalpojuma veida nodrošināšanai (2014) | D14: Izmaksu apjoms noteiktā laikposmā viena maksas pakalpojuma veida nodrošināšanai (2014.gada) | E14: Izmaksu apjoms noteiktā laikposmā viena maksas pakalpojuma veida nodrošināšanai (2014.gada II.pusgads) | F14: Izmaksu apjoms noteiktā laikposmā viena maksas pakalpojuma veida nodrošināšanai
A15: 1 | B15: 2 | C15: 3 | D15: 3 | E15: 4 | F15: 3
B16: Tiešās izmaksas
A17: 1100 | B17: Atalgojums | C17: 5789.22 | D17: 0 | E17: 3074.97 | F17: =[1]JPV_kursi!$H$10 -> 4054.714
A18: 1200 | B18: Darba devēja valsts sociālās apdrošināšanas obligātās iemaksas, sociāla rakstura pabalsti un kompensācijas | C18: 1365.67 | D18: 0 | E18: 725.39 | F18: =F17*0.2409 -> 976.7806
A19: 2210 | B19: Pasta, telefona un citu sakaru pakalpojumi | F19: 0
A20: 2222 | B20: Izdevumi par ūdeni un kanalizāciju | C20: 516.82 | D20: 0 | E20: =ROUND(C20/2,2) -> 258.41 | F20: =[1]JPV_kursi!$H$41 -> 57.629114
A21: 2223 | B21: Izdevumi par elektroenerģiju | C21: 175.44 | D21: 0 | E21: =ROUND(C21/2,2) -> 87.72 | F21: =[1]JPV_kursi!$H$39 -> 88.460329
A22: 2243 | B22: Iekārtas, inventāra un aparatūras remonts, tehniskā apkalpošana | C22: 125.47 | D22: 0 | E22: =ROUND(C22/2,2) -> 62.74 | F22: 106.08
A23: 2244 | B23: Ēku, būvju un telpu uzturēšana | F23: =[1]JPV_kursi!$H$40 -> 182.45911
A24: 2251 | B24: Informācijas sistēmas uzturēšana | F24: 0
A25: 2261 | B25: Ēku, telpu īre un noma
A26: 2279 | B26: Pārējie iepriekš neklasificētie pakalpojumu veidi | F26: 0
A27: 2311 | B27: Biroja preces | F27: =417.79/3 -> 139.26333
A28: 2312 | B28: Inventārs | F28: =[1]JPV_kursi!$H$36 -> 80.302365
A29: 2321 | B29: Kurināmais | C29: 241.21 | D29: 0 | E29: =ROUND(C29/2,2) -> 120.61 | F29: =[1]JPV_kursi!$H$38 -> 99.188453
A30: 2350 | B30: Kārtējā remonta un iestāžu uzturēšanas materiāli | C30: 35.27 | D30: 0 | E30: =ROUND(C30/2,2) -> 17.64 | F30: 108.9
A31: 2361 | B31: Mīkstais inventārs | F31: 0
A32: 2370 | B32: Mācību līdzekļi un materiāli | F32: =417.79/3*2 -> 278.52667
A33: 2513 | B33: Budžeta iestāžu nekustamā īpašuma nodokļa (t.sk. zemes nodokļa parāda) maksājumi budžetā
A34: 5230 | B34: Pārējie pamatlīdzekļi | C34: 1.8 | D34: 0 | E34: =ROUND(C34/2,2) -> 0.9 | F34: 424.34
B35: Tiešās izmaksas kopā | C35: =SUM(C17:C34) -> 8250.9 | D35: =SUM(D17:D34) -> 0 | E35: =SUM(E17:E34) -> 4348.38 | F35: =SUM(F17:F34) -> 6596.6439
B36: Netiešās izmaksas
A37: 1100 | B37: Atalgojums | C37: 4429 | D37: 0 | E37: =ROUND(C37/2,2) -> 2214.5 | F37: 812.37
A38: 1200 | B38: Darba devēja valsts sociālās apdrošināšanas obligātās iemaksas, sociāla rakstura pabalsti un kompensācijas | C38: 1044.8 | D38: 0 | E38: =ROUND(C38/2,2) -> 522.4 | F38: 195.7
A39: 2210 | B39: Pasta, telefona un citu sakaru pakalpojumi | C39: 93.67 | D39: 0 | E39: =ROUND(C39/2,2) -> 46.84 | F39: 10.19
A40: 2230 | B40: Iestādes administratīvie izdevumi un ar iestādes darbības nodrošināšanu saistītie izdevumi | C40: 72.35 | D40: 0 | E40: =ROUND(C40/2,2) -> 36.18 | F40: 4.85
A41: 2241 | B41: Ēku, būvju un telpu kārtējais remonts | C41: 0.1 | D41: 0 | E41: =ROUND(C41/2,2) -> 0.05 | F41: 34.83
A42: 2242 | B42: Transportlīdzekļu uzturēšana un remonts | C42: 21.56 | D42: 0 | E42: =ROUND(C42/2,2) -> 10.78 | F42: 15.47
A43: 2243 | B43: Iekārtas, inventāra un aparatūras remonts, tehniskā apkalpošana | C43: 68.84 | D43: 0 | E43: =ROUND(C43/2,2) -> 34.42 | F43: 23.35
...

Sheet 1.6.
B1: SASKAŅOTS
B2: Sociālās integrācijas valsts aģentūras
B3: direktore I.Jurševska
D5: 2020.gada .augustā
A7: Maksas pakalpojuma izcenojuma aprēķins
A9: Sociālās integrācijas valsts aģentūra
A10: Publiskā pakalpojuma veids:
B11: 1. Profesionālās pilnveides izglītības programmas, profesionālās tālākizglītības programmas un tālākizglītības kursi, semināri, lekcijas
B12: 1.6. 1204 stundu programma
A14: Laikposms | B14: 2021.gadā un turpmāk
A15: Izdevumu klasifikācijas kods | B15: Rādītājs (materiāla/izejvielas nosaukums, atlīdzība un citi izmaksu veidi) | D15: Izmaksu apjoms noteiktā laikposmā viena maksas pakalpojuma veida nodrošināšanai
A16: 1 | B16: 2 | C16: 4 | D16: 3
B17: Tiešās izmaksas
A18: 1100 | B18: Atalgojums | C18: =8960.44+35.28/1.2409 -> 8988.871 | D18: 1797.77
A19: 1200 | B19: Darba devēja valsts sociālās apdrošināšanas obligātās iemaksas, pabalsti un kompensācijas | C19: =2158.57+35.28/1.2409*0.2409 -> 2165.419 | D19: 433.08
A20: 2210 | B20: Pasta, telefona un citu sakaru pakalpojumi | D20: =C20/10*2 -> 0
A21: 2222 | B21: Izdevumi par ūdeni un kanalizāciju | C21: 128.49 | D21: 25.7
A22: 2223 | B22: Izdevumi par elektroenerģiju | C22: 295.85 | D22: 59.18
A23: 2243 | B23: Iekārtas, inventāra un aparatūras remonts, tehniskā apkalpošana | D23: =C23/10*2 -> 0
A24: 2244 | B24: Nekustamā īpašuma uzturēšana | C24: 610.22 | D24: 122.04
A25: 2250 | B25: Informācijas tehnoloģiju pakalpojumi | D25: =C25/10*2 -> 0
A26: 2311 | B26: Biroja preces | C26: 126.34 | D26: 25.27
A27: 2312 | B27: Inventārs | C27: 1135.24 | D27: 227.05
A28: 2262 | B28: Transportlīdzekļu noma | C28: 16.54 | D28: 3.31
A29: 2321 | B29: Kurināmais | C29: 331.74 | D29: 66.35
A30: 2322 | B30: Degviela | C30: 14.08 | D30: 2.82
A31: 2350 | B31: Kārtējā remonta un iestāžu uzturēšanas materiāli | D31: =C31/10*2 -> 0
A32: 2361 | B32: Mīkstais inventārs | D32: =C32/10*2 -> 0
A33: 2366 | B33: Apdrošināšanas izdevumi veselības, dzīvības un nelaimes gadījumu apdrošināšanai | C33: 14.2 | D33: 2.84
A34: 2370 | B34: Mācību līdzekļi un materiāli | C34: 258.77 | D34: 51.75
A35: 5239 | B35: Pārējie pamatlīdzekļi | C35: 1217.32 | D35: 243.46
B36: Tiešās izmaksas kopā | C36: =SUM(C18:C35) -> 15303.08 | D36: =SUM(D18:D35) -> 3060.62
B37: Netiešās izmaksas
A38: 1100 | B38: Atalgojums | C38: 2632.76 | D38: 526.55
A39: 1200 | B39: Darba devēja valsts sociālās apdrošināšanas obligātās iemaksas, pabalsti un kompensācijas | C39: 634.23 | D39: 126.85
A40: 2210 | B40: Izdevumi par sakaru pakalpojumiem | C40: 55.37 | D40: 11.07
A41: 2224 | B41: Izdevumi par atkritumu savākšanu, izvešanu no apdzīvotām vietām un teritorijām ārpus apdzīvotām vietām un atkritumu utilizāciju | C41: 66.45 | D41: 13.29
A42: 2231 | B42: Izdevumi iestādes sabiedrisko aktivitāšu īstenošanai | C42: 296.24 | D42: 59.25
A43: 2232 | B43: Izdevumi par profesionālās darbības pakalpojumiem | C43: 238.1 | D43: 47.62
A44: 2239 | B44: Pārējie neklasificētie pakalpojumi | C44: 365.46 | D44: 73.09
...

Sheet 1.7.
B1: SASKAŅOTS
B2: Sociālās integrācijas valsts aģentūras
B3: direktore I.Jurševska
D5: 2020.gada .augustā
A7: Maksas pakalpojuma izcenojuma aprēķins
A9: Sociālās integrācijas valsts aģentūra
A10: Publiskā pakalpojuma veids:
B11: 1. Profesionālās pilnveides izglītības programmas, profesionālās tālākizglītības programmas un tālākizglītības kursi, semināri, lekcijas
B12: 1.7. 1920 stundu programma
A14: Laikposms | B14: 2021.gadā un turpmāk
A15: Izdevumu klasifikācijas kods | B15: Rādītājs (materiāla/izejvielas nosaukums, atlīdzība un citi izmaksu veidi) | D15: Izmaksu apjoms noteiktā laikposmā viena maksas pakalpojuma veida nodrošināšanai
A16: 1 | B16: 2 | C16: 4 | D16: 3
B17: Tiešās izmaksas
A18: 1100 | B18: Atalgojums | C18: =11284.18+56.81 -> 11340.99 | D18: 2268.2
A19: 1200 | B19: Darba devēja valsts sociālās apdrošināšanas obligātās iemaksas, pabalsti un kompensācijas | C19: 2732.04 | D19: 546.41
A20: 2210 | B20: Pasta, telefona un citu sakaru pakalpojumi | D20: =C20/10*2 -> 0
A21: 2222 | B21: Izdevumi par ūdeni un kanalizāciju | C21: 159.61 | D21: 31.92
A22: 2223 | B22: Izdevumi par elektroenerģiju | C22: 617.09 | D22: 123.42
A23: 2243 | B23: Iekārtas, inventāra un aparatūras remonts, tehniskā apkalpošana | D23: =C23/10*2 -> 0
A24: 2244 | B24: Nekustamā īpašuma uzturēšana | C24: 1028.07 | D24: 205.61
A25: 2250 | B25: Informācijas tehnoloģiju pakalpojumi | D25: =C25/10*2 -> 0
A26: 2311 | B26: Biroja preces | C26: =18.04+27.57 -> 45.61 | D26: 9.12
A27: 2312 | B27: Inventārs | C27: =84.5+193.53+201 -> 479.03 | D27: 95.81
A28: 2262 | B28: Transportlīdzekļu noma | C28: 25.08 | D28: 5.02
A29: 2321 | B29: Kurināmais | C29: 691.93 | D29: 138.39
A30: 2322 | B30: Degviela | C30: 25.54 | D30: 5.11
A31: 2350 | B31: Iestāžu uzturēšanas materiāli un preces | C31: 26.62 | D31: 5.32
A32: 2361 | B32: Mīkstais inventārs | D32: =C32/10*2 -> 0
A33: 2366 | B33: Apdrošināšanas izdevumi veselības, dzīvības un nelaimes gadījumu apdrošināšanai | C33: 42.5 | D33: 8.5
A34: 2370 | B34: Mācību līdzekļi un materiāli | C34: =481.89+320.35+1719.82 -> 2522.06 | D34: 504.41
A35: 5239 | B35: Pārējie pamatlīdzekļi | C35: 78.99 | D35: 15.8
B36: Tiešās izmaksas kopā | C36: =SUM(C18:C35) -> 19815.16 | D36: =SUM(D18:D35) -> 3963.04
B37: Netiešās izmaksas
A38: 1100 | B38: Atalgojums | C38: 1969.31 | D38: 393.86
A39: 1200 | B39: Darba devēja valsts sociālās apdrošināšanas obligātās iemaksas, pabalsti un kompensācijas | C39: 474.41 | D39: 94.88
A40: 2210 | B40: Izdevumi par sakaru pakalpojumiem | C40: 40.89 | D40: 8.18
A41: 2224 | B41: Izdevumi par atkritumu savākšanu, izvešanu no apdzīvotām vietām un teritorijām ārpus apdzīvotām vietām un atkritumu utilizāciju | C41: 49.06 | D41: 9.81
A42: 2231 | B42: Izdevumi iestādes sabiedrisko aktivitāšu īstenošanai | C42: 218.73 | D42: 43.75
A43: 2232 | B43: Izdevumi par profesionālās darbības pakalpojumiem | C43: 175.8 | D43: 35.16
A44: 2239 | B44: Pārējie neklasificētie pakalpojumi | C44: 286.2 | D44: 57.24
...

Sheet 1.8.
B1: SASKAŅOTS
B2: Sociālās integrācijas valsts aģentūras
B3: direktore I.Jurševska
D5: 2020.gada .augustā
A7: Maksas pakalpojuma izcenojuma aprēķins
A9: Sociālās integrācijas valsts aģentūra
A10: Publiskā pakalpojuma veids:
B11: 1. Profesionālās pilnveides izglītības programmas, profesionālās tālākizglītības programmas un tālākizglītības kursi, semināri, lekcijas
B12: 1.8. 2880 stundu programma
A14: Laikposms | B14: 2021.gadā un turpmāk
A15: Izdevumu klasifikācijas kods | B15: Rādītājs (materiāla/izejvielas nosaukums, atlīdzība un citi izmaksu veidi) | D15: Izmaksu apjoms noteiktā laikposmā viena maksas pakalpojuma veida nodrošināšanai
A16: 1 | B16: 2 | C16: 4 | D16: 3
B17: Tiešās izmaksas
A18: 1100 | B18: Atalgojums | C18: 19071.53 | D18: 3814.31
A19: 1200 | B19: Darba devēja valsts sociālās apdrošināšanas obligātās iemaksas, sociāla rakstura pabalsti un kompensācijas | C19: 4594.33 | D19: 918.87
A20: 2210 | B20: Pasta, telefona un citu sakaru pakalpojumi | D20: =C20/10*2 -> 0
A21: 2222 | B21: Izdevumi par ūdeni un kanalizāciju | C21: 166.11 | D21: 33.22
A22: 2223 | B22: Izdevumi par elektroenerģiju | C22: 892.44 | D22: 178.49
A23: 2243 | B23: Iekārtas, inventāra un aparatūras remonts, tehniskā apkalpošana | D23: =C23/10*2 -> 0
A24: 2244 | B24: Nekustamā īpašuma uzturēšana | C24: 1477.53 | D24: 295.51
A25: 2250 | B25: Informācijas tehnoloģiju pakalpojumi | D25: =C25/10*2 -> 0
A26: 2311 | B26: Biroja preces | C26: 90.69 | D26: 18.14
A27: 2312 | B27: Inventārs | C27: 1580.43 | D27: 316.09
A28: 2262 | B28: Transportlīdzekļu noma | C28: 25.08 | D28: 5.02
A29: 2321 | B29: Kurināmais | C29: 1229.92 | D29: 245.98
A30: 2322 | B30: Degviela | C30: 25.54 | D30: 5.11
A31: 2350 | B31: Iestāžu uzturēšanas materiāli un preces | D31: =C31/10*2 -> 0
A32: 2361 | B32: Mīkstais inventārs | D32: =C32/10*2 -> 0
A33: 2366 | B33: Apdrošināšanas izdevumi veselības, dzīvības un nelaimes gadījumu apdrošināšanai | C33: 42.5 | D33: 8.5
A34: 2370 | B34: Mācību līdzekļi un materiāli | C34: 953.25 | D34: 190.65
A35: 5239 | B35: Pārējie pamatlīdzekļi | C35: =1408.96+376.53 -> 1785.49 | D35: 357.1
B36: Tiešās izmaksas kopā | C36: =SUM(C18:C35) -> 31934.84 | D36: =SUM(D18:D35) -> 6386.99
B37: Netiešās izmaksas
A38: 1100 | B38: Atalgojums | C38: 3468.99 | D38: 693.79
A39: 1200 | B39: Darba devēja valsts sociālās apdrošināšanas obligātās iemaksas, sociāla rakstura pabalsti un kompensācijas | C39: 835.43 | D39: 167.13
A40: 2210 | B40: Izdevumi par sakaru pakalpojumiem | C40: 72.02 | D40: 14.4
A41: 2224 | B41: Izdevumi par atkritumu savākšanu, izvešanu no apdzīvotām vietām un teritorijām ārpus apdzīvotām vietām un atkritumu utilizāciju | C41: 86.42 | D41: 17.28
A42: 2231 | B42: Izdevumi iestādes sabiedrisko aktivitāšu īstenošanai | C42: 385.31 | D42: 77.04
A43: 2232 | B43: Izdevumi par profesionālās darbības pakalpojumiem | C43: 309.67 | D43: 61.93
A44: 2239 | B44: Pārējie neklasificētie pakalpojumi | C44: 504.14 | D44: 100.83
...

Sheet 1.5.
B1: SASKAŅOTS
B2: Sociālās integrācijas valsts aģentūras
B3: direktores p.i. G.Apele
C5: ='1.2.'!F5 -> 2019. gada 15.martā
A7: Maksas pakalpojuma izcenojuma aprēķins
A9: Sociālās integrācijas valsts aģentūra
A10: Publiskā pakalpojuma veids:
B11: 1. Profesionālās pilnveides izglītības programmas un profesionālās tālākizglītības programmas
B12: 1.5. 720 stundu programma
A13: Laikposms | B13: ='1.2.'!B13 -> 2019.gadā un turpmāk
A14: Izdevumu klasifikācijas kods | B14: Rādītājs (materiāla/izejvielas nosaukums, atlīdzība un citi izmaksu veidi) | C14: Izmaksu apjoms noteiktā laikposmā viena maksas pakalpojuma veida nodrošināšanai
A15: 1 | B15: 2 | C15: 3
B16: Tiešās izmaksas
A17: 1100 | B17: Atalgojums | C17: 2853.22
A18: 1200 | B18: Darba devēja valsts sociālās apdrošināšanas obligātās iemaksas, sociāla rakstura pabalsti un kompensācijas | C18: 687.34
A19: 2210 | B19: Pasta, telefona un citu sakaru pakalpojumi | C19: 0
A20: 2222 | B20: Izdevumi par ūdeni un kanalizāciju | C20: 12.81
A21: 2223 | B21: Izdevumi par elektroenerģiju | C21: 26.34
A22: 2243 | B22: Iekārtas, inventāra un aparatūras remonts, tehniskā apkalpošana | C22: 38.53
A23: 2244 | B23: Ēku, būvju un telpu uzturēšana | C23: 121.64
A24: 2251 | B24: Informācijas sistēmas uzturēšana | C24: 0
A25: 2261 | B25: Ēku, telpu īre un noma
A26: 2279 | B26: Pārējie iepriekš neklasificētie pakalpojumu veidi | C26: 0
A27: 2311 | B27: Biroja preces | C27: 39.44
A28: 2312 | B28: Inventārs | C28: 63.94
A29: 2321 | B29: Kurināmais | C29: 37.79
A30: 2350 | B30: Kārtējā remonta un iestāžu uzturēšanas materiāli | C30: 19.27
A31: 2361 | B31: Mīkstais inventārs | C31: 0
A32: 2370 | B32: Mācību līdzekļi un materiāli | C32: 92.02
A33: 2513 | B33: Budžeta iestāžu nekustamā īpašuma nodokļa (t.sk. zemes nodokļa parāda) maksājumi budžetā
A34: 5230 | B34: Pārējie pamatlīdzekļi | C34: 134.85
B35: Tiešās izmaksas kopā | C35: =SUM(C17:C34) -> 4127.19
B36: Netiešās izmaksas
A37: 1100 | B37: Atalgojums | C37: 548.89
A38: 1200 | B38: Darba devēja valsts sociālās apdrošināšanas obligātās iemaksas, sociāla rakstura pabalsti un kompensācijas | C38: 132.23
A39: 2210 | B39: Pasta, telefona un citu sakaru pakalpojumi | C39: 6.81
A40: 2230 | B40: Iestādes administratīvie izdevumi un ar iestādes darbības nodrošināšanu saistītie izdevumi | C40: 6.49
A41: 2241 | B41: Ēku, būvju un telpu kārtējais remonts | C41: 46.54
A42: 2242 | B42: Transportlīdzekļu uzturēšana un remonts | C42: 11.22
A43: 2243 | B43: Iekārtas, inventāra un aparatūras remonts, tehniskā apkalpošana | C43: 31.2
...

Sheet 1.6.1.
B1: SASKAŅOTS
B2: Sociālās integrācijas valsts aģentūras
B3: direktores p.i. G.Apele
D5: ='1.2.'!F5 -> 2019. gada 15.martā
A7: Maksas pakalpojuma izcenojuma aprēķins
A9: Sociālās integrācijas valsts aģentūra
A10: Publiskā pakalpojuma veids:
B11: 1. Profesionālās pilnveides izglītības programmas un profesionālās tālākizglītības programmas
B12: 1.6. Tālākizglītības kursi, semināri, lekcijas
B13: 1.6.1. vienai personai grupā līdz 24 personām (1 stunda)
A14: Laikposms | B14: ='1.2.'!B13 -> 2019.gadā un turpmāk
A15: Izdevumu klasifikācijas kods | B15: Rādītājs (materiāla/izejvielas nosaukums, atlīdzība un citi izmaksu veidi) | D15: Izmaksu apjoms noteiktā laikposmā viena maksas pakalpojuma veida nodrošināšanai
A16: 1 | B16: 2 | D16: 3
B17: Tiešās izmaksas
A18: 1100 | B18: Atalgojums | C18: 0.93 | D18: 16.95
A19: 1200 | B19: Darba devēja valsts sociālās apdrošināšanas obligātās iemaksas, sociāla rakstura pabalsti un kompensācijas | C19: 0.22 | D19: 4.08
A20: 2210 | B20: Pasta, telefona un citu sakaru pakalpojumi | D20: =C20*15 -> 0
A21: 2222 | B21: Izdevumi par ūdeni un kanalizāciju | D21: =C21*15 -> 0
A22: 2223 | B22: Izdevumi par elektroenerģiju | D22: =C22*15 -> 0
A23: 2243 | B23: Iekārtas, inventāra un aparatūras remonts, tehniskā apkalpošana | D23: =C23*15 -> 0
A24: 2244 | B24: Ēku, būvju un telpu uzturēšana | D24: =C24*15 -> 0
A25: 2251 | B25: Informācijas sistēmas uzturēšana | D25: =C25*15 -> 0
A26: 2261 | B26: Ēku, telpu īre un noma | D26: =C26*15 -> 0
A27: 2279 | B27: Pārējie iepriekš neklasificētie pakalpojumu veidi | D27: =C27*15 -> 0
A28: 2311 | B28: Biroja preces | C28: 0.8 | D28: =C28*15 -> 12
A29: 2312 | B29: Inventārs | D29: =C29*15 -> 0
A30: 2321 | B30: Kurināmais | D30: =C30*15 -> 0
A31: 2350 | B31: Kārtējā remonta un iestāžu uzturēšanas materiāli | D31: =C31*15 -> 0
A32: 2361 | B32: Mīkstais inventārs | D32: =C32*15 -> 0
A33: 2370 | B33: Mācību līdzekļi un materiāli | D33: =C33*15 -> 0
A34: 2513 | B34: Budžeta iestāžu nekustamā īpašuma nodokļa (t.sk. zemes nodokļa parāda) maksājumi budžetā | D34: =C34*15 -> 0
A35: 5238 | B35: Datortehnika, sakaru un cita biroja tehnika | C35: 0.05 | D35: =C35*15 -> 0.75
B36: Tiešās izmaksas kopā | C36: =SUM(C18:C35) -> 2 | D36: =SUM(D18:D35) -> 33.78
B37: Netiešās izmaksas
A38: 1100 | B38: Atalgojums | C38: 0.2 | D38: =C38*15 -> 3
A39: 1200 | B39: Darba devēja valsts sociālās apdrošināšanas obligātās iemaksas, sociāla rakstura pabalsti un kompensācijas | C39: 0.05 | D39: =C39*15 -> 0.75
A40: 2210 | B40: Pasta, telefona un citu sakaru pakalpojumi | C40: 0.04 | D40: =C40*15 -> 0.6
A41: 2222 | B41: Izdevumi par ūdeni un kanalizāciju | C41: 0.1 | D41: =C41*15 -> 1.5
A42: 2223 | B42: Izdevumi par elektroenerģiju | C42: 0.12 | D42: =C42*15 -> 1.8
D43: =C43*15 -> 0
...

Sheet 1.9.
B1: SASKAŅOTS
B2: Sociālās integrācijas valsts aģentūras
B3: direktore I.Jurševska
D5: 2020.gada .augustā
A7: Maksas pakalpojuma izcenojuma aprēķins
A9: Sociālās integrācijas valsts aģentūra
A10: Publiskā pakalpojuma veids:
B11: 1. Profesionālās pilnveides izglītības programmas, profesionālās tālākizglītības programmas un tālākizglītības kursi, semināri, lekcijas
B12: 1.9. Tālākizglītības kursi, semināri, lekcijas, vienai personai grupā, 1 stunda
A14: Laikposms | B14: 2021.gadā un turpmāk
A15: Izdevumu klasifikācijas kods | B15: Rādītājs (materiāla/izejvielas nosaukums, atlīdzība un citi izmaksu veidi) | D15: Izmaksu apjoms noteiktā laikposmā viena maksas pakalpojuma veida nodrošināšanai
A16: 1 | B16: 2 | D16: 3
B17: Tiešās izmaksas
A18: 1100 | B18: Atalgojums | C18: 5.33 | D18: =C18*15 -> 79.95
A19: 1200 | B19: Darba devēja valsts sociālās apdrošināšanas obligātās iemaksas, pabalsti un kompensācijas | C19: 1.28 | D19: =C19*15 -> 19.2
A20: 2210 | B20: Pasta, telefona un citu sakaru pakalpojumi | D20: =C20*15 -> 0
A21: 2222 | B21: Izdevumi par ūdensapgādi un kanalizāciju | C21: 0.01 | D21: =C21*15 -> 0.15
A22: 2223 | B22: Izdevumi par elektroenerģiju | C22: 0.02 | D22: =C22*15 -> 0.3
D23: =C23*15 -> 0
D24: =C24*15 -> 0
A25: 2243 | B25: Iekārtas, inventāra un aparatūras remonts, tehniskā apkalpošana | D25: =C25*15 -> 0
A26: 2244 | B26: Nekustamā īpašuma uzturēšana | C26: 0.03 | D26: =C26*15 -> 0.45
A27: 2251 | B27: Informācijas sistēmas uzturēšana | D27: =C27*15 -> 0
A28: 2261 | B28: Ēku, telpu īre un noma | D28: =C28*15 -> 0
A29: 2279 | B29: Pārējie iepriekš neklasificētie pakalpojumu veidi | D29: =C29*15 -> 0
A30: 2311 | B30: Biroja preces | C30: 0.22 | D30: =C30*15 -> 3.3
A31: 2312 | B31: Inventārs | C31: 0.14 | D31: =C31*15 -> 2.1
A32: 2321 | B32: Kurināmais | C32: 0.02 | D32: =C32*15 -> 0.3
A33: 2350 | B33: Iestāžu uzturēšanas materiāli un preces | C33: 0.46 | D33: =C33*15 -> 6.9
A34: 2361 | B34: Mīkstais inventārs | D34: =C34*15 -> 0
A35: 2370 | B35: Mācību līdzekļi un materiāli | D35: =C35*15 -> 0
A36: 2513 | B36: Budžeta iestāžu nekustamā īpašuma nodokļa (t.sk. zemes nodokļa parāda) maksājumi budžetā | D36: =C36*15 -> 0
A37: 5238 | B37: Datortehnika, sakaru un cita biroja tehnika | C37: 0.37 | D37: =C37*15 -> 5.55
A38: 5239 | B38: Pārējie pamatlīdzekļi
B39: Tiešās izmaksas kopā | C39: =SUM(C18:C37) -> 7.88 | D39: =SUM(D18:D37) -> 118.2
B40: Netiešās izmaksas
A41: 1100 | B41: Atalgojums | C41: 1.92 | D41: =C41*15 -> 28.8
A42: 1200 | B42: Darba devēja valsts sociālās apdrošināšanas obligātās iemaksas, pabalsti un kompensācijas | C42: 0.46 | D42: =C42*15 -> 6.9
A43: 2100 | B43: Mācību, darba un dienesta komandējumi, darba braucieni | C43: 0.02 | D43: =C43*15 -> 0.3
A44: 2210 | B44: Izdevumi par sakaru pakalpojumiem | C44: 0.03 | D44: =C44*15 -> 0.45
...

Sheet 1.10.
B1: SASKAŅOTS
B2: Sociālās integrācijas valsts aģentūras
B3: direktore I.Jurševska
D5: 2020.gada .augustā
A7: Maksas pakalpojuma izcenojuma aprēķins
A9: Sociālās integrācijas valsts aģentūra
A10: Publiskā pakalpojuma veids:
B11: 1. Profesionālās pilnveides izglītības programmas, profesionālās tālākizglītības programmas un tālākizglītības kursi, semināri, lekcijas
B12: 1.10. Profesionālās pilnveides programma vienai personai grupā, 8 stundas
A14: Laikposms | B14: 2021.gadā un turpmāk
A15: Izdevumu klasifikācijas kods | B15: Rādītājs (materiāla/izejvielas nosaukums, atlīdzība un citi izmaksu veidi) | D15: Izmaksu apjoms noteiktā laikposmā viena maksas pakalpojuma veida nodrošināšanai
A16: 1 | B16: 2 | D16: 3
B17: Tiešās izmaksas
A18: 1100 | B18: Atalgojums | C18: 42.67 | D18: =C18*22 -> 938.74
A19: 1200 | B19: Darba devēja valsts sociālās apdrošināšanas obligātās iemaksas, pabalsti un kompensācijas | C19: 10.28 | D19: =C19*22 -> 226.16
A20: 2210 | B20: Pasta, telefona un citu sakaru pakalpojumi | D20: =C20*22 -> 0
A21: 2222 | B21: Izdevumi par ūdensapgādi un kanalizāciju | C21: 0.01 | D21: =C21*22 -> 0.22
A22: 2223 | B22: Izdevumi par elektroenerģiju | C22: 0.11 | D22: =C22*22 -> 2.42
D23: =C23*22 -> 0
D24: =C24*22 -> 0
A25: 2243 | B25: Iekārtas, inventāra un aparatūras remonts, tehniskā apkalpošana | D25: =C25*22 -> 0
A26: 2244 | B26: Nekustamā īpašuma uzturēšana | C26: 0.27 | D26: =C26*22 -> 5.94
A27: 2251 | B27: Informācijas sistēmas uzturēšana | D27: =C27*22 -> 0
A28: 2261 | B28: Ēku, telpu īre un noma | D28: =C28*22 -> 0
A29: 2279 | B29: Pārējie iepriekš neklasificētie pakalpojumu veidi | D29: =C29*22 -> 0
A30: 2311 | B30: Biroja preces | C30: 2.5 | D30: =C30*22 -> 55
A31: 2312 | B31: Inventārs | C31: 1.13 | D31: =C31*22 -> 24.86
A32: 2321 | B32: Kurināmais | C32: 0.17 | D32: =C32*22 -> 3.74
A33: 2350 | B33: Iestāžu uzturēšanas materiāli un preces | C33: 2.45 | D33: =C33*22 -> 53.9
A34: 2361 | B34: Mīkstais inventārs | D34: =C34*22 -> 0
A35: 2370 | B35: Mācību līdzekļi un materiāli | D35: =C35*22 -> 0
A36: 2513 | B36: Budžeta iestāžu nekustamā īpašuma nodokļa (t.sk. zemes nodokļa parāda) maksājumi budžetā | D36: =C36*22 -> 0
A37: 5238 | B37: Datortehnika, sakaru un cita biroja tehnika | C37: 2.95 | D37: =C37*22 -> 64.9
B38: Tiešās izmaksas kopā | C38: =SUM(C18:C37) -> 62.54 | D38: =SUM(D18:D37) -> 1375.88
B39: Netiešās izmaksas
A40: 1100 | B40: Atalgojums | C40: 15.02 | D40: =C40*22 -> 330.44
A41: 1200 | B41: Darba devēja valsts sociālās apdrošināšanas obligātās iemaksas, pabalsti un kompensācijas | C41: 3.62 | D41: =C41*22 -> 79.64
A42: 2100 | B42: Mācību, darba un dienesta komandējumi, darba braucieni | C42: 0.15 | D42: =C42*22 -> 3.3
A43: 2210 | B43: Izdevumi par sakaru pakalpojumiem | C43: 0.24 | D43: =C43*22 -> 5.28
A44: 2222 | B44: Izdevumi par ūdeni un kanalizāciju | D44: =C44*22 -> 0
...

Sheet 1.6.4.
B1: SASKAŅOTS
B2: Sociālās integrācijas valsts aģentūras
B3: direktores p.i. G.Apele
D5: 2020.gada .aprīlī
A7: Maksas pakalpojuma izcenojuma aprēķins
A9: Sociālās integrācijas valsts aģentūra
A10: Publiskā pakalpojuma veids:
B11: 1. Profesionālās pilnveides izglītības programmas un profesionālās tālākizglītības programmas
B12: 1.6. Tālākizglītības kursi, semināri, lekcijas, profesionālās pilnveides programmas un profesionālās piemērotības noteikšana
B13: 1.6.4. Profesionālās pilnveides programma vienai personai grupā (līdz 15 personām), 16 stundas
A14: Laikposms | B14: 2020.gadā un turpmāk
A15: Izdevumu klasifikācijas kods | B15: Rādītājs (materiāla/izejvielas nosaukums, atlīdzība un citi izmaksu veidi) | D15: Izmaksu apjoms noteiktā laikposmā viena maksas pakalpojuma veida nodrošināšanai
A16: 1 | B16: 2 | D16: 3
B17: Tiešās izmaksas
A18: 1100 | B18: Atalgojums | C18: 85.33 | D18: =C18*22 -> 1877.26
A19: 1200 | B19: Darba devēja valsts sociālās apdrošināšanas obligātās iemaksas, pabalsti un kompensācijas | C19: 20.56 | D19: =C19*22 -> 452.32
A20: 2210 | B20: Pasta, telefona un citu sakaru pakalpojumi | D20: =C20*22 -> 0
A21: 2222 | B21: Izdevumi par ūdensapgādi un kanalizāciju | C21: 0.03 | D21: =C21*22 -> 0.66
A22: 2223 | B22: Izdevumi par elektroenerģiju | C22: 0.21 | D22: =C22*22 -> 4.62
D23: =C23*22 -> 0
D24: =C24*22 -> 0
A25: 2243 | B25: Iekārtas, inventāra un aparatūras remonts, tehniskā apkalpošana | D25: =C25*22 -> 0
A26: 2244 | B26: Nekustamā īpašuma uzturēšana | C26: 0.53 | D26: =C26*22 -> 11.66
A27: 2251 | B27: Informācijas sistēmas uzturēšana | D27: =C27*22 -> 0
A28: 2261 | B28: Ēku, telpu īre un noma | D28: =C28*22 -> 0
A29: 2279 | B29: Pārējie iepriekš neklasificētie pakalpojumu veidi | D29: =C29*22 -> 0
A30: 2311 | B30: Biroja preces | C30: 2.5 | D30: =C30*22 -> 55
A31: 2312 | B31: Inventārs | C31: 2.28 | D31: =C31*22 -> 50.16
A32: 2321 | B32: Kurināmais | C32: 0.33 | D32: =C32*22 -> 7.26
A33: 2350 | B33: Iestāžu uzturēšanas materiāli un preces | C33: 2.45 | D33: =C33*22 -> 53.9
A34: 2361 | B34: Mīkstais inventārs | D34: =C34*22 -> 0
A35: 2370 | B35: Mācību līdzekļi un materiāli | D35: =C35*22 -> 0
A36: 2513 | B36: Budžeta iestāžu nekustamā īpašuma nodokļa (t.sk. zemes nodokļa parāda) maksājumi budžetā | D36: =C36*22 -> 0
A37: 5238 | B37: Datortehnika, sakaru un cita biroja tehnika | C37: 5.9 | D37: =C37*22 -> 129.8
B38: Tiešās izmaksas kopā | C38: =SUM(C18:C37) -> 120.12 | D38: =SUM(D18:D37) -> 2642.64
B39: Netiešās izmaksas
A40: 1100 | B40: Atalgojums | C40: 28.84 | D40: =C40*22 -> 634.48
A41: 1200 | B41: Darba devēja valsts sociālās apdrošināšanas obligātās iemaksas, pabalsti un kompensācijas | C41: 6.95 | D41: =C41*22 -> 152.9
A42: 2100 | B42: Mācību, darba un dienesta komandējumi, darba braucieni | C42: 0.29 | D42: =C42*22 -> 6.38
A43: 2210 | B43: Izdevumi par sakaru pakalpojumiem | C43: 0.46 | D43: =C43*22 -> 10.12
...

Sheet 1.6.5.
B1: SASKAŅOTS
B2: Sociālās integrācijas valsts aģentūras
B3: direktores p.i. G.Apele
D5: 2020.gada .aprīlī
A7: Maksas pakalpojuma izcenojuma aprēķins
A9: Sociālās integrācijas valsts aģentūra
A10: Publiskā pakalpojuma veids:
B11: 1. Profesionālās pilnveides izglītības programmas un profesionālās tālākizglītības programmas
B12: 1.6. Tālākizglītības kursi, semināri, lekcijas, profesionālās pilnveides programmas un profesionālās piemērotības noteikšana
B13: 1.6.5. Profesionālās pilnveides programma vienai personai grupā (līdz 15 personām), 24 stundas
A14: Laikposms | B14: 2020.gadā un turpmāk
A15: Izdevumu klasifikācijas kods | B15: Rādītājs (materiāla/izejvielas nosaukums, atlīdzība un citi izmaksu veidi) | D15: Izmaksu apjoms noteiktā laikposmā viena maksas pakalpojuma veida nodrošināšanai
A16: 1 | B16: 2 | D16: 3
B17: Tiešās izmaksas
A18: 1100 | B18: Atalgojums | C18: 128 | D18: =C18*22 -> 2816
A19: 1200 | B19: Darba devēja valsts sociālās apdrošināšanas obligātās iemaksas, pabalsti un kompensācijas | C19: 30.84 | D19: =C19*22 -> 678.48
A20: 2210 | B20: Pasta, telefona un citu sakaru pakalpojumi | D20: =C20*22 -> 0
A21: 2222 | B21: Izdevumi par ūdensapgādi un kanalizāciju | C21: 0.04 | D21: =C21*22 -> 0.88
A22: 2223 | B22: Izdevumi par elektroenerģiju | C22: 0.32 | D22: =C22*22 -> 7.04
D23: =C23*22 -> 0
D24: =C24*22 -> 0
A25: 2243 | B25: Iekārtas, inventāra un aparatūras remonts, tehniskā apkalpošana | D25: =C25*22 -> 0
A26: 2244 | B26: Nekustamā īpašuma uzturēšana | C26: 0.8 | D26: =C26*22 -> 17.6
A27: 2251 | B27: Informācijas sistēmas uzturēšana | D27: =C27*22 -> 0
A28: 2261 | B28: Ēku, telpu īre un noma | D28: =C28*22 -> 0
A29: 2279 | B29: Pārējie iepriekš neklasificētie pakalpojumu veidi | D29: =C29*22 -> 0
A30: 2311 | B30: Biroja preces | C30: 3.24 | D30: =C30*22 -> 71.28
A31: 2312 | B31: Inventārs | C31: 3.41 | D31: =C31*22 -> 75.02
A32: 2321 | B32: Kurināmais | C32: 0.5 | D32: =C32*22 -> 11
A33: 2350 | B33: Iestāžu uzturēšanas materiāli un preces | C33: 3.85 | D33: =C33*22 -> 84.7
A34: 2361 | B34: Mīkstais inventārs | D34: =C34*22 -> 0
A35: 2370 | B35: Mācību līdzekļi un materiāli | D35: =C35*22 -> 0
A36: 2513 | B36: Budžeta iestāžu nekustamā īpašuma nodokļa (t.sk. zemes nodokļa parāda) maksājumi budžetā | D36: =C36*22 -> 0
A37: 5238 | B37: Datortehnika, sakaru un cita biroja tehnika | C37: 8.85 | D37: =C37*22 -> 194.7
B38: Tiešās izmaksas kopā | C38: =SUM(C18:C37) -> 179.85 | D38: =SUM(D18:D37) -> 3956.7
B39: Netiešās izmaksas
A40: 1100 | B40: Atalgojums | C40: 43.26 | D40: =C40*22 -> 951.72
A41: 1200 | B41: Darba devēja valsts sociālās apdrošināšanas obligātās iemaksas, pabalsti un kompensācijas | C41: 10.42 | D41: =C41*22 -> 229.24
A42: 2100 | B42: Mācību, darba un dienesta komandējumi, darba braucieni | C42: 0.43 | D42: =C42*22 -> 9.46
A43: 2210 | B43: Izdevumi par sakaru pakalpojumiem | C43: 0.69 | D43: =C43*22 -> 15.18
...

Sheet 1.6.6.
B1: SASKAŅOTS
B2: Sociālās integrācijas valsts aģentūras
B3: direktores p.i. G.Apele
D5: 2020.gada .aprīlī
A7: Maksas pakalpojuma izcenojuma aprēķins
A9: Sociālās integrācijas valsts aģentūra
A10: Publiskā pakalpojuma veids:
B11: 1. Profesionālās pilnveides izglītības programmas un profesionālās tālākizglītības programmas
B12: 1.6. Tālākizglītības kursi, semināri, lekcijas, profesionālās pilnveides programmas un profesionālās piemērotības noteikšana
B13: 1.6.6. Profesionālās pilnveides programma vienai personai grupā (līdz 15 personām), 32 stundas
A14: Laikposms | B14: 2020.gadā un turpmāk
A15: Izdevumu klasifikācijas kods | B15: Rādītājs (materiāla/izejvielas nosaukums, atlīdzība un citi izmaksu veidi) | D15: Izmaksu apjoms noteiktā laikposmā viena maksas pakalpojuma veida nodrošināšanai
A16: 1 | B16: 2 | D16: 3
B17: Tiešās izmaksas
A18: 1100 | B18: Atalgojums | C18: 170.67 | D18: =C18*22 -> 3754.74
A19: 1200 | B19: Darba devēja valsts sociālās apdrošināšanas obligātās iemaksas, pabalsti un kompensācijas | C19: 41.11 | D19: =C19*22 -> 904.42
A20: 2210 | B20: Pasta, telefona un citu sakaru pakalpojumi | D20: =C20*22 -> 0
A21: 2222 | B21: Izdevumi par ūdensapgādi un kanalizāciju | C21: 0.05 | D21: =C21*22 -> 1.1
A22: 2223 | B22: Izdevumi par elektroenerģiju | C22: 0.43 | D22: =C22*22 -> 9.46
D23: =C23*22 -> 0
D24: =C24*22 -> 0
A25: 2243 | B25: Iekārtas, inventāra un aparatūras remonts, tehniskā apkalpošana | D25: =C25*22 -> 0
A26: 2244 | B26: Nekustamā īpašuma uzturēšana | C26: 1.07 | D26: =C26*22 -> 23.54
A27: 2251 | B27: Informācijas sistēmas uzturēšana | D27: =C27*22 -> 0
A28: 2261 | B28: Ēku, telpu īre un noma | D28: =C28*22 -> 0
A29: 2279 | B29: Pārējie iepriekš neklasificētie pakalpojumu veidi | D29: =C29*22 -> 0
A30: 2311 | B30: Biroja preces | C30: 4.75 | D30: =C30*22 -> 104.5
A31: 2312 | B31: Inventārs | C31: 4.54 | D31: =C31*22 -> 99.88
A32: 2321 | B32: Kurināmais | C32: 0.66 | D32: =C32*22 -> 14.52
A33: 2350 | B33: Iestāžu uzturēšanas materiāli un preces | C33: 4.7 | D33: =C33*22 -> 103.4
A34: 2361 | B34: Mīkstais inventārs | D34: =C34*22 -> 0
A35: 2370 | B35: Mācību līdzekļi un materiāli | D35: =C35*22 -> 0
A36: 2513 | B36: Budžeta iestāžu nekustamā īpašuma nodokļa (t.sk. zemes nodokļa parāda) maksājumi budžetā | D36: =C36*22 -> 0
A37: 5238 | B37: Datortehnika, sakaru un cita biroja tehnika | C37: 11.8 | D37: =C37*22 -> 259.6
B38: Tiešās izmaksas kopā | C38: =SUM(C18:C37) -> 239.78 | D38: =SUM(D18:D37) -> 5275.16
B39: Netiešās izmaksas
A40: 1100 | B40: Atalgojums | C40: 57.55 | D40: =C40*22 -> 1266.1
A41: 1200 | B41: Darba devēja valsts sociālās apdrošināšanas obligātās iemaksas, pabalsti un kompensācijas | C41: 13.86 | D41: =C41*22 -> 304.92
A42: 2100 | B42: Mācību, darba un dienesta komandējumi, darba braucieni | C42: 0.57 | D42: =C42*22 -> 12.54
A43: 2210 | B43: Izdevumi par sakaru pakalpojumiem | C43: 0.92 | D43: =C43*22 -> 20.24
...

Sheet 5.5.1.1.
D1: SASKAŅOTS
D2: Sociālās integrācijas valsts aģentūras
D5: 2020. gada
A7: Maksas pakalpojuma izcenojuma aprēķins
A9: Sociālās integrācijas valsts aģentūra
A10: Publiskā pakalpojuma veids:
B11: 5. Ārstniecības pakalpojumi
B12: 5.5. Nodarbības funkcionālā speciālista vadībā
B13: 5.5.1. Ārstnieciskā vingrošana
B14: 5.5.1.1. Vingrošana grupā - zālē (vienai personai), 1 nodarbība , 30min.
A15: Laikposms | B15: 2020.gadā un turpmāk
A17: Izdevumu klasifikācijas kods | B17: Rādītājs (materiāla/izejvielas nosaukums, atlīdzība un citi izmaksu veidi) | D17: Izmaksu apjoms noteiktā laikposmā viena maksas pakalpojuma veida nodrošināšanai
A18: 1 | B18: 2 | D18: 3
B19: Tiešās izmaksas
A20: 1100 | B20: Atalgojums | C20: 2.79 | D20: =C20*50 -> 139.5
A21: 1200 | B21: Darba devēja valsts sociālās apdrošināšanas obligātās iemaksas, sociāla rakstura pabalsti un kompensācijas | C21: 0.67 | D21: =C21*50 -> 33.5
A22: 2222 | B22: Izdevumi par ūdeni un kanalizāciju | C22: 0.05 | D22: =C22*50 -> 2.5
A23: 2223 | B23: Izdevumi par elektroenerģiju | C23: 0.25 | D23: =C23*50 -> 12.5
A24: 2243 | B24: Iekārtas, inventāra un aparatūras remonts, tehniskā apkalpošana | C24: 0.1 | D24: =C24*50 -> 5
A25: 2244 | B25: Ēku, būvju un telpu uzturēšana | C25: 0.28 | D25: =C25*50 -> 14
A26: 2311 | B26: Biroja preces | C26: 0.02 | D26: =C26*50 -> 1
A27: 2312 | B27: Inventārs | C27: 0.07 | D27: =C27*50 -> 3.5
A28: 2321 | B28: Kurināmais | C28: 0.23 | D28: =C28*50 -> 11.5
A29: 2341 | B29: Zāles, ķimikālijas, laboratorijas preces | C29: 0.02 | D29: =C29*50 -> 1
A30: 2350 | B30: Kārtējā remonta un iestāžu uzturēšanas materiāli | C30: 0.05 | D30: =C30*50 -> 2.5
A31: 5239 | B31: Pārējie pamatlīdzekļi | C31: 0.35 | D31: =C31*50 -> 17.5
B32: Tiešās izmaksas kopā | C32: =SUM(C20:C31) -> 4.88 | D32: =SUM(D20:D31) -> 244
B33: Netiešās izmaksas
A34: 1100 | B34: Atalgojums | C34: 0.74 | D34: =C34*50 -> 37
A35: 1200 | B35: Darba devēja valsts sociālās apdrošināšanas obligātās iemaksas, sociāla rakstura pabalsti un kompensācijas | C35: 0.18 | D35: =C35*50 -> 9
A36: 2100 | B36: Mācību, darba un dienesta komandējumi, dienesta, darba braucieni | D36: =C36*50 -> 0
A37: 2210 | B37: Pasta, telefona un citu sakaru pakalpojumi | C37: 0.01 | D37: =C37*50 -> 0.5
A38: 2222 | B38: Izdevumi par ūdeni un kanalizāciju | D38: =C38*50 -> 0
A39: 2223 | B39: Izdevumi par elektroenerģiju | C39: 0.08 | D39: =C39*50 -> 4
A40: 2224 | B40: Izdevumi par atkritumu savākšanu, izvešanu utilizāciju | C40: 0.01 | D40: =C40*50 -> 0.5
A41: 2231 | B41: Izdevumi iestādes sabiedrisko aktiv itāšu īstenošanai | C41: 0.02 | D41: =C41*50 -> 1
A42: 2239 | B42: Pārējie neklasificētie pakalpojumi | C42: 0.01 | D42: =C42*50 -> 0.5
A43: 2241 | B43: Ēku, būvju un telpu kārtējais remonts | D43: =C43*50 -> 0
A44: 2242 | B44: Transportlīdzekļu uzturēšana un remonts | C44: 0.03 | D44: =C44*50 -> 1.5
A45: 2243 | B45: Iekārtas, inventāra un aparatūras remonts, tehniskā apkalpošana | C45: 0.03 | D45: =C45*50 -> 1.5
...

Sheet 5.5.1.2.
D1: SASKAŅOTS
D2: Sociālās integrācijas valsts aģentūras
C3: direktore I.Jurševska
D5: 2020.gada .augustā
A7: Maksas pakalpojuma izcenojuma aprēķins
A9: Sociālās integrācijas valsts aģentūra
A10: Publiskā pakalpojuma veids:
B11: 5. Ārstniecības pakalpojumi
B12: 5.5. Nodarbības funkcionālā speciālista vadībā
B13: 5.5.1. Ārstnieciskā vingrošana
B14: 5.5.1.2. Ārstnieciskā vingrošana ar TRX piekares sistēmu grupā līdz 10 cilvēkiem (vienai personai), 1 nodarbība līdz 60min
A15: Laikposms | B15: 2021.gadā un turpmāk
A17: Izdevumu klasifikācijas kods | B17: Rādītājs (materiāla/izejvielas nosaukums, atlīdzība un citi izmaksu veidi) | D17: Izmaksu apjoms noteiktā laikposmā viena maksas pakalpojuma veida nodrošināšanai
A18: 1 | B18: 2 | D18: 3
B19: Tiešās izmaksas
A20: 1100 | B20: Atalgojums | C20: 4.71 | D20: =C20*170 -> 800.7
A21: 1200 | B21: Darba devēja valsts sociālās apdrošināšanas obligātās iemaksas, pabalsti un kompensācijas | C21: 1.13 | D21: =C21*170 -> 192.1
A22: 2222 | B22: Izdevumi par ūdensapgādi un kanalizāciju | C22: 0.05 | D22: =C22*170 -> 8.5
A23: 2223 | B23: Izdevumi par elektroenerģiju | C23: 0.27 | D23: =C23*170 -> 45.9
A24: 2243 | B24: Iekārtas, inventāra un aparatūras remonts, tehniskā apkalpošana | C24: 0.1 | D24: =C24*170 -> 17
A25: 2244 | B25: Nekustamā īpašuma uzturēšana | C25: 0.38 | D25: =C25*170 -> 64.6
A26: 2311 | B26: Biroja preces | C26: 0 | D26: =C26*170 -> 0
A27: 2312 | B27: Inventārs | C27: 0.06 | D27: =C27*170 -> 10.2
A28: 2321 | B28: Kurināmais | C28: 0.28 | D28: =C28*170 -> 47.6
A29: 2341 | B29: Zāles, ķimikālijas, laboratorijas preces | C29: 0.15 | D29: =C29*170 -> 25.5
A30: 2350 | B30: Iestāžu uzturēšanas materiāli un preces | C30: 0.09 | D30: =C30*170 -> 15.3
A31: 5239 | B31: Pārējie pamatlīdzekļi | C31: 0.42 | D31: =C31*170 -> 71.4
B32: Tiešās izmaksas kopā | C32: =SUM(C20:C31) -> 7.64 | D32: =SUM(D20:D31) -> 1298.8
B33: Netiešās izmaksas
A34: 1100 | B34: Atalgojums | C34: 1.25 | D34: =C34*170 -> 212.5
A35: 1200 | B35: Darba devēja valsts sociālās apdrošināšanas obligātās iemaksas, pabalsti un kompensācijas | C35: 0.3 | D35: =C35*170 -> 51
A36: 2100 | B36: Mācību, darba un dienesta komandējumi, dienesta, darba braucieni | D36: =C36*170 -> 0
A37: 2210 | B37: Izdevumi par sakaru pakalpojumiem | C37: 0.02 | D37: =C37*170 -> 3.4
A38: 2222 | B38: Izdevumi par ūdeni un kanalizāciju | D38: =C38*170 -> 0
A39: 2223 | B39: Izdevumi par elektroenerģiju | C39: 0.1 | D39: =C39*170 -> 17
A40: 2224 | B40: Izdevumi par atkritumu savākšanu, izvešanu no apdzīvotām vietām un teritorijām ārpus apdzīvotām vietām un atkritumu utilizāciju | C40: 0.02 | D40: =C40*170 -> 3.4
A41: 2231 | B41: Izdevumi iestādes sabiedrisko aktivitāšu īstenošanai | C41: 0.02 | D41: =C41*170 -> 3.4
A42: 2239 | B42: Pārējie neklasificētie pakalpojumi | C42: 0.01 | D42: =C42*170 -> 1.7
A43: 2241 | B43: Ēku, būvju un telpu būdarbi | D43: =C43*170 -> 0
A44: 2242 | B44: Transportlīdzekļu uzturēšana un remonts | C44: 0.04 | D44: =C44*170 -> 6.8
...

Sheet 5.5.1.3.
D1: SASKAŅOTS
D2: Sociālās integrācijas valsts aģentūras
C3: direktore I.Jurševska
D5: 2020.gada .augustā
A7: Maksas pakalpojuma izcenojuma aprēķins
A9: Sociālās integrācijas valsts aģentūra
A10: Publiskā pakalpojuma veids:
B11: 5. Ārstniecības pakalpojumi
B12: 5.5. Nodarbības funkcionālā speciālista vadībā
B13: 5.5.1. Ārstnieciskā vingrošana
B14: 5.5.1.3. Ārstnieciskā vingrošana ar TRX piekares sistēmu individuāli, 1 nodarbība līdz 60min
A15: Laikposms | B15: 2021.gadā un turpmāk
A17: Izdevumu klasifikācijas kods | B17: Rādītājs (materiāla/izejvielas nosaukums, atlīdzība un citi izmaksu veidi) | D17: Izmaksu apjoms noteiktā laikposmā viena maksas pakalpojuma veida nodrošināšanai
A18: 1 | B18: 2 | D18: 3
B19: Tiešās izmaksas
A20: 1100 | B20: Atalgojums | C20: 10.59 | D20: =C20*150 -> 1588.5
A21: 1200 | B21: Darba devēja valsts sociālās apdrošināšanas obligātās iemaksas, pabalsti un kompensācijas | C21: 2.55 | D21: =C21*150 -> 382.5
A22: 2222 | B22: Izdevumi par ūdensapgādi un kanalizāciju | C22: 0.05 | D22: =C22*150 -> 7.5
A23: 2223 | B23: Izdevumi par elektroenerģiju | C23: 0.27 | D23: =C23*150 -> 40.5
A24: 2243 | B24: Iekārtas, inventāra un aparatūras remonts, tehniskā apkalpošana | C24: 0.25 | D24: =C24*150 -> 37.5
A25: 2244 | B25: Nekustamā īpašuma uzturēšana | C25: 0.35 | D25: =C25*150 -> 52.5
A26: 2311 | B26: Biroja preces | C26: 0.1 | D26: =C26*150 -> 15
A27: 2312 | B27: Inventārs | C27: 0.06 | D27: =C27*150 -> 9
A28: 2321 | B28: Kurināmais | C28: 0.28 | D28: =C28*150 -> 42
A29: 2341 | B29: Zāles, ķimikālijas, laboratorijas preces | C29: 0.15 | D29: =C29*150 -> 22.5
A30: 2350 | B30: Kārtējā remonta un iestāžu uzturēšanas materiāli | D30: =C30*150 -> 0
A31: 5239 | B31: Pārējie pamatlīdzekļi | C31: 0.42 | D31: =C31*150 -> 63
B32: Tiešās izmaksas kopā | C32: =SUM(C20:C31) -> 15.07 | D32: =SUM(D20:D31) -> 2260.5
B33: Netiešās izmaksas
A34: 1100 | B34: Atalgojums | C34: 2.23 | D34: =C34*150 -> 334.5
A35: 1200 | B35: Darba devēja valsts sociālās apdrošināšanas obligātās iemaksas, pabalsti un kompensācijas | C35: 0.54 | D35: =C35*150 -> 81
A36: 2100 | B36: Mācību, darba un dienesta komandējumi, dienesta, darba braucieni | C36: 0 | D36: =C36*150 -> 0
A37: 2210 | B37: Budžeta iestāžu dabas resursu nodokļa maksājumi | C37: 0.06 | D37: =C37*150 -> 9
A38: 2222 | B38: Izdevumi par ūdeni un kanalizāciju | C38: 0 | D38: =C38*150 -> 0
A39: 2223 | B39: Izdevumi par elektroenerģiju | C39: 0.23 | D39: =C39*150 -> 34.5
A40: 2224 | B40: Izdevumi par atkritumu savākšanu, izvešanu no apdzīvotām vietām un teritorijām ārpus apdzīvotām vietām un atkritumu utilizāciju | C40: 0.06 | D40: =C40*150 -> 9
A41: 2231 | B41: Izdevumi iestādes sabiedrisko aktivitāšu īstenošanai | C41: 0.05 | D41: =C41*150 -> 7.5
A42: 2239 | B42: Pārējie neklasificētie pakalpojumi | C42: 0.05 | D42: =C42*150 -> 7.5
A43: 2241 | B43: Ēku, būvju un telpu būvdarbi | C43: 0.06 | D43: =C43*150 -> 9
A44: 2242 | B44: Transportlīdzekļu uzturēšana un remonts | C44: 0.05 | D44: =C44*150 -> 7.5
...

Sheet 5.5.3.
C1: SASKAŅOTS | D1: SASKAŅOTS
C2: Sociālās integrācijas valsts aģentūras | D2: Sociālās integrācijas valsts aģentūras
D3: direktore I.Jurševska
C5: 2019. gada .martā | D5: 2020.gada .augustā
A7: Maksas pakalpojuma izcenojuma aprēķins
A9: Sociālās integrācijas valsts aģentūra
A10: Publiskā pakalpojuma veids:
B11: 5. Ārstniecības pakalpojumi
B12: 5.5. Nodarbības funkcionālā speciālista vadībā
B13: 5.5.3. Fizioterapija individuāli, 1 nodarbība līdz 45min.
A14: Laikposms | B14: 2021.gadā un turpmāk
A16: Izdevumu klasifikācijas kods | B16: Rādītājs (materiāla/izejvielas nosaukums, atlīdzība un citi izmaksu veidi) | D16: Izmaksu apjoms noteiktā laikposmā viena maksas pakalpojuma veida nodrošināšanai
A17: 1 | B17: 2 | D17: 3
B18: Tiešās izmaksas
A19: 1100 | B19: Atalgojums | C19: 8.82 | D19: =C19*550 -> 4851
A20: 1200 | B20: Darba devēja valsts sociālās apdrošināšanas obligātās iemaksas, pabalsti un kompensācijas | C20: 2.12 | D20: =C20*550 -> 1166
A21: 2222 | B21: Izdevumi par ūdensapgādi un kanalizāciju | C21: 0.02 | D21: =C21*550 -> 11
A22: 2223 | B22: Izdevumi par elektroenerģiju | C22: 0.11 | D22: =C22*550 -> 60.5
