Workbook

Sheet Saturs
C1: 1.pielikums
B2: Ministru kabineta noteikumu projekta "Grozījumi Ministru kabineta
A3: 2013.gada 24.septembra noteikumos Nr.1002 "Sociālās
B4: integrācijas valstas aģentūras sniegto maksas pakalpojumu cenrādis""
F5: sākotnējās ietekmes novērtējuma ziņojumam (anotācijai)
B11: Satura rādītājs
B13: 1.1. | C13: Profesionālās pilnveides un tālākizglītības programmas, 480 stundu programma
B14: 1.2. | C14: Profesionālās pilnveides un tālākizglītības programmas, 570 stundu programma
B15: 1.3. | C15: Profesionālās pilnveides un tālākizglītības programmas, 640 stundu programma
B16: 1.4. | C16: Profesionālās pilnveides un tālākizglītības programmas, 960 stundu programma
B17: 1.5. | C17: Profesionālās pilnveides un tālākizglītības programmas, 720 stundu programma
B18: 2.1. | C18: Profesionālās pamatizglītības programmas, arodizglītības programmas un profesionālās vidējās izglītības programmas, Ēdināšanas pakalpojumi
B19: 2.2. | C19: Profesionālās pamatizglītības programmas, arodizglītības programmas un profesionālās vidējās izglītības programmas, Datorsistēmas
B20: 2.3. | C20: Profesionālās pamatizglītības programmas, arodizglītības programmas un profesionālās vidējās izglītības programmas, Datoru lietošana
B21: 2.4. | C21: Profesionālās pamatizglītības programmas, arodizglītības programmas un profesionālās vidējās izglītības programmas, Šūto izstrādājumu ražošanas tehnoloģija
B22: 2.5. | C22: Profesionālās pamatizglītības programmas, arodizglītības programmas un profesionālās vidējās izglītības programmas, Elektronika un elektrotehnika
B23: 2.6. | C23: Profesionālās pamatizglītības programmas, arodizglītības programmas un profesionālās vidējās izglītības programmas, Metālapstrāde
B24: 3.1.1. | C24: Pirmā līmeņa profesionālās augstākās izglītības (koledžas izglītības) programmas, Studiju programmas pilna laika studijām, Studiju virzienu "Ekonomika" un "Vadība, administrēšana un nekustamo īpašumu pārvaldība" studiju programmas
... B29: 3.2.3. | C29: Pirmā līmeņa profesionālās augstākās izglītības (koledžas izglītības) programmas, Studiju programmas nepilna laika studijām, Studiju virziena "Viesnīcu un restorānu serviss, tūrisma un atpūtas organizācija" studiju programmas

Sheet Satura rādītājs
F1: 7.pielikums
F2: Ministru kabineta notiekumu projekta "Grozījumi Ministru kabineta
F3: 24.09.2013. notiekumos Nr.1002 "Sociālās integrācijas
F4: valsts aģentūras sniegto maksas pakalpojumu cenrādis"
F5: sākotnējās ietekmes novērtējuma ziņojumam (anotācijai)
C12: Satura rādītājs
B14: 6.1.1. | C14: Kabineta vai auditorijas noma, 1 stunda
B15: 6.1.2. | C15: Kabineta vai auditorijas noma, 1 diena (līdz 12 stundām)
B16: 6.1.3. | C16: Konferenču zāles noma Slokas ielā 61/3, Jūrmalā (135.7m2), 1 stunda
B17: 6.1.4. | C17: Konferenču zāles noma Slokas ielā 61/3, Jūrmalā (135.7m2), 1 diena (līdz 12 stundām)
B18: 6.1.5. | C18: Konferenču zāles noma Slokas ielā 68, Jūrmalā (126.4m2), 1 stunda
B19: 6.2. | C19: Sporta zāles noma Jūrmalā, Slokas ielā 61, 2.korpuss 1 stunda
B20: 6.3. | C20: Tirdzniecības vietas noma (26.1m2) Jūrmalā, Dubultu prospektā 71, 1 diena (līdz 12 stundām)
B21: 6.4. | C21: Baseina noma , 1 stunda
B22: 6.5. | C22: Baseina noma ar tvaika pirti , 1 stunda

Sheet 1.1.
B1: SASKAŅOTS
B2: Sociālās integrācijas valsts aģentūras
B3: direktores p.i. G.Apele
C5: 2020.gada 07.aprīlī
A7: Maksas pakalpojuma izcenojuma aprēķins
A9: Sociālās integrācijas valsts aģentūra
A10: Publiskā pakalpojuma veids:
B11: 1. Profesionālās pilnveides izglītības programmas un profesionālās tālākizglītības programmas
B12: 1.1. 684 stundu programma
A13: Laikposms | B13: 2019.gadā un turpmāk
A14: Izdevumu klasifikācijas kods | B14: Rādītājs (materiāla/izejvielas nosaukums, atlīdzība un citi izmaksu veidi) | C14: Izmaksu apjoms noteiktā laikposmā viena maksas pakalpojuma veida nodrošināšanai
A15: 1 | B15: 2 | C15: 3
B16: Tiešās izmaksas
A17: 1100 | B17: Atalgojums | C17: 2250.2
A18: 1200 | B18: Darba devēja valsts sociālās apdrošināšanas obligātās iemaksas, sociāla rakstura pabalsti un kompensācijas | C18: 542.07
A19: 2210 | B19: Pasta, telefona un citu sakaru pakalpojumi | C19: 0
A20: 2222 | B20: Izdevumi par ūdeni un kanalizāciju | C20: 23.69
A21: 2223 | B21: Izdevumi par elektroenerģiju | C21: 37.53
A22: 2243 | B22: Iekārtas, inventāra un aparatūras remonts, tehniskā apkalpošana | C22: 52.79
A23: 2251 | B23: Informācijas sistēmas uzturēšana | C23: 44.89
A24: 2261 | B24: Ēku, telpu īre un noma
A25: 2279 | B25: Pārējie iepriekš neklasificētie pakalpojumu veidi | C25: 0
A26: 2311 | B26: Biroja preces | C26: 44.79
A27: 2312 | B27: Inventārs | C27: 71.07
A28: 2321 | B28: Kurināmais | C28: 53.85
A29: 2350 | B29: Kārtējā remonta un iestāžu uzturēšanas materiāli
A30: 2361 | B30: Mīkstais inventārs
A31: 2370 | B31: Mācību līdzekļi un materiāli | C31: 104.52
A32: 2513 | B32: Budžeta iestāžu nekustamā īpašuma nodokļa (t.sk. zemes nodokļa parāda) maksājumi budžetā
A33: 5230 | B33: Pārējie pamatlīdzekļi | C33: 134.67
B34: Tiešās izmaksas kopā | C34: =SUM(C17:C33) -> 3360.07
B35: Netiešās izmaksas
A36: 1100 | B36: Atalgojums | C36: 335.06
A37: 1200 | B37: Darba devēja valsts sociālās apdrošināšanas obligātās iemaksas, sociāla rakstura pabalsti un kompensācijas | C37: 80.71
A38: 2210 | B38: Pasta, telefona un citu sakaru pakalpojumi | C38: 16
A39: 2230 | B39: Iestādes administratīvie izdevumi un ar iestādes darbības nodrošināšanu saistītie izdevumi | C39: 16.2
A40: 2241 | B40: Ēku, būvju un telpu kārtējais remonts | C40: 22.19
A41: 2242 | B41: Transportlīdzekļu uzturēšana un remonts | C41: 14.23
A42: 2243 | B42: Iekārtas, inventāra un aparatūras remonts, tehniskā apkalpošana | C42: 23.37
A43: 2244 | B43: Ēku, būvju un telpu uzturēšana | C43: 112.52
A44: 2247 | B44: Apdrošināšanas izdevumi | C44: 1.33
A45: 2251 | B45: Informācijas sistēmas uzturēšana | C45: 40.25
A46: 2259 | B46: Pārējie informācijas tehnoloģiju pakalpojumi | C46: 4.2
A47: 2262 | B47: Transportlīdzekļu noma | C47: 21.89
... A58: 2519 | B58: Pārējie budžeta iestāžu pārskaitītie nodokļi un nodevas | C58: 22.34
A59: 6240 | B59: Bezdarbnieku stipendijas
A60: 6290 | B60: Stipendijas
A61: 5232 | B61: Saimniecības pamatlīdzekļi | C61: 85.44
A62: 5240 | B62: Pamatlīdzekļu izveidošana un nepabeigtā būvniecība
A63: 5250 | B63: Kapitālais remonts un rekonstrukcija | C63: 33.47
B64: Netiešās izmaksas kopā | C64: =SUM(C36:C63) -> 1061.28
B65: Pakalpojumu izmaksas kopā | C65: =C64+C34 -> 4421.35
A67: Maksas pakalpojuma vienību skaits noteiktā laikposmā | C67: 5
A68: Maksas pakalpojuma izcenojums (euro) | C68: =C65/C67 -> 884.27
A70: Prognozētais maksas pakalpojumu skaits gadā (gab.)*
A71: Prognozētie ieņēmumi gadā (euro)*
A73: Piezīme. *Ailes neaizpilda, ja izvēlētais laikposms ir viens gads.
A75: Aprēķinu sastādīja: SIVA Finanšu nodaļas vecākā finanšu ekonomiste Anita Ozoliņa

Sheet 1.2.
B1: SASKAŅOTS
B2: Sociālās integrācijas valsts aģentūras
B3: direktores p.i. G.Apele
F5: 2019. gada 15.martā
A7: Maksas pakalpojuma izcenojuma aprēķins
A9: Sociālās integrācijas valsts aģentūra
A10: Publiskā pakalpojuma veids:
B11: 1. Profesionālās pilnveides izglītības programmas un profesionālās tālākizglītības programmas
B12: 1.2. 570 stundu programma
A13: Laikposms | B13: 2019.gadā un turpmāk
A14: Izdevumu klasifikācijas kods | B14: Rādītājs (materiāla/izejvielas nosaukums, atlīdzība un citi izmaksu veidi) | C14: Izmaksu apjoms noteiktā laikposmā viena maksas pakalpojuma veida nodrošināšanai (2014) | D14: Izmaksu apjoms noteiktā laikposmā viena maksas pakalpojuma veida nodrošināšanai (2014.gada) | E14: Izmaksu apjoms noteiktā laikposmā viena maksas pakalpojuma veida nodrošināšanai (2014.gada II.pusgads) | F14: Izmaksu apjoms noteiktā laikposmā viena maksas pakalpojuma veida nodrošināšanai
A15: 1 | B15: 2 | C15: 3 | D15: 3 | E15: 4 | F15: 3
B16: Tiešās izmaksas
A17: 1100 | B17: Atalgojums | C17: 1197.23 | D17: 0 | E17: 3074.97 | F17: 2455.6
A18: 1200 | B18: Darba devēja valsts sociālās apdrošināšanas obligātās iemaksas, sociāla rakstura pabalsti un kompensācijas | C18: 282.43 | D18: 0 | E18: 725.39 | F18: 591.55
A19: 2210 | B19: Pasta, telefona un citu sakaru pakalpojumi | C19: 8.82 | F19: 0
A20: 2222 | B20: Izdevumi par ūdeni un kanalizāciju | C20: 24.08 | D20: 0 | E20: =ROUND(C20/2,2) -> 12.04 | F20: 15.21
A21: 2223 | B21: Izdevumi par elektroenerģiju | C21: 28.15 | D21: 0 | E21: =ROUND(C21/2,2) -> 14.08 | F21: 109.52
A22: 2243 | B22: Iekārtas, inventāra un aparatūras remonts, tehniskā apkalpošana | C22: 6.3 | D22: 0 | E22: =ROUND(C22/2,2) -> 3.15 | F22: 42.65
A23: 2251 | B23: Informācijas sistēmas uzturēšana | C23: 26.6 | F23: 0
A24: 2261 | B24: Ēku, telpu īre un noma
A25: 2279 | B25: Pārējie iepriekš neklasificētie pakalpojumu veidi | C25: 25.19 | F25: 0
A26: 2311 | B26: Biroja preces | C26: 25.84 | F26: 203.58
A27: 2312 | B27: Inventārs | C27: 25.75 | F27: 471.03
A28: 2321 | B28: Kurināmais | C28: 28.89 | D28: 0 | E28: =ROUND(C28/2,2) -> 14.45 | F28: 157.13
A29: 2350 | B29: Kārtējā remonta un iestāžu uzturēšanas materiāli | D29: 0 | E29: =ROUND(C29/2,2) -> 0
A30: 2361 | B30: Mīkstais inventārs
A31: 2370 | B31: Mācību līdzekļi un materiāli | C31: 140.5 | F31: 475.02
A32: 2513 | B32: Budžeta iestāžu nekustamā īpašuma nodokļa (t.sk. zemes nodokļa parāda) maksājumi budžetā
A33: 5230 | B33: Pārējie pamatlīdzekļi | C33: 0 | D33: 0 | E33: =ROUND(C33/2,2) -> 0 | F33: 332.85
B34: Tiešās izmaksas kopā | C34: =SUM(C17:C33) -> 1819.78 | D34: =SUM(D17:D33) -> 0 | E34: =SUM(E17:E33) -> 3844.08 | F34: =SUM(F17:F33) -> 4854.14
B35: Netiešās izmaksas
A36: 1100 | B36: Atalgojums | C36: 454.77 | D36: 0 | E36: =ROUND(C36/2,2) -> 227.39 | F36: 366.22
A37: 1200 | B37: Darba devēja valsts sociālās apdrošināšanas obligātās iemaksas, sociāla rakstura pabalsti un kompensācijas | C37: 109.15 | D37: 0 | E37: =ROUND(C37/2,2) -> 54.58 | F37: 88.22
A38: 2210 | B38: Pasta, telefona un citu sakaru pakalpojumi | C38: 10.84 | D38: 0 | E38: =ROUND(C38/2,2) -> 5.42 | F38: 8.74
A39: 2230 | B39: Iestādes administratīvie izdevumi un ar iestādes darbības nodrošināšanu saistītie izdevumi | C39: 11 | D39: 0 | E39: =ROUND(C39/2,2) -> 5.5 | F39: 20.41
A40: 2241 | B40: Ēku, būvju un telpu kārtējais remonts | C40: 15.05 | D40: 0 | E40: =ROUND(C40/2,2) -> 7.53 | F40: 40.98
A41: 2242 | B41: Transportlīdzekļu uzturēšana un remonts | C41: 13.64 | D41: 0 | E41: =ROUND(C41/2,2) -> 6.82 | F41: 10.99
A42: 2243 | B42: Iekārtas, inventāra un aparatūras remonts, tehniskā apkalpošana | C42: 15.85 | D42: 0 | E42: =ROUND(C42/2,2) -> 7.93 | F42: 112.77
A43: 2244 | B43: Ēku, būvju un telpu uzturēšana | F43: 144.45
A44: 2247 | B44: Apdrošināšanas izdevumi | C44: 0.91 | D44: 0 | E44: =ROUND(C44/2,2) -> 0.46 | F44: 0.73
A45: 2251 | B45: Informācijas sistēmas uzturēšana | C45: 27.28 | D45: 0 | E45: =ROUND(C45/2,2) -> 13.64 | F45: 21.98
A46: 2259 | B46: Pārējie informācijas tehnoloģiju pakalpojumi | C46: 2.85 | D46: 0 | E46: =ROUND(C46/2,2) -> 1.43 | F46: 2.3
A47: 2262 | B47: Transportlīdzekļu noma | C47: 14.86 | D47: 0 | E47: =ROUND(C47/2,2) -> 7.43 | F47: 11.97
A48: 2264 | B48: Iekārtu un inventāra īre un noma | C48: 0.11 | D48: 0 | E48: =ROUND(C48/2,2) -> 0.06 | F48: 0.09
A49: 2279 | B49: Pārējie iepriekš neklasificētie pakalpojumu veidi | C49: 0.91 | D49: 0 | E49: =ROUND(C49/2,2) -> 0.46 | F49: 18.05
A50: 2311 | B50: Biroja preces | C50: 14.55 | D50: 0 | E50: =ROUND(C50/2,2) -> 7.28 | F50: 11.73
A51: 2312 | B51: Inventārs | C51: 21.91 | D51: 0 | E51: =ROUND(C51/2,2) -> 10.96 | F51: 17.66
A52: 2322 | B52: Degviela | C52: 9.92 | D52: 0 | E52: =ROUND(C52/2,2) -> 4.96 | F52: 7.99
A53: 2350 | B53: Kārtējā remonta un iestāžu uzturēšanas materiāli | C53: 30.86 | D53: 0 | E53: =ROUND(C53/2,2) -> 15.43 | F53: 24.87
A54: 2361 | B54: Mīkstais inventārs | C54: 26.37 | D54: 0 | E54: =ROUND(C54/2,2) -> 13.19 | F54: 21.25
A55: 2370 | B55: Mācību līdzekļi un materiāli | C55: 23.52 | D55: 0 | E55: =ROUND(C55/2,2) -> 11.76 | F55: 18.95
... A57: 2515 | B57: Budžeta iestāžu dabas resursu nodokļa maksājumi | C57: 8.2 | D57: 0 | E57: =ROUND(C57/2,2) -> 4.1 | F57: 6.61
A58: 2519 | B58: Pārējie budžeta iestāžu pārskaitītie nodokļi un nodevas | C58: 15.15 | F58: 12.21
A59: 6240 | B59: Bezdarbnieku stipendijas | D59: 0 | E59: =ROUND(C59/2,2) -> 0
A60: 6290 | B60: Stipendijas | D60: 0 | E60: =ROUND(C60/2,2) -> 0
A61: 5232 | B61: Saimniecības pamatlīdzekļi | C61: 57.93 | D61: =SUM(D36:D60) -> 0 | E61: =SUM(E36:E60) -> 406.91 | F61: 46.68
A62: 5240 | B62: Pamatlīdzekļu izveidošana un nepabeigtā būvniecība | D62: =D61+D34 -> 0 | E62: =E61+E34 -> 4250.99
A63: 5250 | B63: Kapitālais remonts un rekonstrukcija | C63: 22.74 | D63: 0 | E63: =ROUND(C63/2,2) -> 11.37 | F63: 18.28
B64: Netiešās izmaksas kopā | C64: =SUM(C36:C63) -> 909.52 | D64: 0 | E64: =ROUND(C64/2,2) -> 454.76 | F64: =SUM(F36:F63) -> 1035.06
B65: Pakalpojumu izmaksas kopā | C65: =C64+C34 -> 2729.3 | F65: =F34+F64 -> 5889.2
A66: Maksas pakalpojuma vienību skaits noteiktā laikposmā | C66: 442 | D66: 0 | E66: 221 | F66: 5
A67: Maksas pakalpojuma izcenojums (euro) | C67: =#REF!/C66 -> #REF! | D67: 0 | E67: =#REF!/E66 -> #REF! | F67: =F65/F66 -> 1177.84
A69: Prognozētais maksas pakalpojumu skaits gadā (gab.)*
A70: Prognozētie ieņēmumi gadā (euro)*
A72: Piezīme. *Ailes neaizpilda, ja izvēlētais laikposms ir viens gads.
A74: Aprēķinu sastādīja: SIVA Finanšu nodaļas vecākā finanšu ekonomiste Anita Ozoliņa

Sheet 1.3.(N)
B1: SASKAŅOTS
B2: Sociālās integrācijas valsts aģentūras
B3: direktore I.Jurševska
F5: ='1.2.'!F5 -> 2019. gada 15.martā
A7: Maksas pakalpojuma izcenojuma aprēķins
A9: Sociālās integrācijas valsts aģentūra
A10: Publiskā pakalpojuma veids:
B11: 1. Profesionālās pilnveides izglītības programmas un profesionālās tālākizglītības programmas
B12: 1.3. 640 stundu programma
A13: Laikposms | B13: ='1.2.'!B13 -> 2019.gadā un turpmāk
A14: Izdevumu klasifikācijas kods | B14: Rādītājs (materiāla/izejvielas nosaukums, atlīdzība un citi izmaksu veidi) | C14: Izmaksu apjoms noteiktā laikposmā viena maksas pakalpojuma veida nodrošināšanai (2014) | D14: Izmaksu apjoms noteiktā laikposmā viena maksas pakalpojuma veida nodrošināšanai (2014.gada) | E14: Izmaksu apjoms noteiktā laikposmā viena maksas pakalpojuma veida nodrošināšanai (2014.gada II.pusgads) | F14: Izmaksu apjoms noteiktā laikposmā viena maksas pakalpojuma veida nodrošināšanai
A15: 1 | B15: 2 | C15: 3 | D15: 3 | E15: 4 | F15: 3
B16: Tiešās izmaksas
A17: 1100 | B17: Atalgojums | C17: 5789.22 | D17: 0 | E17: 3074.97 | F17: 1998.58
A18: 1200 | B18: Darba devēja valsts sociālās apdrošināšanas obligātās iemaksas, sociāla rakstura pabalsti un kompensācijas | C18: 1365.67 | D18: 0 | E18: 725.39 | F18: 481.46
A19: 2210 | B19: Pasta, telefona un citu sakaru pakalpojumi | F19: 15.17
A20: 2222 | B20: Izdevumi par ūdeni un kanalizāciju | C20: 516.82 | D20: 0 | E20: =ROUND(C20/2,2) -> 258.41 | F20: 78.62
A21: 2223 | B21: Izdevumi par elektroenerģiju | C21: 175.44 | D21: 0 | E21: =ROUND(C21/2,2) -> 87.72 | F21: 124.78
A22: 2243 | B22: Iekārtas, inventāra un aparatūras remonts, tehniskā apkalpošana | C22: 125.47 | D22: 0 | E22: =ROUND(C22/2,2) -> 62.74 | F22: 11.37
A23: 2244 | B23: Ēku, būvju un telpu uzturēšana | F23: 85.2
A24: 2251 | B24: Informācijas sistēmas uzturēšana | F24: 41.7
A25: 2261 | B25: Ēku, telpu īre un noma
A26: 2279 | B26: Pārējie iepriekš neklasificētie pakalpojumu veidi | F26: 17.69
A27: 2311 | B27: Biroja preces | F27: 21.48
A28: 2312 | B28: Inventārs | F28: 8.85
A29: 2321 | B29: Kurināmais | C29: 241.21 | D29: 0 | E29: =ROUND(C29/2,2) -> 120.61 | F29: 128.08
A30: 2350 | B30: Kārtējā remonta un iestāžu uzturēšanas materiāli | C30: 35.27 | D30: 0 | E30: =ROUND(C30/2,2) -> 17.64 | F30: 18.96
A31: 2361 | B31: Mīkstais inventārs
A32: 2370 | B32: Mācību līdzekļi un materiāli | F32: 136.95
A33: 2513 | B33: Budžeta iestāžu nekustamā īpašuma nodokļa (t.sk. zemes nodokļa parāda) maksājumi budžetā
A34: 5230 | B34: Pārējie pamatlīdzekļi | C34: 1.8 | D34: 0 | E34: =ROUND(C34/2,2) -> 0.9 | F34: 40.06
B35: Tiešās izmaksas kopā | C35: =SUM(C17:C34) -> 8250.9 | D35: =SUM(D17:D34) -> 0 | E35: =SUM(E17:E34) -> 4348.38 | F35: =SUM(F17:F34) -> 3208.95
B36: Netiešās izmaksas
A37: 1100 | B37: Atalgojums | C37: 4429 | D37: 0 | E37: =ROUND(C37/2,2) -> 2214.5 | F37: 690.72
A38: 1200 | B38: Darba devēja valsts sociālās apdrošināšanas obligātās iemaksas, sociāla rakstura pabalsti un kompensācijas | C38: 1044.8 | D38: 0 | E38: =ROUND(C38/2,2) -> 522.4 | F38: 166.39
A39: 2210 | B39: Pasta, telefona un citu sakaru pakalpojumi | C39: 93.67 | D39: 0 | E39: =ROUND(C39/2,2) -> 46.84 | F39: 6.76
A40: 2230 | B40: Iestādes administratīvie izdevumi un ar iestādes darbības nodrošināšanu saistītie izdevumi | C40: 72.35 | D40: 0 | E40: =ROUND(C40/2,2) -> 36.18 | F40: 4.55
A41: 2241 | B41: Ēku, būvju un telpu kārtējais remonts | C41: 0.1 | D41: 0 | E41: =ROUND(C41/2,2) -> 0.05 | F41: 0.86
A42: 2242 | B42: Transportlīdzekļu uzturēšana un remonts | C42: 21.56 | D42: 0 | E42: =ROUND(C42/2,2) -> 10.78 | F42: 3.13
A43: 2243 | B43: Iekārtas, inventāra un aparatūras remonts, tehniskā apkalpošana | C43: 68.84 | D43: 0 | E43: =ROUND(C43/2,2) -> 34.42 | F43: 3.63
A44: 2247 | B44: Apdrošināšanas izdevumi | C44: 5.71 | D44: 0 | E44: =ROUND(C44/2,2) -> 2.86 | F44: 0.93
A45: 2251 | B45: Informācijas sistēmas uzturēšana | C45: 145.52 | D45: 0 | E45: =ROUND(C45/2,2) -> 72.76 | F45: 13.8
A46: 2259 | B46: Pārējie informācijas tehnoloģiju pakalpojumi | C46: 0.48 | D46: 0 | E46: =ROUND(C46/2,2) -> 0.24 | F46: 0.07
A47: 2262 | B47: Transportlīdzekļu noma | C47: 63.08 | D47: 0 | E47: =ROUND(C47/2,2) -> 31.54 | F47: 7.61
A48: 2264 | B48: Iekārtu un inventāra īre un noma | C48: 1.18 | D48: 0 | E48: =ROUND(C48/2,2) -> 0.59 | F48: 0.14
... A57: 2519 | B57: Pārējie budžeta iestāžu pārskaitītie nodokļi un nodevas | C57: 36.72 | D57: 0 | E57: =ROUND(C57/2,2) -> 18.36 | F57: 6.55
A58: 5232 | B58: Saimniecības pamatlīdzekļi | F58: 46.46
A59: 5240 | B59: Pamatlīdzekļu izveidošana un nepabeigtā būvniecība | C59: 2.07 | D59: 0 | E59: =ROUND(C59/2,2) -> 1.04 | F59: 9.32
A60: 5250 | B60: Kapitālais remonts un rekonstrukcija | C60: 5975.84 | D60: 0 | E60: =ROUND(C60/2,2) -> 2987.92 | F60: 37.21
B61: Netiešās izmaksas kopā | C61: =SUM(C37:C60) -> 12764.95 | D61: =SUM(D37:D60) -> 0 | E61: =SUM(E37:E60) -> 6382.52 | F61: =SUM(F37:F60) -> 1052.75
B62: Pakalpojumu izmaksas kopā | C62: =#REF!+C28 -> #REF! | D62: =#REF!+D28 -> #REF! | E62: =#REF!+E28 -> #REF! | F62: =F35+F61 -> 4261.7
A64: Maksas pakalpojuma vienību skaits noteiktā laikposmā | C64: 2943 | D64: 0 | E64: 1472 | F64: 5
A65: Maksas pakalpojuma izcenojums (euro) | C65: =C62/C64 -> #REF! | D65: 0 | E65: =E62/E64 -> #REF! | F65: =F62/F64 -> 852.34
A67: Prognozētais maksas pakalpojumu skaits gadā (gab.)*
A68: Prognozētie ieņēmumi gadā (euro)*
A70: Piezīme. *Ailes neaizpilda, ja izvēlētais laikposms ir viens gads.
A72: Aprēķinu sastādīja: SIVA Finanšu nodaļas vecākā finanšu ekonomiste Anita Ozoliņa

Sheet 1.3.
B1: SASKAŅOTS
B2: Sociālās integrācijas valsts aģentūras
B3: direktores p.i. G.Apele
F5: ='1.1.'!C5 -> 2020.gada 07.aprīlī
A7: Maksas pakalpojuma izcenojuma aprēķins
A9: Sociālās integrācijas valsts aģentūra
A10: Publiskā pakalpojuma veids:
B11: ='1.5.'!B11 -> 1. Profesionālās pilnveides izglītības programmas un profesionālās tālākizglītības programmas
B12: 1.3. 1040 stundu programma
A13: Laikposms | B13: ='1.1.'!B13 -> 2019.gadā un turpmāk
A14: Izdevumu klasifikācijas kods | B14: Rādītājs (materiāla/izejvielas nosaukums, atlīdzība un citi izmaksu veidi) | C14: Izmaksu apjoms noteiktā laikposmā viena maksas pakalpojuma veida nodrošināšanai (2014) | D14: Izmaksu apjoms noteiktā laikposmā viena maksas pakalpojuma veida nodrošināšanai (2014.gada) | E14: Izmaksu apjoms noteiktā laikposmā viena maksas pakalpojuma veida nodrošināšanai (2014.gada II.pusgads) | F14: Izmaksu apjoms noteiktā laikposmā viena maksas pakalpojuma veida nodrošināšanai
A15: 1 | B15: 2 | C15: 3 | D15: 3 | E15: 4 | F15: 3
B16: Tiešās izmaksas
A17: 1100 | B17: Atalgojums | C17: 5789.22 | D17: 0 | E17: 3074.97 | F17: =711.61*5 -> 3558.05
A18: 1200 | B18: Darba devēja valsts sociālās apdrošināšanas obligātās iemaksas, sociāla rakstura pabalsti un kompensācijas | C18: 1365.67 | D18: 0 | E18: 725.39 | F18: =171.43*5 -> 857.15
A19: 2210 | B19: Pasta, telefona un citu sakaru pakalpojumi
A20: 2222 | B20: Izdevumi par ūdeni un kanalizāciju | C20: 516.82 | D20: 0 | E20: =ROUND(C20/2,2) -> 258.41 | F20: =5.55*5 -> 27.75
A21: 2223 | B21: Izdevumi par elektroenerģiju | C21: 175.44 | D21: 0 | E21: =ROUND(C21/2,2) -> 87.72 | F21: =25.56*5 -> 127.8
A22: 2243 | B22: Iekārtas, inventāra un aparatūras remonts, tehniskā apkalpošana | C22: 125.47 | D22: 0 | E22: =ROUND(C22/2,2) -> 62.74 | F22: =76.28*5 -> 381.4
A23: 2244 | B23: Ēku, būvju un telpu uzturēšana | F23: =52.71*5 -> 263.55
A24: 2251 | B24: Informācijas sistēmas uzturēšana
A25: 2261 | B25: Ēku, telpu īre un noma
A26: 2279 | B26: Pārējie iepriekš neklasificētie pakalpojumu veidi
A27: 2311 | B27: Biroja preces | F27: =7.8*5 -> 39
A28: 2312 | B28: Inventārs | F28: =46.26*5 -> 231.3
A29: 2321 | B29: Kurināmais | C29: 241.21 | D29: 0 | E29: =ROUND(C29/2,2) -> 120.61 | F29: =28.65*5 -> 143.25
A30: 2350 | B30: Kārtējā remonta un iestāžu uzturēšanas materiāli | C30: 35.27 | D30: 0 | E30: =ROUND(C30/2,2) -> 17.64 | F30: =50.85*5 -> 254.25
A31: 2361 | B31: Mīkstais inventārs | F31: 0
A32: 2370 | B32: Mācību līdzekļi un materiāli | F32: =31.21*5 -> 156.05
A33: 2513 | B33: Budžeta iestāžu nekustamā īpašuma nodokļa (t.sk. zemes nodokļa parāda) maksājumi budžetā
A34: 5230 | B34: Pārējie pamatlīdzekļi | C34: 1.8 | D34: 0 | E34: =ROUND(C34/2,2) -> 0.9 | F34: =127.13*5 -> 635.65
B35: Tiešās izmaksas kopā | C35: =SUM(C17:C34) -> 8250.9 | D35: =SUM(D17:D34) -> 0 | E35: =SUM(E17:E34) -> 4348.38 | F35: =SUM(F17:F34) -> 6675.2
B36: Netiešās izmaksas
A37: 1100 | B37: Atalgojums | C37: 4429 | D37: 0 | E37: =ROUND(C37/2,2) -> 2214.5 | F37: =236.92*5 -> 1184.6
A38: 1200 | B38: Darba devēja valsts sociālās apdrošināšanas obligātās iemaksas, sociāla rakstura pabalsti un kompensācijas | C38: 1044.8 | D38: 0 | E38: =ROUND(C38/2,2) -> 522.4 | F38: =57.07*5 -> 285.35
A39: 2210 | B39: Pasta, telefona un citu sakaru pakalpojumi | C39: 93.67 | D39: 0 | E39: =ROUND(C39/2,2) -> 46.84 | F39: =7.93*5 -> 39.65
A40: 2230 | B40: Iestādes administratīvie izdevumi un ar iestādes darbības nodrošināšanu saistītie izdevumi | C40: 72.35 | D40: 0 | E40: =ROUND(C40/2,2) -> 36.18 | F40: =10.25*5 -> 51.25
A41: 2241 | B41: Ēku, būvju un telpu kārtējais remonts | C41: 0.1 | D41: 0 | E41: =ROUND(C41/2,2) -> 0.05 | F41: =1.85*5 -> 9.25
A42: 2242 | B42: Transportlīdzekļu uzturēšana un remonts | C42: 21.56 | D42: 0 | E42: =ROUND(C42/2,2) -> 10.78 | F42: =7.07*5 -> 35.35
A43: 2243 | B43: Iekārtas, inventāra un aparatūras remonts, tehniskā apkalpošana | C43: 68.84 | D43: 0 | E43: =ROUND(C43/2,2) -> 34.42 | F43: =6.94*5 -> 34.7
A44: 2244 | B44: Ēku, būvju un telpu uzturēšana | F44: =27.83*5 -> 139.15
A45: 2247 | B45: Apdrošināšanas izdevumi | C45: 5.71 | D45: 0 | E45: =ROUND(C45/2,2) -> 2.86 | F45: =2.04*5 -> 10.2
A46: 2251 | B46: Informācijas sistēmas uzturēšana | C46: 145.52 | D46: 0 | E46: =ROUND(C46/2,2) -> 72.76 | F46: =10.25*5 -> 51.25
A47: 2259 | B47: Pārējie informācijas tehnoloģiju pakalpojumi | C47: 0.48 | D47: 0 | E47: =ROUND(C47/2,2) -> 0.24 | F47: =0.13*5 -> 0.65
A48: 2261 | B48: Ēku, telpu īre un noma | F48: =5.09*5 -> 25.45
A49: 2262 | B49: Transportlīdzekļu noma | C49: 63.08 | D49: 0 | E49: =ROUND(C49/2,2) -> 31.54 | F49: =10.78*5 -> 53.9
A50: 2264 | B50: Iekārtu un inventāra īre un noma | C50: 1.18 | D50: 0 | E50: =ROUND(C50/2,2) -> 0.59 | F50: =0.13*5 -> 0.65
A51: 2279 | B51: Pārējie iepriekš neklasificētie pakalpojumu veidi | C51: 259.89 | D51: 0 | E51: =ROUND(C51/2,2) -> 129.95 | F51: =3.66*5 -> 18.3
A52: 2311 | B52: Biroja preces | C52: 24.47 | D52: 0 | E52: =ROUND(C52/2,2) -> 12.24 | F52: =5.03*5 -> 25.15
A53: 2312 | B53: Inventārs | C53: 45.22 | D53: 0 | E53: =ROUND(C53/2,2) -> 22.61 | F53: =5.13*5 -> 25.65
A54: 2322 | B54: Degviela | C54: 170.03 | D54: 0 | E54: =ROUND(C54/2,2) -> 85.02 | F54: =14.21*5 -> 71.05
A55: 2350 | B55: Kārtējā remonta un iestāžu uzturēšanas materiāli | C55: 193.6 | D55: 0 | E55: =ROUND(C55/2,2) -> 96.8 | F55: =18.61*5 -> 93.05
A56: 2361 | B56: Mīkstais inventārs | F56: =8.42*5 -> 42.1
A57: 2370 | B57: Mācību līdzekļi un materiāli | F57: =6.44*5 -> 32.2
A58: 2400 | B58: Izdevumi periodikas iegādei | F58: =2.42*5 -> 12.1
A59: 2513 | B59: Budžeta iestāžu nekustamā īpašuma nodokļa (t.sk. zemes nodokļa parāda) maksājumi budžetā | F59: =5.83*5 -> 29.15
A60: 2515 | B60: Budžeta iestāžu dabas resursu nodokļa maksājumi | F60: =6.56*5 -> 32.8
A61: 2519 | B61: Pārējie budžeta iestāžu pārskaitītie nodokļi un nodevas | F61: =14.52*5 -> 72.6
A62: 5232 | B62: Saimniecības pamatlīdzekļi | F62: =55.5*5 -> 277.5
A63: 5240 | B63: Pamatlīdzekļu izveidošana un nepabeigtā būvniecība
A64: 5250 | B64: Kapitālais remonts un rekonstrukcija | F64: =23.12*5 -> 115.6
B65: Netiešās izmaksas kopā | C65: =SUM(C37:C55) -> 6639.5 | D65: =SUM(D37:D55) -> 0 | E65: =SUM(E37:E55) -> 3319.78 | F65: =SUM(F37:F64) -> 2768.65
B66: Pakalpojumu izmaksas kopā | C66: =#REF!+C28 -> #REF! | D66: =#REF!+D28 -> #REF! | E66: =#REF!+E28 -> #REF! | F66: =F35+F65 -> 9443.85
A68: Maksas pakalpojuma vienību skaits noteiktā laikposmā | C68: 2172 | D68: 0 | E68: 1086 | F68: 5
A69: Maksas pakalpojuma izcenojums (euro) | C69: =C66/C68 -> #REF! | D69: 0 | E69: =E66/E68 -> #REF! | F69: =F66/F68 -> 1888.77
A71: Prognozētais maksas pakalpojumu skaits gadā (gab.)*
A72: Prognozētie ieņēmumi gadā (euro)*
A74: Piezīme. *Ailes neaizpilda, ja izvēlētais laikposms ir viens gads.
A76: Aprēķinu sastādīja: SIVA Finanšu nodaļas vecākā finanšu ekonomiste Anita Ozoliņa

Sheet 1.4.
B1: SASKAŅOTS
B2: Sociālās integrācijas valsts aģentūras
B3: direktores p.i. G.Apele
F5: ='1.2.'!F5 -> 2019. gada 15.martā
A7: Maksas pakalpojuma izcenojuma aprēķins
A9: Sociālās integrācijas valsts aģentūra
A10: Publiskā pakalpojuma veids:
B11: 1. Profesionālās pilnveides izglītības programmas un profesionālās tālākizglītības programmas
B12: 1.4. 960 stundu programma
A13: Laikposms | B13: ='1.2.'!B13 -> 2019.gadā un turpmāk
A14: Izdevumu klasifikācijas kods | B14: Rādītājs (materiāla/izejvielas nosaukums, atlīdzība un citi izmaksu veidi) | C14: Izmaksu apjoms noteiktā laikposmā viena maksas pakalpojuma veida nodrošināšanai (2014) | D14: Izmaksu apjoms noteiktā laikposmā viena maksas pakalpojuma veida nodrošināšanai (2014.gada) | E14: Izmaksu apjoms noteiktā laikposmā viena maksas pakalpojuma veida nodrošināšanai (2014.gada II.pusgads) | F14: Izmaksu apjoms noteiktā laikposmā viena maksas pakalpojuma veida nodrošināšanai
A15: 1 | B15: 2 | C15: 3 | D15: 3 | E15: 4 | F15: 3
B16: Tiešās izmaksas
A17: 1100 | B17: Atalgojums | C17: 5789.22 | D17: 0 | E17: 3074.97 | F17: =[1]JPV_kursi!$H$10 -> 4054.714
A18: 1200 | B18: Darba devēja valsts sociālās apdrošināšanas obligātās iemaksas, sociāla rakstura pabalsti un kompensācijas | C18: 1365.67 | D18: 0 | E18: 725.39 | F18: =F17*0.2409 -> 976.7806
A19: 2210 | B19: Pasta, telefona un citu sakaru pakalpojumi | F19: 0
A20: 2222 | B20: Izdevumi par ūdeni un kanalizāciju | C20: 516.82 | D20: 0 | E20: =ROUND(C20/2,2) -> 258.41 | F20: =[1]JPV_kursi!$H$41 -> 57.629114
A21: 2223 | B21: Izdevumi par elektroenerģiju | C21: 175.44 | D21: 0 | E21: =ROUND(C21/2,2) -> 87.72 | F21: =[1]JPV_kursi!$H$39 -> 88.460329
A22: 2243 | B22: Iekārtas, inventāra un aparatūras remonts, tehniskā apkalpošana | C22: 125.47 | D22: 0 | E22: =ROUND(C22/2,2) -> 62.74 | F22: 106.08
A23: 2244 | B23: Ēku, būvju un telpu uzturēšana | F23: =[1]JPV_kursi!$H$40 -> 182.45911
A24: 2251 | B24: Informācijas sistēmas uzturēšana | F24: 0
A25: 2261 | B25: Ēku, telpu īre un noma
A26: 2279 | B26: Pārējie iepriekš neklasificētie pakalpojumu veidi | F26: 0
A27: 2311 | B27: Biroja preces | F27: =417.79/3 -> 139.26333
A28: 2312 | B28: Inventārs | F28: =[1]JPV_kursi!$H$36 -> 80.302365
A29: 2321 | B29: Kurināmais | C29: 241.21 | D29: 0 | E29: =ROUND(C29/2,2) -> 120.61 | F29: =[1]JPV_kursi!$H$38 -> 99.188453
A30: 2350 | B30: Kārtējā remonta un iestāžu uzturēšanas materiāli | C30: 35.27 | D30: 0 | E30: =ROUND(C30/2,2) -> 17.64 | F30: 108.9
A31: 2361 | B31: Mīkstais inventārs | F31: 0
A32: 2370 | B32: Mācību līdzekļi un materiāli | F32: =417.79/3*2 -> 278.52667
A33: 2513 | B33: Budžeta iestāžu nekustamā īpašuma nodokļa (t.sk. zemes nodokļa parāda) maksājumi budžetā
A34: 5230 | B34: Pārējie pamatlīdzekļi | C34: 1.8 | D34: 0 | E34: =ROUND(C34/2,2) -> 0.9 | F34: 424.34
B35: Tiešās izmaksas kopā | C35: =SUM(C17:C34) -> 8250.9 | D35: =SUM(D17:D34) -> 0 | E35: =SUM(E17:E34) -> 4348.38 | F35: =SUM(F17:F34) -> 6596.6439
B36: Netiešās izmaksas
A37: 1100 | B37: Atalgojums | C37: 4429 | D37: 0 | E37: =ROUND(C37/2,2) -> 2214.5 | F37: 812.37
A38: 1200 | B38: Darba devēja valsts sociālās apdrošināšanas obligātās iemaksas, sociāla rakstura pabalsti un kompensācijas | C38: 1044.8 | D38: 0 | E38: =ROUND(C38/2,2) -> 522.4 | F38: 195.7
A39: 2210 | B39: Pasta, telefona un citu sakaru pakalpojumi | C39: 93.67 | D39: 0 | E39: =ROUND(C39/2,2) -> 46.84 | F39: 10.19
A40: 2230 | B40: Iestādes administratīvie izdevumi un ar iestādes darbības nodrošināšanu saistītie izdevumi | C40: 72.35 | D40: 0 | E40: =ROUND(C40/2,2) -> 36.18 | F40: 4.85
A41: 2241 | B41: Ēku, būvju un telpu kārtējais remonts | C41: 0.1 | D41: 0 | E41: =ROUND(C41/2,2) -> 0.05 | F41: 34.83
A42: 2242 | B42: Transportlīdzekļu uzturēšana un remonts | C42: 21.56 | D42: 0 | E42: =ROUND(C42/2,2) -> 10.78 | F42: 15.47
A43: 2243 | B43: Iekārtas, inventāra un aparatūras remonts, tehniskā apkalpošana | C43: 68.84 | D43: 0 | E43: =ROUND(C43/2,2) -> 34.42 | F43: 23.35
A44: 2244 | B44: Ēku, būvju un telpu uzturēšana | F44: 20.8
A45: 2247 | B45: Apdrošināšanas izdevumi | C45: 5.71 | D45: 0 | E45: =ROUND(C45/2,2) -> 2.86 | F45: 0.97
A46: 2251 | B46: Informācijas sistēmas uzturēšana | C46: 145.52 | D46: 0 | E46: =ROUND(C46/2,2) -> 72.76 | F46: 7.58
A47: 2259 | B47: Pārējie informācijas tehnoloģiju pakalpojumi | C47: 0.48 | D47: 0 | E47: =ROUND(C47/2,2) -> 0.24 | F47: 0.09
A48: 2262 | B48: Transportlīdzekļu noma | C48: 63.08 | D48: 0 | E48: =ROUND(C48/2,2) -> 31.54 | F48: 5.09
A49: 2264 | B49: Iekārtu un inventāra īre un noma | C49: 1.18 | D49: 0 | E49: =ROUND(C49/2,2) -> 0.59 | F49: 0.09
A50: 2279 | B50: Pārējie iepriekš neklasificētie pakalpojumu veidi | C50: 259.89 | D50: 0 | E50: =ROUND(C50/2,2) -> 129.95 | F50: 14.8
A51: 2311 | B51: Biroja preces | C51: 24.47 | D51: 0 | E51: =ROUND(C51/2,2) -> 12.24 | F51: 11.04
A52: 2312 | B52: Inventārs | C52: 45.22 | D52: 0 | E52: =ROUND(C52/2,2) -> 22.61 | F52: 28.32
A53: 2322 | B53: Degviela | C53: 170.03 | D53: 0 | E53: =ROUND(C53/2,2) -> 85.02 | F53: 20.35
A54: 2350 | B54: Kārtējā remonta un iestāžu uzturēšanas materiāli | C54: 193.6 | D54: 0 | E54: =ROUND(C54/2,2) -> 96.8 | F54: 22.55
A55: 2515 | B55: Budžeta iestāžu dabas resursu nodokļa maksājumi | F55: 4.91
A56: 5232 | B56: Saimniecības pamatlīdzekļi | F56: 49.17
A57: 5240 | B57: Pamatlīdzekļu izveidošana un nepabeigtā būvniecība | F57: 9.81
A58: 5250 | B58: Kapitālais remonts un rekonstrukcija | F58: 39.28
B59: Netiešās izmaksas kopā | C59: =SUM(C37:C54) -> 6639.5 | D59: =SUM(D37:D54) -> 0 | E59: =SUM(E37:E54) -> 3319.78 | F59: =SUM(F37:F58) -> 1331.61
B60: Pakalpojumu izmaksas kopā | C60: =#REF!+C28 -> #REF! | D60: =#REF!+D28 -> #REF! | E60: =#REF!+E28 -> #REF! | F60: =F35+F59 -> 7928.2539
A62: Maksas pakalpojuma vienību skaits noteiktā laikposmā | C62: 287 | D62: 0 | E62: 143 | F62: 5
A63: Maksas pakalpojuma izcenojums (euro) | C63: =#REF!/C62 -> #REF! | D63: 0 | E63: =#REF!/E62 -> #REF! | F63: =F60/F62 -> 1585.6508
A65: Prognozētais maksas pakalpojumu skaits gadā (gab.)*
A66: Prognozētie ieņēmumi gadā (euro)*
A68: Piezīme. *Ailes neaizpilda, ja izvēlētais laikposms ir viens gads.
A70: Aprēķinu sastādīja: SIVA Finanšu nodaļas vecākā finanšu ekonomiste Anita Ozoliņa

Sheet 1.6.
B1: SASKAŅOTS
B2: Sociālās integrācijas valsts aģentūras
B3: direktore I.Jurševska
D5: 2020.gada .augustā
A7: Maksas pakalpojuma izcenojuma aprēķins
A9: Sociālās integrācijas valsts aģentūra
A10: Publiskā pakalpojuma veids:
B11: 1. Profesionālās pilnveides izglītības programmas, profesionālās tālākizglītības programmas un tālākizglītības kursi, semināri, lekcijas
B12: 1.6. 1204 stundu programma
A14: Laikposms | B14: 2021.gadā un turpmāk
A15: Izdevumu klasifikācijas kods | B15: Rādītājs (materiāla/izejvielas nosaukums, atlīdzība un citi izmaksu veidi) | D15: Izmaksu apjoms noteiktā laikposmā viena maksas pakalpojuma veida nodrošināšanai
A16: 1 | B16: 2 | C16: 4 | D16: 3
B17: Tiešās izmaksas
A18: 1100 | B18: Atalgojums | C18: =8960.44+35.28/1.2409 -> 8988.871 | D18: 1797.77
A19: 1200 | B19: Darba devēja valsts sociālās apdrošināšanas obligātās iemaksas, pabalsti un kompensācijas | C19: =2158.57+35.28/1.2409*0.2409 -> 2165.419 | D19: 433.08
A20: 2210 | B20: Pasta, telefona un citu sakaru pakalpojumi | D20: =C20/10*2 -> 0
A21: 2222 | B21: Izdevumi par ūdeni un kanalizāciju | C21: 128.49 | D21: 25.7
A22: 2223 | B22: Izdevumi par elektroenerģiju | C22: 295.85 | D22: 59.18
A23: 2243 | B23: Iekārtas, inventāra un aparatūras remonts, tehniskā apkalpošana | D23: =C23/10*2 -> 0
A24: 2244 | B24: Nekustamā īpašuma uzturēšana | C24: 610.22 | D24: 122.04
A25: 2250 | B25: Informācijas tehnoloģiju pakalpojumi | D25: =C25/10*2 -> 0
A26: 2311 | B26: Biroja preces | C26: 126.34 | D26: 25.27
A27: 2312 | B27: Inventārs | C27: 1135.24 | D27: 227.05
A28: 2262 | B28: Transportlīdzekļu noma | C28: 16.54 | D28: 3.31
A29: 2321 | B29: Kurināmais | C29: 331.74 | D29: 66.35
A30: 2322 | B30: Degviela | C30: 14.08 | D30: 2.82
A31: 2350 | B31: Kārtējā remonta un iestāžu uzturēšanas materiāli | D31: =C31/10*2 -> 0
A32: 2361 | B32: Mīkstais inventārs | D32: =C32/10*2 -> 0
A33: 2366 | B33: Apdrošināšanas izdevumi veselības, dzīvības un nelaimes gadījumu apdrošināšanai | C33: 14.2 | D33: 2.84
A34: 2370 | B34: Mācību līdzekļi un materiāli | C34: 258.77 | D34: 51.75
A35: 5239 | B35: Pārējie pamatlīdzekļi | C35: 1217.32 | D35: 243.46
B36: Tiešās izmaksas kopā | C36: =SUM(C18:C35) -> 15303.08 | D36: =SUM(D18:D35) -> 3060.62
B37: Netiešās izmaksas
A38: 1100 | B38: Atalgojums | C38: 2632.76 | D38: 526.55
A39: 1200 | B39: Darba devēja valsts sociālās apdrošināšanas obligātās iemaksas, pabalsti un kompensācijas | C39: 634.23 | D39: 126.85
A40: 2210 | B40: Izdevumi par sakaru pakalpojumiem | C40: 55.37 | D40: 11.07
A41: 2224 | B41: Izdevumi par atkritumu savākšanu, izvešanu no apdzīvotām vietām un teritorijām ārpus apdzīvotām vietām un atkritumu utilizāciju | C41: 66.45 | D41: 13.29
A42: 2231 | B42: Izdevumi iestādes sabiedrisko aktivitāšu īstenošanai | C42: 296.24 | D42: 59.25
A43: 2232 | B43: Izdevumi par profesionālās darbības pakalpojumiem | C43: 238.1 | D43: 47.62
A44: 2239 | B44: Pārējie neklasificētie pakalpojumi | C44: 365.46 | D44: 73.09
A45: 2242 | B45: Transportlīdzekļu uzturēšana un remonts | C45: 15.5 | D45: 3.1
A46: 2243 | B46: Iekārtas, inventāra un aparatūras remonts, tehniskā apkalpošana | C46: 99.67 | D46: 19.94
A47: 2244 | B47: Nekustamā īpašuma uzturēšana | C47: 442.96 | D47: 88.59
A48: 2247 | B48: Apdrošināšanas izdevumi | C48: =F46*G48 -> 0 | D48: =C48/10*2 -> 0
A49: 2250 | B49: Informācijas tehnoloģiju pakalpojumi | C49: 182.73 | D49: 36.55
A50: 2311 | B50: Biroja preces | C50: =F48*G50 -> 0 | D50: =C50/10*2 -> 0
A51: 2312 | B51: Inventārs | C51: =F49*G51 -> 0 | D51: =C51/10*2 -> 0
A52: 2314 | B52: Izdevumi par precēm iestādes sabiedrisko aktivitāšu īstenošanai | C52: 77.52 | D52: 15.5
A53: 2321 | B53: Kurināmais | C53: 71.98 | D53: 14.4
A54: 2322 | B54: Degviela | C54: 26.03 | D54: 5.21
A55: 2350 | B55: Iestāžu uzturēšanas materiāli un preces | C55: 149.55 | D55: 29.91
A56: 2513 | B56: Budžeta iestāžu nekustamā īpašuma nodokļa maksājumi | C56: 99.67 | D56: 19.93
A57: 2515 | B57: Budžeta iestāžu dabas resursu nodokļa maksājumi | C57: 16.61 | D57: 3.32
A58: 5239 | B58: Pārējie pamatlīdzekļi | C58: 66.45 | D58: 13.29
B59: Netiešās izmaksas kopā | C59: =SUM(C38:C58) -> 5537.28 | D59: =SUM(D38:D58) -> 1107.46
B60: Pakalpojumu izmaksas kopā | C60: =C36+C59 -> 20840.36 | D60: =D36+D59 -> 4168.08
A62: Maksas pakalpojuma vienību skaits noteiktā laikposmā | C62: 10 | D62: 2
A63: Maksas pakalpojuma izcenojums (euro) | C63: =C60/C62 -> 2084.036 | D63: =D60/D62 -> 2084.04
A65: Prognozētais maksas pakalpojumu skaits gadā (gab.)*
A66: Prognozētie ieņēmumi gadā (euro)*
A68: Piezīme. *Ailes neaizpilda, ja izvēlētais laikposms ir viens gads.
A70: Aprēķinu sastādīja: SIVA Finanšu nodaļas vecākā finanšu ekonomiste Anita Ozoliņa

Sheet 1.7.
B1: SASKAŅOTS
B2: Sociālās integrācijas valsts aģentūras
B3: direktore I.Jurševska
D5: 2020.gada .augustā
A7: Maksas pakalpojuma izcenojuma aprēķins
A9: Sociālās integrācijas valsts aģentūra
A10: Publiskā pakalpojuma veids:
B11: 1. Profesionālās pilnveides izglītības programmas, profesionālās tālākizglītības programmas un tālākizglītības kursi, semināri, lekcijas
B12: 1.7. 1920 stundu programma
A14: Laikposms | B14: 2021.gadā un turpmāk
A15: Izdevumu klasifikācijas kods | B15: Rādītājs (materiāla/izejvielas nosaukums, atlīdzība un citi izmaksu veidi) | D15: Izmaksu apjoms noteiktā laikposmā viena maksas pakalpojuma veida nodrošināšanai
A16: 1 | B16: 2 | C16: 4 | D16: 3
B17: Tiešās izmaksas
A18: 1100 | B18: Atalgojums | C18: =11284.18+56.81 -> 11340.99 | D18: 2268.2
A19: 1200 | B19: Darba devēja valsts sociālās apdrošināšanas obligātās iemaksas, pabalsti un kompensācijas | C19: 2732.04 | D19: 546.41
A20: 2210 | B20: Pasta, telefona un citu sakaru pakalpojumi | D20: =C20/10*2 -> 0
A21: 2222 | B21: Izdevumi par ūdeni un kanalizāciju | C21: 159.61 | D21: 31.92
A22: 2223 | B22: Izdevumi par elektroenerģiju | C22: 617.09 | D22: 123.42
A23: 2243 | B23: Iekārtas, inventāra un aparatūras remonts, tehniskā apkalpošana | D23: =C23/10*2 -> 0
A24: 2244 | B24: Nekustamā īpašuma uzturēšana | C24: 1028.07 | D24: 205.61
A25: 2250 | B25: Informācijas tehnoloģiju pakalpojumi | D25: =C25/10*2 -> 0
A26: 2311 | B26: Biroja preces | C26: =18.04+27.57 -> 45.61 | D26: 9.12
A27: 2312 | B27: Inventārs | C27: =84.5+193.53+201 -> 479.03 | D27: 95.81
A28: 2262 | B28: Transportlīdzekļu noma | C28: 25.08 | D28: 5.02
A29: 2321 | B29: Kurināmais | C29: 691.93 | D29: 138.39
A30: 2322 | B30: Degviela | C30: 25.54 | D30: 5.11
A31: 2350 | B31: Iestāžu uzturēšanas materiāli un preces | C31: 26.62 | D31: 5.32
A32: 2361 | B32: Mīkstais inventārs | D32: =C32/10*2 -> 0
A33: 2366 | B33: Apdrošināšanas izdevumi veselības, dzīvības un nelaimes gadījumu apdrošināšanai | C33: 42.5 | D33: 8.5
A34: 2370 | B34: Mācību līdzekļi un materiāli | C34: =481.89+320.35+1719.82 -> 2522.06 | D34: 504.41
A35: 5239 | B35: Pārējie pamatlīdzekļi | C35: 78.99 | D35: 15.8
B36: Tiešās izmaksas kopā | C36: =SUM(C18:C35) -> 19815.16 | D36: =SUM(D18:D35) -> 3963.04
B37: Netiešās izmaksas
A38: 1100 | B38: Atalgojums | C38: 1969.31 | D38: 393.86
A39: 1200 | B39: Darba devēja valsts sociālās apdrošināšanas obligātās iemaksas, pabalsti un kompensācijas | C39: 474.41 | D39: 94.88
A40: 2210 | B40: Izdevumi par sakaru pakalpojumiem | C40: 40.89 | D40: 8.18
A41: 2224 | B41: Izdevumi par atkritumu savākšanu, izvešanu no apdzīvotām vietām un teritorijām ārpus apdzīvotām vietām un atkritumu utilizāciju | C41: 49.06 | D41: 9.81
A42: 2231 | B42: Izdevumi iestādes sabiedrisko aktivitāšu īstenošanai | C42: 218.73 | D42: 43.75
A43: 2232 | B43: Izdevumi par profesionālās darbības pakalpojumiem | C43: 175.8 | D43: 35.16
A44: 2239 | B44: Pārējie neklasificētie pakalpojumi | C44: 286.2 | D44: 57.24
A45: 2242 | B45: Transportlīdzekļu uzturēšana un remonts | C45: 11.45 | D45: 2.29
A46: 2243 | B46: Iekārtas, inventāra un aparatūras remonts, tehniskā apkalpošana | C46: 73.59 | D46: 14.72
A47: 2244 | B47: Nekustamā īpašuma uzturēšana | C47: 327.07 | D47: 65.41
A48: 2247 | B48: Apdrošināšanas izdevumi | C48: =F46*G48 -> 0 | D48: =C48/10*2 -> 0
A49: 2250 | B49: Informācijas tehnoloģiju pakalpojumi | C49: 134.92 | D49: 26.98
A50: 2311 | B50: Biroja preces | C50: =F48*G50 -> 0 | D50: =C50/10*2 -> 0
A51: 2312 | B51: Inventārs | C51: =F49*G51 -> 0 | D51: =C51/10*2 -> 0
A52: 2314 | B52: Izdevumi par precēm iestādes sabiedrisko aktivitāšu īstenošanai | C52: 57.24 | D52: 11.45
A53: 2321 | B53: Kurināmais | C53: 5.32 | D53: 1.07
A54: 2322 | B54: Degviela | C54: 19.22 | D54: 3.84
A55: 2350 | B55: Iestāžu uzturēšanas materiāli un preces | C55: 110.39 | D55: 22.08
A56: 2513 | B56: Budžeta iestāžu nekustamā īpašuma nodokļa maksājumi | C56: 73.59 | D56: 14.72
A57: 2515 | B57: Budžeta iestāžu dabas resursu nodokļa maksājumi | C57: 12.27 | D57: 2.45
A58: 5239 | B58: Pārējie pamatlīdzekļi | C58: 49.06 | D58: 9.81
B59: Netiešās izmaksas kopā | C59: =SUM(C38:C58) -> 4088.52 | D59: =SUM(D38:D58) -> 817.7
B60: Pakalpojumu izmaksas kopā | C60: =C36+C59 -> 23903.68 | D60: =D36+D59 -> 4780.74
A62: Maksas pakalpojuma vienību skaits noteiktā laikposmā | C62: 10 | D62: 2
A63: Maksas pakalpojuma izcenojums (euro) | C63: =C60/C62 -> 2390.368 | D63: =D60/D62 -> 2390.37
A65: Prognozētais maksas pakalpojumu skaits gadā (gab.)*
A66: Prognozētie ieņēmumi gadā (euro)*
A68: Piezīme. *Ailes neaizpilda, ja izvēlētais laikposms ir viens gads.
A70: Aprēķinu sastādīja: SIVA Finanšu nodaļas vecākā finanšu ekonomiste Anita Ozoliņa

Sheet 1.8.
B1: SASKAŅOTS
B2: Sociālās integrācijas valsts aģentūras
B3: direktore I.Jurševska
D5: 2020.gada .augustā
A7: Maksas pakalpojuma izcenojuma aprēķins
A9: Sociālās integrācijas valsts aģentūra
A10: Publiskā pakalpojuma veids:
B11: 1. Profesionālās pilnveides izglītības programmas, profesionālās tālākizglītības programmas un tālākizglītības kursi, semināri, lekcijas
B12: 1.8. 2880 stundu programma
A14: Laikposms | B14: 2021.gadā un turpmāk
A15: Izdevumu klasifikācijas kods | B15: Rādītājs (materiāla/izejvielas nosaukums, atlīdzība un citi izmaksu veidi) | D15: Izmaksu apjoms noteiktā laikposmā viena maksas pakalpojuma veida nodrošināšanai
A16: 1 | B16: 2 | C16: 4 | D16: 3
B17: Tiešās izmaksas
A18: 1100 | B18: Atalgojums | C18: 19071.53 | D18: 3814.31
A19: 1200 | B19: Darba devēja valsts sociālās apdrošināšanas obligātās iemaksas, sociāla rakstura pabalsti un kompensācijas | C19: 4594.33 | D19: 918.87
A20: 2210 | B20: Pasta, telefona un citu sakaru pakalpojumi | D20: =C20/10*2 -> 0
A21: 2222 | B21: Izdevumi par ūdeni un kanalizāciju | C21: 166.11 | D21: 33.22
A22: 2223 | B22: Izdevumi par elektroenerģiju | C22: 892.44 | D22: 178.49
A23: 2243 | B23: Iekārtas, inventāra un aparatūras remonts, tehniskā apkalpošana | D23: =C23/10*2 -> 0
A24: 2244 | B24: Nekustamā īpašuma uzturēšana | C24: 1477.53 | D24: 295.51
A25: 2250 | B25: Informācijas tehnoloģiju pakalpojumi | D25: =C25/10*2 -> 0
A26: 2311 | B26: Biroja preces | C26: 90.69 | D26: 18.14
A27: 2312 | B27: Inventārs | C27: 1580.43 | D27: 316.09
A28: 2262 | B28: Transportlīdzekļu noma | C28: 25.08 | D28: 5.02
A29: 2321 | B29: Kurināmais | C29: 1229.92 | D29: 245.98
A30: 2322 | B30: Degviela | C30: 25.54 | D30: 5.11
A31: 2350 | B31: Iestāžu uzturēšanas materiāli un preces | D31: =C31/10*2 -> 0
A32: 2361 | B32: Mīkstais inventārs | D32: =C32/10*2 -> 0
A33: 2366 | B33: Apdrošināšanas izdevumi veselības, dzīvības un nelaimes gadījumu apdrošināšanai | C33: 42.5 | D33: 8.5
A34: 2370 | B34: Mācību līdzekļi un materiāli | C34: 953.25 | D34: 190.65
A35: 5239 | B35: Pārējie pamatlīdzekļi | C35: =1408.96+376.53 -> 1785.49 | D35: 357.1
B36: Tiešās izmaksas kopā | C36: =SUM(C18:C35) -> 31934.84 | D36: =SUM(D18:D35) -> 6386.99
B37: Netiešās izmaksas
A38: 1100 | B38: Atalgojums | C38: 3468.99 | D38: 693.79
A39: 1200 | B39: Darba devēja valsts sociālās apdrošināšanas obligātās iemaksas, sociāla rakstura pabalsti un kompensācijas | C39: 835.43 | D39: 167.13
A40: 2210 | B40: Izdevumi par sakaru pakalpojumiem | C40: 72.02 | D40: 14.4
A41: 2224 | B41: Izdevumi par atkritumu savākšanu, izvešanu no apdzīvotām vietām un teritorijām ārpus apdzīvotām vietām un atkritumu utilizāciju | C41: 86.42 | D41: 17.28
A42: 2231 | B42: Izdevumi iestādes sabiedrisko aktivitāšu īstenošanai | C42: 385.31 | D42: 77.04
A43: 2232 | B43: Izdevumi par profesionālās darbības pakalpojumiem | C43: 309.67 | D43: 61.93
A44: 2239 | B44: Pārējie neklasificētie pakalpojumi | C44: 504.14 | D44: 100.83
A45: 2242 | B45: Transportlīdzekļu uzturēšana un remonts | C45: 20.17 | D45: 4.03
A46: 2243 | B46: Iekārtas, inventāra un aparatūras remonts, tehniskā apkalpošana | C46: 129.63 | D46: 25.9
A47: 2244 | B47: Nekustamā īpašuma uzturēšana | C47: 575.3 | D47: 115.22
A48: 2247 | B48: Apdrošināšanas izdevumi | C48: =H48*7202 -> 0 | D48: =C48/10*2 -> 0
A49: 2250 | B49: Informācijas tehnoloģiju pakalpojumi | C49: 237.94 | D49: 47.59
A50: 2311 | B50: Biroja preces | C50: =H50*7202 -> 0 | D50: =C50/10*2 -> 0
A51: 2312 | B51: Inventārs | C51: =H51*7202 -> 0 | D51: =C51/10*2 -> 0
A52: 2314 | B52: Izdevumi par precēm iestādes sabiedrisko aktivitāšu īstenošanai | C52: 100.83 | D52: 20.17
A53: 2321 | B53: Kurināmais | C53: 9.36 | D53: 1.87
A54: 2322 | B54: Degviela | C54: 33.85 | D54: 6.77
A55: 2350 | B55: Kārtējā remonta un iestāžu uzturēšanas materiāli | C55: 194.45 | D55: 38.89
A56: 2513 | B56: Budžeta iestāžu nekustamā īpašuma nodokļa maksājumi | C56: 129.63 | D56: 25.93
A57: 2515 | B57: Budžeta iestāžu dabas resursu nodokļa maksājumi | C57: 21.61 | D57: 4.32
A58: 5239 | B58: Pārējie pamatlīdzekļi | C58: 86.41 | D58: 17.28
B59: Netiešās izmaksas kopā | C59: =SUM(C38:C58) -> 7201.16 | D59: =SUM(D38:D58) -> 1440.37
B60: Pakalpojumu izmaksas kopā | C60: =C36+C59 -> 39136 | D60: =D36+D59 -> 7827.36
A62: Maksas pakalpojuma vienību skaits noteiktā laikposmā | C62: 10 | D62: 2
A63: Maksas pakalpojuma izcenojums (euro) | C63: =C60/C62 -> 3913.6 | D63: =D60/D62 -> 3913.68
A65: Prognozētais maksas pakalpojumu skaits gadā (gab.)*
A66: Prognozētie ieņēmumi gadā (euro)* | C66: =3913.68*10 -> 39136.8
A68: Piezīme. *Ailes neaizpilda, ja izvēlētais laikposms ir viens gads.
A70: Aprēķinu sastādīja: SIVA Finanšu nodaļas vecākā finanšu ekonomiste Anita Ozoliņa

Sheet 1.5.
B1: SASKAŅOTS
B2: Sociālās integrācijas valsts aģentūras
B3: direktores p.i. G.Apele
C5: ='1.2.'!F5 -> 2019. gada 15.martā
A7: Maksas pakalpojuma izcenojuma aprēķins
A9: Sociālās integrācijas valsts aģentūra
A10: Publiskā pakalpojuma veids:
B11: 1. Profesionālās pilnveides izglītības programmas un profesionālās tālākizglītības programmas
B12: 1.5. 720 stundu programma
A13: Laikposms | B13: ='1.2.'!B13 -> 2019.gadā un turpmāk
A14: Izdevumu klasifikācijas kods | B14: Rādītājs (materiāla/izejvielas nosaukums, atlīdzība un citi izmaksu veidi) | C14: Izmaksu apjoms noteiktā laikposmā viena maksas pakalpojuma veida nodrošināšanai
A15: 1 | B15: 2 | C15: 3
B16: Tiešās izmaksas
A17: 1100 | B17: Atalgojums | C17: 2853.22
A18: 1200 | B18: Darba devēja valsts sociālās apdrošināšanas obligātās iemaksas, sociāla rakstura pabalsti un kompensācijas | C18: 687.34
A19: 2210 | B19: Pasta, telefona un citu sakaru pakalpojumi | C19: 0
A20: 2222 | B20: Izdevumi par ūdeni un kanalizāciju | C20: 12.81
A21: 2223 | B21: Izdevumi par elektroenerģiju | C21: 26.34
A22: 2243 | B22: Iekārtas, inventāra un aparatūras remonts, tehniskā apkalpošana | C22: 38.53
A23: 2244 | B23: Ēku, būvju un telpu uzturēšana | C23: 121.64
A24: 2251 | B24: Informācijas sistēmas uzturēšana | C24: 0
A25: 2261 | B25: Ēku, telpu īre un noma
A26: 2279 | B26: Pārējie iepriekš neklasificētie pakalpojumu veidi | C26: 0
A27: 2311 | B27: Biroja preces | C27: 39.44
A28: 2312 | B28: Inventārs | C28: 63.94
A29: 2321 | B29: Kurināmais | C29: 37.79
A30: 2350 | B30: Kārtējā remonta un iestāžu uzturēšanas materiāli | C30: 19.27
A31: 2361 | B31: Mīkstais inventārs | C31: 0
A32: 2370 | B32: Mācību līdzekļi un materiāli | C32: 92.02
A33: 2513 | B33: Budžeta iestāžu nekustamā īpašuma nodokļa (t.sk. zemes nodokļa parāda) maksājumi budžetā
A34: 5230 | B34: Pārējie pamatlīdzekļi | C34: 134.85
B35: Tiešās izmaksas kopā | C35: =SUM(C17:C34) -> 4127.19
B36: Netiešās izmaksas
A37: 1100 | B37: Atalgojums | C37: 548.89
A38: 1200 | B38: Darba devēja valsts sociālās apdrošināšanas obligātās iemaksas, sociāla rakstura pabalsti un kompensācijas | C38: 132.23
A39: 2210 | B39: Pasta, telefona un citu sakaru pakalpojumi | C39: 6.81
A40: 2230 | B40: Iestādes administratīvie izdevumi un ar iestādes darbības nodrošināšanu saistītie izdevumi | C40: 6.49
A41: 2241 | B41: Ēku, būvju un telpu kārtējais remonts | C41: 46.54
A42: 2242 | B42: Transportlīdzekļu uzturēšana un remonts | C42: 11.22
A43: 2243 | B43: Iekārtas, inventāra un aparatūras remonts, tehniskā apkalpošana | C43: 31.2
A44: 2244 | B44: Ēku, būvju un telpu uzturēšana | C44: 27.81
A45: 2247 | B45: Apdrošināšanas izdevumi | C45: 1.3
A46: 2251 | B46: Informācijas sistēmas uzturēšana | C46: 10.12
A47: 2259 | B47: Pārējie informācijas tehnoloģiju pakalpojumi | C47: 0.13
A48: 2262 | B48: Transportlīdzekļu noma | C48: 6.8
... A56: 5232 | B56: Saimniecības pamatlīdzekļi | C56: 38.9
A57: 5240 | B57: Pamatlīdzekļu izveidošana un nepabeigtā būvniecība
A58: 5250 | B58: Kapitālais remonts un rekonstrukcija | C58: 34.33
B59: Netiešās izmaksas kopā | C59: =SUM(C37:C58) -> 998.71
B60: Pakalpojumu izmaksas kopā | C60: =C35+C59 -> 5125.9
A62: Maksas pakalpojuma vienību skaits noteiktā laikposmā | C62: 5
A63: Maksas pakalpojuma izcenojums (euro) | C63: =C60/C62 -> 1025.18
A65: Prognozētais maksas pakalpojumu skaits gadā (gab.)*
A66: Prognozētie ieņēmumi gadā (euro)*
A68: Piezīme. *Ailes neaizpilda, ja izvēlētais laikposms ir viens gads.
A70: Aprēķinu sastādīja: SIVA Finanšu nodaļas vecākā finanšu ekonomiste Anita Ozoliņa

Sheet 1.6.1.
B1: SASKAŅOTS
B2: Sociālās integrācijas valsts aģentūras
B3: direktores p.i. G.Apele
D5: ='1.2.'!F5 -> 2019. gada 15.martā
A7: Maksas pakalpojuma izcenojuma aprēķins
A9: Sociālās integrācijas valsts aģentūra
A10: Publiskā pakalpojuma veids:
B11: 1. Profesionālās pilnveides izglītības programmas un profesionālās tālākizglītības programmas
B12: 1.6. Tālākizglītības kursi, semināri, lekcijas
B13: 1.6.1. vienai personai grupā līdz 24 personām (1 stunda)
A14: Laikposms | B14: ='1.2.'!B13 -> 2019.gadā un turpmāk
A15: Izdevumu klasifikācijas kods | B15: Rādītājs (materiāla/izejvielas nosaukums, atlīdzība un citi izmaksu veidi) | D15: Izmaksu apjoms noteiktā laikposmā viena maksas pakalpojuma veida nodrošināšanai
A16: 1 | B16: 2 | D16: 3
B17: Tiešās izmaksas
A18: 1100 | B18: Atalgojums | C18: 0.93 | D18: 16.95
A19: 1200 | B19: Darba devēja valsts sociālās apdrošināšanas obligātās iemaksas, sociāla rakstura pabalsti un kompensācijas | C19: 0.22 | D19: 4.08
A20: 2210 | B20: Pasta, telefona un citu sakaru pakalpojumi | D20: =C20*15 -> 0
A21: 2222 | B21: Izdevumi par ūdeni un kanalizāciju | D21: =C21*15 -> 0
A22: 2223 | B22: Izdevumi par elektroenerģiju | D22: =C22*15 -> 0
A23: 2243 | B23: Iekārtas, inventāra un aparatūras remonts, tehniskā apkalpošana | D23: =C23*15 -> 0
A24: 2244 | B24: Ēku, būvju un telpu uzturēšana | D24: =C24*15 -> 0
A25: 2251 | B25: Informācijas sistēmas uzturēšana | D25: =C25*15 -> 0
A26: 2261 | B26: Ēku, telpu īre un noma | D26: =C26*15 -> 0
A27: 2279 | B27: Pārējie iepriekš neklasificētie pakalpojumu veidi | D27: =C27*15 -> 0
A28: 2311 | B28: Biroja preces | C28: 0.8 | D28: =C28*15 -> 12
A29: 2312 | B29: Inventārs | D29: =C29*15 -> 0
A30: 2321 | B30: Kurināmais | D30: =C30*15 -> 0
A31: 2350 | B31: Kārtējā remonta un iestāžu uzturēšanas materiāli | D31: =C31*15 -> 0
A32: 2361 | B32: Mīkstais inventārs | D32: =C32*15 -> 0
A33: 2370 | B33: Mācību līdzekļi un materiāli | D33: =C33*15 -> 0
A34: 2513 | B34: Budžeta iestāžu nekustamā īpašuma nodokļa (t.sk. zemes nodokļa parāda) maksājumi budžetā | D34: =C34*15 -> 0
A35: 5238 | B35: Datortehnika, sakaru un cita biroja tehnika | C35: 0.05 | D35: =C35*15 -> 0.75
B36: Tiešās izmaksas kopā | C36: =SUM(C18:C35) -> 2 | D36: =SUM(D18:D35) -> 33.78
B37: Netiešās izmaksas
A38: 1100 | B38: Atalgojums | C38: 0.2 | D38: =C38*15 -> 3
A39: 1200 | B39: Darba devēja valsts sociālās apdrošināšanas obligātās iemaksas, sociāla rakstura pabalsti un kompensācijas | C39: 0.05 | D39: =C39*15 -> 0.75
A40: 2210 | B40: Pasta, telefona un citu sakaru pakalpojumi | C40: 0.04 | D40: =C40*15 -> 0.6
A41: 2222 | B41: Izdevumi par ūdeni un kanalizāciju | C41: 0.1 | D41: =C41*15 -> 1.5
A42: 2223 | B42: Izdevumi par elektroenerģiju | C42: 0.12 | D42: =C42*15 -> 1.8
D43: =C43*15 -> 0
A44: 2230 | B44: Iestādes administratīvie izdevumi un ar iestādes darbības nodrošināšanu saistītie izdevumi | D44: =C44*15 -> 0
D45: =C45*15 -> 0
D46: =C46*15 -> 0
A47: 2241 | B47: Ēku, būvju un telpu kārtējais remonts | D47: =C47*15 -> 0
A48: 2242 | B48: Transportlīdzekļu uzturēšana un remonts | D48: =C48*15 -> 0
A49: 2243 | B49: Iekārtas, inventāra un aparatūras remonts, tehniskā apkalpošana | C49: 0.03 | D49: =C49*15 -> 0.45
A50: 2244 | B50: Ēku, būvju un telpu uzturēšana | C50: 0.06 | D50: 1.2
A51: 2247 | B51: Apdrošināšanas izdevumi | D51: =C51*15 -> 0
A52: 2251 | B52: Informācijas sistēmas uzturēšana | D52: =C52*15 -> 0
A53: 2259 | B53: Pārējie informācijas tehnoloģiju pakalpojumi | D53: =C53*15 -> 0
A54: 2262 | B54: Transportlīdzekļu noma | D54: =C54*15 -> 0
A55: 2264 | B55: Iekārtu un inventāra īre un noma | D55: =C55*15 -> 0
A56: 2279 | B56: Pārējie iepriekš neklasificētie pakalpojumu veidi | D56: =C56*15 -> 0
A57: 2311 | B57: Biroja preces | C57: 0.03 | D57: =C57*15 -> 0.45
A58: 2312 | B58: Inventārs | C58: 0.05 | D58: =C58*15 -> 0.75
A59: 2321 | B59: Kurināmais | C59: 0.15 | D59: =C59*15 -> 2.25
A60: 2322 | B60: Degviela | D60: =C60*15 -> 0
A61: 2350 | B61: Kārtējā remonta un iestāžu uzturēšanas materiāli | D61: =C61*15 -> 0
A62: 2515 | B62: Budžeta iestāžu dabas resursu nodokļa maksājumi | D62: =C62*15 -> 0
A63: 5232 | B63: Saimniecības pamatlīdzekļi | C63: 0.17 | D63: 2.52
A64: 5240 | B64: Pamatlīdzekļu izveidošana un nepabeigtā būvniecība | D64: =C64*15 -> 0
A65: 5250 | B65: Kapitālais remonts un rekonstrukcija | D65: =C65*15 -> 0
B66: Netiešās izmaksas kopā | C66: =SUM(C38:C65) -> 1 | D66: =SUM(D38:D65) -> 15.27
B67: Pakalpojumu izmaksas kopā | C67: =C36+C66 -> 3 | D67: =D36+D66 -> 49.05
A69: Maksas pakalpojuma vienību skaits noteiktā laikposmā | C69: 1 | D69: 15
A70: Maksas pakalpojuma izcenojums (euro) | C70: =C67/C69 -> 3 | D70: =D67/D69 -> 3.27
A72: Prognozētais maksas pakalpojumu skaits gadā (gab.)*
A73: Prognozētie ieņēmumi gadā (euro)*
A75: Piezīme. *Ailes neaizpilda, ja izvēlētais laikposms ir viens gads.
A77: Aprēķinu sastādīja: SIVA Finanšu nodaļas vecākā finanšu ekonomiste Anita Ozoliņa

Sheet 1.9.
B1: SASKAŅOTS
B2: Sociālās integrācijas valsts aģentūras
B3: direktore I.Jurševska
D5: 2020.gada .augustā
A7: Maksas pakalpojuma izcenojuma aprēķins
A9: Sociālās integrācijas valsts aģentūra
A10: Publiskā pakalpojuma veids:
B11: 1. Profesionālās pilnveides izglītības programmas, profesionālās tālākizglītības programmas un tālākizglītības kursi, semināri, lekcijas
B12: 1.9. Tālākizglītības kursi, semināri, lekcijas, vienai personai grupā, 1 stunda
A14: Laikposms | B14: 2021.gadā un turpmāk
A15: Izdevumu klasifikācijas kods | B15: Rādītājs (materiāla/izejvielas nosaukums, atlīdzība un citi izmaksu veidi) | D15: Izmaksu apjoms noteiktā laikposmā viena maksas pakalpojuma veida nodrošināšanai
A16: 1 | B16: 2 | D16: 3
B17: Tiešās izmaksas
A18: 1100 | B18: Atalgojums | C18: 5.33 | D18: =C18*15 -> 79.95
A19: 1200 | B19: Darba devēja valsts sociālās apdrošināšanas obligātās iemaksas, pabalsti un kompensācijas | C19: 1.28 | D19: =C19*15 -> 19.2
A20: 2210 | B20: Pasta, telefona un citu sakaru pakalpojumi | D20: =C20*15 -> 0
A21: 2222 | B21: Izdevumi par ūdensapgādi un kanalizāciju | C21: 0.01 | D21: =C21*15 -> 0.15
A22: 2223 | B22: Izdevumi par elektroenerģiju | C22: 0.02 | D22: =C22*15 -> 0.3
D23: =C23*15 -> 0
D24: =C24*15 -> 0
A25: 2243 | B25: Iekārtas, inventāra un aparatūras remonts, tehniskā apkalpošana | D25: =C25*15 -> 0
A26: 2244 | B26: Nekustamā īpašuma uzturēšana | C26: 0.03 | D26: =C26*15 -> 0.45
A27: 2251 | B27: Informācijas sistēmas uzturēšana | D27: =C27*15 -> 0
A28: 2261 | B28: Ēku, telpu īre un noma | D28: =C28*15 -> 0
A29: 2279 | B29: Pārējie iepriekš neklasificētie pakalpojumu veidi | D29: =C29*15 -> 0
A30: 2311 | B30: Biroja preces | C30: 0.22 | D30: =C30*15 -> 3.3
A31: 2312 | B31: Inventārs | C31: 0.14 | D31: =C31*15 -> 2.1
A32: 2321 | B32: Kurināmais | C32: 0.02 | D32: =C32*15 -> 0.3
A33: 2350 | B33: Iestāžu uzturēšanas materiāli un preces | C33: 0.46 | D33: =C33*15 -> 6.9
A34: 2361 | B34: Mīkstais inventārs | D34: =C34*15 -> 0
A35: 2370 | B35: Mācību līdzekļi un materiāli | D35: =C35*15 -> 0
A36: 2513 | B36: Budžeta iestāžu nekustamā īpašuma nodokļa (t.sk. zemes nodokļa parāda) maksājumi budžetā | D36: =C36*15 -> 0
A37: 5238 | B37: Datortehnika, sakaru un cita biroja tehnika | C37: 0.37 | D37: =C37*15 -> 5.55
A38: 5239 | B38: Pārējie pamatlīdzekļi
B39: Tiešās izmaksas kopā | C39: =SUM(C18:C37) -> 7.88 | D39: =SUM(D18:D37) -> 118.2
B40: Netiešās izmaksas
A41: 1100 | B41: Atalgojums | C41: 1.92 | D41: =C41*15 -> 28.8
A42: 1200 | B42: Darba devēja valsts sociālās apdrošināšanas obligātās iemaksas, pabalsti un kompensācijas | C42: 0.46 | D42: =C42*15 -> 6.9
A43: 2100 | B43: Mācību, darba un dienesta komandējumi, darba braucieni | C43: 0.02 | D43: =C43*15 -> 0.3
A44: 2210 | B44: Izdevumi par sakaru pakalpojumiem | C44: 0.03 | D44: =C44*15 -> 0.45
A45: 2222 | B45: Izdevumi par ūdeni un kanalizāciju | D45: =C45*15 -> 0
A46: 2223 | B46: Izdevumi par elektroenerģiju | C46: 0.02 | D46: =C46*15 -> 0.3
A47: 2224 | B47: Izdevumi par atkritumu savākšanu, izvešanu no apdzīvotām vietām un teritorijām ārpus apdzīvotām vietām un atkritumu utilizāciju | C47: 0.03 | D47: =C47*15 -> 0.45
A48: 2231 | B48: Izdevumi iestādes sabiedrisko aktivitāšu īstenošanai | C48: 0 | D48: =C48*15 -> 0
A49: 2235 | B49: Izdevumi par saņemtajiem mācību pakalpojumiem | C49: 0.01 | D49: =C49*15 -> 0.15
A50: 2239 | B50: Pārējie neklasificētie pakalpojumi | C50: 0.03 | D50: =C50*15 -> 0.45
A51: 2242 | B51: Transportlīdzekļu uzturēšana un remonts | C51: 0 | D51: =C51*15 -> 0
A52: 2243 | B52: Iekārtas, inventāra un aparatūras remonts, tehniskā apkalpošana | C52: 0.04 | D52: =C52*15 -> 0.6
A53: 2244 | B53: Nekustamā īpašuma uzturēšana | C53: 0.35 | D53: =C53*15 -> 5.25
A54: 2247 | B54: Apdrošināšanas izdevumi | C54: 0 | D54: =C54*15 -> 0
A55: 2250 | B55: Informācijas tehnoloģiju pakalpojumi | C55: 0.2 | D55: =C55*15 -> 3
A56: 2262 | B56: Transportlīdzekļu noma | C56: 0.02 | D56: =C56*15 -> 0.3
A57: 2264 | B57: Iekārtu un inventāra īre un noma | D57: =C57*15 -> 0
A58: 2279 | B58: Pārējie iepriekš neklasificētie pakalpojumu veidi | D58: =C58*15 -> 0
A59: 2311 | B59: Biroja preces | C59: 0 | D59: =C59*15 -> 0
A60: 2312 | B60: Inventārs | C60: 0 | D60: =C60*15 -> 0
A61: 2314 | B61: Izdevumi par precēm iestādes sabiedrisko aktiv itāšu īstenošanai | C61: 0 | D61: =C61*15 -> 0
A62: 2321 | B62: Kurināmais | C62: 0.06 | D62: =C62*15 -> 0.9
A63: 2322 | B63: Degviela | C63: 0.02 | D63: =C63*15 -> 0.3
A64: 2350 | B64: Iestāžu uzturēšanas materiāli un preces | C64: 0.05 | D64: =C64*15 -> 0.75
A65: 2513 | B65: Budžeta iestāžu nekustamā īpašuma nodokļa maksājumi | C65: 0.07 | D65: =C65*15 -> 1.05
A66: 2515 | B66: Budžeta iestāžu dabas resursu nodokļa maksājumi | C66: 0.01 | D66: =C66*15 -> 0.15
A67: 5239 | B67: Pārējie pamatlīdzekļi | C67: 0.28 | D67: =C67*15 -> 4.2
A68: 5240 | B68: Pamatlīdzekļu izveidošana un nepabeigtā būvniecība | D68: =C68*22 -> 0
A69: 5250 | B69: Kapitālais remonts un rekonstrukcija | D69: =C69*22 -> 0
B70: Netiešās izmaksas kopā | C70: =SUM(C41:C69) -> 3.62 | D70: =SUM(D41:D69) -> 54.3
B71: Pakalpojumu izmaksas kopā | C71: =C39+C70 -> 11.5 | D71: =D39+D70 -> 172.5
A73: Maksas pakalpojuma vienību skaits noteiktā laikposmā | C73: 1 | D73: 15
A74: Maksas pakalpojuma izcenojums (euro) | C74: =C71/C73 -> 11.5 | D74: =D71/D73 -> 11.5
A76: Prognozētais maksas pakalpojumu skaits gadā (gab.)*
A77: Prognozētie ieņēmumi gadā (euro)*
A79: Piezīme. *Ailes neaizpilda, ja izvēlētais laikposms ir viens gads.
A81: Aprēķinu sastādīja: SIVA Finanšu nodaļas vecākā finanšu ekonomiste Anita Ozoliņa

Sheet 1.10.
B1: SASKAŅOTS
B2: Sociālās integrācijas valsts aģentūras
B3: direktore I.Jurševska
D5: 2020.gada .augustā
A7: Maksas pakalpojuma izcenojuma aprēķins
A9: Sociālās integrācijas valsts aģentūra
A10: Publiskā pakalpojuma veids:
B11: 1. Profesionālās pilnveides izglītības programmas, profesionālās tālākizglītības programmas un tālākizglītības kursi, semināri, lekcijas
B12: 1.10. Profesionālās pilnveides programma vienai personai grupā, 8 stundas
A14: Laikposms | B14: 2021.gadā un turpmāk
A15: Izdevumu klasifikācijas kods | B15: Rādītājs (materiāla/izejvielas nosaukums, atlīdzība un citi izmaksu veidi) | D15: Izmaksu apjoms noteiktā laikposmā viena maksas pakalpojuma veida nodrošināšanai
A16: 1 | B16: 2 | D16: 3
B17: Tiešās izmaksas
A18: 1100 | B18: Atalgojums | C18: 42.67 | D18: =C18*22 -> 938.74
A19: 1200 | B19: Darba devēja valsts sociālās apdrošināšanas obligātās iemaksas, pabalsti un kompensācijas | C19: 10.28 | D19: =C19*22 -> 226.16
A20: 2210 | B20: Pasta, telefona un citu sakaru pakalpojumi | D20: =C20*22 -> 0
A21: 2222 | B21: Izdevumi par ūdensapgādi un kanalizāciju | C21: 0.01 | D21: =C21*22 -> 0.22
A22: 2223 | B22: Izdevumi par elektroenerģiju | C22: 0.11 | D22: =C22*22 -> 2.42
D23: =C23*22 -> 0
D24: =C24*22 -> 0
A25: 2243 | B25: Iekārtas, inventāra un aparatūras remonts, tehniskā apkalpošana | D25: =C25*22 -> 0
A26: 2244 | B26: Nekustamā īpašuma uzturēšana | C26: 0.27 | D26: =C26*22 -> 5.94
A27: 2251 | B27: Informācijas sistēmas uzturēšana | D27: =C27*22 -> 0
A28: 2261 | B28: Ēku, telpu īre un noma | D28: =C28*22 -> 0
A29: 2279 | B29: Pārējie iepriekš neklasificētie pakalpojumu veidi | D29: =C29*22 -> 0
A30: 2311 | B30: Biroja preces | C30: 2.5 | D30: =C30*22 -> 55
A31: 2312 | B31: Inventārs | C31: 1.13 | D31: =C31*22 -> 24.86
A32: 2321 | B32: Kurināmais | C32: 0.17 | D32: =C32*22 -> 3.74
A33: 2350 | B33: Iestāžu uzturēšanas materiāli un preces | C33: 2.45 | D33: =C33*22 -> 53.9
A34: 2361 | B34: Mīkstais inventārs | D34: =C34*22 -> 0
A35: 2370 | B35: Mācību līdzekļi un materiāli | D35: =C35*22 -> 0
A36: 2513 | B36: Budžeta iestāžu nekustamā īpašuma nodokļa (t.sk. zemes nodokļa parāda) maksājumi budžetā | D36: =C36*22 -> 0
A37: 5238 | B37: Datortehnika, sakaru un cita biroja tehnika | C37: 2.95 | D37: =C37*22 -> 64.9
B38: Tiešās izmaksas kopā | C38: =SUM(C18:C37) -> 62.54 | D38: =SUM(D18:D37) -> 1375.88
B39: Netiešās izmaksas
A40: 1100 | B40: Atalgojums | C40: 15.02 | D40: =C40*22 -> 330.44
A41: 1200 | B41: Darba devēja valsts sociālās apdrošināšanas obligātās iemaksas, pabalsti un kompensācijas | C41: 3.62 | D41: =C41*22 -> 79.64
A42: 2100 | B42: Mācību, darba un dienesta komandējumi, darba braucieni | C42: 0.15 | D42: =C42*22 -> 3.3
A43: 2210 | B43: Izdevumi par sakaru pakalpojumiem | C43: 0.24 | D43: =C43*22 -> 5.28
A44: 2222 | B44: Izdevumi par ūdeni un kanalizāciju | D44: =C44*22 -> 0
A45: 2223 | B45: Izdevumi par elektroenerģiju | C45: 0.1 | D45: =C45*22 -> 2.2
A46: 2224 | B46: Izdevumi par atkritumu savākšanu, izvešanu no apdzīvotām vietām un teritorijām ārpus apdzīvotām vietām un atkritumu utilizāciju | C46: 0.25 | D46: =C46*22 -> 5.5
A47: 2231 | B47: Izdevumi iestādes sabiedrisko aktivitāšu īstenošanai | C47: 0.04 | D47: =C47*22 -> 0.88
A48: 2235 | B48: Izdevumi par saņemtajiem mācību pakalpojumiem | C48: 0.1 | D48: =C48*22 -> 2.2
A49: 2239 | B49: Pārējie neklasificētie pakalpojumi | C49: 0.22 | D49: =C49*22 -> 4.84
A50: 2242 | B50: Transportlīdzekļu uzturēšana un remonts | C50: 0.01 | D50: =C50*22 -> 0.22
A51: 2243 | B51: Iekārtas, inventāra un aparatūras remonts, tehniskā apkalpošana | C51: 0.3 | D51: =C51*22 -> 6.6
A52: 2244 | B52: Nekustamā īpašuma uzturēšana | C52: =2.77+0.04 -> 2.81 | D52: =C52*22 -> 61.82
A53: 2250 | B53: Informācijas tehnoloģiju pakalpojumi | C53: 1.04 | D53: =C53*22 -> 22.88
A54: 2262 | B54: Transportlīdzekļu noma | C54: 0.31 | D54: =C54*22 -> 6.82
A55: 2264 | B55: Iekārtu un inventāra īre un noma | D55: =C55*22 -> 0
A56: 2279 | B56: Pārējie iepriekš neklasificētie pakalpojumu veidi | D56: =C56*22 -> 0
A57: 2311 | B57: Biroja preces | C57: 0.03 | D57: =C57*22 -> 0.66
A58: 2312 | B58: Inventārs | C58: 0.02 | D58: =C58*22 -> 0.44
A59: 2314 | B59: Izdevumi par precēm iestādes sabiedrisko aktiv itāšu īstenošanai | C59: 0.02 | D59: =C59*22 -> 0.44
A60: 2321 | B60: Kurināmais | C60: 0.14 | D60: =C60*22 -> 3.08
A61: 2322 | B61: Degviela | C61: 0.16 | D61: =C61*22 -> 3.52
A62: 2350 | B62: Iestāžu uzturēšanas materiāli un preces | C62: 0.59 | D62: =C62*22 -> 12.98
A63: 2513 | B63: Budžeta iestāžu nekustamā īpašuma nodokļa maksājumi | C63: 0.54 | D63: =C63*22 -> 11.88
A64: 2515 | B64: Budžeta iestāžu dabas resursu nodokļa maksājumi | C64: 0.09 | D64: =C64*22 -> 1.98
A65: 5239 | B65: Pārējie pamatlīdzekļi | C65: 2.96 | D65: =C65*22 -> 65.12
A66: 5240 | B66: Pamatlīdzekļu izveidošana un nepabeigtā būvniecība | D66: =C66*22 -> 0
A67: 5250 | B67: Kapitālais remonts un rekonstrukcija | D67: =C67*22 -> 0
B68: Netiešās izmaksas kopā | C68: =SUM(C40:C67) -> 28.76 | D68: =SUM(D40:D67) -> 632.72
B69: Pakalpojumu izmaksas kopā | C69: =C38+C68 -> 91.3 | D69: =D38+D68 -> 2008.6
A71: Maksas pakalpojuma vienību skaits noteiktā laikposmā | C71: 1 | D71: 22
A72: Maksas pakalpojuma izcenojums (euro) | C72: =C69/C71 -> 91.3 | D72: =D69/D71 -> 91.3
A74: Prognozētais maksas pakalpojumu skaits gadā (gab.)*
A75: Prognozētie ieņēmumi gadā (euro)*
A77: Piezīme. *Ailes neaizpilda, ja izvēlētais laikposms ir viens gads.
A79: Aprēķinu sastādīja: SIVA Finanšu nodaļas vecākā finanšu ekonomiste Anita Ozoliņa

Sheet 1.6.4.
B1: SASKAŅOTS
B2: Sociālās integrācijas valsts aģentūras
B3: direktores p.i. G.Apele
D5: 2020.gada .aprīlī
A7: Maksas pakalpojuma izcenojuma aprēķins
A9: Sociālās integrācijas valsts aģentūra
A10: Publiskā pakalpojuma veids:
B11: 1. Profesionālās pilnveides izglītības programmas un profesionālās tālākizglītības programmas
B12: 1.6. Tālākizglītības kursi, semināri, lekcijas, profesionālās pilnveides programmas un profesionālās piemērotības noteikšana
B13: 1.6.4. Profesionālās pilnveides programma vienai personai grupā (līdz 15 personām), 16 stundas
A14: Laikposms | B14: 2020.gadā un turpmāk
A15: Izdevumu klasifikācijas kods | B15: Rādītājs (materiāla/izejvielas nosaukums, atlīdzība un citi izmaksu veidi) | D15: Izmaksu apjoms noteiktā laikposmā viena maksas pakalpojuma veida nodrošināšanai
A16: 1 | B16: 2 | D16: 3
B17: Tiešās izmaksas
A18: 1100 | B18: Atalgojums | C18: 85.33 | D18: =C18*22 -> 1877.26
A19: 1200 | B19: Darba devēja valsts sociālās apdrošināšanas obligātās iemaksas, pabalsti un kompensācijas | C19: 20.56 | D19: =C19*22 -> 452.32
A20: 2210 | B20: Pasta, telefona un citu sakaru pakalpojumi | D20: =C20*22 -> 0
A21: 2222 | B21: Izdevumi par ūdensapgādi un kanalizāciju | C21: 0.03 | D21: =C21*22 -> 0.66
A22: 2223 | B22: Izdevumi par elektroenerģiju | C22: 0.21 | D22: =C22*22 -> 4.62
D23: =C23*22 -> 0
D24: =C24*22 -> 0
A25: 2243 | B25: Iekārtas, inventāra un aparatūras remonts, tehniskā apkalpošana | D25: =C25*22 -> 0
A26: 2244 | B26: Nekustamā īpašuma uzturēšana | C26: 0.53 | D26: =C26*22 -> 11.66
A27: 2251 | B27: Informācijas sistēmas uzturēšana | D27: =C27*22 -> 0
A28: 2261 | B28: Ēku, telpu īre un noma | D28: =C28*22 -> 0
A29: 2279 | B29: Pārējie iepriekš neklasificētie pakalpojumu veidi | D29: =C29*22 -> 0
A30: 2311 | B30: Biroja preces | C30: 2.5 | D30: =C30*22 -> 55
A31: 2312 | B31: Inventārs | C31: 2.28 | D31: =C31*22 -> 50.16
A32: 2321 | B32: Kurināmais | C32: 0.33 | D32: =C32*22 -> 7.26
A33: 2350 | B33: Iestāžu uzturēšanas materiāli un preces | C33: 2.45 | D33: =C33*22 -> 53.9
A34: 2361 | B34: Mīkstais inventārs | D34: =C34*22 -> 0
A35: 2370 | B35: Mācību līdzekļi un materiāli | D35: =C35*22 -> 0
A36: 2513 | B36: Budžeta iestāžu nekustamā īpašuma nodokļa (t.sk. zemes nodokļa parāda) maksājumi budžetā | D36: =C36*22 -> 0
A37: 5238 | B37: Datortehnika, sakaru un cita biroja tehnika | C37: 5.9 | D37: =C37*22 -> 129.8
B38: Tiešās izmaksas kopā | C38: =SUM(C18:C37) -> 120.12 | D38: =SUM(D18:D37) -> 2642.64
B39: Netiešās izmaksas
A40: 1100 | B40: Atalgojums | C40: 28.84 | D40: =C40*22 -> 634.48
A41: 1200 | B41: Darba devēja valsts sociālās apdrošināšanas obligātās iemaksas, pabalsti un kompensācijas | C41: 6.95 | D41: =C41*22 -> 152.9
A42: 2100 | B42: Mācību, darba un dienesta komandējumi, darba braucieni | C42: 0.29 | D42: =C42*22 -> 6.38
A43: 2210 | B43: Izdevumi par sakaru pakalpojumiem | C43: 0.46 | D43: =C43*22 -> 10.12
A44: 2222 | B44: Izdevumi par ūdeni un kanalizāciju | D44: =C44*22 -> 0
A45: 2223 | B45: Izdevumi par elektroenerģiju | C45: 0.19 | D45: =C45*22 -> 4.18
A46: 2224 | B46: Izdevumi par atkritumu savākšanu, izvešanu un atkritumu utilizāciju | C46: 0.48 | D46: =C46*22 -> 10.56
A47: 2231 | B47: Izdevumi iestādes sabiedrisko aktivitāšu īstenošanai | C47: 0.08 | D47: =C47*22 -> 1.76
A48: 2235 | B48: Izdevumi par saņemtajiem mācību pakalpojumiem | C48: 0.19 | D48: =C48*22 -> 4.18
A49: 2239 | B49: Pārējie neklasificētie pakalpojumi | C49: 0.42 | D49: =C49*22 -> 9.24
A50: 2242 | B50: Transportlīdzekļu uzturēšana un remonts | C50: 0.04 | D50: =C50*22 -> 0.88
A51: 2243 | B51: Iekārtas, inventāra un aparatūras remonts, tehniskā apkalpošana | C51: 0.58 | D51: =C51*22 -> 12.76
A52: 2244 | B52: Nekustamā īpašuma uzturēšana | C52: 5.32 | D52: =C52*22 -> 117.04
A53: 2247 | B53: Apdrošināšanas izdevumi | C53: 0.08 | D53: =C53*22 -> 1.76
A54: 2250 | B54: Informācijas tehnoloģiju pakalpojumi | C54: 2 | D54: =C54*22 -> 44
A55: 2262 | B55: Transportlīdzekļu noma | C55: 0.6 | D55: =C55*22 -> 13.2
A56: 2264 | B56: Iekārtu un inventāra īre un noma | D56: =C56*22 -> 0
A57: 2279 | B57: Pārējie iepriekš neklasificētie pakalpojumu veidi | D57: =C57*22 -> 0
A58: 2311 | B58: Biroja preces | C58: 0.06 | D58: =C58*22 -> 1.32
A59: 2312 | B59: Inventārs | C59: 0.04 | D59: =C59*22 -> 0.88
A60: 2314 | B60: Izdevumi par precēm iestādes sabiedrisko aktiv itāšu īstenošanai | C60: 0.04 | D60: =C60*22 -> 0.88
A61: 2321 | B61: Kurināmais | C61: 0.27 | D61: =C61*22 -> 5.94
A62: 2322 | B62: Degviela | C62: 0.31 | D62: =C62*22 -> 6.82
A63: 2350 | B63: Iestāžu uzturēšanas materiāli un preces | C63: 1.13 | D63: =C63*22 -> 24.86
A64: 2513 | B64: Budžeta iestāžu nekustamā īpašuma nodokļa maksājumi | C64: 1.04 | D64: =C64*22 -> 22.88
A65: 2515 | B65: Budžeta iestāžu dabas resursu nodokļa maksājumi | C65: 0.17 | D65: =C65*22 -> 3.74
A66: 5239 | B66: Pārējie pamatlīdzekļi | C66: 5.68 | D66: =C66*22 -> 124.96
A67: 5240 | B67: Pamatlīdzekļu izveidošana un nepabeigtā būvniecība | D67: =C67*22 -> 0
A68: 5250 | B68: Kapitālais remonts un rekonstrukcija | D68: =C68*22 -> 0
B69: Netiešās izmaksas kopā | C69: =SUM(C40:C68) -> 55.26 | D69: =SUM(D40:D68) -> 1215.72
B70: Pakalpojumu izmaksas kopā | C70: =C38+C69 -> 175.38 | D70: =D38+D69 -> 3858.36
A72: Maksas pakalpojuma vienību skaits noteiktā laikposmā | C72: 1 | D72: 22
A73: Maksas pakalpojuma izcenojums (euro) | C73: =C70/C72 -> 175.38 | D73: =D70/D72 -> 175.38
A75: Prognozētais maksas pakalpojumu skaits gadā (gab.)*
A76: Prognozētie ieņēmumi gadā (euro)*
A78: Piezīme. *Ailes neaizpilda, ja izvēlētais laikposms ir viens gads.
A80: Aprēķinu sastādīja: SIVA Finanšu nodaļas vecākā finanšu ekonomiste Anita Ozoliņa

Sheet 1.6.5.
B1: SASKAŅOTS
B2: Sociālās integrācijas valsts aģentūras
B3: direktores p.i. G.Apele
D5: 2020.gada .aprīlī
A7: Maksas pakalpojuma izcenojuma aprēķins
A9: Sociālās integrācijas valsts aģentūra
A10: Publiskā pakalpojuma veids:
B11: 1. Profesionālās pilnveides izglītības programmas un profesionālās tālākizglītības programmas
B12: 1.6. Tālākizglītības kursi, semināri, lekcijas, profesionālās pilnveides programmas un profesionālās piemērotības noteikšana
B13: 1.6.5. Profesionālās pilnveides programma vienai personai grupā (līdz 15 personām), 24 stundas
A14: Laikposms | B14: 2020.gadā un turpmāk
A15: Izdevumu klasifikācijas kods | B15: Rādītājs (materiāla/izejvielas nosaukums, atlīdzība un citi izmaksu veidi) | D15: Izmaksu apjoms noteiktā laikposmā viena maksas pakalpojuma veida nodrošināšanai
A16: 1 | B16: 2 | D16: 3
B17: Tiešās izmaksas
A18: 1100 | B18: Atalgojums | C18: 128 | D18: =C18*22 -> 2816
A19: 1200 | B19: Darba devēja valsts sociālās apdrošināšanas obligātās iemaksas, pabalsti un kompensācijas | C19: 30.84 | D19: =C19*22 -> 678.48
A20: 2210 | B20: Pasta, telefona un citu sakaru pakalpojumi | D20: =C20*22 -> 0
A21: 2222 | B21: Izdevumi par ūdensapgādi un kanalizāciju | C21: 0.04 | D21: =C21*22 -> 0.88
A22: 2223 | B22: Izdevumi par elektroenerģiju | C22: 0.32 | D22: =C22*22 -> 7.04
D23: =C23*22 -> 0
D24: =C24*22 -> 0
A25: 2243 | B25: Iekārtas, inventāra un aparatūras remonts, tehniskā apkalpošana | D25: =C25*22 -> 0
A26: 2244 | B26: Nekustamā īpašuma uzturēšana | C26: 0.8 | D26: =C26*22 -> 17.6
A27: 2251 | B27: Informācijas sistēmas uzturēšana | D27: =C27*22 -> 0
A28: 2261 | B28: Ēku, telpu īre un noma | D28: =C28*22 -> 0
A29: 2279 | B29: Pārējie iepriekš neklasificētie pakalpojumu veidi | D29: =C29*22 -> 0
A30: 2311 | B30: Biroja preces | C30: 3.24 | D30: =C30*22 -> 71.28
A31: 2312 | B31: Inventārs | C31: 3.41 | D31: =C31*22 -> 75.02
A32: 2321 | B32: Kurināmais | C32: 0.5 | D32: =C32*22 -> 11
A33: 2350 | B33: Iestāžu uzturēšanas materiāli un preces | C33: 3.85 | D33: =C33*22 -> 84.7
A34: 2361 | B34: Mīkstais inventārs | D34: =C34*22 -> 0
A35: 2370 | B35: Mācību līdzekļi un materiāli | D35: =C35*22 -> 0
A36: 2513 | B36: Budžeta iestāžu nekustamā īpašuma nodokļa (t.sk. zemes nodokļa parāda) maksājumi budžetā | D36: =C36*22 -> 0
A37: 5238 | B37: Datortehnika, sakaru un cita biroja tehnika | C37: 8.85 | D37: =C37*22 -> 194.7
B38: Tiešās izmaksas kopā | C38: =SUM(C18:C37) -> 179.85 | D38: =SUM(D18:D37) -> 3956.7
B39: Netiešās izmaksas
A40: 1100 | B40: Atalgojums | C40: 43.26 | D40: =C40*22 -> 951.72
A41: 1200 | B41: Darba devēja valsts sociālās apdrošināšanas obligātās iemaksas, pabalsti un kompensācijas | C41: 10.42 | D41: =C41*22 -> 229.24
A42: 2100 | B42: Mācību, darba un dienesta komandējumi, darba braucieni | C42: 0.43 | D42: =C42*22 -> 9.46
A43: 2210 | B43: Izdevumi par sakaru pakalpojumiem | C43: 0.69 | D43: =C43*22 -> 15.18
A44: 2222 | B44: Izdevumi par ūdeni un kanalizāciju | D44: =C44*22 -> 0
A45: 2223 | B45: Izdevumi par elektroenerģiju | C45: 0.3 | D45: =C45*22 -> 6.6
A46: 2224 | B46: Izdevumi par atkritumu savākšanu, izvešanu un atkritumu utilizāciju | C46: 0.72 | D46: =C46*22 -> 15.84
A47: 2231 | B47: Izdevumi iestādes sabiedrisko aktivitāšu īstenošanai | C47: 0.12 | D47: =C47*22 -> 2.64
A48: 2235 | B48: Izdevumi par saņemtajiem mācību pakalpojumiem | C48: 0.28 | D48: =C48*22 -> 6.16
A49: 2239 | B49: Pārējie neklasificētie pakalpojumi | C49: 0.63 | D49: =C49*22 -> 13.86
A50: 2242 | B50: Transportlīdzekļu uzturēšana un remonts | C50: 0.06 | D50: =C50*22 -> 1.32
A51: 2243 | B51: Iekārtas, inventāra un aparatūras remonts, tehniskā apkalpošana | C51: 0.87 | D51: =C51*22 -> 19.14
A52: 2244 | B52: Nekustamā īpašuma uzturēšana | C52: 7.92 | D52: =C52*22 -> 174.24
A53: 2247 | B53: Apdrošināšanas izdevumi | C53: 0.12 | D53: =C53*22 -> 2.64
A54: 2250 | B54: Informācijas tehnoloģiju pakalpojumi | C54: 3 | D54: =C54*22 -> 66
A55: 2262 | B55: Transportlīdzekļu noma | C55: 0.89 | D55: =C55*22 -> 19.58
A56: 2264 | B56: Iekārtu un inventāra īre un noma | D56: =C56*22 -> 0
A57: 2279 | B57: Pārējie iepriekš neklasificētie pakalpojumu veidi | D57: =C57*22 -> 0
A58: 2311 | B58: Biroja preces | C58: 0.09 | D58: =C58*22 -> 1.98
A59: 2312 | B59: Inventārs | C59: 0.06 | D59: =C59*22 -> 1.32
A60: 2314 | B60: Izdevumi par precēm iestādes sabiedrisko aktivitāšu īstenošanai | C60: 0.06 | D60: =C60*22 -> 1.32
A61: 2321 | B61: Kurināmais | C61: 0.42 | D61: =C61*22 -> 9.24
A62: 2322 | B62: Degviela | C62: 0.46 | D62: =C62*22 -> 10.12
A63: 2350 | B63: Iestāžu uzturēšanas materiāli un preces | C63: 1.68 | D63: =C63*22 -> 36.96
A64: 2513 | B64: Budžeta iestāžu nekustamā īpašuma nodokļa maksājumi | C64: 1.55 | D64: =C64*22 -> 34.1
A65: 2515 | B65: Budžeta iestāžu dabas resursu nodokļa maksājumi | C65: 0.25 | D65: =C65*22 -> 5.5
A66: 5239 | B66: Pārējie pamatlīdzekļi | C66: 8.46 | D66: =C66*22 -> 186.12
A67: 5240 | B67: Pamatlīdzekļu izveidošana un nepabeigtā būvniecība | D67: =C67*22 -> 0
A68: 5250 | B68: Kapitālais remonts un rekonstrukcija | D68: =C68*22 -> 0
B69: Netiešās izmaksas kopā | C69: =SUM(C40:C68) -> 82.74 | D69: =SUM(D40:D68) -> 1820.28
B70: Pakalpojumu izmaksas kopā | C70: =C38+C69 -> 262.59 | D70: =D38+D69 -> 5776.98
A72: Maksas pakalpojuma vienību skaits noteiktā laikposmā | C72: 1 | D72: 22
A73: Maksas pakalpojuma izcenojums (euro) | C73: =C70/C72 -> 262.59 | D73: =D70/D72 -> 262.59
A75: Prognozētais maksas pakalpojumu skaits gadā (gab.)*
A76: Prognozētie ieņēmumi gadā (euro)*
A78: Piezīme. *Ailes neaizpilda, ja izvēlētais laikposms ir viens gads.
A80: Aprēķinu sastādīja: SIVA Finanšu nodaļas vecākā finanšu ekonomiste Anita Ozoliņa

Sheet 1.6.6.
B1: SASKAŅOTS
B2: Sociālās integrācijas valsts aģentūras
B3: direktores p.i. G.Apele
D5: 2020.gada .aprīlī
A7: Maksas pakalpojuma izcenojuma aprēķins
A9: Sociālās integrācijas valsts aģentūra
A10: Publiskā pakalpojuma veids:
B11: 1. Profesionālās pilnveides izglītības programmas un profesionālās tālākizglītības programmas
B12: 1.6. Tālākizglītības kursi, semināri, lekcijas, profesionālās pilnveides programmas un profesionālās piemērotības noteikšana
B13: 1.6.6. Profesionālās pilnveides programma vienai personai grupā (līdz 15 personām), 32 stundas
A14: Laikposms | B14: 2020.gadā un turpmāk
A15: Izdevumu klasifikācijas kods | B15: Rādītājs (materiāla/izejvielas nosaukums, atlīdzība un citi izmaksu veidi) | D15: Izmaksu apjoms noteiktā laikposmā viena maksas pakalpojuma veida nodrošināšanai
A16: 1 | B16: 2 | D16: 3
B17: Tiešās izmaksas
A18: 1100 | B18: Atalgojums | C18: 170.67 | D18: =C18*22 -> 3754.74
A19: 1200 | B19: Darba devēja valsts sociālās apdrošināšanas obligātās iemaksas, pabalsti un kompensācijas | C19: 41.11 | D19: =C19*22 -> 904.42
A20: 2210 | B20: Pasta, telefona un citu sakaru pakalpojumi | D20: =C20*22 -> 0
A21: 2222 | B21: Izdevumi par ūdensapgādi un kanalizāciju | C21: 0.05 | D21: =C21*22 -> 1.1
A22: 2223 | B22: Izdevumi par elektroenerģiju | C22: 0.43 | D22: =C22*22 -> 9.46
D23: =C23*22 -> 0
D24: =C24*22 -> 0
A25: 2243 | B25: Iekārtas, inventāra un aparatūras remonts, tehniskā apkalpošana | D25: =C25*22 -> 0
A26: 2244 | B26: Nekustamā īpašuma uzturēšana | C26: 1.07 | D26: =C26*22 -> 23.54
A27: 2251 | B27: Informācijas sistēmas uzturēšana | D27: =C27*22 -> 0
A28: 2261 | B28: Ēku, telpu īre un noma | D28: =C28*22 -> 0
A29: 2279 | B29: Pārējie iepriekš neklasificētie pakalpojumu veidi | D29: =C29*22 -> 0
A30: 2311 | B30: Biroja preces | C30: 4.75 | D30: =C30*22 -> 104.5
A31: 2312 | B31: Inventārs | C31: 4.54 | D31: =C31*22 -> 99.88
A32: 2321 | B32: Kurināmais | C32: 0.66 | D32: =C32*22 -> 14.52
A33: 2350 | B33: Iestāžu uzturēšanas materiāli un preces | C33: 4.7 | D33: =C33*22 -> 103.4
A34: 2361 | B34: Mīkstais inventārs | D34: =C34*22 -> 0
A35: 2370 | B35: Mācību līdzekļi un materiāli | D35: =C35*22 -> 0
A36: 2513 | B36: Budžeta iestāžu nekustamā īpašuma nodokļa (t.sk. zemes nodokļa parāda) maksājumi budžetā | D36: =C36*22 -> 0
A37: 5238 | B37: Datortehnika, sakaru un cita biroja tehnika | C37: 11.8 | D37: =C37*22 -> 259.6
B38: Tiešās izmaksas kopā | C38: =SUM(C18:C37) -> 239.78 | D38: =SUM(D18:D37) -> 5275.16
B39: Netiešās izmaksas
A40: 1100 | B40: Atalgojums | C40: 57.55 | D40: =C40*22 -> 1266.1
A41: 1200 | B41: Darba devēja valsts sociālās apdrošināšanas obligātās iemaksas, pabalsti un kompensācijas | C41: 13.86 | D41: =C41*22 -> 304.92
A42: 2100 | B42: Mācību, darba un dienesta komandējumi, darba braucieni | C42: 0.57 | D42: =C42*22 -> 12.54
A43: 2210 | B43: Izdevumi par sakaru pakalpojumiem | C43: 0.92 | D43: =C43*22 -> 20.24
A44: 2222 | B44: Izdevumi par ūdeni un kanalizāciju | D44: =C44*22 -> 0
A45: 2223 | B45: Izdevumi par elektroenerģiju | C45: 0.4 | D45: =C45*22 -> 8.8
A46: 2224 | B46: Izdevumi par atkritumu savākšanu, izvešanu un atkritumu utilizāciju | C46: 0.96 | D46: =C46*22 -> 21.12
A47: 2231 | B47: Izdevumi iestādes sabiedrisko aktivitāšu īstenošanai | C47: 0.16 | D47: =C47*22 -> 3.52
A48: 2235 | B48: Izdevumi par saņemtajiem mācību pakalpojumiem | C48: 0.37 | D48: =C48*22 -> 8.14
A49: 2239 | B49: Pārējie neklasificētie pakalpojumi | C49: 0.84 | D49: =C49*22 -> 18.48
A50: 2242 | B50: Transportlīdzekļu uzturēšana un remonts | C50: 0.08 | D50: =C50*22 -> 1.76
A51: 2243 | B51: Iekārtas, inventāra un aparatūras remonts, tehniskā apkalpošana | C51: 1.41 | D51: =C51*22 -> 31.02
A52: 2244 | B52: Nekustamā īpašuma uzturēšana | C52: 10.53 | D52: =C52*22 -> 231.66
A53: 2247 | B53: Apdrošināšanas izdevumi | C53: 0.16 | D53: =C53*22 -> 3.52
A54: 2250 | B54: Informācijas tehnoloģiju pakalpojumi | C54: 3.99 | D54: =C54*22 -> 87.78
A55: 2262 | B55: Transportlīdzekļu noma | C55: 1.18 | D55: =C55*22 -> 25.96
A56: 2264 | B56: Iekārtu un inventāra īre un noma | D56: =C56*22 -> 0
A57: 2279 | B57: Pārējie iepriekš neklasificētie pakalpojumu veidi | D57: =C57*22 -> 0
A58: 2311 | B58: Biroja preces | C58: 0.12 | D58: =C58*22 -> 2.64
A59: 2312 | B59: Inventārs | C59: 0.08 | D59: =C59*22 -> 1.76
A60: 2314 | B60: Izdevumi par precēm iestādes sabiedrisko aktiv itāšu īstenošanai | C60: 0.08 | D60: =C60*22 -> 1.76
A61: 2321 | B61: Kurināmais | C61: 0.56 | D61: =C61*22 -> 12.32
A62: 2322 | B62: Degviela | C62: 0.61 | D62: =C62*22 -> 13.42
A63: 2350 | B63: Iestāžu uzturēšanas materiāli un preces | C63: 2.23 | D63: =C63*22 -> 49.06
A64: 2513 | B64: Budžeta iestāžu nekustamā īpašuma nodokļa maksājumi | C64: 2.06 | D64: =C64*22 -> 45.32
A65: 2515 | B65: Budžeta iestāžu dabas resursu nodokļa maksājumi | C65: 0.33 | D65: =C65*22 -> 7.26
A66: 5239 | B66: Pārējie pamatlīdzekļi | C66: 11.25 | D66: =C66*22 -> 247.5
A67: 5240 | B67: Pamatlīdzekļu izveidošana un nepabeigtā būvniecība | D67: =C67*22 -> 0
A68: 5250 | B68: Kapitālais remonts un rekonstrukcija | D68: =C68*22 -> 0
B69: Netiešās izmaksas kopā | C69: =SUM(C40:C68) -> 110.3 | D69: =SUM(D40:D68) -> 2426.6
B70: Pakalpojumu izmaksas kopā | C70: =C38+C69 -> 350.08 | D70: =D38+D69 -> 7701.76
A72: Maksas pakalpojuma vienību skaits noteiktā laikposmā | C72: 1 | D72: 22
A73: Maksas pakalpojuma izcenojums (euro) | C73: =C70/C72 -> 350.08 | D73: =D70/D72 -> 350.08
A75: Prognozētais maksas pakalpojumu skaits gadā (gab.)*
A76: Prognozētie ieņēmumi gadā (euro)*
A78: Piezīme. *Ailes neaizpilda, ja izvēlētais laikposms ir viens gads.
A80: Aprēķinu sastādīja: SIVA Finanšu nodaļas vecākā finanšu ekonomiste Anita Ozoliņa

Sheet 5.5.1.1.
D1: SASKAŅOTS
D2: Sociālās integrācijas valsts aģentūras
D5: 2020. gada
A7: Maksas pakalpojuma izcenojuma aprēķins
A9: Sociālās integrācijas valsts aģentūra
A10: Publiskā pakalpojuma veids:
B11: 5. Ārstniecības pakalpojumi
B12: 5.5. Nodarbības funkcionālā speciālista vadībā
B13: 5.5.1. Ārstnieciskā vingrošana
B14: 5.5.1.1. Vingrošana grupā - zālē (vienai personai), 1 nodarbība , 30min.
A15: Laikposms | B15: 2020.gadā un turpmāk
A17: Izdevumu klasifikācijas kods | B17: Rādītājs (materiāla/izejvielas nosaukums, atlīdzība un citi izmaksu veidi) | D17: Izmaksu apjoms noteiktā laikposmā viena maksas pakalpojuma veida nodrošināšanai
A18: 1 | B18: 2 | D18: 3
B19: Tiešās izmaksas
A20: 1100 | B20: Atalgojums | C20: 2.79 | D20: =C20*50 -> 139.5
A21: 1200 | B21: Darba devēja valsts sociālās apdrošināšanas obligātās iemaksas, sociāla rakstura pabalsti un kompensācijas | C21: 0.67 | D21: =C21*50 -> 33.5
A22: 2222 | B22: Izdevumi par ūdeni un kanalizāciju | C22: 0.05 | D22: =C22*50 -> 2.5
A23: 2223 | B23: Izdevumi par elektroenerģiju | C23: 0.25 | D23: =C23*50 -> 12.5
A24: 2243 | B24: Iekārtas, inventāra un aparatūras remonts, tehniskā apkalpošana | C24: 0.1 | D24: =C24*50 -> 5
A25: 2244 | B25: Ēku, būvju un telpu uzturēšana | C25: 0.28 | D25: =C25*50 -> 14
A26: 2311 | B26: Biroja preces | C26: 0.02 | D26: =C26*50 -> 1
A27: 2312 | B27: Inventārs | C27: 0.07 | D27: =C27*50 -> 3.5
A28: 2321 | B28: Kurināmais | C28: 0.23 | D28: =C28*50 -> 11.5
A29: 2341 | B29: Zāles, ķimikālijas, laboratorijas preces | C29: 0.02 | D29: =C29*50 -> 1
A30: 2350 | B30: Kārtējā remonta un iestāžu uzturēšanas materiāli | C30: 0.05 | D30: =C30*50 -> 2.5
A31: 5239 | B31: Pārējie pamatlīdzekļi | C31: 0.35 | D31: =C31*50 -> 17.5
B32: Tiešās izmaksas kopā | C32: =SUM(C20:C31) -> 4.88 | D32: =SUM(D20:D31) -> 244
B33: Netiešās izmaksas
A34: 1100 | B34: Atalgojums | C34: 0.74 | D34: =C34*50 -> 37
A35: 1200 | B35: Darba devēja valsts sociālās apdrošināšanas obligātās iemaksas, sociāla rakstura pabalsti un kompensācijas | C35: 0.18 | D35: =C35*50 -> 9
A36: 2100 | B36: Mācību, darba un dienesta komandējumi, dienesta, darba braucieni | D36: =C36*50 -> 0
A37: 2210 | B37: Pasta, telefona un citu sakaru pakalpojumi | C37: 0.01 | D37: =C37*50 -> 0.5
A38: 2222 | B38: Izdevumi par ūdeni un kanalizāciju | D38: =C38*50 -> 0
A39: 2223 | B39: Izdevumi par elektroenerģiju | C39: 0.08 | D39: =C39*50 -> 4
A40: 2224 | B40: Izdevumi par atkritumu savākšanu, izvešanu utilizāciju | C40: 0.01 | D40: =C40*50 -> 0.5
A41: 2231 | B41: Izdevumi iestādes sabiedrisko aktiv itāšu īstenošanai | C41: 0.02 | D41: =C41*50 -> 1
A42: 2239 | B42: Pārējie neklasificētie pakalpojumi | C42: 0.01 | D42: =C42*50 -> 0.5
A43: 2241 | B43: Ēku, būvju un telpu kārtējais remonts | D43: =C43*50 -> 0
A44: 2242 | B44: Transportlīdzekļu uzturēšana un remonts | C44: 0.03 | D44: =C44*50 -> 1.5
A45: 2243 | B45: Iekārtas, inventāra un aparatūras remonts, tehniskā apkalpošana | C45: 0.03 | D45: =C45*50 -> 1.5
A46: 2244 | B46: Ēku, būvju un telpu uzturēšana | C46: 0.11 | D46: =C46*50 -> 5.5
A47: 2247 | B47: Apdrošināšanas izdevumi | C47: 0.01 | D47: =C47*50 -> 0.5
A48: 2249 | B48: Pārējie remonta darbu un iestāžu uzturēšanas pakalpojumi | D48: =C48*50 -> 0
A49: 2250 | B49: Informācijas tehnoloģiju pakalpojumi | C49: 0.09 | D49: =C49*50 -> 4.5
A50: 2262 | B50: Transportlīdzekļu noma | C50: 0.01 | D50: =C50*50 -> 0.5
A51: 2263 | B51: Zemes noma | C51: 0.1 | D51: =C51*50 -> 5
A52: 2264 | B52: Iekārtu un inventāra īre un noma | D52: =C52*50 -> 0
A53: 2311 | B53: Biroja preces | C53: 0.01 | D53: =C53*50 -> 0.5
A54: 2312 | B54: Inventārs | C54: 0.01 | D54: =C54*50 -> 0.5
A55: 2321 | B55: Kurināmais | C55: 0.06 | D55: =C55*50 -> 3
A56: 2322 | B56: Degviela | C56: 0.01 | D56: =C56*50 -> 0.5
A57: 2341 | B57: Zāles, ķimikālijas, laboratorijas preces | D57: =C57*50 -> 0
A58: 2344 | B58: Medicīnas instrumenti, laboratorijas dzīvnieki un to uzturēšana | D58: =C58*50 -> 0
A59: 2350 | B59: Kārtējā remonta un iestāžu uzturēšanas materiāli | C59: 0.03 | D59: =C59*50 -> 1.5
A60: 2361 | B60: Mīkstais inventārs | D60: =C60*50 -> 0
A61: 2362 | B61: Virtuves inventārs, trauki un galda piederumi | D61: =C61*50 -> 0
A62: 2363 | B62: Ēdināšanas izdevumi | D62: =C62*50 -> 0
A63: 2370 | B63: Mācību līdzekļi un materiāli | D63: =C63*50 -> 0
A64: 2400 | B64: Izdevumi periodikas iegādei | D64: =C64*50 -> 0
A65: 2512 | B65: Budžeta iestāžu pievienotās vērtības nodokļa maksājumi | D65: =C65*50 -> 0
A66: 2513 | B66: Budžeta iestāžu nekustamā īpašuma nodokļa (t.sk. zemes nodokļa parāda) maksājumi budžetā | D66: =C66*50 -> 0
A67: 2515 | B67: Budžeta iestāžu dabas resursu nodokļa maksājumi | C67: 0.01 | D67: =C67*50 -> 0.5
A68: 2519 | B68: Pārējie budžeta iestāžu pārskaitītie nodokļi un nodevas | G68: =F68*1.56 -> 0
A69: 6240 | G69: =F69*1.56 -> 0
A70: 5120 | B70: Datorprogrammas | G70: =F70*1.56 -> 0
A71: 5232 | B71: Saimniecības pamatlīdzekļi | C71: 0 | G71: =F71*1.56 -> 0
A72: 5238 | B72: Datortehnika, sakaru un cita biroja tehnika | G72: =F72*1.56 -> 0
A73: 5240 | B73: Pamatlīdzekļu izveidošana un nepabeigtā būvniecība | G73: =F73*1.56 -> 0
A74: 5250 | B74: Kapitālais remonts un rekonstrukcija | G74: =F74*1.56 -> 0
B75: Netiešās izmaksas kopā | C75: =SUM(C34:C74) -> 1.56 | D75: =SUM(D34:D74) -> 78
B76: Pakalpojumu izmaksas kopā | C76: =C32+C75 -> 6.44 | D76: =D32+D75 -> 322
A78: Maksas pakalpojuma vienību skaits noteiktā laikposmā (gab.) | C78: 1 | D78: 50
A79: Maksas pakalpojuma izcenojums (euro) | C79: =ROUND(C76/C78,2) -> 6.44 | D79: =ROUND(D76/D78,2) -> 6.44
A81: Prognozētais maksas pakalpojumu skaits gadā (gab.)*
A82: Prognozētie ieņēmumi gadā (euro)*
A84: Piezīme. *Ailes neaizpilda, ja izvēlētais laikposms ir viens gads.
A86: Aprēķinu sastādīja:SIVA Finanšu nodaļas vecākā finanšu ekonomiste Anita Ozoliņa

Sheet 5.5.1.2.
D1: SASKAŅOTS
D2: Sociālās integrācijas valsts aģentūras
C3: direktore I.Jurševska
D5: 2020.gada .augustā
A7: Maksas pakalpojuma izcenojuma aprēķins
A9: Sociālās integrācijas valsts aģentūra
A10: Publiskā pakalpojuma veids:
B11: 5. Ārstniecības pakalpojumi
B12: 5.5. Nodarbības funkcionālā speciālista vadībā
B13: 5.5.1. Ārstnieciskā vingrošana
B14: 5.5.1.2. Ārstnieciskā vingrošana ar TRX piekares sistēmu grupā līdz 10 cilvēkiem (vienai personai), 1 nodarbība līdz 60min
A15: Laikposms | B15: 2021.gadā un turpmāk
A17: Izdevumu klasifikācijas kods | B17: Rādītājs (materiāla/izejvielas nosaukums, atlīdzība un citi izmaksu veidi) | D17: Izmaksu apjoms noteiktā laikposmā viena maksas pakalpojuma veida nodrošināšanai
A18: 1 | B18: 2 | D18: 3
B19: Tiešās izmaksas
A20: 1100 | B20: Atalgojums | C20: 4.71 | D20: =C20*170 -> 800.7
A21: 1200 | B21: Darba devēja valsts sociālās apdrošināšanas obligātās iemaksas, pabalsti un kompensācijas | C21: 1.13 | D21: =C21*170 -> 192.1
A22: 2222 | B22: Izdevumi par ūdensapgādi un kanalizāciju | C22: 0.05 | D22: =C22*170 -> 8.5
A23: 2223 | B23: Izdevumi par elektroenerģiju | C23: 0.27 | D23: =C23*170 -> 45.9
A24: 2243 | B24: Iekārtas, inventāra un aparatūras remonts, tehniskā apkalpošana | C24: 0.1 | D24: =C24*170 -> 17
A25: 2244 | B25: Nekustamā īpašuma uzturēšana | C25: 0.38 | D25: =C25*170 -> 64.6
A26: 2311 | B26: Biroja preces | C26: 0 | D26: =C26*170 -> 0
A27: 2312 | B27: Inventārs | C27: 0.06 | D27: =C27*170 -> 10.2
A28: 2321 | B28: Kurināmais | C28: 0.28 | D28: =C28*170 -> 47.6
A29: 2341 | B29: Zāles, ķimikālijas, laboratorijas preces | C29: 0.15 | D29: =C29*170 -> 25.5
A30: 2350 | B30: Iestāžu uzturēšanas materiāli un preces | C30: 0.09 | D30: =C30*170 -> 15.3
A31: 5239 | B31: Pārējie pamatlīdzekļi | C31: 0.42 | D31: =C31*170 -> 71.4
B32: Tiešās izmaksas kopā | C32: =SUM(C20:C31) -> 7.64 | D32: =SUM(D20:D31) -> 1298.8
B33: Netiešās izmaksas
A34: 1100 | B34: Atalgojums | C34: 1.25 | D34: =C34*170 -> 212.5
A35: 1200 | B35: Darba devēja valsts sociālās apdrošināšanas obligātās iemaksas, pabalsti un kompensācijas | C35: 0.3 | D35: =C35*170 -> 51
A36: 2100 | B36: Mācību, darba un dienesta komandējumi, dienesta, darba braucieni | D36: =C36*170 -> 0
A37: 2210 | B37: Izdevumi par sakaru pakalpojumiem | C37: 0.02 | D37: =C37*170 -> 3.4
A38: 2222 | B38: Izdevumi par ūdeni un kanalizāciju | D38: =C38*170 -> 0
A39: 2223 | B39: Izdevumi par elektroenerģiju | C39: 0.1 | D39: =C39*170 -> 17
A40: 2224 | B40: Izdevumi par atkritumu savākšanu, izvešanu no apdzīvotām vietām un teritorijām ārpus apdzīvotām vietām un atkritumu utilizāciju | C40: 0.02 | D40: =C40*170 -> 3.4
A41: 2231 | B41: Izdevumi iestādes sabiedrisko aktivitāšu īstenošanai | C41: 0.02 | D41: =C41*170 -> 3.4
A42: 2239 | B42: Pārējie neklasificētie pakalpojumi | C42: 0.01 | D42: =C42*170 -> 1.7
A43: 2241 | B43: Ēku, būvju un telpu būdarbi | D43: =C43*170 -> 0
A44: 2242 | B44: Transportlīdzekļu uzturēšana un remonts | C44: 0.04 | D44: =C44*170 -> 6.8
A45: 2243 | B45: Iekārtas, inventāra un aparatūras remonts, tehniskā apkalpošana | C45: 0.04 | D45: =C45*170 -> 6.8
A46: 2244 | B46: Nekustamā īpašuma uzturēšana | C46: 0.15 | D46: =C46*170 -> 25.5
A47: 2247 | B47: Apdrošināšanas izdevumi | C47: 0.01 | D47: =C47*170 -> 1.7
A48: 2249 | B48: Pārējie remonta darbu un iestāžu uzturēšanas pakalpojumi | D48: =C48*170 -> 0
A49: 2250 | B49: Informācijas tehnoloģiju pakalpojumi | C49: 0.08 | D49: =C49*170 -> 13.6
A50: 2252 | B50: Informācijas sistēmas licenču nomas izdevumi | D50: =C50*170 -> 0
A51: 2259 | B51: Pārējie informācijas tehnoloģiju pakalpojumi | D51: =C51*170 -> 0
A52: 2261 | B52: Ēku, telpu īre un noma | D52: =C52*170 -> 0
A53: 2262 | B53: Transportlīdzekļu noma | C53: 0.02 | D53: =C53*170 -> 3.4
A54: 2263 | B54: Zemes noma | C54: 0.16 | D54: =C54*170 -> 27.2
A55: 2264 | B55: Iekārtu un inventāra īre un noma | D55: =C55*170 -> 0
A56: 2311 | B56: Biroja preces | C56: 0.01 | D56: =C56*170 -> 1.7
A57: 2312 | B57: Inventārs | C57: 0.02 | D57: =C57*170 -> 3.4
A58: 2321 | B58: Kurināmais | C58: 0.1 | D58: =C58*170 -> 17
A59: 2322 | B59: Degviela | C59: 0.02 | D59: =C59*170 -> 3.4
A60: 2341 | B60: Zāles, ķimikālijas, laboratorijas preces | D60: =C60*170 -> 0
A61: 2344 | B61: Medicīnas instrumenti, laboratorijas dzīvnieki un to uzturēšana | D61: =C61*170 -> 0
A62: 2350 | B62: Iestāžu uzturēšanas materiāli un preces | C62: 0.05 | D62: =C62*170 -> 8.5
A63: 2361 | B63: Mīkstais inventārs | D63: =C63*170 -> 0
A64: 2362 | B64: Virtuves inventārs, trauki un galda piederumi | D64: =C64*170 -> 0
A65: 2363 | B65: Ēdināšanas izdevumi | D65: =C65*170 -> 0
A66: 2370 | B66: Mācību līdzekļi un materiāli | D66: =C66*170 -> 0
A67: 2400 | B67: Izdevumi periodikas iegādei | D67: =C67*170 -> 0
A68: 2512 | B68: Budžeta iestāžu pievienotās vērtības nodokļa maksājumi | D68: =C68*170 -> 0
A69: 2513 | B69: Budžeta iestāžu nekustamā īpašuma nodokļa (t.sk. zemes nodokļa parāda) maksājumi budžetā | D69: =C69*170 -> 0
A70: 2515 | B70: Budžeta iestāžu dabas resursu nodokļa maksājumi | C70: 0.02 | D70: =C70*170 -> 3.4
A71: 2519 | B71: Pārējie budžeta iestāžu pārskaitītie nodokļi un nodevas | D71: =C71*50 -> 0
A72: 6240 | D72: =C72*50 -> 0
A73: 6290 | D73: =C73*50 -> 0
A74: 5120 | B74: Datorprogrammas | D74: =C74*50 -> 0
A75: 5232 | B75: Saimniecības pamatlīdzekļi | C75: 0 | D75: =C75*50 -> 0
A76: 5238 | B76: Datortehnika, sakaru un cita biroja tehnika
A77: 5240 | B77: Pamatlīdzekļu izveidošana un nepabeigtā būvniecība
A78: 5250 | B78: Kapitālais remonts un rekonstrukcija | D78: =C78/345*50 -> 0
B79: Netiešās izmaksas kopā | C79: =SUM(C34:C78) -> 2.44 | D79: =SUM(D34:D78) -> 414.8
B80: Pakalpojumu izmaksas kopā | C80: =C79+C32 -> 10.08 | D80: =D79+D32 -> 1713.6
A82: Maksas pakalpojuma vienību skaits noteiktā laikposmā (gab.) | C82: 1 | D82: 170
A83: Maksas pakalpojuma izcenojums (euro) | C83: =ROUND(C80/C82,2) -> 10.08 | D83: =ROUND(D80/D82,2) -> 10.08
A85: Prognozētais maksas pakalpojumu skaits gadā (gab.)*
A86: Prognozētie ieņēmumi gadā (euro)*
A88: Piezīme. *Ailes neaizpilda, ja izvēlētais laikposms ir viens gads.
A90: Aprēķinu sastādīja:SIVA Finanšu nodaļas vecākā finanšu ekonomiste Anita Ozoliņa

Sheet 5.5.1.3.
D1: SASKAŅOTS
D2: Sociālās integrācijas valsts aģentūras
C3: direktore I.Jurševska
D5: 2020.gada .augustā
A7: Maksas pakalpojuma izcenojuma aprēķins
A9: Sociālās integrācijas valsts aģentūra
A10: Publiskā pakalpojuma veids:
B11: 5. Ārstniecības pakalpojumi
B12: 5.5. Nodarbības funkcionālā speciālista vadībā
B13: 5.5.1. Ārstnieciskā vingrošana
B14: 5.5.1.3. Ārstnieciskā vingrošana ar TRX piekares sistēmu individuāli, 1 nodarbība līdz 60min
A15: Laikposms | B15: 2021.gadā un turpmāk
A17: Izdevumu klasifikācijas kods | B17: Rādītājs (materiāla/izejvielas nosaukums, atlīdzība un citi izmaksu veidi) | D17: Izmaksu apjoms noteiktā laikposmā viena maksas pakalpojuma veida nodrošināšanai
A18: 1 | B18: 2 | D18: 3
B19: Tiešās izmaksas
A20: 1100 | B20: Atalgojums | C20: 10.59 | D20: =C20*150 -> 1588.5
A21: 1200 | B21: Darba devēja valsts sociālās apdrošināšanas obligātās iemaksas, pabalsti un kompensācijas | C21: 2.55 | D21: =C21*150 -> 382.5
A22: 2222 | B22: Izdevumi par ūdensapgādi un kanalizāciju | C22: 0.05 | D22: =C22*150 -> 7.5
A23: 2223 | B23: Izdevumi par elektroenerģiju | C23: 0.27 | D23: =C23*150 -> 40.5
A24: 2243 | B24: Iekārtas, inventāra un aparatūras remonts, tehniskā apkalpošana | C24: 0.25 | D24: =C24*150 -> 37.5
A25: 2244 | B25: Nekustamā īpašuma uzturēšana | C25: 0.35 | D25: =C25*150 -> 52.5
A26: 2311 | B26: Biroja preces | C26: 0.1 | D26: =C26*150 -> 15
A27: 2312 | B27: Inventārs | C27: 0.06 | D27: =C27*150 -> 9
A28: 2321 | B28: Kurināmais | C28: 0.28 | D28: =C28*150 -> 42
A29: 2341 | B29: Zāles, ķimikālijas, laboratorijas preces | C29: 0.15 | D29: =C29*150 -> 22.5
A30: 2350 | B30: Kārtējā remonta un iestāžu uzturēšanas materiāli | D30: =C30*150 -> 0
A31: 5239 | B31: Pārējie pamatlīdzekļi | C31: 0.42 | D31: =C31*150 -> 63
B32: Tiešās izmaksas kopā | C32: =SUM(C20:C31) -> 15.07 | D32: =SUM(D20:D31) -> 2260.5
B33: Netiešās izmaksas
A34: 1100 | B34: Atalgojums | C34: 2.23 | D34: =C34*150 -> 334.5
A35: 1200 | B35: Darba devēja valsts sociālās apdrošināšanas obligātās iemaksas, pabalsti un kompensācijas | C35: 0.54 | D35: =C35*150 -> 81
A36: 2100 | B36: Mācību, darba un dienesta komandējumi, dienesta, darba braucieni | C36: 0 | D36: =C36*150 -> 0
A37: 2210 | B37: Budžeta iestāžu dabas resursu nodokļa maksājumi | C37: 0.06 | D37: =C37*150 -> 9
A38: 2222 | B38: Izdevumi par ūdeni un kanalizāciju | C38: 0 | D38: =C38*150 -> 0
A39: 2223 | B39: Izdevumi par elektroenerģiju | C39: 0.23 | D39: =C39*150 -> 34.5
A40: 2224 | B40: Izdevumi par atkritumu savākšanu, izvešanu no apdzīvotām vietām un teritorijām ārpus apdzīvotām vietām un atkritumu utilizāciju | C40: 0.06 | D40: =C40*150 -> 9
A41: 2231 | B41: Izdevumi iestādes sabiedrisko aktivitāšu īstenošanai | C41: 0.05 | D41: =C41*150 -> 7.5
A42: 2239 | B42: Pārējie neklasificētie pakalpojumi | C42: 0.05 | D42: =C42*150 -> 7.5
A43: 2241 | B43: Ēku, būvju un telpu būvdarbi | C43: 0.06 | D43: =C43*150 -> 9
A44: 2242 | B44: Transportlīdzekļu uzturēšana un remonts | C44: 0.05 | D44: =C44*150 -> 7.5
A45: 2243 | B45: Iekārtas, inventāra un aparatūras remonts, tehniskā apkalpošana | C45: 0.09 | D45: =C45*150 -> 13.5
... A68: 2515 | B68: Budžeta iestāžu dabas resursu nodokļa maksājumi | C68: 0.03 | D68: =C68*150 -> 4.5
A69: 2519 | B69: Pārējie budžeta iestāžu pārskaitītie nodokļi un nodevas | D69: =C69*50 -> 0
A70: 6240 | D70: =C70*50 -> 0
A71: 6290 | D71: =C71*50 -> 0
A72: 5120 | B72: Datorprogrammas | D72: =C72*50 -> 0
A73: 5232 | B73: Saimniecības pamatlīdzekļi | D73: =C73*50 -> 0
A74: 5238 | B74: Datortehnika, sakaru un cita biroja tehnika
A75: 5240 | B75: Pamatlīdzekļu izveidošana un nepabeigtā būvniecība
A76: 5250 | B76: Kapitālais remonts un rekonstrukcija | D76: =C76/345*50 -> 0
B77: Netiešās izmaksas kopā | C77: =SUM(C34:C76) -> 4.82 | D77: =SUM(D34:D76) -> 723
B78: Pakalpojumu izmaksas kopā | C78: =C77+C32 -> 19.89 | D78: =D32+D77 -> 2983.5
A80: Maksas pakalpojuma vienību skaits noteiktā laikposmā (gab.) | C80: 1 | D80: 150
A81: Maksas pakalpojuma izcenojums (euro) | C81: =ROUND(C78/C80,2) -> 19.89 | D81: =ROUND(D78/D80,2) -> 19.89
A83: Prognozētais maksas pakalpojumu skaits gadā (gab.)*
A84: Prognozētie ieņēmumi gadā (euro)*
A86: Piezīme. *Ailes neaizpilda, ja izvēlētais laikposms ir viens gads.
A88: Aprēķinu sastādīja:SIVA Finanšu nodaļas vecākā finanšu ekonomiste Anita Ozoliņa

Sheet 5.5.3.
C1: SASKAŅOTS | D1: SASKAŅOTS
C2: Sociālās integrācijas valsts aģentūras | D2: Sociālās integrācijas valsts aģentūras
D3: direktore I.Jurševska
C5: 2019. gada .martā | D5: 2020.gada .augustā
A7: Maksas pakalpojuma izcenojuma aprēķins
A9: Sociālās integrācijas valsts aģentūra
A10: Publiskā pakalpojuma veids:
B11: 5. Ārstniecības pakalpojumi
B12: 5.5. Nodarbības funkcionālā speciālista vadībā
B13: 5.5.3. Fizioterapija individuāli, 1 nodarbība līdz 45min.
A14: Laikposms | B14: 2021.gadā un turpmāk
A16: Izdevumu klasifikācijas kods | B16: Rādītājs (materiāla/izejvielas nosaukums, atlīdzība un citi izmaksu veidi) | D16: Izmaksu apjoms noteiktā laikposmā viena maksas pakalpojuma veida nodrošināšanai
A17: 1 | B17: 2 | D17: 3
B18: Tiešās izmaksas
A19: 1100 | B19: Atalgojums | C19: 8.82 | D19: =C19*550 -> 4851
A20: 1200 | B20: Darba devēja valsts sociālās apdrošināšanas obligātās iemaksas, pabalsti un kompensācijas | C20: 2.12 | D20: =C20*550 -> 1166
A21: 2222 | B21: Izdevumi par ūdensapgādi un kanalizāciju | C21: 0.02 | D21: =C21*550 -> 11
A22: 2223 | B22: Izdevumi par elektroenerģiju | C22: 0.11 | D22: =C22*550 -> 60.5
A23: 2243 | B23: Iekārtas, inventāra un aparatūras remonts, tehniskā apkalpošana | C23: 0 | D23: =C23*550 -> 0
A24: 2244 | B24: Nekustamā īpašuma uzturēšana | C24: 0.23 | D24: =C24*550 -> 126.5
A25: 2311 | B25: Biroja preces | C25: 0.05 | D25: =C25*550 -> 27.5
A26: 2312 | B26: Inventārs | C26: 0.08 | D26: =C26*550 -> 44
A27: 2321 | B27: Kurināmais | C27: 0.21 | D27: =C27*550 -> 115.5
A28: 2341 | B28: Zāles, ķimikālijas, laboratorijas preces | C28: =0.14+1.78 -> 1.92 | D28: =C28*550 -> 1056
A29: 2350 | B29: Iestāžu uzturēšanas materiāli un preces | C29: 0.1 | D29: =C29*550 -> 55
A30: 5239 | B30: Pārējie pamatlīdzekļi | C30: 0.59 | D30: =C30*550 -> 324.5
B31: Tiešās izmaksas kopā | C31: =SUM(C19:C30) -> 14.25 | D31: =SUM(D19:D30) -> 7837.5
B32: Netiešās izmaksas
A33: 1100 | B33: Atalgojums | C33: 2.11 | D33: =C33*550 -> 1160.5
A34: 1200 | B34: Darba devēja valsts sociālās apdrošināšanas obligātās iemaksas, pabalsti un kompensācijas | C34: 0.51 | D34: =C34*550 -> 280.5
A35: 2100 | B35: Mācību, darba un dienesta komandējumi, dienesta, darba braucieni | C35: 0 | D35: =C35*550 -> 0
A36: 2210 | B36: Izdevumi par sakaru pakalpojumiem | C36: 0.06 | D36: =C36*550 -> 33
A37: 2222 | B37: Izdevumi par ūdeni un kanalizāciju | C37: 0 | D37: =C37*550 -> 0
A38: 2223 | B38: Izdevumi par elektroenerģiju | C38: 0.22 | D38: =C38*550 -> 121
A39: 2224 | B39: Izdevumi par atkritumu savākšanu, izvešanu no apdzīvotām vietām un teritorijām ārpus apdzīvotām vietām un atkritumu utilizāciju | C39: 0.06 | D39: =C39*550 -> 33
A40: 2231 | B40: Izdevumi iestādes sabiedrisko aktiv itāšu īstenošanai | C40: 0.06 | D40: =C40*550 -> 33
A41: 2239 | B41: Pārējie neklasificētie pakalpojumi | C41: 0.05 | D41: =C41*550 -> 27.5
A42: 2241 | B42: Ēku, būvju un telpu būvdarbi | C42: 0.06 | D42: =C42*550 -> 33
A43: 2242 | B43: Transportlīdzekļu uzturēšana un remonts | C43: 0.04 | D43: =C43*550 -> 22
A44: 2243 | B44: Iekārtas, inventāra un aparatūras remonts, tehniskā apkalpošana | C44: 0.09 | D44: =C44*550 -> 49.5
... A67: 2515 | B67: Budžeta iestāžu dabas resursu nodokļa maksājumi | C67: 0.02 | D67: =C67*550 -> 11
A68: 2519 | B68: Pārējie budžeta iestāžu pārskaitītie nodokļi un nodevas | D68: =C68/50*550 -> 0
A69: 5120 | B69: Datorprogrammas | D69: =C69/50*550 -> 0
A70: 5239 | B70: Pārējie pamatlīdzekļi | D70: =C70/50*550 -> 0
A71: 5238 | B71: Datortehnika, sakaru un cita biroja tehnika | D71: =C71/50*550 -> 0
A72: 5240 | B72: Pamatlīdzekļu izveidošana un nepabeigtā būvniecība | D72: =C72/50*550 -> 0
A73: 5250 | B73: Kapitālais remonts un rekonstrukcija | D73: =C73/50*50 -> 0
B74: Netiešās izmaksas kopā | C74: =SUM(C33:C73) -> 4.56 | D74: =SUM(D33:D73) -> 2508
B75: Pakalpojumu izmaksas kopā | D75: =D74+D31 -> 10345.5
A77: Maksas pakalpojuma vienību skaits noteiktā laikposmā (gab.) | C77: 50 | D77: 550
A78: Maksas pakalpojuma izcenojums (euro) | C78: =C31+C74 -> 18.81 | D78: =D75/D77 -> 18.81
A80: Prognozētais maksas pakalpojumu skaits gadā (gab.)*
A81: Prognozētie ieņēmumi gadā (euro)*
A83: Piezīme. *Ailes neaizpilda, ja izvēlētais laikposms ir viens gads.
A85: Aprēķinu sastādīja:SIVA Finanšu nodaļas vecākā finanšu ekonomiste Anita Ozoliņa

Sheet 5.5.5.
D1: SASKAŅOTS
D2: Sociālās integrācijas valsts aģentūras
C3: direktore I.Jurševska
D5: 2020.gada .augustā
A7: Maksas pakalpojuma izcenojuma aprēķins
A9: Sociālās integrācijas valsts aģentūra
A10: Publiskā pakalpojuma veids:
B11: 5. Ārstniecības pakalpojumi
B12: 5.5. Nodarbības funkcionālā speciālista vadībā
B13: 5.5.5. Fizioterapeita konsultācija ar individuālu vingrojumu kompleksa izstrādi, 1 reize līdz 60min.
A15: Laikposms | B15: 2021.gadā un turpmāk
A17: Izdevumu klasifikācijas kods | B17: Rādītājs (materiāla/izejvielas nosaukums, atlīdzība un citi izmaksu veidi) | D17: Izmaksu apjoms noteiktā laikposmā viena maksas pakalpojuma veida nodrošināšanai
A18: 1 | B18: 2 | D18: 3
B19: Tiešās izmaksas
A20: 1100 | B20: Atalgojums | C20: 10.59 | D20: =C20*30 -> 317.7
A21: 1200 | B21: Darba devēja valsts sociālās apdrošināšanas obligātās iemaksas, pabalsti un kompensācijas | C21: 2.55 | D21: =C21*30 -> 76.5
A22: 2222 | B22: Izdevumi par ūdensapgādi un kanalizāciju | C22: 0.02 | D22: =C22*30 -> 0.6
A23: 2223 | B23: Izdevumi par elektroenerģiju | C23: 0.11 | D23: =C23*30 -> 3.3
A24: 2243 | B24: Iekārtas, inventāra un aparatūras remonts, tehniskā apkalpošana | C24: 0.1 | D24: =C24*30 -> 3
A25: 2244 | B25: Nekustamā īpašuma uzturēšana | C25: 0.23 | D25: =C25*30 -> 6.9
A26: 2311 | B26: Biroja preces | C26: 0.1 | D26: =C26*30 -> 3
A27: 2312 | B27: Inventārs | C27: 0.26 | D27: =C27*30 -> 7.8
A28: 2321 | B28: Kurināmais | C28: 0.21 | D28: =C28*30 -> 6.3
A29: 2341 | B29: Zāles, ķimikālijas, laboratorijas preces | C29: =0.19+1.78 -> 1.97 | D29: =C29*30 -> 59.1
A30: 2350 | B30: Iestāžu uzturēšanas materiāli un preces | C30: 0.1 | D30: =C30*30 -> 3
A31: 5239 | B31: Pārējie pamatlīdzekļi | C31: 0.46 | D31: =C31*30 -> 13.8
B32: Tiešās izmaksas kopā | C32: =SUM(C20:C31) -> 16.7 | D32: =SUM(D20:D31) -> 501
B33: Netiešās izmaksas
A34: 1100 | B34: Atalgojums | C34: 2.48 | D34: =C34*30 -> 74.4
A35: 1200 | B35: Darba devēja valsts sociālās apdrošināšanas obligātās iemaksas, pabalsti un kompensācijas | C35: 0.6 | D35: =C35*30 -> 18
A36: 2100 | B36: Mācību, darba un dienesta komandējumi, dienesta, darba braucieni | C36: 0 | D36: =C36*30 -> 0
A37: 2210 | B37: Izdevumi par sakaru pakalpojumiem | C37: 0.07 | D37: =C37*30 -> 2.1
A38: 2222 | B38: Izdevumi par ūdeni un kanalizāciju | C38: 0 | D38: =C38*30 -> 0
A39: 2223 | B39: Izdevumi par elektroenerģiju | C39: 0.26 | D39: =C39*30 -> 7.8
A40: 2224 | B40: Izdevumi par atkritumu savākšanu, izvešanu no apdzīvotām vietām un teritorijām ārpus apdzīvotām vietām un atkritumu utilizāciju | C40: 0.07 | D40: =C40*30 -> 2.1
A41: 2231 | B41: Izdevumi iestādes sabiedrisko aktivitāšu īstenošanai | C41: 0.06 | D41: =C41*30 -> 1.8
A42: 2239 | B42: Pārējie neklasificētie pakalpojumi | C42: 0.06 | D42: =C42*30 -> 1.8
A43: 2241 | B43: Ēku, būvju un telpu būvdarbi | C43: 0.07 | D43: =C43*30 -> 2.1
A44: 2242 | B44: Transportlīdzekļu uzturēšana un remonts | C44: 0.05 | D44: =C44*30 -> 1.5
A45: 2243 | B45: Iekārtas, inventāra un aparatūras remonts, tehniskā apkalpošana | C45: 0.1 | D45: =C45*30 -> 3
... A68: 2515 | B68: Budžeta iestāžu dabas resursu nodokļa maksājumi | C68: 0.03 | D68: =C68*30 -> 0.9
A69: 2519 | B69: Pārējie budžeta iestāžu pārskaitītie nodokļi un nodevas | D69: =C69*50 -> 0
A70: 6240 | D70: =C70*50 -> 0
A71: 6290 | D71: =C71*50 -> 0
A72: 5120 | B72: Datorprogrammas | D72: =C72*50 -> 0
A73: 5232 | B73: Saimniecības pamatlīdzekļi | D73: =C73*50 -> 0
A74: 5238 | B74: Datortehnika, sakaru un cita biroja tehnika
A75: 5240 | B75: Pamatlīdzekļu izveidošana un nepabeigtā būvniecība
A76: 5250 | B76: Kapitālais remonts un rekonstrukcija | D76: =C76/345*50 -> 0
B77: Netiešās izmaksas kopā | C77: =SUM(C34:C76) -> 5.35 | D77: =SUM(D34:D76) -> 160.5
B78: Pakalpojumu izmaksas kopā | C78: =C77+C32 -> 22.05 | D78: =D32+D77 -> 661.5
A80: Maksas pakalpojuma vienību skaits noteiktā laikposmā (gab.) | C80: 1 | D80: 30
A81: Maksas pakalpojuma izcenojums (euro) | C81: =ROUND(C78/C80,2) -> 22.05 | D81: =ROUND(D78/D80,2) -> 22.05
A83: Prognozētais maksas pakalpojumu skaits gadā (gab.)*
A84: Prognozētie ieņēmumi gadā (euro)*
A86: Piezīme. *Ailes neaizpilda, ja izvēlētais laikposms ir viens gads.
A88: Aprēķinu sastādīja:SIVA Finanšu nodaļas vecākā finanšu ekonomiste Anita Ozoliņa

Sheet 5.5.8.2.
D1: SASKAŅOTS
D2: Sociālās integrācijas valsts aģentūras
C3: direktore I.Jurševska
D5: 2020.gada .augustā
A7: Maksas pakalpojuma izcenojuma aprēķins
A9: Sociālās integrācijas valsts aģentūra
A10: Publiskā pakalpojuma veids:
B11: 5. Ārstniecības pakalpojumi
B12: 5.5. Nodarbības funkcionālā speciālista vadībā
B13: 5.5.8. Slinga terapija
B14: 5.5.8.2. Slinga terapija ar individuālu fizioterapijas nodarbību, 1 nodarbība līdz 45 min.
A15: Laikposms | B15: 2021.gadā un turpmāk
A17: Izdevumu klasifikācijas kods | B17: Rādītājs (materiāla/izejvielas nosaukums, atlīdzība un citi izmaksu veidi) | D17: Izmaksu apjoms noteiktā laikposmā viena maksas pakalpojuma veida nodrošināšanai
A18: 1 | B18: 2 | D18: 3
B19: Tiešās izmaksas
A20: 1100 | B20: Atalgojums | C20: 8.82 | D20: =C20*20 -> 176.4
A21: 1200 | B21: Darba devēja valsts sociālās apdrošināšanas obligātās iemaksas, pabalsti un kompensācijas | C21: 2.12 | D21: =C21*20 -> 42.4
A22: 2222 | B22: Izdevumi par ūdensapgādi un kanalizāciju | C22: 0.02 | D22: =C22*20 -> 0.4
A23: 2223 | B23: Izdevumi par elektroenerģiju | C23: 0.14 | D23: =C23*20 -> 2.8
A24: 2243 | B24: Iekārtas, inventāra un aparatūras remonts, tehniskā apkalpošana | C24: 0.1 | D24: =C24*20 -> 2
A25: 2244 | B25: Nekustamā īpašuma uzturēšana | C25: 0.38 | D25: =C25*20 -> 7.6
A26: 2311 | B26: Biroja preces | C26: 0 | D26: =C26*20 -> 0
A27: 2312 | B27: Inventārs | C27: 0.04 | D27: =C27*20 -> 0.8
A28: 2321 | B28: Kurināmais | C28: 0.14 | D28: =C28*20 -> 2.8
A29: 2341 | B29: Zāles, ķimikālijas, laboratorijas preces | C29: 0.24 | D29: =C29*20 -> 4.8
A30: 2350 | B30: Iestāžu uzturēšanas materiāli un preces | C30: 0.16 | D30: =C30*20 -> 3.2
A31: 5239 | B31: Pārējie pamatlīdzekļi | C31: 0.39 | D31: =C31*20 -> 7.8
B32: Tiešās izmaksas kopā | C32: =SUM(C20:C31) -> 12.55 | D32: =SUM(D20:D31) -> 251
B33: Netiešās izmaksas
A34: 1100 | B34: Atalgojums | C34: 1.87 | D34: =C34*20 -> 37.4
A35: 1200 | B35: Darba devēja valsts sociālās apdrošināšanas obligātās iemaksas, pabalsti un kompensācijas | C35: 0.45 | D35: =C35*20 -> 9
A36: 2100 | B36: Mācību, darba un dienesta komandējumi, dienesta, darba braucieni | C36: 0 | D36: =C36*20 -> 0
A37: 2210 | B37: Izdevumi par sakaru pakalpojumiem | C37: 0.05 | D37: =C37*20 -> 1
A38: 2222 | B38: Izdevumi par ūdeni un kanalizāciju | C38: 0 | D38: =C38*20 -> 0
A39: 2223 | B39: Izdevumi par elektroenerģiju | C39: 0.19 | D39: =C39*20 -> 3.8
A40: 2224 | B40: Izdevumi par atkritumu savākšanu, izvešanu no apdzīvotām vietām un teritorijām ārpus apdzīvotām vietām un atkritumu utilizāciju | C40: 0.05 | D40: =C40*20 -> 1
A41: 2231 | B41: Izdevumi iestādes sabiedrisko aktivitāšu īstenošanai | C41: 0.04 | D41: =C41*20 -> 0.8
A42: 2239 | B42: Pārējie neklasificētie pakalpojumi | C42: 0.04 | D42: =C42*20 -> 0.8
A43: 2241 | B43: Ēku, būvju un telpu būvdarbi | C43: 0.05 | D43: =C43*20 -> 1
A44: 2242 | B44: Transportlīdzekļu uzturēšana un remonts | C44: 0.04 | D44: =C44*20 -> 0.8
A45: 2243 | B45: Iekārtas, inventāra un aparatūras remonts, tehniskā apkalpošana | C45: 0.07 | D45: =C45*20 -> 1.4
... A68: 2515 | B68: Budžeta iestāžu dabas resursu nodokļa maksājumi | C68: 0.02 | D68: =C68*20 -> 0.4
A69: 2519 | B69: Pārējie budžeta iestāžu pārskaitītie nodokļi un nodevas | D69: =C69*50 -> 0
A70: 6240 | D70: =C70*50 -> 0
A71: 6290 | D71: =C71*50 -> 0
A72: 5120 | B72: Datorprogrammas | D72: =C72*50 -> 0
A73: 5232 | B73: Saimniecības pamatlīdzekļi | D73: =C73*50 -> 0
A74: 5238 | B74: Datortehnika, sakaru un cita biroja tehnika
A75: 5240 | B75: Pamatlīdzekļu izveidošana un nepabeigtā būvniecība
A76: 5250 | B76: Kapitālais remonts un rekonstrukcija | D76: =C76/345*50 -> 0
B77: Netiešās izmaksas kopā | C77: =SUM(C34:C76) -> 4.01 | D77: =SUM(D34:D76) -> 80.2
B78: Pakalpojumu izmaksas kopā | C78: =C77+C32 -> 16.56 | D78: =D32+D77 -> 331.2
A80: Maksas pakalpojuma vienību skaits noteiktā laikposmā (gab.) | C80: 1 | D80: 20
A81: Maksas pakalpojuma izcenojums (euro) | C81: =ROUND(C78/C80,2) -> 16.56 | D81: =ROUND(D78/D80,2) -> 16.56
A83: Prognozētais maksas pakalpojumu skaits gadā (gab.)*
A84: Prognozētie ieņēmumi gadā (euro)*
A86: Piezīme. *Ailes neaizpilda, ja izvēlētais laikposms ir viens gads.
A88: Aprēķinu sastādīja:SIVA Finanšu nodaļas vecākā finanšu ekonomiste Anita Ozoliņa

Sheet 7.6.2.
C1: SASKAŅOTS | D1: SASKAŅOTS
C2: Sociālās integrācijas valsts aģentūras | D2: Sociālās integrācijas valsts aģentūras
C3: direktore I.Jurševska | D3: direktore I.Jurševska
C5: 2017. gada .novembrī | D5: 2020.gada .augustā
A7: Maksas pakalpojuma izcenojuma aprēķins
A9: Sociālās integrācijas valsts aģentūra
A10: Publiskā pakalpojuma veids:
B11: 7. Viesu izmitināšana
B12: 7.6. Viesu izmitināšana Dubultu prospektā 59, Jūrmalā, 1. stāvs
B13: 7.6.2. Dubultu prospektā 59, Jūrmalā, astoņvietīgs numurs, 1 numurs diennaktī
A14: Laikposms | B14: 2021.gadā un turpmāk
A16: Izdevumu klasifikācijas kods | B16: Rādītājs (materiāla/izejvielas nosaukums, atlīdzība un citi izmaksu veidi) | C16: Izmaksu apjoms noteiktā laikposmā viena maksas pakalpojuma veida nodrošināšanai | D16: Izmaksu apjoms noteiktā laikposmā viena maksas pakalpojuma veida nodrošināšanai
A17: 1 | B17: 2 | C17: 3 | D17: 3
B18: Tiešās izmaksas
A19: 1100 | B19: Atalgojums | C19: 3034.7 | D19: 263.33
A20: 1200 | B20: Darba devēja valsts sociālās apdrošināšanas obligātās iemaksas, pabalsti un kompensācijas | C20: 715.87 | D20: 63.44
A21: 2210 | B21: Izdevumi par sakaru pakalpojumiem | C21: 153.78 | D21: 15.55
A22: 2222 | B22: Izdevumi par ūdeni un kanalizāciju | C22: 2549.57 | D22: 355.42
A23: 2223 | B23: Izdevumi par elektroenerģiju | C23: 1184.2 | D23: 165.07
A24: 2224 | B24: Izdevumi par atkritumu savākšanu, izvešanu no apdzīvotām vietām un teritorijām ārpus apdzīvotām vietām un atkritumu utilizāciju | D24: 80.9
A25: 2243 | B25: Iekārtas, inventāra un aparatūras remonts, tehniskā apkalpošana | C25: 141.49 | D25: 25.73
A26: 2244 | B26: Nekustamā īpašuma uzturēšana | C26: 3095.49 | D26: 280.37
A27: 2250 | B27: Informācijas tehnoloģiju pakalpojumi | C27: 0.94
A28: 2261 | B28: Ēku, telpu īre un noma | C28: 0 | D28: 0
A29: 2263 | B29: Zemes noma | C29: 1311.76 | D29: 127.08
A30: 2312 | B30: Inventārs | C30: 391.92 | D30: 54.63
A31: 2321 | B31: Kurināmais | C31: 5398.86 | D31: 376.28
A32: 2350 | B32: Iestāžu uzturēšanas materiāli un preces | C32: 327.51 | D32: 45.67
A33: 2361 | B33: Mīkstais inventārs | C33: 274.92 | D33: 38.36
A34: 2513 | B34: Budžeta iestāžu nekustamā īpašuma nodokļa maksājumi | C34: 617.46 | D34: 43.04
A35: 2519 | B35: Pārējie budžeta iestāžu pārskaitītie nodokļi un nodevas | C35: 437.23 | D35: 30.48
B36: Tiešās izmaksas kopā | C36: =SUM(C19:C35) -> 19635.7 | D36: =SUM(D19:D35) -> 1965.35
B37: Netiešās izmaksas
A38: 1100 | B38: Atalgojums | C38: 2930.86 | D38: 406.9
A39: 1200 | B39: Darba devēja valsts sociālās apdrošināšanas obligātās iemaksas, pabalsti un kompensācijas | C39: 691.39 | D39: 98.02
A40: 2210 | B40: Izdevumi par sakaru pakalpojumiem | C40: 28.33 | D40: 3.95
A41: 2234 | B41: Normatīvajos aktos noteiktie veselības un fiziskās sagatavotības pārbaudes izdevumi | C41: 6.5 | D41: 0.91
A42: 2239 | B42: Pārējie neklasificētie pakalpojumi | C42: 35.14 | D42: 4.9
A43: 2241 | B43: Ēku, būvju un telpu būvdarbi | C43: 7.36 | D43: 1.03
A44: 2242 | B44: Transportlīdzekļu uzturēšana un remonts | C44: 28.64 | D44: 3.99
A45: 2243 | B45: Iekārtas, inventāra un aparatūras remonts, tehniskā apkalpošana | C45: 28.09 | D45: 6.47
A46: 2244 | B46: Nekustamā īpašuma uzturēšana | C46: 5.95 | D46: 4.21
A47: 2250 | B47: Informācijas tehnoloģiju pakalpojumi | C47: 64.95 | D47: 9.45
A48: 2262 | B48: Transportlīdzekļu noma | C48: 68.32 | D48: 6.93
A49: 2264 | B49: Iekārtu un inventāra īre un noma | C49: 0.63 | D49: 0.1
A50: 2311 | B50: Biroja preces | C50: 37.33 | D50: 5.2
A51: 2312 | B51: Inventārs | C51: 8.45 | D51: =1.19+2.6 -> 3.79
A52: 2321 | B52: Kurināmais | D52: 4.6
A53: 2322 | B53: Degviela | C53: 174.59 | D53: 24.34
A54: 2350 | B54: Iestāžu uzturēšanas materiāli un preces | C54: 174.28 | D54: 24.29
A55: 2361 | B55: Mīkstais inventārs | C55: 53.45 | D55: 7.45
A56: 2512 | B56: Budžeta iestāžu pievienotās vērtības nodokļa maksājumi | C56: 3060.16 | D56: 324.8
A57: 2515 | B57: Budžeta iestāžu dabas resursu nodokļa maksājumi | C57: 11.97 | D57: 1.67
A58: 2519 | B58: Pārējie budžeta iestāžu pārskaitītie nodokļi un nodevas | C58: 0.55 | D58: 0.08
A59: 5120 | B59: Licences, koncesijas un patenti, preču zīmes un līdzīgas tiesības | D59: 9.6
A60: 5239 | B60: Pārējie pamatlīdzekļi | C60: 480.39 | D60: 66.94
A61: 5250 | B61: Kapitālais remonts un rekonstrukcija | C61: 337.53 | D61: 47.03
B62: Netiešās izmaksas kopā | C62: =SUM(C38:C61) -> 8234.86 | D62: =SUM(D38:D61) -> 1066.65
B63: Pakalpojumu izmaksas kopā | C63: =C62+C36 -> 27870.56 | D63: =D36+D62 -> 3032
A65: Maksas pakalpojuma vienību skaits noteiktā laikposmā | C65: 330 | D65: 20
A66: Maksas pakalpojuma izcenojums (euro) | C66: =C63/C65 -> 84.456242 | D66: =D63/D65 -> 151.6
A68: Prognozētais maksas pakalpojumu skaits gadā (gab.)*
A69: Prognozētie ieņēmumi gadā (euro)*
A71: Piezīme. *Ailes neaizpilda, ja izvēlētais laikposms ir viens gads.
A73: Aprēķinu sastādīja:SIVA Finanšu nodaļas vecākā finanšu ekonomiste Anita Ozoliņa

Sheet 7.7.2.
C1: SASKAŅOTS | D1: SASKAŅOTS
C2: Sociālās integrācijas valsts aģentūras | D2: Sociālās integrācijas valsts aģentūras
C3: direktore I.Jurševska | D3: direktore I.Jurševska
C5: 2017. gada .novembrī | D5: 2020.gada .augustā
A7: Maksas pakalpojuma izcenojuma aprēķins
A9: Sociālās integrācijas valsts aģentūra
A10: Publiskā pakalpojuma veids:
B11: 7. Viesu izmitināšana
B12: 7.7. Viesu izmitināšana Dubultu prospektā 59, Jūrmalā, 2. stāvs
B13: 7.7.2. Dubultu prospektā 59, Jūrmalā, sešvietīgs numurs, 1 numurs diennaktī
A14: Laikposms | B14: 2021.gadā un turpmāk
A16: Izdevumu klasifikācijas kods | B16: Rādītājs (materiāla/izejvielas nosaukums, atlīdzība un citi izmaksu veidi) | C16: Izmaksu apjoms noteiktā laikposmā viena maksas pakalpojuma veida nodrošināšanai | D16: Izmaksu apjoms noteiktā laikposmā viena maksas pakalpojuma veida nodrošināšanai
A17: 1 | B17: 2 | C17: 3 | D17: 3
B18: Tiešās izmaksas
A19: 1100 | B19: Atalgojums | C19: 3034.7 | D19: 157.5
A20: 1200 | B20: Darba devēja valsts sociālās apdrošināšanas obligātās iemaksas, pabalsti un kompensācijas | C20: 715.87 | D20: 37.94
A21: 2210 | B21: Izdevumi par sakaru pakalpojumiem | C21: 153.78 | D21: 10.04
A22: 2222 | B22: Izdevumi par ūdeni un kanalizāciju | C22: 2549.57 | D22: 248.29
A23: 2223 | B23: Izdevumi par elektroenerģiju | C23: 1184.2 | D23: 159.31
A24: 2224 | B24: Izdevumi par atkritumu savākšanu, izvešanu no apdzīvotām vietām un teritorijām ārpus apdzīvotām vietām un atkritumu utilizāciju | D24: 29.41
A25: 2243 | B25: Iekārtas, inventāra un aparatūras remonts, tehniskā apkalpošana | C25: 141.49 | D25: 12.87
A26: 2244 | B26: Nekustamā īpašuma uzturēšana | C26: 3095.49 | D26: 203.91
A27: 2250 | B27: Informācijas tehnoloģiju pakalpojumi | C27: 0.94
A28: 2261 | B28: Ēku, telpu īre un noma | C28: 0
A29: 2263 | B29: Zemes noma | C29: 1311.76 | D29: 61.59
A30: 2312 | B30: Inventārs | C30: 391.92 | D30: 22.84
A31: 2321 | B31: Kurināmais | C31: 5398.86 | D31: 273.57
A32: 2350 | B32: Iestāžu uzturēšanas materiāli un preces | C32: 327.51 | D32: 34.25
A33: 2361 | B33: Mīkstais inventārs | C33: 274.92 | D33: 28.89
A34: 2513 | B34: Budžeta iestāžu nekustamā īpašuma nodokļa maksājumi | C34: 617.46 | D34: 20.86
A35: 2519 | B35: Pārējie budžeta iestāžu pārskaitītie nodokļi un nodevas | C35: 437.23 | D35: 14.77
B36: Tiešās izmaksas kopā | C36: =SUM(C19:C35) -> 19635.7 | D36: =SUM(D19:D35) -> 1316.04
B37: Netiešās izmaksas
A38: 1100 | B38: Atalgojums | C38: 2930.86 | D38: 202.18
A39: 1200 | B39: Darba devēja valsts sociālās apdrošināšanas obligātās iemaksas, pabalsti un kompensācijas | C39: 691.39 | D39: 48.71
A40: 2210 | B40: Izdevumi par sakaru pakalpojumiem | C40: 28.33 | D40: 6.65
A41: 2234 | B41: Normatīvajos aktos noteiktie veselības un fiziskās sagatavotības pārbaudes izdevumi | C41: 6.5 | D41: 0.68
A42: 2239 | B42: Pārējie neklasificētie pakalpojumi | C42: 35.14 | D42: 2.68
A43: 2241 | B43: Ēku, būvju un telpu būvdarbi | C43: 7.36 | D43: 0.77
A44: 2242 | B44: Transportlīdzekļu uzturēšana un remonts | C44: 28.64 | D44: 2.16
A45: 2243 | B45: Iekārtas, inventāra un aparatūras remonts, tehniskā apkalpošana | C45: 28.09 | D45: 4.85
A46: 2244 | B46: Nekustamā īpašuma uzturēšana | C46: 5.95 | D46: 3.16
A47: 2250 | B47: Informācijas tehnoloģiju pakalpojumi | C47: 64.95 | D47: 7.09
A48: 2262 | B48: Transportlīdzekļu noma | C48: 68.32 | D48: 5.2
A49: 2264 | B49: Iekārtu un inventāra īre un noma | C49: 0.63 | D49: 0.1
... A51: 2312 | B51: Inventārs | C51: 8.45 | D51: 3.79
A52: 2321 | B52: Kurināmais | D52: 3.45
A53: 2322 | B53: Degviela | C53: 174.59 | D53: 14.56
A54: 2350 | B54: Iestāžu uzturēšanas materiāli un preces | C54: 174.28 | D54: 18.21
A55: 2361 | B55: Mīkstais inventārs | C55: 53.45 | D55: 5.59
A56: 2512 | B56: Budžeta iestāžu pievienotās vērtības nodokļa maksājumi | C56: 3060.16 | D56: 203.4
A57: 2515 | B57: Budžeta iestāžu dabas resursu nodokļa maksājumi | C57: 11.97 | D57: 1.25
A58: 2519 | B58: Pārējie budžeta iestāžu pārskaitītie nodokļi un nodevas | C58: 0.55 | D58: =0.08 -> 0.08
A59: 5120 | B59: Licences, koncesijas un patenti, preču zīmes un līdzīgas tiesības | D59: 7.2
A60: 5239 | B60: Pārējie pamatlīdzekļi | C60: 480.39 | D60: 20.33
A61: 5250 | B61: Kapitālais remonts un rekonstrukcija | C61: 337.53 | D61: 15.27
B62: Netiešās izmaksas kopā | C62: =SUM(C38:C61) -> 8234.86 | D62: =SUM(D38:D61) -> 582.56
B63: Pakalpojumu izmaksas kopā | C63: =C62+C36 -> 27870.56 | D63: =D36+D62 -> 1898.6
A65: Maksas pakalpojuma vienību skaits noteiktā laikposmā | C65: 330 | D65: 20
A66: Maksas pakalpojuma izcenojums (euro) | C66: =C63/C65 -> 84.456242 | D66: =D63/D65 -> 94.93
A68: Prognozētais maksas pakalpojumu skaits gadā (gab.)*
A69: Prognozētie ieņēmumi gadā (euro)*
A71: Piezīme. *Ailes neaizpilda, ja izvēlētais laikposms ir viens gads.
A73: Aprēķinu sastādīja:SIVA Finanšu nodaļas vecākā finanšu ekonomiste Anita Ozoliņa

Sheet 7.8.2.
C1: SASKAŅOTS | D1: SASKAŅOTS
C2: Sociālās integrācijas valsts aģentūras | D2: Sociālās integrācijas valsts aģentūras
C3: direktore I.Jurševska | D3: direktore I.Jurševska
C5: 2017. gada .novembrī | D5: 2020.gada .augustā
A7: Maksas pakalpojuma izcenojuma aprēķins
A9: Sociālās integrācijas valsts aģentūra
A10: Publiskā pakalpojuma veids:
B11: 7. Viesu izmitināšana
B12: 7.8. Viesu izmitināšana Dubultu prospektā 59, Jūrmalā, 3. stāvs
B13: 7.8.2. Dubultu prospektā 59, Jūrmalā, trīsvietīgs numurs, 1 numurs diennaktī
A14: Laikposms | B14: 2021.gadā un turpmāk
A16: Izdevumu klasifikācijas kods | B16: Rādītājs (materiāla/izejvielas nosaukums, atlīdzība un citi izmaksu veidi) | C16: Izmaksu apjoms noteiktā laikposmā viena maksas pakalpojuma veida nodrošināšanai | D16: Izmaksu apjoms noteiktā laikposmā viena maksas pakalpojuma veida nodrošināšanai
A17: 1 | B17: 2 | C17: 3 | D17: 3
B18: Tiešās izmaksas
A19: 1100 | B19: Atalgojums | C19: 3034.7 | D19: =157.5 -> 157.5
A20: 1200 | B20: Darba devēja valsts sociālās apdrošināšanas obligātās iemaksas, pabalsti un kompensācijas | C20: 715.87 | D20: 37.94
A21: 2210 | B21: Izdevumi par sakaru pakalpojumiem | C21: 153.78 | D21: 10.04
A22: 2222 | B22: Izdevumi par ūdeni un kanalizāciju | C22: 2549.57 | D22: 216.21
A23: 2223 | B23: Izdevumi par elektroenerģiju | C23: 1184.2 | D23: 159.31
A24: 2224 | B24: Izdevumi par atkritumu savākšanu, izvešanu no apdzīvotām vietām un teritorijām ārpus apdzīvotām vietām un atkritumu utilizāciju | D24: 29.41
A25: 2243 | B25: Iekārtas, inventāra un aparatūras remonts, tehniskā apkalpošana | C25: 141.49 | D25: 12.87
A26: 2244 | B26: Nekustamā īpašuma uzturēšana | C26: 3095.49 | D26: 203.91
A27: 2250 | B27: Informācijas tehnoloģiju pakalpojumi | C27: 0.94
A28: 2261 | B28: Ēku, telpu īre un noma | C28: 0 | D28: 0
A29: 2263 | B29: Zemes noma | C29: 1311.76 | D29: 61.59
A30: 2312 | B30: Inventārs | C30: 391.92 | D30: 28.84
A31: 2321 | B31: Kurināmais | C31: 5398.86 | D31: 273.57
A32: 2350 | B32: Iestāžu uzturēšanas materiāli un preces | C32: 327.51 | D32: 34.25
A33: 2361 | B33: Mīkstais inventārs | C33: 274.92 | D33: 28.89
A34: 2513 | B34: Budžeta iestāžu nekustamā īpašuma nodokļa maksājumi | C34: 617.46 | D34: 20.86
A35: 2519 | B35: Pārējie budžeta iestāžu pārskaitītie nodokļi un nodevas | C35: 437.23 | D35: 14.77
B36: Tiešās izmaksas kopā | C36: =SUM(C19:C35) -> 19635.7 | D36: =SUM(D19:D35) -> 1289.96
B37: Netiešās izmaksas
A38: 1100 | B38: Atalgojums | C38: 2930.86 | D38: 196.2
A39: 1200 | B39: Darba devēja valsts sociālās apdrošināšanas obligātās iemaksas, pabalsti un kompensācijas | C39: 691.39 | D39: 47.26
A40: 2210 | B40: Izdevumi par sakaru pakalpojumiem | C40: 28.33 | D40: 4.99
A41: 2234 | B41: Normatīvajos aktos noteiktie veselības un fiziskās sagatavotības pārbaudes izdevumi | C41: 6.5 | D41: 0.51
A42: 2239 | B42: Pārējie neklasificētie pakalpojumi | C42: 35.14 | D42: 2.01
A43: 2241 | B43: Ēku, būvju un telpu būvdarbi | C43: 7.36 | D43: 0.58
A44: 2242 | B44: Transportlīdzekļu uzturēšana un remonts | C44: 28.64 | D44: 1.62
A45: 2243 | B45: Iekārtas, inventāra un aparatūras remonts, tehniskā apkalpošana | C45: 28.09 | D45: 3.64
A46: 2244 | B46: Nekustamā īpašuma uzturēšana | C46: 5.95 | D46: 2.37
A47: 2250 | B47: Informācijas tehnoloģiju pakalpojumi | C47: 64.95 | D47: 5.32
A48: 2262 | B48: Transportlīdzekļu noma | C48: 68.32 | D48: 3.9
A49: 2264 | B49: Iekārtu un inventāra īre un noma | C49: 0.63 | D49: 0.08
... A51: 2312 | B51: Inventārs | C51: 8.45 | D51: 2.84
A52: 2321 | B52: Kurināmais | D52: 2.59
A53: 2322 | B53: Degviela | C53: 174.59 | D53: 10.92
A54: 2350 | B54: Iestāžu uzturēšanas materiāli un preces | C54: 174.28 | D54: 13.66
A55: 2361 | B55: Mīkstais inventārs | C55: 53.45 | D55: 4.19
A56: 2512 | B56: Budžeta iestāžu pievienotās vērtības nodokļa maksājumi | C56: 3060.16 | D56: 195.6
A57: 2515 | B57: Budžeta iestāžu dabas resursu nodokļa maksājumi | C57: 11.97 | D57: 0.94
A58: 2519 | B58: Pārējie budžeta iestāžu pārskaitītie nodokļi un nodevas | C58: 0.55 | D58: 0.06
A59: 5120 | B59: Licences, koncesijas un patenti, preču zīmes un līdzīgas tiesības | D59: 5.41
A60: 5239 | B60: Pārējie pamatlīdzekļi | C60: 480.39 | D60: 15.23
A61: 5250 | B61: Kapitālais remonts un rekonstrukcija | C61: 337.53 | D61: 11.42
B62: Netiešās izmaksas kopā | C62: =SUM(C38:C61) -> 8234.86 | D62: =SUM(D38:D61) -> 535.24
B63: Pakalpojumu izmaksas kopā | C63: =C62+C36 -> 27870.56 | D63: =D36+D62 -> 1825.2
A65: Maksas pakalpojuma vienību skaits noteiktā laikposmā | C65: 330 | D65: 30
A66: Maksas pakalpojuma izcenojums (euro) | C66: =C63/C65 -> 84.456242 | D66: =D63/D65 -> 60.84
A68: Prognozētais maksas pakalpojumu skaits gadā (gab.)*
A69: Prognozētie ieņēmumi gadā (euro)*
A71: Piezīme. *Ailes neaizpilda, ja izvēlētais laikposms ir viens gads.
A73: Aprēķinu sastādīja:SIVA Finanšu nodaļas vecākā finanšu ekonomiste Anita Ozoliņa

Sheet 7.12.
C1: SASKAŅOTS | D1: SASKAŅOTS
C2: Sociālās integrācijas valsts aģentūras | D2: Sociālās integrācijas valsts aģentūras
C3: direktore I.Jurševska | D3: direktore I.Jurševska
C5: 2017. gada .novembrī | D5: 2020.gada .augustā
A7: Maksas pakalpojuma izcenojuma aprēķins
A9: Sociālās integrācijas valsts aģentūra
A10: Publiskā pakalpojuma veids:
B11: 7. Viesu izmitināšana
B12: 7.12. Dubultu prospektā 59, Jūrmalā viena ēka 20 vietas, ēka diennaktī
A14: Laikposms | B14: 2021.gadā un turpmāk
A16: Izdevumu klasifikācijas kods | B16: Rādītājs (materiāla/izejvielas nosaukums, atlīdzība un citi izmaksu veidi) | C16: Izmaksu apjoms noteiktā laikposmā viena maksas pakalpojuma veida nodrošināšanai | D16: Izmaksu apjoms noteiktā laikposmā viena maksas pakalpojuma veida nodrošināšanai
A17: 1 | B17: 2 | C17: 3 | D17: 3
B18: Tiešās izmaksas
A19: 1100 | B19: Atalgojums | C19: 3034.7 | D19: 192.49
A20: 1200 | B20: Darba devēja valsts sociālās apdrošināšanas obligātās iemaksas, pabalsti un kompensācijas | C20: 715.87 | D20: 46.37
A21: 2210 | B21: Izdevumi par sakaru pakalpojumiem | C21: 153.78 | D21: 8.88
A22: 2222 | B22: Izdevumi par ūdeni un kanalizāciju | C22: 2549.57 | D22: 198.09
A23: 2224 | B23: Izdevumi par atkritumu savākšanu, izvešanu no apdzīvotām vietām un teritorijām ārpus apdzīvotām vietām un atkritumu utilizāciju | D23: 33.53
A24: 2223 | B24: Izdevumi par elektroenerģiju | C24: 1184.2 | D24: 114.85
A25: 2243 | B25: Iekārtas, inventāra un aparatūras remonts, tehniskā apkalpošana | C25: 141.49 | D25: 8.17
A26: 2244 | B26: Nekustamā īpašuma uzturēšana | C26: 3095.49 | D26: 228.87
A27: 2261 | B27: Ēku, telpu īre un noma | C27: 0
A28: 2263 | B28: Zemes noma | C28: 1311.76 | D28: 105.33
A29: 2312 | B29: Inventārs | C29: 391.92 | D29: 22.64
A30: 2321 | B30: Kurināmais | C30: 5398.86 | D30: 354.69
A31: 2350 | B31: Iestāžu uzturēšanas materiāli un preces | C31: 327.51 | D31: 18.92
A32: 2361 | B32: Mīkstais inventārs | C32: 274.92 | D32: 15.89
A33: 2513 | B33: Budžeta iestāžu nekustamā īpašuma nodokļa maksājumi | C33: 617.46 | D33: 35.67
A34: 2519 | B34: Pārējie budžeta iestāžu pārskaitītie nodokļi un nodevas | C34: 437.23 | D34: 25.26
B35: Tiešās izmaksas kopā | C35: =SUM(C19:C34) -> 19634.76 | D35: =SUM(D19:D34) -> 1409.65
B36: Netiešās izmaksas
A37: 1100 | B37: Atalgojums | C37: 2930.86 | D37: 190.4
A38: 1200 | B38: Darba devēja valsts sociālās apdrošināšanas obligātās iemaksas, pabalsti un kompensācijas | C38: 691.39 | D38: 45.87
A39: 2210 | B39: Izdevumi par sakaru pakalpojumiem | C39: 28.33 | D39: 3.91
A40: 2234 | B40: Normatīvajos aktos noteiktie veselības un fiziskās sagatavotības pārbaudes izdevumi | C40: 6.5 | D40: 0.42
A41: 2239 | B41: Pārējie neklasificētie pakalpojumi | C41: 35.14 | D41: 2.29
A42: 2241 | B42: Ēku, būvju un telpu būvdarbi | C42: 7.36 | D42: 0.48
A43: 2242 | B43: Transportlīdzekļu uzturēšana un remonts | C43: 28.64 | D43: 1.86
A44: 2243 | B44: Iekārtas, inventāra un aparatūras remonts, tehniskā apkalpošana | C44: 28.09 | D44: 1.83
A45: 2244 | B45: Nekustamā īpašuma uzturēšana | C45: 5.95 | D45: 0.6
A46: 2250 | B46: Informācijas tehnoloģiju pakalpojumi | C46: 64.95 | D46: 7.04
A47: 2262 | B47: Transportlīdzekļu noma | C47: 68.32 | D47: 4.46
A48: 2264 | B48: Iekārtu un inventāra īre un noma | C48: 0.63 | D48: 0.04
... A50: 2312 | B50: Inventārs | C50: 8.45 | D50: 0.55
A51: 2321 | B51: Kurināmais | D51: 5.25
A52: 2322 | B52: Degviela | C52: 174.59 | D52: 6.38
A53: 2350 | B53: Iestāžu uzturēšanas materiāli un preces | C53: 174.28 | D53: 11.37
A54: 2361 | B54: Mīkstais inventārs | C54: 53.45 | D54: 3.48
A55: 2512 | B55: Budžeta iestāžu pievienotās vērtības nodokļa maksājumi | C55: 3060.16 | D55: 210.65
A56: 2515 | B56: Budžeta iestāžu dabas resursu nodokļa maksājumi | C56: 11.97 | D56: 0.78
A57: 2519 | B57: Pārējie budžeta iestāžu pārskaitītie nodokļi un nodevas | C57: 0.55 | D57: 0.04
A58: 5120 | B58: Licences, koncesijas un patenti, preču zīmes un līdzīgas tiesības | D58: 4.22
A59: 5239 | B59: Pārējie pamatlīdzekļi | C59: 480.39 | D59: 29.38
A60: 5250 | B60: Kapitālais remonts un rekonstrukcija | C60: 337.53 | D60: 22.67
B61: Netiešās izmaksas kopā | C61: =SUM(C37:C60) -> 8234.86 | D61: =SUM(D37:D60) -> 556.4
B62: Pakalpojumu izmaksas kopā | C62: =C61+C35 -> 27869.62 | D62: =D35+D61 -> 1966.05
A64: Maksas pakalpojuma vienību skaits noteiktā laikposmā | C64: 330 | D64: 5
A65: Maksas pakalpojuma izcenojums (euro) | C65: =C62/C64 -> 84.453394 | D65: =D62/D64 -> 393.21
A67: Prognozētais maksas pakalpojumu skaits gadā (gab.)*
A68: Prognozētie ieņēmumi gadā (euro)*
A70: Piezīme. *Ailes neaizpilda, ja izvēlētais laikposms ir viens gads.
A72: Aprēķinu sastādīja:SIVA Finanšu nodaļas vecākā finanšu ekonomiste Anita Ozoliņa

Sheet 8.9.
D1: SASKAŅOTS
D2: Sociālās integrācijas valsts aģentūras
D3: direktore I.Jurševska
D5: 2021.gada 30. augustā
A7: Maksas pakalpojuma izcenojuma aprēķins
A9: Sociālās integrācijas valsts aģentūra
A10: Publiskā pakalpojuma veids:
B11: 8. Ēdināšanas pakalpojumi
B12: 8.9. Svaigi spiesta sula, 0.2 l
A14: Laikposms | B14: 2022.gadā un turpmāk
A16: Izdevumu klasifikācijas kods | B16: Rādītājs (materiāla/izejvielas nosaukums, atlīdzība un citi izmaksu veidi) | D16: Izmaksu apjoms noteiktā laikposmā viena maksas pakalpojuma veida nodrošināšanai
A17: 1 | B17: 2 | C17: 3 | D17: 3
B18: Tiešās izmaksas
A19: 1100 | B19: Atalgojums | C19: 0.55 | D19: =C19*500 -> 275
A20: 1200 | B20: Darba devēja valsts sociālās apdrošināšanas obligātās iemaksas, pabalsti un kompensācijas | C20: 0.13 | D20: =C20*500 -> 65
A21: 2222 | B21: Izdevumi par ūdeni un kanalizāciju | D21: =C21*500 -> 0
A22: 2223 | B22: Izdevumi par elektroenerģiju | D22: =C22*500 -> 0
A23: 2231 | B23: Izdevumi iestādes sabiedrisko aktivitāšu īstenošanai | D23: =C23*500 -> 0
A24: 2243 | B24: Iekārtas, inventāra un aparatūras remonts, tehniskā apkalpošana | C24: 0 | D24: =C24*500 -> 0
A25: 2244 | B25: Nekustamā īpašuma uzturēšana | D25: =C25*500 -> 0
A26: 2250 | B26: Informācijas tehnoloģiju pakalpojumi | D26: =C26*500 -> 0
A27: 2321 | B27: Kurināmais | D27: =C27*500 -> 0
A28: 2362 | B28: Virtuves inventārs, trauki un galda piederumi | C28: 0.02 | D28: =C28*500 -> 10
A29: 2363 | B29: Ēdināšanas izdevumi | C29: 0.55 | D29: =C29*500 -> 275
A30: 2370 | B30: Mācību līdzekļi un materiāli | D30: =C30*500 -> 0
A31: 5239 | B31: Pārējie pamatlīdzekļi | C31: 0 | D31: =C31*500 -> 0
B32: Tiešās izmaksas kopā | C32: =SUM(C19:C31) -> 1.25 | D32: =SUM(D19:D31) -> 625
B33: Netiešās izmaksas
A34: 1100 | B34: Atalgojums | C34: 0.19 | D34: =C34*500 -> 95
A35: 1200 | B35: Darba devēja valsts sociālās apdrošināšanas obligātās iemaksas, pabalsti un kompensācijas | C35: 0.04 | D35: =C35*500 -> 20
A36: 2210 | B36: Izdevumi par sakaru pakalpojumiem | C36: 0.01 | D36: =C36*500 -> 5
A37: 2223 | B37: Izdevumi par elektroenerģiju | C37: 0.05 | D37: =C37*500 -> 25
A38: 2239 | B38: Pārējie neklasificētie pakalpojumi | C38: 0 | D38: =C38*500 -> 0
A39: 2241 | B39: Ēku, būvju un telpu būvdarbi | C39: 0 | D39: =C39*500 -> 0
A40: 2242 | B40: Transportlīdzekļu uzturēšana un remonts | C40: 0 | D40: =C40*500 -> 0
A41: 2243 | B41: Iekārtas, inventāra un aparatūras remonts, tehniskā apkalpošana | C41: 0.01 | D41: =C41*500 -> 5
A42: 2244 | B42: Nekustamā īpašuma uzturēšana | C42: 0.04 | D42: =C42*500 -> 20
A43: 2247 | B43: Apdrošināšanas izdevumi | C43: 0 | D43: =C43*500 -> 0
A44: 2250 | B44: Informācijas tehnoloģiju pakalpojumi | C44: 0.02 | D44: =C44*500 -> 10
A45: 2262 | B45: Transportlīdzekļu noma | D45: =C45*500 -> 0
A46: 2263 | B46: Zemes noma | C46: 0.03 | D46: =C46*500 -> 15
A47: 2264 | B47: Iekārtu, aparatūras un inventāra īre un noma | D47: =C47*500 -> 0
A48: 2311 | B48: Biroja preces | D48: =C48*500 -> 0
A49: 2312 | B49: Inventārs | C49: 0 | D49: =C49*500 -> 0
A50: 2322 | B50: Degviela | C50: 0 | D50: =C50*500 -> 0
A51: 2350 | B51: Iestāžu uzturēšanas materiāli un preces | C51: 0.01 | D51: =C51*500 -> 5
A52: 2361 | B52: Mīkstais inventārs | C52: 0 | D52: =C52*500 -> 0
A53: 2400 | B53: Izdevumi periodikas iegādei | C53: 0 | D53: =C53*500 -> 0
A54: 2512 | B54: Budžeta iestāžu pievienotās vērtības nodokļa maksājumi | C54: 0.35
A55: 2515 | B55: Budžeta iestāžu dabas resursu nodokļa maksājumi
A56: 2519 | B56: Pārējie budžeta iestāžu pārskaitītie nodokļi un nodevas | C56: 0 | D56: 0.01
A57: 5232 | B57: Saimniecības pamatlīdzekļi | C57: 0 | D57: 13.12
A58: 5240 | B58: Pamatlīdzekļu izveidošana un nepabeigtā būvniecība | C58: 0 | D58: 2.85
A59: 5250 | B59: Kapitālais remonts un rekonstrukcija | C59: 0 | D59: 11.38
B60: Netiešās izmaksas kopā | C60: =SUM(C34:C59) -> 0.75 | D60: =SUM(D34:D54) -> 200
B61: Pakalpojumu izmaksas kopā | C61: =C32+C60 -> 2 | D61: =D60+D32 -> 825
A63: Maksas pakalpojuma vienību skaits noteiktā laikposmā (gab.) | C63: 1 | D63: 500
A64: Maksas pakalpojuma izcenojums (euro) | C64: =C61/C63 -> 2 | D64: =D61/D63 -> 1.65
A66: Prognozētais maksas pakalpojumu skaits gadā (gab.)*
A67: Prognozētie ieņēmumi gadā (euro)*
A69: Piezīme. *Ailes neaizpilda, ja izvēlētais laikposms ir viens gads.
A71: Aprēķinu sastādīja: SIVA Finanšu nodaļas ekonomiste E.Lipiņa

Sheet 8.10.
D1: SASKAŅOTS
D2: Sociālās integrācijas valsts aģentūras
D3: direktore I.Jurševska
D5: 2020. gada
A7: Maksas pakalpojuma izcenojuma aprēķins
A9: Sociālās integrācijas valsts aģentūra
A10: Publiskā pakalpojuma veids:
B11: 8. Ēdināšanas pakalpojumi
B12: 8.10. Ēdienu kārba līdzņemšanai
A14: Laikposms | B14: 2020.gadā un turpmāk
A16: Izdevumu klasifikācijas kods | B16: Rādītājs (materiāla/izejvielas nosaukums, atlīdzība un citi izmaksu veidi) | D16: Izmaksu apjoms noteiktā laikposmā viena maksas pakalpojuma veida nodrošināšanai
A17: 1 | B17: 2 | D17: 3
B18: Tiešās izmaksas
A19: 1100 | B19: Atalgojums | C19: 0 | D19: =C19*500 -> 0
A20: 1200 | B20: Darba devēja valsts sociālās apdrošināšanas obligātās iemaksas, pabalsti un kompensācijas | C20: 0 | D20: =C20*500 -> 0
A21: 2222 | B21: Izdevumi par ūdeni un kanalizāciju | D21: =C21*500 -> 0
A22: 2223 | B22: Izdevumi par elektroenerģiju | D22: =C22*500 -> 0
A23: 2231 | B23: Izdevumi iestādes sabiedrisko aktivitāšu īstenošanai | D23: =C23*500 -> 0
A24: 2243 | B24: Iekārtas, inventāra un aparatūras remonts, tehniskā apkalpošana | C24: 0 | D24: =C24*500 -> 0
A25: 2244 | B25: Nekustamā īpašuma uzturēšana | D25: =C25*500 -> 0
A26: 2250 | B26: Informācijas tehnoloģiju pakalpojumi | D26: =C26*500 -> 0
A27: 2321 | B27: Kurināmais | D27: =C27*500 -> 0
A28: 2362 | B28: Virtuves inventārs, trauki un galda piederumi | C28: 0.13 | D28: =C28*500 -> 65
A29: 2363 | B29: Ēdināšanas izdevumi | C29: 0 | D29: =C29*500 -> 0
A30: 2370 | B30: Mācību līdzekļi un materiāli | D30: =C30*500 -> 0
A31: 5239 | B31: Pārējie pamatlīdzekļi | C31: 0 | D31: =C31*500 -> 0
B32: Tiešās izmaksas kopā | C32: =SUM(C19:C31) -> 0.13 | D32: =SUM(D19:D31) -> 65
B33: Netiešās izmaksas
A34: 1100 | B34: Atalgojums | C34: 0.03 | D34: =C34*500 -> 15
A35: 1200 | B35: Darba devēja valsts sociālās apdrošināšanas obligātās iemaksas, pabalsti un kompensācijas | C35: =C34*0.2409 -> 0.007227 | D35: =C35*500 -> 3.6135
A36: 2210 | B36: Izdevumi par sakaru pakalpojumiem | C36: 0 | D36: =C36*500 -> 0
A37: 2223 | B37: Izdevumi par elektroenerģiju | C37: 0 | D37: =C37*500 -> 0
A38: 2239 | B38: Pārējie neklasificētie pakalpojumi | C38: 0 | D38: =C38*500 -> 0
A39: 2241 | B39: Ēku, būvju un telpu būvdarbi | C39: 0 | D39: =C39*500 -> 0
A40: 2242 | B40: Transportlīdzekļu uzturēšana un remonts | C40: 0 | D40: =C40*500 -> 0
A41: 2243 | B41: Iekārtas, inventāra un aparatūras remonts, tehniskā apkalpošana | C41: 0 | D41: =C41*500 -> 0
A42: 2244 | B42: Nekustamā īpašuma uzturēšana | C42: 0 | D42: =C42*500 -> 0
A43: 2247 | B43: Apdrošināšanas izdevumi | C43: 0 | D43: =C43*500 -> 0
A44: 2250 | B44: Informācijas tehnoloģiju pakalpojumi | C44: 0 | D44: =C44*500 -> 0
A45: 2262 | B45: Transportlīdzekļu noma | D45: =C45*500 -> 0
A46: 2263 | B46: Zemes noma | C46: 0 | D46: =C46*500 -> 0
A47: 2264 | B47: Iekārtu, aparatūras un inventāra īre un noma | D47: =C47*500 -> 0
A48: 2311 | B48: Biroja preces | D48: =C48*500 -> 0
A49: 2312 | B49: Inventārs | C49: 0 | D49: =C49*500 -> 0
A50: 2322 | B50: Degviela | C50: 0 | D50: =C50*500 -> 0
A51: 2350 | B51: Iestāžu uzturēšanas materiāli un preces | C51: 0 | D51: =C51*500 -> 0
A52: 2361 | B52: Mīkstais inventārs | C52: 0 | D52: =C52*500 -> 0
A53: 2400 | B53: Izdevumi periodikas iegādei | C53: 0 | D53: =C53*500 -> 0
A54: 2512 | B54: Budžeta iestāžu pievienotās vērtības nodokļa maksājumi | C54: 0.04 | D54: =C54*500 -> 20
A55: 2515 | B55: Budžeta iestāžu dabas resursu nodokļa maksājumi
A56: 2519 | B56: Pārējie budžeta iestāžu pārskaitītie nodokļi un nodevas | C56: 0 | D56: 0.01
A57: 5232 | B57: Saimniecības pamatlīdzekļi | C57: 0 | D57: 13.12
A58: 5240 | B58: Pamatlīdzekļu izveidošana un nepabeigtā būvniecība | C58: 0 | D58: 2.85
A59: 5250 | B59: Kapitālais remonts un rekonstrukcija | C59: 0 | D59: 11.38
B60: Netiešās izmaksas kopā | C60: =SUM(C34:C59) -> 0.077227 | D60: =SUM(D34:D54) -> 38.6135
B61: Pakalpojumu izmaksas kopā | C61: =C32+C60 -> 0.207227 | D61: =D60+D32 -> 103.6135
A63: Maksas pakalpojuma vienību skaits noteiktā laikposmā (gab.) | C63: 1 | D63: 500
A64: Maksas pakalpojuma izcenojums (euro) | C64: =C61/C63 -> 0.207227 | D64: =D61/D63 -> 0.207227
A66: Prognozētais maksas pakalpojumu skaits gadā (gab.)*
A67: Prognozētie ieņēmumi gadā (euro)*
A69: Piezīme. *Ailes neaizpilda, ja izvēlētais laikposms ir viens gads.
A71: Aprēķinu sastādīja: SIVA Finanšu nodaļas vecākā finanšu ekonomiste Anita Ozoliņa

Sheet 9.1.1.2.
E1: SASKAŅOTS
E2: Sociālās integrācijas valsts aģentūras
E3: direktore I.Jurševska
E5: 2022. gada
A7: Maksas pakalpojuma izcenojuma aprēķins
A9: Sociālās integrācijas valsts aģentūra
A10: Publiskā pakalpojuma veids:
B11: 9. Telpu iznomāšana
B12: 9.1. Konferenču zāles noma
B13: 9.1.1. Slokas ielā 68, Jūrmalā (126.4m2)
B14: 9.1.1.2. Slokas ielā 68, Jūrmalā (126.4m2), 1 diena
A15: Laikposms | B15: 2023.gads un turpmāk
A16: Izdevumu klasifikācijas kods | B16: Rādītājs (materiāla/izejvielas nosaukums, atlīdzība un citi izmaksu veidi) | E16: Izmaksu apjoms noteiktā laikposmā viena maksas pakalpojuma veida nodrošināšanai
A17: 1 | B17: 2 | E17: 3
B18: Tiešās izmaksas
A19: 1100 | B19: Atalgojums | D19: =28.64/1.2359 -> 23.173396 | E19: 145.71
A20: 1200 | B20: Darba devēja valsts sociālās apdrošināšanas obligātās iemaksas, pabalsti un kompensācijas | D20: =D19*0.2359 -> 5.4666041 | E20: 34.37
A21: 2222 | B21: Izdevumi par ūdensapgādi un kanalizāciju | D21: 1.22 | E21: 6.11
A22: 2223 | B22: Izdevumi par elektroenerģiju | D22: 6.81 | E22: 34.06
A23: 2224 | B23: Izdevumi par atkritumu savākšanu, izvešanu no apdzīvotām vietām un teritorijām ārpus apdzīvotām vietām un atkritumu utilizāciju | D23: 0.09 | E23: 0.46
A24: 2244 | B24: Nekustamā īpašuma uzturēšana | D24: 7.74 | E24: 38.72
A25: 2312 | B25: Inventārs | D25: 2.16 | E25: 10.71
A26: 2321 | B26: Kurināmais | D26: 3.9 | E26: 19.5
A27: 5238 | B27: Datortehnika, sakaru un cita biroja tehnika | D27: 2.14 | E27: 10.7
B28: Tiešās izmaksas kopā | D28: =SUM(D19:D27) -> 52.7 | E28: =SUM(E19:E27) -> 300.34
B29: Netiešās izmaksas
A30: 1100 | B30: Atalgojums | C30: =0.418-0.0002 -> 0.4178 | E30: 52.37
A31: 1200 | B31: Darba devēja valsts sociālās apdrošināšanas obligātās iemaksas, pabalsti un kompensācijas | C31: =C30*0.2359 -> 0.09855902 | E31: 12.35
A32: 2231 | B32: Izdevumi iestādes sabiedrisko aktivitāšu īstenošanai | C32: 0.0303 | E32: 3.71
A33: 2243 | B33: Iekārtas, inventāra un aparatūras remonts, tehniskā apkalpošana | C33: 0.0619 | E33: 7.57
A34: 2250 | B34: Informācijas sistēmas uzturēšana | C34: 0.1104 | E34: 9.89
A35: 2311 | B35: Biroja preces | C35: 0.0334 | E35: 2.99
A36: 2512 | B36: Budžeta iestāžu pievienotās vērtības nodokļa maksājumi | E36: =C36*89.55 -> 0
A37: 2513 | B37: Budžeta iestāžu nekustamā īpašuma nodokļa maksājumi | C37: 0.0152 | E37: 2.36
A38: 5239 | B38: Pārējie iepriekš neklasificētie pamatlīdzekļi un ieguldījuma īpašumi | C38: 0.2324 | E38: 10.87
B39: Netiešās izmaksas kopā | E39: =SUM(E30:E38) -> 102.11
B40: Pakalpojumu izmaksas kopā | E40: =E28+E39 -> 402.45
A42: Maksas pakalpojuma vienību skaits noteiktā laikposmā | E42: 5
A43: Maksas pakalpojuma izcenojums (euro) | E43: =E40/E42 -> 80.49
A45: Prognozētais maksas pakalpojumu skaits gadā (gab.)*
A46: Prognozētie ieņēmumi gadā (euro)*
A48: Piezīme. *Ailes neaizpilda, ja izvēlētais laikposms ir viens gads.
A50: Aprēķinu sastādīja: SIVA Finanšu nodaļas finanšu ekonomiste E.Lipiņa

Sheet 9.1.2.2.(1.korpuss)
D1: SASKAŅOTS
D2: Sociālās integrācijas valsts aģentūras
D3: direktore I.Jurševska
D5: 2021.gada 30. augustā
A7: Maksas pakalpojuma izcenojuma aprēķins
A9: Sociālās integrācijas valsts aģentūra
A10: Publiskā pakalpojuma veids:
B11: 9. Telpu iznomāšana
B12: 9.1. Konferenču zāles noma
B13: 9.1.2. Jūrmalā, Slokas ielā 61 (271.6 kv.m)
B14: 9.1.2.2. Jūrmalā, Slokas ielā 61 (271.6 kv.m), 1 diena (līdz 12 stundām)
A15: Laikposms | B15: 2022.gadā un turpmāk
A16: Izdevumu klasifikācijas kods | B16: Rādītājs (materiāla/izejvielas nosaukums, atlīdzība un citi izmaksu veidi) | C16: Izmaksu apjoms noteiktā laikposmā viena maksas pakalpojuma veida nodrošināšanai | D16: Izmaksu apjoms noteiktā laikposmā viena maksas pakalpojuma veida nodrošināšanai
A17: 1 | B17: 2 | D17: 3
B18: Tiešās izmaksas
A19: 1100 | B19: Atalgojums | C19: 10.15 | D19: 44.5
A20: 1200 | B20: Darba devēja valsts sociālās apdrošināšanas obligātās iemaksas, pabalsti un kompensācijas | C20: 2.45 | D20: 10.72
A21: 2222 | B21: Izdevumi par ūdeni un kanalizāciju | C21: 6.32 | D21: 1.52
A22: 2223 | B22: Izdevumi par elektroenerģiju | C22: 3.79 | D22: 7.69
A23: 2244 | B23: Nekustamā īpašuma uzturēšana | C23: 11.34 | D23: 17.32
A24: 2321 | B24: Kurināmais | C24: 12.64 | D24: 4.47
B25: Tiešās izmaksas kopā | C25: =SUM(C19:C24) -> 46.69 | D25: =SUM(D19:D24) -> 86.22
B26: Netiešās izmaksas
A27: 1100 | B27: Atalgojums | C27: 2.78 | D27: 21.72
A28: 1200 | B28: Darba devēja valsts sociālās apdrošināšanas obligātās iemaksas, pabalsti un kompensācijas | C28: 0.67 | D28: 5.23
A29: 2231 | B29: Izdevumi iestādes sabiedrisko aktivitāšu īstenošanai | D29: 1.59
A30: 2243 | B30: Iekārtas, inventāra un aparatūras remonts, tehniskā apkalpošana | D30: 3.22
A31: 2250 | B31: Informācijas tehnoloģiju pakalpojumi | D31: 5.76
A32: 2311 | B32: Biroja preces | D32: 1.74
A33: 2512 | B33: Budžeta iestāžu pievienotās vērtības nodokļa maksājumi | D33: 29.07
A34: 2513 | B34: Budžeta iestāžu nekustamā īpašuma nodokļa maksājumi | C34: 10.56 | D34: 0.79
A35: 5239 | B35: Pārējie iepriekš neklasificētie pamatlīdzekļi un ieguldījuma īpašumi | D35: 12.16
B36: Netiešās izmaksas kopā | C36: =SUM(C27:C34) -> 14.01 | D36: =SUM(D27:D35) -> 81.28
B37: Pakalpojumu izmaksas kopā | C37: =C36+C25 -> 60.7 | D37: =D25+D36 -> 167.5
A39: Maksas pakalpojuma vienību skaits noteiktā laikposmā | C39: 10 | D39: 1
A40: Maksas pakalpojuma izcenojums (euro) | C40: =C37/C39 -> 6.07 | D40: =D37/D39 -> 167.5
A42: Prognozētais maksas pakalpojumu skaits gadā (gab.)*
A43: Prognozētie ieņēmumi gadā (euro)*
A45: Piezīme. *Ailes neaizpilda, ja izvēlētais laikposms ir viens gads.
A47: Aprēķinu sastādīja: SIVA Finanšu nodaļas finanšu ekonomiste E.Lipiņa

Sheet 9.1.3.2.
D1: SASKAŅOTS
D2: Sociālās integrācijas valsts aģentūras
D3: direktore I.Jurševska
D5: 2021.gada 30. augustā
A7: Maksas pakalpojuma izcenojuma aprēķins
A9: Sociālās integrācijas valsts aģentūra
A10: Publiskā pakalpojuma veids:
B11: 9. Telpu iznomāšana
B12: 9.1. Konferenču zāles noma
B13: 9.1.3. Jūrmalā, Dubultu pr.71 ( 183.3kv.m)
B14: 9.1.3.2. Jūrmalā, Dubultu pr.71 ( 183.3kv.m), 1 diena (līdz 12 stundām)
A16: Laikposms | B16: 2022.gadā un turpmāk
A17: Izdevumu klasifikācijas kods | B17: Rādītājs (materiāla/izejvielas nosaukums, atlīdzība un citi izmaksu veidi) | C17: Izmaksu apjoms noteiktā laikposmā viena maksas pakalpojuma veida nodrošināšanai | D17: Izmaksu apjoms noteiktā laikposmā viena maksas pakalpojuma veida nodrošināšanai
A18: 1 | B18: 2 | D18: 3
B19: Tiešās izmaksas
A20: 1100 | B20: Atalgojums | C20: 10.15 | D20: 30.03
A21: 1200 | B21: Darba devēja valsts sociālās apdrošināšanas obligātās iemaksas, pabalsti un kompensācijas | C21: 2.45 | D21: 7.23
A22: 2222 | B22: Izdevumi par ūdeni un kanalizāciju | C22: 6.32 | D22: 1.03
A23: 2223 | B23: Izdevumi par elektroenerģiju | C23: 3.79 | D23: 5.19
A24: 2244 | B24: Nekustamā īpašuma uzturēšana | C24: 11.34 | D24: 11.69
A25: 2321 | B25: Kurināmais | C25: 12.64 | D25: 3.02
B26: Tiešās izmaksas kopā | C26: =SUM(C20:C25) -> 46.69 | D26: =SUM(D20:D25) -> 58.19
B27: Netiešās izmaksas
A28: 1100 | B28: Atalgojums | C28: 2.78 | D28: 14.66
A29: 1200 | B29: Darba devēja valsts sociālās apdrošināšanas obligātās iemaksas, pabalsti un kompensācijas | C29: 0.67 | D29: 3.53
A30: 2231 | B30: Izdevumi iestādes sabiedrisko aktivitāšu īstenošanai | D30: 1.07
A31: 2243 | B31: Iekārtas, inventāra un aparatūras remonts, tehniskā apkalpošana | D31: 2.17
A32: 2250 | B32: Informācijas tehnoloģiju pakalpojumi | D32: 3.89
A33: 2263 | B33: Zemes noma | D33: =0.37+0.13 -> 0.5
A34: 2311 | B34: Biroja preces | D34: 1.17
A35: 2512 | B35: Budžeta iestāžu pievienotās vērtības nodokļa maksājumi | D35: 19.61
A36: 2513 | B36: Budžeta iestāžu nekustamā īpašuma nodokļa (t.sk. zemes nodokļa parāda) maksājumi budžetā | C36: 10.56 | D36: 0
A37: 5239 | B37: Pārējie iepriekš neklasificētie pamatlīdzekļi un ieguldījuma īpašumi | D37: 8.21
B38: Netiešās izmaksas kopā | C38: =SUM(C28:C36) -> 14.01 | D38: =SUM(D28:D37) -> 54.81
B39: Pakalpojumu izmaksas kopā | C39: =C38+C26 -> 60.7 | D39: =D26+D38 -> 113
A41: Maksas pakalpojuma vienību skaits noteiktā laikposmā | C41: 10 | D41: 1
A42: Maksas pakalpojuma izcenojums (euro) | C42: =C39/C41 -> 6.07 | D42: =D39/D41 -> 113
A44: Prognozētais maksas pakalpojumu skaits gadā *
A45: Prognozētie ieņēmumi gadā (euro)*
A47: Piezīme. *Ailes neaizpilda, ja izvēlētais laikposms ir viens gads.
A49: Aprēķinu sastādīja: SIVA Finanšu nodaļas finanšu ekonomiste E.Lipiņa

Sheet 6.1.1.
E1: SASKAŅOTS
E2: Sociālās integrācijas valsts aģentūras
E3: direktore I.Jurševska
E5: 2023. gada 29.martā
A7: Maksas pakalpojuma izcenojuma aprēķins
A9: Sociālās integrācijas valsts aģentūra
A10: Publiskā pakalpojuma veids:
B11: 6. Telpu iznomāšana
B12: 6.1. Kabineta, auditorijas vai konferenču zāles noma
B13: 6.1.1. Kabineta vai auditorijas noma , 1 stunda
A15: Laikposms | B15: 2023.gads un turpmāk
A16: Izdevumu klasifikācijas kods | B16: Rādītājs (materiāla/izejvielas nosaukums, atlīdzība un citi izmaksu veidi) | E16: Izmaksu apjoms noteiktā laikposmā viena maksas pakalpojuma veida nodrošināšanai
A17: 1 | B17: 2 | E17: 3
B18: Tiešās izmaksas
A19: 1100 | B19: Atalgojums | D19: 1.96 | E19: 10.63
A20: 1200 | B20: Darba devēja valsts sociālās apdrošināšanas obligātās iemaksas, pabalsti un kompensācijas | D20: =D19*0.2359 -> 0.462364 | E20: 2.51
A21: 2222 | B21: Izdevumi par ūdensapgādi un kanalizāciju | D21: 0.05 | E21: 0.25
A22: 2223 | B22: Izdevumi par elektroenerģiju | D22: 0.3 | E22: 1.5
A23: 2224 | B23: Izdevumi par atkritumu savākšanu, izvešanu no apdzīvotām vietām un teritorijām ārpus apdzīvotām vietām un atkritumu utilizāciju | D23: 0.01 | E23: 0.01
A24: 2244 | B24: Nekustamā īpašuma uzturēšana | D24: 0.34 | E24: 1.7
A25: 2312 | B25: Inventārs | D25: 0.81 | E25: 4.05
A26: 2321 | B26: Kurināmais | D26: 0.17 | E26: 0.85
A27: 5239 | B27: Pārējie iepriekš neklasificētie pamatlīdzekļi un ieguldījuma īpašumi | D27: 0.48 | E27: 2.4
B28: Tiešās izmaksas kopā | D28: =SUM(D19:D27) -> 4.582364 | E28: =SUM(E19:E27) -> 23.9
B29: Netiešās izmaksas
A30: 1100 | B30: Atalgojums | C30: =0.418-0.0002 -> 0.4178 | E30: 3.61
A31: 1200 | B31: Darba devēja valsts sociālās apdrošināšanas obligātās iemaksas, pabalsti un kompensācijas | C31: =C30*0.2359 -> 0.09855902 | E31: 0.85
A32: 2231 | B32: Izdevumi iestādes sabiedrisko aktivitāšu īstenošanai | C32: 0.0303 | E32: 0.23
A33: 2243 | B33: Iekārtas, inventāra un aparatūras remonts, tehniskā apkalpošana | C33: 0.0619 | E33: 0.48
A34: 2250 | B34: Informācijas sistēmas uzturēšana | C34: 0.1104 | E34: 0.85
A35: 2311 | B35: Biroja preces | C35: 0.0334 | E35: 0.26
A36: 2512 | B36: Budžeta iestāžu pievienotās vērtības nodokļa maksājumi | E36: =C36*7.74 -> 0
A37: 2513 | B37: Budžeta iestāžu nekustamā īpašuma nodokļa maksājumi | C37: 0.0152 | E37: 0.12
A38: 5239 | B38: Pārējie iepriekš neklasificētie pamatlīdzekļi un ieguldījuma īpašumi | C38: 0.2324 | E38: 1.8
B39: Netiešās izmaksas kopā | E39: =SUM(E30:E38) -> 8.2
B40: Pakalpojumu izmaksas kopā | E40: =E28+E39 -> 32.1
A42: Maksas pakalpojuma vienību skaits noteiktā laikposmā | E42: 5
A43: Maksas pakalpojuma izcenojums (euro) | E43: =E40/E42 -> 6.42
A45: Prognozētais maksas pakalpojumu skaits gadā (gab.)*
A46: Prognozētie ieņēmumi gadā (euro)*
A48: Piezīme. *Ailes neaizpilda, ja izvēlētais laikposms ir viens gads.
A50: Aprēķinu sastādīja: SIVA Finanšu nodaļas finanšu ekonomiste E.Lipiņa

Sheet 6.1.2.
E1: SASKAŅOTS
E2: Sociālās integrācijas valsts aģentūras
E3: direktore I.Jurševska
E5: 2023. gada 29.martā
A7: Maksas pakalpojuma izcenojuma aprēķins
A9: Sociālās integrācijas valsts aģentūra
A10: Publiskā pakalpojuma veids:
B11: 6. Telpu iznomāšana
B12: 6.1. Kabineta, auditorijas vai konferenču zāles noma
B13: 6.1.2.Kabineta vai auditorijas noma , 1 diena
A15: Laikposms | B15: 2023.gads un turpmāk
A16: Izdevumu klasifikācijas kods | B16: Rādītājs (materiāla/izejvielas nosaukums, atlīdzība un citi izmaksu veidi) | E16: Izmaksu apjoms noteiktā laikposmā viena maksas pakalpojuma veida nodrošināšanai
A17: 1 | B17: 2 | E17: 3
B18: Tiešās izmaksas
A19: 1100 | B19: Atalgojums | D19: =10.24/1.2359 -> 8.28546 | E19: 63.79
A20: 1200 | B20: Darba devēja valsts sociālās apdrošināšanas obligātās iemaksas, pabalsti un kompensācijas | D20: =D19*0.2359 -> 1.95454 | E20: 15.05
A21: 2222 | B21: Izdevumi par ūdeni un kanalizāciju | D21: 0.4 | E21: 2
A22: 2223 | B22: Izdevumi par elektroenerģiju | D22: 2.23 | E22: 11.15
A23: 2224 | B23: Izdevumi par atkritumu savākšanu, izvešanu no apdzīvotām vietām un teritorijām ārpus apdzīvotām vietām un atkritumu utilizāciju | D23: 0.01 | E23: 0.05
A24: 2244 | B24: Nekustamā īpašuma uzturēšana | D24: 2.53 | E24: 12.65
A25: 2312 | B25: Inventārs | D25: 5.98 | E25: 29.9
A26: 2321 | B26: Kurināmais | D26: 1.28 | E26: 6.4
A27: 5239 | B27: Pārējie iepriekš neklasificētie pamatlīdzekļi un ieguldījuma īpašumi | D27: 3.5 | E27: 17.5
B28: Tiešās izmaksas kopā | D28: =SUM(D19:D27) -> 26.17 | E28: =SUM(E19:E27) -> 158.49
B29: Netiešās izmaksas
A30: 1100 | B30: Atalgojums | C30: =0.418-0.0002 -> 0.4178 | E30: 27.96
A31: 1200 | B31: Darba devēja valsts sociālās apdrošināšanas obligātās iemaksas, pabalsti un kompensācijas | C31: =C30*0.2359 -> 0.09855902 | E31: 4.39
A32: 2231 | B32: Izdevumi iestādes sabiedrisko aktivitāšu īstenošanai | C32: 0.0303 | E32: 1.35
A33: 2243 | B33: Iekārtas, inventāra un aparatūras remonts, tehniskā apkalpošana | C33: 0.0619 | E33: 2.75
A34: 2250 | B34: Informācijas sistēmas uzturēšana | C34: 0.1104 | E34: 4.91
A35: 2311 | B35: Biroja preces | C35: 0.0334 | E35: 1.49
A36: 2512 | B36: Budžeta iestāžu pievienotās vērtības nodokļa maksājumi | E36: =C36*44.5 -> 0
A37: 2513 | B37: Budžeta iestāžu nekustamā īpašuma nodokļa maksājumi | C37: 0.0152 | E37: 0.68
A38: 5239 | B38: Pārējie iepriekš neklasificētie pamatlīdzekļi un ieguldījuma īpašumi | C38: 0.2324 | E38: 10.33
B39: Netiešās izmaksas kopā | E39: =SUM(E30:E38) -> 53.86
B40: Pakalpojumu izmaksas kopā | E40: =E28+E39 -> 212.35
A42: Maksas pakalpojuma vienību skaits noteiktā laikposmā | E42: 5
A43: Maksas pakalpojuma izcenojums (euro) | E43: =E40/E42 -> 42.47
A45: Prognozētais maksas pakalpojumu skaits gadā (gab.)*
A46: Prognozētie ieņēmumi gadā (euro)*
A48: Piezīme. *Ailes neaizpilda, ja izvēlētais laikposms ir viens gads.
A50: Aprēķinu sastādīja: SIVA Finanšu nodaļas finanšu ekonomiste E.Lipiņa

Sheet 6.1.3.
E1: SASKAŅOTS
E2: Sociālās integrācijas valsts aģentūras
E3: direktore I.Jurševska
E5: 2023. gada 29.martā
A7: Maksas pakalpojuma izcenojuma aprēķins
A9: Sociālās integrācijas valsts aģentūra
A10: Publiskā pakalpojuma veids:
B11: 6. Telpu iznomāšana
B12: 6.1. Kabineta, auditorijas vai konferenču zāles noma
B13: 6.1.3. Konferenču zāles noma Slokas ielā 61/3, Jūrmalā (135.7m2), 1 stunda
A15: Laikposms | B15: 2023.gads un turpmāk
A16: Izdevumu klasifikācijas kods | B16: Rādītājs (materiāla/izejvielas nosaukums, atlīdzība un citi izmaksu veidi) | E16: Izmaksu apjoms noteiktā laikposmā viena maksas pakalpojuma veida nodrošināšanai
A17: 1 | B17: 2 | E17: 3
B18: Tiešās izmaksas
A19: 1100 | B19: Atalgojums | C19: =3.41/1.2359 -> 2.7591229 | E19: 21.26
A20: 1200 | B20: Darba devēja valsts sociālās apdrošināšanas obligātās iemaksas, pabalsti un kompensācijas | C20: =C19*0.2359 -> 0.65087709 | E20: 5.02
A21: 2222 | B21: Izdevumi par ūdensapgādi un kanalizāciju | C21: 0.18 | E21: 0.9
A22: 2223 | B22: Izdevumi par elektroenerģiju | C22: 0.99 | E22: 4.95
A23: 2224 | B23: Izdevumi par atkritumu savākšanu, izvešanu no apdzīvotām vietām un teritorijām ārpus apdzīvotām vietām un atkritumu utilizāciju | E23: 0.05
A24: 2244 | B24: Nekustamā īpašuma uzturēšana | C24: 1.12 | E24: 5.6
A25: 2312 | B25: Inventārs | C25: 0.45 | E25: 2.25
A26: 2321 | B26: Kurināmais | C26: 0.81 | E26: 4.05
A27: 5239 | B27: Pārējie iepriekš neklasificētie pamatlīdzekļi un ieguldījuma īpašumi | C27: 0.04 | E27: 0.2
B28: Tiešās izmaksas kopā | C28: =SUM(C19:C27) -> 7 | E28: =SUM(E19:E27) -> 44.28
B29: Netiešās izmaksas
A30: 1100 | B30: Atalgojums | D30: =0.418-0.0002 -> 0.4178 | E30: 7.51
A31: 1200 | B31: Darba devēja valsts sociālās apdrošināšanas obligātās iemaksas, pabalsti un kompensācijas | D31: =D30*0.2359 -> 0.09855902 | E31: 1.77
A32: 2231 | B32: Izdevumi iestādes sabiedrisko aktivitāšu īstenošanai | D32: 0.0303 | E32: 0.36
A33: 2243 | B33: Iekārtas, inventāra un aparatūras remonts, tehniskā apkalpošana | D33: 0.0619 | E33: 0.74
A34: 2250 | B34: Informācijas sistēmas uzturēšana | D34: 0.1104 | E34: 1.31
A35: 2311 | B35: Biroja preces | D35: 0.0334 | E35: 0.4
A36: 2512 | B36: Budžeta iestāžu pievienotās vērtības nodokļa maksājumi | E36: =D36*11.89 -> 0
A37: 2513 | B37: Budžeta iestāžu nekustamā īpašuma nodokļa maksājumi | D37: 0.0152 | E37: 0.18
A38: 5239 | B38: Pārējie iepriekš neklasificētie pamatlīdzekļi un ieguldījuma īpašumi | D38: 0.2324 | E38: 2.75
B39: Netiešās izmaksas kopā | E39: =SUM(E30:E38) -> 15.02
B40: Pakalpojumu izmaksas kopā | E40: =E28+E39 -> 59.3
A42: Maksas pakalpojuma vienību skaits noteiktā laikposmā | E42: 5
A43: Maksas pakalpojuma izcenojums (euro) | E43: =E40/E42 -> 11.86
A45: Prognozētais maksas pakalpojumu skaits gadā (gab.)*
A46: Prognozētie ieņēmumi gadā (euro)*
A48: Piezīme. *Ailes neaizpilda, ja izvēlētais laikposms ir viens gads.
A50: Aprēķinu sastādīja: SIVA Finanšu nodaļas finanšu ekonomiste E.Lipiņa

Sheet 6.1.4.
E1: SASKAŅOTS
E2: Sociālās integrācijas valsts aģentūras
E3: direktore I.Jurševska
E5: 2023. gada 29.martā
A7: Maksas pakalpojuma izcenojuma aprēķins
A9: Sociālās integrācijas valsts aģentūra
A10: Publiskā pakalpojuma veids:
B11: 6. Telpu iznomāšana
B12: 6.1. Kabineta, auditorijas vai konferenču zāles noma
B13: 6.1.4. Konferenču zāles noma Slokas ielā 61/3, Jūrmalā (135.7m2), 1 diena
A15: Laikposms | B15: 2023.gads un turpmāk
A16: Izdevumu klasifikācijas kods | B16: Rādītājs (materiāla/izejvielas nosaukums, atlīdzība un citi izmaksu veidi) | E16: Izmaksu apjoms noteiktā laikposmā viena maksas pakalpojuma veida nodrošināšanai
A17: 1 | B17: 2 | E17: 3
B18: Tiešās izmaksas
A19: 1100 | B19: Atalgojums | C19: =23.89/1.2359 -> 19.330043 | E19: 148.85
A20: 1200 | B20: Darba devēja valsts sociālās apdrošināšanas obligātās iemaksas, pabalsti un kompensācijas | C20: =C19*0.2359 -> 4.5599571 | E20: 35.11
A21: 2222 | B21: Izdevumi par ūdensapgādi un kanalizāciju | C21: 1.31 | E21: 6.55
A22: 2223 | B22: Izdevumi par elektroenerģiju | C22: 7.31 | E22: 36.55
A23: 2224 | B23: Izdevumi par atkritumu savākšanu, izvešanu no apdzīvotām vietām un teritorijām ārpus apdzīvotām vietām un atkritumu utilizāciju | C23: 0.08 | E23: 0.4
A24: 2244 | B24: Nekustamā īpašuma uzturēšana | C24: 8.24 | E24: 41.2
A25: 2312 | B25: Inventārs | C25: 3.33 | E25: 16.65
A26: 2321 | B26: Kurināmais | C26: 5.94 | E26: 29.7
A27: 5239 | B27: Pārējie iepriekš neklasificētie pamatlīdzekļi un ieguldījuma īpašumi | C27: 0.28 | E27: 1.4
B28: Tiešās izmaksas kopā | C28: =SUM(C19:C27) -> 50.38 | E28: =SUM(E19:E27) -> 316.41
B29: Netiešās izmaksas
A30: 1100 | B30: Atalgojums | D30: =0.418-0.0002 -> 0.4178 | E30: 53.53
A31: 1200 | B31: Darba devēja valsts sociālās apdrošināšanas obligātās iemaksas, pabalsti un kompensācijas | D31: =D30*0.2359 -> 0.09855902 | E31: 12.63
A32: 2231 | B32: Izdevumi iestādes sabiedrisko aktivitāšu īstenošanai | D32: 0.0303 | E32: 2.6
A33: 2243 | B33: Iekārtas, inventāra un aparatūras remonts, tehniskā apkalpošana | D33: 0.0619 | E33: 5.3
A34: 2250 | B34: Informācijas sistēmas uzturēšana | D34: 0.1104 | E34: 9.46
A35: 2311 | B35: Biroja preces | D35: 0.0334 | E35: 2.86
A36: 2512 | B36: Budžeta iestāžu pievienotās vērtības nodokļa maksājumi | E36: =D36*85.65 -> 0
A37: 2513 | B37: Budžeta iestāžu nekustamā īpašuma nodokļa maksājumi | D37: 0.0152 | E37: 1.3
A38: 5239 | B38: Pārējie iepriekš neklasificētie pamatlīdzekļi un ieguldījuma īpašumi | D38: 0.2324 | E38: 19.91
B39: Netiešās izmaksas kopā | E39: =SUM(E30:E38) -> 107.59
B40: Pakalpojumu izmaksas kopā | E40: =E28+E39 -> 424
A42: Maksas pakalpojuma vienību skaits noteiktā laikposmā | E42: 5
A43: Maksas pakalpojuma izcenojums (euro) | E43: =E40/E42 -> 84.8
A45: Prognozētais maksas pakalpojumu skaits gadā (gab.)*
A46: Prognozētie ieņēmumi gadā (euro)*
A48: Piezīme. *Ailes neaizpilda, ja izvēlētais laikposms ir viens gads.
A50: Aprēķinu sastādīja: SIVA Finanšu nodaļas finanšu ekonomiste E.Lipiņa

Sheet 6.1.5.
E1: SASKAŅOTS
E2: Sociālās integrācijas valsts aģentūras
E3: direktore I.Jurševska
E5: 2023. gada 29.martā
A7: Maksas pakalpojuma izcenojuma aprēķins
A9: Sociālās integrācijas valsts aģentūra
A10: Publiskā pakalpojuma veids:
B11: 6. Telpu iznomāšana
B12: 6.1. Kabineta, auditorijas vai konferenču zāles noma
B13: 6.1.5. Konferenču zāles noma Slokas ielā 68, Jūrmalā (126.4m2), 1 stunda
A15: Laikposms | B15: 2023.gads un turpmāk
A16: Izdevumu klasifikācijas kods | B16: Rādītājs (materiāla/izejvielas nosaukums, atlīdzība un citi izmaksu veidi) | E16: Izmaksu apjoms noteiktā laikposmā viena maksas pakalpojuma veida nodrošināšanai
A17: 1 | B17: 2 | E17: 3
B18: Tiešās izmaksas
A19: 1100 | B19: Atalgojums | C19: =4.42/1.2359 -> 3.5763411 | E19: 22.84
A20: 1200 | B20: Darba devēja valsts sociālās apdrošināšanas obligātās iemaksas, pabalsti un kompensācijas | C20: =C19*0.2359 -> 0.84365887 | E20: 5.39
A21: 2222 | B21: Izdevumi par ūdensapgādi un kanalizāciju | C21: 0.17 | E21: 0.83
A22: 2223 | B22: Izdevumi par elektroenerģiju | C22: 0.92 | E22: 4.62
A23: 2224 | B23: Izdevumi par atkritumu savākšanu, izvešanu no apdzīvotām vietām un teritorijām ārpus apdzīvotām vietām un atkritumu utilizāciju | C23: =0.14*1.15*126.4/12/168 -> 0.010094444 | E23: 0.05
A24: 2244 | B24: Nekustamā īpašuma uzturēšana | C24: 1.05 | E24: 5.25
A25: 2312 | B25: Inventārs | C25: 0.29 | E25: 1.24
A26: 2321 | B26: Kurināmais | C26: 0.53 | E26: 2.65
A27: 5239 | B27: Pārējie iepriekš neklasificētie pamatlīdzekļi un ieguldījuma īpašumi | C27: 0.29 | E27: 1.45
B28: Tiešās izmaksas kopā | C28: =SUM(C19:C27) -> 7.6800944 | E28: =SUM(E19:E27) -> 44.32
B29: Netiešās izmaksas
A30: 1100 | B30: Atalgojums | D30: =0.418-0.0002 -> 0.4178 | E30: 6.93
A31: 1200 | B31: Darba devēja valsts sociālās apdrošināšanas obligātās iemaksas, pabalsti un kompensācijas | D31: =D30*0.2359 -> 0.09855902 | E31: 1.63
A32: 2231 | B32: Izdevumi iestādes sabiedrisko aktivitāšu īstenošanai | D32: 0.0303 | E32: 0.45
A33: 2243 | B33: Iekārtas, inventāra un aparatūras remonts, tehniskā apkalpošana | D33: 0.0619 | E33: 0.91
A34: 2250 | B34: Informācijas sistēmas uzturēšana | D34: 0.1104 | E34: 1.54
A35: 2311 | B35: Biroja preces | D35: 0.0334 | E35: 0.54
A36: 2512 | B36: Budžeta iestāžu pievienotās vērtības nodokļa maksājumi | E36: =D36*13.05 -> 0
A37: 2513 | B37: Budžeta iestāžu nekustamā īpašuma nodokļa maksājumi | D37: 0.0152 | E37: 0.3
A38: 5239 | B38: Pārējie iepriekš neklasificētie pamatlīdzekļi un ieguldījuma īpašumi | D38: 0.2324 | E38: 3.08
B39: Netiešās izmaksas kopā | D39: =SUM(D30:D38) -> 0.99995902 | E39: =SUM(E30:E38) -> 15.38
B40: Pakalpojumu izmaksas kopā | E40: =E28+E39 -> 59.7
A42: Maksas pakalpojuma vienību skaits noteiktā laikposmā | E42: 5
A43: Maksas pakalpojuma izcenojums (euro) | E43: =E40/E42 -> 11.94
A45: Prognozētais maksas pakalpojumu skaits gadā (gab.)*
A46: Prognozētie ieņēmumi gadā (euro)*
A48: Piezīme. *Ailes neaizpilda, ja izvēlētais laikposms ir viens gads.
A50: Aprēķinu sastādīja: SIVA Finanšu nodaļas finanšu ekonomiste E.Lipiņa

Sheet 6.2.
E1: SASKAŅOTS
E2: Sociālās integrācijas valsts aģentūras
E3: direktore I.Jurševska
E5: 2023. gada 29.martā
A7: Maksas pakalpojuma izcenojuma aprēķins
A9: Sociālās integrācijas valsts aģentūra
A10: Publiskā pakalpojuma veids:
B11: 6. Telpu iznomāšana
B12: 6.2. Sporta zāles noma Jūrmalā, Slokas ielā 61, 2.korpuss, 1 stunda
A14: Laikposms | B14: 2023.gadā un turpmāk
A15: Izdevumu klasifikācijas kods | B15: Rādītājs (materiāla/izejvielas nosaukums, atlīdzība un citi izmaksu veidi) | E15: Izmaksu apjoms noteiktā laikposmā viena maksas pakalpojuma veida nodrošināšanai
A16: 1 | B16: 2 | E16: 3
B17: Tiešās izmaksas
A18: 1100 | B18: Atalgojums | C18: =8.82/1.2359 -> 7.1364997 | E18: 39.55
A19: 1200 | B19: Darba devēja valsts sociālās apdrošināšanas obligātās iemaksas, pabalsti un kompensācijas | C19: =C18*0.2359 -> 1.6835003 | E19: 9.33
A20: 2222 | B20: Izdevumi par ūdensapgādi un kanalizāciju | C20: =[4]telpas_noma!$F$89 -> 0.2806125 | E20: 1.4
A21: 2223 | B21: Izdevumi par elektroenerģiju | C21: =[4]telpas_noma!$F$88 -> 1.5634125 | E21: 7.82
A22: 2224 | B22: Izdevumi par atkritumu savākšanu, izvešanu no apdzīvotām vietām un teritorijām ārpus apdzīvotām vietām un atkritumu utilizāciju | C22: =[4]telpas_noma!$F$90 -> 0.00042624597 | E22: 0
A23: 2244 | B23: Nekustamā īpašuma uzturēšana | C23: =[4]telpas_noma!$F$86 -> 1.7606956 | E23: 8.8
A24: 2312 | B24: Inventārs | C24: 0.14 | E24: 0.7
A25: 2321 | B25: Kurināmais | C25: =[4]telpas_noma!$F$87 -> 1.2694375 | E25: 6.35
A26: 5239 | B26: Pārējie iepriekš neklasificētie pamatlīdzekļi un ieguldījuma īpašumi | C26: =[4]telpas_noma!$F$83 -> 0.011857292 | E26: 0.06
B27: Tiešās izmaksas kopā | C27: =SUM(C18:C26) -> 13.846442 | E27: =SUM(E18:E26) -> 74.01
B28: Netiešās izmaksas
A29: 1100 | B29: Atalgojums | D29: =0.418-0.0002 -> 0.4178 | E29: 11.12
A30: 1200 | B30: Darba devēja valsts sociālās apdrošināšanas obligātās iemaksas, pabalsti un kompensācijas | D30: =D29*0.2359 -> 0.09855902 | E30: 2.62
A31: 2224 | B31: Izdevumi par atkritumu savākšanu, izvešanu no apdzīvotām vietām un teritorijām ārpus apdzīvotām vietām un atkritumu utilizāciju | D31: 0.0303 | E31: 0.71
A32: 2243 | B32: Iekārtas, inventāra un aparatūras remonts, tehniskā apkalpošana | D32: 0.0619 | E32: 1.46
A33: 2250 | B33: Informācijas tehnoloģiju pakalpojumi | D33: 0.1104 | E33: 2.6
A34: 2311 | B34: Biroja preces | D34: 0.0334 | E34: 0.79
A35: 2512 | B35: Budžeta iestāžu pievienotās vērtības nodokļa maksājumi | E35: 0
A36: 2513 | B36: Budžeta iestāžu nekustamā īpašuma nodokļa maksājumi | D36: 0.0152 | E36: 0.36
A37: 5239 | B37: Pārējie iepriekš neklasificētie pamatlīdzekļi un ieguldījuma īpašumi | D37: 0.2324 | E37: 5.48
B38: Netiešās izmaksas kopā | E38: =SUM(E29:E37) -> 25.14
B39: Pakalpojumu izmaksas kopā | E39: =E27+E38 -> 99.15
A41: Maksas pakalpojuma vienību skaits noteiktā laikposmā | E41: 5
A42: Maksas pakalpojuma izcenojums (euro) | E42: =E39/E41 -> 19.83
A44: Prognozētais maksas pakalpojumu skaits gadā (gab.)*
A45: Prognozētie ieņēmumi gadā (euro)*
A47: Piezīme. *Ailes neaizpilda, ja izvēlētais laikposms ir viens gads.
A49: Aprēķinu sastādīja: SIVA Finanšu nodaļas finanšu ekonomiste E.Lipiņa

Sheet 9.4.
E1: SASKAŅOTS
E2: Sociālās integrācijas valsts aģentūras
E3: direktore I.Jurševska
E5: 2022.gada
A7: Maksas pakalpojuma izcenojuma aprēķins
A9: Sociālās integrācijas valsts aģentūra
A10: Publiskā pakalpojuma veids:
B11: 9. Telpu iznomāšana
B12: 9.4. Fizioterapijas lielās zāles noma Jūrmalā, Dubultu prospektā 71, 1 stunda
A14: Laikposms | B14: 2023.gadā un turpmāk
A15: Izdevumu klasifikācijas kods | B15: Rādītājs (materiāla/izejvielas nosaukums, atlīdzība un citi izmaksu veidi) | E15: Izmaksu apjoms noteiktā laikposmā viena maksas pakalpojuma veida nodrošināšanai
A16: 1 | B16: 2 | C16: 3 | E16: 3
B17: Tiešās izmaksas
A18: 1100 | B18: Atalgojums | C18: =7.96/1.2359 -> 6.4406505 | E18: 807.38
A19: 1200 | B19: Darba devēja valsts sociālās apdrošināšanas obligātās iemaksas, pabalsti un kompensācijas | C19: =C18*0.2359 -> 1.5193495 | E19: 190.46
A20: 2222 | B20: Izdevumi par ūdeni un kanalizāciju | C20: 2.47 | E20: 247
A21: 2223 | B21: Izdevumi par elektroenerģiju | C21: 0.94 | E21: 94
A22: 2244 | B22: Nekustamā īpašuma uzturēšana | C22: 1.58 | E22: 158
A23: 2312 | B23: Inventārs | C23: 0.84 | E23: 84
A24: 2321 | B24: Kurināmais | C24: 0.45 | E24: 45
B25: Tiešās izmaksas kopā | C25: =SUM(C18:C24) -> 14.24 | E25: =SUM(E18:E24) -> 1625.84
B26: Netiešās izmaksas
A27: 1100 | B27: Atalgojums | D27: =0.418-0.0002 -> 0.4178 | E27: 273.13
A28: 1200 | B28: Darba devēja valsts sociālās apdrošināšanas obligātās iemaksas, pabalsti un kompensācijas | D28: =D27*0.2359 -> 0.09855902 | E28: 64.43
A29: 2224 | B29: Izdevumi par atkritumu savākšanu, izvešanu no apdzīvotām vietām un teritorijām ārpus apdzīvotām vietām un atkritumu utilizāciju | D29: 0.0303 | E29: 15.57
A30: 2243 | B30: Iekārtas, inventāra un aparatūras remonts, tehniskā apkalpošana | D30: 0.0619 | E30: 31.83
A31: 2250 | B31: Informācijas tehnoloģiju pakalpojumi | D31: 0.1104 | E31: 56.75
A32: 2311 | B32: Biroja preces | D32: 0.0334 | E32: 17.17
A33: 2512 | B33: Budžeta iestāžu pievienotās vērtības nodokļa maksājumi | E33: 0
A34: 2513 | B34: Budžeta iestāžu nekustamā īpašuma nodokļa maksājumi | D34: 0.0152 | E34: 7.83
A35: 5239 | B35: Pārējie iepriekš neklasificētie pamatlīdzekļi un ieguldījuma īpašumi | D35: 0.2324 | E35: 119.45
B36: Netiešās izmaksas kopā | E36: =SUM(E27:E35) -> 586.16
B37: Pakalpojumu izmaksas kopā | E37: =E25+E36 -> 2212
A39: Maksas pakalpojuma vienību skaits noteiktā laikposmā | E39: 100
A40: Maksas pakalpojuma izcenojums (euro) | E40: =E37/E39 -> 22.12
A42: Prognozētais maksas pakalpojumu skaits gadā (gab.)*
A43: Prognozētie ieņēmumi gadā (euro)*
A45: Piezīme. *Ailes neaizpilda, ja izvēlētais laikposms ir viens gads.
A47: Aprēķinu sastādīja: SIVA Finanšu nodaļas finanšu ekonomiste E.Lipiņa

Sheet 6.3.
E1: SASKAŅOTS
E2: Sociālās integrācijas valsts aģentūras
E3: direktore I.Jurševska
E5: 2023. gada 29.martā
A7: Maksas pakalpojuma izcenojuma aprēķins
A9: Sociālās integrācijas valsts aģentūra
A10: Publiskā pakalpojuma veids:
B11: 6. Telpu iznomāšana
B12: 6.3. Tirdzniecības vietas noma (26.1m2) Jūrmalā, Dubultu prospektā 71, 2.korpuss
A14: Laikposms | B14: 2023.gadā un turpmāk
A15: Izdevumu klasifikācijas kods | B15: Rādītājs (materiāla/izejvielas nosaukums, atlīdzība un citi izmaksu veidi) | E15: Izmaksu apjoms noteiktā laikposmā viena maksas pakalpojuma veida nodrošināšanai
A16: 1 | B16: 2 | C16: 3 | E16: 3
B17: Tiešās izmaksas
A18: 1100 | B18: Atalgojums | C18: =1.46/1.2359 -> 1.1813253 | E18: 166.78
A19: 1200 | B19: Darba devēja valsts sociālās apdrošināšanas obligātās iemaksas, pabalsti un kompensācijas | C19: =C18*0.2359 -> 0.27867465 | E19: 39.34
A20: 2222 | B20: Izdevumi par ūdeni un kanalizāciju | C20: 0.52 | E20: 52.2
A21: 2223 | B21: Izdevumi par elektroenerģiju | C21: 1.14 | E21: 113.97
A22: 2244 | B22: Nekustamā īpašuma uzturēšana | C22: 1.92 | E22: 192.28
A23: 2312 | B23: Inventārs | C23: 0.16 | E23: 15.33
A24: 2321 | B24: Kurināmais | C24: 1.1 | E24: 110.49
B25: Tiešās izmaksas kopā | C25: =SUM(C18:C24) -> 6.3 | E25: =SUM(E18:E24) -> 690.39
B26: Netiešās izmaksas
A27: 1100 | B27: Atalgojums | D27: =0.418-0.0002 -> 0.4178 | E27: 105.83
A28: 1200 | B28: Darba devēja valsts sociālās apdrošināšanas obligātās iemaksas, pabalsti un kompensācijas | D28: =D27*0.2359 -> 0.09855902 | E28: 24.97
A29: 2224 | B29: Izdevumi par atkritumu savākšanu, izvešanu no apdzīvotām vietām un teritorijām ārpus apdzīvotām vietām un atkritumu utilizāciju | D29: 0.0303 | E29: 6.51
A30: 2243 | B30: Iekārtas, inventāra un aparatūras remonts, tehniskā apkalpošana | D30: 0.0619 | E30: 13.31
A31: 2250 | B31: Informācijas tehnoloģiju pakalpojumi | D31: 0.1104 | E31: =23.74-0.17 -> 23.57
A32: 2311 | B32: Biroja preces | D32: 0.0334 | E32: 7.18
A33: 2512 | B33: Budžeta iestāžu pievienotās vērtības nodokļa maksājumi | E33: 0
A34: 2513 | B34: Budžeta iestāžu nekustamā īpašuma nodokļa maksājumi | D34: 0.0152 | E34: 3.27
A35: 5239 | B35: Pārējie iepriekš neklasificētie pamatlīdzekļi un ieguldījuma īpašumi | D35: 0.2324 | E35: 49.97
B36: Netiešās izmaksas kopā | E36: =SUM(E27:E35) -> 234.61
B37: Pakalpojumu izmaksas kopā | E37: =E25+E36 -> 925
A39: Maksas pakalpojuma vienību skaits noteiktā laikposmā | E39: 100
A40: Maksas pakalpojuma izcenojums (euro) | E40: =E37/E39 -> 9.25
A42: Prognozētais maksas pakalpojumu skaits gadā (gab.)*
A43: Prognozētie ieņēmumi gadā (euro)*
A45: Piezīme. *Ailes neaizpilda, ja izvēlētais laikposms ir viens gads.
A47: Aprēķinu sastādīja: SIVA Finanšu nodaļas finanšu ekonomiste E.Lipiņa

Sheet 6.4.
D1: SASKAŅOTS | E1: SASKAŅOTS
D2: Sociālās integrācijas valsts aģentūras | E2: Sociālās integrācijas valsts aģentūras
D3: direktore I.Jurševska | E3: direktore I.Jurševska
D5: 2020.gada | E5: 2023. gada 29.martā
A7: Maksas pakalpojuma izcenojuma aprēķins
A9: Sociālās integrācijas valsts aģentūra
A10: Publiskā pakalpojuma veids:
B11: 6. Telpu iznomāšana
B12: 6.4. Baseina noma, 1 stunda
A14: Laikposms | B14: 2023.gadā un turpmāk
A16: Izdevumu klasifikācijas kods | B16: Rādītājs (materiāla/izejvielas nosaukums, atlīdzība un citi izmaksu veidi) | D16: Izmaksu apjoms noteiktā laikposmā viena maksas pakalpojuma veida nodrošināšanai | E16: Izmaksu apjoms noteiktā laikposmā viena maksas pakalpojuma veida nodrošināšanai
A17: 1 | B17: 2 | D17: 3 | E17: 3
B18: Tiešās izmaksas
A19: 1100 | B19: Atalgojums | C19: 7.79 | D19: =C19*30 -> 233.7 | E19: 44.21
A20: 1200 | B20: Darba devēja valsts sociālās apdrošināšanas obligātās iemaksas, pabalsti un kompensācijas | C20: 1.88 | D20: =C20*30 -> 56.4 | E20: 10.43
A21: 2222 | B21: Izdevumi par ūdensapgādi un kanalizāciju | C21: =4.13*1.15 -> 4.7495 | D21: =C21*30*1.1 -> 156.7335 | E21: 31.34
A22: 2223 | B22: Izdevumi par elektroenerģiju | C22: =6.33*1.44 -> 9.1152 | D22: =C22*30*2.13 -> 582.46128 | E22: 106.79
A23: 2243 | B23: Iekārtas, inventāra un aparatūras remonts, tehniskā apkalpošana | C23: 2.61 | D23: =C23*30 -> 78.3 | E23: 13.05
A24: 2244 | B24: Nekustamā īpašuma uzturēšana | C24: 4.82 | D24: =C24*30 -> 144.6 | E24: 24.1
A25: 2312 | B25: Inventārs | C25: 1.22 | D25: =C25*30 -> 36.6 | E25: 6.1
A26: 2321 | B26: Kurināmais | C26: =5.14*1.2 -> 6.168 | D26: =C26*30*1.2 -> 222.048 | E26: 44.41
A27: 2341 | B27: Zāles, ķimikālijas, laboratorijas preces | C27: 0.4 | D27: =C27*30 -> 12 | E27: 2
A28: 2350 | B28: Iestāžu uzturēšanas materiāli un preces | C28: 0.07 | D28: =C28*30 -> 2.1 | E28: 0.35
A29: 5239 | B29: Pārējie iepriekš neklasificētie pamatlīdzekļi un ieguldījuma īpašumi | C29: 1.78 | D29: =C29*30 -> 53.4 | E29: 8.9
B30: Tiešās izmaksas kopā | C30: =SUM(C19:C29) -> 40.6027 | D30: =SUM(D19:D29) -> 1578.3428 | E30: =SUM(E19:E29) -> 291.68
B31: Netiešās izmaksas
A32: 1100 | B32: Atalgojums | C32: 8.96 | D32: =C32*30 -> 268.8 | E32: 50.84
A33: 1200 | B33: Darba devēja valsts sociālās apdrošināšanas obligātās iemaksas, pabalsti un kompensācijas | C33: 2.16 | D33: =C33*30 -> 64.8 | E33: 11.99
A34: 2100 | B34: Mācību, darba un dienesta komandējumi, dienesta, darba braucieni | E34: =D34/30*5 -> 0
A35: 2210 | B35: Izdevumi par sakaru pakalpojumiem | C35: 0.16 | D35: =C35*30 -> 4.8 | E35: 0.8
A36: 2222 | B36: Izdevumi par ūdeni un kanalizāciju | E36: 0
A37: 2223 | B37: Izdevumi par elektroenerģiju | C37: =0.58*1.44 -> 0.8352 | D37: =C37*30*2.13 -> 53.36928 | E37: 13.01
A38: 2224 | B38: Izdevumi par atkritumu savākšanu, izvešanu no apdzīvotām vietām un teritorijām ārpus apdzīvotām vietām un atkritumu utilizāciju | C38: =0.16*1.05 -> 0.168 | D38: =C38*30*1.15 -> 5.796 | E38: 1.12
A39: 2231 | B39: Izdevumi iestādes sabiedrisko aktivitāšu īstenošanai | C39: 0.04 | D39: =C39*30 -> 1.2 | E39: 0.2
A40: 2239 | B40: Pārējie neklasificētie pakalpojumi | C40: 0 | D40: =C40*30 -> 0 | E40: 0
A41: 2241 | B41: Ēku, būvju un telpu būvdarbi | C41: 0.15 | D41: =C41*30 -> 4.5 | E41: 1.5
A42: 2242 | B42: Transportlīdzekļu uzturēšana un remonts | C42: 0.08 | D42: =C42*30 -> 2.4 | E42: 0.4
A43: 2243 | B43: Iekārtas, inventāra un aparatūras remonts, tehniskā apkalpošana | C43: 0.27 | D43: =C43*30 -> 8.1 | E43: 1.5
A44: 2244 | B44: Nekustamā īpašuma uzturēšana | C44: 1.68 | D44: =C44*30 -> 50.4 | E44: 8.4
A45: 2249 | B45: Pārējie remontdarbu un iestāžu uzturēšanas pakalpojumi | C45: 0 | D45: =C45*30 -> 0 | E45: 0
A46: 2250 | B46: Informācijas tehnoloģiju pakalpojumi | C46: 0.64 | D46: =C46*30 -> 19.2 | E46: 3.2
A47: 2261 | B47: Ēku, telpu īre un noma | C47: 0 | D47: =C47*30 -> 0 | E47: 0
A48: 2262 | B48: Transportlīdzekļu noma | C48: 0.02 | D48: =C48*30 -> 0.6 | E48: 0.1
A49: 2263 | B49: Zemes noma | C49: 1.24 | D49: =C49*30 -> 37.2 | E49: 6.2
A50: 2264 | B50: Iekārtu un inventāra īre un noma | E50: 0
A51: 2311 | B51: Biroja preces | C51: 0.02 | D51: =C51*30 -> 0.6 | E51: 0.1
A52: 2312 | B52: Inventārs | C52: 0.03 | D52: =C52*30 -> 0.9 | E52: 0.15
A53: 2321 | B53: Kurināmais | C53: =0.64*1.2 -> 0.768 | D53: =C53*30*1.2 -> 27.648 | E53: 10.54
A54: 2322 | B54: Degviela | C54: =0.04*1.2 -> 0.048 | D54: =C54*30*1.2 -> 1.728 | E54: 0.35
A55: 2341 | B55: Zāles, ķimikālijas, laboratorijas preces | E55: 0
A56: 2344 | B56: Medicīnas instrumenti, laboratorijas dzīvnieki un to uzturēšana | E56: 0
A57: 2350 | B57: Iestāžu uzturēšanas materiāli un preces | C57: 0.24 | D57: =C57*30 -> 7.2 | E57: 1.2
A58: 2512 | B58: Budžeta iestāžu pievienotās vērtības nodokļa maksājumi | E58: 0
A59: 2513 | B59: Budžeta iestāžu nekustamā īpašuma nodokļa maksājumi | C59: 0 | D59: =C59*30 -> 0 | E59: 0.95
A60: 2515 | B60: Budžeta iestāžu dabas resursu nodokļa maksājumi | C60: 0.04 | D60: =C60*30 -> 1.2 | E60: 0.2
A61: 2519 | B61: Pārējie budžeta iestāžu pārskaitītie nodokļi un nodevas | E61: 0
A62: 5239 | B62: Pārējie iepriekš neklasificētie pamatlīdzekļi un ieguldījuma īpašumi | C62: 0.09 | D62: =C62*30 -> 2.7 | E62: 0.42
A63: 5238 | B63: Datortehnika, sakaru un cita biroja tehnika | C63: 0 | D63: =C63*30 -> 0 | E63: =D63*30 -> 0
B64: Netiešās izmaksas kopā | C64: =SUM(C32:C62) -> 17.6392 | D64: =SUM(D32:D62) -> 563.14128 | E64: =SUM(E32:E62) -> 113.17
B65: Pakalpojumu izmaksas kopā | C65: =C30+C64 -> 58.2419 | D65: =D30+D64 -> 2141.4841 | E65: =E30+E64 -> 404.85
A67: Maksas pakalpojuma vienību skaits noteiktā laikposmā (gab.) | C67: 1 | D67: 30 | E67: 5
A68: Maksas pakalpojuma izcenojums (euro) | C68: =C65/C67 -> 58.2419 | D68: =ROUND(D65/D67,2) -> 71.38 | E68: =ROUND(E65/E67,2) -> 80.97
A70: Prognozētais maksas pakalpojumu skaits gadā (gab.)*
A71: Prognozētie ieņēmumi gadā (euro)*
A73: Piezīme. *Ailes neaizpilda, ja izvēlētais laikposms ir viens gads.
A75: Aprēķinu sastādīja: SIVA Finanšu nodaļas finanšu ekonomiste E.Lipiņa

Sheet 6.5.
E1: SASKAŅOTS | F1: SASKAŅOTS
E2: Sociālās integrācijas valsts aģentūras | F2: Sociālās integrācijas valsts aģentūras
E3: direktore I.Jurševska | F3: direktore I.Jurševska
E5: 2020.gada | F5: 2023. gada 29.martā
A7: Maksas pakalpojuma izcenojuma aprēķins
A9: Sociālās integrācijas valsts aģentūra
A10: Publiskā pakalpojuma veids:
B11: 6. Telpu iznomāšana
B12: 6.5. Baseina noma ar tvaika pirti, 1 stunda
A14: Laikposms | B14: 2023.gadā un turpmāk
A16: Izdevumu klasifikācijas kods | B16: Rādītājs (materiāla/izejvielas nosaukums, atlīdzība un citi izmaksu veidi) | E16: Izmaksu apjoms noteiktā laikposmā viena maksas pakalpojuma veida nodrošināšanai | F16: Izmaksu apjoms noteiktā laikposmā viena maksas pakalpojuma veida nodrošināšanai
A17: 1 | B17: 2 | E17: 3 | F17: 3
B18: Tiešās izmaksas
A19: 1100 | B19: Atalgojums | C19: 15600 | D19: 7.79 | E19: =D19*30 -> 233.7 | F19: 47.3
A20: 1200 | B20: Darba devēja valsts sociālās apdrošināšanas obligātās iemaksas, pabalsti un kompensācijas | C20: 3758.04 | D20: 1.88 | E20: =D20*30 -> 56.4 | F20: 11.16
A21: 2222 | B21: Izdevumi par ūdensapgādi un kanalizāciju | C21: =459.81+437.91+7364.14 -> 8261.86 | D21: =4.13*1.15 -> 4.7495 | E21: =D21*30*1.1 -> 156.7335 | F21: 33.53
A22: 2223 | B22: Izdevumi par elektroenerģiju | C22: =2467.99+2388.76+2582.45+7811.91 -> 15251.11 | D22: =7.62*1.44 -> 10.9728 | E22: =D22*30*2.13 -> 701.16192 | F22: 114.27
A23: 2243 | B23: Iekārtas, inventāra un aparatūras remonts, tehniskā apkalpošana | C23: =832+2080+480+3905 -> 7297 | D23: 3.64 | E23: =D23*30 -> 109.2 | F23: 13.96
A24: 2244 | B24: Nekustamā īpašuma uzturēšana | C24: 9639.73 | D24: 4.82 | E24: =D24*30 -> 144.6 | F24: 25.79
A25: 2312 | B25: Inventārs | C25: =315.65+50.1+15.4+130.7+35.59+65.25+1.85+1831.03 -> 2445.57 | D25: 1.22 | E25: =D25*30 -> 36.6 | F25: 6.53
A26: 2321 | B26: Kurināmais | C26: =3010.82+7276.65 -> 10287.47 | D26: =5.14*1.2 -> 6.168 | E26: =D26*30*1.2 -> 222.048 | F26: 47.52
A27: 2341 | B27: Zāles, ķimikālijas, laboratorijas preces | C27: =800.4+863.4 -> 1663.8 | D27: 0.83 | E27: =D27*30 -> 24.9 | F27: 2.14
A28: 2350 | B28: Iestāžu uzturēšanas materiāli un preces | C28: =52.36+84.24 -> 136.6 | D28: 0.07 | E28: =D28*30 -> 2.1 | F28: 0.37
A29: 5239 | B29: Pārējie iepriekš neklasificētie pamatlīdzekļi un ieguldījuma īpašumi | C29: =1926.68+1000+756.15+664.31+644.36 -> 4991.5 | D29: 2.49 | E29: =D29*30 -> 74.7 | F29: 9.52
B30: Tiešās izmaksas kopā | C30: =SUM(C19:C29) -> 79332.68 | D30: =SUM(D19:D29) -> 44.6303 | E30: =SUM(E19:E29) -> 1762.1434 | F30: =SUM(F19:F29) -> 312.09
B31: Netiešās izmaksas
A32: 1100 | B32: Atalgojums | C32: 12064.39 | D32: 9.05 | E32: =D32*30 -> 271.5 | F32: 55.63
A33: 1200 | B33: Darba devēja valsts sociālās apdrošināšanas obligātās iemaksas, pabalsti un kompensācijas | C33: 2918.8 | D33: 2.18 | E33: =D33*30 -> 65.4 | F33: 13.12
A34: 2100 | B34: Mācību, darba un dienesta komandējumi, dienesta, darba braucieni | C34: 0 | D34: =C34/12/166.83*1.5 -> 0 | E34: =D34*30 -> 0 | F34: 0
A35: 2210 | B35: Izdevumi par sakaru pakalpojumiem | C35: 340.53 | D35: 0.26 | E35: =D35*30 -> 7.8 | F35: 0.86
A36: 2222 | B36: Izdevumi par ūdeni un kanalizāciju | C36: 0 | D36: =C36/12/166.83*1.5 -> 0 | E36: =D36*30 -> 0 | F36: 0
A37: 2223 | B37: Izdevumi par elektroenerģiju | C37: 1264.82 | D37: =0.95*1.44 -> 1.368 | E37: =D37*30*2.13 -> 87.4152 | F37: 13.92
A38: 2224 | B38: Izdevumi par atkritumu savākšanu, izvešanu no apdzīvotām vietām un teritorijām ārpus apdzīvotām vietām un atkritumu utilizāciju | C38: 340.53 | D38: =0.26*1.05 -> 0.273 | E38: =D38*30*1.15 -> 9.4185 | F38: 1.2
A39: 2231 | B39: Izdevumi iestādes sabiedrisko aktivitāšu īstenošanai | C39: 0 | D39: 0.13 | E39: =D39*30 -> 3.9 | F39: 0.21
A40: 2239 | B40: Pārējie neklasificētie pakalpojumi | C40: 0 | D40: 0 | E40: =D40*30 -> 0 | F40: 0
A41: 2241 | B41: Ēku, būvju un telpu būvdarbi | C41: 340.53 | D41: 0.26 | E41: =D41*30 -> 7.8 | F41: 1.61
A42: 2242 | B42: Transportlīdzekļu uzturēšana un remonts | C42: 243.23 | D42: 0.18 | E42: =D42*30 -> 5.4 | F42: 0.43
A43: 2243 | B43: Iekārtas, inventāra un aparatūras remonts, tehniskā apkalpošana | C43: 486.47 | D43: 0.36 | E43: =D43*30 -> 10.8 | F43: 1.61
A44: 2244 | B44: Nekustamā īpašuma uzturēšana | C44: 2335.04 | D44: =1.75+0.11 -> 1.86 | E44: =D44*30 -> 55.8 | F44: 8.99
A45: 2249 | B45: Pārējie remontdarbu un iestāžu uzturēšanas pakalpojumi | C45: 145.94 | D45: 0 | E45: =D45*30 -> 0 | F45: 0
A46: 2250 | B46: Informācijas tehnoloģiju pakalpojumi | C46: 0 | D46: 0 | E46: =D46*30 -> 0 | F46: 3.42
A47: 2261 | B47: Ēku, telpu īre un noma | C47: 972.93 | D47: 0.73 | E47: =D47*30 -> 21.9 | F47: 0
A48: 2262 | B48: Transportlīdzekļu noma | C48: 0 | D48: 0 | E48: =D48*30 -> 0 | F48: 0.11
A49: 2263 | B49: Zemes noma | C49: 145.94 | D49: 0.11 | E49: =D49*30 -> 3.3 | F49: 6.63
A50: 2264 | B50: Iekārtu un inventāra īre un noma | C50: 1848.58 | D50: 1.39 | E50: =D50*30 -> 41.7 | F50: 0
A51: 2311 | B51: Biroja preces | C51: 0 | D51: =C51/12/166.83*1.5 -> 0 | E51: =D51*30 -> 0 | F51: 0.11
A52: 2312 | B52: Inventārs | C52: 145.94 | D52: 0.11 | E52: =D52*30 -> 3.3 | F52: 0.16
A53: 2321 | B53: Kurināmais | C53: 145.94 | D53: 0.11 | E53: =D53*30 -> 3.3 | F53: 11.28
A54: 2322 | B54: Degviela | C54: 972.93 | D54: =0.73*1.2 -> 0.876 | E54: =D54*30*1.2 -> 31.536 | F54: 0.37
A55: 2341 | B55: Zāles, ķimikālijas, laboratorijas preces | C55: 145.94 | D55: =0.11*1.2 -> 0.132 | E55: =D55*30*1.2 -> 4.752 | F55: 0
A56: 2344 | B56: Medicīnas instrumenti, laboratorijas dzīvnieki un to uzturēšana | C56: 0 | D56: =C56/12/166.83*1.5 -> 0 | E56: =D56*30 -> 0 | F56: 0
A57: 2350 | B57: Iestāžu uzturēšanas materiāli un preces | C57: 0 | D57: =C57/12/166.83*1.5 -> 0 | E57: =D57*30 -> 0 | F57: 1.28
A58: 2512 | B58: Budžeta iestāžu pievienotās vērtības nodokļa maksājumi | C58: 437.82 | D58: 0.33 | E58: =D58*30 -> 9.9 | F58: 0
A59: 2513 | B59: Budžeta iestāžu nekustamā īpašuma nodokļa maksājumi | C59: 145.94 | D59: 0.11 | E59: =D59*30 -> 3.3 | F59: 1.02
A60: 2515 | B60: Budžeta iestāžu dabas resursu nodokļa maksājumi | D60: =C60/12/166.83*1.5 -> 0 | E60: =D60*30 -> 0 | F60: 0.21
A61: 2519 | B61: Pārējie budžeta iestāžu pārskaitītie nodokļi un nodevas | D61: 0.18 | E61: =D61*30 -> 5.4 | F61: 0
A62: 5239 | B62: Pārējie iepriekš neklasificētie pamatlīdzekļi un ieguldījuma īpašumi | D62: 0 | E62: =D62*30 -> 0 | F62: 0.44
B63: Netiešās izmaksas kopā | C63: =SUM(C32:C62) -> 25442.24 | D63: =SUM(D32:D62) -> 19.999 | E63: =SUM(E32:E62) -> 653.6217 | F63: =SUM(F32:F62) -> 122.61
B64: Pakalpojumu izmaksas kopā | C64: =C30+C63 -> 104774.92 | D64: =D30+D63 -> 64.6293 | E64: =E30+E63 -> 2415.7651 | F64: =F30+F63 -> 434.7
A66: Maksas pakalpojuma vienību skaits noteiktā laikposmā (gab.) | D66: 1 | E66: 30 | F66: 5
A67: Maksas pakalpojuma izcenojums (euro) | D67: =D64/D66 -> 64.6293 | E67: =ROUND(E64/E66,2) -> 80.53 | F67: =F64/F66 -> 86.94
A69: Prognozētais maksas pakalpojumu skaits gadā (gab.)*
A70: Prognozētie ieņēmumi gadā (euro)*
A72: Piezīme. *Ailes neaizpilda, ja izvēlētais laikposms ir viens gads.
A74: Aprēķinu sastādīja: SIVA Finanšu nodaļas finanšu ekonomiste E.Lipiņa

Sheet 11.9.1.
E1: SASKAŅOTS
B2: Sociālās integrācijas valsts aģentūras
E3: direktore I.Jurševska
E5: 2022. gada
A7: Maksas pakalpojuma izcenojuma aprēķins
A9: Sociālās integrācijas valsts aģentūra
A10: Publiskā pakalpojuma veids:
B11: 11. Pārējie maksas pakalpojumi
B12: 11.9. Psihologa pakalpojumi
B13: 11.9.1. Psihologa konsultācija
A14: Laikposms | B14: 2022.gadā un turpmāk
A16: Izdevumu klasifikācijas kods | B16: Rādītājs (materiāla/izejvielas nosaukums, atlīdzība un citi izmaksu veidi) | E16: Izmaksu apjoms noteiktā laikposmā viena maksas pakalpojuma veida nodrošināšanai
A17: 1 | B17: 2 | E17: 3
B18: Tiešās izmaksas
A19: 1100 | B19: Atalgojums | D19: 10.62 | E19: =9.6*20 -> 192
A20: 1200 | B20: Darba devēja valsts sociālās apdrošināšanas obligātās iemaksas, pabalsti un kompensācijas | D20: 2.51 | E20: 45.29
A21: 2223 | B21: Izdevumi par elektroenerģiju | E21: =0.11*20 -> 2.2
A22: 2312 | B22: Inventārs | E22: =0.11*20 -> 2.2
A23: 2321 | B23: Kurināmais | E23: =0.13*20 -> 2.6
A24: 2341 | B24: Zāles, ķimikālijas, laboratorijas preces | D24: 0.31 | E24: =0.11/2*20 -> 1.1
A25: 2350 | B25: Iestāžu uzturēšanas materiāli un preces | D25: 0.04 | E25: =E24 -> 1.1
A26: 5239 | B26: Pārējie iepriekš neklasificētie pamatlīdzekļi un ieguldījuma īpašumi | E26: =0.12*20 -> 2.4
B27: Tiešās izmaksas kopā | D27: =SUM(D19:D25) -> 13.48 | E27: =SUM(E19:E26) -> 248.89
B28: Netiešās izmaksas
A29: 1100 | B29: Atalgojums | C29: =0.388+0.024 -> 0.412 | D29: =3.07*C29 -> 1.26484 | E29: 43.84
A30: 1200 | B30: Darba devēja valsts sociālās apdrošināšanas obligātās iemaksas, pabalsti un kompensācijas | C30: =C29*0.2359 -> 0.0971908 | D30: =D29*0.2359 -> 0.29837576 | E30: 10.34
A31: 2100 | B31: Mācību, darba un dienesta komandējumi, dienesta, darba braucieni | C31: 0.001166 | D31: =C31*3.07 -> 0.00357962 | E31: 0.07
A32: 2210 | B32: Izdevumi par sakaru pakalpojumiem | C32: 0.0076 | D32: =C32*3.07 -> 0.023332 | E32: 0.47
A33: 2222 | B33: Izdevumi par ūdensapgādi un kanalizāciju | C33: 0.0095 | D33: =C33*3.07 -> 0.029165 | E33: 0.58
A34: 2223 | B34: Izdevumi par elektroenerģiju | C34: 0.01902 | D34: =C34*3.07 -> 0.0583914 | E34: 1.17
A35: 2224 | B35: Izdevumi par atkritumu savākšanu, izvešanu no apdzīvotām vietām un teritorijām ārpus apdzīvotām vietām un atkritumu utilizāciju | C35: 0.00495 | D35: =C35*3.07 -> 0.0151965 | E35: 0.3
A36: 2231 | B36: Izdevumi iestādes sabiedrisko aktivitāšu īstenošanai | C36: 0.00155 | D36: =C36*3.07 -> 0.0047585 | E36: 0.1
A37: 2235 | B37: Izdevumi par saņemtajiem mācību pakalpojumiem | C37: 0.00165 | D37: =C37*3.07 -> 0.0050655 | E37: 0.1
A38: 2239 | B38: Pārējie neklasificētie pakalpojumi | C38: 0.00441 | D38: =C38*3.07 -> 0.0135387 | E38: 0.27
A39: 2241 | B39: Ēku, būvju un telpu būvdarbi | C39: 0.0165 | D39: =C39*3.07 -> 0.050655 | E39: 1.01
A40: 2242 | B40: Transportlīdzekļu uzturēšana un remonts | C40: 0.00226 | D40: =C40*3.07 -> 0.0069382 | E40: 0.14
A41: 2243 | B41: Iekārtas, inventāra un aparatūras remonts, tehniskā apkalpošana | C41: 0.0326 | D41: =C41*3.07 -> 0.100082 | E41: 2
A42: 2244 | B42: Nekustamā īpašuma uzturēšana | C42: 0.20397 | D42: =C42*3.07 -> 0.6261879 | E42: 12.52
... A51: 2312 | B51: Inventārs | C51: 0.00579 | D51: =C51*3.07 -> 0.0177753 | E51: 0.36
A52: 2313 | B52: Darba aizsardzības līdzekļi | E52: 0.06
A53: 2314 | B53: Izdevumi par precēm iestādes sabiedrisko aktivitāšu īstenošanai | C53: 0.00222 | D53: =C53*3.07 -> 0.0068154 | E53: 0.08
A54: 2321 | B54: Kurināmais | C54: 0.0198 | D54: =C54*3.07 -> 0.060786 | E54: 1.22
A55: 2322 | B55: Degviela | C55: 0.0035 | D55: =C55*3.07 -> 0.010745 | E55: 0.21
A56: 2341 | B56: Zāles, ķimikālijas, laboratorijas preces | D56: =C56*3.07 -> 0 | E56: 0
A57: 2350 | B57: Iestāžu uzturēšanas materiāli un preces | C57: 0.0085 | D57: =C57*3.07 -> 0.026095 | E57: 0.52
A58: 2361 | B58: Mīkstais inventārs | C58: 0 | D58: =C58*3.07 -> 0 | E58: 0
A59: 2362 | B59: Virtuves inventārs, trauki un galda piederumi | C59: 0 | D59: =C59*3.07 -> 0 | E59: 0
A60: 2363 | B60: Ēdināšanas izdevumi | C60: 0 | D60: =C60*3.07 -> 0 | E60: 0
A61: 2370 | B61: Mācību līdzekļi un materiāli | C61: 0 | D61: =C61*3.07 -> 0 | E61: 0
A62: 2400 | B62: Izdevumi periodikas iegādei | C62: 0 | D62: =C62*3.07 -> 0 | E62: 0
A63: 2512 | B63: Budžeta iestāžu pievienotās vērtības nodokļa maksājumi | C63: 0 | D63: =C63*3.07 -> 0 | E63: 0
A64: 2513 | B64: Budžeta iestāžu nekustamā īpašuma nodokļa maksājumi | C64: 0.00146 | D64: =C64*3.07 -> 0.0044822 | E64: 0.09
A65: 2515 | B65: Budžeta iestāžu dabas resursu nodokļa maksājumi | C65: 0.0019 | D65: =C65*3.07 -> 0.005833 | E65: 0.12
A66: 2519 | B66: Pārējie budžeta iestāžu pārskaitītie nodokļi un nodevas | C66: 0.002 | D66: =C66*3.07 -> 0.00614 | E66: 0.12
A67: 5220 | B67: Tehnoloģiskās iekārtas un mašīnas | C67: 0.0106 | D67: =C67*3.07 -> 0.032542 | E67: 0.65
A68: 5238 | B68: Datortehnika, sakaru un cita biroja tehnika | C68: 0.00165 | D68: =C68*3.07 -> 0.0050655 | E68: 0.11
... A70: 5250 | B70: Kapitālais remonts un rekonstrukcija | C70: 0.025 | D70: =C70*3.07 -> 0.07675 | E70: 1.54
B71: Netiešās izmaksas kopā | C71: =SUM(C29:C70) -> 0.9998838 | D71: =SUM(D29:D70) -> 3.0696433 | E71: =SUM(E29:E70) -> 84.31
B72: Pakalpojumu izmaksas kopā | D72: =D27+D71 -> 16.549643 | E72: =E27+E71 -> 333.2
A74: Maksas pakalpojuma vienību skaits noteiktā laikposmā (gab.) | E74: 20
A75: Maksas pakalpojuma izcenojums (euro) | E75: =E72/E74 -> 16.66
A77: Prognozētais maksas pakalpojumu skaits gadā (gab.)*
A78: Prognozētie ieņēmumi gadā (euro)*
A80: Piezīme. *Ailes neaizpilda, ja izvēlētais laikposms ir viens gads.
A82: Aprēķinu sastādīja: SIVA Finanšu nodaļas finanšu ekonomiste E.Lipiņa

Sheet 11.9.2.
E1: SASKAŅOTS
B2: Sociālās integrācijas valsts aģentūras
E3: direktore I.Jurševska
E5: 2022. gada
A7: Maksas pakalpojuma izcenojuma aprēķins
A9: Sociālās integrācijas valsts aģentūra
A10: Publiskā pakalpojuma veids:
B11: 11. Pārējie maksas pakalpojumi
B12: 11.9. Psihologa pakalpojumi
B13: 11.9.2. Psihologa nodarbība grupā
A14: Laikposms | B14: 2022.gadā un turpmāk
A16: Izdevumu klasifikācijas kods | B16: Rādītājs (materiāla/izejvielas nosaukums, atlīdzība un citi izmaksu veidi) | E16: Izmaksu apjoms noteiktā laikposmā viena maksas pakalpojuma veida nodrošināšanai
A17: 1 | B17: 2 | E17: 3
B18: Tiešās izmaksas
A19: 1100 | B19: Atalgojums | D19: 10.62 | E19: =5.49*30 -> 164.7
A20: 1200 | B20: Darba devēja valsts sociālās apdrošināšanas obligātās iemaksas, pabalsti un kompensācijas | D20: 2.51 | E20: 38.85
A21: 2223 | B21: Izdevumi par elektroenerģiju | E21: =0.14*30 -> 4.2
A22: 2311 | B22: Biroja preces | E22: =0.22*30 -> 6.6
A23: 2312 | B23: Inventārs | E23: =0.06*30 -> 1.8
A24: 2321 | B24: Kurināmais | E24: =0.16*30 -> 4.8
A25: 2341 | B25: Zāles, ķimikālijas, laboratorijas preces | D25: 0.31 | E25: =0.11*30 -> 3.3
A26: 2350 | B26: Iestāžu uzturēšanas materiāli un preces | D26: 0.04 | E26: =0.11*30 -> 3.3
A27: 5239 | B27: Pārējie iepriekš neklasificētie pamatlīdzekļi un ieguldījuma īpašumi | E27: =0.42*30 -> 12.6
B28: Tiešās izmaksas kopā | D28: =SUM(D19:D26) -> 13.48 | E28: =SUM(E19:E27) -> 240.15
B29: Netiešās izmaksas
A30: 1100 | B30: Atalgojums | C30: =0.388+0.024 -> 0.412 | D30: =3.07*C30 -> 1.26484 | E30: 45.84
A31: 1200 | B31: Darba devēja valsts sociālās apdrošināšanas obligātās iemaksas, pabalsti un kompensācijas | C31: =C30*0.2359 -> 0.0971908 | D31: =D30*0.2359 -> 0.29837576 | E31: 10.81
A32: 2100 | B32: Mācību, darba un dienesta komandējumi, dienesta, darba braucieni | C32: 0.001166 | D32: =C32*3.07 -> 0.00357962 | E32: 0.07
A33: 2210 | B33: Izdevumi par sakaru pakalpojumiem | C33: 0.0076 | D33: =C33*3.07 -> 0.023332 | E33: 0.47
A34: 2222 | B34: Izdevumi par ūdensapgādi un kanalizāciju | C34: 0.0095 | D34: =C34*3.07 -> 0.029165 | E34: 0.58
A35: 2223 | B35: Izdevumi par elektroenerģiju | C35: 0.01902 | D35: =C35*3.07 -> 0.0583914 | E35: 1.17
A36: 2224 | B36: Izdevumi par atkritumu savākšanu, izvešanu no apdzīvotām vietām un teritorijām ārpus apdzīvotām vietām un atkritumu utilizāciju | C36: 0.00495 | D36: =C36*3.07 -> 0.0151965 | E36: 0.3
A37: 2231 | B37: Izdevumi iestādes sabiedrisko aktivitāšu īstenošanai | C37: 0.00155 | D37: =C37*3.07 -> 0.0047585 | E37: 0.1
A38: 2235 | B38: Izdevumi par saņemtajiem mācību pakalpojumiem | C38: 0.00165 | D38: =C38*3.07 -> 0.0050655 | E38: 0.1
A39: 2239 | B39: Pārējie neklasificētie pakalpojumi | C39: 0.00441 | D39: =C39*3.07 -> 0.0135387 | E39: 0.27
A40: 2241 | B40: Ēku, būvju un telpu būvdarbi | C40: 0.0165 | D40: =C40*3.07 -> 0.050655 | E40: 1.01
A41: 2242 | B41: Transportlīdzekļu uzturēšana un remonts | C41: 0.00226 | D41: =C41*3.07 -> 0.0069382 | E41: 0.14
A42: 2243 | B42: Iekārtas, inventāra un aparatūras remonts, tehniskā apkalpošana | C42: 0.0326 | D42: =C42*3.07 -> 0.100082 | E42: 2
A43: 2244 | B43: Nekustamā īpašuma uzturēšana | C43: 0.20397 | D43: =C43*3.07 -> 0.6261879 | E43: =12.52+1.57 -> 14.09
A44: 2247 | B44: Apdrošināšanas izdevumi | C44: 0.000719 | D44: =C44*3.07 -> 0.00220733 | E44: 0.04
A45: 2249 | B45: Pārējie remontdarbu un iestāžu uzturēšanas pakalpojumi | C45: 0.000232 | D45: =C45*3.07 -> 0.00071224 | E45: 0.01
A46: 2250 | B46: Informācijas tehnoloģiju pakalpojumi | C46: 0.024026 | D46: =C46*3.07 -> 0.07375982 | E46: 1.48
A47: 2261 | B47: Ēku, telpu īre un noma | C47: 0 | D47: =C47*3.07 -> 0 | E47: 0
A48: 2262 | B48: Transportlīdzekļu noma | C48: 0.00626 | D48: =C48*3.07 -> 0.0192182 | E48: 0.38
A49: 2263 | B49: Zemes noma | C49: 0.0458 | D49: =C49*3.07 -> 0.140606 | E49: 2.81
A50: 2264 | B50: Iekārtu, aparatūras un inventāra īre un noma | C50: 0.00149 | D50: =C50*3.07 -> 0.0045743 | E50: 0.09
A51: 2311 | B51: Biroja preces | C51: 0.00477 | D51: =C51*3.07 -> 0.0146439 | E51: 0.29
A52: 2312 | B52: Inventārs | C52: 0.00579 | D52: =C52*3.07 -> 0.0177753 | E52: 0.36
A53: 2313 | B53: Darba aizsardzības līdzekļi | E53: 0.06
A54: 2314 | B54: Izdevumi par precēm iestādes sabiedrisko aktivitāšu īstenošanai | C54: 0.00222 | D54: =C54*3.07 -> 0.0068154 | E54: 0.08
A55: 2321 | B55: Kurināmais | C55: 0.0198 | D55: =C55*3.07 -> 0.060786 | E55: 1.22
A56: 2322 | B56: Degviela | C56: 0.0035 | D56: =C56*3.07 -> 0.010745 | E56: 0.21
A57: 2341 | B57: Zāles, ķimikālijas, laboratorijas preces | D57: =C57*3.07 -> 0 | E57: 0
A58: 2350 | B58: Iestāžu uzturēšanas materiāli un preces | C58: 0.0085 | D58: =C58*3.07 -> 0.026095 | E58: 0.52
A59: 2361 | B59: Mīkstais inventārs | C59: 0 | D59: =C59*3.07 -> 0 | E59: 0
A60: 2362 | B60: Virtuves inventārs, trauki un galda piederumi | C60: 0 | D60: =C60*3.07 -> 0 | E60: 0
A61: 2363 | B61: Ēdināšanas izdevumi | C61: 0 | D61: =C61*3.07 -> 0 | E61: 0
A62: 2370 | B62: Mācību līdzekļi un materiāli | C62: 0 | D62: =C62*3.07 -> 0 | E62: 0
A63: 2400 | B63: Izdevumi periodikas iegādei | C63: 0 | D63: =C63*3.07 -> 0 | E63: 0
A64: 2512 | B64: Budžeta iestāžu pievienotās vērtības nodokļa maksājumi | C64: 0 | D64: =C64*3.07 -> 0 | E64: 0
A65: 2513 | B65: Budžeta iestāžu nekustamā īpašuma nodokļa maksājumi | C65: 0.00146 | D65: =C65*3.07 -> 0.0044822 | E65: 0.09
A66: 2515 | B66: Budžeta iestāžu dabas resursu nodokļa maksājumi | C66: 0.0019 | D66: =C66*3.07 -> 0.005833 | E66: 0.12
A67: 2519 | B67: Pārējie budžeta iestāžu pārskaitītie nodokļi un nodevas | C67: 0.002 | D67: =C67*3.07 -> 0.00614 | E67: 0.12
A68: 5220 | B68: Tehnoloģiskās iekārtas un mašīnas | C68: 0.0106 | D68: =C68*3.07 -> 0.032542 | E68: 0.65
A69: 5238 | B69: Datortehnika, sakaru un cita biroja tehnika | C69: 0.00165 | D69: =C69*3.07 -> 0.0050655 | E69: 0.11
... A71: 5250 | B71: Kapitālais remonts un rekonstrukcija | C71: 0.025 | D71: =C71*3.07 -> 0.07675 | E71: 1.54
B72: Netiešās izmaksas kopā | C72: =SUM(C30:C71) -> 0.9998838 | D72: =SUM(D30:D71) -> 3.0696433 | E72: =SUM(E30:E71) -> 88.35
B73: Pakalpojumu izmaksas kopā | D73: =D28+D72 -> 16.549643 | E73: =E28+E72 -> 328.5
A75: Maksas pakalpojuma vienību skaits noteiktā laikposmā (gab.) | E75: 30
A76: Maksas pakalpojuma izcenojums (euro) | E76: =E73/E75 -> 10.95
A78: Prognozētais maksas pakalpojumu skaits gadā (gab.)*
A79: Prognozētie ieņēmumi gadā (euro)*
A81: Piezīme. *Ailes neaizpilda, ja izvēlētais laikposms ir viens gads.
A83: Aprēķinu sastādīja: SIVA Finanšu nodaļas finanšu ekonomiste E.Lipiņa

Sheet 11.9.3.
E1: SASKAŅOTS
B2: Sociālās integrācijas valsts aģentūras
E3: direktore I.Jurševska
E5: 2022. gada
A7: Maksas pakalpojuma izcenojuma aprēķins
A9: Sociālās integrācijas valsts aģentūra
A10: Publiskā pakalpojuma veids:
B11: 11. Pārējie maksas pakalpojumi
B12: 11.9. Psihologa pakalpojumi
B13: 11.9.3. Psihologa nodarbība individuāli
A14: Laikposms | B14: 2022.gadā un turpmāk
A16: Izdevumu klasifikācijas kods | B16: Rādītājs (materiāla/izejvielas nosaukums, atlīdzība un citi izmaksu veidi) | E16: Izmaksu apjoms noteiktā laikposmā viena maksas pakalpojuma veida nodrošināšanai
A17: 1 | B17: 2 | E17: 3
B18: Tiešās izmaksas
A19: 1100 | B19: Atalgojums | D19: 10.62 | E19: =9.6*10 -> 96
A20: 1200 | B20: Darba devēja valsts sociālās apdrošināšanas obligātās iemaksas, pabalsti un kompensācijas | D20: 2.51 | E20: 22.65
A21: 2223 | B21: Izdevumi par elektroenerģiju | E21: =0.16*10 -> 1.6
A22: 2311 | B22: Biroja preces | E22: =0.22*10 -> 2.2
A23: 2312 | B23: Inventārs | E23: =0.02*10 -> 0.2
A24: 2321 | B24: Kurināmais | E24: =0.2*10 -> 2
A25: 2341 | B25: Zāles, ķimikālijas, laboratorijas preces | D25: 0.31 | E25: =0.11*10 -> 1.1
A26: 2350 | B26: Iestāžu uzturēšanas materiāli un preces | D26: 0.04 | E26: =0.11*10 -> 1.1
A27: 5239 | B27: Pārējie iepriekš neklasificētie pamatlīdzekļi un ieguldījuma īpašumi | E27: =0.27*10 -> 2.7
B28: Tiešās izmaksas kopā | D28: =SUM(D19:D26) -> 13.48 | E28: =SUM(E19:E27) -> 129.55
B29: Netiešās izmaksas
A30: 1100 | B30: Atalgojums | C30: =0.388+0.024 -> 0.412 | D30: =3.07*C30 -> 1.26484 | E30: 23.63
A31: 1200 | B31: Darba devēja valsts sociālās apdrošināšanas obligātās iemaksas, pabalsti un kompensācijas | C31: =C30*0.2359 -> 0.0971908 | D31: =D30*0.2359 -> 0.29837576 | E31: 5.57
A32: 2100 | B32: Mācību, darba un dienesta komandējumi, dienesta, darba braucieni | C32: 0.001166 | D32: =C32*3.07 -> 0.00357962 | E32: 0.04
A33: 2210 | B33: Izdevumi par sakaru pakalpojumiem | C33: 0.0076 | D33: =C33*3.07 -> 0.023332 | E33: 0.24
A34: 2222 | B34: Izdevumi par ūdensapgādi un kanalizāciju | C34: 0.0095 | D34: =C34*3.07 -> 0.029165 | E34: 0.3
A35: 2223 | B35: Izdevumi par elektroenerģiju | C35: 0.01902 | D35: =C35*3.07 -> 0.0583914 | E35: 0.6
A36: 2224 | B36: Izdevumi par atkritumu savākšanu, izvešanu no apdzīvotām vietām un teritorijām ārpus apdzīvotām vietām un atkritumu utilizāciju | C36: 0.00495 | D36: =C36*3.07 -> 0.0151965 | E36: 0.15
A37: 2231 | B37: Izdevumi iestādes sabiedrisko aktivitāšu īstenošanai | C37: 0.00155 | D37: =C37*3.07 -> 0.0047585 | E37: 0.05
A38: 2235 | B38: Izdevumi par saņemtajiem mācību pakalpojumiem | C38: 0.00165 | D38: =C38*3.07 -> 0.0050655 | E38: 0.05
A39: 2239 | B39: Pārējie neklasificētie pakalpojumi | C39: 0.00441 | D39: =C39*3.07 -> 0.0135387 | E39: 0.14
A40: 2241 | B40: Ēku, būvju un telpu būvdarbi | C40: 0.0165 | D40: =C40*3.07 -> 0.050655 | E40: 0.52
A41: 2242 | B41: Transportlīdzekļu uzturēšana un remonts | C41: 0.00226 | D41: =C41*3.07 -> 0.0069382 | E41: 0.07
