Workbook
Name _1_2_d_NMP_lim: #REF!
Name _1_2_d_NMP_lim: #REF!
Name aa: #REF!
Name aa: #REF!
Name b: #REF!
Name b: #REF!
Name bt: #REF!
Name bt: #REF!
Name BX: #REF!
Name BX: #REF!
Name CalendarYear: #REF!
Name CalendarYear: #REF!
Name ccc: #REF!
Name ccc: #REF!
Name d: #REF!
Name d: #REF!
Name D_Evija3: #REF!
Name D_Evija3: #REF!
Name DaysAndWeeks: {0,1,2,3,4,5,6} + {0;1;2;3;4;5}*7
Name DaysAndWeeks: {0,1,2,3,4,5,6} + {0;1;2;3;4;5}*7
Name de: #REF!
Name de: #REF!
Name dff: #NAME?
Name DRGNAMES: #REF!
Name DRGNAMES: #REF!
Name e: #REF!
Name e: #REF!
Name ee: #REF!
Name ee: #REF!
Name Excel_BuiltIn__FilterDatabase_2: #REF!
Name Excel_BuiltIn__FilterDatabase_2: #REF!
Name Excel_BuiltIn__FilterDatabase_3: #REF!
Name Excel_BuiltIn__FilterDatabase_3: #REF!
Name Excel_BuiltIn_Print_Titles_2: #REF!
Name Excel_BuiltIn_Print_Titles_2: #REF!
Name Excel_BuiltIn_Print_Titles_3: #REF!
Name Excel_BuiltIn_Print_Titles_3: #REF!
Name gad_skaits: #REF!
Name gad_skaits: #REF!
Name gad_skaits_1: #REF!
Name gad_skaits_1: #REF!
Name gala: {0,1,2,3,4,5,6} + {0;1;2;3;4;5}*7
Name Gala_kopsavilkums: #REF!
Name gggg: #REF!
Name gggg: #REF!
Name ghy: #REF!
Name ghy: #REF!
Name h: #REF!
Name h: #REF!
Name hh: #REF!
Name hh: #REF!
Name hjh: #REF!
Name hjh: #REF!
Name hyh: #REF!
Name hyh: #REF!
Name i: #REF!
Name i: #REF!
Name izm.kods: #REF!
Name izm.kods: #REF!
Name izm.kods_1: [2]izm.posteni!$A$2:$A$216

Sheet Apkopojums
E1: 1.Pielikums Ministru kabineta rīkojuma “Par finanšu līdzekļu piešķiršanu no valsts budžeta programmas “Līdzekļi neparedzētiem gadījumiem”” projekta sākotnējās ietekmes novērtējuma ziņojumam (anotācijai)
A2: Papildus nepieciešamais finansējums veselības aprūpes pakalpojumu nepārtrauktības nodrošināšanai 2026. gadā
A3: Pasākums | B3: Pakalpojumu pieejamība | C3: Aprēķina pamatojums | D3: Periods | E3: Faktiski veiktais pakalpojumu/pacientu skaits 2026. gada 6 mēnešos | F3: Faktiski veiktais pakalpojumu/pacientu skaits 2026. gada 6 mēnešos (mērvienība) | G3: Papildus nepieciešams finansējums 2026. gada 6 mēnešiem pārstrādes segšanai, EUR
A4: 1.DRG fiksētais maksājums | B4: Esošais pakalpojumu apjoms | C4: 2026_6M izpildes | D4: 01.01.2026.-30.06.2026. | E4: =DRG!H18 -> 584 | F4: pacientu skaits | G4: =DRG!I18 -> 601513
A5: 2.Maksājums pa pakalpojumu programmām | B5: Esošais pakalpojumu apjoms | C5: 2026_6M izpildes | D5: 01.01.2026.-30.06.2026. | E5: ='Pakalpojumu programmas'!H101 -> 2594 | F5: pacientu skaits | G5: ='Pakalpojumu programmas'!I101 -> 6560381.5
A6: 3.Piemaksājamās manipulācijas | B6: Esošais pakalpojumu apjoms (daļēji) | C6: 2026_6M izpildes | D6: 01.01.2026.-30.06.2026. | F6: manipulāciju skaits | G6: ='Piemaksājamās manipulācijas'!F167 -> 2394690
A7: 4.MK noteikumu Nr.555 7.pielikums (atbilstoši rēķiniem) | B7: Esošais pakalpojumu apjoms | C7: 2026_6M izpildes | D7: 01.01.2026.-30.06.2026. | F7: pacientu skaits | G7: ='MK 555 7. pielikuma rēķini'!E11 -> 443415
G8: =SUM(G4:G7) -> 9999999.5

Sheet DRG
F1: 2.pielikums Ministru kabineta rīkojuma “Par finanšu līdzekļu piešķiršanu no valsts budžeta programmas “Līdzekļi neparedzētiem gadījumiem”” projekta sākotnējās ietekmes novērtējuma ziņojumam (anotācijai)
A2: 1.DRG fiksētais maksājums
A4: Pakalpojumu programmas nosaukums | B4: Plānotais pacientu skaits 2026 | C4: Plānotais finansējums 2026, EUR | D4: Plānotais pacientu skaits 2026_6M | E4: Plānotais finansējums 2026_6M, EUR | F4: Pacientu skaita izpilde 2026_6M | G4: Finansējuma izpilde 2026_6M, EUR | H4: Pacientu skaits 2026. gada 6 mēnešos | I4: Papildus nepieciešams finansējums 2026. gada 6 mēnešiem, EUR
A5: 01. DRG fiksētais maksājums | B5: 463 | C5: 386474 | D5: 232 | E5: 193654 | F5: 243 | G5: 202836 | H5: =F5-D5 -> 11 | I5: =G5-E5 -> 9182
A6: 01. DRG fiksētais maksājums | B6: 3541 | C6: 2485546 | D6: 1771 | E6: 1243124 | F6: 1815 | G6: 1274009 | H6: =F6-D6 -> 44 | I6: =G6-E6 -> 30885
A7: 01. DRG fiksētais maksājums | B7: 1845 | C7: 1687722 | D7: 923 | E7: 844318 | F7: 941 | G7: 860784 | H7: =F7-D7 -> 18 | I7: =G7-E7 -> 16466
A8: 01. DRG fiksētais maksājums | B8: 1752 | C8: 1310838 | D8: 876 | E8: 655419 | F8: 911 | G8: 681606 | H8: =F8-D8 -> 35 | I8: =G8-E8 -> 26187
A9: 01. DRG fiksētais maksājums | B9: 3603 | C9: 2779953 | D9: 1802 | E9: 1390363 | F9: 1879 | G9: 1449773 | H9: =F9-D9 -> 77 | I9: =G9-E9 -> 59410
A10: 01. DRG fiksētais maksājums | B10: 363 | C10: 273077 | D10: 182 | E10: 136914 | F10: 211 | G10: 158730 | H10: =F10-D10 -> 29 | I10: =G10-E10 -> 21816
A11: 01. DRG fiksētais maksājums | B11: 22 | C11: 14134 | D11: 11 | E11: 7067 | F11: 14 | G11: 8995 | H11: =F11-D11 -> 3 | I11: =G11-E11 -> 1928
A12: 01. DRG fiksētais maksājums | B12: 285 | C12: 197724 | D12: 143 | E12: 99209 | F12: 148 | G12: 102678 | H12: =F12-D12 -> 5 | I12: =G12-E12 -> 3469
A13: 01. DRG fiksētais maksājums | B13: 8203 | C13: 8122850 | D13: 4102 | E13: 4061920 | F13: 4129 | G13: 4088657 | H13: =F13-D13 -> 27 | I13: =G13-E13 -> 26737
A14: 01. DRG fiksētais maksājums | B14: 2296 | C14: 2484533 | D14: 1148 | E14: 1242267 | F14: 1300 | G14: 1406748 | H14: =F14-D14 -> 152 | I14: =G14-E14 -> 164481
A15: 01. DRG fiksētais maksājums | B15: 226 | C15: 208742 | D15: 113 | E15: 104371 | F15: 142 | G15: 131157 | H15: =F15-D15 -> 29 | I15: =G15-E15 -> 26786
A16: 01. DRG fiksētais maksājums | B16: 632 | C16: 515957 | D16: 316 | E16: 257978 | F16: 331 | G16: 270224 | H16: =F16-D16 -> 15 | I16: =G16-E16 -> 12246
A17: 01. DRG fiksētais maksājums | B17: 4267 | C17: 6198525 | D17: 2134 | E17: 3099989 | F17: 2273 | G17: 3301909 | H17: =F17-D17 -> 139 | I17: =G17-E17 -> 201920
H18: =SUM(H5:H17) -> 584 | I18: =SUM(I5:I17) -> 601513

Sheet Pakalpojumu programmas
F1: 3.pielikums Ministru kabineta rīkojuma “Par finanšu līdzekļu piešķiršanu no valsts budžeta programmas “Līdzekļi neparedzētiem gadījumiem”” projekta sākotnējās ietekmes novērtējuma ziņojumam (anotācijai)
A2: 2.Maksājums pa veselības aprūpes stacionārajām pakalpojumu programmām
A4: Pakalpojumu programmas nosaukums | B4: Plānotais pacientu skaits 2026 | C4: Plānotais finansējums 2026, EUR | D4: Plānotais pacientu skaits 2026_6M | E4: Plānotais finansējums 2026_6M, EUR | F4: Pacientu skaita izpilde 2026_6M | G4: Finansējuma izpilde 2026_6M, EUR | H4: Pacientu skaits 2026. gada 6 mēnešos | I4: Papildus nepieciešams finansējums 2026. gada 6 mēnešiem, EUR
A5: Hronisko pacientu aprūpe no 15. ārstēšanās dienas vai aprūpes turpināšana pēc akūta ārstēšanas perioda iestādes ietvaros | B5: 50 | C5: 35150 | D5: 25 | E5: 17693 | F5: 29 | G5: 23394 | H5: =F5-D5 -> 4 | I5: =G5-E5 -> 5701
A6: Hronisko pacientu aprūpe no 15. ārstēšanās dienas vai aprūpes turpināšana pēc akūta ārstēšanas perioda iestādes ietvaros | B6: 41 | C6: 38469 | D6: 21 | E6: 19661 | F6: 40 | G6: 30641 | H6: =F6-D6 -> 19 | I6: =G6-E6 -> 10980
A7: Pakalpojumi aprūpes slimnīcā vai aprūpes gultā | B7: 76 | C7: 44406 | D7: 38 | E7: 22203 | F7: 46 | G7: 26877 | H7: =F7-D7 -> 8 | I7: =G7-E7 -> 4674
A8: Hronisko pacientu aprūpe ar ārstēšanās ilgumu līdz 14 gultasdienām | B8: 548 | C8: 410588 | D8: 274 | E8: 205295 | F8: 289 | G8: 216533 | H8: =F8-D8 -> 15 | I8: =G8-E8 -> 11238
A9: Psihiatriskā palīdzība bērniem | B9: 306 | C9: 747433 | D9: 153 | E9: 373716 | F9: 194 | G9: 473862 | H9: =F9-D9 -> 41 | I9: =G9-E9 -> 100146
A10: Gūžas locītavas endoprotezēšana ar cementējamu endoprotēzi | B10: 52 | C10: 151518 | D10: 26 | E10: 75759 | F10: 32 | G10: 93242 | H10: =F10-D10 -> 6 | I10: =G10-E10 -> 17483
A11: Narkoloģija | B11: 825 | C11: 543865 | D11: 413 | E11: 272262 | F11: 562 | G11: 370487 | H11: =F11-D11 -> 149 | I11: =G11-E11 -> 98225
A12: Neiroloģija (insulta vienība) | B12: 322 | C12: 640648 | D12: 161 | E12: 320324 | F12: 181 | G12: 360116 | H12: =F12-D12 -> 20 | I12: =G12-E12 -> 39792
A13: Paliatīvā aprūpe | B13: 719 | C13: 1073345 | D13: 360 | E13: 537419 | F13: 394 | G13: 588175 | H13: =F13-D13 -> 34 | I13: =G13-E13 -> 50756
A14: Tuberkulozes diagnostika un ārstēšana | B14: 26 | C14: 214056 | D14: 13 | E14: 107028 | F14: 15 | G14: 123494 | H14: =F14-D14 -> 2 | I14: =G14-E14 -> 16466
A15: Ceļa locītavas endoprotezēšana | B15: 0 | C15: 0 | D15: 0 | E15: 0 | F15: 3 | G15: 11159 | H15: =F15-D15 -> 3 | I15: =G15-E15 -> 11159
A16: Diennakts stacionārā sniedzamie otrā etapa medicīniskās rehabilitācijas pakalpojumi pieaugušajiem | B16: 20 | C16: 49502 | D16: 10 | E16: 24751 | F16: 33 | G16: 46372 | H16: =F16-D16 -> 23 | I16: =G16-E16 -> 21621
... A100: Neiroloģija (insulta vienība) | B100: 196 | C100: 389960 | D100: 98 | E100: 194980 | F100: 100 | G100: 198959 | H100: =F100-D100 -> 2 | I100: =G100-E100 -> 3979
H101: =SUM(H5:H100) -> 2594 | I101: =SUM(I5:I100) -> 6560381.5

Sheet Piemaksājamās manipulācijas
D1: 4.pielikums Ministru kabineta rīkojuma “Par finanšu līdzekļu piešķiršanu no valsts budžeta programmas “Līdzekļi neparedzētiem gadījumiem”” projekta sākotnējās ietekmes novērtējuma ziņojumam (anotācijai)
A2: Pie pamata gadījuma piemaksājamo manipulācijas apmaksai Piemaksājamās manipulācijas
A4: Pakalpojumu programmas nosaukums | B4: Plānotais finansējums 2026, EUR | C4: Plānotais finansējums 2026_6M, EUR | D4: Finansējuma izpilde 2026_6M, EUR | E4: Finnasējuma starpība, EUR | F4: Papildus nepieciešams finansējums daļējai 2026. gada 6 mēnešu pārstrādei, EUR*
A5: Piemaksa par papildus speciālistu darbu rehabilitācijas komandā (par katru dienu) | B5: 29895 | C5: 14948 | D5: 32921 | E5: =D5-C5 -> 17973 | F5: 5763
A6: Rehabilitācijas komandas darbs psihiatrijas iestādē | B6: 6048 | C6: 3024 | D6: 9180 | E6: =D6-C6 -> 6156 | F6: 1974
A7: Akūtā rehabilitācija jaukta profila gultās | B7: 7699 | C7: 3850 | D7: 6024 | E7: =D7-C7 -> 2174 | F7: 697
A8: E.Coli diagnostika | B8: 0 | C8: 0 | D8: 257 | E8: =D8-C8 -> 257 | F8: 82
A9: Akūtā rehabilitācija jaukta profila gultās | B9: 9226 | C9: 4613 | D9: 6670 | E9: =D9-C9 -> 2057 | F9: 660
A10: Intensīvā terapija | B10: 96911 | C10: 48456 | D10: 63399 | E10: =D10-C10 -> 14943 | F10: 4791
A11: Akūtā rehabilitācija jaukta profila gultās | B11: 25793 | C11: 12897 | D11: 35466 | E11: =D11-C11 -> 22569 | F11: 7236
A12: Trombolīzes | B12: 13156 | C12: 6578 | D12: 10649 | E12: =D12-C12 -> 4071 | F12: 1305
A13: Ultrasonogrāfija, dupleksskenēšana pacientiem līdz 18 gadu vecumam | B13: 0 | C13: 0 | D13: 218 | E13: =D13-C13 -> 218 | F13: 70
A14: Akūtā rehabilitācija jaukta profila gultās | B14: 3124 | C14: 1562 | D14: 1819 | E14: =D14-C14 -> 257 | F14: 82
A15: Hemodialīzes | B15: 8540 | C15: 4270 | D15: 4383 | E15: =D15-C15 -> 113 | F15: 36
A16: Akūtā rehabilitācija jaukta profila gultās | B16: 27588 | C16: 13794 | D16: 14465 | E16: =D16-C16 -> 671 | F16: 215
... A166: Trombolīzes | B166: 28944 | C166: 14472 | D166: 20070 | E166: =D166-C166 -> 5598 | F166: 1795
F167: =SUM(F5:F166) -> 2394690
A170: *Ņemot vērā finansējuma plānošanas prioritātes, piemaksājamo manipulāciju apmaksai finansējums paredzēts mazākā apmērā, prioritāri nodrošinot pārstrādāto pamata gadījumu pilnīgu apmaksu.

Sheet MK 555 7. pielikuma rēķini
C1: 5.pielikums Ministru kabineta rīkojuma “Par finanšu līdzekļu piešķiršanu no valsts budžeta programmas “Līdzekļi neparedzētiem gadījumiem”” projekta sākotnējās ietekmes novērtējuma ziņojumam (anotācijai)
A2: Atbilstoši MK noteikumu Nr.555 7.pielikumam noteikto medicīnisko ierīču un implantējamo materiālu faktiski sniegtais apjoms 2026. gada 6 mēnešos (atbilstoši saņemtajiem rēķiniem)
A4: Pakalpojumu programmas nosaukums | B4: Plānotais finansējums 2026, EUR | C4: Plānotais finansējums 2026_6M, EUR | D4: Finansējuma izpilde 2026_6M, EUR | E4: Papildus nepieciešams finansējums 2026. gada 6 mēnešiem, EUR
A5: Medicīniskās ierīces, lai nodrošinātu endovaskulāru trombektomiju no precerebrālām un cerebrālām artērijām (7.p.) PSKUS, RAKUS, DRS | B5: 152346 | C5: 76173 | D5: 133009 | E5: =D5-C5 -> 56836
A6: Medicīniskās ierīces, lai nodrošinātu endovaskulāru trombektomiju no precerebrālām un cerebrālām artērijām (7.p.) PSKUS, RAKUS, DRS | B6: 986086 | C6: 493043 | D6: 587383 | E6: =D6-C6 -> 94340
A7: Dziļās smadzeņu stimulāciju komplekti (2.1.p.) PSKUS | B7: 18695 | C7: 9348 | D7: 18695 | E7: =D7-C7 -> 9347
A8: Perfūzijas komplekts (2.2.p. un 2.3.p.) PSKUS | B8: 23755 | C8: 11878 | D8: 19546 | E8: =D8-C8 -> 7668
A9: Medicīniskās ierīces, lai nodrošinātu endovaskulāru trombektomiju no precerebrālām un cerebrālām artērijām (7.p.) PSKUS, RAKUS, DRS | B9: 104272 | C9: 52136 | D9: 152102 | E9: =D9-C9 -> 99966
A10: Lielo locītavu endoprotēzes, endoprotēžu daļas, implanti pacientiem (1.1.p.) TOS | B10: 2150579 | C10: 1075290 | D10: 1250548 | E10: =D10-C10 -> 175258
E11: =SUM(E5:E10) -> 443415
