Workbook
Name Recover: [1]Macro1!$A$99
Name Rikojums2222: [2]Macro1!$A$106
Name TableName: "Dummy"

Sheet Kopsavilkums
C1: Pielikums Nr.48 Ministru kabineta rīkojuma "Par finanšu līdzekļu piešķiršanu no valsts budžeta programmas "Līdzekļi neparedzētiem gadījumiem"" projekta sākotnējās ietekmes novērtējuma ziņojumam (anotācijai)
B3: Marts un februāris (daļa) | C3: EUR | D3: EKK 3000 | E3: EKK 7472 | F3: 09.02.2022. MK rīk.nr.81
B4: Izmaksas par Covid 19 izmeklējumiem | C4: =C10+C7+C5 -> 29400058 | D4: =D10+D7+D5 -> 28664652 | E4: =E10+E7+E5 -> 735406
B5: AMBULATORIE PAKALPOJUMI | C5: =SUM(C6:C6) -> 47497 | D5: =SUM(D6:D6) -> 47497 | E5: =SUM(E6:E6) -> 0
B6: COVID-19 ātrie testi (ambulatorā daļa) | C6: ='ātrie testi_amb_daļa'!G17 -> 47497 | D6: =C6 -> 47497 | E6: 0 | F6: 1.1.1.
B7: STACIONĀRIE PAKALPOJUMI | C7: =SUM(C8:C8) -> 290088 | D7: =SUM(D8:D8) -> 290088 | E7: =SUM(E8:E8) -> 0
B8: COVID-19 ātrie testi (stacionārā daļa) | C8: ='ātrie testi_stac_daļa'!K51 -> 290088 | D8: =C8 -> 290088 | E8: 0 | F8: 1.1.1.
B9: Izmaksas par Covid 19 izmeklējumiem
B10: LABORATORISKIE PAKALPOJUMI | C10: =SUM(C11,C28) -> 29062473 | D10: =SUM(D11,D28) -> 28327067 | E10: =SUM(E11,E28) -> 735406
B11: Covid-19 pakalpojumu programma laboratorijām | C11: =SUM(C12:C27) -> 28796746 | D11: =SUM(D12:D27) -> 28061340 | E11: =SUM(E12:E27) -> 735406
B12: Rīgas Austrumu klīniskā universitātes slimnīca, SIA | C12: =Covid_pakalp_progr!H16 -> 366994 | D12: =C12 -> 366994 | E12: 0 | F12: 1.1.1.
B13: Pārtikas drošības, dzīvnieku veselības un vides zinātniskais institūts "BIOR" | C13: =Covid_pakalp_progr!H25 -> 735406 | D13: 0 | E13: =C13 -> 735406 | F13: 1.1.1.
B14: „Centrālā laboratorija” SIA | C14: =Covid_pakalp_progr!H62 -> 5911273 | D14: =C14 -> 5911273 | E14: 0 | F14: 1.1.1.
B15: „Centrālā laboratorija” SIA (februāris) | C15: =D15 -> 13176872 | D15: =Covid_pakalp_progr!H78 -> 13176872 | E15: 0 | F15: 1.1.1.
B16: “E. Gulbja Laboratorija” SIA | C16: =Covid_pakalp_progr!H89 -> 4224530 | D16: =C16 -> 4224530 | E16: 0 | F16: 1.1.1.
B17: “E. Gulbja Laboratorija” SIA (februāris) | C17: =D17 -> 1708024 | D17: =Covid_pakalp_progr!H95 -> 1708024 | E17: 0 | F17: 1.1.1.
B18: Dziedniecība, SIA | C18: =Covid_pakalp_progr!H39 -> 1999078 | D18: =C18 -> 1999078 | E18: 0 | F18: 1.1.1.
B19: NMS Laboratorija, SIA | C19: =Covid_pakalp_progr!H47 -> 183372 | D19: =C19 -> 183372 | E19: 0 | F19: 1.1.1.
B20: iVF Riga, SIA | C20: =Covid_pakalp_progr!H120 -> 85140 | D20: =C20 -> 85140 | E20: 0 | F20: 1.1.1.
B21: Biocon, SIA | C21: =Covid_pakalp_progr!H109 -> 33413 | D21: =C21 -> 33413 | E21: 0 | F21: 1.1.1.
B22: Paula Stradiņa klīniskā universitātes slimnīca, VSIA | C22: =Covid_pakalp_progr!H103 -> 97343 | D22: =C22 -> 97343 | E22: 0 | F22: 1.1.1.
B23: „Veselības centrs 4” SIA | C23: =Covid_pakalp_progr!H128 -> 138892 | D23: =C23 -> 138892 | E23: 0 | F23: 1.1.1.
B24: Sendito, SIA | C24: =Covid_pakalp_progr!H143 -> 27325 | D24: =C24 -> 27325 | E24: 0 | F24: 1.1.1.
B25: Alūksnes slimnīca, SIA | C25: =Covid_pakalp_progr!H148 -> 1284 | D25: =C25 -> 1284 | E25: 0 | F25: 1.1.1.
B26: Ogres rajona slimnīca, SIA | C26: =Covid_pakalp_progr!H156 -> 31148 | D26: =C26 -> 31148 | E26: 0 | F26: 1.1.1.
B27: Ziemeļkurzemes reģionālā slimnīca, SIA | C27: =Covid_pakalp_progr!H135 -> 76652 | D27: =C27 -> 76652 | E27: 0 | F27: 1.1.1.
B28: Citas saistītās Covid-19 izmeklējumu izmaksas | C28: =SUM(C29:C31) -> 265727 | D28: =SUM(D29:D31) -> 265727 | E28: =SUM(E29:E30) -> 0
B29: Rīgas Austrumu klīniskā universitātes slimnīca SIA (11.pielikums: antivielas un ātrā diagnostika ar Multiplex reaģentiem) | C29: =RAKUS_antivielu_testi!F12 -> 40981 | D29: =C29 -> 40981 | E29: 0 | F29: 1.1.1.
B30: Rīgas Austrumu klīniskā universitātes slimnīca SIA: Sekvencēšana | C30: =Sekvencēšana!E14 -> 166892 | D30: =C30 -> 166892 | E30: 0 | F30: 1.1.1.
B31: Rīgas Austrumu klīniskā universitātes slimnīca SIA: Sekvencēšana personāla izmaksas (janvāris - marts) | C31: =D31 -> 57854 | D31: ='Sekvencēš.personāla izmaksas'!H55 -> 57854 | E31: 0 | F31: 1.1.1.

Sheet ātrie testi_stac_daļa
H1: Turpinājums pielikumam Nr.48 Ministru kabineta rīkojuma "Par finanšu līdzekļu piešķiršanu no valsts budžeta programmas "Līdzekļi neparedzētiem gadījumiem"" projekta sākotnējās ietekmes novērtējuma ziņojumam (anotācijai)
A2: COVID-19 diagnostikas manipulācijas (ātrie testi, stacionārā daļa)*
A3: Ārstniecības iestādes nosaukums | B3: Manipulācijas kods | C3: Manupulācijas nosaukums | D3: Tarifs, EUR | E3: Manipulāciju skaits | K3: Summa, euro
E4: Septembris, 2021 | F4: Novembris, 2021 | G4: Decembris, 2021 | H4: Janvāris, 2022 | I4: Februāris, 2022 | J4: Marts, 2022
A5: Aizkraukles slimnīca | B5: 47268 | C5: SARS-CoV-2 (COVID-19) antigēna noteikšana (Ag eksprestests) (ar reaģenta komplekta vērtību) | D5: 5.28 | I5: 1 | J5: 18 | K5: =ROUND(D5*E5+D5*F5+D5*G5+D5*H5+D5*I5+D5*J5,2) -> 100.32
A6: Alūksnes slimnīca | B6: 47268 | C6: SARS-CoV-2 (COVID-19) antigēna noteikšana (Ag eksprestests) (ar reaģenta komplekta vērtību) | D6: 5.28 | H6: 1 | I6: 35 | J6: 191 | K6: =ROUND(D6*E6+D6*F6+D6*G6+D6*H6+D6*I6+D6*J6,2) -> 1198.56
A7: Balvu un Gulbenes slimnīcu apvienība | B7: 47328 | C7: SARS-CoV-2 (COVID-19) antigēna noteikšana (Ag eksprestests) (bez reaģenta komplekta vērtības) | D7: 3.83 | I7: 29 | J7: 85 | K7: =ROUND(D7*E7+D7*F7+D7*G7+D7*H7+D7*I7+D7*J7,2) -> 436.62
A8: Bauskas slimnīca | B8: 47268 | C8: SARS-CoV-2 (COVID-19) antigēna noteikšana (Ag eksprestests) (ar reaģenta komplekta vērtību) | D8: 5.28 | I8: 1 | J8: 8 | K8: =ROUND(D8*E8+D8*F8+D8*G8+D8*H8+D8*I8+D8*J8,2) -> 47.52
A9: Bērnu klīniskā universitātes slimnīca | B9: 47078 | C9: SARS-CoV-2 RNS (COVID-19) noteikšana ar reālā laika PĶR (bez parauga paņemšanas) ātrai diagnostikai un diferenciāldiagnostikai (ar reaģenta vērtību) | D9: 48.58 | H9: 1 | I9: 3 | J9: 3 | K9: =ROUND(D9*E9+D9*F9+D9*G9+D9*H9+D9*I9+D9*J9,2) -> 340.06
A10: Bērnu klīniskā universitātes slimnīca | B10: 60046 | C10: COVID-19 transporta barotne ar diviem lokaniem tamponiem ātrajam molekulārajam testam | D10: 1.5 | I10: 1 | K10: =ROUND(D10*E10+D10*F10+D10*G10+D10*H10+D10*I10+D10*J10,2) -> 1.5
A11: Cēsu klīnika | B11: 47268 | C11: SARS-CoV-2 (COVID-19) antigēna noteikšana (Ag eksprestests) (ar reaģenta komplekta vērtību) | D11: 5.28 | H11: 1 | I11: 19 | J11: 66 | K11: =ROUND(D11*E11+D11*F11+D11*G11+D11*H11+D11*I11+D11*J11,2) -> 454.08
A12: Cēsu klīnika | B12: 47268 | C12: SARS-CoV-2 (COVID-19) antigēna noteikšana (Ag eksprestests) (ar reaģenta komplekta vērtību) | D12: 9.36 | F12: 1 | K12: =ROUND(D12*E12+D12*F12+D12*G12+D12*H12+D12*I12+D12*J12,2) -> 9.36
A13: Daugavpils psihoneiroloģiskā slimnīca | B13: 47268 | C13: SARS-CoV-2 (COVID-19) antigēna noteikšana (Ag eksprestests) (ar reaģenta komplekta vērtību) | D13: 5.28 | H13: 3 | I13: 88 | J13: 61 | K13: =ROUND(D13*E13+D13*F13+D13*G13+D13*H13+D13*I13+D13*J13,2) -> 802.56
A14: Daugavpils reģionālā slimnīca | B14: 47078 | C14: SARS-CoV-2 RNS (COVID-19) noteikšana ar reālā laika PĶR (bez parauga paņemšanas) ātrai diagnostikai un diferenciāldiagnostikai (ar reaģenta vērtību) | D14: 48.58 | H14: 12 | I14: 208 | J14: 448 | K14: =ROUND(D14*E14+D14*F14+D14*G14+D14*H14+D14*I14+D14*J14,2) -> 32451.44
A15: Daugavpils reģionālā slimnīca | B15: 47268 | C15: SARS-CoV-2 (COVID-19) antigēna noteikšana (Ag eksprestests) (ar reaģenta komplekta vērtību) | D15: 5.28 | H15: 20 | I15: 268 | J15: 457 | K15: =ROUND(D15*E15+D15*F15+D15*G15+D15*H15+D15*I15+D15*J15,2) -> 3933.6
A16: Daugavpils reģionālā slimnīca | B16: 47268 | C16: SARS-CoV-2 (COVID-19) antigēna noteikšana (Ag eksprestests) (ar reaģenta komplekta vērtību) | D16: 9.36 | G16: 1 | K16: =ROUND(D16*E16+D16*F16+D16*G16+D16*H16+D16*I16+D16*J16,2) -> 9.36
A17: Dobeles un apkārtnes slimnīca | B17: 47268 | C17: SARS-CoV-2 (COVID-19) antigēna noteikšana (Ag eksprestests) (ar reaģenta komplekta vērtību) | D17: 5.28 | I17: 3 | J17: 59 | K17: =ROUND(D17*E17+D17*F17+D17*G17+D17*H17+D17*I17+D17*J17,2) -> 327.36
A18: Jelgavas pilsētas slimnīca | B18: 47078 | C18: SARS-CoV-2 RNS (COVID-19) noteikšana ar reālā laika PĶR (bez parauga paņemšanas) ātrai diagnostikai un diferenciāldiagnostikai (ar reaģenta vērtību) | D18: 48.58 | H18: 20 | I18: 191 | J18: 800 | K18: =ROUND(D18*E18+D18*F18+D18*G18+D18*H18+D18*I18+D18*J18,2) -> 49114.38
A19: Jelgavas pilsētas slimnīca | B19: 47328 | C19: SARS-CoV-2 (COVID-19) antigēna noteikšana (Ag eksprestests) (bez reaģenta komplekta vērtības) | D19: 3.83 | H19: 2 | I19: 70 | J19: 369 | K19: =ROUND(D19*E19+D19*F19+D19*G19+D19*H19+D19*I19+D19*J19,2) -> 1689.03
A20: Jēkabpils reģionālā slimnīca | B20: 47078 | C20: SARS-CoV-2 RNS (COVID-19) noteikšana ar reālā laika PĶR (bez parauga paņemšanas) ātrai diagnostikai un diferenciāldiagnostikai (ar reaģenta vērtību) | D20: 48.58 | H20: 2 | I20: 77 | J20: 464 | K20: =ROUND(D20*E20+D20*F20+D20*G20+D20*H20+D20*I20+D20*J20,2) -> 26378.94
A21: Jēkabpils reģionālā slimnīca | B21: 47268 | C21: SARS-CoV-2 (COVID-19) antigēna noteikšana (Ag eksprestests) (ar reaģenta komplekta vērtību) | D21: 5.28 | H21: 5 | I21: 78 | J21: 405 | K21: =ROUND(D21*E21+D21*F21+D21*G21+D21*H21+D21*I21+D21*J21,2) -> 2576.64
A22: Jēkabpils reģionālā slimnīca | B22: 47269 | C22: SARS-CoV-2 RNS (COVID-19) noteikšana ar reālā laika PĶR (bez parauga paņemšanas) ātrai diagnostikai un diferenciāldiagnostikai (bez reaģenta vērtības) | D22: 12.58 | I22: 2 | J22: 3 | K22: =ROUND(D22*E22+D22*F22+D22*G22+D22*H22+D22*I22+D22*J22,2) -> 62.9
A23: Jūrmalas slimnīca | B23: 47328 | C23: SARS-CoV-2 (COVID-19) antigēna noteikšana (Ag eksprestests) (bez reaģenta komplekta vērtības) | D23: 3.83 | H23: 6 | I23: 49 | J23: 256 | K23: =ROUND(D23*E23+D23*F23+D23*G23+D23*H23+D23*I23+D23*J23,2) -> 1191.13
A24: Limbažu slimnīca | B24: 47268 | C24: SARS-CoV-2 (COVID-19) antigēna noteikšana (Ag eksprestests) (ar reaģenta komplekta vērtību) | D24: 5.28 | H24: 1 | I24: 28 | J24: 63 | K24: =ROUND(D24*E24+D24*F24+D24*G24+D24*H24+D24*I24+D24*J24,2) -> 485.76
A25: Ludzas medicīnas centrs | B25: 47268 | C25: SARS-CoV-2 (COVID-19) antigēna noteikšana (Ag eksprestests) (ar reaģenta komplekta vērtību) | D25: 5.28 | H25: 1 | I25: 20 | J25: 58 | K25: =ROUND(D25*E25+D25*F25+D25*G25+D25*H25+D25*I25+D25*J25,2) -> 417.12
A26: Ogres rajona slimnīca | B26: 47268 | C26: SARS-CoV-2 (COVID-19) antigēna noteikšana (Ag eksprestests) (ar reaģenta komplekta vērtību) | D26: 5.28 | I26: 18 | J26: 140 | K26: =ROUND(D26*E26+D26*F26+D26*G26+D26*H26+D26*I26+D26*J26,2) -> 834.24
A27: Ogres rajona slimnīca | B27: 47328 | C27: SARS-CoV-2 (COVID-19) antigēna noteikšana (Ag eksprestests) (bez reaģenta komplekta vērtības) | D27: 3.83 | I27: 2 | J27: 9 | K27: =ROUND(D27*E27+D27*F27+D27*G27+D27*H27+D27*I27+D27*J27,2) -> 42.13
A28: Paula Stradiņa klīniskā universitātes slimnīca | B28: 47078 | C28: SARS-CoV-2 RNS (COVID-19) noteikšana ar reālā laika PĶR (bez parauga paņemšanas) ātrai diagnostikai un diferenciāldiagnostikai (ar reaģenta vērtību) | D28: 48.2 | G28: 1 | K28: =ROUND(D28*E28+D28*F28+D28*G28+D28*H28+D28*I28+D28*J28,2) -> 48.2
A29: Paula Stradiņa klīniskā universitātes slimnīca | B29: 47078 | C29: SARS-CoV-2 RNS (COVID-19) noteikšana ar reālā laika PĶR (bez parauga paņemšanas) ātrai diagnostikai un diferenciāldiagnostikai (ar reaģenta vērtību) | D29: 48.58 | H29: 5 | I29: 172 | J29: 600 | K29: =ROUND(D29*E29+D29*F29+D29*G29+D29*H29+D29*I29+D29*J29,2) -> 37746.66
A30: Paula Stradiņa klīniskā universitātes slimnīca | B30: 47268 | C30: SARS-CoV-2 (COVID-19) antigēna noteikšana (Ag eksprestests) (ar reaģenta komplekta vērtību) | D30: 5.28 | H30: 3 | K30: =ROUND(D30*E30+D30*F30+D30*G30+D30*H30+D30*I30+D30*J30,2) -> 15.84
A31: Paula Stradiņa klīniskā universitātes slimnīca | B31: 47268 | C31: SARS-CoV-2 (COVID-19) antigēna noteikšana (Ag eksprestests) (ar reaģenta komplekta vērtību) | D31: 9.36 | G31: 1 | K31: =ROUND(D31*E31+D31*F31+D31*G31+D31*H31+D31*I31+D31*J31,2) -> 9.36
A32: Paula Stradiņa klīniskā universitātes slimnīca | B32: 60046 | C32: COVID-19 transporta barotne ar diviem lokaniem tamponiem ātrajam molekulārajam testam | D32: 1.5 | H32: 4 | I32: 146 | J32: 600 | K32: =ROUND(D32*E32+D32*F32+D32*G32+D32*H32+D32*I32+D32*J32,2) -> 1125
A33: Preiļu slimnīca | B33: 47268 | C33: SARS-CoV-2 (COVID-19) antigēna noteikšana (Ag eksprestests) (ar reaģenta komplekta vērtību) | D33: 5.28 | I33: 1 | K33: =ROUND(D33*E33+D33*F33+D33*G33+D33*H33+D33*I33+D33*J33,2) -> 5.28
A34: Rēzeknes slimnīca | B34: 47268 | C34: SARS-CoV-2 (COVID-19) antigēna noteikšana (Ag eksprestests) (ar reaģenta komplekta vērtību) | D34: 5.28 | H34: 1 | I34: 214 | J34: 1039 | K34: =ROUND(D34*E34+D34*F34+D34*G34+D34*H34+D34*I34+D34*J34,2) -> 6621.12
A35: Rīgas 2. slimnīca | B35: 47268 | C35: SARS-CoV-2 (COVID-19) antigēna noteikšana (Ag eksprestests) (ar reaģenta komplekta vērtību) | D35: 5.28 | H35: 56 | I35: 63 | K35: =ROUND(D35*E35+D35*F35+D35*G35+D35*H35+D35*I35+D35*J35,2) -> 628.32
A36: Rīgas 2. slimnīca | B36: 47268 | C36: SARS-CoV-2 (COVID-19) antigēna noteikšana (Ag eksprestests) (ar reaģenta komplekta vērtību) | D36: 9.36 | G36: 1 | K36: =ROUND(D36*E36+D36*F36+D36*G36+D36*H36+D36*I36+D36*J36,2) -> 9.36
A37: Rīgas Austrumu klīniskā universitātes slimnīca | B37: 47078 | C37: SARS-CoV-2 RNS (COVID-19) noteikšana ar reālā laika PĶR (bez parauga paņemšanas) ātrai diagnostikai un diferenciāldiagnostikai (ar reaģenta vērtību) | D37: 48.2 | E37: 1 | F37: 1 | G37: 8 | K37: =ROUND(D37*E37+D37*F37+D37*G37+D37*H37+D37*I37+D37*J37,2) -> 482
A38: Rīgas Austrumu klīniskā universitātes slimnīca | B38: 47078 | C38: SARS-CoV-2 RNS (COVID-19) noteikšana ar reālā laika PĶR (bez parauga paņemšanas) ātrai diagnostikai un diferenciāldiagnostikai (ar reaģenta vērtību) | D38: 48.58 | H38: 36 | I38: 485 | J38: 1199 | K38: =ROUND(D38*E38+D38*F38+D38*G38+D38*H38+D38*I38+D38*J38,2) -> 83557.6
A39: Rīgas Austrumu klīniskā universitātes slimnīca | B39: 47268 | C39: SARS-CoV-2 (COVID-19) antigēna noteikšana (Ag eksprestests) (ar reaģenta komplekta vērtību) | D39: 5.28 | J39: 1 | K39: =ROUND(D39*E39+D39*F39+D39*G39+D39*H39+D39*I39+D39*J39,2) -> 5.28
A40: Rīgas Dzemdību nams | B40: 47268 | C40: SARS-CoV-2 (COVID-19) antigēna noteikšana (Ag eksprestests) (ar reaģenta komplekta vērtību) | D40: 5.28 | I40: 32 | J40: 31 | K40: =ROUND(D40*E40+D40*F40+D40*G40+D40*H40+D40*I40+D40*J40,2) -> 332.64
...

Sheet ātrie testi_amb_daļa
D1: Turpinājums pielikumam Nr.48 Ministru kabineta rīkojuma "Par finanšu līdzekļu piešķiršanu no valsts budžeta programmas "Līdzekļi neparedzētiem gadījumiem"" projekta sākotnējās ietekmes novērtējuma ziņojumam (anotācijai)
A2: COVID-19 diagnostikas manipulācijas (ātrie testi, ambulatorā daļa)
A3: Periods: marts 2022
A4: NVD TN (pakalpojumu sniedzēja) | B4: ĀI (pakalpojumu sniedzēja) nosaukums | C4: Manipulācijas kods | D4: Manipulācijas nosaukums | E4: Manipulāciju skaits | F4: Tarifs, EUR | G4: Summa, euro
A5: NVD Kurzemes nodaļa | B5: Tukuma slimnīca, Sabiedrība ar ierobežotu atbildību | C5: 47328 | D5: SARS-CoV-2 (COVID-19) antigēna noteikšana (Ag eksprestests) (bez reaģenta komplekta vērtības) | E5: 133 | F5: 3.83 | G5: =E5*F5 -> 509.39
A6: NVD Rīgas nodaļa | B6: Bērnu klīniskā universitātes slimnīca, Valsts sabiedrība ar ierobežotu atbildību | C6: 60046 | D6: Sars-CoV-2 (COVID-19) transporta barotne ar diviem lokaniem tamponiem ātrajam molekulārajam testam | E6: 204 | F6: 1.5 | G6: =E6*F6 -> 306
A7: NVD Rīgas nodaļa | B7: Jūrmalas slimnīca, Sabiedrība ar ierobežotu atbildību | C7: 47328 | D7: SARS-CoV-2 (COVID-19) antigēna noteikšana (Ag eksprestests) (bez reaģenta komplekta vērtības) | E7: 318 | F7: 3.83 | G7: =E7*F7 -> 1217.94
A8: NVD Vidzemes nodaļa | B8: Vidzemes slimnīca, Sabiedrība ar ierobežotu atbildību | C8: 47268 | D8: SARS-CoV-2 (COVID-19) antigēna noteikšana (Ag eksprestests) (ar reaģenta komplekta vērtību) | E8: 814 | F8: 5.28 | G8: =E8*F8 -> 4297.92
A9: NVD Zemgales nodaļa | B9: Aizkraukles slimnīca, Sabiedrība ar ierobežotu atbildību | C9: 47268 | D9: SARS-CoV-2 (COVID-19) antigēna noteikšana (Ag eksprestests) (ar reaģenta komplekta vērtību) | E9: 130 | F9: 5.28 | G9: =E9*F9 -> 686.4
A10: NVD Zemgales nodaļa | B10: Bauskas slimnīca, SIA | C10: 47268 | D10: SARS-CoV-2 (COVID-19) antigēna noteikšana (Ag eksprestests) (ar reaģenta komplekta vērtību) | E10: 17 | F10: 5.28 | G10: =E10*F10 -> 89.76
A11: NVD Zemgales nodaļa | B11: Dobeles un apkārtnes slimnīca, SIA | C11: 47268 | D11: SARS-CoV-2 (COVID-19) antigēna noteikšana (Ag eksprestests) (ar reaģenta komplekta vērtību) | E11: 22 | F11: 5.28 | G11: =E11*F11 -> 116.16
A12: NVD Latgales nodaļa | B12: Daugavpils reģionālā slimnīca, Sabiedrība ar ierobežotu atbildību | C12: 47078 | D12: SARS-CoV-2 RNS (COVID-19) noteikšana ar reālā laika PĶR (bez parauga paņemšanas) ātrai diagnostikai un diferenciāldiagnostikai (ar reaģenta vērtību) | E12: 501 | F12: 48.58 | G12: =E12*F12 -> 24338.58
A13: NVD Vidzemes nodaļa | B13: Vidzemes slimnīca, Sabiedrība ar ierobežotu atbildību | C13: 47078 | D13: SARS-CoV-2 RNS (COVID-19) noteikšana ar reālā laika PĶR (bez parauga paņemšanas) ātrai diagnostikai un diferenciāldiagnostikai (ar reaģenta vērtību) | E13: 16 | F13: 48.58 | G13: =E13*F13 -> 777.28
A14: NVD Zemgales nodaļa | B14: Jēkabpils reģionālā slimnīca, Sabiedrība ar ierobežotu atbildību | C14: 47078 | D14: SARS-CoV-2 RNS (COVID-19) noteikšana ar reālā laika PĶR (bez parauga paņemšanas) ātrai diagnostikai un diferenciāldiagnostikai (ar reaģenta vērtību) | E14: 109 | F14: 48.58 | G14: =E14*F14 -> 5295.22
A15: NVD Rīgas nodaļa | B15: Bērnu klīniskā universitātes slimnīca, Valsts sabiedrība ar ierobežotu atbildību | C15: 47078 | D15: SARS-CoV-2 RNS (COVID-19) noteikšana ar reālā laika PĶR (bez parauga paņemšanas) ātrai diagnostikai un diferenciāldiagnostikai (ar reaģenta vērtību) | E15: 203 | F15: 48.58 | G15: =E15*F15 -> 9861.74
F16: Pavisam kopā, euro: | G16: =SUM(G5:G15) -> 47496.39
F17: Kopā, euro | G17: =ROUNDUP(G16,0) -> 47497

Sheet Covid_pakalp_progr
F1: Turpinājums pielikumam Nr.48 Ministru kabineta rīkojuma "Par finanšu līdzekļu piešķiršanu no valsts budžeta programmas "Līdzekļi neparedzētiem gadījumiem"" projekta sākotnējās ietekmes novērtējuma ziņojumam (anotācijai)
A2: Covid-19 pakalpojumu programma
A3: Periods: marts 2022
A4: NVD TN (pakalpojumu sniedzēja) | B4: ĀI (pakalpojumu sniedzēja) | C4: Pakalpojumu programma | D4: Manipulācijas kods | E4: Manipulācijas nosaukums | F4: Manipulāciju skaits | G4: Tarifs | H4: Summa
A5: 12 - NVD Rīgas nodaļa | B5: 010000234 - Rīgas Austrumu klīniskā universitātes slimnīca, SIA | C5: AP82 - Covid-19 laboratorijas pakalpojumi | D5: 47060 | E5: SARS-CoV-2 (COVID-19) ambulatora parauga(nazofaringāla uztriepe) paņemšana laboratorijā | F5: 2975 | G5: 4.25 | H5: =F5*G5 -> 12643.75
A6: 12 - NVD Rīgas nodaļa | B6: 010000234 - Rīgas Austrumu klīniskā universitātes slimnīca, SIA | C6: AP82 - Covid-19 laboratorijas pakalpojumi | D6: 47073 | E6: SARS-CoV-2 RNS (COVID-19) noteikšana ar reālā laika PĶR (bez parauga paņemšanas) | F6: 5829 | G6: 27.03 | H6: =F6*G6 -> 157557.87
A7: 12 - NVD Rīgas nodaļa | B7: 010000234 - Rīgas Austrumu klīniskā universitātes slimnīca, SIA | C7: AP82 - Covid-19 laboratorijas pakalpojumi | D7: 47075 | E7: SARS-CoV-2 RNS (COVID-19) apstiprināšana ar reālā laika PĶR (bez parauga paņemšanas) | F7: 430 | G7: 34.01 | H7: =F7*G7 -> 14624.3
A8: 12 - NVD Rīgas nodaļa | B8: 010000234 - Rīgas Austrumu klīniskā universitātes slimnīca, SIA | C8: AP82 - Covid-19 laboratorijas pakalpojumi | D8: 47078 | E8: SARS-CoV-2 RNS (COVID-19) noteikšana ar reālā laika PĶR (bez parauga paņemšanas) ātrai diagnostikai un diferenciāldiagnostikai (ar reaģenta vērtību) | F8: 364 | G8: 48.58 | H8: =F8*G8 -> 17683.12
A9: 12 - NVD Rīgas nodaļa | B9: 010000234 - Rīgas Austrumu klīniskā universitātes slimnīca, SIA | C9: AP82 - Covid-19 laboratorijas pakalpojumi | D9: 47079 | E9: SARS-CoV-2 (COVID-19) transporta barotne ar diviem lokaniem tamponiem | F9: 8576 | G9: 1.5 | H9: =F9*G9 -> 12864
A10: 12 - NVD Rīgas nodaļa | B10: 010000234 - Rīgas Austrumu klīniskā universitātes slimnīca, SIA | C10: AP82 - Covid-19 laboratorijas pakalpojumi | D10: 47416 | E10: SARS-CoV-2 (COVID-19) ambulatora parauga (nazofaringeāla uztriepe) paņemšana laboratorijā | F10: 955 | G10: 2.96 | H10: =F10*G10 -> 2826.8
A11: 12 - NVD Rīgas nodaļa | B11: 010000234 - Rīgas Austrumu klīniskā universitātes slimnīca, SIA | C11: AP82 - Covid-19 laboratorijas pakalpojumi | D11: 47417 | E11: SARS-CoV-2 vīrusa variantu skrīninga PĶR tests | F11: 489 | G11: 34.01 | H11: =F11*G11 -> 16630.89
A12: 13 - NVD Rīgas nodaļa | B12: 010000234 - Rīgas Austrumu klīniskā universitātes slimnīca, SIA | C12: AP82 - Covid-19 laboratorijas pakalpojumi | D12: 47075R | E12: R SARS-CoV-2 RNS (COVID 19) apstiprināšana ar reālā laika PĶR (bez parauga paņemšanas) | F12: 3886 | G12: 34.01 | H12: =F12*G12 -> 132162.86
G13: Kopā: | H13: =SUM(H5:H12) -> 366993.59
G14: Reaģenti | H14: 0
G15: Pavisam kopā: | H15: =H13+H14 -> 366993.59
H16: =ROUNDUP(H15,0) -> 366994
A18: NVD TN (pakalpojumu sniedzēja) | B18: ĀI (pakalpojumu sniedzēja) | C18: Pakalpojumu programma | D18: Manipulācijas kods | E18: Manipulācijas nosaukums | F18: Manipulāciju skaits | G18: Tarifs | H18: Summa
A19: 12 - NVD Rīgas nodaļa | B19: 010000297 - Pārtikas drošības, dzīvnieku veselības un vides zinātniskais institūts "BIOR" | C19: AP82 - Covid-19 laboratorijas pakalpojumi | D19: 47060 | E19: SARS-CoV-2 (COVID-19) ambulatora parauga(nazofaringāla uztriepe) paņemšana laboratorijā | F19: 8698 | G19: 4.25 | H19: =F19*G19 -> 36966.5
A20: 12 - NVD Rīgas nodaļa | B20: 010000297 - Pārtikas drošības, dzīvnieku veselības un vides zinātniskais institūts "BIOR" | C20: AP82 - Covid-19 laboratorijas pakalpojumi | D20: 47073 | E20: SARS-CoV-2 RNS (COVID-19) noteikšana ar reālā laika PĶR (bez parauga paņemšanas) | F20: 20741 | G20: 27.03 | H20: =F20*G20 -> 560629.23
A21: 12 - NVD Rīgas nodaļa | B21: 010000297 - Pārtikas drošības, dzīvnieku veselības un vides zinātniskais institūts "BIOR" | C21: AP82 - Covid-19 laboratorijas pakalpojumi | D21: 47079 | E21: SARS-CoV-2 (COVID-19) transporta barotne ar diviem lokaniem tamponiem | F21: 8698 | G21: 1.5 | H21: =F21*G21 -> 13047
A22: 12 - NVD Rīgas nodaļa | B22: 010000297 - Pārtikas drošības, dzīvnieku veselības un vides zinātniskais institūts "BIOR" | C22: AP82 - Covid-19 laboratorijas pakalpojumi | D22: 47405 | E22: Siekalu parauga paņemšanas komplekts SARS-CoV-2 (COVID-19) izmeklējumam | F22: 12043 | G22: 3.36 | H22: =F22*G22 -> 40464.48
A23: 12 - NVD Rīgas nodaļa | B23: 010000297 - Pārtikas drošības, dzīvnieku veselības un vides zinātniskais institūts "BIOR" | C23: AP82 - Covid-19 laboratorijas pakalpojumi | D23: 47419 | E23: Siekalu parauga paņemšana un testēšana ar uztriepes kociņu vai "Lollipop" metodi | F23: 22600 | G23: 3.73 | H23: =F23*G23 -> 84298
G24: Pavisam kopā: | H24: =SUM(H19:H23) -> 735405.21
H25: =ROUNDUP(H24,0) -> 735406
A27: NVD TN (pakalpojumu sniedzēja) | B27: ĀI (pakalpojumu sniedzēja) | C27: Pakalpojumu programma | D27: Manipulācijas kods | E27: Manipulācijas nosaukums | F27: Manipulāciju skaits | G27: Tarifs | H27: Summa
A28: 12 - NVD Rīgas nodaļa | B28: 010064111 - Dziedniecība, Sabiedrība ar ierobežotu atbildību | C28: AP82 - Covid-19 laboratorijas pakalpojumi | D28: 47060 | E28: SARS-CoV-2 (COVID-19) ambulatora parauga(nazofaringāla uztriepe) paņemšana laboratorijā | F28: 27507 | G28: 4.25 | H28: =F28*G28 -> 116904.75
A29: 12 - NVD Rīgas nodaļa | B29: 010064111 - Dziedniecība, Sabiedrība ar ierobežotu atbildību | C29: AP82 - Covid-19 laboratorijas pakalpojumi | D29: 47073 | E29: SARS-CoV-2 RNS (COVID-19) noteikšana ar reālā laika PĶR (bez parauga paņemšanas) | F29: 27461 | G29: 27.03 | H29: =F29*G29 -> 742270.83
A30: 12 - NVD Rīgas nodaļa | B30: 010064111 - Dziedniecība, Sabiedrība ar ierobežotu atbildību | C30: AP82 - Covid-19 laboratorijas pakalpojumi | D30: 47075 | E30: SARS-CoV-2 RNS (COVID-19) apstiprināšana ar reālā laika PĶR (bez parauga paņemšanas) | F30: 15347 | G30: 34.01 | H30: =F30*G30 -> 521951.47
A31: 12 - NVD Rīgas nodaļa | B31: 010064111 - Dziedniecība, Sabiedrība ar ierobežotu atbildību | C31: AP82 - Covid-19 laboratorijas pakalpojumi | D31: 47079 | E31: SARS-CoV-2 (COVID-19) transporta barotne ar diviem lokaniem tamponiem | F31: 27461 | G31: 1.5 | H31: =F31*G31 -> 41191.5
A32: 12 - NVD Rīgas nodaļa | B32: 010064111 - Dziedniecība, Sabiedrība ar ierobežotu atbildību | C32: AP82 - Covid-19 laboratorijas pakalpojumi | D32: 47268 | E32: SARS-CoV-2 (COVID-19) antigēna noteikšana (Ag eksprestests) (ar reaģenta komplekta vērtību) | F32: 42 | G32: 5.28 | H32: =F32*G32 -> 221.76
A33: 12 - NVD Rīgas nodaļa | B33: 010064111 - Dziedniecība, Sabiedrība ar ierobežotu atbildību | C33: AP82 - Covid-19 laboratorijas pakalpojumi | D33: 47403 | E33: SARS-CoV-2 RNS (COVID-19) noteikšana ar "pooling" metodi (10 paraugi) (bez parauga paņemšanas) | F33: 2876 | G33: 7.65 | H33: =F33*G33 -> 22001.4
A34: 12 - NVD Rīgas nodaļa | B34: 010064111 - Dziedniecība, Sabiedrība ar ierobežotu atbildību | C34: AP82 - Covid-19 laboratorijas pakalpojumi | D34: 47405 | E34: Siekalu parauga paņemšanas komplekts SARS-CoV-2 (COVID-19) izmeklējumam | F34: 3222 | G34: 3.36 | H34: =F34*G34 -> 10825.92
A35: 13 - NVD Rīgas nodaļa | B35: 010064111 - Dziedniecība, Sabiedrība ar ierobežotu atbildību | C35: AP82 - Covid-19 laboratorijas pakalpojumi | D35: 47409 | E35: SARS-CoV-2 RNS (COVID-19) noteikšana ar "pooling" metodi (5 paraugi) (bez parauga paņemšanas) | F35: 346 | G35: 9.81 | H35: =F35*G35 -> 3394.26
A36: 13 - NVD Rīgas nodaļa | B36: 010064111 - Dziedniecība, Sabiedrība ar ierobežotu atbildību | C36: AP82 - Covid-19 laboratorijas pakalpojumi | D36: 47417 | E36: SARS-CoV-2 vīrusa variantu skrīninga PĶR tests | F36: 15011 | G36: 34.01 | H36: =F36*G36 -> 510524.11
A37: 13 - NVD Rīgas nodaļa | B37: 010064111 - Dziedniecība, Sabiedrība ar ierobežotu atbildību | C37: AP82 - Covid-19 laboratorijas pakalpojumi | D37: 47419 | E37: Siekalu parauga paņemšana un testēšana ar uztriepes kociņu vai "Lollipop" metodi | F37: 7987 | G37: 3.73 | H37: =F37*G37 -> 29791.51
G38: Pavisam kopā: | H38: =SUM(H28:H37) -> 1999077.5
H39: =ROUNDUP(H38,0) -> 1999078
A41: NVD TN (pakalpojumu sniedzēja) | B41: ĀI (pakalpojumu sniedzēja) | C41: Pakalpojumu programma | D41: Manipulācijas kods | E41: Manipulācijas nosaukums | F41: Manipulāciju skaits | G41: Tarifs | H41: Summa
A42: 12 - NVD Rīgas nodaļa | B42: 010068301 - NMS Laboratorija, SIA | C42: AP82 - Covid-19 laboratorijas pakalpojumi | D42: 47073 | E42: SARS-CoV-2 RNS (COVID-19) noteikšana ar reālā laika PĶR (bez parauga paņemšanas) | F42: 5895 | G42: 27.03 | H42: =F42*G42 -> 159341.85
A43: 12 - NVD Rīgas nodaļa | B43: 010068301 - NMS Laboratorija, SIA | C43: AP82 - Covid-19 laboratorijas pakalpojumi | D43: 47079 | E43: SARS-CoV-2 (COVID-19) transporta barotne ar diviem lokaniem tamponiem | F43: 5893 | G43: 1.5 | H43: =F43*G43 -> 8839.5
...

Sheet RAKUS_antivielu_testi
D1: Turpinājums pielikumam Nr.48 Ministru kabineta rīkojuma "Par finanšu līdzekļu piešķiršanu no valsts budžeta programmas "Līdzekļi neparedzētiem gadījumiem"" projekta sākotnējās ietekmes novērtējuma ziņojumam (anotācijai)
A2: Covid-19 pakalpojumu programma (Rīgas Austrumu klīniskā universitātes slimnīca, SIA veiktie antivielu testi), marts
A3: NVD TN (pakalpojuma sniedzēja) | B3: ĀI (pakalpojuma sniedzēja) | C3: Manipulācija | D3: Manipulāciju skaits | E3: Tarifs | F3: Summa, euro
A4: 12 - NVD Rīgas nodaļa | B4: 010000234 - Rīgas Austrumu klīniskā universitātes slimnīca, SIA | C4: 47046R - R IgA klases antivielu pret SARS-CoV-2 (COVID-19) noteikšana ar imūnfermentatīvo metodi (ELISA, CMIA, ECLIA, CLIA) | D4: 16 | E4: 13.32 | F4: =D4*E4 -> 213.12
A5: 12 - NVD Rīgas nodaļa | B5: 010000234 - Rīgas Austrumu klīniskā universitātes slimnīca, SIA | C5: 47047R - R IgM klases antivielu pret SARS-CoV-2 (COVID-19) noteikšana ar imūnfermentatīvo metodi (ELISA, CMIA, ECLIA, CLIA) | D5: 668 | E5: 13.32 | F5: =D5*E5 -> 8897.76
A6: 12 - NVD Rīgas nodaļa | B6: 010000234 - Rīgas Austrumu klīniskā universitātes slimnīca, SIA | C6: 47049R - R IgG klases antivielu pret SARS-CoV-2 (COVID-19) noteikšana ar imūnfermentatīvo metodi (ELISA, CMIA, ECLIA, CLIA) | D6: 697 | E6: 13.32 | F6: =D6*E6 -> 9284.04
A7: 12 - NVD Rīgas nodaļa | B7: 010000234 - Rīgas Austrumu klīniskā universitātes slimnīca, SIA | C7: 47051R - R IgG klases antivielu pret SARS-CoV-2 (COVID-19) kvantitatīva noteikšana ar imūnfermentatīvo metodi (ELISA, CMIA, ECLIA, CLIA) | D7: 451 | E7: 20.48 | F7: =D7*E7 -> 9236.48
A8: 12 - NVD Rīgas nodaļa | B8: 010000234 - Rīgas Austrumu klīniskā universitātes slimnīca, SIA | C8: 47064R - R Kopējo antivielu pret SARS-CoV-2 (COVID-19) noteikšana ar imūnfermentatīvo metodi (ELISA, CMIA, ECLIA, CLIA) | D8: 42 | E8: 6.79 | F8: =D8*E8 -> 285.18
A9: 12 - NVD Rīgas nodaļa | B9: 010000234 - Rīgas Austrumu klīniskā universitātes slimnīca, SIA | C9: 47076R - R Asins ņemšana ar slēgtu sistēmu vienā stobriņā antivielu pret SARS-CoV-2 (COVID-19) noteikšanai | D9: 575 | E9: 1.3 | F9: =D9*E9 -> 747.5
A10: 12 - NVD Rīgas nodaļa | B10: 010000234 - Rīgas Austrumu klīniskā universitātes slimnīca, SIA | C10: 47077R - R SARS-CoV-2 RNS (COVID-19) noteikšana ar reālā laika PĶR (bez parauga paņemšanas) ātrai diagnostikai un diferenciāldiagnostikai - izmeklējums ar Multiplex reaģentiem | D10: 72 | E10: 171.06 | F10: =D10*E10 -> 12316.32
D11: Pavisam kopā: | F11: =SUM(F4:F10) -> 40980.4
D12: Kopā | F12: =ROUNDUP(F11,0) -> 40981

Sheet Sekvencēšana
C1: Turpinājums pielikumam Nr.48 Ministru kabineta rīkojuma "Par finanšu līdzekļu piešķiršanu no valsts budžeta programmas "Līdzekļi neparedzētiem gadījumiem"" projekta sākotnējās ietekmes novērtējuma ziņojumam (anotācijai)
A2: Atskaite par Covid-19 vīrusa sekvencēšanu LIC laboratorijā
A3: Pārskata periods (mēnesis): Marts
A4: Nr.p.k. | B4: Pasākums | D4: Vienas vienības cena, euro | E4: Kopā, euro
A5: 1 | B5: Primārā parauga uzglabāšana (kriostobriņi paraugu uzglabāšanai) | C5: paraugu skaits | D5: 0 | E5: 25779
C6: Summa, euro | D6: 0.79 | E6: =SUM(D6*E5) -> 20365.41
A7: SARS-CoV-2 vīrusu celmu sekvencēšana
A8: 2 | B8: Nacionālā References laboratorija (NRL)*
B9: Pirmais etaps (RNS izdalīšana no primārā parauga) | C9: paraugu skaits | E9: 3317
C10: Summa, euro | D10: =8*1.21 -> 9.68 | E10: =SUM(D10*E9) -> 32108.56
B11: Otrais etaps - SEKVENCĒŠANA | C11: paraugu skaits | E11: 591
C12: Summa, euro | D12: =160*1.21 -> 193.6 | E12: =SUM(D12*E11) -> 114417.6
A13: Kopā NRL (1.1+3.1+3.2.) | C13: Summa, euro | E13: =SUM(E6,E10,E12) -> 166891.57
E14: =ROUNDUP(E13,0) -> 166892
A15: *datu apstrādi veic NRL personāls - bioinformātikas speciālisti

Sheet Sekvencēš.personāla izmaksas
F1: Turpinājums pielikumam Nr.48 Ministru kabineta rīkojuma "Par finanšu līdzekļu piešķiršanu no valsts budžeta programmas "Līdzekļi neparedzētiem gadījumiem"" projekta sākotnējās ietekmes novērtējuma ziņojumam (anotācijai)
A2: Pārskats “Laboratorijas dienesta Laboratorijas „LIC" Sekvencēšanas daļas Covid-19 vīrusa celma sekvencēšanā iesaistītais personāls un tā izmaksas”
A3: Pārskata periods | B3: 2022.gada janvāris
A4: Tabeles Nr. | B4: Amata nosaukums | C4: Slodze | D4: Darbu noslodze Covid sekvencēšanai, slodzes | E4: Alga, euro | F4: piemaksas, euro | G4: VSOAI 23,59%, euro | H4: Atlīdzība kopā, atbilstoši darba noslodzei, euro
A5: Bioinformātikas speciālisti
A6: A03260 | B6: Laboratorijas bioinformātiķis | C6: 1 | D6: 1 | E6: 1417.14 | G6: =E6*23.59% -> 334.30333 | H6: =(E6+F6+G6)*D6 -> 1751.4433
A7: A06490 | B7: Laboratorijas bioinformātiķis | C7: 1 | D7: 1 | E7: 1860 | F7: 88.57 | G7: =(E7+F7)*23.59% -> 459.66766 | H7: =(E7+F7+G7)*D7 -> 2408.2377
A8: Biomedicīnas laboranti
A9: 1534 | B9: Biomedicīnas laborants | C9: 1 | D9: 1 | E9: 1513.63 | F9: 63.64 | G9: =(E9+F9)*23.59% -> 372.07799 | H9: =(E9+F9+G9)*D9 -> 1949.348
A10: Molekulārie biologi, paraugu atlases speciālisti - Laboratorijas ārsti, laboratorijas speciālisti
A11: 0216 | B11: Laboratorijas ārsts | C11: 1 | D11: 1 | E11: 1558.9 | F11: 217.36 | G11: =(E11+F11)*23.59% -> 419.01973 | H11: =(E11+F11+G11)*D11 -> 2195.2797
A12: A02825 | B12: Laboratorijas speciālists | C12: 1 | D12: 1 | E12: 984.57 | F12: 154.01 | G12: =(E12+F12)*23.59% -> 268.59102 | H12: =(E12+F12+G12)*D12 -> 1407.171
A13: 0189 | B13: Laboratorijas speciālists | C13: 1 | D13: 1 | E13: 1723 | F13: 220.97 | G13: =(E13+F13)*23.59% -> 458.58252 | H13: =(E13+F13+G13)*D13 -> 2402.5525
A14: A06650 | B14: Laboratorijas speciālists-stažieris | C14: 1 | D14: 1 | E14: 1500 | F14: 221.43 | G14: =(E14+F14)*23.59% -> 406.08534 | H14: =(E14+F14+G14)*D14 -> 2127.5153
A15: A05639 | B15: Laboratorijas speciālists-stažieris | C15: 1 | D15: 1 | E15: 1428.57 | F15: 374.08 | G15: =(E15+F15)*23.59% -> 425.24513 | H15: =(E15+F15+G15)*D15 -> 2227.8951
A16: A01705 | B16: Laboratorijas speciālists-stažieris | C16: 1 | D16: 1 | E16: 2249.44 | F16: 276.31 | G16: =(E16+F16)*23.59% -> 595.82443 | H16: =(E16+F16+G16)*D16 -> 3121.5744
H17: =SUM(H6:H16) -> 19591.017
H18: =ROUNDUP(H17,0) -> 19592
A19: Pārskata periods | B19: 2022.gada februāris
A20: Tabeles Nr. | B20: Amata nosaukums | C20: Slodze | D20: Darbu noslodze Covid sekvencēšanai, slodzes | E20: Alga, euro | F20: piemaksas, euro | G20: VSOAI 23,59%, euro | H20: Atlīdzība kopā, atbilstoši darba noslodzei, euro
A21: Bioinformātikas speciālisti
A22: A03260 | B22: Laboratorijas bioinformātiķis | C22: 1 | D22: 1 | E22: 2100 | G22: =E22*23.59% -> 495.39 | H22: =(E22+F22+G22)*D22 -> 2595.39
A23: A06490 | B23: Laboratorijas bioinformātiķis | C23: 1 | D23: 1 | E23: 1860 | G23: =E23*23.59% -> 438.774 | H23: =(E23+F23+G23)*D23 -> 2298.774
A24: Biomedicīnas laboranti
A25: 1534 | B25: Biomedicīnas laborants | C25: 1 | D25: 1 | E25: 1218 | F25: 243.85 | G25: =(E25+F25)*23.59% -> 344.85041 | H25: =(E25+F25+G25)*D25 -> 1806.7004
A26: Molekulārie biologi, paraugu atlases speciālisti - Laboratorijas ārsti, laboratorijas speciālisti
A27: 0216 | B27: Laboratorijas ārsts | C27: 1 | D27: 1 | E27: 1033.8 | F27: 144.36 | G27: =(E27+F27)*23.59% -> 277.92794 | H27: =(E27+F27+G27)*D27 -> 1456.0879
A28: A02825 | B28: Laboratorijas speciālists | C28: 1 | D28: 1 | E28: 1723 | F28: 377.9 | G28: =(E28+F28)*23.59% -> 495.60231 | H28: =(E28+F28+G28)*D28 -> 2596.5023
A29: A05981 | B29: Laboratorijas speciālists-stažieris | C29: 1 | D29: 1 | E29: 1425 | F29: 165 | G29: =(E29+F29)*23.59% -> 375.081 | H29: =(E29+F29+G29)*D29 -> 1965.081
A30: A06650 | B30: Laboratorijas speciālists-stažieris | C30: 1 | D30: 1 | E30: 1500 | F30: 150 | G30: =(E30+F30)*23.59% -> 389.235 | H30: =(E30+F30+G30)*D30 -> 2039.235
A31: A05639 | B31: Laboratorijas speciālists-stažieris | C31: 1 | D31: 1 | E31: 1200 | F31: 199.87 | G31: =(E31+F31)*23.59% -> 330.22933 | H31: =(E31+F31+G31)*D31 -> 1730.0993
A32: A01705 | B32: Laboratorijas speciālists-stažieris | C32: 1 | D32: 1 | E32: 1500 | F32: 226.72 | G32: =(E32+F32)*23.59% -> 407.33325 | H32: =(E32+F32+G32)*D32 -> 2134.0532
H33: =SUM(H22:H32) -> 18621.923
H34: =ROUNDUP(H33,0) -> 18622
A36: Pārskata periods | B36: 2022.gada marts
A37: Tabeles Nr. | B37: Amata nosaukums | C37: Slodze | D37: Darbu noslodze Covid sekvencēšanai, slodzes | E37: Alga, euro | F37: piemaksas, euro | G37: VSOAI 23,59%, euro | H37: Atlīdzība kopā, atbilstoši darba noslodzei, euro
A38: Bioinformātikas speciālisti
A39: A03260 | B39: Laboratorijas bioinformātiķis | C39: 1 | D39: 1 | E39: 2100 | G39: =E39*23.59% -> 495.39 | H39: =(E39+F39+G39)*D39 -> 2595.39
A40: A06490 | B40: Laboratorijas bioinformātiķis | C40: 1 | D40: 1 | E40: 1860 | G40: =E40*23.59% -> 438.774 | H40: =(E40+F40+G40)*D40 -> 2298.774
A41: A07282 | B41: Laboratorijas bioinformātiķis | C41: 0.25 | D41: 0.25 | E41: 508.77 | F41: 44.24 | G41: =(E41+F41)*23.59% -> 130.45506 | H41: =(E41+F41+G41)*D41 -> 170.86626
...
