Workbook
Name Recover: [1]Macro1!$A$99
Name Rikojums2222: [2]Macro1!$A$106
Name TableName: "Dummy"

Sheet Kopsavilkums
C1: Pielikums Nr.49 Ministru kabineta rīkojuma "Par finanšu līdzekļu piešķiršanu no valsts budžeta programmas "Līdzekļi neparedzētiem gadījumiem"" projekta sākotnējās ietekmes novērtējuma ziņojumam (anotācijai)
B2: Aprīlis | C2: EUR | D2: EKK 3000 | E2: EKK 7472
B3: Izmaksas par Covid 19 izmeklējumiem | C3: =C8+C6+C4 -> 4001426 | D3: =D8+D6+D4 -> 3963270 | E3: =E8+E6+E4 -> 38156
B4: AMBULATORIE PAKALPOJUMI | C4: =SUM(C5:C5) -> 51854 | D4: =SUM(D5:D5) -> 51854 | E4: =SUM(E5:E5) -> 0
B5: COVID-19 ātrie testi (ambulatorā daļa) | C5: =ātrie_testi_amb_daļa!H29 -> 51854 | D5: =C5 -> 51854 | F5: 555.not.243.3p
B6: STACIONĀRIE PAKALPOJUMI | C6: =SUM(C7:C7) -> 971199 | D6: =SUM(D7:D7) -> 971199 | E6: =SUM(E7:E7) -> 0
B7: COVID-19 ātrie testi (stacionārā daļa) | C7: =ātrie_testi_stac_daļa!J79 -> 971199 | D7: =C7 -> 971199 | F7: 555.not.243.3p
B8: LABORATORISKIE PAKALPOJUMI | C8: =SUM(C9,C24) -> 2978373 | D8: =SUM(D9,D24) -> 2940217 | E8: =SUM(E9,E24) -> 38156
B9: Covid-19 pakalpojumu programma laboratorijām | C9: =SUM(C10:C23) -> 2632466 | D9: =SUM(D10:D23) -> 2594310 | E9: =SUM(E10:E23) -> 38156
B10: Rīgas Austrumu klīniskā universitātes slimnīca, SIA | C10: =Covid_pakalp_progr!H16 -> 162475 | D10: =C10 -> 162475 | F10: 555.not.243.3p
B11: Pārtikas drošības, dzīvnieku veselības un vides zinātniskais institūts "BIOR" | C11: =Covid_pakalp_progr!H25 -> 38156 | E11: =C11 -> 38156 | F11: 555.not.243.3p
B12: „Centrālā laboratorija” SIA | C12: =Covid_pakalp_progr!H62 -> 1191716 | D12: =C12 -> 1191716 | F12: 555.not.243.3p
B13: “E. Gulbja Laboratorija” SIA | C13: =Covid_pakalp_progr!H73 -> 847581 | D13: =C13 -> 847581 | F13: 555.not.243.3p
B14: Dziedniecība, Sabiedrība ar ierobežotu atbildību | C14: =Covid_pakalp_progr!H38 -> 259940 | D14: =C14 -> 259940 | F14: 555.not.243.3p
B15: NMS Laboratorija, SIA | C15: =Covid_pakalp_progr!H46 -> 39520 | D15: =C15 -> 39520 | F15: 555.not.243.3p
B16: iVF Riga, SIA | C16: =Covid_pakalp_progr!H97 -> 11942 | D16: =C16 -> 11942 | F16: 555.not.243.3p
B17: Biocon, Sabiedrība ar ierobežotu atbildību | C17: =Covid_pakalp_progr!H86 -> 3419 | D17: =C17 -> 3419 | F17: 555.not.243.3p
B18: Paula Stradiņa klīniskā universitātes slimnīca, Valsts sabiedrība ar ierobežotu atbildību | C18: =Covid_pakalp_progr!H80 -> 38128 | D18: =C18 -> 38128 | F18: 555.not.243.3p
B19: „Veselības centrs 4” SIA | C19: =Covid_pakalp_progr!H105 -> 10908 | D19: =C19 -> 10908 | F19: 555.not.243.3p
B20: Sendito, SIA | C20: =Covid_pakalp_progr!H123 -> 4235 | D20: =C20 -> 4235 | F20: 555.not.243.3p
B21: Alūksnes slimnīca SIA | C21: =Covid_pakalp_progr!H128 -> 534 | D21: =C21 -> 534 | F21: 555.not.243.3p
B22: Ogre rajona slimnīca SIA | C22: =Covid_pakalp_progr!H136 -> 7074 | D22: =C22 -> 7074 | F22: 555.not.243.3p
B23: Ziemeļkurzemes reģionālā slimnīca, SIA | C23: =Covid_pakalp_progr!H113 -> 16838 | D23: =C23 -> 16838 | F23: 555.not.243.3p
B24: Citas saistītās Covid-19 izmeklējumu izmaksas | C24: =SUM(C25:C27) -> 345907 | D24: =SUM(D25:D27) -> 345907 | E24: =SUM(E25:E27) -> 0
B25: Rīgas Austrumu klīniskā universitātes slimnīca SIA (11.pielikums: antivielas un ātrā diagnostika ar Multiplex reaģentiem) | C25: =RAKUS_antivielu_testi!F13 -> 179598 | D25: =C25 -> 179598 | F25: 555.not.243.3p
B26: Rīgas Austrumu klīniskā universitātes slimnīca SIA: Sekvencēšana | C26: =Sekvencēšana!E14 -> 145259 | D26: =C26 -> 145259 | F26: 555.not.243.1.p
B27: Rīgas Austrumu klīniskā universitātes slimnīca SIA: Sekvencēšana personāla izmaksas (aprīlis) | C27: =D27 -> 21050 | D27: =Sekv_personāla_izm!H19 -> 21050 | F27: 555.not.243.1.p

Sheet ātrie_testi_stac_daļa
H1: Turpinājums pielikumam Nr.49 Ministru kabineta rīkojuma "Par finanšu līdzekļu piešķiršanu no valsts budžeta programmas "Līdzekļi neparedzētiem gadījumiem"" projekta sākotnējās ietekmes novērtējuma ziņojumam (anotācijai)
A2: COVID-19 diagnostikas manipulācijas (ātrie testi, stacionārā daļa)*
A3: Ārstniecības iestādes nosaukums | B3: Manipulācijas kods | C3: Manupulācijas nosaukums | D3: Tarifs, EUR | E3: Manipulāciju skaits | J3: Summa, euro
E4: Decembris, 2021 | F4: Janvāris, 2022 | G4: Februāris, 2022 | H4: Marts, 2022 | I4: Aprīlis, 2022
A5: Aizkraukles slimnīca | B5: 47268 | C5: SARS-CoV-2 (COVID-19) antigēna noteikšana (Ag eksprestests) (ar reaģenta komplekta vērtību) | D5: 4.52 | I5: 8 | J5: =ROUND(D5*E5+D5*F5+D5*G5+D5*H5+D5*I5,2) -> 36.16
A6: Aizkraukles slimnīca | B6: 47268 | C6: SARS-CoV-2 (COVID-19) antigēna noteikšana (Ag eksprestests) (ar reaģenta komplekta vērtību) | D6: 5.28 | H6: 7 | J6: =ROUND(D6*E6+D6*F6+D6*G6+D6*H6+D6*I6,2) -> 36.96
A7: Alūksnes slimnīca | B7: 47268 | C7: SARS-CoV-2 (COVID-19) antigēna noteikšana (Ag eksprestests) (ar reaģenta komplekta vērtību) | D7: 4.52 | I7: 149 | J7: =ROUND(D7*E7+D7*F7+D7*G7+D7*H7+D7*I7,2) -> 673.48
A8: Alūksnes slimnīca | B8: 47268 | C8: SARS-CoV-2 (COVID-19) antigēna noteikšana (Ag eksprestests) (ar reaģenta komplekta vērtību) | D8: 5.28 | H8: 32 | J8: =ROUND(D8*E8+D8*F8+D8*G8+D8*H8+D8*I8,2) -> 168.96
A9: Balvu un Gulbenes slimnīcu apvienība | B9: 47328 | C9: SARS-CoV-2 (COVID-19) antigēna noteikšana (Ag eksprestests) (bez reaģenta komplekta vērtības) | D9: 3.83 | H9: 28 | I9: 91 | J9: =ROUND(D9*E9+D9*F9+D9*G9+D9*H9+D9*I9,2) -> 455.77
A10: Bauskas slimnīca | B10: 47268 | C10: SARS-CoV-2 (COVID-19) antigēna noteikšana (Ag eksprestests) (ar reaģenta komplekta vērtību) | D10: 4.52 | I10: 4 | J10: =ROUND(D10*E10+D10*F10+D10*G10+D10*H10+D10*I10,2) -> 18.08
A11: Bauskas slimnīca | B11: 47268 | C11: SARS-CoV-2 (COVID-19) antigēna noteikšana (Ag eksprestests) (ar reaģenta komplekta vērtību) | D11: 5.28 | H11: 6 | J11: =ROUND(D11*E11+D11*F11+D11*G11+D11*H11+D11*I11,2) -> 31.68
A12: Bērnu klīniskā universitātes slimnīca | B12: 47078 | C12: SARS-CoV-2 RNS (COVID-19) noteikšana ar reālā laika PĶR (bez parauga paņemšanas) ātrai diagnostikai un diferenciāldiagnostikai (ar reaģenta vērtību) | D12: 44.25 | I12: 3 | J12: =ROUND(D12*E12+D12*F12+D12*G12+D12*H12+D12*I12,2) -> 132.75
A13: Bērnu klīniskā universitātes slimnīca | B13: 47078 | C13: SARS-CoV-2 RNS (COVID-19) noteikšana ar reālā laika PĶR (bez parauga paņemšanas) ātrai diagnostikai un diferenciāldiagnostikai (ar reaģenta vērtību) | D13: 48.2 | E13: 2 | J13: =ROUND(D13*E13+D13*F13+D13*G13+D13*H13+D13*I13,2) -> 96.4
A14: Bērnu klīniskā universitātes slimnīca | B14: 47078 | C14: SARS-CoV-2 RNS (COVID-19) noteikšana ar reālā laika PĶR (bez parauga paņemšanas) ātrai diagnostikai un diferenciāldiagnostikai (ar reaģenta vērtību) | D14: 48.58 | F14: 76 | G14: 31 | H14: 20 | J14: =ROUND(D14*E14+D14*F14+D14*G14+D14*H14+D14*I14,2) -> 6169.66
A15: Bērnu klīniskā universitātes slimnīca | B15: 47268 | C15: SARS-CoV-2 (COVID-19) antigēna noteikšana (Ag eksprestests) (ar reaģenta komplekta vērtību) | D15: 4.52 | I15: 1 | J15: =ROUND(D15*E15+D15*F15+D15*G15+D15*H15+D15*I15,2) -> 4.52
A16: Cēsu klīnika | B16: 47268 | C16: SARS-CoV-2 (COVID-19) antigēna noteikšana (Ag eksprestests) (ar reaģenta komplekta vērtību) | D16: 4.52 | I16: 92 | J16: =ROUND(D16*E16+D16*F16+D16*G16+D16*H16+D16*I16,2) -> 415.84
A17: Cēsu klīnika | B17: 47268 | C17: SARS-CoV-2 (COVID-19) antigēna noteikšana (Ag eksprestests) (ar reaģenta komplekta vērtību) | D17: 5.28 | H17: 8 | J17: =ROUND(D17*E17+D17*F17+D17*G17+D17*H17+D17*I17,2) -> 42.24
A18: Daugavpils psihoneiroloģiskā slimnīca | B18: 47268 | C18: SARS-CoV-2 (COVID-19) antigēna noteikšana (Ag eksprestests) (ar reaģenta komplekta vērtību) | D18: 4.52 | I18: 71 | J18: =ROUND(D18*E18+D18*F18+D18*G18+D18*H18+D18*I18,2) -> 320.92
A19: Daugavpils psihoneiroloģiskā slimnīca | B19: 47268 | C19: SARS-CoV-2 (COVID-19) antigēna noteikšana (Ag eksprestests) (ar reaģenta komplekta vērtību) | D19: 5.28 | G19: 4 | H19: 66 | J19: =ROUND(D19*E19+D19*F19+D19*G19+D19*H19+D19*I19,2) -> 369.6
A20: Daugavpils reģionālā slimnīca | B20: 47078 | C20: SARS-CoV-2 RNS (COVID-19) noteikšana ar reālā laika PĶR (bez parauga paņemšanas) ātrai diagnostikai un diferenciāldiagnostikai (ar reaģenta vērtību) | D20: 44.25 | I20: 723 | J20: =ROUND(D20*E20+D20*F20+D20*G20+D20*H20+D20*I20,2) -> 31992.75
A21: Daugavpils reģionālā slimnīca | B21: 47078 | C21: SARS-CoV-2 RNS (COVID-19) noteikšana ar reālā laika PĶR (bez parauga paņemšanas) ātrai diagnostikai un diferenciāldiagnostikai (ar reaģenta vērtību) | D21: 48.58 | G21: 13 | H21: 344 | J21: =ROUND(D21*E21+D21*F21+D21*G21+D21*H21+D21*I21,2) -> 17343.06
A22: Daugavpils reģionālā slimnīca | B22: 47268 | C22: SARS-CoV-2 (COVID-19) antigēna noteikšana (Ag eksprestests) (ar reaģenta komplekta vērtību) | D22: 4.52 | I22: 164 | J22: =ROUND(D22*E22+D22*F22+D22*G22+D22*H22+D22*I22,2) -> 741.28
A23: Daugavpils reģionālā slimnīca | B23: 47268 | C23: SARS-CoV-2 (COVID-19) antigēna noteikšana (Ag eksprestests) (ar reaģenta komplekta vērtību) | D23: 5.28 | F23: 2 | G23: 50 | H23: 235 | J23: =ROUND(D23*E23+D23*F23+D23*G23+D23*H23+D23*I23,2) -> 1515.36
A24: Dobeles un apkārtnes slimnīca | B24: 47268 | C24: SARS-CoV-2 (COVID-19) antigēna noteikšana (Ag eksprestests) (ar reaģenta komplekta vērtību) | D24: 4.52 | I24: 15 | J24: =ROUND(D24*E24+D24*F24+D24*G24+D24*H24+D24*I24,2) -> 67.8
A25: Dobeles un apkārtnes slimnīca | B25: 47268 | C25: SARS-CoV-2 (COVID-19) antigēna noteikšana (Ag eksprestests) (ar reaģenta komplekta vērtību) | D25: 5.28 | H25: 12 | J25: =ROUND(D25*E25+D25*F25+D25*G25+D25*H25+D25*I25,2) -> 63.36
A26: Dobeles un apkārtnes slimnīca | B26: 47328 | C26: SARS-CoV-2 (COVID-19) antigēna noteikšana (Ag eksprestests) (bez reaģenta komplekta vērtības) | D26: 3.83 | H26: 2 | I26: 72 | J26: =ROUND(D26*E26+D26*F26+D26*G26+D26*H26+D26*I26,2) -> 283.42
A27: Jelgavas pilsētas slimnīca | B27: 47078 | C27: SARS-CoV-2 RNS (COVID-19) noteikšana ar reālā laika PĶR (bez parauga paņemšanas) ātrai diagnostikai un diferenciāldiagnostikai (ar reaģenta vērtību) | D27: 44.25 | I27: 712 | J27: =ROUND(D27*E27+D27*F27+D27*G27+D27*H27+D27*I27,2) -> 31506
A28: Jelgavas pilsētas slimnīca | B28: 47078 | C28: SARS-CoV-2 RNS (COVID-19) noteikšana ar reālā laika PĶR (bez parauga paņemšanas) ātrai diagnostikai un diferenciāldiagnostikai (ar reaģenta vērtību) | D28: 48.58 | F28: 3 | G28: 5 | H28: 234 | J28: =ROUND(D28*E28+D28*F28+D28*G28+D28*H28+D28*I28,2) -> 11756.36
A29: Jelgavas pilsētas slimnīca | B29: 47328 | C29: SARS-CoV-2 (COVID-19) antigēna noteikšana (Ag eksprestests) (bez reaģenta komplekta vērtības) | D29: 3.83 | F29: 1 | G29: 3 | H29: 68 | I29: 179 | J29: =ROUND(D29*E29+D29*F29+D29*G29+D29*H29+D29*I29,2) -> 961.33
A30: Jēkabpils reģionālā slimnīca | B30: 47078 | C30: SARS-CoV-2 RNS (COVID-19) noteikšana ar reālā laika PĶR (bez parauga paņemšanas) ātrai diagnostikai un diferenciāldiagnostikai (ar reaģenta vērtību) | D30: 44.25 | I30: 438 | J30: =ROUND(D30*E30+D30*F30+D30*G30+D30*H30+D30*I30,2) -> 19381.5
A31: Jēkabpils reģionālā slimnīca | B31: 47078 | C31: SARS-CoV-2 RNS (COVID-19) noteikšana ar reālā laika PĶR (bez parauga paņemšanas) ātrai diagnostikai un diferenciāldiagnostikai (ar reaģenta vērtību) | D31: 48.58 | H31: 86 | J31: =ROUND(D31*E31+D31*F31+D31*G31+D31*H31+D31*I31,2) -> 4177.88
A32: Jēkabpils reģionālā slimnīca | B32: 47268 | C32: SARS-CoV-2 (COVID-19) antigēna noteikšana (Ag eksprestests) (ar reaģenta komplekta vērtību) | D32: 4.52 | I32: 365 | J32: =ROUND(D32*E32+D32*F32+D32*G32+D32*H32+D32*I32,2) -> 1649.8
A33: Jēkabpils reģionālā slimnīca | B33: 47268 | C33: SARS-CoV-2 (COVID-19) antigēna noteikšana (Ag eksprestests) (ar reaģenta komplekta vērtību) | D33: 5.28 | G33: 1 | H33: 90 | J33: =ROUND(D33*E33+D33*F33+D33*G33+D33*H33+D33*I33,2) -> 480.48
A34: Jēkabpils reģionālā slimnīca | B34: 47269 | C34: SARS-CoV-2 RNS (COVID-19) noteikšana ar reālā laika PĶR (bez parauga paņemšanas) ātrai diagnostikai un diferenciāldiagnostikai (bez reaģenta vērtības) | D34: 8.25 | I34: 1 | J34: =ROUND(D34*E34+D34*F34+D34*G34+D34*H34+D34*I34,2) -> 8.25
A35: Jūrmalas slimnīca | B35: 47268 | C35: SARS-CoV-2 (COVID-19) antigēna noteikšana (Ag eksprestests) (ar reaģenta komplekta vērtību) | D35: 5.28 | H35: 1 | J35: =ROUND(D35*E35+D35*F35+D35*G35+D35*H35+D35*I35,2) -> 5.28
A36: Jūrmalas slimnīca | B36: 47328 | C36: SARS-CoV-2 (COVID-19) antigēna noteikšana (Ag eksprestests) (bez reaģenta komplekta vērtības) | D36: 3.83 | H36: 42 | I36: 170 | J36: =ROUND(D36*E36+D36*F36+D36*G36+D36*H36+D36*I36,2) -> 811.96
A37: Limbažu slimnīca | B37: 47268 | C37: SARS-CoV-2 (COVID-19) antigēna noteikšana (Ag eksprestests) (ar reaģenta komplekta vērtību) | D37: 4.52 | I37: 95 | J37: =ROUND(D37*E37+D37*F37+D37*G37+D37*H37+D37*I37,2) -> 429.4
A38: Limbažu slimnīca | B38: 47268 | C38: SARS-CoV-2 (COVID-19) antigēna noteikšana (Ag eksprestests) (ar reaģenta komplekta vērtību) | D38: 5.28 | H38: 41 | J38: =ROUND(D38*E38+D38*F38+D38*G38+D38*H38+D38*I38,2) -> 216.48
A39: Ludzas medicīnas centrs | B39: 47268 | C39: SARS-CoV-2 (COVID-19) antigēna noteikšana (Ag eksprestests) (ar reaģenta komplekta vērtību) | D39: 4.52 | I39: 67 | J39: =ROUND(D39*E39+D39*F39+D39*G39+D39*H39+D39*I39,2) -> 302.84
A40: Ludzas medicīnas centrs | B40: 47268 | C40: SARS-CoV-2 (COVID-19) antigēna noteikšana (Ag eksprestests) (ar reaģenta komplekta vērtību) | D40: 5.28 | H40: 26 | J40: =ROUND(D40*E40+D40*F40+D40*G40+D40*H40+D40*I40,2) -> 137.28
A41: Madonas slimnīca | B41: 47268 | C41: SARS-CoV-2 (COVID-19) antigēna noteikšana (Ag eksprestests) (ar reaģenta komplekta vērtību) | D41: 4.52 | I41: 110 | J41: =ROUND(D41*E41+D41*F41+D41*G41+D41*H41+D41*I41,2) -> 497.2
A42: Ogres rajona slimnīca | B42: 47073 | C42: SARS-CoV-2 RNS (COVID-19) noteikšana ar reālā laika PĶR (bez parauga paņemšanas) | D42: 23.32 | H42: 305 | I42: 280 | J42: =ROUND(D42*E42+D42*F42+D42*G42+D42*H42+D42*I42,2) -> 13642.2
A43: Ogres rajona slimnīca | B43: 47268 | C43: SARS-CoV-2 (COVID-19) antigēna noteikšana (Ag eksprestests) (ar reaģenta komplekta vērtību) | D43: 4.52 | I43: 114 | J43: =ROUND(D43*E43+D43*F43+D43*G43+D43*H43+D43*I43,2) -> 515.28
A44: Ogres rajona slimnīca | B44: 47268 | C44: SARS-CoV-2 (COVID-19) antigēna noteikšana (Ag eksprestests) (ar reaģenta komplekta vērtību) | D44: 5.28 | H44: 12 | J44: =ROUND(D44*E44+D44*F44+D44*G44+D44*H44+D44*I44,2) -> 63.36
A45: Paula Stradiņa klīniskā universitātes slimnīca | B45: 47073 | C45: SARS-CoV-2 RNS (COVID-19) noteikšana ar reālā laika PĶR (bez parauga paņemšanas) | D45: 23.32 | F45: 5000 | G45: 4324 | H45: 4261 | I45: 2138 | J45: =ROUND(D45*E45+D45*F45+D45*G45+D45*H45+D45*I45,2) -> 366660.36
A46: Paula Stradiņa klīniskā universitātes slimnīca | B46: 47078 | C46: SARS-CoV-2 RNS (COVID-19) noteikšana ar reālā laika PĶR (bez parauga paņemšanas) ātrai diagnostikai un diferenciāldiagnostikai (ar reaģenta vērtību) | D46: 44.25 | I46: 542 | J46: =ROUND(D46*E46+D46*F46+D46*G46+D46*H46+D46*I46,2) -> 23983.5
A47: Paula Stradiņa klīniskā universitātes slimnīca | B47: 47078 | C47: SARS-CoV-2 RNS (COVID-19) noteikšana ar reālā laika PĶR (bez parauga paņemšanas) ātrai diagnostikai un diferenciāldiagnostikai (ar reaģenta vērtību) | D47: 48.2 | E47: 1 | J47: =ROUND(D47*E47+D47*F47+D47*G47+D47*H47+D47*I47,2) -> 48.2
A48: Paula Stradiņa klīniskā universitātes slimnīca | B48: 47078 | C48: SARS-CoV-2 RNS (COVID-19) noteikšana ar reālā laika PĶR (bez parauga paņemšanas) ātrai diagnostikai un diferenciāldiagnostikai (ar reaģenta vērtību) | D48: 48.58 | F48: 2 | G48: 9 | H48: 137 | J48: =ROUND(D48*E48+D48*F48+D48*G48+D48*H48+D48*I48,2) -> 7189.84
A49: Paula Stradiņa klīniskā universitātes slimnīca | B49: 60046 | C49: COVID-19 transporta barotne ar diviem lokaniem tamponiem ātrajam molekulārajam testam | D49: 0.8 | I49: 545 | J49: =ROUND(D49*E49+D49*F49+D49*G49+D49*H49+D49*I49,2) -> 436
A50: Paula Stradiņa klīniskā universitātes slimnīca | B50: 60046 | C50: COVID-19 transporta barotne ar diviem lokaniem tamponiem ātrajam molekulārajam testam | D50: 1.5 | G50: 5 | H50: 137 | J50: =ROUND(D50*E50+D50*F50+D50*G50+D50*H50+D50*I50,2) -> 213
A51: Piejūras slimnīca | B51: 47328 | C51: SARS-CoV-2 (COVID-19) antigēna noteikšana (Ag eksprestests) (bez reaģenta komplekta vērtības) | D51: 3.83 | I51: 1 | J51: =ROUND(D51*E51+D51*F51+D51*G51+D51*H51+D51*I51,2) -> 3.83
A52: Preiļu slimnīca | B52: 47268 | C52: SARS-CoV-2 (COVID-19) antigēna noteikšana (Ag eksprestests) (ar reaģenta komplekta vērtību) | D52: 5.28 | G52: 2 | J52: =ROUND(D52*E52+D52*F52+D52*G52+D52*H52+D52*I52,2) -> 10.56
A53: Preiļu slimnīca | B53: 47328 | C53: SARS-CoV-2 (COVID-19) antigēna noteikšana (Ag eksprestests) (bez reaģenta komplekta vērtības) | D53: 3.83 | I53: 33 | J53: =ROUND(D53*E53+D53*F53+D53*G53+D53*H53+D53*I53,2) -> 126.39
A54: Rēzeknes slimnīca | B54: 47268 | C54: SARS-CoV-2 (COVID-19) antigēna noteikšana (Ag eksprestests) (ar reaģenta komplekta vērtību) | D54: 4.52 | I54: 911 | J54: =ROUND(D54*E54+D54*F54+D54*G54+D54*H54+D54*I54,2) -> 4117.72
A55: Rēzeknes slimnīca | B55: 47268 | C55: SARS-CoV-2 (COVID-19) antigēna noteikšana (Ag eksprestests) (ar reaģenta komplekta vērtību) | D55: 5.28 | H55: 262 | J55: =ROUND(D55*E55+D55*F55+D55*G55+D55*H55+D55*I55,2) -> 1383.36
A56: Rīgas 2. slimnīca | B56: 47268 | C56: SARS-CoV-2 (COVID-19) antigēna noteikšana (Ag eksprestests) (ar reaģenta komplekta vērtību) | D56: 4.52 | I56: 61 | J56: =ROUND(D56*E56+D56*F56+D56*G56+D56*H56+D56*I56,2) -> 275.72
A57: Rīgas 2. slimnīca | B57: 47268 | C57: SARS-CoV-2 (COVID-19) antigēna noteikšana (Ag eksprestests) (ar reaģenta komplekta vērtību) | D57: 5.28 | F57: 1 | G57: 20 | H57: 53 | J57: =ROUND(D57*E57+D57*F57+D57*G57+D57*H57+D57*I57,2) -> 390.72
A58: Rīgas Austrumu klīniskā universitātes slimnīca | B58: 47073 | C58: SARS-CoV-2 RNS (COVID-19) noteikšana ar reālā laika PĶR (bez parauga paņemšanas) | D58: 23.32 | G58: 5480 | H58: 4579 | I58: 3051 | J58: =ROUND(D58*E58+D58*F58+D58*G58+D58*H58+D58*I58,2) -> 305725.2
A59: Rīgas Austrumu klīniskā universitātes slimnīca | B59: 47078 | C59: SARS-CoV-2 RNS (COVID-19) noteikšana ar reālā laika PĶR (bez parauga paņemšanas) ātrai diagnostikai un diferenciāldiagnostikai (ar reaģenta vērtību) | D59: 44.25 | I59: 1383 | J59: =ROUND(D59*E59+D59*F59+D59*G59+D59*H59+D59*I59,2) -> 61197.75
A60: Rīgas Austrumu klīniskā universitātes slimnīca | B60: 47078 | C60: SARS-CoV-2 RNS (COVID-19) noteikšana ar reālā laika PĶR (bez parauga paņemšanas) ātrai diagnostikai un diferenciāldiagnostikai (ar reaģenta vērtību) | D60: 48.2 | E60: 1 | J60: =ROUND(D60*E60+D60*F60+D60*G60+D60*H60+D60*I60,2) -> 48.2
A61: Rīgas Austrumu klīniskā universitātes slimnīca | B61: 47078 | C61: SARS-CoV-2 RNS (COVID-19) noteikšana ar reālā laika PĶR (bez parauga paņemšanas) ātrai diagnostikai un diferenciāldiagnostikai (ar reaģenta vērtību) | D61: 48.58 | F61: 5 | G61: 15 | H61: 469 | J61: =ROUND(D61*E61+D61*F61+D61*G61+D61*H61+D61*I61,2) -> 23755.62
A62: Rīgas Austrumu klīniskā universitātes slimnīca | B62: 47268 | C62: SARS-CoV-2 (COVID-19) antigēna noteikšana (Ag eksprestests) (ar reaģenta komplekta vērtību) | D62: 5.28 | G62: 1 | H62: 1 | J62: =ROUND(D62*E62+D62*F62+D62*G62+D62*H62+D62*I62,2) -> 10.56
A63: Siguldas slimnīca | B63: 47268 | C63: SARS-CoV-2 (COVID-19) antigēna noteikšana (Ag eksprestests) (ar reaģenta komplekta vērtību) | D63: 4.52 | I63: 83 | J63: =ROUND(D63*E63+D63*F63+D63*G63+D63*H63+D63*I63,2) -> 375.16
A64: Siguldas slimnīca | B64: 47268 | C64: SARS-CoV-2 (COVID-19) antigēna noteikšana (Ag eksprestests) (ar reaģenta komplekta vērtību) | D64: 5.28 | H64: 8 | J64: =ROUND(D64*E64+D64*F64+D64*G64+D64*H64+D64*I64,2) -> 42.24
A65: Slimnīca Ģintermuiža | B65: 47268 | C65: SARS-CoV-2 (COVID-19) antigēna noteikšana (Ag eksprestests) (ar reaģenta komplekta vērtību) | D65: 4.52 | I65: 62 | J65: =ROUND(D65*E65+D65*F65+D65*G65+D65*H65+D65*I65,2) -> 280.24
A66: Slimnīca Ģintermuiža | B66: 47268 | C66: SARS-CoV-2 (COVID-19) antigēna noteikšana (Ag eksprestests) (ar reaģenta komplekta vērtību) | D66: 5.28 | H66: 58 | J66: =ROUND(D66*E66+D66*F66+D66*G66+D66*H66+D66*I66,2) -> 306.24
A67: Strenču psihoneiroloģiskā slimnīca | B67: 47268 | C67: SARS-CoV-2 (COVID-19) antigēna noteikšana (Ag eksprestests) (ar reaģenta komplekta vērtību) | D67: 4.52 | I67: 80 | J67: =ROUND(D67*E67+D67*F67+D67*G67+D67*H67+D67*I67,2) -> 361.6
A68: Strenču psihoneiroloģiskā slimnīca | B68: 47268 | C68: SARS-CoV-2 (COVID-19) antigēna noteikšana (Ag eksprestests) (ar reaģenta komplekta vērtību) | D68: 5.28 | H68: 66 | J68: =ROUND(D68*E68+D68*F68+D68*G68+D68*H68+D68*I68,2) -> 348.48
A69: Tukuma slimnīca | B69: 47328 | C69: SARS-CoV-2 (COVID-19) antigēna noteikšana (Ag eksprestests) (bez reaģenta komplekta vērtības) | D69: 3.83 | H69: 40 | I69: 164 | J69: =ROUND(D69*E69+D69*F69+D69*G69+D69*H69+D69*I69,2) -> 781.32
A70: Vidzemes slimnīca | B70: 47078 | C70: SARS-CoV-2 RNS (COVID-19) noteikšana ar reālā laika PĶR (bez parauga paņemšanas) ātrai diagnostikai un diferenciāldiagnostikai (ar reaģenta vērtību) | D70: 44.25 | I70: 192 | J70: =ROUND(D70*E70+D70*F70+D70*G70+D70*H70+D70*I70,2) -> 8496
A71: Vidzemes slimnīca | B71: 47078 | C71: SARS-CoV-2 RNS (COVID-19) noteikšana ar reālā laika PĶR (bez parauga paņemšanas) ātrai diagnostikai un diferenciāldiagnostikai (ar reaģenta vērtību) | D71: 48.58 | G71: 1 | H71: 48 | J71: =ROUND(D71*E71+D71*F71+D71*G71+D71*H71+D71*I71,2) -> 2380.42
A72: Vidzemes slimnīca | B72: 47268 | C72: SARS-CoV-2 (COVID-19) antigēna noteikšana (Ag eksprestests) (ar reaģenta komplekta vērtību) | D72: 4.52 | I72: 714 | J72: =ROUND(D72*E72+D72*F72+D72*G72+D72*H72+D72*I72,2) -> 3227.28
A73: Vidzemes slimnīca | B73: 47268 | C73: SARS-CoV-2 (COVID-19) antigēna noteikšana (Ag eksprestests) (ar reaģenta komplekta vērtību) | D73: 5.28 | F73: 1 | G73: 20 | H73: 170 | J73: =ROUND(D73*E73+D73*F73+D73*G73+D73*H73+D73*I73,2) -> 1008.48
A74: Ziemeļkurzemes reģionālā slimnīca | B74: 47073 | C74: SARS-CoV-2 RNS (COVID-19) noteikšana ar reālā laika PĶR (bez parauga paņemšanas) | D74: 23.32 | G74: 6 | H74: 37 | I74: 14 | J74: =ROUND(D74*E74+D74*F74+D74*G74+D74*H74+D74*I74,2) -> 1329.24
A75: Ziemeļkurzemes reģionālā slimnīca | B75: 47078 | C75: SARS-CoV-2 RNS (COVID-19) noteikšana ar reālā laika PĶR (bez parauga paņemšanas) ātrai diagnostikai un diferenciāldiagnostikai (ar reaģenta vērtību) | D75: 44.25 | I75: 154 | J75: =ROUND(D75*E75+D75*F75+D75*G75+D75*H75+D75*I75,2) -> 6814.5
A76: Ziemeļkurzemes reģionālā slimnīca | B76: 47078 | C76: SARS-CoV-2 RNS (COVID-19) noteikšana ar reālā laika PĶR (bez parauga paņemšanas) ātrai diagnostikai un diferenciāldiagnostikai (ar reaģenta vērtību) | D76: 48.58 | H76: 48 | J76: =ROUND(D76*E76+D76*F76+D76*G76+D76*H76+D76*I76,2) -> 2331.84
A77: Ziemeļkurzemes reģionālā slimnīca | B77: 47269 | C77: SARS-CoV-2 RNS (COVID-19) noteikšana ar reālā laika PĶR (bez parauga paņemšanas) ātrai diagnostikai un diferenciāldiagnostikai (bez reaģenta vērtības) | D77: 8.25 | I77: 2 | J77: =ROUND(D77*E77+D77*F77+D77*G77+D77*H77+D77*I77,2) -> 16.5
J78: =SUM(J5:J77) -> 971199
J79: =ROUNDUP(J78,0) -> 971199
A81: * Manipulāciju skaits tiek iegūts tikai, kad pacients tiek izrakstīts un karte ievadīta Vadības informācijas sistēmā (atbilstoši līgumam par stacionārās veselības aprūpes pakalpojumu sniegšanu un apmaksu starp Nacionālo Veselības Dienestu (turpmāk Dienests) un ārstniecības iestādi 3. pielikumam, Informācijas apmaiņas kārtība, Dienests apmaksā kartes, kas ievadītas ne vēlāk kā 60 dienas pēc izrakstīšanās datuma). Ārstniecības iestāde kartes var labot līdz nākošā kalendārā gada 8. janvārim. Lai iegūtu precīzu apmaksājamo manipulāciju skaitu, Dienests salīdzina iepriekšējos mēnešos veikto manipulāciju skaitu un apmaksā starpību starp veikto manipulāciju skaitu un jau samaksāto manipulāciju skaitu atbilstoši manipulāciju tarifiem

Sheet ātrie_testi_amb_daļa
F1: Turpinājums pielikumam Nr.49 Ministru kabineta rīkojuma "Par finanšu līdzekļu piešķiršanu no valsts budžeta programmas "Līdzekļi neparedzētiem gadījumiem"" projekta sākotnējās ietekmes novērtējuma ziņojumam (anotācijai)
A2: COVID-19 diagnostikas manipulācijas (ātrie testi, ambulatorā daļa)
A3: Rēķina mēnesis: aprīlis 2022
A4: NVD TN (pakalpojumu sniedzēja) | B4: ĀI (pakalpojumu sniedzēja) kods | C4: ĀI (pakalpojumu sniedzēja) nosaukums | D4: Manipulācijas kods | E4: Manipulācijas nosaukums | F4: Manipulāciju skaits | G4: Tarifs, euro | H4: Summa, euro
A5: NVD Kurzemes nodaļa | B5: 640800004 | C5: Dr. Būmanes ģimenes ārsta prakse, SIA | D5: 47268 | E5: SARS-CoV-2 (COVID-19) antigēna noteikšana (Ag eksprestests) (ar reaģenta komplekta vērtību) | F5: 13 | G5: 4.52 | H5: =F5*G5 -> 58.76
A6: NVD Kurzemes nodaļa | B6: 648500001 | C6: Medeor, SIA | D6: 47268 | E6: SARS-CoV-2 (COVID-19) antigēna noteikšana (Ag eksprestests) (ar reaģenta komplekta vērtību) | F6: 1 | G6: 4.52 | H6: =F6*G6 -> 4.52
A7: NVD Kurzemes nodaļa | B7: 880200022 | C7: Vija Sniedziņa, IK | D7: 47268 | E7: SARS-CoV-2 (COVID-19) antigēna noteikšana (Ag eksprestests) (ar reaģenta komplekta vērtību) | F7: 1 | G7: 4.52 | H7: =F7*G7 -> 4.52
A8: NVD Kurzemes nodaļa | B8: 900200046 | C8: Tukuma slimnīca, Sabiedrība ar ierobežotu atbildību | D8: 47328 | E8: SARS-CoV-2 (COVID-19) antigēna noteikšana (Ag eksprestests) (bez reaģenta komplekta vērtības) | F8: 110 | G8: 3.83 | H8: =F8*G8 -> 421.3
A9: NVD Latgales nodaļa | B9: 050020401 | C9: Daugavpils reģionālā slimnīca, Sabiedrība ar ierobežotu atbildību | D9: 47078 | E9: SARS-CoV-2 RNS (COVID-19) noteikšana ar reālā laika PĶR (bez parauga paņemšanas) ātrai diagnostikai un diferenciāldiagnostikai (ar reaģenta vērtību) | F9: 581 | G9: 44.25 | H9: =F9*G9 -> 25709.25
A10: NVD Latgales nodaļa | B10: 050075422 | C10: Voicehoviča Jekaterīna - ģimenes ārsta prakse | D10: 47268 | E10: SARS-CoV-2 (COVID-19) antigēna noteikšana (Ag eksprestests) (ar reaģenta komplekta vērtību) | F10: 1 | G10: 4.52 | H10: =F10*G10 -> 4.52
A11: NVD Latgales nodaļa | B11: 681000006 | C11: Vorkale Anita - ģimenes ārsta un arodveselības un arodslimību ārsta prakse | D11: 47268 | E11: SARS-CoV-2 (COVID-19) antigēna noteikšana (Ag eksprestests) (ar reaģenta komplekta vērtību) | F11: 13 | G11: 4.52 | H11: =F11*G11 -> 58.76
A12: NVD Rīgas nodaļa | B12: 010011804 | C12: Bērnu klīniskā universitātes slimnīca, Valsts sabiedrība ar ierobežotu atbildību | D12: 47078 | E12: SARS-CoV-2 RNS (COVID-19) noteikšana ar reālā laika PĶR (bez parauga paņemšanas) ātrai diagnostikai un diferenciāldiagnostikai (ar reaģenta vērtību) | F12: 414 | G12: 44.25 | H12: =F12*G12 -> 18319.5
A13: NVD Rīgas nodaļa | B13: 010011804 | C13: Bērnu klīniskā universitātes slimnīca, Valsts sabiedrība ar ierobežotu atbildību | D13: 47328 | E13: SARS-CoV-2 (COVID-19) antigēna noteikšana (Ag eksprestests) (bez reaģenta komplekta vērtības) | F13: 2 | G13: 3.83 | H13: =F13*G13 -> 7.66
A14: NVD Rīgas nodaļa | B14: 010064120 | C14: Veselības centru apvienība, AS | D14: 47268 | E14: SARS-CoV-2 (COVID-19) antigēna noteikšana (Ag eksprestests) (ar reaģenta komplekta vērtību) | F14: 10 | G14: 4.52 | H14: =F14*G14 -> 45.2
A15: NVD Rīgas nodaļa | B15: 130020302 | C15: Jūrmalas slimnīca, Sabiedrība ar ierobežotu atbildību | D15: 47328 | E15: SARS-CoV-2 (COVID-19) antigēna noteikšana (Ag eksprestests) (bez reaģenta komplekta vērtības) | F15: 133 | G15: 3.83 | H15: =F15*G15 -> 509.39
A16: NVD Vidzemes nodaļa | B16: 250000092 | C16: Vidzemes slimnīca, Sabiedrība ar ierobežotu atbildību | D16: 47078 | E16: SARS-CoV-2 RNS (COVID-19) noteikšana ar reālā laika PĶR (bez parauga paņemšanas) ātrai diagnostikai un diferenciāldiagnostikai (ar reaģenta vērtību) | F16: 47 | G16: 44.25 | H16: =F16*G16 -> 2079.75
... A27: NVD Zemgales nodaļa | B27: 741400024 | C27: Pokule Ineta - ģimenes ārsta prakse | D27: 47268 | E27: SARS-CoV-2 (COVID-19) antigēna noteikšana (Ag eksprestests) (ar reaģenta komplekta vērtību) | F27: 1 | G27: 4.52 | H27: =F27*G27 -> 4.52
G28: Pavisam kopā: | H28: =SUM(H5:H27) -> 51853.04
G29: Kopā | H29: =ROUNDUP(H28,0) -> 51854

Sheet Covid_pakalp_progr
F1: Turpinājums pielikumam Nr.48 Ministru kabineta rīkojuma "Par finanšu līdzekļu piešķiršanu no valsts budžeta programmas "Līdzekļi neparedzētiem gadījumiem"" projekta sākotnējās ietekmes novērtējuma ziņojumam (anotācijai)
A2: Covid-19 pakalpojumu programma
A3: Rēķina mēnesis: aprīlis 2022
A4: NVD TN (pakalpojumu sniedzēja) | B4: ĀI (pakalpojumu sniedzēja) | C4: Pakalpojumu programma | D4: Manipulācijas kods | E4: Manipulācijas nosaukums | F4: Manipulāciju skaits | G4: Tarifs | H4: Summa
A5: 12 - NVD Rīgas nodaļa | B5: 010000234 - Rīgas Austrumu klīniskā universitātes slimnīca, SIA | C5: AP82 - Covid-19 laboratorijas pakalpojumi | D5: 47060 | E5: SARS-CoV-2 (COVID-19) ambulatora parauga (nazofaringeāla uztriepe) paņemšana pārvietojamā teltī, modulī vai izbraukumā | F5: 949 | G5: 3.24 | H5: =F5*G5 -> 3074.76
A6: 12 - NVD Rīgas nodaļa | B6: 010000234 - Rīgas Austrumu klīniskā universitātes slimnīca, SIA | C6: AP82 - Covid-19 laboratorijas pakalpojumi | D6: 47073 | E6: SARS-CoV-2 RNS (COVID-19) noteikšana ar reālā laika PĶR (bez parauga paņemšanas) | F6: 2259 | G6: 23.32 | H6: =F6*G6 -> 52679.88
A7: 12 - NVD Rīgas nodaļa | B7: 010000234 - Rīgas Austrumu klīniskā universitātes slimnīca, SIA | C7: AP82 - Covid-19 laboratorijas pakalpojumi | D7: 47075 | E7: SARS-CoV-2 RNS (COVID-19) apstiprināšana ar reālā laika PĶR (bez parauga paņemšanas) | F7: 200 | G7: 24.59 | H7: =F7*G7 -> 4918
A8: 12 - NVD Rīgas nodaļa | B8: 010000234 - Rīgas Austrumu klīniskā universitātes slimnīca, SIA | C8: AP82 - Covid-19 laboratorijas pakalpojumi | D8: 47078 | E8: SARS-CoV-2 RNS (COVID-19) noteikšana ar reālā laika PĶR (bez parauga paņemšanas) ātrai diagnostikai un diferenciāldiagnostikai (ar reaģenta vērtību) | F8: 432 | G8: 44.25 | H8: =F8*G8 -> 19116
A9: 12 - NVD Rīgas nodaļa | B9: 010000234 - Rīgas Austrumu klīniskā universitātes slimnīca, SIA | C9: AP82 - Covid-19 laboratorijas pakalpojumi | D9: 47079 | E9: SARS-CoV-2 (COVID-19) transporta barotne ar diviem lokaniem tamponiem | F9: 5497 | G9: 0.8 | H9: =F9*G9 -> 4397.6
A10: 12 - NVD Rīgas nodaļa | B10: 010000234 - Rīgas Austrumu klīniskā universitātes slimnīca, SIA | C10: AP82 - Covid-19 laboratorijas pakalpojumi | D10: 47416 | E10: SARS-CoV-2 (COVID-19) ambulatora parauga (nazofaringeāla uztriepe) paņemšana laboratorijā | F10: 233 | G10: 2.29 | H10: =F10*G10 -> 533.57
A11: 12 - NVD Rīgas nodaļa | B11: 010000234 - Rīgas Austrumu klīniskā universitātes slimnīca, SIA | C11: AP82 - Covid-19 laboratorijas pakalpojumi | D11: 47417 | E11: SARS-CoV-2 vīrusa variantu skrīninga PĶR tests | F11: 128 | G11: 34.01 | H11: =F11*G11 -> 4353.28
A12: 13 - NVD Rīgas nodaļa | B12: 010000234 - Rīgas Austrumu klīniskā universitātes slimnīca, SIA | C12: AP82 - Covid-19 laboratorijas pakalpojumi | D12: 47075R | E12: R SARS-CoV-2 RNS (COVID 19) apstiprināšana ar reālā laika PĶR (bez parauga paņemšanas) | F12: 2985 | G12: 24.59 | H12: =F12*G12 -> 73401.15
G13: Kopā: | H13: =SUM(H5:H12) -> 162474.24
G14: Reaģenti | H14: 0
G15: Pavisam kopā: | H15: =H13+H14 -> 162474.24
H16: =ROUNDUP(H15,0) -> 162475
A18: NVD TN (pakalpojumu sniedzēja) | B18: ĀI (pakalpojumu sniedzēja) | C18: Pakalpojumu programma | D18: Manipulācijas kods | E18: Manipulācijas nosaukums | F18: Manipulāciju skaits | G18: Tarifs | H18: Summa
A19: 12 - NVD Rīgas nodaļa | B19: 010000297 - Pārtikas drošības, dzīvnieku veselības un vides zinātniskais institūts "BIOR" | C19: AP82 - Covid-19 laboratorijas pakalpojumi | D19: 47060 | E19: SARS-CoV-2 (COVID-19) ambulatora parauga (nazofaringeāla uztriepe) paņemšana pārvietojamā teltī, modulī vai izbraukumā | F19: 831 | G19: 3.24 | H19: =F19*G19 -> 2692.44
A20: 12 - NVD Rīgas nodaļa | B20: 010000297 - Pārtikas drošības, dzīvnieku veselības un vides zinātniskais institūts "BIOR" | C20: AP82 - Covid-19 laboratorijas pakalpojumi | D20: 47073 | E20: SARS-CoV-2 RNS (COVID-19) noteikšana ar reālā laika PĶR (bez parauga paņemšanas) | F20: 1435 | G20: 23.32 | H20: =F20*G20 -> 33464.2
A21: 12 - NVD Rīgas nodaļa | B21: 010000297 - Pārtikas drošības, dzīvnieku veselības un vides zinātniskais institūts "BIOR" | C21: AP82 - Covid-19 laboratorijas pakalpojumi | D21: 47079 | E21: SARS-CoV-2 (COVID-19) transporta barotne ar diviem lokaniem tamponiem | F21: 831 | G21: 0.8 | H21: =F21*G21 -> 664.8
A22: 12 - NVD Rīgas nodaļa | B22: 010000297 - Pārtikas drošības, dzīvnieku veselības un vides zinātniskais institūts "BIOR" | C22: AP82 - Covid-19 laboratorijas pakalpojumi | D22: 47268 | E22: SARS-CoV-2 (COVID-19) antigēna noteikšana (Ag eksprestests) (ar reaģenta komplekta vērtību) | F22: 68 | G22: 4.52 | H22: =F22*G22 -> 307.36
A23: 12 - NVD Rīgas nodaļa | B23: 010000297 - Pārtikas drošības, dzīvnieku veselības un vides zinātniskais institūts "BIOR" | C23: AP82 - Covid-19 laboratorijas pakalpojumi | D23: 47405 | E23: Siekalu parauga paņemšanas komplekts SARS-CoV-2 (COVID-19) izmeklējumam | F23: 604 | G23: 1.7 | H23: =F23*G23 -> 1026.8
G24: Pavisam kopā: | H24: =SUM(H19:H23) -> 38155.6
H25: =ROUNDUP(H24,0) -> 38156
A27: NVD TN (pakalpojumu sniedzēja) | B27: ĀI (pakalpojumu sniedzēja) | C27: Pakalpojumu programma | D27: Manipulācijas kods | E27: Manipulācijas nosaukums | F27: Manipulāciju skaits | G27: Tarifs | H27: Summa
A28: 12 - NVD Rīgas nodaļa | B28: 010064111 - Dziedniecība, Sabiedrība ar ierobežotu atbildību | C28: AP82 - Covid-19 laboratorijas pakalpojumi | D28: 47060 | E28: SARS-CoV-2 (COVID-19) ambulatora parauga (nazofaringeāla uztriepe) paņemšana pārvietojamā teltī, modulī vai izbraukumā | F28: 5610 | G28: 3.24 | H28: =F28*G28 -> 18176.4
A29: 12 - NVD Rīgas nodaļa | B29: 010064111 - Dziedniecība, Sabiedrība ar ierobežotu atbildību | C29: AP82 - Covid-19 laboratorijas pakalpojumi | D29: 47073 | E29: SARS-CoV-2 RNS (COVID-19) noteikšana ar reālā laika PĶR (bez parauga paņemšanas) | F29: 5610 | G29: 23.32 | H29: =F29*G29 -> 130825.2
A30: 12 - NVD Rīgas nodaļa | B30: 010064111 - Dziedniecība, Sabiedrība ar ierobežotu atbildību | C30: AP82 - Covid-19 laboratorijas pakalpojumi | D30: 47075 | E30: SARS-CoV-2 RNS (COVID-19) apstiprināšana ar reālā laika PĶR (bez parauga paņemšanas) | F30: 1669 | G30: 24.59 | H30: =F30*G30 -> 41040.71
A31: 12 - NVD Rīgas nodaļa | B31: 010064111 - Dziedniecība, Sabiedrība ar ierobežotu atbildību | C31: AP82 - Covid-19 laboratorijas pakalpojumi | D31: 47079 | E31: SARS-CoV-2 (COVID-19) transporta barotne ar diviem lokaniem tamponiem | F31: 5610 | G31: 0.8 | H31: =F31*G31 -> 4488
A32: 12 - NVD Rīgas nodaļa | B32: 010064111 - Dziedniecība, Sabiedrība ar ierobežotu atbildību | C32: AP82 - Covid-19 laboratorijas pakalpojumi | D32: 47268 | E32: SARS-CoV-2 (COVID-19) antigēna noteikšana (Ag eksprestests) (ar reaģenta komplekta vērtību) | F32: 1444 | G32: 4.52 | H32: =F32*G32 -> 6526.88
A33: 12 - NVD Rīgas nodaļa | B33: 010064111 - Dziedniecība, Sabiedrība ar ierobežotu atbildību | C33: AP82 - Covid-19 laboratorijas pakalpojumi | D33: 47403 | E33: SARS-CoV-2 RNS (COVID-19) noteikšana ar "pooling" metodi (10 paraugi) (bez parauga paņemšanas) | F33: 318 | G33: 6.37 | H33: =F33*G33 -> 2025.66
A34: 12 - NVD Rīgas nodaļa | B34: 010064111 - Dziedniecība, Sabiedrība ar ierobežotu atbildību | C34: AP82 - Covid-19 laboratorijas pakalpojumi | D34: 47405 | E34: Siekalu parauga paņemšanas komplekts SARS-CoV-2 (COVID-19) izmeklējumam | F34: 356 | G34: 1.7 | H34: =F34*G34 -> 605.2
A35: 13 - NVD Rīgas nodaļa | B35: 010064111 - Dziedniecība, Sabiedrība ar ierobežotu atbildību | C35: AP82 - Covid-19 laboratorijas pakalpojumi | D35: 47409 | E35: SARS-CoV-2 RNS (COVID-19) noteikšana ar "pooling" metodi (5 paraugi) (bez parauga paņemšanas) | F35: 38 | G35: 8.03 | H35: =F35*G35 -> 305.14
A36: 13 - NVD Rīgas nodaļa | B36: 010064111 - Dziedniecība, Sabiedrība ar ierobežotu atbildību | C36: AP82 - Covid-19 laboratorijas pakalpojumi | D36: 47417 | E36: SARS-CoV-2 vīrusa variantu skrīninga PĶR tests | F36: 1645 | G36: 34.01 | H36: =F36*G36 -> 55946.45
G37: Pavisam kopā: | H37: =SUM(H28:H36) -> 259939.64
H38: =ROUNDUP(H37,0) -> 259940
A40: NVD TN (pakalpojumu sniedzēja) | B40: ĀI (pakalpojumu sniedzēja) | C40: Pakalpojumu programma | D40: Manipulācijas kods | E40: Manipulācijas nosaukums | F40: Manipulāciju skaits | G40: Tarifs | H40: Summa
A41: 12 - NVD Rīgas nodaļa | B41: 010068301 - NMS Laboratorija, SIA | C41: AP82 - Covid-19 laboratorijas pakalpojumi | D41: 47073 | E41: SARS-CoV-2 RNS (COVID-19) noteikšana ar reālā laika PĶR (bez parauga paņemšanas) | F41: 1486 | G41: 23.32 | H41: =F41*G41 -> 34653.52
A42: 12 - NVD Rīgas nodaļa | B42: 010068301 - NMS Laboratorija, SIA | C42: AP82 - Covid-19 laboratorijas pakalpojumi | D42: 47079 | E42: SARS-CoV-2 (COVID-19) transporta barotne ar diviem lokaniem tamponiem | F42: 1485 | G42: 0.8 | H42: =F42*G42 -> 1188
A43: 12 - NVD Rīgas nodaļa | B43: 010068301 - NMS Laboratorija, SIA | C43: AP82 - Covid-19 laboratorijas pakalpojumi | D43: 47268 | E43: SARS-CoV-2 (COVID-19) antigēna noteikšana (Ag eksprestests) (ar reaģenta komplekta vērtību) | F43: 114 | G43: 4.52 | H43: =F43*G43 -> 515.28
A44: 12 - NVD Rīgas nodaļa | B44: 010068301 - NMS Laboratorija, SIA | C44: AP82 - Covid-19 laboratorijas pakalpojumi | D44: 47416 | E44: SARS-CoV-2 (COVID-19) ambulatora parauga (nazofaringeāla uztriepe) paņemšana laboratorijā | F44: 1381 | G44: 2.29 | H44: =F44*G44 -> 3162.49
G45: Pavisam kopā: | H45: =SUM(H41:H44) -> 39519.29
H46: =ROUNDUP(H45,0) -> 39520
A48: NVD TN (pakalpojumu sniedzēja) | B48: ĀI (pakalpojumu sniedzēja) | C48: Pakalpojumu programma | D48: Manipulācijas kods | E48: Manipulācijas nosaukums | F48: Manipulāciju skaits | G48: Tarifs | H48: Summa
A49: 12 - NVD Rīgas nodaļa | B49: 010068302 - CENTRĀLĀ LABORATORIJA, Sabiedrība ar ierobežotu atbildību | C49: AP82 - Covid-19 laboratorijas pakalpojumi | D49: 47060 | E49: SARS-CoV-2 (COVID-19) ambulatora parauga (nazofaringeāla uztriepe) paņemšana pārvietojamā teltī, modulī vai izbraukumā | F49: 13645 | G49: 3.24 | H49: =F49*G49 -> 44209.8
A50: 12 - NVD Rīgas nodaļa | B50: 010068302 - CENTRĀLĀ LABORATORIJA, Sabiedrība ar ierobežotu atbildību | C50: AP82 - Covid-19 laboratorijas pakalpojumi | D50: 47073 | E50: SARS-CoV-2 RNS (COVID-19) noteikšana ar reālā laika PĶR (bez parauga paņemšanas) | F50: 34156 | G50: 23.32 | H50: =F50*G50 -> 796517.92
A51: 12 - NVD Rīgas nodaļa | B51: 010068302 - CENTRĀLĀ LABORATORIJA, Sabiedrība ar ierobežotu atbildību | C51: AP82 - Covid-19 laboratorijas pakalpojumi | D51: 47075 | E51: SARS-CoV-2 RNS (COVID-19) apstiprināšana ar reālā laika PĶR (bez parauga paņemšanas) | F51: 7371 | G51: 24.59 | H51: =F51*G51 -> 181252.89
A52: 12 - NVD Rīgas nodaļa | B52: 010068302 - CENTRĀLĀ LABORATORIJA, Sabiedrība ar ierobežotu atbildību | C52: AP82 - Covid-19 laboratorijas pakalpojumi | D52: 47078 | E52: SARS-CoV-2 RNS (COVID-19) noteikšana ar reālā laika PĶR (bez parauga paņemšanas) ātrai diagnostikai un diferenciāldiagnostikai (ar reaģenta vērtību) | F52: 1900 | G52: 44.25 | H52: =F52*G52 -> 84075
A53: 12 - NVD Rīgas nodaļa | B53: 010068302 - CENTRĀLĀ LABORATORIJA, Sabiedrība ar ierobežotu atbildību | C53: AP82 - Covid-19 laboratorijas pakalpojumi | D53: 47079 | E53: SARS-CoV-2 (COVID-19) transporta barotne ar diviem lokaniem tamponiem | F53: 20081 | G53: 0.8 | H53: =F53*G53 -> 16064.8
A54: 12 - NVD Rīgas nodaļa | B54: 010068302 - CENTRĀLĀ LABORATORIJA, Sabiedrība ar ierobežotu atbildību | C54: AP82 - Covid-19 laboratorijas pakalpojumi | D54: 47268 | E54: SARS-CoV-2 (COVID-19) antigēna noteikšana (Ag eksprestests) (ar reaģenta komplekta vērtību) | F54: 6765 | G54: 4.52 | H54: =F54*G54 -> 30577.8
A55: 12 - NVD Rīgas nodaļa | B55: 010068302 - CENTRĀLĀ LABORATORIJA, Sabiedrība ar ierobežotu atbildību | C55: AP82 - Covid-19 laboratorijas pakalpojumi | D55: 47403 | E55: SARS-CoV-2 RNS (COVID-19) noteikšana ar "pooling" metodi (10 paraugi) (bez parauga paņemšanas) | F55: 5 | G55: 6.37 | H55: =F55*G55 -> 31.85
A56: 12 - NVD Rīgas nodaļa | B56: 010068302 - CENTRĀLĀ LABORATORIJA, Sabiedrība ar ierobežotu atbildību | C56: AP82 - Covid-19 laboratorijas pakalpojumi | D56: 47405 | E56: Siekalu parauga paņemšanas komplekts SARS-CoV-2 (COVID-19) izmeklējumam | F56: 3318 | G56: 1.7 | H56: =F56*G56 -> 5640.6
A57: 13 - NVD Rīgas nodaļa | B57: 010068302 - CENTRĀLĀ LABORATORIJA, Sabiedrība ar ierobežotu atbildību | C57: AP82 - Covid-19 laboratorijas pakalpojumi | D57: 47409 | E57: SARS-CoV-2 RNS (COVID-19) noteikšana ar "pooling" metodi (5 paraugi) (bez parauga paņemšanas) | F57: 3313 | G57: 8.03 | H57: =F57*G57 -> 26603.39
A58: 13 - NVD Rīgas nodaļa | B58: 010068302 - CENTRĀLĀ LABORATORIJA, Sabiedrība ar ierobežotu atbildību | C58: AP82 - Covid-19 laboratorijas pakalpojumi | D58: 47417 | E58: SARS-CoV-2 vīrusa variantu skrīninga PĶR tests | F58: 3 | G58: 34.01 | H58: =F58*G58 -> 102.03
A59: 13 - NVD Rīgas nodaļa | B59: 010068302 - CENTRĀLĀ LABORATORIJA, Sabiedrība ar ierobežotu atbildību | C59: AP82 - Covid-19 laboratorijas pakalpojumi | D59: 47419 | E59: Siekalu parauga paņemšana un testēšana ar uztriepes kociņu vai "Lollipop" metodi | F59: 8 | G59: 3.73 | H59: =F59*G59 -> 29.84
A60: 13 - NVD Rīgas nodaļa | B60: 010068302 - CENTRĀLĀ LABORATORIJA, Sabiedrība ar ierobežotu atbildību | C60: AP82 - Covid-19 laboratorijas pakalpojumi | D60: 60173 | E60: Ceļa izdevumi par 10 minūtēm SARS-CoV-2 (COVID-19) parauga paņemšanai pacienta dzīvesvietā | F60: 1744 | G60: 3.79 | H60: =F60*G60 -> 6609.76
G61: Pavisam kopā: | H61: =SUM(H49:H60) -> 1191715.7
H62: =ROUNDUP(H61,0) -> 1191716
A64: NVD TN (pakalpojumu sniedzēja) | B64: ĀI (pakalpojumu sniedzēja) | C64: Pakalpojumu programma | D64: Manipulācijas kods | E64: Manipulācijas nosaukums | F64: Manipulāciju skaits | G64: Tarifs | H64: Summa
A65: 12 - NVD Rīgas nodaļa | B65: 010068303 - E.GULBJA LABORATORIJA, Sabiedrība ar ierobežotu atbildību | C65: AP82 - Covid-19 laboratorijas pakalpojumi | D65: 47060 | E65: SARS-CoV-2 (COVID-19) ambulatora parauga (nazofaringeāla uztriepe) paņemšana pārvietojamā teltī, modulī vai izbraukumā | F65: 10241 | G65: 3.24 | H65: =F65*G65 -> 33180.84
A66: 12 - NVD Rīgas nodaļa | B66: 010068303 - E.GULBJA LABORATORIJA, Sabiedrība ar ierobežotu atbildību | C66: AP82 - Covid-19 laboratorijas pakalpojumi | D66: 47073 | E66: SARS-CoV-2 RNS (COVID-19) noteikšana ar reālā laika PĶR (bez parauga paņemšanas) | F66: 27890 | G66: 23.32 | H66: =F66*G66 -> 650394.8
A67: 12 - NVD Rīgas nodaļa | B67: 010068303 - E.GULBJA LABORATORIJA, Sabiedrība ar ierobežotu atbildību | C67: AP82 - Covid-19 laboratorijas pakalpojumi | D67: 47075 | E67: SARS-CoV-2 RNS (COVID-19) apstiprināšana ar reālā laika PĶR (bez parauga paņemšanas) | F67: 4937 | G67: 24.59 | H67: =F67*G67 -> 121400.83
A68: 12 - NVD Rīgas nodaļa | B68: 010068303 - E.GULBJA LABORATORIJA, Sabiedrība ar ierobežotu atbildību | C68: AP82 - Covid-19 laboratorijas pakalpojumi | D68: 47079 | E68: SARS-CoV-2 (COVID-19) transporta barotne ar diviem lokaniem tamponiem | F68: 9442 | G68: 0.8 | H68: =F68*G68 -> 7553.6
A69: 12 - NVD Rīgas nodaļa | B69: 010068303 - E.GULBJA LABORATORIJA, Sabiedrība ar ierobežotu atbildību | C69: AP82 - Covid-19 laboratorijas pakalpojumi | D69: 47268 | E69: SARS-CoV-2 (COVID-19) antigēna noteikšana (Ag eksprestests) (ar reaģenta komplekta vērtību) | F69: 4209 | G69: 4.52 | H69: =F69*G69 -> 19024.68
A70: 12 - NVD Rīgas nodaļa | B70: 010068303 - E.GULBJA LABORATORIJA, Sabiedrība ar ierobežotu atbildību | C70: AP82 - Covid-19 laboratorijas pakalpojumi | D70: 47405 | E70: Siekalu parauga paņemšanas komplekts SARS-CoV-2 (COVID-19) izmeklējumam | F70: 8207 | G70: 1.7 | H70: =F70*G70 -> 13951.9
A71: 12 - NVD Rīgas nodaļa | B71: 010068303 - E.GULBJA LABORATORIJA, Sabiedrība ar ierobežotu atbildību | C71: AP82 - Covid-19 laboratorijas pakalpojumi | D71: 47419 | E71: Siekalu parauga paņemšana un testēšana ar uztriepes kociņu vai "Lollipop" metodi | F71: 556 | G71: 3.73 | H71: =F71*G71 -> 2073.88
G72: Pavisam kopā: | H72: =SUM(H65:H71) -> 847580.53
H73: =ROUNDUP(H72,0) -> 847581
A75: NVD TN (pakalpojumu sniedzēja) | B75: ĀI (pakalpojumu sniedzēja) | C75: Pakalpojumu programma | D75: Manipulācijas kods | E75: Manipulācijas nosaukums | F75: Manipulāciju skaits | G75: Tarifs | H75: Summa
A76: 12 - NVD Rīgas nodaļa | B76: 010011803 - Paula Stradiņa klīniskā universitātes slimnīca, Valsts sabiedrība ar ierobežotu atbildību | C76: AP82 - Covid-19 laboratorijas pakalpojumi | D76: 47073 | E76: SARS-CoV-2 RNS (COVID-19) noteikšana ar reālā laika PĶR (bez parauga paņemšanas) | F76: 1407 | G76: 23.32 | H76: =F76*G76 -> 32811.24
A77: 12 - NVD Rīgas nodaļa | B77: 010011803 - Paula Stradiņa klīniskā universitātes slimnīca, Valsts sabiedrība ar ierobežotu atbildību | C77: AP82 - Covid-19 laboratorijas pakalpojumi | D77: 47078 | E77: SARS-CoV-2 RNS (COVID-19) noteikšana ar reālā laika PĶR (bez parauga paņemšanas) ātrai diagnostikai un diferenciāldiagnostikai (ar reaģenta vērtību) | F77: 118 | G77: 44.25 | H77: =F77*G77 -> 5221.5
A78: 12 - NVD Rīgas nodaļa | B78: 010011803 - Paula Stradiņa klīniskā universitātes slimnīca, Valsts sabiedrība ar ierobežotu atbildību | C78: AP82 - Covid-19 laboratorijas pakalpojumi | D78: 60046 | E78: COVID-19 transporta barotne ar diviem lokaniem tamponiem ātrajam molekulārajam testam | F78: 118 | G78: 0.8 | H78: =F78*G78 -> 94.4
G79: Pavisam kopā: | H79: =SUM(H76:H78) -> 38127.14
H80: =ROUNDUP(H79,0) -> 38128
A82: NVD TN (pakalpojumu sniedzēja) | B82: ĀI (pakalpojumu sniedzēja) | C82: Pakalpojumu programma | D82: Manipulācijas kods | E82: Manipulācijas nosaukums | F82: Manipulāciju skaits | G82: Tarifs | H82: Summa
A83: 12 - NVD Rīgas nodaļa | B83: 010001045 - Biocon, Sabiedrība ar ierobežotu atbildību | C83: AP82 - Covid-19 laboratorijas pakalpojumi | D83: 47073 | E83: SARS-CoV-2 RNS (COVID-19) noteikšana ar reālā laika PĶR (bez parauga paņemšanas) | F83: 146 | G83: 23.32 | H83: =F83*G83 -> 3404.72
A84: 12 - NVD Rīgas nodaļa | B84: 010001045 - Biocon, Sabiedrība ar ierobežotu atbildību | C84: AP82 - Covid-19 laboratorijas pakalpojumi | D84: 47416 | E84: SARS-CoV-2 (COVID-19) ambulatora parauga (nazofaringeāla uztriepe) paņemšana laboratorijā | F84: 6 | G84: 2.29 | H84: =F84*G84 -> 13.74
G85: Pavisam kopā: | H85: =SUM(H83:H84) -> 3418.46
H86: =ROUNDUP(H85,0) -> 3419
A88: NVD TN (pakalpojumu sniedzēja) | B88: ĀI (pakalpojumu sniedzēja) | C88: Pakalpojumu programma | D88: Manipulācijas kods | E88: Manipulācijas nosaukums | F88: Manipulāciju skaits | G88: Tarifs | H88: Summa
A89: 12 - NVD Rīgas nodaļa | B89: 010001433 - iVF Riga, SIA | C89: AP82 - Covid-19 laboratorijas pakalpojumi | D89: 47060 | E89: SARS-CoV-2 (COVID-19) ambulatora parauga (nazofaringeāla uztriepe) paņemšana pārvietojamā teltī, modulī vai izbraukumā | F89: 393 | G89: 3.24 | H89: =F89*G89 -> 1273.32
A90: 12 - NVD Rīgas nodaļa | B90: 010001433 - iVF Riga, SIA | C90: AP82 - Covid-19 laboratorijas pakalpojumi | D90: 47073 | E90: SARS-CoV-2 RNS (COVID-19) noteikšana ar reālā laika PĶR (bez parauga paņemšanas) | F90: 276 | G90: 23.32 | H90: =F90*G90 -> 6436.32
A91: 12 - NVD Rīgas nodaļa | B91: 010001433 - iVF Riga, SIA | C91: AP82 - Covid-19 laboratorijas pakalpojumi | D91: 47075 | E91: SARS-CoV-2 RNS (COVID-19) apstiprināšana ar reālā laika PĶR (bez parauga paņemšanas) | F91: 117 | G91: 24.59 | H91: =F91*G91 -> 2877.03
A92: 12 - NVD Rīgas nodaļa | B92: 010001433 - iVF Riga, SIA | C92: AP82 - Covid-19 laboratorijas pakalpojumi | D92: 47079 | E92: SARS-CoV-2 (COVID-19) transporta barotne ar diviem lokaniem tamponiem | F92: 393 | G92: 0.8 | H92: =F92*G92 -> 314.4
A93: 12 - NVD Rīgas nodaļa | B93: 010001433 - iVF Riga, SIA | C93: AP82 - Covid-19 laboratorijas pakalpojumi | D93: 47268 | E93: SARS-CoV-2 (COVID-19) antigēna noteikšana (Ag eksprestests) (ar reaģenta komplekta vērtību) | F93: 227 | G93: 4.52 | H93: =F93*G93 -> 1026.04
A94: 12 - NVD Rīgas nodaļa | B94: 010001433 - iVF Riga, SIA | C94: AP82 - Covid-19 laboratorijas pakalpojumi | D94: 47405 | E94: Siekalu parauga paņemšanas komplekts SARS-CoV-2 (COVID-19) izmeklējumam | F94: 1 | G94: 1.7 | H94: =F94*G94 -> 1.7
A95: 12 - NVD Rīgas nodaļa | B95: 010001433 - iVF Riga, SIA | C95: AP82 - Covid-19 laboratorijas pakalpojumi | D95: 47406 | E95: SARS-CoV-2 RNS (COVID-19) noteikšana ar "pooling" metodi (2 paraugi) (bez parauga paņemšanas) | F95: 1 | G95: 13.04 | H95: =F95*G95 -> 13.04
G96: Pavisam kopā: | H96: =SUM(H89:H95) -> 11941.85
H97: =ROUNDUP(H96,0) -> 11942
A99: NVD TN (pakalpojumu sniedzēja) | B99: ĀI (pakalpojumu sniedzēja) | C99: Pakalpojumu programma | D99: Manipulācijas kods | E99: Manipulācijas nosaukums | F99: Manipulāciju skaits | G99: Tarifs | H99: Summa
A100: 12 - NVD Rīgas nodaļa | B100: 010064114 - VESELĪBAS CENTRS 4, Sabiedrība ar ierobežotu atbildību | C100: AP82 - Covid-19 laboratorijas pakalpojumi | D100: 47060 | E100: SARS-CoV-2 (COVID-19) ambulatora parauga (nazofaringeāla uztriepe) paņemšana pārvietojamā teltī, modulī vai izbraukumā | F100: 359 | G100: 3.24 | H100: =F100*G100 -> 1163.16
A101: 12 - NVD Rīgas nodaļa | B101: 010064114 - VESELĪBAS CENTRS 4, Sabiedrība ar ierobežotu atbildību | C101: AP82 - Covid-19 laboratorijas pakalpojumi | D101: 47073 | E101: SARS-CoV-2 RNS (COVID-19) noteikšana ar reālā laika PĶR (bez parauga paņemšanas) | F101: 359 | G101: 23.32 | H101: =F101*G101 -> 8371.88
A102: 12 - NVD Rīgas nodaļa | B102: 010064114 - VESELĪBAS CENTRS 4, Sabiedrība ar ierobežotu atbildību | C102: AP82 - Covid-19 laboratorijas pakalpojumi | D102: 47079 | E102: SARS-CoV-2 (COVID-19) transporta barotne ar diviem lokaniem tamponiem | F102: 359 | G102: 0.8 | H102: =F102*G102 -> 287.2
A103: 12 - NVD Rīgas nodaļa | B103: 010064114 - VESELĪBAS CENTRS 4, Sabiedrība ar ierobežotu atbildību | C103: AP82 - Covid-19 laboratorijas pakalpojumi | D103: 47268 | E103: SARS-CoV-2 (COVID-19) antigēna noteikšana (Ag eksprestests) (ar reaģenta komplekta vērtību) | F103: 240 | G103: 4.52 | H103: =F103*G103 -> 1084.8
G104: Pavisam kopā: | H104: =SUM(H100:H103) -> 10907.04
H105: =ROUNDUP(H104,0) -> 10908
A107: NVD TN (pakalpojumu sniedzēja) | B107: ĀI (pakalpojumu sniedzēja) | C107: Pakalpojumu programma | D107: Manipulācijas kods | E107: Manipulācijas nosaukums | F107: Manipulāciju skaits | G107: Tarifs | H107: Summa
A108: NVD Kurzemes nodaļa | B108: 270020302 - Ziemeļkurzemes reģionālā slimnīca, SIA | C108: AP82 - Covid-19 laboratorijas pakalpojumi | D108: 47073 | E108: SARS-CoV-2 RNS (COVID-19) noteikšana ar reālā laika PĶR (bez parauga paņemšanas) | F108: 628 | G108: 23.32 | H108: =F108*G108 -> 14644.96
A109: NVD Kurzemes nodaļa | B109: 270020302 - Ziemeļkurzemes reģionālā slimnīca, SIA | C109: AP82 - Covid-19 laboratorijas pakalpojumi | D109: 47078 | E109: SARS-CoV-2 RNS (COVID-19) noteikšana ar reālā laika PĶR (bez parauga paņemšanas) ātrai diagnostikai un diferenciāldiagnostikai (ar reaģenta vērtību) | F109: 38 | G109: 44.25 | H109: =F109*G109 -> 1681.5
A110: NVD Kurzemes nodaļa | B110: 270020302 - Ziemeļkurzemes reģionālā slimnīca, SIA | C110: AP82 - Covid-19 laboratorijas pakalpojumi | D110: 47079 | E110: SARS-CoV-2 (COVID-19) transporta barotne ar diviem lokaniem tamponiem | F110: 628 | G110: 0.8 | H110: =F110*G110 -> 502.4
...

Sheet RAKUS_antivielu_testi
D1: Turpinājums pielikumam Nr.49 Ministru kabineta rīkojuma "Par finanšu līdzekļu piešķiršanu no valsts budžeta programmas "Līdzekļi neparedzētiem gadījumiem"" projekta sākotnējās ietekmes novērtējuma ziņojumam (anotācijai)
A3: Rīgas Austrumu klīniskā universitātes slimnīca SIA (11.pielikums: antivielas un ātrā diagnostika ar Multiplex reaģentiem), Aprīlis
A4: NVD TN (pakalpojuma sniedzēja) | B4: ĀI (pakalpojuma sniedzēja) | C4: Manipulācija | D4: Manipulāciju skaits | E4: Tarifs, euro | F4: Summa, euro
A5: 12 - NVD Rīgas nodaļa | B5: 010000234 - Rīgas Austrumu klīniskā universitātes slimnīca, SIA | C5: 47046R - R IgA klases antivielu pret SARS-CoV-2 (COVID-19) noteikšana ar imūnfermentatīvo metodi (ELISA, CMIA, ECLIA, CLIA) | D5: 77 | E5: 13.32 | F5: =D5*E5 -> 1025.64
A6: 12 - NVD Rīgas nodaļa | B6: 010000234 - Rīgas Austrumu klīniskā universitātes slimnīca, SIA | C6: 47047R - R IgM klases antivielu pret SARS-CoV-2 (COVID-19) noteikšana ar imūnfermentatīvo metodi (ELISA, CMIA, ECLIA, CLIA) | D6: 2316 | E6: 13.32 | F6: =D6*E6 -> 30849.12
A7: 12 - NVD Rīgas nodaļa | B7: 010000234 - Rīgas Austrumu klīniskā universitātes slimnīca, SIA | C7: 47049R - R IgG klases antivielu pret SARS-CoV-2 (COVID-19) noteikšana ar imūnfermentatīvo metodi (ELISA, CMIA, ECLIA, CLIA) | D7: 2393 | E7: 13.32 | F7: =D7*E7 -> 31874.76
A8: 12 - NVD Rīgas nodaļa | B8: 010000234 - Rīgas Austrumu klīniskā universitātes slimnīca, SIA | C8: 47051R - R IgG klases antivielu pret SARS-CoV-2 (COVID-19) kvantitatīva noteikšana ar imūnfermentatīvo metodi (ELISA, CMIA, ECLIA, CLIA) | D8: 1692 | E8: 20.48 | F8: =D8*E8 -> 34652.16
A9: 12 - NVD Rīgas nodaļa | B9: 010000234 - Rīgas Austrumu klīniskā universitātes slimnīca, SIA | C9: 47064R - R Kopējo antivielu pret SARS-CoV-2 (COVID-19) noteikšana ar imūnfermentatīvo metodi (ELISA, CMIA, ECLIA, CLIA) | D9: 139 | E9: 6.79 | F9: =D9*E9 -> 943.81
A10: 12 - NVD Rīgas nodaļa | B10: 010000234 - Rīgas Austrumu klīniskā universitātes slimnīca, SIA | C10: 47076R - R Asins ņemšana ar slēgtu sistēmu vienā stobriņā antivielu pret SARS-CoV-2 (COVID-19) noteikšanai | D10: 1861 | E10: 1.3 | F10: =D10*E10 -> 2419.3
A11: 12 - NVD Rīgas nodaļa | B11: 010000234 - Rīgas Austrumu klīniskā universitātes slimnīca, SIA | C11: 47077R - R SARS-CoV-2 RNS (COVID-19) noteikšana ar reālā laika PĶR (bez parauga paņemšanas) ātrai diagnostikai un diferenciāldiagnostikai - izmeklējums ar Multiplex reaģentiem | D11: 455 | E11: 171.06 | F11: =D11*E11 -> 77832.3
D12: Pavisam kopā: | F12: =SUM(F5:F11) -> 179597.09
D13: Kopā | F13: =ROUNDUP(F12,0) -> 179598

Sheet Sekvencēšana
C1: Turpinājums pielikumam Nr.49 Ministru kabineta rīkojuma "Par finanšu līdzekļu piešķiršanu no valsts budžeta programmas "Līdzekļi neparedzētiem gadījumiem"" projekta sākotnējās ietekmes novērtējuma ziņojumam (anotācijai)
A2: Atskaite par Covid-19 vīrusa sekvencēšanu LIC laboratorijā
A3: Pārskata periods (mēnesis): aprīlis
A4: Nr.p.k. | B4: Pasākums | D4: Vienas vienības cena, euro | E4: Kopā, euro
A5: 1 | B5: Primārā parauga uzglabāšana (kriostobriņi paraugu uzglabāšanai) | C5: paraugu skaits | D5: 0 | E5: 22987
C6: Summa, euro | D6: 0.79 | E6: =SUM(D6*E5) -> 18159.73
A7: SARS-CoV-2 vīrusu celmu sekvencēšana
A8: 2 | B8: Nacionālā References laboratorija (NRL)*
B9: Pirmais etaps (RNS izdalīšana no primārā parauga) | C9: paraugu skaits | E9: 1610
C10: Summa, euro | D10: =8*1.21 -> 9.68 | E10: =SUM(D10*E9) -> 15584.8
B11: Otrais etaps - SEKVENCĒŠANA | C11: paraugu skaits | E11: 576
C12: Summa, euro | D12: =160*1.21 -> 193.6 | E12: =SUM(D12*E11) -> 111513.6
A13: Kopā NRL (1.1+3.1+3.2.) | C13: Summa, euro | E13: =SUM(E6,E10,E12) -> 145258.13
E14: =ROUNDUP(E13,0) -> 145259
B16: *datu apstrādi veic NRL personāls - bioinformātikas speciālisti

Sheet Sekv_personāla_izm
F1: Turpinājums pielikumam Nr.49 Ministru kabineta rīkojuma "Par finanšu līdzekļu piešķiršanu no valsts budžeta programmas "Līdzekļi neparedzētiem gadījumiem"" projekta sākotnējās ietekmes novērtējuma ziņojumam (anotācijai)
A2: Laboratorijas dienesta Laboratorijas „LIC" Sekvencēšanas daļas Covid-19 vīrusa celma sekvencēšanā iesaistītais personāls un tā izmaksas
A3: Pārskata periods | B3: aprīlis
A4: Tabeles Nr. | B4: Amata nosaukums | C4: Slodze | D4: Darbu noslodze Covid sekvencēšanai, slodzes | E4: Aprēķinātā alga, euro | F4: Aprēķinātās piemaksas, euro | G4: VSOAI 23,59%, euro | H4: Atlīdzība kopā, atbilstoši darba noslodzei, euro
A5: Bioinformātikas speciālisti
A6: A03260 | B6: Laboratorijas bioinformātiķis | C6: 1 | D6: 1 | E6: 2100 | F6: 98.54 | G6: =(E6+F6)*23.59% -> 518.63559 | H6: =(E6+F6+G6)*D6 -> 2717.1756
A7: A06490 | B7: Laboratorijas bioinformātiķis | C7: 1 | D7: 1 | E7: 2110.95 | G7: =E7*23.59% -> 497.9731 | H7: =(E7+F7+G7)*D7 -> 2608.9231
A8: A07282 | B8: Laboratorijas bioinformātiķis | C8: 0.25 | D8: 0.25 | E8: 442.41 | G8: =E8*23.59% -> 104.36452 | H8: =(E8+F8+G8)*D8 -> 136.69363
A9: Biomedicīnas laboranti
A10: 1534 | B10: Biomedicīnas laborants | C10: 1 | D10: 1 | E10: 1283.37 | F10: 143 | G10: =(E10+F10)*23.59% -> 336.48068 | H10: =(E10+F10+G10)*D10 -> 1762.8507
A11: Molekulārie biologi, paraugu atlases speciālisti - Laboratorijas ārsti, laboratorijas speciālisti | H11: =(E11+F11+G11)*D11 -> 0
A12: 0216 | B12: Laboratorijas ārsts | C12: 1 | D12: 1 | E12: 1723 | F12: 203.04 | G12: =(E12+F12)*23.59% -> 454.35284 | H12: =(E12+F12+G12)*D12 -> 2380.3928
A13: A02825 | B13: Laboratorijas speciālists | C13: 1 | D13: 1 | E13: 1449.15 | F13: 763.63 | G13: =(E13+F13)*23.59% -> 521.9948 | H13: =(E13+F13+G13)*D13 -> 2734.7748
A14: A05981 | B14: Laboratorijas speciālists-stažieris | C14: 1 | D14: 1 | E14: 1579.47 | F14: 237.42 | G14: =(E14+F14)*23.59% -> 428.60435 | H14: =(E14+F14+G14)*D14 -> 2245.4944
A15: A06650 | B15: Laboratorijas speciālists-stažieris | C15: 1 | D15: 1 | E15: 1500 | F15: 150 | G15: =(E15+F15)*23.59% -> 389.235 | H15: =(E15+F15+G15)*D15 -> 2039.235
A16: A05639 | B16: Laboratorijas speciālists-stažieris | C16: 1 | D16: 1 | E16: 1500 | F16: 388.79 | G16: =(E16+F16)*23.59% -> 445.56556 | H16: =(E16+F16+G16)*D16 -> 2334.3556
A17: A01705 | B17: Laboratorijas speciālists-stažieris | C17: 1 | D17: 1 | E17: 1498.43 | F17: 192.21 | G17: =(E17+F17)*23.59% -> 398.82198 | H17: =(E17+F17+G17)*D17 -> 2089.462
H18: =SUM(H6:H17) -> 21049.358
H19: =ROUNDUP(H18,0) -> 21050
