Workbook

Sheet Pielikums
A1: Pielikums
A2: Tiesību akta projekta "Noteikumi par valsts izdevumu par cietušajam bērnam sniegto sociālās rehabilitācijas pakalpojumu atmaksas kārtību un apmēru" sākotnējās ietekmes (ex-ante) novērtējuma ziņojums (anotācija)
A3: Kapacitātes stiprināšana un tai uzlikto papildu funkciju izpildes nodrošināšana, kas saistīta ar regresa piedziņas procesa organizēšanu (vardarbībā cietušu bērnu sociālās rehabilitācijas pakalpojumu izdevumu piedziņa no vainīgajām personām)
A4: Nr.p.k. | B4: apakšprogramma | C4: 2024. gads | D4: 2025.gads un turpmāk ik gadu
A5: 1 | B5: 2 | C5: 3 | D5: 4
A6: 2 | B6: 97.02.00 “Nozares centralizēto funkciju izpilde” | C6: ='1.tabula_LM'!L6+'1.tabula_LM'!L7 -> 58842 | D6: ='1.tabula_LM'!L8+'1.tabula_LM'!L9 -> 128959
A7: 3 | B7: 05.01.00 “Sociālās rehabilitācijas valsts programmas” | C7: ='2.tabula_LBF'!L7 -> 39228 | D7: ='2.tabula_LBF'!L8 -> 85973
A8: 4 | B8: KOPĀ | C8: =SUM(C6:C7) -> 98070 | D8: =SUM(D6:D7) -> 214932
A10: Pielikumā
A11: ='1.tabula_LM'!L1 -> 1.tabula | B11: ='1.tabula_LM'!A2 -> LM kapacitātes stiprināšana un tai uzlikto papildu funkciju izpildes nodrošināšana, kas saistīta ar regresa piedziņas procesa organizēšanu (vardarbībā cietušu bērnu sociālās rehabilitācijas pakalpojumu izdevumu piedziņa no vainīgajām personām)
A12: ='2.tabula_LBF'!L1 -> 2.tabula | B12: ='2.tabula_LBF'!A2 -> LBF kapacitātes stiprināšana un tai uzlikto papildu funkciju izpildes nodrošināšana, kas saistīta ar regresa piedziņas procesa organizēšanu (vardarbībā cietušu bērnu sociālās rehabilitācijas pakalpojumu izdevumu piedziņa no vainīgajām personām)

Sheet 1.tabula_LM
L1: 1.tabula
A2: LM kapacitātes stiprināšana un tai uzlikto papildu funkciju izpildes nodrošināšana, kas saistīta ar regresa piedziņas procesa organizēšanu (vardarbībā cietušu bērnu sociālās rehabilitācijas pakalpojumu izdevumu piedziņa no vainīgajām personām)
A3: Nr. | C3: Amatu klasifikācija | E3: Mēneša alga* | F3: Amata slodze vai piemaksas apmērs | G3: Plānotais mēnešu skaits | H3: Atalgojums gadā | I3: Atvaļinājuma pabalsts 50% | J3: Novērtēšanas prēmija 65% | K3: Darba devēja valsts sociālās apdrošināšanas obligātās iemaksas | L3: Atlīdzība gadā
C4: Amatu saime (apakšsaime) un līmenis | D4: Mēneš-algu grupa pēc MK 262
A5: 1 | B5: 2 | C5: 3 | D5: 4 | E5: 5 | F5: 6 | G5: 7 | H5: 8=5*6*7 | I5: 9 | J5: 10 | K5: 11=(8+9+10)* 23.59% | L5: 12=8+9+10+11
A6: 2024.gadā no 01.07.* | B6: Vadošais juriskonsults | C6: 24 III | D6: 11 | E6: 2645 | F6: 2 | G6: 6 | H6: =ROUND(E6*F6*G6,0) -> 31740 | I6: 0 | J6: 0 | K6: =ROUNDUP((H6+I6+J6)*0.2359,0) -> 7488 | L6: =H6+I6+J6+K6 -> 39228
A7: 2024.gadā no 01.07.* | B7: Bērnu un ģimenes politikas departaments vecākais eksperts | C7: 37 IIA | D7: 11 | E7: 2645 | F7: 1 | G7: 6 | H7: =ROUND(E7*F7*G7,0) -> 15870 | I7: 0 | J7: 0 | K7: =ROUNDUP((H7+I7+J7)*0.2359,0) -> 3744 | L7: =H7+I7+J7+K7 -> 19614
A8: 2025.gadā un turpmāk ik gadu | B8: Vadošais juriskonsults | C8: 24 III | D8: 11 | E8: 2645 | F8: 2 | G8: 12 | H8: =ROUND(E8*F8*G8,0) -> 63480 | I8: =ROUNDDOWN(E8*F8*0.5,0) -> 2645 | J8: =ROUNDDOWN(E8*F8*0.65,0) -> 3438 | K8: =ROUNDUP((H8+I8+J8)*0.2359,0) -> 16410 | L8: =H8+I8+J8+K8 -> 85973
A9: 2025.gadā un turpmāk ik gadu | B9: Bērnu un ģimenes politikas departaments vecākais eksperts | C9: 37 IIA | D9: 11 | E9: 2645 | F9: 1 | G9: 12 | H9: =ROUND(E9*F9*G9,0) -> 31740 | I9: =ROUNDDOWN(E9*F9*0.5,0) -> 1322 | J9: =ROUNDDOWN(E9*F9*0.65,0) -> 1719 | K9: =ROUNDUP((H9+I9+J9)*0.2359,0) -> 8205 | L9: =H9+I9+J9+K9 -> 42986
A10: *2024.gadā izmaksas plānotas uz 6 mēnešiem, jo 2023. gada 20. aprīlī pieņemtie grozījumi Bērnu tiesību aizsardzības likumā attiecībā uz likuma 52. panta papildināšanu ar 1.1, 1.2 un 1.3 daļu stājas spēkā 2024. gada 1. jūlijā.
B11: Atbilstoši amatu katalogam:
B12: Juridiskā analīze un pakalpojumi – 24. saime
B13: III līmenis (piemēram, galvenais jurists, vecākais juriskonsults, nodaļas vadītājs):
B14: veic tiesību aktu un attīstības plānošanas dokumentu juridisko analīzi vienā vai vairākās tiesību vai politikas jomās;
B15: juridiski noformē tiesību aktu vai attīstības plānošanas dokumentu projektus un sagatavo tos iesniegšanai Ministru kabinetā;
B16: sniedz atzinumus par citu iestāžu izstrādātajiem tiesību aktiem vai plānošanas dokumentiem;
B17: gatavo atbildes uz citu institūciju vēstulēm un privātpersonu iesniegumiem;
B18: piedalās citu iestāžu darbības koordinēšanā un konsultēšanā juridiskajos jautājumos ministrijas resora vai pašvaldības ietvaros;
B19: koordinē iepriekšējā līmeņa speciālistu darbu vai aizvieto struktūrvienības vadītāju;
B20: konsultē institūcijas vadību un (vai) politiskās amatpersonas juridiskajos jautājumos;
B21: var piedalīties ar valsts vai pašvaldības interešu pārstāvību tiesvedības procesos saistīto jautājumu izskatīšanā;
B22: var pārstāvēt institūciju tiesā;
... B38: var kontrolēt padotības iestāžu darbu, piemēram, pārbaudot normatīvo aktu ievērošanu, līdzekļu izlietojumu;

Sheet 2.tabula_LBF
L1: 2.tabula
A2: LBF kapacitātes stiprināšana un tai uzlikto papildu funkciju izpildes nodrošināšana, kas saistīta ar regresa piedziņas procesa organizēšanu (vardarbībā cietušu bērnu sociālās rehabilitācijas pakalpojumu izdevumu piedziņa no vainīgajām personām)
A3: Regresa piedziņas procesa organizēšanai (vardarbībā cietušu bērnu rehabilitācijas pakalpojumu izdevumu piedziņa no vainīgām personām)
A4: Nr. | C4: Amatu klasifikācija | E4: Mēneša alga* | F4: Amata slodze vai piemaksas apmērs | G4: Plānotais mēnešu skaits | H4: Atalgojums gadā | I4: Atvaļinājuma pabalsts 50% | J4: Novērtēšanas prēmija 65% | K4: Darba devēja valsts sociālās apdrošināšanas obligātās iemaksas | L4: Atlīdzība gadā
C5: Amatu saime (apakšsaime) un līmenis | D5: Mēneš-algu grupa pēc MK 262
A6: 1 | B6: 2 | C6: 3 | D6: 4 | E6: 5 | F6: 6 | G6: 7 | H6: 8=5*6*7 | I6: 9 | J6: 10 | K6: 11=(8+9+10)* 23.59% | L6: 12=8+9+10+11
A7: 2024.gadā no 01.07.* | B7: Vadošais juriskonsults | C7: 24 III | D7: 11 | E7: 2645 | F7: 2 | G7: 6 | H7: =ROUND(E7*F7*G7,0) -> 31740 | I7: 0 | J7: 0 | K7: =ROUNDUP((H7+I7+J7)*0.2359,0) -> 7488 | L7: =H7+I7+J7+K7 -> 39228
A8: 2025.gadā un turpmāk ik gadu | B8: Vadošais juriskonsults | C8: 24 III | D8: 11 | E8: 2645 | F8: 2 | G8: 12 | H8: =ROUND(E8*F8*G8,0) -> 63480 | I8: =ROUNDDOWN(E8*F8*0.5,0) -> 2645 | J8: =ROUNDDOWN(E8*F8*0.65,0) -> 3438 | K8: =ROUNDUP((H8+I8+J8)*0.2359,0) -> 16410 | L8: =H8+I8+J8+K8 -> 85973
A9: *2024.gadā izmaksas plānotas uz 6 mēnešiem, jo 2023. gada 20. aprīlī pieņemtie grozījumi Bērnu tiesību aizsardzības likumā attiecībā uz likuma 52. panta papildināšanu ar 1.1, 1.2 un 1.3 daļu stājas spēkā 2024. gada 1. jūlijā.
B10: Atbilstoši amatu katalogam:
B11: Juridiskā analīze un pakalpojumi – 24. saime
B12: III līmenis (piemēram, galvenais jurists, vecākais juriskonsults, nodaļas vadītājs):
B13: veic tiesību aktu un attīstības plānošanas dokumentu juridisko analīzi vienā vai vairākās tiesību vai politikas jomās;
B14: juridiski noformē tiesību aktu vai attīstības plānošanas dokumentu projektus un sagatavo tos iesniegšanai Ministru kabinetā;
B15: sniedz atzinumus par citu iestāžu izstrādātajiem tiesību aktiem vai plānošanas dokumentiem;
B16: gatavo atbildes uz citu institūciju vēstulēm un privātpersonu iesniegumiem;
B17: piedalās citu iestāžu darbības koordinēšanā un konsultēšanā juridiskajos jautājumos ministrijas resora vai pašvaldības ietvaros;
B18: koordinē iepriekšējā līmeņa speciālistu darbu vai aizvieto struktūrvienības vadītāju;
B19: konsultē institūcijas vadību un (vai) politiskās amatpersonas juridiskajos jautājumos;
B20: var piedalīties ar valsts vai pašvaldības interešu pārstāvību tiesvedības procesos saistīto jautājumu izskatīšanā;
B21: var pārstāvēt institūciju tiesā;
B22: var vadīt juridisko struktūrvienību institūcijā;
