Workbook

Sheet kopsavilkums
R1: 3.pielikums
B4: Ārstniecības personu darba samaksas pieauguma nodrošināšana no 2024. gada un turpmāk ik gadu
E6: 2024 | F6: 2025 | G6: 2026 | H6: Turpmāk katru gadu (ja pasākums nav terminēts) | O6: Pieaugums (%)
B7: Darba samaksa pieaugums (%)
B8: Izdevumi kopā, euro | E8: =E9+E23 -> 9846474 | F8: =F9+F23 -> 9846474 | G8: =G9+G23 -> 9846474 | H8: =H9+H23 -> 9846474 | J8: Darba samaksas pieaugums Ārsti un funkcionālie speciālisti | O8: =[1]PAPILDUS_nepieciešamais!$C$54 -> 0.106 | P8: Ārsti
B9: Veselības ministrijas padotības iestāžu ārstniecības personu darba samaksas palielināšanai | E9: =E11+E13+E15+E17+E19+E21 -> 7689499 | F9: =E9 -> 7689499 | G9: =E9 -> 7689499 | H9: =E9 -> 7689499
B10: tai skaitā atlīdzība | E10: =ROUNDUP(E12+E14+E16+E18+E20+E22,0) -> 7656818 | F10: =E10 -> 7656818 | G10: =E10 -> 7656818 | H10: =E10 -> 7656818
B11: t.sk. 39.03.00 Asins un asins komponentu nodrošināšana | E11: =ROUND(E12+'VM VADC MK851'!I75,0) -> 267626 | F11: =E11 -> 267626 | G11: =E11 -> 267626 | H11: =E11 -> 267626
B12: tai skaitā atlīdzība | E12: =ROUND('VM padotibas iest MK361'!U30+'VM VADC MK851'!I62,0) -> 234945 | F12: =E12 -> 234945 | G12: =E12 -> 234945 | H12: =E12 -> 234945 | J12: Darba samaksas pieaugums Ārstniecības un pacientu aprūpes personas | O12: =[2]PAPILDUS_nepieciešamais!$C$55 -> 0.065 | P12: Māsas
B13: t.sk. 39.04.00 Neatliekamā medicīniskā palīdzība | E13: =E14 -> 6641522 | F13: =E13 -> 6641522 | G13: =E13 -> 6641522 | H13: =E13 -> 6641522
B14: tai skaitā atlīdzība | E14: =ROUND('VM padotibas iest MK361'!U17+'VM NMPD MK851'!I111,0) -> 6641522 | F14: =E14 -> 6641522 | G14: =E14 -> 6641522 | H14: =E14 -> 6641522
B15: t.sk. 39.06.00 Tiesu medicīniskā ekspertīze | E15: =E16 -> 316379 | F15: =E15 -> 316379 | G15: =E15 -> 316379 | H15: =E15 -> 316379 | J15: Darba samaksas pieaugums Ārstniecības un pacientu aprūpes atbalsta pesonas | O15: =[2]PAPILDUS_nepieciešamais!$C$56 -> 0.069 | P15: Pārējās māsas
B16: tai skaitā atlīdzība | E16: =ROUND('VM padotibas iest MK361'!U232+'VM VTMEC MK851'!I42,0) -> 316379 | F16: =E16 -> 316379 | G16: =E16 -> 316379 | H16: =E16 -> 316379
B17: t.sk. 45.01.00 Veselības aprūpes finansējuma administrēšana un ekonomiskā novērtēšana | E17: =E18 -> 39419 | F17: =E17 -> 39419 | G17: =E17 -> 39419 | H17: =E17 -> 39419
B18: tai skaitā atlīdzība | E18: =ROUND('VM padotibas iest MK361'!U247,0) -> 39419 | F18: =E18 -> 39419 | G18: =E18 -> 39419 | H18: =E18 -> 39419
B19: t.sk. 46.01.00 Uzraudzība un kontrole | E19: =E20 -> 256053 | F19: =E19 -> 256053 | G19: =E19 -> 256053 | H19: =E19 -> 256053
B20: tai skaitā atlīdzība | E20: =ROUND('VM padotibas iest MK361'!U134,0) -> 256053 | F20: =E20 -> 256053 | G20: =E20 -> 256053 | H20: =E20 -> 256053
B21: t.sk. 46.03.00 Slimību profilakses nodrošināšana | E21: =E22 -> 168500 | F21: =E21 -> 168500 | G21: =E21 -> 168500 | H21: =E21 -> 168500
B22: tai skaitā atlīdzība | E22: =ROUND('VM padotibas iest MK361'!U210,0) -> 168500 | F22: =E22 -> 168500 | G22: =E22 -> 168500 | H22: =E22 -> 168500
B23: citu ministriju t.sk. 62.resora ārstniecības personu darba samaksas palielināšanai | E23: =E24+E27+E34+E45+E48+E55 -> 2156975 | F23: =E23 -> 2156975 | G23: =E23 -> 2156975 | H23: =E23 -> 2156975 | O23: 0.2359
B24: Aizsardzības ministrijai: | E24: =E25 -> 480820 | F24: =E24 -> 480820 | G24: =E24 -> 480820 | H24: =E24 -> 480820
B25: 22.10.00 Starptautisko operāciju un Nacionālo bruņoto spēku centralizētais atalgojums | E25: =E26 -> 480820 | F25: =E25 -> 480820 | G25: =E25 -> 480820 | H25: =E25 -> 480820
B26: tai skaitā atlīdzība | E26: =ROUND('Pārējās ministrijas MK851'!I247+'Pārējās ministrijas MK509'!J136,0) -> 480820 | F26: =E26 -> 480820 | G26: =E26 -> 480820 | H26: =E26 -> 480820
B27: Izglītības un zinātnes ministrija t.sk. (62.resors "Mērķotācijas pašvaldībām"): | E27: =E28+E30+E32 -> 225125 | F27: =E27 -> 225125 | G27: =E27 -> 225125 | H27: =E27 -> 225125
B28: 02.01.00 "Profesionālās izglītības programmu īstenošana" | E28: =E29 -> 23324 | F28: =E28 -> 23324 | G28: =E28 -> 23324 | H28: =E28 -> 23324
B29: tai skaitā atlīdzība | E29: =ROUND('Pārējās ministrijas MK361'!U74,0) -> 23324 | F29: =E29 -> 23324 | G29: =E29 -> 23324 | H29: =E29 -> 23324
B30: 09.10.00. "Murjāņu sporta ģimnāzija" | E30: =E31 -> 11767 | F30: =E30 -> 11767 | G30: =E30 -> 11767 | H30: =E30 -> 11767
B31: tai skaitā atlīdzība | E31: =ROUND('Pārējās ministrijas MK361'!U102,0) -> 11767 | F31: =E31 -> 11767 | G31: =E31 -> 11767 | H31: =E31 -> 11767
B32: 62.resors "Mērķotācijas pašvaldībām" | E32: =ROUND(IZM_pašv_1!M109,0) -> 190034 | F32: =E32 -> 190034 | G32: =E32 -> 190034 | H32: =E32 -> 190034
B33: tai skaitā atlīdzība | E33: 0 | F33: =E33 -> 0 | G33: =E33 -> 0 | H33: =E33 -> 0
B34: Labklājības ministrijai: | E34: =E37+E39+E41+E43+E35 -> 1065326 | F34: =E34 -> 1065326 | G34: =E34 -> 1065326 | H34: =E34 -> 1065326
B35: 04.05.00 "Valsts sociālās apdrošināšanas aģentūras speciālais budžets" | E35: =E36 -> 2091 | F35: =E35 -> 2091 | G35: =E35 -> 2091 | H35: =E35 -> 2091
B36: tai skaitā atlīdzība | E36: =ROUND('Pārējās ministrijas MK361'!U9,0) -> 2091 | F36: =F35 -> 2091 | G36: =G35 -> 2091 | H36: =H35 -> 2091
B37: 05.03.00 "Aprūpe valsts sociālās aprūpes institūcijās" | E37: =E38 -> 534099 | F37: =F38 -> 534099 | G37: =G38 -> 534099 | H37: =H38 -> 534099
B38: tai skaitā atlīdzība | E38: =ROUND(LM_līgumorg_851!J418,0) -> 534099 | F38: =E38 -> 534099 | G38: =F38 -> 534099 | H38: =G38 -> 534099
B39: 05.37.00 "Sociālās integrācijas valsts aģentūras administrēšana un profesionālās un sociālās rehabilitācijas pakalpojumu nodrošināšana" | E39: =E40 -> 108371 | F39: =F40 -> 108371 | G39: =G40 -> 108371 | H39: =H40 -> 108371
B40: tai skaitā atlīdzība | E40: =ROUND(LM_līgumorg_851!J448,0) -> 108371 | F40: =E40 -> 108371 | G40: =F40 -> 108371 | H40: =G40 -> 108371
B41: 05.62.00 "Invaliditātes ekspertīžu nodrošināšana" (Veselības un darbspēju ekspertīzes ārstu valsts komisija) | E41: =E42 -> 199718 | F41: =E41 -> 199718 | G41: =E41 -> 199718 | H41: =E41 -> 199718
B42: tai skaitā atlīdzība | E42: =ROUND('Pārējās ministrijas MK361'!U15,0) -> 199718 | F42: =E42 -> 199718 | G42: =E42 -> 199718 | H42: =E42 -> 199718
B43: Labklājības ministrijas līgumorganizācijas 05.01.00 "Sociālās rehabilitācijas valsts programmas" | E43: =ROUND(LM_līgumorg_851!J214,0) -> 221047 | F43: =E43 -> 221047 | G43: =E43 -> 221047 | H43: =E43 -> 221047
B44: tai skaitā atlīdzība | E44: 0 | F44: 0 | G44: 0 | H44: 0
B45: Tieslietu ministrijai: | E45: =E46 -> 275700 | F45: =E45 -> 275700 | G45: =E45 -> 275700 | H45: =E45 -> 275700
B46: 04.01.00 "Ieslodzījuma vietas" | E46: =E47 -> 275700 | F46: =E46 -> 275700 | G46: =E46 -> 275700 | H46: =E46 -> 275700
B47: tai skaitā atlīdzība | E47: =ROUND('Pārējās ministrijas MK851'!I144,0) -> 275700 | F47: =E47 -> 275700 | G47: =E47 -> 275700 | H47: =E47 -> 275700
B48: Iekšlietu ministrijai: | E48: =E49+E51+E53 -> 109044 | F48: =E48 -> 109044 | G48: =E48 -> 109044 | H48: =E48 -> 109044
B49: 06.01.00"Valsts policija" | E49: =E50 -> 8802 | F49: =E49 -> 8802 | G49: =E49 -> 8802 | H49: =E49 -> 8802
B50: tai skaitā atlīdzība | E50: =ROUND('Pārējās ministrijas MK361'!U39,0) -> 8802 | F50: =E50 -> 8802 | G50: =E50 -> 8802 | H50: =E50 -> 8802
B51: 10.00.00 "Valsts robežsardzes darbība" | E51: =E52 -> 5929 | F51: =E51 -> 5929 | G51: =E51 -> 5929 | H51: =E51 -> 5929
B52: tai skaitā atlīdzība | E52: =ROUND('Pārējās ministrijas MK851'!I255,0) -> 5929 | F52: =E52 -> 5929 | G52: =E52 -> 5929 | H52: =E52 -> 5929
B53: 38.05.00 "Veselības aprūpe un fiziskā sagatavotība" | E53: =ROUND(E54+IEM_kapitsab_851!J52+SUM('Pārējās ministrijas MK361'!U52:U63),0) -> 94313 | F53: =E53 -> 94313 | G53: =E53 -> 94313 | H53: =E53 -> 94313
B54: tai skaitā atlīdzība | E54: =ROUND(SUM('Pārējās ministrijas MK361'!U47:U50,'Pārējās ministrijas MK361'!U64:U70),0) -> 28382 | F54: =E54 -> 28382 | G54: =E54 -> 28382 | H54: =E54 -> 28382
B55: Zemkopības ministrijai: | E55: =E56 -> 960 | F55: =E55 -> 960 | G55: =E55 -> 960 | H55: =E55 -> 960
B56: 22.01.00. "Profesionālā izglītība" | E56: =E57 -> 960 | F56: =E56 -> 960 | G56: =E56 -> 960 | H56: =E56 -> 960
B57: tai skaitā atlīdzība | E57: =ROUND('Pārējās ministrijas MK361'!U114,0) -> 960 | F57: =E57 -> 960 | G57: =E57 -> 960 | H57: =E57 -> 960

Sheet Pārējās ministrijas MK361
U1: 3.1. pielikums
A3: Ārstniecības personu darba samaksas pieaugums 14.Iekšlietu ministrijai, 15.Izglītības un zinātnes ministrijai, 16.Zemkopības ministrija un 18.Labklājības ministrijai
A6: Informācija par ārstniecības personām | U6: EUR
A7: Amata nosaukums | B7: Profesiju klasifikātora kods (atbilstoši MK noteikumiem Nr.264) | C7: Ārstniecības personas profesijas vai specialitātes kodu (atbilstoši MK noteikumiem Nr.317) | D7: Valsts kancelejā saskaņotā amata saime | E7: Līmenis | F7: Amatam atbilstošā mēneš-algu grupa | G7: Mēnešalgas apmērs ņemot vērā minimālo koeficientu pret bāzes mēnešalgu pēc MK not. Nr.361 (Atlīdzības likuma 3.piel), EUR | H7: Mēnešalgas apmērs ņemot vērā viduspunkta koeficientu pret bāzes mēnešalgu pēc MK not. Nr.361 (Atlīdzības likuma 3.piel), EUR | I7: Mēnešalgas apmērs ņemot vērā maksimālo koeficientu pret bāzes mēnešalgu pēc MK not. Nr.361 (Atlīdzības likuma 3.piel), EUR | J7: Faktiskā mēneš-algas likme par 1 slodzi | K7: Piemaksas* | L7: Piemaksas kopā | M7: Slodzes (normālā darba laika ietvaros) | N7: 2024.gada jaunā amatalga ar pieaugumu | O7: pieaugums regulārai piemaksai | P7: regulārā piemaksa ar pieau-gumu | Q7: kopā pieaugums uz vienu slodzi (ievērojot MK not.) | R7: kopā pieaugums uz visām slodzēm mēnesī | S7: papildus līdzekļi atalgojumam (1100 kods) gadā | T7: darba devēja VSAOI 23,59% (1200 kods) gadā | U7: papildus līdzekļi atlīdzībai (1000 kods) gadā | X7: Pārbaude, atbilstība prof. klasifikatoram | Y7: Ārstniecības personas profesijas vai specialitātes kodu (atbilstoši MK noteikumiem Nr.317) | Z7: Reģistrācija Ārstniecības ietāžu reģistrā | AA7: Piezīmes, pamatojums
A8: 18. Labklājības ministrija
A9: 04.05.00 "Valsts sociālās apdrošināšanas aģentūras speciālais budžets" | U9: =ROUND(U11+U12,2) -> 2090.84
A10: Ārsti un funkcionālie speciālisti
A11: ārsts - eksperts | B11: 2212 11 | C11: PP13 | D11: 13 | E11: III | F11: 9 | H11: 1537 | J11: 1330 | K11: 0 | L11: =K11 -> 0 | M11: 0.5 | N11: =ROUND(J11*(1+kopsavilkums!$O$8),2) -> 1470.98 | O11: =P11-L11 -> 0 | P11: =ROUND(L11*(1+kopsavilkums!$O$8),2) -> 0 | Q11: =(N11+P11)-(J11+L11) -> 140.98 | R11: =Q11*M11 -> 70.49 | S11: =R11*12 -> 845.88 | T11: =ROUND(S11*kopsavilkums!$O$23,2) -> 199.54 | U11: =SUM(S11:T11) -> 1045.42
A12: ārsts - eksperts | B12: 2212 11 | C12: PP13 | D12: 13 | E12: III | F12: 9 | H12: 1537 | J12: 1330 | K12: 0 | L12: =K12 -> 0 | M12: 0.5 | N12: =ROUND(J12*(1+kopsavilkums!$O$8),2) -> 1470.98 | O12: =P12-L12 -> 0 | P12: =ROUND(L12*(1+kopsavilkums!$O$8),2) -> 0 | Q12: =(N12+P12)-(J12+L12) -> 140.98 | R12: =Q12*M12 -> 70.49 | S12: =R12*12 -> 845.88 | T12: =ROUND(S12*kopsavilkums!$O$23,2) -> 199.54 | U12: =SUM(S12:T12) -> 1045.42
A13: Kopā | D13: x | E13: x | F13: x | I13: x | J13: x | K13: x | M13: =SUM(M11:M12) -> 1
A14: 04.05.00 Kopā | M14: =M13 -> 1
A15: 05.62.00 "Invaliditātes ekspertīžu nodrošināšana"( Veselības un darbspēju ekspertīzes ārstu valsts komisija) | U15: =SUM(U17:U34) -> 199718.29
A16: Ārsti un funkcionālie speciālisti
A17: Nodaļas vadītājs (vecākais ārsts eksperts) | B17: 1213 05 | C17: PP13 | D17: 13 | E17: V | F17: 12 | G17: 2174 | J17: 2390 | K17: 0 | L17: 0 | M17: 1 | N17: =ROUND(J17*(1+kopsavilkums!$O$8),2) -> 2643.34 | O17: =P17-L17 -> 0 | P17: =ROUND(L17*(1+kopsavilkums!$O$8),2) -> 0 | Q17: =(N17+P17)-(J17+L17) -> 253.34 | R17: =Q17*M17 -> 253.34 | S17: =R17*12 -> 3040.08 | T17: =ROUND(S17*kopsavilkums!$O$23,2) -> 717.15 | U17: =SUM(S17:T17) -> 3757.23
A18: Vecākais ārsts eksperts | B18: 2212 11 | C18: PP13 | D18: 13 | E18: IV | F18: 11 | H18: 2496 | J18: 2135 | K18: 0 | L18: 0 | M18: 6.5 | N18: =ROUND(J18*(1+kopsavilkums!$O$8),2) -> 2361.31 | O18: =P18-L18 -> 0 | P18: =ROUND(L18*(1+kopsavilkums!$O$8),2) -> 0 | Q18: =(N18+P18)-(J18+L18) -> 226.31 | R18: =Q18*M18 -> 1471.015 | S18: =R18*12 -> 17652.18 | T18: =ROUND(S18*kopsavilkums!$O$23,2) -> 4164.15 | U18: =SUM(S18:T18) -> 21816.33
A19: Vecākais ārsts eksperts | B19: 2212 11 | C19: Nesertificēts ārsts | D19: 13 | E19: IV | F19: 11 | H19: 2496 | J19: 2135 | K19: 0 | L19: 0 | M19: 4 | N19: =ROUND(J19*(1+kopsavilkums!$O$8),2) -> 2361.31 | O19: =P19-L19 -> 0 | P19: =ROUND(L19*(1+kopsavilkums!$O$8),2) -> 0 | Q19: =(N19+P19)-(J19+L19) -> 226.31 | R19: =Q19*M19 -> 905.24 | S19: =R19*12 -> 10862.88 | T19: =ROUND(S19*kopsavilkums!$O$23,2) -> 2562.55 | U19: =SUM(S19:T19) -> 13425.43
A20: Vecākais ārsts eksperts | B20: 2212 11 | C20: Nesertificēts ārsts | D20: 13 | E20: IV | F20: 11 | G20: 1746 | J20: 2057 | K20: 0 | L20: 0 | M20: 2 | N20: =ROUND(J20*(1+kopsavilkums!$O$8),2) -> 2275.04 | O20: =P20-L20 -> 0 | P20: =ROUND(L20*(1+kopsavilkums!$O$8),2) -> 0 | Q20: =(N20+P20)-(J20+L20) -> 218.04 | R20: =Q20*M20 -> 436.08 | S20: =R20*12 -> 5232.96 | T20: =ROUND(S20*kopsavilkums!$O$23,2) -> 1234.46 | U20: =SUM(S20:T20) -> 6467.42
A21: Ārsts eksperts | B21: 2212 11 | C21: PP13 | D21: 13 | E21: IV | F21: 11 | G21: 1746 | J21: 1922 | K21: 0 | L21: 0 | M21: 2.5 | N21: =ROUND(J21*(1+kopsavilkums!$O$8),2) -> 2125.73 | O21: =P21-L21 -> 0 | P21: =ROUND(L21*(1+kopsavilkums!$O$8),2) -> 0 | Q21: =(N21+P21)-(J21+L21) -> 203.73 | R21: =Q21*M21 -> 509.325 | S21: =R21*12 -> 6111.9 | T21: =ROUND(S21*kopsavilkums!$O$23,2) -> 1441.8 | U21: =SUM(S21:T21) -> 7553.7
A22: Ārsts eksperts | B22: 2212 11 | C22: Nesertificēts ārsts | D22: 13 | E22: IV | F22: 11 | G22: 1746 | J22: 1922 | K22: 0 | L22: 0 | M22: 1.75 | N22: =ROUND(J22*(1+kopsavilkums!$O$8),2) -> 2125.73 | O22: =P22-L22 -> 0 | P22: =ROUND(L22*(1+kopsavilkums!$O$8),2) -> 0 | Q22: =(N22+P22)-(J22+L22) -> 203.73 | R22: =Q22*M22 -> 356.5275 | S22: =R22*12 -> 4278.33 | T22: =ROUND(S22*kopsavilkums!$O$23,2) -> 1009.26 | U22: =SUM(S22:T22) -> 5287.59
A23: Vecākais ārsts eksperts - nodaļas vadītājs | B23: 2212 11 | C23: PP13 | D23: 13 | E23: V | F23: 12 | G23: 2174 | J23: 2326 | K23: 0 | L23: 0 | M23: 1 | N23: =ROUND(J23*(1+kopsavilkums!$O$8),2) -> 2572.56 | O23: =P23-L23 -> 0 | P23: =ROUND(L23*(1+kopsavilkums!$O$8),2) -> 0 | Q23: =(N23+P23)-(J23+L23) -> 246.56 | R23: =Q23*M23 -> 246.56 | S23: =R23*12 -> 2958.72 | T23: =ROUND(S23*kopsavilkums!$O$23,2) -> 697.96 | U23: =SUM(S23:T23) -> 3656.68
A24: Vecākais ārsts eksperts - nodaļas vadītāja vietnieks | B24: 2212 11 | C24: PP13 | D24: 13 | E24: IV | F24: 11 | G24: 1746 | J24: 2200 | K24: 0 | L24: 0 | M24: 1 | N24: =ROUND(J24*(1+kopsavilkums!$O$8),2) -> 2433.2 | O24: =P24-L24 -> 0 | P24: =ROUND(L24*(1+kopsavilkums!$O$8),2) -> 0 | Q24: =(N24+P24)-(J24+L24) -> 233.2 | R24: =Q24*M24 -> 233.2 | S24: =R24*12 -> 2798.4 | T24: =ROUND(S24*kopsavilkums!$O$23,2) -> 660.14 | U24: =SUM(S24:T24) -> 3458.54
A25: Vecākais ārsts eksperts - nodaļas vadītājs | B25: 2212 11 | C25: PP13 | D25: 13 | E25: IV | F25: 12 | G25: 2174 | J25: 2304 | K25: 0 | L25: 0 | M25: 1 | N25: =ROUND(J25*(1+kopsavilkums!$O$8),2) -> 2548.22 | O25: =P25-L25 -> 0 | P25: =ROUND(L25*(1+kopsavilkums!$O$8),2) -> 0 | Q25: =(N25+P25)-(J25+L25) -> 244.22 | R25: =Q25*M25 -> 244.22 | S25: =R25*12 -> 2930.64 | T25: =ROUND(S25*kopsavilkums!$O$23,2) -> 691.34 | U25: =SUM(S25:T25) -> 3621.98
A26: Vecākais ārsts eksperts - nodaļas vadītājs | B26: 2212 11 | C26: Nesertificēts ārsts | D26: 13 | E26: IV | F26: 12 | G26: 2174 | J26: 2304 | K26: 0 | L26: 0 | M26: 1 | N26: =ROUND(J26*(1+kopsavilkums!$O$8),2) -> 2548.22 | O26: =P26-L26 -> 0 | P26: =ROUND(L26*(1+kopsavilkums!$O$8),2) -> 0 | Q26: =(N26+P26)-(J26+L26) -> 244.22 | R26: =Q26*M26 -> 244.22 | S26: =R26*12 -> 2930.64 | T26: =ROUND(S26*kopsavilkums!$O$23,2) -> 691.34 | U26: =SUM(S26:T26) -> 3621.98
A27: Vecākais ārsts eksperts - nodaļas vadītājs | B27: 2212 11 | C27: PP13 | D27: 13 | E27: IV | F27: 12 | G27: 2174 | J27: 2304 | K27: 0 | L27: 0 | M27: 2 | N27: =ROUND(J27*(1+kopsavilkums!$O$8),2) -> 2548.22 | O27: =P27-L27 -> 0 | P27: =ROUND(L27*(1+kopsavilkums!$O$8),2) -> 0 | Q27: =(N27+P27)-(J27+L27) -> 244.22 | R27: =Q27*M27 -> 488.44 | S27: =R27*12 -> 5861.28 | T27: =ROUND(S27*kopsavilkums!$O$23,2) -> 1382.68 | U27: =SUM(S27:T27) -> 7243.96
A28: Vecākais ārsts eksperts - nodaļas vadītājs | B28: 2212 11 | C28: Nesertificēts ārsts | D28: 13 | E28: IV | F28: 12 | G28: 2174 | J28: 2304 | K28: 0 | L28: 0 | M28: 1 | N28: =ROUND(J28*(1+kopsavilkums!$O$8),2) -> 2548.22 | O28: =P28-L28 -> 0 | P28: =ROUND(L28*(1+kopsavilkums!$O$8),2) -> 0 | Q28: =(N28+P28)-(J28+L28) -> 244.22 | R28: =Q28*M28 -> 244.22 | S28: =R28*12 -> 2930.64 | T28: =ROUND(S28*kopsavilkums!$O$23,2) -> 691.34 | U28: =SUM(S28:T28) -> 3621.98
A29: Vecākais ārsts eksperts | B29: 2212 11 | C29: PP13 | D29: 13 | E29: IV | F29: 11 | G29: 1746 | J29: 2057 | K29: 0 | L29: 0 | M29: 7.8 | N29: =ROUND(J29*(1+kopsavilkums!$O$8),2) -> 2275.04 | O29: =P29-L29 -> 0 | P29: =ROUND(L29*(1+kopsavilkums!$O$8),2) -> 0 | Q29: =(N29+P29)-(J29+L29) -> 218.04 | R29: =Q29*M29 -> 1700.712 | S29: =R29*12 -> 20408.544 | T29: =ROUND(S29*kopsavilkums!$O$23,2) -> 4814.38 | U29: =SUM(S29:T29) -> 25222.924
A30: Vecākais ārsts eksperts | B30: 2212 11 | C30: Nesertificēts ārsts | D30: 13 | E30: IV | F30: 11 | G30: 1746 | J30: 2057 | K30: 0 | L30: 0 | M30: 2.75 | N30: =ROUND(J30*(1+kopsavilkums!$O$8),2) -> 2275.04 | O30: =P30-L30 -> 0 | P30: =ROUND(L30*(1+kopsavilkums!$O$8),2) -> 0 | Q30: =(N30+P30)-(J30+L30) -> 218.04 | R30: =Q30*M30 -> 599.61 | S30: =R30*12 -> 7195.32 | T30: =ROUND(S30*kopsavilkums!$O$23,2) -> 1697.38 | U30: =SUM(S30:T30) -> 8892.7
A31: Ārsts eksperts | B31: 2212 11 | C31: PP13 | D31: 13 | E31: III | F31: 9 | I31: 2067 | J31: 1922 | K31: 0 | L31: 0 | M31: 2 | N31: =ROUND(J31*(1+kopsavilkums!$O$8),2) -> 2125.73 | O31: =P31-L31 -> 0 | P31: =ROUND(L31*(1+kopsavilkums!$O$8),2) -> 0 | Q31: =(N31+P31)-(J31+L31) -> 203.73 | R31: =Q31*M31 -> 407.46 | S31: =R31*12 -> 4889.52 | T31: =ROUND(S31*kopsavilkums!$O$23,2) -> 1153.44 | U31: =SUM(S31:T31) -> 6042.96
A32: Ārsts eksperts | B32: 2212 11 | C32: Nesertificēts ārsts | D32: 13 | E32: III | F32: 9 | I32: 2067 | J32: 1922 | K32: 0 | L32: 0 | M32: 1 | N32: =ROUND(J32*(1+kopsavilkums!$O$8),2) -> 2125.73 | O32: =P32-L32 -> 0 | P32: =ROUND(L32*(1+kopsavilkums!$O$8),2) -> 0 | Q32: =(N32+P32)-(J32+L32) -> 203.73 | R32: =Q32*M32 -> 203.73 | S32: =R32*12 -> 2444.76 | T32: =ROUND(S32*kopsavilkums!$O$23,2) -> 576.72 | U32: =SUM(S32:T32) -> 3021.48
A33: Ārsts eksperts | B33: 2212 11 | C33: PP13 | D33: 13 | E33: III | F33: 9 | I33: 2067 | J33: 1793 | K33: 0 | L33: 0 | M33: 11.6 | N33: =ROUND(J33*(1+kopsavilkums!$O$8),2) -> 1983.06 | O33: =P33-L33 -> 0 | P33: =ROUND(L33*(1+kopsavilkums!$O$8),2) -> 0 | Q33: =(N33+P33)-(J33+L33) -> 190.06 | R33: =Q33*M33 -> 2204.696 | S33: =R33*12 -> 26456.352 | T33: =ROUND(S33*kopsavilkums!$O$23,2) -> 6241.05 | U33: =SUM(S33:T33) -> 32697.402
A34: Ārsts eksperts | B34: 2212 11 | C34: Nesertificēts ārsts | D34: 13 | E34: III | F34: 9 | I34: 2067 | J34: 1793 | K34: 0 | L34: 0 | M34: 14.3 | N34: =ROUND(J34*(1+kopsavilkums!$O$8),2) -> 1983.06 | O34: =P34-L34 -> 0 | P34: =ROUND(L34*(1+kopsavilkums!$O$8),2) -> 0 | Q34: =(N34+P34)-(J34+L34) -> 190.06 | R34: =Q34*M34 -> 2717.858 | S34: =R34*12 -> 32614.296 | T34: =ROUND(S34*kopsavilkums!$O$23,2) -> 7693.71 | U34: =SUM(S34:T34) -> 40308.006
A35: Kopā | D35: x | E35: x | F35: x | I35: x | J35: x | K35: x | M35: =SUM(M17:M34) -> 64.2
A36: 05.62.00 Kopā | M36: =M35 -> 64.2
A38: 14. Iekšlietu ministrija
A39: 06.01.00 "Valsts policija" | U39: =SUM(U41,U43:U44) -> 8802.08
A40: Ārsti un funkcionālie speciālisti
A41: Ārsts | B41: 2211 01 | C41: P00 P01 | D41: 6.1. | E41: III | F41: 9 | G41: 1157 | H41: 1653 | I41: 2067 | J41: 1461 | K41: 365.25 | L41: 365.25 | M41: 1 | N41: =ROUND(J41*(1+kopsavilkums!$O$8),2) -> 1615.87 | O41: =P41-L41 -> 38.72 | P41: =ROUND(L41*(1+kopsavilkums!$O$8),2) -> 403.97 | Q41: =(N41+P41)-(J41+L41) -> 193.59 | R41: =Q41*M41 -> 193.59 | S41: =R41*12 -> 2323.08 | T41: =ROUND(S41*kopsavilkums!$O$23,2) -> 548.01 | U41: =SUM(S41:T41) -> 2871.09 | X41: atbilst | Y41: P00 P01 | Z41: nav
A42: Ārstniecības un pacientu aprūpes personas
A43: Ārsta palīgs | B43: 2240 01 | C43: n27 n86 | D43: 6.1. | E43: IA | F43: 7 | G43: 905 | H43: 1293 | I43: 1682 | J43: 1240 | K43: 310 | L43: 310 | M43: 3 | N43: =ROUND(J43*(1+kopsavilkums!$O$12),2) -> 1320.6 | O43: =P43-L43 -> 20.15 | P43: =ROUND(L43*(1+kopsavilkums!$O$12),2) -> 330.15 | Q43: =(N43+P43)-(J43+L43) -> 100.75 | R43: =Q43*M43 -> 302.25 | S43: =R43*12 -> 3627 | T43: =ROUND(S43*kopsavilkums!$O$23,2) -> 855.61 | U43: =SUM(S43:T43) -> 4482.61 | X43: atbilst | Y43: n27 n86 | Z43: nav
A44: Ārsta palīgs | B44: 2240 01 | C44: n27 n86 | D44: 6.1. | E44: IA | F44: 7 | G44: 905 | H44: 1293 | I44: 1682 | J44: 1202 | K44: 300.5 | L44: 300.5 | M44: 1 | N44: =ROUND(J44*(1+kopsavilkums!$O$12),2) -> 1280.13 | O44: =P44-L44 -> 19.53 | P44: =ROUND(L44*(1+kopsavilkums!$O$12),2) -> 320.03 | Q44: =(N44+P44)-(J44+L44) -> 97.66 | R44: =Q44*M44 -> 97.66 | S44: =R44*12 -> 1171.92 | T44: =ROUND(S44*kopsavilkums!$O$23,2) -> 276.46 | U44: =SUM(S44:T44) -> 1448.38 | X44: atbilst | Y44: n27 n86 | Z44: nav
A45: 38.05.00 "Veselības aprūpe un fiziskā sagatavotība" (Iekšlietu ministrijas veselības un sporta centrs) | U45: =SUM(U47:U50,U52:U70) -> 38275.902
A46: Ārsti un funkcionālie speciālisti
A47: vecākais ārsts eksperts | B47: 221211 | C47: P23; PP13 | D47: 13 | E47: IV | F47: 11 | G47: 1746 | H47: 2496 | I47: 3120 | J47: 1746 | K47: 10 | L47: 10 | M47: 1 | N47: =ROUND(J47*(1+kopsavilkums!$O$8),2) -> 1931.08 | O47: =P47-L47 -> 1.06 | P47: =ROUND(L47*(1+kopsavilkums!$O$8),2) -> 11.06 | Q47: =(N47+P47)-(J47+L47) -> 186.14 | R47: =Q47*M47 -> 186.14 | S47: =R47*12 -> 2233.68 | T47: =ROUND(S47*kopsavilkums!$O$23,2) -> 526.93 | U47: =SUM(S47:T47) -> 2760.61 | X47: Atbilst | Y47: P23; PP13 | Z47: Nav reģistrēts | AA47: Iestāde - Iekšlietu ministrijas veselības un sporta centrs
A48: vecākais ārsts eksperts | B48: 221211 | C48: P15; PP13 | D48: 13 | E48: IV | F48: 11 | G48: 1746 | H48: 2496 | I48: 3120 | J48: 1746 | K48: 10 | L48: 10 | M48: 1 | N48: =ROUND(J48*(1+kopsavilkums!$O$8),2) -> 1931.08 | O48: =P48-L48 -> 1.06 | P48: =ROUND(L48*(1+kopsavilkums!$O$8),2) -> 11.06 | Q48: =(N48+P48)-(J48+L48) -> 186.14 | R48: =Q48*M48 -> 186.14 | S48: =R48*12 -> 2233.68 | T48: =ROUND(S48*kopsavilkums!$O$23,2) -> 526.93 | U48: =SUM(S48:T48) -> 2760.61 | X48: Atbilst | Y48: P15; PP13 | Z48: Nav reģistrēts | AA48: Iestāde - Iekšlietu ministrijas veselības un sporta centrs
A49: vecākais ārsts eksperts | B49: 221211 | C49: P54; PP13 | D49: 13 | E49: IV | F49: 11 | G49: 1746 | H49: 2496 | I49: 3120 | J49: 1746 | K49: 10 | L49: 10 | M49: 1 | N49: =ROUND(J49*(1+kopsavilkums!$O$8),2) -> 1931.08 | O49: =P49-L49 -> 1.06 | P49: =ROUND(L49*(1+kopsavilkums!$O$8),2) -> 11.06 | Q49: =(N49+P49)-(J49+L49) -> 186.14 | R49: =Q49*M49 -> 186.14 | S49: =R49*12 -> 2233.68 | T49: =ROUND(S49*kopsavilkums!$O$23,2) -> 526.93 | U49: =SUM(S49:T49) -> 2760.61 | X49: Atbilst | Y49: P54; PP13 | Z49: Nav reģistrēts | AA49: Iestāde - Iekšlietu ministrijas veselības un sporta centrs
A50: vecākais ārsts eksperts | B50: 221211 | C50: P53; PP13 | D50: 13 | E50: IV | F50: 11 | G50: 1746 | H50: 2496 | I50: 3120 | J50: 1746 | K50: 10 | L50: 10 | M50: 1 | N50: =ROUND(J50*(1+kopsavilkums!$O$8),2) -> 1931.08 | O50: =P50-L50 -> 1.06 | P50: =ROUND(L50*(1+kopsavilkums!$O$8),2) -> 11.06 | Q50: =(N50+P50)-(J50+L50) -> 186.14 | R50: =Q50*M50 -> 186.14 | S50: =R50*12 -> 2233.68 | T50: =ROUND(S50*kopsavilkums!$O$23,2) -> 526.93 | U50: =SUM(S50:T50) -> 2760.61 | X50: Atbilst | Y50: P53; PP13 | Z50: Nav reģistrēts | AA50: Iestāde - Iekšlietu ministrijas veselības un sporta centrs
A51: Ārstniecības un pacientu aprūpes atbalsta personas
A52: VADĪTĀJS/ DIREKTORS/ PĀRVALDNIEKS (veselības aprūpes jomā)(laboratorijas vadītāja) | B52: 1342 01 | C52: n108 | D52: 13 | E52: IV | F52: 11 | G52: 1746 | H52: 2496 | I52: 3120 | J52: 2200 | L52: 220 | M52: 0.7 | N52: =ROUND(J52*(1+kopsavilkums!$O$15),2) -> 2351.8 | O52: =P52-L52 -> 15.18 | P52: =ROUND(L52*(1+kopsavilkums!$O$15),2) -> 235.18 | Q52: =(N52+P52)-(J52+L52) -> 166.98 | R52: =Q52*M52 -> 116.886 | S52: =R52*12 -> 1402.632 | T52: =ROUND(S52*kopsavilkums!$O$23,2) -> 330.88 | U52: =SUM(S52:T52) -> 1733.512 | V52: EKK 2000 | Y52: n108 | Z52: Reģistrēta | AA52: VI reģitrēta kā Iekšlietu ministrijas poliklīnika
A53: Laboratorijas speciālists | B53: 3212 04 | C53: n108 | D53: 13 | E53: III | F53: 9 | G53: 1157 | H53: 1653 | I53: 2067 | J53: 1800 | L53: 180 | M53: 0.3 | N53: =ROUND(J53*(1+kopsavilkums!$O$15),2) -> 1924.2 | O53: =P53-L53 -> 12.42 | P53: =ROUND(L53*(1+kopsavilkums!$O$15),2) -> 192.42 | Q53: =(N53+P53)-(J53+L53) -> 136.62 | R53: =Q53*M53 -> 40.986 | S53: =R53*12 -> 491.832 | T53: =ROUND(S53*kopsavilkums!$O$23,2) -> 116.02 | U53: =SUM(S53:T53) -> 607.852 | Y53: n108 | Z53: Reģistrēta | AA53: VI reģitrēta kā Iekšlietu ministrijas poliklīnika
A54: Psihologs | B54: 2634 01 | D54: 43.2. | E54: IB | F54: 8 | G54: 967 | H54: 1388 | I54: 1796 | J54: 1800 | L54: 180 | M54: 0.6 | N54: =ROUND(J54*(1+kopsavilkums!$O$15),2) -> 1924.2 | O54: =P54-L54 -> 12.42 | P54: =ROUND(L54*(1+kopsavilkums!$O$15),2) -> 192.42 | Q54: =(N54+P54)-(J54+L54) -> 136.62 | R54: =Q54*M54 -> 81.972 | S54: =R54*12 -> 983.664 | T54: =ROUND(S54*kopsavilkums!$O$23,2) -> 232.05 | U54: =SUM(S54:T54) -> 1215.714 | Z54: Reģistrēta | AA54: VI reģitrēta kā Iekšlietu ministrijas poliklīnika
A55: Psihologs | B55: 2634 01 | D55: 43.2. | E55: IB | F55: 8 | G55: 967 | H55: 1388 | I55: 1796 | J55: 1800 | L55: 180 | M55: 0.2 | N55: =ROUND(J55*(1+kopsavilkums!$O$15),2) -> 1924.2 | O55: =P55-L55 -> 12.42 | P55: =ROUND(L55*(1+kopsavilkums!$O$15),2) -> 192.42 | Q55: =(N55+P55)-(J55+L55) -> 136.62 | R55: =Q55*M55 -> 27.324 | S55: =R55*12 -> 327.888 | T55: =ROUND(S55*kopsavilkums!$O$23,2) -> 77.35 | U55: =SUM(S55:T55) -> 405.238 | Z55: Reģistrēta | AA55: VI reģitrēta kā Iekšlietu ministrijas poliklīnika
A56: Psihologs | B56: 2634 01 | D56: 43.2. | E56: IB | F56: 8 | G56: 967 | H56: 1388 | I56: 1796 | J56: 1800 | L56: 180 | M56: 0.2 | N56: =ROUND(J56*(1+kopsavilkums!$O$15),2) -> 1924.2 | O56: =P56-L56 -> 12.42 | P56: =ROUND(L56*(1+kopsavilkums!$O$15),2) -> 192.42 | Q56: =(N56+P56)-(J56+L56) -> 136.62 | R56: =Q56*M56 -> 27.324 | S56: =R56*12 -> 327.888 | T56: =ROUND(S56*kopsavilkums!$O$23,2) -> 77.35 | U56: =SUM(S56:T56) -> 405.238 | Z56: Reģistrēta | AA56: VI reģitrēta kā Iekšlietu ministrijas poliklīnika
A57: Psihologs | B57: 2634 01 | D57: 43.2. | E57: IB | F57: 8 | G57: 967 | H57: 1388 | I57: 1796 | J57: 1700 | L57: 170 | M57: 0.6 | N57: =ROUND(J57*(1+kopsavilkums!$O$15),2) -> 1817.3 | O57: =P57-L57 -> 11.73 | P57: =ROUND(L57*(1+kopsavilkums!$O$15),2) -> 181.73 | Q57: =(N57+P57)-(J57+L57) -> 129.03 | R57: =Q57*M57 -> 77.418 | S57: =R57*12 -> 929.016 | T57: =ROUND(S57*kopsavilkums!$O$23,2) -> 219.15 | U57: =SUM(S57:T57) -> 1148.166 | Z57: Reģistrēta | AA57: VI reģitrēta kā Iekšlietu ministrijas poliklīnika
A58: Psihologa asistents | B58: 2634 10 | D58: 43.2. | E58: IA | F58: 8 | G58: 967 | H58: 1388 | I58: 1796 | J58: 1150 | L58: 115 | M58: 0.4 | N58: =ROUND(J58*(1+kopsavilkums!$O$15),2) -> 1229.35 | O58: =P58-L58 -> 7.94 | P58: =ROUND(L58*(1+kopsavilkums!$O$15),2) -> 122.94 | Q58: =(N58+P58)-(J58+L58) -> 87.29 | R58: =Q58*M58 -> 34.916 | S58: =R58*12 -> 418.992 | T58: =ROUND(S58*kopsavilkums!$O$23,2) -> 98.84 | U58: =SUM(S58:T58) -> 517.832 | Z58: Reģistrēta | AA58: VI reģitrēta kā Iekšlietu ministrijas poliklīnika
A59: Ārstniecības iestādes klientu un pacientu REĢISTRATORS | B59: 3344 02 | C59: n115 | D59: 25. | E59: I | F59: 4 | G59: 662 | H59: 946 | I59: 1228 | J59: 940 | L59: 94 | M59: 1 | N59: =ROUND(J59*(1+kopsavilkums!$O$15),2) -> 1004.86 | O59: =P59-L59 -> 6.49 | P59: =ROUND(L59*(1+kopsavilkums!$O$15),2) -> 100.49 | Q59: =(N59+P59)-(J59+L59) -> 71.35 | R59: =Q59*M59 -> 71.35 | S59: =R59*12 -> 856.2 | T59: =ROUND(S59*kopsavilkums!$O$23,2) -> 201.98 | U59: =SUM(S59:T59) -> 1058.18 | Y59: n115 | Z59: Reģistrēta | AA59: VI reģitrēta kā Iekšlietu ministrijas poliklīnika
A60: Ārstniecības iestādes klientu un pacientu REĢISTRATORS | B60: 3344 02 | C60: n115 | D60: 25. | E60: I | F60: 4 | G60: 662 | H60: 946 | I60: 1228 | J60: 940 | L60: 94 | M60: 0.6 | N60: =ROUND(J60*(1+kopsavilkums!$O$15),2) -> 1004.86 | O60: =P60-L60 -> 6.49 | P60: =ROUND(L60*(1+kopsavilkums!$O$15),2) -> 100.49 | Q60: =(N60+P60)-(J60+L60) -> 71.35 | R60: =Q60*M60 -> 42.81 | S60: =R60*12 -> 513.72 | T60: =ROUND(S60*kopsavilkums!$O$23,2) -> 121.19 | U60: =SUM(S60:T60) -> 634.91 | Y60: n115 | Z60: Reģistrēta | AA60: VI reģitrēta kā Iekšlietu ministrijas poliklīnika
A61: Ārstniecības iestādes klientu un pacientu REĢISTRATORS | B61: 3344 02 | C61: n115 | D61: 25. | E61: I | F61: 4 | G61: 662 | H61: 946 | I61: 1228 | J61: 800 | L61: 80 | M61: 1 | N61: =ROUND(J61*(1+kopsavilkums!$O$15),2) -> 855.2 | O61: =P61-L61 -> 5.52 | P61: =ROUND(L61*(1+kopsavilkums!$O$15),2) -> 85.52 | Q61: =(N61+P61)-(J61+L61) -> 60.72 | R61: =Q61*M61 -> 60.72 | S61: =R61*12 -> 728.64 | T61: =ROUND(S61*kopsavilkums!$O$23,2) -> 171.89 | U61: =SUM(S61:T61) -> 900.53 | Y61: n115 | Z61: Reģistrēta | AA61: VI reģitrēta kā Iekšlietu ministrijas poliklīnika
A62: Ārstniecības iestādes klientu un pacientu REĢISTRATORS | B62: 3344 02 | C62: n115 | D62: 25. | E62: I | F62: 4 | G62: 662 | H62: 946 | I62: 1228 | J62: 800 | L62: 80 | M62: 1 | N62: =ROUND(J62*(1+kopsavilkums!$O$15),2) -> 855.2 | O62: =P62-L62 -> 5.52 | P62: =ROUND(L62*(1+kopsavilkums!$O$15),2) -> 85.52 | Q62: =(N62+P62)-(J62+L62) -> 60.72 | R62: =Q62*M62 -> 60.72 | S62: =R62*12 -> 728.64 | T62: =ROUND(S62*kopsavilkums!$O$23,2) -> 171.89 | U62: =SUM(S62:T62) -> 900.53 | Y62: n115 | Z62: Reģistrēta | AA62: VI reģitrēta kā Iekšlietu ministrijas poliklīnika
A63: Sterilizācijas tehniskais darbinieks | B63: 5329 02 | D63: 16. | E63: II | F63: 2 | G63: 584 | H63: 673 | I63: 875 | J63: 650 | L63: 65 | M63: 0.5 | N63: =ROUND(J63*(1+kopsavilkums!$O$15),2) -> 694.85 | O63: =P63-L63 -> 4.49 | P63: =ROUND(L63*(1+kopsavilkums!$O$15),2) -> 69.49 | Q63: =(N63+P63)-(J63+L63) -> 49.34 | R63: =Q63*M63 -> 24.67 | S63: =R63*12 -> 296.04 | T63: =ROUND(S63*kopsavilkums!$O$23,2) -> 69.84 | U63: =SUM(S63:T63) -> 365.88 | Y63: Iekšlietu ministrijas veselības un sporta centrā ir nodarbināti un psiholoģisko palīdzību Iekšlietu ministrijas sistēmas iestāžu un Ieslodzījuma vietu pārvaldes amatpersonām ar speciālajām dienesta pakāpēm, kā arī Neatliekamās medicīniskās palīdzības dienesta darbiniekiem sniedz psihologi, kuri atbilstoši Psihologu likumā noteiktajam ir sertificēti Kliniskajā un veselības psiholoģijas jomā - 10 psihologi un Konsultatīvās psiholoģijas jomā - 3 psihologi. Diemžēl saskaņā ar spēkā esošo normatīvo regulējumu psihologa profesija un specialitāte neatkarīgi no psihologa sertifikācijas jomas šobrīd nav minētas MK noteikumos Nr.317
A64: Psihologs | B64: 263402 | C64: n115 | D64: 43.2 | E64: II | F64: 9 | G64: 1156.7968 | H64: 1652.7294 | I64: 2066.7648 | J64: 1157 | K64: 0 | L64: 0 | M64: 5 | N64: =ROUND(J64*(1+kopsavilkums!$O$15),2) -> 1236.83 | O64: =P64-L64 -> 0 | P64: =ROUND(L64*(1+kopsavilkums!$O$15),2) -> 0 | Q64: =(N64+P64)-(J64+L64) -> 79.83 | R64: =Q64*M64 -> 399.15 | S64: =R64*12 -> 4789.8 | T64: =ROUND(S64*kopsavilkums!$O$23,2) -> 1129.91 | U64: =SUM(S64:T64) -> 5919.71
A65: Psihologs | B65: 263401 | D65: 43.2 | E65: II | F65: 9 | G65: 1156.7968 | H65: 1652.7294 | I65: 2066.7648 | J65: 1157 | K65: 0 | L65: 0 | M65: 2 | N65: =ROUND(J65*(1+kopsavilkums!$O$15),2) -> 1236.83 | O65: =P65-L65 -> 0 | P65: =ROUND(L65*(1+kopsavilkums!$O$15),2) -> 0 | Q65: =(N65+P65)-(J65+L65) -> 79.83 | R65: =Q65*M65 -> 159.66 | S65: =R65*12 -> 1915.92 | T65: =ROUND(S65*kopsavilkums!$O$23,2) -> 451.97 | U65: =SUM(S65:T65) -> 2367.89
A66: Psihologs | B66: 263402 | D66: 43.2 | E66: II | F66: 9 | G66: 1156.7968 | H66: 1652.7294 | I66: 2066.7648 | J66: 1200 | K66: 0 | L66: 0 | M66: 1 | N66: =ROUND(J66*(1+kopsavilkums!$O$15),2) -> 1282.8 | O66: =P66-L66 -> 0 | P66: =ROUND(L66*(1+kopsavilkums!$O$15),2) -> 0 | Q66: =(N66+P66)-(J66+L66) -> 82.8 | R66: =Q66*M66 -> 82.8 | S66: =R66*12 -> 993.6 | T66: =ROUND(S66*kopsavilkums!$O$23,2) -> 234.39 | U66: =SUM(S66:T66) -> 1227.99
A67: Psihologs | B67: 263401 | D67: 43.2 | E67: II | F67: 9 | G67: 1156.7968 | H67: 1652.7294 | I67: 2066.7648 | J67: 1200 | K67: 0 | L67: 0 | M67: 1 | N67: =ROUND(J67*(1+kopsavilkums!$O$15),2) -> 1282.8 | O67: =P67-L67 -> 0 | P67: =ROUND(L67*(1+kopsavilkums!$O$15),2) -> 0 | Q67: =(N67+P67)-(J67+L67) -> 82.8 | R67: =Q67*M67 -> 82.8 | S67: =R67*12 -> 993.6 | T67: =ROUND(S67*kopsavilkums!$O$23,2) -> 234.39 | U67: =SUM(S67:T67) -> 1227.99
A68: Psihologs | B68: 263402 | D68: 43.2 | E68: III | F68: 10 | G68: 1399.0758 | H68: 1998.5172 | I68: 2498.9996 | J68: 1450 | K68: 0 | L68: 0 | M68: 2 | N68: =ROUND(J68*(1+kopsavilkums!$O$15),2) -> 1550.05 | O68: =P68-L68 -> 0 | P68: =ROUND(L68*(1+kopsavilkums!$O$15),2) -> 0 | Q68: =(N68+P68)-(J68+L68) -> 100.05 | R68: =Q68*M68 -> 200.1 | S68: =R68*12 -> 2401.2 | T68: =ROUND(S68*kopsavilkums!$O$23,2) -> 566.44 | U68: =SUM(S68:T68) -> 2967.64
A69: Psiholoģiskā atbalsta nodaļas vadītājs - psihologs | B69: 121305 | D69: 36 | E69: V | F69: 11 | G69: 1746 | H69: 2496 | I69: 3120 | J69: 1746 | K69: 0 | L69: 0 | M69: 1 | N69: =ROUND(J69*(1+kopsavilkums!$O$15),2) -> 1866.47 | O69: =P69-L69 -> 0 | P69: =ROUND(L69*(1+kopsavilkums!$O$15),2) -> 0 | Q69: =(N69+P69)-(J69+L69) -> 120.47 | R69: =Q69*M69 -> 120.47 | S69: =R69*12 -> 1445.64 | T69: =ROUND(S69*kopsavilkums!$O$23,2) -> 341.03 | U69: =SUM(S69:T69) -> 1786.67
A70: Psiholoģiskā atbalsta nodaļas vadītājs - psihologs | B70: 121305 | D70: 36 | E70: V | F70: 11 | G70: 1746 | H70: 2496 | I70: 3120 | J70: 1800 | K70: 0 | L70: 0 | M70: 1 | N70: =ROUND(J70*(1+kopsavilkums!$O$15),2) -> 1924.2 | O70: =P70-L70 -> 0 | P70: =ROUND(L70*(1+kopsavilkums!$O$15),2) -> 0 | Q70: =(N70+P70)-(J70+L70) -> 124.2 | R70: =Q70*M70 -> 124.2 | S70: =R70*12 -> 1490.4 | T70: =ROUND(S70*kopsavilkums!$O$23,2) -> 351.59 | U70: =SUM(S70:T70) -> 1841.99
A71: Kopā | D71: x | F71: x | I71: x | J71: x | K71: x | M71: =SUM(M41,M43:M44,M47:M50,M52:M70) -> 29.1 | U71: =U45+U39 -> 47077.982
A73: 15. Izglītības un zinātnes ministrija
A74: 02.01.00. "Profesionālās izglītības programmu īstenošana" | U74: =SUM(U76:U77,U79:U101) -> 23323.656
A75: Ārsti un funkcionālie speciālisti
A76: Ārsts | B76: 2211 01 | C76: P 00 | D76: 6.1. | E76: III | F76: 9 | G76: 1157 | H76: 1653 | I76: 2067 | J76: 1487 | K76: 22 | L76: 22 | M76: 0.15 | N76: =ROUND(J76*(1+kopsavilkums!$O$8),2) -> 1644.62 | O76: =P76-L76 -> 2.33 | P76: =ROUND(L76*(1+kopsavilkums!$O$8),2) -> 24.33 | Q76: =(N76+P76)-(J76+L76) -> 159.95 | R76: =Q76*M76 -> 23.9925 | S76: =R76*12 -> 287.91 | T76: =ROUND(S76*kopsavilkums!$O$23,2) -> 67.92 | U76: =SUM(S76:T76) -> 355.83 | Z76: Nav reģistrēta
A77: Ārsts | B77: 2211 01 | C77: P 00 | D77: 6.1. | E77: III | F77: 9 | G77: 1157 | H77: 1653 | I77: 2067 | J77: 1483 | K77: 0 | L77: 0 | M77: 1 | N77: =ROUND(J77*(1+kopsavilkums!$O$8),2) -> 1640.2 | O77: =P77-L77 -> 0 | P77: =ROUND(L77*(1+kopsavilkums!$O$8),2) -> 0 | Q77: =(N77+P77)-(J77+L77) -> 157.2 | R77: =Q77*M77 -> 157.2 | S77: =R77*12 -> 1886.4 | T77: =ROUND(S77*kopsavilkums!$O$23,2) -> 445 | U77: =SUM(S77:T77) -> 2331.4 | Z77: Nav reģistrēta
A78: Ārstniecības un pacientu aprūpes personas
A79: Māsa | B79: 222146 | C79: n120 | D79: 6.2. | E79: IV B | F79: 6 | G79: 758 | H79: 1081 | I79: 1406 | J79: 996 | K79: 120 | L79: 120 | M79: 1 | N79: =ROUND(J79*(1+kopsavilkums!$O$12),2) -> 1060.74 | O79: =P79-L79 -> 7.8 | P79: =ROUND(L79*(1+kopsavilkums!$O$12),2) -> 127.8 | Q79: =(N79+P79)-(J79+L79) -> 72.54 | R79: =Q79*M79 -> 72.54 | S79: =R79*12 -> 870.48 | T79: =ROUND(S79*kopsavilkums!$O$23,2) -> 205.35 | U79: =SUM(S79:T79) -> 1075.83 | Z79: Nav reģistrēta
A80: Māsa | B80: 222146 | C80: n120 | D80: 6.2. | E80: IV B | F80: 6 | G80: 758 | H80: 1081 | I80: 1406 | J80: 965 | K80: 120 | L80: 120 | M80: 1 | N80: =ROUND(J80*(1+kopsavilkums!$O$12),2) -> 1027.73 | O80: =P80-L80 -> 7.8 | P80: =ROUND(L80*(1+kopsavilkums!$O$12),2) -> 127.8 | Q80: =(N80+P80)-(J80+L80) -> 70.53 | R80: =Q80*M80 -> 70.53 | S80: =R80*12 -> 846.36 | T80: =ROUND(S80*kopsavilkums!$O$23,2) -> 199.66 | U80: =SUM(S80:T80) -> 1046.02 | Z80: Nav reģistrēta
A81: Māsa | B81: 222146 | C81: n120 | D81: 6.2. | E81: IVB | F81: 6 | G81: 758 | H81: 1081 | I81: 1406 | J81: 886 | K81: 0 | L81: 0 | M81: 1 | N81: =ROUND(J81*(1+kopsavilkums!$O$12),2) -> 943.59 | O81: =P81-L81 -> 0 | P81: =ROUND(L81*(1+kopsavilkums!$O$12),2) -> 0 | Q81: =(N81+P81)-(J81+L81) -> 57.59 | R81: =Q81*M81 -> 57.59 | S81: =R81*12 -> 691.08 | T81: =ROUND(S81*kopsavilkums!$O$23,2) -> 163.03 | U81: =SUM(S81:T81) -> 854.11 | Z81: Nav reģistrēta
A82: Māsa | B82: 222146 | C82: n120 | D82: 6.2. | E82: IV B | F82: 6 | G82: 758 | H82: 1081 | I82: 1406 | J82: 927 | K82: 148 | L82: 148 | M82: 1 | N82: =ROUND(J82*(1+kopsavilkums!$O$12),2) -> 987.26 | O82: =P82-L82 -> 9.62 | P82: =ROUND(L82*(1+kopsavilkums!$O$12),2) -> 157.62 | Q82: =(N82+P82)-(J82+L82) -> 69.88 | R82: =Q82*M82 -> 69.88 | S82: =R82*12 -> 838.56 | T82: =ROUND(S82*kopsavilkums!$O$23,2) -> 197.82 | U82: =SUM(S82:T82) -> 1036.38 | Z82: Nav reģistrēta
A83: Māsa | B83: 222146 | C83: n120 | D83: 6.2. | E83: IV B | F83: 6 | G83: 758 | H83: 1081 | I83: 1406 | J83: 1081 | K83: 32 | L83: 32 | M83: 2 | N83: =ROUND(J83*(1+kopsavilkums!$O$12),2) -> 1151.27 | O83: =P83-L83 -> 2.08 | P83: =ROUND(L83*(1+kopsavilkums!$O$12),2) -> 34.08 | Q83: =(N83+P83)-(J83+L83) -> 72.35 | R83: =Q83*M83 -> 144.7 | S83: =R83*12 -> 1736.4 | T83: =ROUND(S83*kopsavilkums!$O$23,2) -> 409.62 | U83: =SUM(S83:T83) -> 2146.02 | Z83: Nav reģistrēta
A84: Māsa | B84: 222146 | C84: n120 | D84: 6.2. | E84: IV B | F84: 6 | G84: 758 | H84: 1081 | I84: 1406 | J84: 1040 | K84: 211 | L84: 211 | M84: 1 | N84: =ROUND(J84*(1+kopsavilkums!$O$12),2) -> 1107.6 | O84: =P84-L84 -> 13.72 | P84: =ROUND(L84*(1+kopsavilkums!$O$12),2) -> 224.72 | Q84: =(N84+P84)-(J84+L84) -> 81.32 | R84: =Q84*M84 -> 81.32 | S84: =R84*12 -> 975.84 | T84: =ROUND(S84*kopsavilkums!$O$23,2) -> 230.2 | U84: =SUM(S84:T84) -> 1206.04 | Z84: Nav reģistrēta
A85: Māsa | B85: 222146 | C85: n120 | D85: 6.2. | E85: IV B | F85: 6 | G85: 758 | H85: 1081 | I85: 1406 | J85: 1081 | K85: 0 | L85: 0 | M85: 0.5 | N85: =ROUND(J85*(1+kopsavilkums!$O$12),2) -> 1151.27 | O85: =P85-L85 -> 0 | P85: =ROUND(L85*(1+kopsavilkums!$O$12),2) -> 0 | Q85: =(N85+P85)-(J85+L85) -> 70.27 | R85: =Q85*M85 -> 35.135 | S85: =R85*12 -> 421.62 | T85: =ROUND(S85*kopsavilkums!$O$23,2) -> 99.46 | U85: =SUM(S85:T85) -> 521.08 | Z85: Nav reģistrēta
A86: Māsa | B86: 222146 | C86: n120 | D86: 6.2. | E86: IV B | F86: 6 | G86: 758 | H86: 1081 | I86: 1406 | J86: 1032 | K86: 120 | L86: 120 | M86: 1 | N86: =ROUND(J86*(1+kopsavilkums!$O$12),2) -> 1099.08 | O86: =P86-L86 -> 7.8 | P86: =ROUND(L86*(1+kopsavilkums!$O$12),2) -> 127.8 | Q86: =(N86+P86)-(J86+L86) -> 74.88 | R86: =Q86*M86 -> 74.88 | S86: =R86*12 -> 898.56 | T86: =ROUND(S86*kopsavilkums!$O$23,2) -> 211.97 | U86: =SUM(S86:T86) -> 1110.53 | Z86: Nav reģistrēta
A87: Māsa | B87: 222146 | C87: n120 | D87: 6.2. | E87: IV B | F87: 6 | G87: 758 | H87: 1081 | I87: 1406 | J87: 1032 | K87: 120 | L87: 120 | M87: 0.5 | N87: =ROUND(J87*(1+kopsavilkums!$O$12),2) -> 1099.08 | O87: =P87-L87 -> 7.8 | P87: =ROUND(L87*(1+kopsavilkums!$O$12),2) -> 127.8 | Q87: =(N87+P87)-(J87+L87) -> 74.88 | R87: =Q87*M87 -> 37.44 | S87: =R87*12 -> 449.28 | T87: =ROUND(S87*kopsavilkums!$O$23,2) -> 105.99 | U87: =SUM(S87:T87) -> 555.27 | Z87: Nav reģistrēta
A88: Māsa | B88: 222146 | C88: n120 | D88: 6.2. | E88: IV B | F88: 6 | G88: 758 | H88: 1081 | I88: 1406 | J88: 878 | K88: 0 | L88: 0 | M88: 1 | N88: =ROUND(J88*(1+kopsavilkums!$O$12),2) -> 935.07 | O88: =P88-L88 -> 0 | P88: =ROUND(L88*(1+kopsavilkums!$O$12),2) -> 0 | Q88: =(N88+P88)-(J88+L88) -> 57.07 | R88: =Q88*M88 -> 57.07 | S88: =R88*12 -> 684.84 | T88: =ROUND(S88*kopsavilkums!$O$23,2) -> 161.55 | U88: =SUM(S88:T88) -> 846.39 | Z88: Nav reģistrēta
A89: Māsa | B89: 222146 | C89: n120 | D89: 6.2. | E89: IVB | F89: 6 | G89: 758 | H89: 1081 | I89: 1406 | J89: 1036 | K89: 0 | L89: 0 | M89: 1 | N89: =ROUND(J89*(1+kopsavilkums!$O$12),2) -> 1103.34 | O89: =P89-L89 -> 0 | P89: =ROUND(L89*(1+kopsavilkums!$O$12),2) -> 0 | Q89: =(N89+P89)-(J89+L89) -> 67.34 | R89: =Q89*M89 -> 67.34 | S89: =R89*12 -> 808.08 | T89: =ROUND(S89*kopsavilkums!$O$23,2) -> 190.63 | U89: =SUM(S89:T89) -> 998.71 | Z89: Nav reģistrēta
A90: Māsa | B90: 222146 | C90: n121 | D90: 6.2. | E90: IVB | F90: 6 | G90: 758 | H90: 1081 | I90: 1406 | J90: 1200 | K90: 0 | L90: 0 | M90: 0.5 | N90: =ROUND(J90*(1+kopsavilkums!$O$12),2) -> 1278 | O90: =P90-L90 -> 0 | P90: =ROUND(L90*(1+kopsavilkums!$O$12),2) -> 0 | Q90: =(N90+P90)-(J90+L90) -> 78 | R90: =Q90*M90 -> 39 | S90: =R90*12 -> 468 | T90: =ROUND(S90*kopsavilkums!$O$23,2) -> 110.4 | U90: =SUM(S90:T90) -> 578.4 | Z90: Nav reģistrēta
... A101: Fizioterapeita asistents | B101: 325502 | C101: T04 | D101: 6.1. | E101: I C | F101: 7 | G101: 905 | H101: 1293 | I101: 1682 | J101: 905 | K101: 0 | L101: 0 | M101: 0.25 | N101: =ROUND(J101*(1+kopsavilkums!$O$12),2) -> 963.83 | O101: =P101-L101 -> 0 | P101: =ROUND(L101*(1+kopsavilkums!$O$12),2) -> 0 | Q101: =(N101+P101)-(J101+L101) -> 58.83 | R101: =Q101*M101 -> 14.7075 | S101: =R101*12 -> 176.49 | T101: =ROUND(S101*kopsavilkums!$O$23,2) -> 41.63 | U101: =SUM(S101:T101) -> 218.12 | Z101: Nav reģistrēta
A102: 09.10.00. "Murjāņu sporta ģimnāzija" | U102: =SUM(U104:U108,U110:U111) -> 11766.91
A103: Ārsti un funkcionālie speciālisti
A104: Ārsts | B104: 2212 36 | C104: P 36 | D104: 6.1. | E104: III | F104: 9 | G104: 1157 | H104: 1653 | I104: 2067 | J104: 1706.8 | L104: 0 | M104: 1 | N104: =ROUND(J104*(1+kopsavilkums!$O$8),2) -> 1887.72 | O104: =P104-L104 -> 0 | P104: =ROUND(L104*(1+kopsavilkums!$O$8),2) -> 0 | Q104: =(N104+P104)-(J104+L104) -> 180.92 | R104: =Q104*M104 -> 180.92 | S104: =R104*12 -> 2171.04 | T104: =ROUND(S104*kopsavilkums!$O$23,2) -> 512.15 | U104: =SUM(S104:T104) -> 2683.19 | Z104: Nav reģistrēta
A105: Ārsts | B105: 2211 01 | C105: P 36 | D105: 6.1. | E105: III | F105: 9 | G105: 1157 | H105: 1653 | I105: 2067 | J105: 1679.28 | L105: 0 | M105: 0.4 | N105: =ROUND(J105*(1+kopsavilkums!$O$8),2) -> 1857.28 | O105: =P105-L105 -> 0 | P105: =ROUND(L105*(1+kopsavilkums!$O$8),2) -> 0 | Q105: =(N105+P105)-(J105+L105) -> 178 | R105: =Q105*M105 -> 71.2 | S105: =R105*12 -> 854.4 | T105: =ROUND(S105*kopsavilkums!$O$23,2) -> 201.55 | U105: =SUM(S105:T105) -> 1055.95 | Z105: Nav reģistrēta
A106: Ārsts | B106: 2211 01 | C106: P 00 | D106: 6.1. | E106: III | F106: 9 | G106: 1157 | H106: 1653 | I106: 2067 | J106: 1527.29 | L106: 0 | M106: 1 | N106: =ROUND(J106*(1+kopsavilkums!$O$8),2) -> 1689.18 | O106: =P106-L106 -> 0 | P106: =ROUND(L106*(1+kopsavilkums!$O$8),2) -> 0 | Q106: =(N106+P106)-(J106+L106) -> 161.89 | R106: =Q106*M106 -> 161.89 | S106: =R106*12 -> 1942.68 | T106: =ROUND(S106*kopsavilkums!$O$23,2) -> 458.28 | U106: =SUM(S106:T106) -> 2400.96 | Z106: Nav reģistrēta
A107: Ārsts | B107: 2211 02 | C107: P 36 | D107: 6.1. | E107: IIB | F107: 8 | G107: 967 | H107: 1388 | I107: 1796 | J107: 1463.09 | L107: 0 | M107: 1 | N107: =ROUND(J107*(1+kopsavilkums!$O$8),2) -> 1618.18 | O107: =P107-L107 -> 0 | P107: =ROUND(L107*(1+kopsavilkums!$O$8),2) -> 0 | Q107: =(N107+P107)-(J107+L107) -> 155.09 | R107: =Q107*M107 -> 155.09 | S107: =R107*12 -> 1861.08 | T107: =ROUND(S107*kopsavilkums!$O$23,2) -> 439.03 | U107: =SUM(S107:T107) -> 2300.11 | Z107: Nav reģistrēta
A108: Ārsts | B108: 2211 04 | C108: P 00 | D108: 6.1. | E108: IIB | F108: 8 | G108: 967 | H108: 1388 | I108: 1796 | J108: 1450 | L108: 0 | M108: 0.4 | N108: =ROUND(J108*(1+kopsavilkums!$O$8),2) -> 1603.7 | O108: =P108-L108 -> 0 | P108: =ROUND(L108*(1+kopsavilkums!$O$8),2) -> 0 | Q108: =(N108+P108)-(J108+L108) -> 153.7 | R108: =Q108*M108 -> 61.48 | S108: =R108*12 -> 737.76 | T108: =ROUND(S108*kopsavilkums!$O$23,2) -> 174.04 | U108: =SUM(S108:T108) -> 911.8 | Z108: Nav reģistrēta
A109: Ārstniecības un pacientu aprūpes personas
A110: Māsa | B110: 2221 46 | C110: n120 | D110: 6.2. | E110: IVB | F110: 6 | G110: 758 | H110: 1081 | I110: 1406 | J110: 1350.39 | L110: 0 | M110: 1 | N110: =ROUND(J110*(1+kopsavilkums!$O$12),2) -> 1438.17 | O110: =P110-L110 -> 0 | P110: =ROUND(L110*(1+kopsavilkums!$O$12),2) -> 0 | Q110: =(N110+P110)-(J110+L110) -> 87.78 | R110: =Q110*M110 -> 87.78 | S110: =R110*12 -> 1053.36 | T110: =ROUND(S110*kopsavilkums!$O$23,2) -> 248.49 | U110: =SUM(S110:T110) -> 1301.85 | Z110: Nav reģistrēta
A111: Māsa | B111: 2221 46 | C111: n120 | D111: 6.2. | E111: IVB | F111: 6 | G111: 758 | H111: 1081 | I111: 1406 | J111: 1154.55 | L111: 0 | M111: 1 | N111: =ROUND(J111*(1+kopsavilkums!$O$12),2) -> 1229.6 | O111: =P111-L111 -> 0 | P111: =ROUND(L111*(1+kopsavilkums!$O$12),2) -> 0 | Q111: =(N111+P111)-(J111+L111) -> 75.05 | R111: =Q111*M111 -> 75.05 | S111: =R111*12 -> 900.6 | T111: =ROUND(S111*kopsavilkums!$O$23,2) -> 212.45 | U111: =SUM(S111:T111) -> 1113.05 | Z111: Nav reģistrēta
A112: Kopā | D112: x | E112: x | F112: x | I112: x | J112: x | K112: x | M112: =SUM(M76:M77,M79:M101,M104:M108,M110:M111) -> 26.3 | U112: =SUM(U76:U77,U79:U101,U104:U108,U110:U111) -> 35090.566
A113: 16. Zemkopības ministrija
A114: 22.01.00. "Profesionālā izglītība" | U114: =SUM(U116:U116) -> 960.15
A115: Ārstniecības un pacientu aprūpes personas
...

Sheet Pārējās ministrijas MK851
I1: 3.2. pielikums
A2: Ārstniecības personu darba samaksas pieaugums 10.Aisardzības ministrijai un 19.Tieslietu ministrijai
I3: EUR
A4: Ārstniecības personas amata kvalifikācijas kategorija | B4: Profesiju klasifikātora kods (atbilstoši MK noteikumiem Nr.264) | C4: Ārstniecības personas profesijas vai specialitātes kodu (atbilstoši MK noteikumiem Nr.317) | D4: Slodzes (strādājošo skaits normālā darba laika ietvaros) | E4: Faktiskā mēnešalgas likme par 1 (vienu) slodzi | F4: Palielinājums par darba stāžu | G4: Piemaksas | H4: Faktiskā darba samaksa (atalgojums par slodzi) mēnesī | I4: Darba samaksas pieaugums 2024.gadam, t.sk. 23.59%
K5: Pārbaude, atbilstība prof. klasifikatoram | L5: Ārstniecības personas profesijas vai specialitātes kodu (atbilstoši MK noteikumiem Nr.317) | M5: Reģistrācija Ārstniecības ietāžu reģistrā | N5: Piezīmes, pamatojums
A7: 19.Tieslietu ministrija
A8: Apakšprogramma 04.01.00 "Ieslodzījuma vietas"
A9: I.Sertificētu ārstniecības personu amati
A10: 1.kategorija - Ārsts, zobārsts
A11: Galvenais ārsts | B11: 1342 01 | C11: P63, P27 | D11: 1 | E11: 2980 | F11: 387.4 | G11: 596 | H11: =G11+F11+E11 -> 3963.4 | I11: =ROUND((E11+F11+G11)*(kopsavilkums!$O$8)*D11*12*(1+kopsavilkums!$O$23),2) -> 6230.72 | L11: P63, P27 | M11: Reģistrēts | N11: 801000010
A12: Daļas vadītājs (ārsts) | B12: 1342 03 | C12: P25 | D12: 1 | E12: 2455 | F12: 319.15 | G12: 491 | H12: =G12+F12+E12 -> 3265.15 | I12: =ROUND((E12+F12+G12)*(kopsavilkums!$O$8)*D12*12*(1+kopsavilkums!$O$23),2) -> 5133.03 | L12: P25 | M12: Reģistrēts | N12: 801000010
A13: Daļas vadītājs (ārsts) | B13: 1342 03 | C13: P53, P54 | D13: 1 | E13: 2455 | F13: 319.15 | G13: 491 | H13: =G13+F13+E13 -> 3265.15 | I13: =ROUND((E13+F13+G13)*(kopsavilkums!$O$8)*D13*12*(1+kopsavilkums!$O$23),2) -> 5133.03 | L13: P53, P54 | M13: Reģistrēts | N13: 801000010
A14: Daļas vadītājs (ārsts) | B14: 1342 03 | C14: P39 | D14: 1 | E14: 2455 | F14: 294.6 | G14: 491 | H14: =G14+F14+E14 -> 3240.6 | I14: =ROUND((E14+F14+G14)*(kopsavilkums!$O$8)*D14*12*(1+kopsavilkums!$O$23),2) -> 5094.43 | L14: P39 | M14: Reģistrēts | N14: 801000010
A15: Daļas vadītājs (ārsts) | B15: 1342 03 | C15: P00 | D15: 1 | E15: 2030 | F15: 243.6 | G15: 406 | H15: =G15+F15+E15 -> 2679.6 | I15: =ROUND((E15+F15+G15)*(kopsavilkums!$O$8)*D15*12*(1+kopsavilkums!$O$23),2) -> 4212.5 | L15: P00 | M15: Reģistrēts | N15: 801000010
A16: Daļas vadītājs (ārsts) | B16: 1342 03 | C16: P63 | D16: 1 | E16: 2455 | F16: 319.15 | G16: 491 | H16: =G16+F16+E16 -> 3265.15 | I16: =ROUND((E16+F16+G16)*(kopsavilkums!$O$8)*D16*12*(1+kopsavilkums!$O$23),2) -> 5133.03 | L16: P63 | M16: Reģistrēts | N16: 801000010
A17: Daļas vadītājs (ārsts) | B17: 1342 03 | C17: P01 | D17: 1 | E17: 2455 | F17: 294.6 | G17: 491 | H17: =G17+F17+E17 -> 3240.6 | I17: =ROUND((E17+F17+G17)*(kopsavilkums!$O$8)*D17*12*(1+kopsavilkums!$O$23),2) -> 5094.43 | L17: P01 | M17: Reģistrēts | N17: 801000010
A18: Nodaļas vadītājs (ārsts) | B18: 1342 03 | C18: P02 | D18: 1 | E18: 2285 | F18: 205.65 | G18: 457 | H18: =G18+F18+E18 -> 2947.65 | I18: =ROUND((E18+F18+G18)*(kopsavilkums!$O$8)*D18*12*(1+kopsavilkums!$O$23),2) -> 4633.9 | L18: P02 | M18: Reģistrēts | N18: 801000010
A19: Nodaļas vadītājs (ārsts) | B19: 1342 03 | C19: P19 | D19: 1 | E19: 2285 | F19: 297.05 | G19: 457 | H19: =G19+F19+E19 -> 3039.05 | I19: =ROUND((E19+F19+G19)*(kopsavilkums!$O$8)*D19*12*(1+kopsavilkums!$O$23),2) -> 4777.58 | L19: P19 | M19: Reģistrēts | N19: 801000010
A20: Nodaļas vadītājs (ārsts) | B20: 1342 03 | C20: P57 | D20: 1 | E20: 2285 | F20: 297.05 | G20: 457 | H20: =G20+F20+E20 -> 3039.05 | I20: =ROUND((E20+F20+G20)*(kopsavilkums!$O$8)*D20*12*(1+kopsavilkums!$O$23),2) -> 4777.58 | L20: P57 | M20: Reģistrēts | N20: 801000010
A21: Nodaļas vadītājs (ārsts) | B21: 1342 03 | C21: P27 | D21: 1 | E21: 2285 | F21: 159.95 | G21: 457 | H21: =G21+F21+E21 -> 2901.95 | I21: =ROUND((E21+F21+G21)*(kopsavilkums!$O$8)*D21*12*(1+kopsavilkums!$O$23),2) -> 4562.05 | L21: P27 | M21: Reģistrēts | N21: 801000010
A22: Ārsts | B22: 2211 01 | C22: P00 | D22: 0.75 | E22: 1810 | F22: 126.7 | G22: 362 | H22: =G22+F22+E22 -> 2298.7 | I22: =ROUND((E22+F22+G22)*(kopsavilkums!$O$8)*D22*12*(1+kopsavilkums!$O$23),2) -> 2710.28 | L22: P00 | M22: Reģistrēts | N22: 801000010
... A24: Ārsts | B24: 2212 28 | C24: P39 | D24: 1 | E24: 2060 | F24: 267.8 | G24: 412 | H24: =G24+F24+E24 -> 2739.8 | I24: =ROUND((E24+F24+G24)*(kopsavilkums!$O$8)*D24*12*(1+kopsavilkums!$O$23),2) -> 4307.14 | L24: P39 | M24: Reģistrēts | N24: 801000010
A25: Ārsts | B25: 2212104 | C25: P00 | D25: 0.5 | E25: 1810 | F25: 217.2 | G25: 362 | H25: =G25+F25+E25 -> 2389.2 | I25: =ROUND((E25+F25+G25)*(kopsavilkums!$O$8)*D25*12*(1+kopsavilkums!$O$23),2) -> 1877.99 | L25: P00 | M25: Reģistrēts | N25: 801000010
A26: Ārsts | B26: 2212104 | C26: P01 | D26: 0.75 | E26: 2060 | F26: 206 | G26: 412 | H26: =G26+F26+E26 -> 2678 | I26: =ROUND((E26+F26+G26)*(kopsavilkums!$O$8)*D26*12*(1+kopsavilkums!$O$23),2) -> 3157.49 | L26: P01 | M26: Reģistrēts | N26: 801000010
A27: Ārsts | B27: 2212104 | C27: P01 | D27: 1 | E27: 2060 | F27: 267.8 | G27: 412 | H27: =G27+F27+E27 -> 2739.8 | I27: =ROUND((E27+F27+G27)*(kopsavilkums!$O$8)*D27*12*(1+kopsavilkums!$O$23),2) -> 4307.14 | L27: P01 | M27: Reģistrēts | N27: 801000010
A28: Ārsts | B28: 2212104 | C28: P01 | D28: 0.5 | E28: 2060 | F28: 247.2 | G28: 412 | H28: =G28+F28+E28 -> 2719.2 | I28: =ROUND((E28+F28+G28)*(kopsavilkums!$O$8)*D28*12*(1+kopsavilkums!$O$23),2) -> 2137.38 | L28: P01 | M28: Reģistrēts | N28: 801000010
A29: Ārsts | B29: 2212104 | C29: P01 | D29: 1 | E29: 2060 | F29: 267.8 | G29: 412 | H29: =G29+F29+E29 -> 2739.8 | I29: =ROUND((E29+F29+G29)*(kopsavilkums!$O$8)*D29*12*(1+kopsavilkums!$O$23),2) -> 4307.14 | L29: P01 | M29: Reģistrēts | N29: 801000010
A30: Ārsts | B30: 2212104 | C30: P00 | D30: 0.25 | E30: 1810 | F30: 235.3 | G30: 362 | H30: =G30+F30+E30 -> 2407.3 | I30: =ROUND((E30+F30+G30)*(kopsavilkums!$O$8)*D30*12*(1+kopsavilkums!$O$23),2) -> 946.11 | L30: P00 | M30: Reģistrēts | N30: 801000010
A31: Ārsts | B31: 2212104 | C31: P01 | D31: 0.75 | E31: 2060 | F31: 206 | G31: 412 | H31: =G31+F31+E31 -> 2678 | I31: =ROUND((E31+F31+G31)*(kopsavilkums!$O$8)*D31*12*(1+kopsavilkums!$O$23),2) -> 3157.49 | L31: P01 | M31: Reģistrēts | N31: 801000010
A32: Ārsts | B32: 2212 86 | C32: P19 | D32: 1 | E32: 2060 | F32: 267.8 | G32: 412 | H32: =G32+F32+E32 -> 2739.8 | I32: =ROUND((E32+F32+G32)*(kopsavilkums!$O$8)*D32*12*(1+kopsavilkums!$O$23),2) -> 4307.14 | L32: P19 | M32: Reģistrēts | N32: 801000010
A33: Ārsts | B33: 2212 86 | C33: P19 | D33: 1 | E33: 2060 | F33: 267.8 | G33: 412 | H33: =G33+F33+E33 -> 2739.8 | I33: =ROUND((E33+F33+G33)*(kopsavilkums!$O$8)*D33*12*(1+kopsavilkums!$O$23),2) -> 4307.14 | L33: P19 | M33: Reģistrēts | N33: 801000010
A34: Ārsts | B34: 2212 86 | C34: P19 | D34: 0.5 | E34: 2060 | F34: 144.2 | G34: 412 | H34: =G34+F34+E34 -> 2616.2 | I34: =ROUND((E34+F34+G34)*(kopsavilkums!$O$8)*D34*12*(1+kopsavilkums!$O$23),2) -> 2056.42 | L34: P19 | M34: Reģistrēts | N34: 801000010
A35: Ārsts | B35: 2212 86 | C35: P19 | D35: 0.5 | E35: 2060 | F35: 206 | G35: 412 | H35: =G35+F35+E35 -> 2678 | I35: =ROUND((E35+F35+G35)*(kopsavilkums!$O$8)*D35*12*(1+kopsavilkums!$O$23),2) -> 2104.99 | L35: P19 | M35: Reģistrēts | N35: 801000010
A36: Ārsts | B36: 2212 86 | C36: P19 | D36: 0.5 | E36: 2060 | F36: 267.8 | G36: 412 | H36: =G36+F36+E36 -> 2739.8 | I36: =ROUND((E36+F36+G36)*(kopsavilkums!$O$8)*D36*12*(1+kopsavilkums!$O$23),2) -> 2153.57 | L36: P19 | M36: Reģistrēts | N36: 801000010
A37: Ārsts | B37: 2212 86 | C37: P19, P64 | D37: 0.25 | E37: 2060 | F37: 267.8 | G37: 412 | H37: =G37+F37+E37 -> 2739.8 | I37: =ROUND((E37+F37+G37)*(kopsavilkums!$O$8)*D37*12*(1+kopsavilkums!$O$23),2) -> 1076.79 | L37: P19, P64 | M37: Reģistrēts | N37: 801000010
A38: Ārsts | B38: 2212 86 | C38: P19, P64 | D38: 0.25 | E38: 2060 | F38: 247.2 | G38: 412 | H38: =G38+F38+E38 -> 2719.2 | I38: =ROUND((E38+F38+G38)*(kopsavilkums!$O$8)*D38*12*(1+kopsavilkums!$O$23),2) -> 1068.69 | L38: P19, P64 | M38: Reģistrēts | N38: 801000010
A39: Ārsts | B39: 2212 86 | C39: P19 | D39: 0.5 | E39: 2060 | F39: 123.6 | G39: 412 | H39: =G39+F39+E39 -> 2595.6 | I39: =ROUND((E39+F39+G39)*(kopsavilkums!$O$8)*D39*12*(1+kopsavilkums!$O$23),2) -> 2040.23 | L39: P19 | M39: Reģistrēts | N39: 801000010
A40: Ārsts | B40: 2212 86 | C40: P19 | D40: 1 | E40: 2060 | F40: 144.2 | G40: 412 | H40: =G40+F40+E40 -> 2616.2 | I40: =ROUND((E40+F40+G40)*(kopsavilkums!$O$8)*D40*12*(1+kopsavilkums!$O$23),2) -> 4112.84 | L40: P19 | M40: Reģistrēts | N40: 801000010
A41: Ārsts | B41: 2212 82 | C41: P23 | D41: 0.25 | E41: 2060 | F41: 247.2 | G41: 412 | H41: =G41+F41+E41 -> 2719.2 | I41: =ROUND((E41+F41+G41)*(kopsavilkums!$O$8)*D41*12*(1+kopsavilkums!$O$23),2) -> 1068.69 | L41: P23 | M41: Reģistrēts | N41: 801000010
A42: Ārsts | B42: 2212 37 | C42: P27 | D42: 0.25 | E42: 2060 | F42: 267.8 | G42: 412 | H42: =G42+F42+E42 -> 2739.8 | I42: =ROUND((E42+F42+G42)*(kopsavilkums!$O$8)*D42*12*(1+kopsavilkums!$O$23),2) -> 1076.79 | L42: P27 | M42: Reģistrēts | N42: 801000010
A43: Ārsts | B43: 2212 37 | C43: P27 | D43: 0.6 | E43: 2060 | F43: 185.4 | G43: 412 | H43: =G43+F43+E43 -> 2657.4 | I43: =ROUND((E43+F43+G43)*(kopsavilkums!$O$8)*D43*12*(1+kopsavilkums!$O$23),2) -> 2506.56 | L43: P27 | M43: Reģistrēts | N43: 801000010
... A57: Ārsts | B57: 2212 70 | C57: P28 | D57: 0.5 | E57: 2060 | F57: 267.8 | G57: 412 | H57: =G57+F57+E57 -> 2739.8 | I57: =ROUND((E57+F57+G57)*(kopsavilkums!$O$8)*D57*12*(1+kopsavilkums!$O$23),2) -> 2153.57 | L57: P28 | M57: Reģistrēts | N57: 801000010
A58: Kopā | D58: =SUM(D11:D57) -> 34.1 | E58: x | F58: x | G58: x | H58: x | I58: x
A59: 3.kategorija - Māsa (vispārējās aprūpes māsa), ārsta palīgs (feldšeris), vecmāte, biomedicīnas laborants, radiologa asistents, radiogrāfers*
A60: Ārsta palīgs | B60: 2240 01 | C60: n86 | D60: 1 | E60: 1500 | F60: 172.5 | G60: 300 | H60: =G60+F60+E60 -> 1972.5 | I60: =ROUND((E60+F60+G60)*(kopsavilkums!$O$12)*D60*12*(1+kopsavilkums!$O$23),2) -> 1901.49 | L60: n86 | M60: Reģistrēts | N60: 801000010
A61: Ārsta palīgs | B61: 2240 01 | C61: n86 | D61: 1 | E61: 1500 | F61: 172.5 | G61: 300 | H61: =G61+F61+E61 -> 1972.5 | I61: =ROUND((E61+F61+G61)*(kopsavilkums!$O$12)*D61*12*(1+kopsavilkums!$O$23),2) -> 1901.49 | L61: n86 | M61: Reģistrēts | N61: 801000010
A62: Ārsta palīgs | B62: 2240 01 | C62: n86,n53 | D62: 1 | E62: 1500 | F62: 180 | G62: 300 | H62: =G62+F62+E62 -> 1980 | I62: =ROUND((E62+F62+G62)*(kopsavilkums!$O$12)*D62*12*(1+kopsavilkums!$O$23),2) -> 1908.72 | L62: n86,n53 | M62: Reģistrēts | N62: 801000010
A63: Ārsta palīgs | B63: 2240 01 | C63: n86 | D63: 1 | E63: 1500 | F63: 195 | G63: 300 | H63: =G63+F63+E63 -> 1995 | I63: =ROUND((E63+F63+G63)*(kopsavilkums!$O$12)*D63*12*(1+kopsavilkums!$O$23),2) -> 1923.18 | L63: n86 | M63: Reģistrēts | N63: 801000010
A64: Ārsta palīgs | B64: 2240 01 | C64: n86 | D64: 1 | E64: 1500 | F64: 172.5 | G64: 300 | H64: =G64+F64+E64 -> 1972.5 | I64: =ROUND((E64+F64+G64)*(kopsavilkums!$O$12)*D64*12*(1+kopsavilkums!$O$23),2) -> 1901.49 | L64: n86 | M64: Reģistrēts | N64: 801000010
A65: Ārsta palīgs | B65: 2240 01 | C65: n86 | D65: 1 | E65: 1500 | F65: 120 | G65: 300 | H65: =G65+F65+E65 -> 1920 | I65: =ROUND((E65+F65+G65)*(kopsavilkums!$O$12)*D65*12*(1+kopsavilkums!$O$23),2) -> 1850.88 | L65: n86 | M65: Reģistrēts | N65: 801000010
A66: Ārsta palīgs | B66: 2240 01 | C66: n27 | D66: 0.5 | E66: 1500 | F66: 82.5 | G66: 300 | H66: =G66+F66+E66 -> 1882.5 | I66: =ROUND((E66+F66+G66)*(kopsavilkums!$O$12)*D66*12*(1+kopsavilkums!$O$23),2) -> 907.37 | L66: n27 | M66: Reģistrēts | N66: 801000010
A67: Ārsta palīgs | B67: 2240 01 | C67: n86,n29 | D67: 1 | E67: 1500 | F67: 180 | G67: 300 | H67: =G67+F67+E67 -> 1980 | I67: =ROUND((E67+F67+G67)*(kopsavilkums!$O$12)*D67*12*(1+kopsavilkums!$O$23),2) -> 1908.72 | L67: n86,n29 | M67: Reģistrēts | N67: 801000010
A68: Ārsta palīgs | B68: 2240 01 | C68: n86 | D68: 1 | E68: 1500 | F68: 172.5 | G68: 300 | H68: =G68+F68+E68 -> 1972.5 | I68: =ROUND((E68+F68+G68)*(kopsavilkums!$O$12)*D68*12*(1+kopsavilkums!$O$23),2) -> 1901.49 | L68: n86 | M68: Reģistrēts | N68: 801000010
A69: Ārsta palīgs | B69: 2240 01 | C69: n86 | D69: 1 | E69: 1500 | F69: 172.5 | G69: 300 | H69: =G69+F69+E69 -> 1972.5 | I69: =ROUND((E69+F69+G69)*(kopsavilkums!$O$12)*D69*12*(1+kopsavilkums!$O$23),2) -> 1901.49 | L69: n86 | M69: Reģistrēts | N69: 801000010
A70: Ārsta palīgs | B70: 2240 01 | C70: n86 | D70: 1 | E70: 1500 | F70: 120 | G70: 300 | H70: =G70+F70+E70 -> 1920 | I70: =ROUND((E70+F70+G70)*(kopsavilkums!$O$12)*D70*12*(1+kopsavilkums!$O$23),2) -> 1850.88 | L70: n86 | M70: Reģistrēts | N70: 801000010
A71: Ārsta palīgs | B71: 2240 01 | C71: n27 | D71: 1 | E71: 1320 | F71: 72.6 | G71: 264 | H71: =G71+F71+E71 -> 1656.6 | I71: =ROUND((E71+F71+G71)*(kopsavilkums!$O$12)*D71*12*(1+kopsavilkums!$O$23),2) -> 1596.97 | L71: n27 | M71: Reģistrēts | N71: 801000010
... A83: Radiologa asistents | B83: 3211 01 | C83: n85 | D83: 0.5 | E83: 1500 | F83: 165 | G83: 300 | H83: =G83+F83+E83 -> 1965 | I83: =ROUND((E83+F83+G83)*(kopsavilkums!$O$12)*D83*12*(1+kopsavilkums!$O$23),2) -> 947.13 | L83: n85 | M83: Reģistrēts | N83: 801000010
A84: Kopā | D84: =SUM(D60:D83) -> 18.25 | E84: x | F84: x | G84: x | H84: x | I84: x
A85: II.Reģistrētu ārstniecības personu amati
A86: 3.kategorija - Fizioterapeits, audiologopēds, uztura speciālists, ergoterapeits, tehniskais ortopēds, mākslas terapeits, optometrists, māsa (vispārējās aprūpes māsa)
A87: Vecākā māsa | B87: 2221 01 | C87: n122 | D87: 1 | E87: 1580 | F87: 110.6 | G87: 316 | H87: =G87+F87+E87 -> 2006.6 | I87: =ROUND((E87+F87+G87)*(kopsavilkums!$O$12)*D87*12*(1+kopsavilkums!$O$23),2) -> 1934.37 | L87: n122 | M87: Reģistrēts | N87: 801000010
A88: Vecākā māsa | B88: 2221 01 | C88: n123 | D88: 1 | E88: 1580 | F88: 94.8 | G88: 316 | H88: =G88+F88+E88 -> 1990.8 | I88: =ROUND((E88+F88+G88)*(kopsavilkums!$O$12)*D88*12*(1+kopsavilkums!$O$23),2) -> 1919.14 | L88: n123 | M88: Reģistrēts | N88: 801000010
A89: Vecākā māsa | B89: 2221 01 | C89: n86, n120 | D89: 1 | E89: 1580 | F89: 221.2 | G89: 316 | H89: =G89+F89+E89 -> 2117.2 | I89: =ROUND((E89+F89+G89)*(kopsavilkums!$O$12)*D89*12*(1+kopsavilkums!$O$23),2) -> 2040.99 | L89: n86, n120 | M89: Reģistrēts | N89: 801000010
A90: Vecākā māsa | B90: 2221 01 | C90: n120 | D90: 1 | E90: 1580 | F90: 181.7 | G90: 316 | H90: =G90+F90+E90 -> 2077.7 | I90: =ROUND((E90+F90+G90)*(kopsavilkums!$O$12)*D90*12*(1+kopsavilkums!$O$23),2) -> 2002.91 | L90: n120 | M90: Reģistrēts | N90: 801000010
A91: Vecākā māsa | B91: 2221 01 | C91: n120 | D91: 1 | E91: 1580 | F91: 205.4 | G91: 316 | H91: =G91+F91+E91 -> 2101.4 | I91: =ROUND((E91+F91+G91)*(kopsavilkums!$O$12)*D91*12*(1+kopsavilkums!$O$23),2) -> 2025.75 | L91: n120 | M91: Reģistrēts | N91: 801000010
A92: Vecākā māsa | B92: 2221 01 | C92: n120, n121 | D92: 1 | E92: 1580 | F92: 205.4 | G92: 316 | H92: =G92+F92+E92 -> 2101.4 | I92: =ROUND((E92+F92+G92)*(kopsavilkums!$O$12)*D92*12*(1+kopsavilkums!$O$23),2) -> 2025.75 | L92: n120, n121 | M92: Reģistrēts | N92: 801000010
A93: Vecākā māsa | B93: 2221 01 | C93: n120 | D93: 1 | E93: 1580 | F93: 181.7 | G93: 316 | H93: =G93+F93+E93 -> 2077.7 | I93: =ROUND((E93+F93+G93)*(kopsavilkums!$O$12)*D93*12*(1+kopsavilkums!$O$23),2) -> 2002.91 | L93: n120 | M93: Reģistrēts | N93: 801000010
A94: Vecākā māsa | B94: 2221 01 | C94: n120 | D94: 1 | E94: 1580 | F94: 205.4 | G94: 316 | H94: =G94+F94+E94 -> 2101.4 | I94: =ROUND((E94+F94+G94)*(kopsavilkums!$O$12)*D94*12*(1+kopsavilkums!$O$23),2) -> 2025.75 | L94: n120 | M94: Reģistrēts | N94: 801000010
A95: Vecākā māsa | B95: 2221 01 | C95: n124 | D95: 1 | E95: 1580 | F95: 158 | G95: 316 | H95: =G95+F95+E95 -> 2054 | I95: =ROUND((E95+F95+G95)*(kopsavilkums!$O$12)*D95*12*(1+kopsavilkums!$O$23),2) -> 1980.06 | L95: n124 | M95: Reģistrēts | N95: 801000010
A96: Virsmāsa | B96: 2221 02 | C96: n123 | D96: 1 | E96: 1580 | F96: 126.4 | G96: 316 | H96: =G96+F96+E96 -> 2022.4 | I96: =ROUND((E96+F96+G96)*(kopsavilkums!$O$12)*D96*12*(1+kopsavilkums!$O$23),2) -> 1949.6 | L96: n123 | M96: Reģistrēts | N96: 801000010
A97: Māsa | B97: 2221 46 | C97: n120 | D97: 1 | E97: 1365 | F97: 88.73 | G97: 273 | H97: =G97+F97+E97 -> 1726.73 | I97: =ROUND((E97+F97+G97)*(kopsavilkums!$O$12)*D97*12*(1+kopsavilkums!$O$23),2) -> 1664.57 | L97: n120 | M97: Reģistrēts | N97: 801000010
A98: Māsa | B98: 2221 46 | C98: n120 | D98: 1 | E98: 1365 | F98: 156.98 | G98: 273 | H98: =G98+F98+E98 -> 1794.98 | I98: =ROUND((E98+F98+G98)*(kopsavilkums!$O$12)*D98*12*(1+kopsavilkums!$O$23),2) -> 1730.36 | L98: n120 | M98: Reģistrēts | N98: 801000010
... A136: Māsa | B136: 2221 50 | C136: n124, n120 | D136: 1 | E136: 1365 | F136: 156.98 | G136: 273 | H136: =G136+F136+E136 -> 1794.98 | I136: =ROUND((E136+F136+G136)*(kopsavilkums!$O$12)*D136*12*(1+kopsavilkums!$O$23),2) -> 1730.36 | L136: n124, n120 | M136: Reģistrēts | N136: 801000010
A137: Kopā | D137: =SUM(D87:D136) -> 48.5 | E137: x | F137: x | G137: x | H137: x | I137: x
A138: 6.kategorija - Māsas palīgs
A139: Māsas palīgs | B139: 5321 03 | C139: n70 | D139: 1 | E139: 955 | F139: 57.3 | G139: 191 | H139: =G139+F139+E139 -> 1203.3 | I139: =ROUND((E139+F139+G139)*(kopsavilkums!$O$15)*D139*12*(1+kopsavilkums!$O$23),2) -> 1231.37 | L139: n70 | M139: Reģistrēts | N139: 801000010
A140: Māsas palīgs | B140: 5321 03 | C140: n70 | D140: 1 | E140: 955 | F140: 52.53 | G140: 191 | H140: =G140+F140+E140 -> 1198.53 | I140: =ROUND((E140+F140+G140)*(kopsavilkums!$O$15)*D140*12*(1+kopsavilkums!$O$23),2) -> 1226.49 | L140: n70 | M140: Reģistrēts | N140: 801000010
A141: Māsas palīgs | B141: 5321 03 | C141: n70 | D141: 1 | E141: 955 | F141: 47.75 | G141: 191 | H141: =G141+F141+E141 -> 1193.75 | I141: =ROUND((E141+F141+G141)*(kopsavilkums!$O$15)*D141*12*(1+kopsavilkums!$O$23),2) -> 1221.59 | L141: n70 | M141: Reģistrēts | N141: 801000010
A142: Māsas palīgs | B142: 5321 03 | C142: n70 | D142: 1 | E142: 955 | F142: 57.3 | G142: 191 | H142: =G142+F142+E142 -> 1203.3 | I142: =ROUND((E142+F142+G142)*(kopsavilkums!$O$15)*D142*12*(1+kopsavilkums!$O$23),2) -> 1231.37 | L142: n70 | M142: Reģistrēts | N142: 801000010
A143: Kopā | D143: =SUM(D139:D142) -> 4 | E143: x | F143: x | G143: x | H143: x | I143: x
A144: Kopā iestādei | D144: =D143+D137+D84+D58 -> 104.85 | I144: =SUM(I11:I57,I60:I83,I87:I136,I139:I142) -> 275699.6
A146: 10.Aizsardzības ministrija
A147: Budžeta programma 22.00.00 "Nacionālie bruņotie spēki", apakšprogramma 22.10.00 "Starptautisko operāciju un Nacionālo bruņoto spēku centralizētais atalgojums"
A148: I. Sertificētu ārstniecības personu amati
A149: 1.kategorija - Ārsts, zobārsts | D149: =SUM(D150:D190) -> 26.5 | E149: =SUM(E150:E190) -> 90045 | F149: =SUM(F150:F190) -> 7736.835 | G149: =SUM(G150:G190) -> 0 | H149: =SUM(H150:H190) -> 65338.335
A150: Vecākais ārsts | B150: 2211 01 | C150: P 53 "Arodveselības un arodslimību ārsts" P 01 "Internists" | D150: 1 | E150: 2445 | F150: =E150*D150*0.15 -> 366.75 | H150: =D150*E150+F150+G150 -> 2811.75 | I150: =ROUND((E150+F150+G150)*(kopsavilkums!$O$8)*D150*12*(1+kopsavilkums!$O$23),2) -> 4420.25 | L150: P 53 "Arodveselības un arodslimību ārsts" P 01 "Internists" | M150: Reģistrēts | N150: Kods: 010058901
A151: Sertificēts ārsts | B151: 2211 01 | C151: P 02 "Ģimenes (vispārējās prakses) ārsts" | D151: 1 | E151: 1935 | F151: =E151*D151*0.15 -> 290.25 | H151: =D151*E151+F151+G151 -> 2225.25 | I151: =ROUND((E151+F151+G151)*(kopsavilkums!$O$8)*D151*12*(1+kopsavilkums!$O$23),2) -> 3498.24 | L151: P 02 "Ģimenes (vispārējās prakses) ārsts" | M151: Reģistrēts | N151: Kods: 360200046
A152: Sertificēts ārsts (nodaļas vadītājs) | B152: 2211 01 | C152: P 01 "Internists" | D152: 1 | E152: 1935 | F152: =E152*D152*0.15 -> 290.25 | H152: =D152*E152+F152+G152 -> 2225.25 | I152: =ROUND((E152+F152+G152)*(kopsavilkums!$O$8)*D152*12*(1+kopsavilkums!$O$23),2) -> 3498.24 | L152: P 01 "Internists" | M152: Reģistrēts | N152: Kods: 360200046
A153: Sertificēts ārsts (zobārsts) | B153: 2211 01 | C153: P 25 "Zobārsts" | D153: 0.75 | E153: 1935 | F153: =E153*D153*0.15 -> 217.6875 | H153: =D153*E153+F153+G153 -> 1668.9375 | I153: =ROUND((E153+F153+G153)*(kopsavilkums!$O$8)*D153*12*(1+kopsavilkums!$O$23),2) -> 2538.12 | L153: P 25 "Zobārsts" | M153: Reģistrēts | N153: Kods: 360200046
A154: Sertificēts ārsts | B154: 2211 01 | C154: P 63 "Veselības aprūpes vadības ārsts" P 15 "Pediatrs" | D154: 0.8 | E154: 1935 | F154: =E154*D154*0.15 -> 232.2 | H154: =D154*E154+F154+G154 -> 1780.2 | I154: =ROUND((E154+F154+G154)*(kopsavilkums!$O$8)*D154*12*(1+kopsavilkums!$O$23),2) -> 2725.58 | L154: P 63 "Veselības aprūpes vadības ārsts" P 15 "Pediatrs" | M154: Reģistrēts | N154: Kods: 170055301
A155: Sertificēts ārsts | B155: 2211 01 | C155: P 01 "Internists" P 28 "Narkologs" | D155: 0.8 | E155: 1935 | F155: =E155*D155*0.15 -> 232.2 | H155: =D155*E155+F155+G155 -> 1780.2 | I155: =ROUND((E155+F155+G155)*(kopsavilkums!$O$8)*D155*12*(1+kopsavilkums!$O$23),2) -> 2725.58 | L155: P 01 "Internists" P 28 "Narkologs" | M155: Reģistrēts | N155: Kods: 170055301
A156: Sertificēts ārsts | B156: 2211 01 | C156: P 02 "Ģimenes (vispārējās prakses) ārsts" | D156: 0.3 | E156: 1935 | F156: =E156*D156*0.05 -> 29.025 | H156: =D156*E156+F156+G156 -> 609.525 | I156: =ROUND((E156+F156+G156)*(kopsavilkums!$O$8)*D156*12*(1+kopsavilkums!$O$23),2) -> 926.27 | L156: P 02 "Ģimenes (vispārējās prakses) ārsts" | M156: Reģistrēts | N156: Kods: 741000012
A157: Sertificēts ārsts | B157: 2211 01 | C157: P 02 "Ģimenes (vispārējās prakses) ārsts" | D157: 0.7 | E157: 1935 | F157: =E157*D157*0.05 -> 67.725 | H157: =D157*E157+F157+G157 -> 1422.225 | I157: =ROUND((E157+F157+G157)*(kopsavilkums!$O$8)*D157*12*(1+kopsavilkums!$O$23),2) -> 2203.89 | L157: P 02 "Ģimenes (vispārējās prakses) ārsts" | M157: Reģistrēts | N157: Kods: 741000012
A158: Sertificēts ārsts | B158: 2211 01 | C158: P 25 "Zobārsts" | D158: 0.4 | E158: 1935 | F158: =E158*D158*0.15 -> 116.1 | H158: =D158*E158+F158+G158 -> 890.1 | I158: =ROUND((E158+F158+G158)*(kopsavilkums!$O$8)*D158*12*(1+kopsavilkums!$O$23),2) -> 1289.78 | L158: P 25 "Zobārsts" | M158: Reģistrēts | N158: Kods: 804455301
A159: Sertificēts ārsts | B159: 2211 01 | C159: P 54 "Fizikālās un rehabilitācijas medicīnas ārsts" P 61 "Akupunktūras ārsts" PP 15 "Hipnoterapeits" | D159: 1 | E159: 1935 | F159: =E159*D159*0.15 -> 290.25 | H159: =D159*E159+F159+G159 -> 2225.25 | I159: =ROUND((E159+F159+G159)*(kopsavilkums!$O$8)*D159*12*(1+kopsavilkums!$O$23),2) -> 3498.24 | L159: P 54 "Fizikālās un rehabilitācijas medicīnas ārsts" P 61 "Akupunktūras ārsts" PP 15 "Hipnoterapeits" | M159: Reģistrēts | N159: Kods: 804455301
A160: Sertificēts ārsts | B160: 2211 01 | C160: P 02 "Ģimenes (vispārējās prakses) ārsts" | D160: 0.2 | E160: 1935 | F160: =E160*D160*0.08 -> 30.96 | H160: =D160*E160+F160+G160 -> 417.96 | I160: =ROUND((E160+F160+G160)*(kopsavilkums!$O$8)*D160*12*(1+kopsavilkums!$O$23),2) -> 618.12 | L160: P 02 "Ģimenes (vispārējās prakses) ārsts" | M160: Reģistrēts | N160: Kods: 804455301
A161: Sertificēts ārsts | B161: 2211 01 | C161: P 01 "Internists" | D161: 0.2 | E161: 1935 | F161: =E161*D161*0.08 -> 30.96 | H161: =D161*E161+F161+G161 -> 417.96 | I161: =ROUND((E161+F161+G161)*(kopsavilkums!$O$8)*D161*12*(1+kopsavilkums!$O$23),2) -> 618.12 | L161: P 01 "Internists" | M161: Reģistrēts | N161: Kods: 804455301
A162: Sertificēts ārsts | B162: 2211 01 | C162: P 36 "Sporta ārsts" | D162: 0.2 | E162: 1935 | F162: =E162*D162*0.05 -> 19.35 | H162: =D162*E162+F162+G162 -> 406.35 | I162: =ROUND((E162+F162+G162)*(kopsavilkums!$O$8)*D162*12*(1+kopsavilkums!$O$23),2) -> 614.47 | L162: P 36 "Sporta ārsts" | M162: Reģistrēts | N162: Kods: 804455301
A163: Vecākais ārsts | B163: 2211 01 | C163: P 01 "Internists" | D163: 0.6 | E163: 2445 | F163: =E163*D163*0.15 -> 220.05 | H163: =D163*E163+F163+G163 -> 1687.05 | I163: =ROUND((E163+F163+G163)*(kopsavilkums!$O$8)*D163*12*(1+kopsavilkums!$O$23),2) -> 2513.78 | L163: P 01 "Internists" | M163: Reģistrēts | N163: Kods: 010054116
A164: Vecākais ārsts | B164: 2211 01 | C164: P 23 "Otolaringologs" | D164: 0.4 | E164: 2445 | F164: =E164*D164*0.1 -> 97.8 | H164: =D164*E164+F164+G164 -> 1075.8 | I164: =ROUND((E164+F164+G164)*(kopsavilkums!$O$8)*D164*12*(1+kopsavilkums!$O$23),2) -> 1598.98 | L164: P 23 "Otolaringologs" | M164: Reģistrēts | N164: Kods: 010054116
...

Sheet Pārējās ministrijas MK509
J1: 3.3. pielikums
B3: Nacionālo bruņoto spēku militārā ārstniecības personāla faktiskā darba samaksa atbilstoši MK 26.08.2014. noteikumiem Nr. 509
J4: EUR
B5: Informācija par ārstniecības personām
B6: Ārstniecības personas amata kvalifikācijas kategorija | C6: Nacionālo bruņoto spēku profesiju klasifikātora kods (atbilstoši MK noteikumiem Nr.264) | D6: Ārstniecības personas profesijas vai specialitātes kodu (atbilstoši MK noteikumiem Nr.317) | E6: Slodzes (strādājošo skaits normālā darba laika ietvaros) | F6: Faktiskā mēnešalgas likme par 1 (vienu) slodzi | G6: Palielinājums par darba stāžu | H6: Piemaksas | I6: Faktiskā darba samaksa (atalgojums par slodzi) mēnesī | J6: Darba samaksas pieaugums 2024.gadam, t.sk. 23.59%
L7: Pārbaude, atbilstība prof. klasifikatoram | M7: Ārstniecības personas profesijas vai specialitātes kodu (atbilstoši MK noteikumiem Nr.317) | N7: Reģistrācija Ārstniecības ietāžu reģistrā | O7: Piezīmes, pamatojums
B8: Aizsardzības ministrija
B9: Budžeta programma 22.00.00 "Nacionālie bruņotie spēki", apakšprogramma 22.10.00 "Starptautisko operāciju un Nacionālo bruņoto spēku centralizētais atalgojums"
B10: I. Sertificētu ārstniecības personu amati
B11: 1.kategorija - Ārsts, zobārsts | E11: =SUM(E12:E27) -> 16 | F11: =SUM(F12:F27) -> 46703 | G11: =SUM(G12:G27) -> 0 | H11: =SUM(H12:H27) -> 0 | I11: =SUM(I12:I27) -> 46703
B12: Galvenais vadības ārsts | C12: 0110 04 | D12: P 63 "Veselības aprūpes vadības ārsts" P 61 "Akupunktūras ārsts" | E12: 1 | F12: 4133.25 | I12: 4133.25 | J12: =ROUND((F12+G12+H12)*(kopsavilkums!$O$8)*E12*12*(1+kopsavilkums!$O$23),2) -> 6497.74 | L12: 0110 04 "PULKVEDIS/ Jūras KAPTEINIS" 1342 03 "Veselības aprūpes vadības ĀRSTS" | M12: P 63 "Veselības aprūpes vadības ārsts" P 61 "Akupunktūras ārsts" | N12: Reģistrēts | O12: Kods: 804455301
B13: Galvenais ārsts | C13: 0110 05 | D13: PP 13 "Eksperts" | E13: 1 | F13: 3110.25 | I13: 3110.25 | J13: =ROUND((F13+G13+H13)*(kopsavilkums!$O$8)*E13*12*(1+kopsavilkums!$O$23),2) -> 4889.51 | L13: 0110 05 "PULKVEŽLEITNANTS/ KOMANDKAPTEINIS" 2212 11 "ĀRSTS EKSPERTS" | M13: PP 13 "Eksperts" | N13: Reģistrēts | O13: Kods: 010058901
B14: Galvenais ārsts | C14: 0110 05 | D14: P 63 "Veselības aprūpes vadības ārsts" P 42 "Psihoterapeits" P 01 "Internists" | E14: 1 | F14: 4344 | I14: 4344 | J14: =ROUND((F14+G14+H14)*(kopsavilkums!$O$8)*E14*12*(1+kopsavilkums!$O$23),2) -> 6829.05 | L14: 0110 05 "PULKVEŽLEITNANTS/ KOMANDKAPTEINIS" 1342 03 "Veselības aprūpes vadības ĀRSTS" | M14: P 63 "Veselības aprūpes vadības ārsts" P 42 "Psihoterapeits" P 01 "Internists" | N14: Reģistrēts | O14: Kods: 170055301
B15: Galvenais ārsts | C15: 0110 05 | D15: P 53 "Arodveselības un arodslimību ārsts" P 63 "Veselības aprūpes vadības ārsts" PP 13 "Eksperts" P 01 "Internists" | E15: 1 | F15: 3544 | I15: 3544 | J15: =ROUND((F15+G15+H15)*(kopsavilkums!$O$8)*E15*12*(1+kopsavilkums!$O$23),2) -> 5571.4 | L15: 0110 05 "PULKVEŽLEITNANTS/ KOMANDKAPTEINIS" 1342 03 "Veselības aprūpes vadības ĀRSTS" | M15: P 53 "Arodveselības un arodslimību ārsts" P 63 "Veselības aprūpes vadības ārsts" PP 13 "Eksperts" P 01 "Internists" | N15: Reģistrēts | O15: Kods: 010054116
B16: Galvenais ārsts | C16: 0110 05 | D16: P 01 "Internists" | E16: 1 | F16: 4008 | I16: 4008 | J16: =ROUND((F16+G16+H16)*(kopsavilkums!$O$8)*E16*12*(1+kopsavilkums!$O$23),2) -> 6300.84 | L16: 0110 05 "PULKVEŽLEITNANTS/ KOMANDKAPTEINIS" 2212 104 "INTERNISTS" | M16: P 01 "Internists" | N16: Reģistrēts | O16: Kods: 010001838
B17: Vecākais ārsts | C17: 0110 06 | D17: P 03 "Ķirurgs" | E17: 1 | F17: 2277 | I17: 2277 | J17: =ROUND((F17+G17+H17)*(kopsavilkums!$O$8)*E17*12*(1+kopsavilkums!$O$23),2) -> 3579.59 | L17: 0110 06 "MAJORS/ KOMANDLEITNANTS" 2212 61 "ĶIRURGS" | M17: P 03 "Ķirurgs" | N17: Reģistrēts | O17: Kods: 010054116
B18: Vecākais ārsts | C18: 0110 06 | D18: P 53 "Arodveselības un arodslimību ārsts" P 02 "Ģimenes (vispārējās prakses) ārsts" | E18: 1 | F18: 3745.5 | I18: 3745.5 | J18: =ROUND((F18+G18+H18)*(kopsavilkums!$O$8)*E18*12*(1+kopsavilkums!$O$23),2) -> 5888.17 | L18: 0110 06 "MAJORS/ KOMANDLEITNANTS" 2212 08 "Arodveselības un arodslimību ĀRSTS" | M18: P 53 "Arodveselības un arodslimību ārsts" P 02 "Ģimenes (vispārējās prakses) ārsts" | N18: Reģistrēts | O18: Kods: 420200055
B19: Virsārsts | C19: 0110 06 | D19: P 01 "Internists" | E19: 1 | F19: 3368 | I19: 3368 | J19: =ROUND((F19+G19+H19)*(kopsavilkums!$O$8)*E19*12*(1+kopsavilkums!$O$23),2) -> 5294.71 | L19: 0110 06 "MAJORS/ KOMANDLEITNANTS" 2212 104 "INTERNISTS" | M19: P 01 "Internists" | N19: Reģistrēts | O19: Kods: 010058901
B20: Virsārsts | C20: 0110 06 | D20: P 36 "Sporta ārsts" | E20: 1 | F20: 2576 | I20: 2576 | J20: =ROUND((F20+G20+H20)*(kopsavilkums!$O$8)*E20*12*(1+kopsavilkums!$O$23),2) -> 4049.64 | L20: 0110 06 "MAJORS/ KOMANDLEITNANTS" 2212 36 "Sporta ĀRSTS" | M20: P 36 "Sporta ārsts" | N20: Reģistrēts | O20: Kods: 741000012
B21: Virsārsts | C21: 0110 06 | D21: P 02 "Ģimenes (vispārējās prakses) ārsts" | E21: 1 | F21: 2656.5 | I21: 2656.5 | J21: =ROUND((F21+G21+H21)*(kopsavilkums!$O$8)*E21*12*(1+kopsavilkums!$O$23),2) -> 4176.19 | L21: 0110 06 "MAJORS/ KOMANDLEITNANTS" 2211 03 "Ģimenes/ vispārējās prakses ĀRSTS" | M21: P 02 "Ģimenes (vispārējās prakses) ārsts" | N21: Reģistrēts | O21: Kods: 804455301
B22: Virsārsts | C22: 0110 06 | D22: P 01 "Internists" | E22: 1 | F22: 2359.5 | I22: 2359.5 | J22: =ROUND((F22+G22+H22)*(kopsavilkums!$O$8)*E22*12*(1+kopsavilkums!$O$23),2) -> 3709.29 | L22: 0110 06 "MAJORS/ KOMANDLEITNANTS" 2212 104 "INTERNISTS" | M22: P 01 "Internists" | N22: Reģistrēts | O22: Kods: 804455301
B23: Virsārsts | C23: 0110 06 | D23: P 02 "Ģimenes (vispārējās prakses) ārsts" | E23: 1 | F23: 2277 | I23: 2277 | J23: =ROUND((F23+G23+H23)*(kopsavilkums!$O$8)*E23*12*(1+kopsavilkums!$O$23),2) -> 3579.59 | L23: 0110 06 "MAJORS/ KOMANDLEITNANTS" 2211 03 "Ģimenes/ vispārējās prakses ĀRSTS" | M23: P 02 "Ģimenes (vispārējās prakses) ārsts" | N23: Reģistrēts | O23: Kods: 010001838
... B27: Ārsts | C27: 0110 07 | D27: P 02 "Ģimenes (vispārējās prakses) ārsts" | E27: 1 | F27: 1904 | I27: 1904 | J27: =ROUND((F27+G27+H27)*(kopsavilkums!$O$8)*E27*12*(1+kopsavilkums!$O$23),2) -> 2993.21 | L27: 0110 07 "KAPTEINIS/ KAPTEIŅLEITNANTS" 2211 03 "Ģimenes/ vispārējās prakses ĀRSTS" | M27: P 02 "Ģimenes (vispārējās prakses) ārsts" | N27: Reģistrēts | O27: Kods: 804455301
B28: 3.kategorija - Māsa (vispārējās aprūpes māsa), ārsta palīgs (feldšeris), vecmāte, biomedicīnas laborants, radiologa asistents, radiogrāfers | E28: =SUM(E29:E135) -> 107 | F28: =SUM(F29:F29) -> 1635.25 | G28: =SUM(G29:G29) -> 0 | H28: =SUM(H29:H29) -> 0 | I28: =SUM(I29:I29) -> 1635.25
B29: Galvenā vadības māsa | C29: 0210 03 | D29: n120 "Māsa (vispārējās aprūpes māsa)" | E29: 1 | F29: 1635.25 | G29: 0 | H29: 0 | I29: =E29*(F29+G29)+H29 -> 1635.25 | J29: =ROUND((F29+G29+H29)*(kopsavilkums!$O$12)*E29*12*(1+kopsavilkums!$O$23),2) -> 1576.38 | L29: 0210 03 "Štāba VIRSSERŽANTS/ Štāba BOCMANIS" 1342 05 "Galvenā medicīnas MĀSA" | M29: n120 "Māsa (vispārējās aprūpes māsa)" | N29: Reģistrēts | O29: Kods: 010058901
B30: Vecākais ārsta palīgs | C30: 0210 03 | D30: n74 "Neatliekamās medicīnas ārsta palīgs (feldšeris)" | E30: 1 | F30: 3072 | I30: =E30*(F30+G30)+H30 -> 3072 | J30: =ROUND((F30+G30+H30)*(kopsavilkums!$O$12)*E30*12*(1+kopsavilkums!$O$23),2) -> 2961.41 | L30: 0210 03 "Štāba VIRSSERŽANTS/ Štāba BOCMANIS" 2240 01 "ĀRSTA PALĪGS/ FELDŠERIS" | M30: n74 "Neatliekamās medicīnas ārsta palīgs (feldšeris)" | N30: Reģistrēts | O30: Kods: 010054116
B31: Vecākais ārsta palīgs | C31: 0210 03 | D31: n86 "Ambulatorā dienesta ārsta palīgs" | E31: 1 | F31: 1952 | I31: =E31*(F31+G31)+H31 -> 1952 | J31: =ROUND((F31+G31+H31)*(kopsavilkums!$O$12)*E31*12*(1+kopsavilkums!$O$23),2) -> 1881.73 | L31: 0210 03 "Štāba VIRSSERŽANTS/ Štāba BOCMANIS" 2240 02 "Ambulatorā dienesta ĀRSTA PALĪGS" | M31: n86 "Ambulatorā dienesta ārsta palīgs" | N31: Reģistrēts | O31: Kods: 170055301
B32: Vecākais ārsta palīgs | C32: 0210 03 | D32: n74 "Neatliekamās medicīnas ārsta palīgs (feldšeris)" | E32: 1 | F32: 1952 | I32: =E32*(F32+G32)+H32 -> 1952 | J32: =ROUND((F32+G32+H32)*(kopsavilkums!$O$12)*E32*12*(1+kopsavilkums!$O$23),2) -> 1881.73 | L32: 0210 03 "Štāba VIRSSERŽANTS/ Štāba BOCMANIS" 2240 01 "ĀRSTA PALĪGS/ FELDŠERIS" | M32: n74 "Neatliekamās medicīnas ārsta palīgs (feldšeris)" | N32: Reģistrēts | O32: Kods: 170055301
B33: Vecākais ārsta palīgs | C33: 0210 03 | D33: n86 "Ambulatorā dienesta ārsta palīgs" n74 "Neatliekamās medicīnas ārsta palīgs (feldšeris)" | E33: 1 | F33: 1952 | I33: =E33*(F33+G33)+H33 -> 1952 | J33: =ROUND((F33+G33+H33)*(kopsavilkums!$O$12)*E33*12*(1+kopsavilkums!$O$23),2) -> 1881.73 | L33: 0210 03 "Štāba VIRSSERŽANTS/ Štāba BOCMANIS" 2240 02 "Ambulatorā dienesta ĀRSTA PALĪGS" | M33: n86 "Ambulatorā dienesta ārsta palīgs" n74 "Neatliekamās medicīnas ārsta palīgs (feldšeris)" | N33: Reģistrēts | O33: Kods: 420200055
B34: Vecākais ārsta palīgs | C34: 0210 03 | D34: n74 "Neatliekamās medicīnas ārsta palīgs (feldšeris)" | E34: 1 | F34: 2592 | I34: =E34*(F34+G34)+H34 -> 2592 | J34: =ROUND((F34+G34+H34)*(kopsavilkums!$O$12)*E34*12*(1+kopsavilkums!$O$23),2) -> 2498.69 | L34: 0210 03 "Štāba VIRSSERŽANTS/ Štāba BOCMANIS" 2240 01 "ĀRSTA PALĪGS/ FELDŠERIS" | M34: n74 "Neatliekamās medicīnas ārsta palīgs (feldšeris)" | N34: Reģistrēts | O34: Kods: 170055301
B35: Vecākais ārsta palīgs | C35: 0210 03 | D35: n86 "Ambulatorā dienesta ārsta palīgs" | E35: 1 | F35: 2201 | I35: =E35*(F35+G35)+H35 -> 2201 | J35: =ROUND((F35+G35+H35)*(kopsavilkums!$O$12)*E35*12*(1+kopsavilkums!$O$23),2) -> 2121.77 | L35: 0210 03 "Štāba VIRSSERŽANTS/ Štāba BOCMANIS" 2240 02 "Ambulatorā dienesta ĀRSTA PALĪGS" | M35: n86 "Ambulatorā dienesta ārsta palīgs" | N35: Reģistrēts | O35: Kods: 360200046
B36: Galvenā medicīnas māsa | C36: 0210 03 | D36: n120 "Māsa (vispārējās aprūpes māsa)" | E36: 1 | F36: 3152 | I36: =E36*(F36+G36)+H36 -> 3152 | J36: =ROUND((F36+G36+H36)*(kopsavilkums!$O$12)*E36*12*(1+kopsavilkums!$O$23),2) -> 3038.53 | L36: 0210 03 "Štāba VIRSSERŽANTS/ Štāba BOCMANIS" 1342 05 "Galvenā medicīnas MĀSA" | M36: n120 "Māsa (vispārējās aprūpes māsa)" | N36: Reģistrēts | O36: Kods: 360200046
B37: Vecākais ārsta palīgs | C37: 0210 03 | D37: n86 "Ambulatorā dienesta ārsta palīgs" | E37: 1 | F37: 3072 | I37: =E37*(F37+G37)+H37 -> 3072 | J37: =ROUND((F37+G37+H37)*(kopsavilkums!$O$12)*E37*12*(1+kopsavilkums!$O$23),2) -> 2961.41 | L37: 0210 03 "Štāba VIRSSERŽANTS/ Štāba BOCMANIS" 2240 02 "Ambulatorā dienesta ĀRSTA PALĪGS" | M37: n86 "Ambulatorā dienesta ārsta palīgs" | N37: Reģistrēts | O37: Kods: 360200046
B38: Vecākais ārsta palīgs | C38: 0210 03 | D38: n86 "Ambulatorā dienesta ārsta palīgs" | E38: 1 | F38: 3072 | I38: =E38*(F38+G38)+H38 -> 3072 | J38: =ROUND((F38+G38+H38)*(kopsavilkums!$O$12)*E38*12*(1+kopsavilkums!$O$23),2) -> 2961.41 | L38: 0210 03 "Štāba VIRSSERŽANTS/ Štāba BOCMANIS" 2240 02 "Ambulatorā dienesta ĀRSTA PALĪGS" | M38: n86 "Ambulatorā dienesta ārsta palīgs" | N38: Reģistrēts | O38: Kods: 170055301
B39: Galvenā medicīnas māsa | C39: 0210 03 | D39: n120 "Māsa (vispārējās aprūpes māsa)" | E39: 1 | F39: 2123.5 | I39: =E39*(F39+G39)+H39 -> 2123.5 | J39: =ROUND((F39+G39+H39)*(kopsavilkums!$O$12)*E39*12*(1+kopsavilkums!$O$23),2) -> 2047.06 | L39: 0210 03 "Štāba VIRSSERŽANTS/ Štāba BOCMANIS" 1342 05 "Galvenā medicīnas MĀSA" | M39: n120 "Māsa (vispārējās aprūpes māsa)" | N39: Reģistrēts | O39: Kods: 741000012
B40: Vecākais ārsta palīgs | C40: 0210 03 | D40: n86 "Ambulatorā dienesta ārsta palīgs" | E40: 1 | F40: 2588.5 | I40: =E40*(F40+G40)+H40 -> 2588.5 | J40: =ROUND((F40+G40+H40)*(kopsavilkums!$O$12)*E40*12*(1+kopsavilkums!$O$23),2) -> 2495.32 | L40: 0210 03 "Štāba VIRSSERŽANTS/ Štāba BOCMANIS" 2240 02 "Ambulatorā dienesta ĀRSTA PALĪGS" | M40: n86 "Ambulatorā dienesta ārsta palīgs" | N40: Reģistrēts | O40: Kods: 741000012
B41: Galvenā medicīnas māsa | C41: 0210 03 | D41: n120 "Māsa (vispārējās aprūpes māsa)" | E41: 1 | F41: 2992 | I41: =E41*(F41+G41)+H41 -> 2992 | J41: =ROUND((F41+G41+H41)*(kopsavilkums!$O$12)*E41*12*(1+kopsavilkums!$O$23),2) -> 2884.29 | L41: 0210 03 "Štāba VIRSSERŽANTS/ Štāba BOCMANIS" 1342 05 "Galvenā medicīnas MĀSA" | M41: n120 "Māsa (vispārējās aprūpes māsa)" | N41: Reģistrēts | O41: Kods: 804455301
... B135: Jaunākais instruktors | C135: 0210 06 | D135: n74 "Neatliekamās medicīnas ārsta palīgs (feldšeris)" | E135: 1 | F135: 1588.75 | I135: =E135*(F135+G135)+H135 -> 1588.75 | J135: =ROUND((F135+G135+H135)*(kopsavilkums!$O$12)*E135*12*(1+kopsavilkums!$O$23),2) -> 1531.56 | L135: 0210 06 "KAPRĀLIS" 2240 01 "ĀRSTA PALĪGS/ FELDŠERIS" | M135: n74 "Neatliekamās medicīnas ārsta palīgs (feldšeris)" | N135: Reģistrēts | O135: Kods: 360200046
B136: Kopā | E136: =E28+E11 -> 123 | F136: 1643 | I136: =E136*(F136+G136)+H136 -> 202089 | J136: =SUM(J12:J135) -> 297929.7

Sheet VM padotibas iest MK361
U1: 3.4. pielikums
A2: Veselības ministrijas padotības iestādēs strādājošo, uz kuriem ir attiecināms Valsts un pašvaldību institūciju amatpersonu un darbinieku atlīdzības likumā noteiktās mēnešalgu grupu maksimālās mēnešalgas, darba samaksas palielinājums
U3: EUR
A4: Amata nosaukums | B4: Profesiju klasifikātora kods (atbilstoši MK noteikumiem Nr.264) | C4: Ārstniecības personas profesijas vai specialitātes kodu (atbilstoši MK noteikumiem Nr.317) | D4: Valsts kancelejā saskaņotā amata saime | E4: Līmenis | F4: Amatam atbilstošā mēneš-algu grupa | G4: Mēnešalgas apmērs ņemot vērā minimālo koeficientu pret bāzes mēnešalgu pēc MK not. Nr.361 (Atlīdzības likuma 3.piel), EUR | H4: Mēnešalgas apmērs ņemot vērā viduspunkta koeficientu pret bāzes mēnešalgu pēc MK not. Nr.361 (Atlīdzības likuma 3.piel), EUR | I4: Mēnešalgas apmērs ņemot vērā maksimālo koeficientu pret bāzes mēnešalgu pēc MK not. Nr.361 (Atlīdzības likuma 3.piel), EUR | J4: Faktiskā mēneš-algas likme par 1 slodzi | K4: Piemaksas* | L4: Piemaksas kopā | M4: Slodzes (normālā darba laika ietvaros) | N4: 2024.gada jaunā amatalga ar pieaugumu | O4: pieaugums regulārai piemaksai | P4: regulārā piemaksa ar pieau-gumu | Q4: kopā pieaugums uz vienu slodzi (ievērojot MK not.) | R4: kopā pieaugums uz visām slodzēm mēnesī | S4: papildus līdzekļi atalgojumam (1100 kods) gadā | T4: darba devēja VSAOI 23.59% (1200 kods) gadā | U4: papildus līdzekļi atlīdzībai (1000 kods) gadā | W4: Pārbaude, atbilstība prof. klasifikatoram | X4: Ārstniecības personas profesijas vai specialitātes kodu (atbilstoši MK noteikumiem Nr.317) | Y4: Reģistrācija Ārstniecības ietāžu reģistrā | Z4: Piezīmes, pamatojums
A5: Neatliekamās medicīniskās palīdzības dienests
A6: 39.04.00 Neatliekamā medicīniskā palīdzība
A7: Funkcionālie speciālisti
A8: Brigāžu atbalsta vadības centra vadītājs | B8: 1213 05 | C8: P 39 | D8: 6.4 | E8: VI | F8: 14 | G8: 3225.8366 | H8: 4606.713 | I8: 5528.0556 | J8: 3230 | K8: 0 | L8: 0 | M8: 1 | N8: =ROUND(J8*(1+kopsavilkums!$O$8),2) -> 3572.38 | O8: =P8-L8 -> 0 | P8: =ROUND(L8*(1+kopsavilkums!$O$8),2) -> 0 | Q8: =(N8+P8)-(J8+L8) -> 342.38 | R8: =Q8*M8 -> 342.38 | S8: =R8*12 -> 4108.56 | T8: =ROUND(S8*(kopsavilkums!$O$23),2) -> 969.21 | U8: =SUM(S8:T8) -> 5077.77 | W8: Pamatdarbības struktūrvienības VADĪTĀJS/ DIREKTORS (valsts pārvaldes jomā) | X8: P 39 | Y8: Reģistrēta | Z8: Amata pienākumus var veikt tikai reģistrēta ārstniecības persona.
A9: Operatīvā darba organizēšanas nodaļas vadītājs | B9: 1213 05 | C9: P 00 | D9: 6.4 | E9: IV | F9: 12 | G9: 2173.6861 | H9: 3105.2658 | I9: 3726.319 | J9: 2175 | K9: 0 | L9: 0 | M9: 1 | N9: =ROUND(J9*(1+kopsavilkums!$O$8),2) -> 2405.55 | O9: =P9-L9 -> 0 | P9: =ROUND(L9*(1+kopsavilkums!$O$8),2) -> 0 | Q9: =(N9+P9)-(J9+L9) -> 230.55 | R9: =Q9*M9 -> 230.55 | S9: =R9*12 -> 2766.6 | T9: =ROUND(S9*(kopsavilkums!$O$23),2) -> 652.64 | U9: =SUM(S9:T9) -> 3419.24 | W9: Pamatdarbības struktūrvienības VADĪTĀJS/ DIREKTORS (valsts pārvaldes jomā) | X9: P 00 | Y9: Reģistrēta | Z9: Amata pienākumus var veikt tikai reģistrēta ārstniecības persona.
A10: SMC vadītājs | B10: 1213 06 | C10: P 00 | D10: 6.4 | E10: V | F10: 13 | G10: 2694.6427 | H10: 3850.3021 | I10: 4620.3625 | J10: 2750 | K10: 0 | L10: 0 | M10: 1 | N10: =ROUND(J10*(1+kopsavilkums!$O$8),2) -> 3041.5 | O10: =P10-L10 -> 0 | P10: =ROUND(L10*(1+kopsavilkums!$O$8),2) -> 0 | Q10: =(N10+P10)-(J10+L10) -> 291.5 | R10: =Q10*M10 -> 291.5 | S10: =R10*12 -> 3498 | T10: =ROUND(S10*(kopsavilkums!$O$23),2) -> 825.18 | U10: =SUM(S10:T10) -> 4323.18 | W10: Pamatdarbības struktūrvienības VADĪTĀJS/ DIREKTORS (valsts pārvaldes jomā) | X10: P 00 | Y10: Reģistrēta | Z10: Amata pienākumus var veikt tikai reģistrēta ārstniecības persona.
A11: SMC vadītāja vietnieks | B11: 1213 05 | C11: P 00 | D11: 6.4 | E11: IV | F11: 12 | G11: 2173.6861 | H11: 3105.2658 | I11: 3726.319 | J11: 2175 | K11: 0 | L11: 0 | M11: 1 | N11: =ROUND(J11*(1+kopsavilkums!$O$8),2) -> 2405.55 | O11: =P11-L11 -> 0 | P11: =ROUND(L11*(1+kopsavilkums!$O$8),2) -> 0 | Q11: =(N11+P11)-(J11+L11) -> 230.55 | R11: =Q11*M11 -> 230.55 | S11: =R11*12 -> 2766.6 | T11: =ROUND(S11*(kopsavilkums!$O$23),2) -> 652.64 | U11: =SUM(S11:T11) -> 3419.24 | W11: Pamatdarbības struktūrvienības VADĪTĀJA VIETNIEKS/ DIREKTORA VIETNIEKS (valsts pārvaldes jomā) | X11: P 00 | Y11: Reģistrēta | Z11: Amata pienākumus var veikt tikai reģistrēta ārstniecības persona.
A12: OVC vadītājs | B12: 1213 06 | C12: P 00 | D12: 6.4 | E12: VI | F12: 14 | G12: 3225.8366 | H12: 4606.713 | I12: 5528.0556 | J12: 3250 | K12: 0 | L12: 0 | M12: 1 | N12: =ROUND(J12*(1+kopsavilkums!$O$8),2) -> 3594.5 | O12: =P12-L12 -> 0 | P12: =ROUND(L12*(1+kopsavilkums!$O$8),2) -> 0 | Q12: =(N12+P12)-(J12+L12) -> 344.5 | R12: =Q12*M12 -> 344.5 | S12: =R12*12 -> 4134 | T12: =ROUND(S12*(kopsavilkums!$O$23),2) -> 975.21 | U12: =SUM(S12:T12) -> 5109.21 | W12: Pamatdarbības struktūrvienības VADĪTĀJS/ DIREKTORS (valsts pārvaldes jomā) | X12: P 00 | Y12: Reģistrēta | Z12: Amata pienākumus var veikt tikai reģistrēta ārstniecības persona.
A13: OVC vadītāja vietnieks | B13: 1213 05 | C13: P 00/n74 | D13: 6.4 | E13: V | F13: 13 | G13: 2694.6427 | H13: 3850.3021 | I13: 4620.3625 | J13: 2695 | K13: 0 | L13: 0 | M13: 1 | N13: =ROUND(J13*(1+kopsavilkums!$O$8),2) -> 2980.67 | O13: =P13-L13 -> 0 | P13: =ROUND(L13*(1+kopsavilkums!$O$8),2) -> 0 | Q13: =(N13+P13)-(J13+L13) -> 285.67 | R13: =Q13*M13 -> 285.67 | S13: =R13*12 -> 3428.04 | T13: =ROUND(S13*(kopsavilkums!$O$23),2) -> 808.67 | U13: =SUM(S13:T13) -> 4236.71 | W13: Pamatdarbības struktūrvienības VADĪTĀJA VIETNIEKS/ DIREKTORA VIETNIEKS (valsts pārvaldes jomā) | X13: P 00/n74 | Y13: Reģistrēta | Z13: Amata pienākumus var veikt tikai reģistrēta ārstniecības persona.
A14: Pacientu drošības sistēmas vadītājs | B14: 2421 01 | C14: P39 | D14: 6.4 | E14: IV | F14: 12 | G14: 2173.6861 | H14: 3105.2658 | I14: 3726.319 | J14: 2175 | K14: 0 | L14: 0 | M14: 1 | N14: =ROUND(J14*(1+kopsavilkums!$O$8),2) -> 2405.55 | O14: =P14-L14 -> 0 | P14: =ROUND(L14*(1+kopsavilkums!$O$8),2) -> 0 | Q14: =(N14+P14)-(J14+L14) -> 230.55 | R14: =Q14*M14 -> 230.55 | S14: =R14*12 -> 2766.6 | T14: =ROUND(S14*(kopsavilkums!$O$23),2) -> 652.64 | U14: =SUM(S14:T14) -> 3419.24 | W14: Vecākais KONSULTANTS | X14: P39 | Y14: Reģistrēta | Z14: Amata pienākumus var veikt tikai reģistrēta ārstniecības persona.
A15: Brigāžu atbalsta vadības centra vadītāja vietnieks | B15: 1213 06 | C15: n75 | D15: 6.4 | E15: V | F15: 13 | G15: 2694.6427 | H15: 3850.3021 | I15: 4620.3625 | J15: 2750 | K15: 0 | L15: 0 | M15: 1 | N15: =ROUND(J15*(1+kopsavilkums!$O$8),2) -> 3041.5 | O15: =P15-L15 -> 0 | P15: =ROUND(L15*(1+kopsavilkums!$O$8),2) -> 0 | Q15: =(N15+P15)-(J15+L15) -> 291.5 | R15: =Q15*M15 -> 291.5 | S15: =R15*12 -> 3498 | T15: =ROUND(S15*(kopsavilkums!$O$23),2) -> 825.18 | U15: =SUM(S15:T15) -> 4323.18 | W15: Pamatdarbības struktūrvienības VADĪTĀJA VIETNIEKS/ DIREKTORA VIETNIEKS (valsts pārvaldes jomā) | X15: n75 | Y15: Reģistrēta | Z15: Amata pienākumus var veikt tikai reģistrēta ārstniecības persona.
A16: Kopā | D16: x | E16: x | F16: x | I16: x | J16: x | K16: x | M16: =SUM(M8:M15) -> 8
A17: Kopā iestādei | M17: =SUM(M16) -> 8 | U17: =SUM(U8:U15) -> 33327.77
A19: Valsts asinsdonoru centrs
A20: 39.03.00 Specializētās veselības aprūpes nodrošināšana, Asins un asins komponentu nodrošināšana
A21: Atbalsta personas
A22: Izbraukumu projektu vadītājs (izbraukumu organizators) | B22: 2422 02 | D22: 25 | E22: V | F22: 9 | G22: 1157 | H22: 1653 | I22: 2067 | J22: 1467 | K22: 61.125 | L22: 61.125 | M22: 1 | N22: =ROUND(J22*(1+kopsavilkums!$O$12),2) -> 1562.36 | O22: =P22-L22 -> 3.973125 | P22: =L22*(1+kopsavilkums!$O$12) -> 65.098125 | Q22: =(N22+P22)-(J22+L22) -> 99.333125 | R22: =Q22*M22 -> 99.333125 | S22: =R22*12 -> 1191.9975 | T22: =ROUND(S22*kopsavilkums!$O$23,2) -> 281.19 | U22: =SUM(S22:T22) -> 1473.1875 | X22: n115 | Y22: 10015701
A23: Klientu apkalpošanas speciālists | B23: 4222 07 | D23: 25 | E23: V | F23: 9 | G23: 1157 | H23: 1653 | I23: 2067 | J23: 1134 | K23: 47.25 | L23: 47.25 | M23: 2 | N23: =ROUND(J23*(1+kopsavilkums!$O$12),2) -> 1207.71 | O23: =P23-L23 -> 3.07125 | P23: =L23*(1+kopsavilkums!$O$12) -> 50.32125 | Q23: =(N23+P23)-(J23+L23) -> 76.78125 | R23: =Q23*M23 -> 153.5625 | S23: =R23*12 -> 1842.75 | T23: =ROUND(S23*kopsavilkums!$O$23,2) -> 434.7 | U23: =SUM(S23:T23) -> 2277.45 | X23: n115 | Y23: 10015701
A24: Klientu un pacientu reģistrators | B24: 4226 01 | D24: 25 | E24: III | F24: 7 | G24: 905 | H24: 1293 | I24: 1682 | J24: 1017 | K24: 42.375 | L24: 42.375 | M24: 14 | N24: =ROUND(J24*(1+kopsavilkums!$O$15),2) -> 1087.17 | O24: =P24-L24 -> 2.754375 | P24: =L24*(1+kopsavilkums!$O$12) -> 45.129375 | Q24: =(N24+P24)-(J24+L24) -> 72.924375 | R24: =Q24*M24 -> 1020.9413 | S24: =R24*12 -> 12251.295 | T24: =ROUND(S24*kopsavilkums!$O$23,2) -> 2890.08 | U24: =SUM(S24:T24) -> 15141.375 | X24: n115 | Y24: 10015701
A25: Sanitārs | B25: 5321 01 | D25: 16 | E25: II | F25: 2 | G25: 584 | H25: 673 | I25: 875 | J25: 814 | K25: 33.916667 | L25: 33.916667 | M25: 13 | N25: =ROUND(J25*(1+kopsavilkums!$O$15),2) -> 870.17 | O25: =P25-L25 -> 2.2045833 | P25: =L25*(1+kopsavilkums!$O$12) -> 36.12125 | Q25: =(N25+P25)-(J25+L25) -> 58.374583 | R25: =Q25*M25 -> 758.86958 | S25: =R25*12 -> 9106.435 | T25: =ROUND(S25*kopsavilkums!$O$23,2) -> 2148.21 | U25: =SUM(S25:T25) -> 11254.645 | X25: 3./99 | Y25: 10015701
A26: Eksperts asins dienestā | B26: 2422 10 | D26: 38.1 | E26: III | F26: 11 | G26: 1746 | H26: 2496 | I26: 3120 | J26: 1600 | K26: 66.666667 | L26: 66.666667 | M26: 1 | N26: =ROUND(J26*(1+kopsavilkums!$O$15),2) -> 1710.4 | O26: =P26-L26 -> 4.3333333 | P26: =L26*(1+kopsavilkums!$O$12) -> 71 | Q26: =(N26+P26)-(J26+L26) -> 114.73333 | R26: =Q26*M26 -> 114.73333 | S26: =R26*12 -> 1376.8 | T26: =ROUND(S26*kopsavilkums!$O$23,2) -> 324.79 | U26: =SUM(S26:T26) -> 1701.59 | X26: PP13 | Y26: 10015701
A27: Eksperts asins dienestā | B27: 2422 10 | D27: 38.1 | E27: III | F27: 11 | G27: 1746 | H27: 2496 | I27: 3120 | J27: 1500 | K27: 62.5 | L27: 62.5 | M27: 1 | N27: =ROUND(J27*(1+kopsavilkums!$O$15),2) -> 1603.5 | O27: =P27-L27 -> 4.0625 | P27: =L27*(1+kopsavilkums!$O$12) -> 66.5625 | Q27: =(N27+P27)-(J27+L27) -> 107.5625 | R27: =Q27*M27 -> 107.5625 | S27: =R27*12 -> 1290.75 | T27: =ROUND(S27*kopsavilkums!$O$23,2) -> 304.49 | U27: =SUM(S27:T27) -> 1595.24 | X27: PP13 | Y27: 10015701
A28: Medicīnas atbalsta dienesta noliktavas darbinieks | B28: 4321 08 | D28: 2 | E28: II | F28: 7 | G28: 905 | H28: 1293 | I28: 1682 | J28: 950 | K28: 39.583333 | L28: 39.583333 | M28: 1 | N28: =ROUND(J28*(1+kopsavilkums!$O$15),2) -> 1015.55 | O28: =P28-L28 -> 2.5729167 | P28: =L28*(1+kopsavilkums!$O$12) -> 42.15625 | Q28: =(N28+P28)-(J28+L28) -> 68.122917 | R28: =Q28*M28 -> 68.122917 | S28: =R28*12 -> 817.475 | T28: =ROUND(S28*kopsavilkums!$O$23,2) -> 192.84 | U28: =SUM(S28:T28) -> 1010.315 | X28: 3./99 | Y28: 10015701
A29: Kopā | D29: x | E29: x | F29: x | I29: x | J29: x | K29: x | M29: =SUM(M22:M28) -> 33
A30: Kopā iestādei | M30: =SUM(M29) -> 33 | U30: =SUM(U22:U23,U24:U28) -> 34453.803
A32: Veselības inspekcija
A33: 46.01.00 Uzraudzība un kontrole
A34: Ārsti un funkcionālie speciālisti
A35: Veselības inspekcijas vadītājs | B35: 1112 29 | D35: 1.1 | E35: III | F35: 15 | G35: 3633 | H35: 5189 | I35: 6228 | J35: 4200 | M35: 1 | N35: =ROUND(J35*(1+kopsavilkums!$O$8),2) -> 4645.2 | O35: =P35-L35 -> 0 | P35: =ROUND(L35*(1+kopsavilkums!$O$8),2) -> 0 | Q35: =(N35+P35)-(J35+L35) -> 445.2 | R35: =Q35*M35 -> 445.2 | S35: =R35*12 -> 5342.4 | T35: =ROUND(S35*kopsavilkums!$O$23,2) -> 1260.27 | U35: =SUM(S35:T35) -> 6602.67
A36: Nodaļas vadītājs | B36: 1213 05 | D36: 36 | E36: V | F36: 11 | G36: 1746 | H36: 2496 | I36: 3120 | J36: 2257 | M36: 1 | N36: =ROUND(J36*(1+kopsavilkums!$O$8),2) -> 2496.24 | O36: =P36-L36 -> 0 | P36: =ROUND(L36*(1+kopsavilkums!$O$8),2) -> 0 | Q36: =(N36+P36)-(J36+L36) -> 239.24 | R36: =Q36*M36 -> 239.24 | S36: =R36*12 -> 2870.88 | T36: =ROUND(S36*kopsavilkums!$O$23,2) -> 677.24 | U36: =SUM(S36:T36) -> 3548.12
A37: Veselības aprūpes analītiķis | B37: 2120 18 | D37: 36 | E37: II | F37: 8 | G37: 967 | H37: 1388 | I37: 1796 | J37: 1388 | M37: 1 | N37: =ROUND(J37*(1+kopsavilkums!$O$8),2) -> 1535.13 | O37: =P37-L37 -> 0 | P37: =ROUND(L37*(1+kopsavilkums!$O$8),2) -> 0 | Q37: =(N37+P37)-(J37+L37) -> 147.13 | R37: =Q37*M37 -> 147.13 | S37: =R37*12 -> 1765.56 | T37: =ROUND(S37*kopsavilkums!$O$23,2) -> 416.5 | U37: =SUM(S37:T37) -> 2182.06
A38: Vides veselības analītiķis | B38: 2263 02 | D38: 36 | E38: II | F38: 8 | G38: 967 | H38: 1388 | I38: 1796 | J38: 1388 | M38: 1 | N38: =ROUND(J38*(1+kopsavilkums!$O$8),2) -> 1535.13 | O38: =P38-L38 -> 0 | P38: =ROUND(L38*(1+kopsavilkums!$O$8),2) -> 0 | Q38: =(N38+P38)-(J38+L38) -> 147.13 | R38: =Q38*M38 -> 147.13 | S38: =R38*12 -> 1765.56 | T38: =ROUND(S38*kopsavilkums!$O$23,2) -> 416.5 | U38: =SUM(S38:T38) -> 2182.06
A39: Departamenta vadītājs | B39: 1213 05 | D39: 28.3 | E39: VII | F39: 12 | G39: 2174 | H39: 3105 | I39: 3726 | J39: 3000 | M39: 1 | N39: =ROUND(J39*(1+kopsavilkums!$O$8),2) -> 3318 | O39: =P39-L39 -> 0 | P39: =ROUND(L39*(1+kopsavilkums!$O$8),2) -> 0 | Q39: =(N39+P39)-(J39+L39) -> 318 | R39: =Q39*M39 -> 318 | S39: =R39*12 -> 3816 | T39: =ROUND(S39*kopsavilkums!$O$23,2) -> 900.19 | U39: =SUM(S39:T39) -> 4716.19
A40: Vecākais referents | B40: 2422 03 | D40: 36 | E40: II | F40: 8 | G40: 967 | H40: 1388 | I40: 1796 | J40: 1600 | M40: 1 | N40: =ROUND(J40*(1+kopsavilkums!$O$8),2) -> 1769.6 | O40: =P40-L40 -> 0 | P40: =ROUND(L40*(1+kopsavilkums!$O$8),2) -> 0 | Q40: =(N40+P40)-(J40+L40) -> 169.6 | R40: =Q40*M40 -> 169.6 | S40: =R40*12 -> 2035.2 | T40: =ROUND(S40*kopsavilkums!$O$23,2) -> 480.1 | U40: =SUM(S40:T40) -> 2515.3
A41: Vecākais ārsts eksperts | B41: 2422 09 | D41: 13 | E41: IV | F41: 11 | G41: 1746 | H41: 2496 | I41: 3120 | J41: 2650 | M41: 1 | N41: =ROUND(J41*(1+kopsavilkums!$O$8),2) -> 2930.9 | O41: =P41-L41 -> 0 | P41: =ROUND(L41*(1+kopsavilkums!$O$8),2) -> 0 | Q41: =(N41+P41)-(J41+L41) -> 280.9 | R41: =Q41*M41 -> 280.9 | S41: =R41*12 -> 3370.8 | T41: =ROUND(S41*kopsavilkums!$O$23,2) -> 795.17 | U41: =SUM(S41:T41) -> 4165.97
A42: Vecākais ārsts eksperts | B42: 2422 09 | D42: 13 | E42: IV | F42: 11 | G42: 1746 | H42: 2496 | I42: 3120 | J42: 2650 | M42: 1 | N42: =ROUND(J42*(1+kopsavilkums!$O$8),2) -> 2930.9 | O42: =P42-L42 -> 0 | P42: =ROUND(L42*(1+kopsavilkums!$O$8),2) -> 0 | Q42: =(N42+P42)-(J42+L42) -> 280.9 | R42: =Q42*M42 -> 280.9 | S42: =R42*12 -> 3370.8 | T42: =ROUND(S42*kopsavilkums!$O$23,2) -> 795.17 | U42: =SUM(S42:T42) -> 4165.97
A43: Vecākais ārsts eksperts | B43: 2422 09 | D43: 13 | E43: IV | F43: 11 | G43: 1746 | H43: 2496 | I43: 3120 | J43: 2650 | M43: 1 | N43: =ROUND(J43*(1+kopsavilkums!$O$8),2) -> 2930.9 | O43: =P43-L43 -> 0 | P43: =ROUND(L43*(1+kopsavilkums!$O$8),2) -> 0 | Q43: =(N43+P43)-(J43+L43) -> 280.9 | R43: =Q43*M43 -> 280.9 | S43: =R43*12 -> 3370.8 | T43: =ROUND(S43*kopsavilkums!$O$23,2) -> 795.17 | U43: =SUM(S43:T43) -> 4165.97
A44: Vecākais ārsts eksperts | B44: 2422 09 | D44: 13 | E44: IV | F44: 11 | G44: 1746 | H44: 2496 | I44: 3120 | J44: 2650 | M44: 1 | N44: =ROUND(J44*(1+kopsavilkums!$O$8),2) -> 2930.9 | O44: =P44-L44 -> 0 | P44: =ROUND(L44*(1+kopsavilkums!$O$8),2) -> 0 | Q44: =(N44+P44)-(J44+L44) -> 280.9 | R44: =Q44*M44 -> 280.9 | S44: =R44*12 -> 3370.8 | T44: =ROUND(S44*kopsavilkums!$O$23,2) -> 795.17 | U44: =SUM(S44:T44) -> 4165.97
A45: Vecākais ārsts eksperts | B45: 2422 09 | D45: 13 | E45: IV | F45: 11 | G45: 1746 | H45: 2496 | I45: 3120 | J45: 2650 | M45: 1 | N45: =ROUND(J45*(1+kopsavilkums!$O$8),2) -> 2930.9 | O45: =P45-L45 -> 0 | P45: =ROUND(L45*(1+kopsavilkums!$O$8),2) -> 0 | Q45: =(N45+P45)-(J45+L45) -> 280.9 | R45: =Q45*M45 -> 280.9 | S45: =R45*12 -> 3370.8 | T45: =ROUND(S45*kopsavilkums!$O$23,2) -> 795.17 | U45: =SUM(S45:T45) -> 4165.97
A46: Vecākais ārsts eksperts | B46: 2422 09 | D46: 13 | E46: IV | F46: 11 | G46: 1746 | H46: 2496 | I46: 3120 | J46: 2650 | M46: 1 | N46: =ROUND(J46*(1+kopsavilkums!$O$8),2) -> 2930.9 | O46: =P46-L46 -> 0 | P46: =ROUND(L46*(1+kopsavilkums!$O$8),2) -> 0 | Q46: =(N46+P46)-(J46+L46) -> 280.9 | R46: =Q46*M46 -> 280.9 | S46: =R46*12 -> 3370.8 | T46: =ROUND(S46*kopsavilkums!$O$23,2) -> 795.17 | U46: =SUM(S46:T46) -> 4165.97
A47: Vecākais ārsts eksperts | B47: 2422 09 | D47: 13 | E47: IV | F47: 11 | G47: 1746 | H47: 2496 | I47: 3120 | J47: 2650 | M47: 1 | N47: =ROUND(J47*(1+kopsavilkums!$O$8),2) -> 2930.9 | O47: =P47-L47 -> 0 | P47: =ROUND(L47*(1+kopsavilkums!$O$8),2) -> 0 | Q47: =(N47+P47)-(J47+L47) -> 280.9 | R47: =Q47*M47 -> 280.9 | S47: =R47*12 -> 3370.8 | T47: =ROUND(S47*kopsavilkums!$O$23,2) -> 795.17 | U47: =SUM(S47:T47) -> 4165.97
A48: Vecākais ārsts eksperts | B48: 2422 09 | D48: 13 | E48: IV | F48: 11 | G48: 1746 | H48: 2496 | I48: 3120 | J48: 2650 | M48: 1 | N48: =ROUND(J48*(1+kopsavilkums!$O$8),2) -> 2930.9 | O48: =P48-L48 -> 0 | P48: =ROUND(L48*(1+kopsavilkums!$O$8),2) -> 0 | Q48: =(N48+P48)-(J48+L48) -> 280.9 | R48: =Q48*M48 -> 280.9 | S48: =R48*12 -> 3370.8 | T48: =ROUND(S48*kopsavilkums!$O$23,2) -> 795.17 | U48: =SUM(S48:T48) -> 4165.97
A49: Vecākais ārsts eksperts | B49: 2422 09 | D49: 13 | E49: IV | F49: 11 | G49: 1746 | H49: 2496 | I49: 3120 | J49: 2650 | M49: 1 | N49: =ROUND(J49*(1+kopsavilkums!$O$8),2) -> 2930.9 | O49: =P49-L49 -> 0 | P49: =ROUND(L49*(1+kopsavilkums!$O$8),2) -> 0 | Q49: =(N49+P49)-(J49+L49) -> 280.9 | R49: =Q49*M49 -> 280.9 | S49: =R49*12 -> 3370.8 | T49: =ROUND(S49*kopsavilkums!$O$23,2) -> 795.17 | U49: =SUM(S49:T49) -> 4165.97
A50: Ārsts eksperts | B50: 2422 10 | D50: 13 | E50: III | F50: 9 | G50: 1157 | H50: 1653 | I50: 2067 | J50: 1900 | M50: 1 | N50: =ROUND(J50*(1+kopsavilkums!$O$8),2) -> 2101.4 | O50: =P50-L50 -> 0 | P50: =ROUND(L50*(1+kopsavilkums!$O$8),2) -> 0 | Q50: =(N50+P50)-(J50+L50) -> 201.4 | R50: =Q50*M50 -> 201.4 | S50: =R50*12 -> 2416.8 | T50: =ROUND(S50*kopsavilkums!$O$23,2) -> 570.12 | U50: =SUM(S50:T50) -> 2986.92
A51: Ārsts eksperts | B51: 2422 10 | D51: 13 | E51: III | F51: 9 | G51: 1157 | H51: 1653 | I51: 2067 | J51: 1900 | M51: 1 | N51: =ROUND(J51*(1+kopsavilkums!$O$8),2) -> 2101.4 | O51: =P51-L51 -> 0 | P51: =ROUND(L51*(1+kopsavilkums!$O$8),2) -> 0 | Q51: =(N51+P51)-(J51+L51) -> 201.4 | R51: =Q51*M51 -> 201.4 | S51: =R51*12 -> 2416.8 | T51: =ROUND(S51*kopsavilkums!$O$23,2) -> 570.12 | U51: =SUM(S51:T51) -> 2986.92
... A56: Ārsts eksperts | B56: 2422 10 | D56: 13 | E56: III | F56: 9 | G56: 1157 | H56: 1653 | I56: 2067 | J56: 1900 | M56: 1 | N56: =ROUND(J56*(1+kopsavilkums!$O$8),2) -> 2101.4 | O56: =P56-L56 -> 0 | P56: =ROUND(L56*(1+kopsavilkums!$O$8),2) -> 0 | Q56: =(N56+P56)-(J56+L56) -> 201.4 | R56: =Q56*M56 -> 201.4 | S56: =R56*12 -> 2416.8 | T56: =ROUND(S56*kopsavilkums!$O$23,2) -> 570.12 | U56: =SUM(S56:T56) -> 2986.92
A57: Nodaļas vadītājs | B57: 1213 05 | D57: 28.3 | E57: VI | F57: 11 | G57: 1746 | H57: 2496 | I57: 3120 | J57: 2257 | M57: 1 | N57: =ROUND(J57*(1+kopsavilkums!$O$8),2) -> 2496.24 | O57: =P57-L57 -> 0 | P57: =ROUND(L57*(1+kopsavilkums!$O$8),2) -> 0 | Q57: =(N57+P57)-(J57+L57) -> 239.24 | R57: =Q57*M57 -> 239.24 | S57: =R57*12 -> 2870.88 | T57: =ROUND(S57*kopsavilkums!$O$23,2) -> 677.24 | U57: =SUM(S57:T57) -> 3548.12
A58: Vecākais inspektors | B58: 2422 06 | D58: 28.3 | E58: IV | F58: 9 | G58: 1157 | H58: 1653 | I58: 2067 | J58: 1577 | M58: 1 | N58: =ROUND(J58*(1+kopsavilkums!$O$8),2) -> 1744.16 | O58: =P58-L58 -> 0 | P58: =ROUND(L58*(1+kopsavilkums!$O$8),2) -> 0 | Q58: =(N58+P58)-(J58+L58) -> 167.16 | R58: =Q58*M58 -> 167.16 | S58: =R58*12 -> 2005.92 | T58: =ROUND(S58*kopsavilkums!$O$23,2) -> 473.2 | U58: =SUM(S58:T58) -> 2479.12
A59: Vecākais inspektors | B59: 2422 06 | D59: 28.3 | E59: IV | F59: 9 | G59: 1157 | H59: 1653 | I59: 2067 | J59: 1577 | M59: 1 | N59: =ROUND(J59*(1+kopsavilkums!$O$8),2) -> 1744.16 | O59: =P59-L59 -> 0 | P59: =ROUND(L59*(1+kopsavilkums!$O$8),2) -> 0 | Q59: =(N59+P59)-(J59+L59) -> 167.16 | R59: =Q59*M59 -> 167.16 | S59: =R59*12 -> 2005.92 | T59: =ROUND(S59*kopsavilkums!$O$23,2) -> 473.2 | U59: =SUM(S59:T59) -> 2479.12
A60: Vecākais inspektors | B60: 2422 06 | D60: 28.3 | E60: IV | F60: 9 | G60: 1157 | H60: 1653 | I60: 2067 | J60: 1577 | M60: 1 | N60: =ROUND(J60*(1+kopsavilkums!$O$8),2) -> 1744.16 | O60: =P60-L60 -> 0 | P60: =ROUND(L60*(1+kopsavilkums!$O$8),2) -> 0 | Q60: =(N60+P60)-(J60+L60) -> 167.16 | R60: =Q60*M60 -> 167.16 | S60: =R60*12 -> 2005.92 | T60: =ROUND(S60*kopsavilkums!$O$23,2) -> 473.2 | U60: =SUM(S60:T60) -> 2479.12
A61: Vecākais inspektors | B61: 2422 06 | D61: 28.3 | E61: IV | F61: 9 | G61: 1157 | H61: 1653 | I61: 2067 | J61: 1577 | M61: 1 | N61: =ROUND(J61*(1+kopsavilkums!$O$8),2) -> 1744.16 | O61: =P61-L61 -> 0 | P61: =ROUND(L61*(1+kopsavilkums!$O$8),2) -> 0 | Q61: =(N61+P61)-(J61+L61) -> 167.16 | R61: =Q61*M61 -> 167.16 | S61: =R61*12 -> 2005.92 | T61: =ROUND(S61*kopsavilkums!$O$23,2) -> 473.2 | U61: =SUM(S61:T61) -> 2479.12
A62: Vecākais inspektors | B62: 2422 06 | D62: 28.3 | E62: IV | F62: 9 | G62: 1157 | H62: 1653 | I62: 2067 | J62: 1577 | M62: 1 | N62: =ROUND(J62*(1+kopsavilkums!$O$8),2) -> 1744.16 | O62: =P62-L62 -> 0 | P62: =ROUND(L62*(1+kopsavilkums!$O$8),2) -> 0 | Q62: =(N62+P62)-(J62+L62) -> 167.16 | R62: =Q62*M62 -> 167.16 | S62: =R62*12 -> 2005.92 | T62: =ROUND(S62*kopsavilkums!$O$23,2) -> 473.2 | U62: =SUM(S62:T62) -> 2479.12
A63: Vecākais inspektors | B63: 2422 06 | D63: 28.3 | E63: IV | F63: 9 | G63: 1157 | H63: 1653 | I63: 2067 | J63: 1577 | M63: 1 | N63: =ROUND(J63*(1+kopsavilkums!$O$8),2) -> 1744.16 | O63: =P63-L63 -> 0 | P63: =ROUND(L63*(1+kopsavilkums!$O$8),2) -> 0 | Q63: =(N63+P63)-(J63+L63) -> 167.16 | R63: =Q63*M63 -> 167.16 | S63: =R63*12 -> 2005.92 | T63: =ROUND(S63*kopsavilkums!$O$23,2) -> 473.2 | U63: =SUM(S63:T63) -> 2479.12
A64: Vecākais inspektors | B64: 2422 06 | D64: 28.3 | E64: IV | F64: 9 | G64: 1157 | H64: 1653 | I64: 2067 | J64: 1577 | M64: 1 | N64: =ROUND(J64*(1+kopsavilkums!$O$8),2) -> 1744.16 | O64: =P64-L64 -> 0 | P64: =ROUND(L64*(1+kopsavilkums!$O$8),2) -> 0 | Q64: =(N64+P64)-(J64+L64) -> 167.16 | R64: =Q64*M64 -> 167.16 | S64: =R64*12 -> 2005.92 | T64: =ROUND(S64*kopsavilkums!$O$23,2) -> 473.2 | U64: =SUM(S64:T64) -> 2479.12
A65: Inspektors | B65: 2422 07 | D65: 28.3 | E65: III | F65: 8 | G65: 967 | H65: 1388 | I65: 1796 | J65: 1427 | M65: 1 | N65: =ROUND(J65*(1+kopsavilkums!$O$8),2) -> 1578.26 | O65: =P65-L65 -> 0 | P65: =ROUND(L65*(1+kopsavilkums!$O$8),2) -> 0 | Q65: =(N65+P65)-(J65+L65) -> 151.26 | R65: =Q65*M65 -> 151.26 | S65: =R65*12 -> 1815.12 | T65: =ROUND(S65*kopsavilkums!$O$23,2) -> 428.19 | U65: =SUM(S65:T65) -> 2243.31
A66: Inspektors | B66: 2422 07 | D66: 28.3 | E66: III | F66: 8 | G66: 967 | H66: 1388 | I66: 1796 | J66: 1427 | M66: 1 | N66: =ROUND(J66*(1+kopsavilkums!$O$8),2) -> 1578.26 | O66: =P66-L66 -> 0 | P66: =ROUND(L66*(1+kopsavilkums!$O$8),2) -> 0 | Q66: =(N66+P66)-(J66+L66) -> 151.26 | R66: =Q66*M66 -> 151.26 | S66: =R66*12 -> 1815.12 | T66: =ROUND(S66*kopsavilkums!$O$23,2) -> 428.19 | U66: =SUM(S66:T66) -> 2243.31
A67: Inspektors | B67: 2422 07 | D67: 28.3 | E67: III | F67: 8 | G67: 967 | H67: 1388 | I67: 1796 | J67: 1427 | M67: 1 | N67: =ROUND(J67*(1+kopsavilkums!$O$8),2) -> 1578.26 | O67: =P67-L67 -> 0 | P67: =ROUND(L67*(1+kopsavilkums!$O$8),2) -> 0 | Q67: =(N67+P67)-(J67+L67) -> 151.26 | R67: =Q67*M67 -> 151.26 | S67: =R67*12 -> 1815.12 | T67: =ROUND(S67*kopsavilkums!$O$23,2) -> 428.19 | U67: =SUM(S67:T67) -> 2243.31
A68: Inspektors | B68: 2422 07 | D68: 28.3 | E68: III | F68: 8 | G68: 967 | H68: 1388 | I68: 1796 | J68: 1427 | M68: 1 | N68: =ROUND(J68*(1+kopsavilkums!$O$8),2) -> 1578.26 | O68: =P68-L68 -> 0 | P68: =ROUND(L68*(1+kopsavilkums!$O$8),2) -> 0 | Q68: =(N68+P68)-(J68+L68) -> 151.26 | R68: =Q68*M68 -> 151.26 | S68: =R68*12 -> 1815.12 | T68: =ROUND(S68*kopsavilkums!$O$23,2) -> 428.19 | U68: =SUM(S68:T68) -> 2243.31
... A70: Tehniskās uzraudzības inspektors | B70: 3115 52 | D70: 28.3 | E70: III | F70: 8 | G70: 967 | H70: 1388 | I70: 1796 | J70: 1388 | M70: 1 | N70: =ROUND(J70*(1+kopsavilkums!$O$8),2) -> 1535.13 | O70: =P70-L70 -> 0 | P70: =ROUND(L70*(1+kopsavilkums!$O$8),2) -> 0 | Q70: =(N70+P70)-(J70+L70) -> 147.13 | R70: =Q70*M70 -> 147.13 | S70: =R70*12 -> 1765.56 | T70: =ROUND(S70*kopsavilkums!$O$23,2) -> 416.5 | U70: =SUM(S70:T70) -> 2182.06
A71: Nodaļas vadītājs | B71: 1213 05 | D71: 36 | E71: V | F71: 11 | G71: 1746 | H71: 2496 | I71: 3120 | J71: 2197 | M71: 1 | N71: =ROUND(J71*(1+kopsavilkums!$O$8),2) -> 2429.88 | O71: =P71-L71 -> 0 | P71: =ROUND(L71*(1+kopsavilkums!$O$8),2) -> 0 | Q71: =(N71+P71)-(J71+L71) -> 232.88 | R71: =Q71*M71 -> 232.88 | S71: =R71*12 -> 2794.56 | T71: =ROUND(S71*kopsavilkums!$O$23,2) -> 659.24 | U71: =SUM(S71:T71) -> 3453.8
A72: Vecākais referents | B72: 2422 03 | D72: 36 | E72: II | F72: 8 | G72: 967 | H72: 1388 | I72: 1796 | J72: 1388 | M72: 1 | N72: =ROUND(J72*(1+kopsavilkums!$O$8),2) -> 1535.13 | O72: =P72-L72 -> 0 | P72: =ROUND(L72*(1+kopsavilkums!$O$8),2) -> 0 | Q72: =(N72+P72)-(J72+L72) -> 147.13 | R72: =Q72*M72 -> 147.13 | S72: =R72*12 -> 1765.56 | T72: =ROUND(S72*kopsavilkums!$O$23,2) -> 416.5 | U72: =SUM(S72:T72) -> 2182.06
A73: Vecākais referents | B73: 2422 03 | D73: 36 | E73: II | F73: 8 | G73: 967 | H73: 1388 | I73: 1796 | J73: 1388 | M73: 1 | N73: =ROUND(J73*(1+kopsavilkums!$O$8),2) -> 1535.13 | O73: =P73-L73 -> 0 | P73: =ROUND(L73*(1+kopsavilkums!$O$8),2) -> 0 | Q73: =(N73+P73)-(J73+L73) -> 147.13 | R73: =Q73*M73 -> 147.13 | S73: =R73*12 -> 1765.56 | T73: =ROUND(S73*kopsavilkums!$O$23,2) -> 416.5 | U73: =SUM(S73:T73) -> 2182.06
A74: Referents | B74: 2422 04 | D74: 36 | E74: I | F74: 6 | G74: 758 | H74: 1081 | I74: 1406 | J74: 1200 | M74: 1 | N74: =ROUND(J74*(1+kopsavilkums!$O$8),2) -> 1327.2 | O74: =P74-L74 -> 0 | P74: =ROUND(L74*(1+kopsavilkums!$O$8),2) -> 0 | Q74: =(N74+P74)-(J74+L74) -> 127.2 | R74: =Q74*M74 -> 127.2 | S74: =R74*12 -> 1526.4 | T74: =ROUND(S74*kopsavilkums!$O$23,2) -> 360.08 | U74: =SUM(S74:T74) -> 1886.48
A75: Departamenta vadītājs | B75: 1213 05 | D75: 28.3 | E75: VII | F75: 12 | G75: 2174 | H75: 3105 | I75: 3726 | J75: 3000 | M75: 1 | N75: =ROUND(J75*(1+kopsavilkums!$O$8),2) -> 3318 | O75: =P75-L75 -> 0 | P75: =ROUND(L75*(1+kopsavilkums!$O$8),2) -> 0 | Q75: =(N75+P75)-(J75+L75) -> 318 | R75: =Q75*M75 -> 318 | S75: =R75*12 -> 3816 | T75: =ROUND(S75*kopsavilkums!$O$23,2) -> 900.19 | U75: =SUM(S75:T75) -> 4716.19
A76: Nodaļas vadītājs | B76: 1213 05 | D76: 13 | E76: IV | F76: 11 | G76: 1746 | H76: 2496 | I76: 3120 | J76: 2257 | M76: 1 | N76: =ROUND(J76*(1+kopsavilkums!$O$8),2) -> 2496.24 | O76: =P76-L76 -> 0 | P76: =ROUND(L76*(1+kopsavilkums!$O$8),2) -> 0 | Q76: =(N76+P76)-(J76+L76) -> 239.24 | R76: =Q76*M76 -> 239.24 | S76: =R76*12 -> 2870.88 | T76: =ROUND(S76*kopsavilkums!$O$23,2) -> 677.24 | U76: =SUM(S76:T76) -> 3548.12
A77: Higiēnas ārsts | B77: 2263 04 | D77: 13 | E77: III | F77: 9 | G77: 1157 | H77: 1653 | I77: 2067 | J77: 1577 | M77: 1 | N77: =ROUND(J77*(1+kopsavilkums!$O$8),2) -> 1744.16 | O77: =P77-L77 -> 0 | P77: =ROUND(L77*(1+kopsavilkums!$O$8),2) -> 0 | Q77: =(N77+P77)-(J77+L77) -> 167.16 | R77: =Q77*M77 -> 167.16 | S77: =R77*12 -> 2005.92 | T77: =ROUND(S77*kopsavilkums!$O$23,2) -> 473.2 | U77: =SUM(S77:T77) -> 2479.12
A78: Higiēnas ārsts | B78: 2263 04 | D78: 13 | E78: III | F78: 9 | G78: 1157 | H78: 1653 | I78: 2067 | J78: 1577 | M78: 1 | N78: =ROUND(J78*(1+kopsavilkums!$O$8),2) -> 1744.16 | O78: =P78-L78 -> 0 | P78: =ROUND(L78*(1+kopsavilkums!$O$8),2) -> 0 | Q78: =(N78+P78)-(J78+L78) -> 167.16 | R78: =Q78*M78 -> 167.16 | S78: =R78*12 -> 2005.92 | T78: =ROUND(S78*kopsavilkums!$O$23,2) -> 473.2 | U78: =SUM(S78:T78) -> 2479.12
A79: Higiēnas ārsts | B79: 2263 04 | D79: 13 | E79: III | F79: 9 | G79: 1157 | H79: 1653 | I79: 2067 | J79: 1577 | M79: 1 | N79: =ROUND(J79*(1+kopsavilkums!$O$8),2) -> 1744.16 | O79: =P79-L79 -> 0 | P79: =ROUND(L79*(1+kopsavilkums!$O$8),2) -> 0 | Q79: =(N79+P79)-(J79+L79) -> 167.16 | R79: =Q79*M79 -> 167.16 | S79: =R79*12 -> 2005.92 | T79: =ROUND(S79*kopsavilkums!$O$23,2) -> 473.2 | U79: =SUM(S79:T79) -> 2479.12
A80: Higiēnas ārsts | B80: 2263 04 | D80: 13 | E80: III | F80: 9 | G80: 1157 | H80: 1653 | I80: 2067 | J80: 1577 | M80: 1 | N80: =ROUND(J80*(1+kopsavilkums!$O$8),2) -> 1744.16 | O80: =P80-L80 -> 0 | P80: =ROUND(L80*(1+kopsavilkums!$O$8),2) -> 0 | Q80: =(N80+P80)-(J80+L80) -> 167.16 | R80: =Q80*M80 -> 167.16 | S80: =R80*12 -> 2005.92 | T80: =ROUND(S80*kopsavilkums!$O$23,2) -> 473.2 | U80: =SUM(S80:T80) -> 2479.12
A81: Higiēnas ārsts | B81: 2263 04 | D81: 13 | E81: III | F81: 9 | G81: 1157 | H81: 1653 | I81: 2067 | J81: 1577 | M81: 1 | N81: =ROUND(J81*(1+kopsavilkums!$O$8),2) -> 1744.16 | O81: =P81-L81 -> 0 | P81: =ROUND(L81*(1+kopsavilkums!$O$8),2) -> 0 | Q81: =(N81+P81)-(J81+L81) -> 167.16 | R81: =Q81*M81 -> 167.16 | S81: =R81*12 -> 2005.92 | T81: =ROUND(S81*kopsavilkums!$O$23,2) -> 473.2 | U81: =SUM(S81:T81) -> 2479.12
A82: Vecākais higiēnas ārsts | B82: 2263 04 | D82: 13 | E82: III | F82: 9 | G82: 1157 | H82: 1653 | I82: 2067 | J82: 1664 | M82: 1 | N82: =ROUND(J82*(1+kopsavilkums!$O$8),2) -> 1840.38 | O82: =P82-L82 -> 0 | P82: =ROUND(L82*(1+kopsavilkums!$O$8),2) -> 0 | Q82: =(N82+P82)-(J82+L82) -> 176.38 | R82: =Q82*M82 -> 176.38 | S82: =R82*12 -> 2116.56 | T82: =ROUND(S82*kopsavilkums!$O$23,2) -> 499.3 | U82: =SUM(S82:T82) -> 2615.86
A83: Vecākais higiēnas ārsts | B83: 2263 04 | D83: 13 | E83: III | F83: 9 | G83: 1157 | H83: 1653 | I83: 2067 | J83: 1664 | M83: 1 | N83: =ROUND(J83*(1+kopsavilkums!$O$8),2) -> 1840.38 | O83: =P83-L83 -> 0 | P83: =ROUND(L83*(1+kopsavilkums!$O$8),2) -> 0 | Q83: =(N83+P83)-(J83+L83) -> 176.38 | R83: =Q83*M83 -> 176.38 | S83: =R83*12 -> 2116.56 | T83: =ROUND(S83*kopsavilkums!$O$23,2) -> 499.3 | U83: =SUM(S83:T83) -> 2615.86
A84: Sabiedrības veselības analītiķis | B84: 2269 03 | D84: 36 | E84: II | F84: 8 | G84: 967 | H84: 1388 | I84: 1796 | J84: 1388 | M84: 1 | N84: =ROUND(J84*(1+kopsavilkums!$O$8),2) -> 1535.13 | O84: =P84-L84 -> 0 | P84: =ROUND(L84*(1+kopsavilkums!$O$8),2) -> 0 | Q84: =(N84+P84)-(J84+L84) -> 147.13 | R84: =Q84*M84 -> 147.13 | S84: =R84*12 -> 1765.56 | T84: =ROUND(S84*kopsavilkums!$O$23,2) -> 416.5 | U84: =SUM(S84:T84) -> 2182.06
A85: Nodaļas vadītājs | B85: 1213 05 | D85: 28.3 | E85: VI | F85: 11 | G85: 1746 | H85: 2496 | I85: 3120 | J85: 2257 | M85: 1 | N85: =ROUND(J85*(1+kopsavilkums!$O$8),2) -> 2496.24 | O85: =P85-L85 -> 0 | P85: =ROUND(L85*(1+kopsavilkums!$O$8),2) -> 0 | Q85: =(N85+P85)-(J85+L85) -> 239.24 | R85: =Q85*M85 -> 239.24 | S85: =R85*12 -> 2870.88 | T85: =ROUND(S85*kopsavilkums!$O$23,2) -> 677.24 | U85: =SUM(S85:T85) -> 3548.12
A86: Vecākais inspektors | B86: 2422 06 | D86: 28.3 | E86: IV | F86: 9 | G86: 1157 | H86: 1653 | I86: 2067 | J86: 1500 | M86: 1 | N86: =ROUND(J86*(1+kopsavilkums!$O$8),2) -> 1659 | O86: =P86-L86 -> 0 | P86: =ROUND(L86*(1+kopsavilkums!$O$8),2) -> 0 | Q86: =(N86+P86)-(J86+L86) -> 159 | R86: =Q86*M86 -> 159 | S86: =R86*12 -> 1908 | T86: =ROUND(S86*kopsavilkums!$O$23,2) -> 450.1 | U86: =SUM(S86:T86) -> 2358.1
A87: Inspektors | B87: 2422 07 | D87: 28.3 | E87: III | F87: 8 | G87: 967 | H87: 1388 | I87: 1796 | J87: 1388 | M87: 1 | N87: =ROUND(J87*(1+kopsavilkums!$O$8),2) -> 1535.13 | O87: =P87-L87 -> 0 | P87: =ROUND(L87*(1+kopsavilkums!$O$8),2) -> 0 | Q87: =(N87+P87)-(J87+L87) -> 147.13 | R87: =Q87*M87 -> 147.13 | S87: =R87*12 -> 1765.56 | T87: =ROUND(S87*kopsavilkums!$O$23,2) -> 416.5 | U87: =SUM(S87:T87) -> 2182.06
A88: Inspektors | B88: 2422 07 | D88: 28.3 | E88: III | F88: 8 | G88: 967 | H88: 1388 | I88: 1796 | J88: 1300 | M88: 1 | N88: =ROUND(J88*(1+kopsavilkums!$O$8),2) -> 1437.8 | O88: =P88-L88 -> 0 | P88: =ROUND(L88*(1+kopsavilkums!$O$8),2) -> 0 | Q88: =(N88+P88)-(J88+L88) -> 137.8 | R88: =Q88*M88 -> 137.8 | S88: =R88*12 -> 1653.6 | T88: =ROUND(S88*kopsavilkums!$O$23,2) -> 390.08 | U88: =SUM(S88:T88) -> 2043.68
A89: Inspektors | B89: 2422 07 | D89: 28.3 | E89: III | F89: 8 | G89: 967 | H89: 1388 | I89: 1796 | J89: 1388 | M89: 1 | N89: =ROUND(J89*(1+kopsavilkums!$O$8),2) -> 1535.13 | O89: =P89-L89 -> 0 | P89: =ROUND(L89*(1+kopsavilkums!$O$8),2) -> 0 | Q89: =(N89+P89)-(J89+L89) -> 147.13 | R89: =Q89*M89 -> 147.13 | S89: =R89*12 -> 1765.56 | T89: =ROUND(S89*kopsavilkums!$O$23,2) -> 416.5 | U89: =SUM(S89:T89) -> 2182.06
A90: Vecākais referents | B90: 2422 03 | D90: 36 | E90: III | F90: 9 | G90: 1157 | H90: 1653 | I90: 2067 | J90: 1364 | M90: 1 | N90: =ROUND(J90*(1+kopsavilkums!$O$8),2) -> 1508.58 | O90: =P90-L90 -> 0 | P90: =ROUND(L90*(1+kopsavilkums!$O$8),2) -> 0 | Q90: =(N90+P90)-(J90+L90) -> 144.58 | R90: =Q90*M90 -> 144.58 | S90: =R90*12 -> 1734.96 | T90: =ROUND(S90*kopsavilkums!$O$23,2) -> 409.28 | U90: =SUM(S90:T90) -> 2144.24
A91: Nodaļas vadītājs | B91: 1213 05 | D91: 28.3 | E91: VI | F91: 11 | G91: 1746 | H91: 2496 | I91: 3120 | J91: 2257 | M91: 1 | N91: =ROUND(J91*(1+kopsavilkums!$O$8),2) -> 2496.24 | O91: =P91-L91 -> 0 | P91: =ROUND(L91*(1+kopsavilkums!$O$8),2) -> 0 | Q91: =(N91+P91)-(J91+L91) -> 239.24 | R91: =Q91*M91 -> 239.24 | S91: =R91*12 -> 2870.88 | T91: =ROUND(S91*kopsavilkums!$O$23,2) -> 677.24 | U91: =SUM(S91:T91) -> 3548.12
A92: Nodaļas vadītājs | B92: 1213 05 | D92: 28.3 | E92: VI | F92: 11 | G92: 1746 | H92: 2496 | I92: 3120 | J92: 2257 | M92: 1 | N92: =ROUND(J92*(1+kopsavilkums!$O$8),2) -> 2496.24 | O92: =P92-L92 -> 0 | P92: =ROUND(L92*(1+kopsavilkums!$O$8),2) -> 0 | Q92: =(N92+P92)-(J92+L92) -> 239.24 | R92: =Q92*M92 -> 239.24 | S92: =R92*12 -> 2870.88 | T92: =ROUND(S92*kopsavilkums!$O$23,2) -> 677.24 | U92: =SUM(S92:T92) -> 3548.12
A93: Vecākais inspektors veselības aprūpes jomā | B93: 2422 06 | D93: 28.3 | E93: IV | F93: 9 | G93: 1157 | H93: 1653 | I93: 2067 | J93: 1577 | M93: 1 | N93: =ROUND(J93*(1+kopsavilkums!$O$8),2) -> 1744.16 | O93: =P93-L93 -> 0 | P93: =ROUND(L93*(1+kopsavilkums!$O$8),2) -> 0 | Q93: =(N93+P93)-(J93+L93) -> 167.16 | R93: =Q93*M93 -> 167.16 | S93: =R93*12 -> 2005.92 | T93: =ROUND(S93*kopsavilkums!$O$23,2) -> 473.2 | U93: =SUM(S93:T93) -> 2479.12
A94: Higiēnas ārsts | B94: 2263 04 | D94: 13 | E94: III | F94: 9 | G94: 1157 | H94: 1653 | I94: 2067 | J94: 1577 | M94: 1 | N94: =ROUND(J94*(1+kopsavilkums!$O$8),2) -> 1744.16 | O94: =P94-L94 -> 0 | P94: =ROUND(L94*(1+kopsavilkums!$O$8),2) -> 0 | Q94: =(N94+P94)-(J94+L94) -> 167.16 | R94: =Q94*M94 -> 167.16 | S94: =R94*12 -> 2005.92 | T94: =ROUND(S94*kopsavilkums!$O$23,2) -> 473.2 | U94: =SUM(S94:T94) -> 2479.12
A95: Vecākais higiēnas ārsts | B95: 2263 04 | D95: 13 | E95: III | F95: 9 | G95: 1157 | H95: 1653 | I95: 2067 | J95: 1664 | M95: 1 | N95: =ROUND(J95*(1+kopsavilkums!$O$8),2) -> 1840.38 | O95: =P95-L95 -> 0 | P95: =ROUND(L95*(1+kopsavilkums!$O$8),2) -> 0 | Q95: =(N95+P95)-(J95+L95) -> 176.38 | R95: =Q95*M95 -> 176.38 | S95: =R95*12 -> 2116.56 | T95: =ROUND(S95*kopsavilkums!$O$23,2) -> 499.3 | U95: =SUM(S95:T95) -> 2615.86
A96: Higiēnas ārsts | B96: 2263 04 | D96: 13 | E96: III | F96: 9 | G96: 1157 | H96: 1653 | I96: 2067 | J96: 1577 | M96: 1 | N96: =ROUND(J96*(1+kopsavilkums!$O$8),2) -> 1744.16 | O96: =P96-L96 -> 0 | P96: =ROUND(L96*(1+kopsavilkums!$O$8),2) -> 0 | Q96: =(N96+P96)-(J96+L96) -> 167.16 | R96: =Q96*M96 -> 167.16 | S96: =R96*12 -> 2005.92 | T96: =ROUND(S96*kopsavilkums!$O$23,2) -> 473.2 | U96: =SUM(S96:T96) -> 2479.12
A97: Inspektors veselības aprūpes jomā | B97: 2422 07 | D97: 28.3 | E97: III | F97: 8 | G97: 967 | H97: 1388 | I97: 1796 | J97: 1053 | M97: 1 | N97: =ROUND(J97*(1+kopsavilkums!$O$8),2) -> 1164.62 | O97: =P97-L97 -> 0 | P97: =ROUND(L97*(1+kopsavilkums!$O$8),2) -> 0 | Q97: =(N97+P97)-(J97+L97) -> 111.62 | R97: =Q97*M97 -> 111.62 | S97: =R97*12 -> 1339.44 | T97: =ROUND(S97*kopsavilkums!$O$23,2) -> 315.97 | U97: =SUM(S97:T97) -> 1655.41
A98: Inspektors sabiedrības veselības jomā | B98: 2422 07 | D98: 28.3 | E98: III | F98: 8 | G98: 967 | H98: 1388 | I98: 1796 | J98: 1388 | M98: 1 | N98: =ROUND(J98*(1+kopsavilkums!$O$8),2) -> 1535.13 | O98: =P98-L98 -> 0 | P98: =ROUND(L98*(1+kopsavilkums!$O$8),2) -> 0 | Q98: =(N98+P98)-(J98+L98) -> 147.13 | R98: =Q98*M98 -> 147.13 | S98: =R98*12 -> 1765.56 | T98: =ROUND(S98*kopsavilkums!$O$23,2) -> 416.5 | U98: =SUM(S98:T98) -> 2182.06
A99: Vides veselības analītiķis | B99: 2263 02 | D99: 13 | E99: III | F99: 9 | G99: 1157 | H99: 1653 | I99: 2067 | J99: 1388 | M99: 1 | N99: =ROUND(J99*(1+kopsavilkums!$O$8),2) -> 1535.13 | O99: =P99-L99 -> 0 | P99: =ROUND(L99*(1+kopsavilkums!$O$8),2) -> 0 | Q99: =(N99+P99)-(J99+L99) -> 147.13 | R99: =Q99*M99 -> 147.13 | S99: =R99*12 -> 1765.56 | T99: =ROUND(S99*kopsavilkums!$O$23,2) -> 416.5 | U99: =SUM(S99:T99) -> 2182.06
A100: Inspektors sabiedrības veselības jomā | B100: 2422 07 | D100: 28.3 | E100: III | F100: 8 | G100: 967 | H100: 1388 | I100: 1796 | J100: 1388 | M100: 1 | N100: =ROUND(J100*(1+kopsavilkums!$O$8),2) -> 1535.13 | O100: =P100-L100 -> 0 | P100: =ROUND(L100*(1+kopsavilkums!$O$8),2) -> 0 | Q100: =(N100+P100)-(J100+L100) -> 147.13 | R100: =Q100*M100 -> 147.13 | S100: =R100*12 -> 1765.56 | T100: =ROUND(S100*kopsavilkums!$O$23,2) -> 416.5 | U100: =SUM(S100:T100) -> 2182.06
A101: Nodaļas vadītājs | B101: 1213 05 | D101: 28.3 | E101: VI | F101: 11 | G101: 1746 | H101: 2496 | I101: 3120 | J101: 2257 | M101: 1 | N101: =ROUND(J101*(1+kopsavilkums!$O$8),2) -> 2496.24 | O101: =P101-L101 -> 0 | P101: =ROUND(L101*(1+kopsavilkums!$O$8),2) -> 0 | Q101: =(N101+P101)-(J101+L101) -> 239.24 | R101: =Q101*M101 -> 239.24 | S101: =R101*12 -> 2870.88 | T101: =ROUND(S101*kopsavilkums!$O$23,2) -> 677.24 | U101: =SUM(S101:T101) -> 3548.12
A102: Vecākais inspektors veselības aprūpes jomā | B102: 2422 06 | D102: 28.3 | E102: IV | F102: 9 | G102: 1157 | H102: 1653 | I102: 2067 | J102: 1577 | M102: 1 | N102: =ROUND(J102*(1+kopsavilkums!$O$8),2) -> 1744.16 | O102: =P102-L102 -> 0 | P102: =ROUND(L102*(1+kopsavilkums!$O$8),2) -> 0 | Q102: =(N102+P102)-(J102+L102) -> 167.16 | R102: =Q102*M102 -> 167.16 | S102: =R102*12 -> 2005.92 | T102: =ROUND(S102*kopsavilkums!$O$23,2) -> 473.2 | U102: =SUM(S102:T102) -> 2479.12
A103: Inspektors veselības aprūpes jomā | B103: 2422 07 | D103: 28.3 | E103: III | F103: 8 | G103: 967 | H103: 1388 | I103: 1796 | J103: 1427 | M103: 1 | N103: =ROUND(J103*(1+kopsavilkums!$O$8),2) -> 1578.26 | O103: =P103-L103 -> 0 | P103: =ROUND(L103*(1+kopsavilkums!$O$8),2) -> 0 | Q103: =(N103+P103)-(J103+L103) -> 151.26 | R103: =Q103*M103 -> 151.26 | S103: =R103*12 -> 1815.12 | T103: =ROUND(S103*kopsavilkums!$O$23,2) -> 428.19 | U103: =SUM(S103:T103) -> 2243.31
A104: Inspektors veselības aprūpes jomā | B104: 2422 07 | D104: 28.3 | E104: III | F104: 8 | G104: 967 | H104: 1388 | I104: 1796 | J104: 1427 | M104: 1 | N104: =ROUND(J104*(1+kopsavilkums!$O$8),2) -> 1578.26 | O104: =P104-L104 -> 0 | P104: =ROUND(L104*(1+kopsavilkums!$O$8),2) -> 0 | Q104: =(N104+P104)-(J104+L104) -> 151.26 | R104: =Q104*M104 -> 151.26 | S104: =R104*12 -> 1815.12 | T104: =ROUND(S104*kopsavilkums!$O$23,2) -> 428.19 | U104: =SUM(S104:T104) -> 2243.31
A105: Inspektors veselības aprūpes jomā | B105: 2422 07 | D105: 28.3 | E105: III | F105: 8 | G105: 967 | H105: 1388 | I105: 1796 | J105: 1427 | M105: 1 | N105: =ROUND(J105*(1+kopsavilkums!$O$8),2) -> 1578.26 | O105: =P105-L105 -> 0 | P105: =ROUND(L105*(1+kopsavilkums!$O$8),2) -> 0 | Q105: =(N105+P105)-(J105+L105) -> 151.26 | R105: =Q105*M105 -> 151.26 | S105: =R105*12 -> 1815.12 | T105: =ROUND(S105*kopsavilkums!$O$23,2) -> 428.19 | U105: =SUM(S105:T105) -> 2243.31
A106: Vecākais higiēnas ārsts | B106: 2263 04 | D106: 13 | E106: III | F106: 9 | G106: 1157 | H106: 1653 | I106: 2067 | J106: 1664 | M106: 1 | N106: =ROUND(J106*(1+kopsavilkums!$O$8),2) -> 1840.38 | O106: =P106-L106 -> 0 | P106: =ROUND(L106*(1+kopsavilkums!$O$8),2) -> 0 | Q106: =(N106+P106)-(J106+L106) -> 176.38 | R106: =Q106*M106 -> 176.38 | S106: =R106*12 -> 2116.56 | T106: =ROUND(S106*kopsavilkums!$O$23,2) -> 499.3 | U106: =SUM(S106:T106) -> 2615.86
A107: Vecākais inspektors sabiedrības veselības jomā | B107: 2422 06 | D107: 28.3 | E107: IV | F107: 9 | G107: 1157 | H107: 1653 | I107: 2067 | J107: 1500 | M107: 1 | N107: =ROUND(J107*(1+kopsavilkums!$O$8),2) -> 1659 | O107: =P107-L107 -> 0 | P107: =ROUND(L107*(1+kopsavilkums!$O$8),2) -> 0 | Q107: =(N107+P107)-(J107+L107) -> 159 | R107: =Q107*M107 -> 159 | S107: =R107*12 -> 1908 | T107: =ROUND(S107*kopsavilkums!$O$23,2) -> 450.1 | U107: =SUM(S107:T107) -> 2358.1
...

Sheet VM NMPD MK851
I1: 3.5. pielikums
A2: Neatliekamās medicīniskās palīdzības dienesta ārstniecības personu faktiskā darba samaksas pieaugums (MK noteikumi Nr.851)
A5: Informācija par ārstniecības personām
A6: Ārstniecības personas amata kvalifikācijas kategorija | B6: Profesiju klasifikātora kods (atbilstoši MK noteikumiem Nr.264) | C6: Ārstniecības personas profesijas vai specialitātes kodu (atbilstoši MK noteikumiem Nr.317) | D6: Slodzes (strādājošo skaits normālā darba laika ietvaros) | E6: Faktiskā mēnešalgas likme par 1 (vienu) slodzi | F6: Palielinājums par darba stāžu | G6: Piemaksas * | H6: Faktiskā darba samaksa (atalgojums par slodzi) mēnesī | I6: Sākotnējs darba samaksas pieaugums 2024.gadam, t.sk. 23.59%
K7: Pārbaude, atbilstība prof. klasifikatoram | L7: Ārstniecības personas profesijas vai specialitātes kodu (atbilstoši MK noteikumiem Nr.317) | M7: Reģistrācija Ārstniecības ietāžu reģistrā | N7: Piezīmes, pamatojums
A8: Neatliekamās medicīniskās palīdzības dienests
A9: 39.04.00 Neatliekamā medicīniskā palīdzība
A10: I. Sertificētu ārstniecības personu amati | I10: =I11+I49 -> 4089023.7
A11: 1.kategorija - Ārsts, zobārsts | I11: =SUM(I12:I48) -> 1166724.6
A12: BAC vadītājs (NM ārsts) | B12: 2212 28 | C12: P 39 | D12: 1 | E12: 2500 | F12: 74.925 | G12: 75 | H12: =E12+F12+G12 -> 2649.925 | I12: =ROUND((E12+F12+G12)*(kopsavilkums!$O$8)*D12*12*(1+kopsavilkums!$O$23),2) -> 4165.85 | K12: Neatliekamās medicīnas ĀRSTS | L12: P 39 | M12: Reģistrēta
A13: Vadības ārsts (operatīvais dežurants) | B13: 2212 11 | C13: P 00 | D13: 4 | E13: 1647 | F13: 49.41 | G13: 131.76 | H13: =E13+F13+G13 -> 1828.17 | I13: =ROUND((E13+F13+G13)*(kopsavilkums!$O$8)*D13*12*(1+kopsavilkums!$O$23),2) -> 11496.01 | K13: ĀRSTS | L13: P 00 | M13: Reģistrēta
A14: Ārsta speciālista brigādes vadītājs - NM ārsts, anesteziologs-reanimatologs | B14: 2211 01 | C14: P 39 / P 18 | D14: 28.5 | E14: 2250 | F14: 67.5 | G14: 1164.375 | H14: =E14+F14+G14 -> 3481.875 | I14: =ROUND((E14+F14+G14)*(kopsavilkums!$O$8)*D14*12*(1+kopsavilkums!$O$23),2) -> 156001.39 | K14: Neatliekamās medicīnas ĀRSTS/anesteziologs-reanimatologs | L14: P 39 / P 18 | M14: Reģistrēta | N14: Amata pienākumus var veikt tikai anastezioloģijā-reanimatoloģijā vai neatliekamajā medicīnā sertificēti ārsti, tāpēc norādīti abi kodi
A15: Intensīvās terapijas brigādes vadītājs - NM ārsts | B15: 2212 28 | C15: P 39 | D15: 42.75 | E15: 2000 | F15: 60 | G15: 1035 | H15: =E15+F15+G15 -> 3095 | I15: =ROUND((E15+F15+G15)*(kopsavilkums!$O$8)*D15*12*(1+kopsavilkums!$O$23),2) -> 208001.86 | K15: Neatliekamās medicīnas ĀRSTS | L15: P 39 | M15: Reģistrēta | N15: Amata pienākumus var veikt tikai anastezioloģijā-reanimatoloģijā un/vai neatliekamajā medicīnā sertificēti ārsti
A16: Intensīvās terapijas brigādes vadītājs - ārsts (anesteziologs-reanimatologs) | B16: 2212 28 | C16: P 18 | D16: 4.75 | E16: 2250 | F16: 67.5 | G16: 1179.6975 | H16: =E16+F16+G16 -> 3497.1975 | I16: =ROUND((E16+F16+G16)*(kopsavilkums!$O$8)*D16*12*(1+kopsavilkums!$O$23),2) -> 26114.65 | K16: ANESTEZIOLOGS, REANIMATOLOGS | L16: P 18 | M16: Reģistrēta | N16: Amata pienākumus var veikt tikai anastezioloģijā-reanimatoloģijā un/vai neatliekamajā medicīnā sertificēti ārsti
A17: Anesteziologs - reanimatologs | B17: 2212 05 | C17: P 18 | D17: 4.75 | E17: 2250 | F17: 67.5 | G17: 1164.375 | H17: =E17+F17+G17 -> 3481.875 | I17: =ROUND((E17+F17+G17)*(kopsavilkums!$O$8)*D17*12*(1+kopsavilkums!$O$23),2) -> 26000.23 | K17: ANESTEZIOLOGS, REANIMATOLOGS | L17: P 18 | M17: Reģistrēta
A18: Bērnu IT brigādes anesteziologs-reanimatologs | B18: 2212 05 | C18: P 18 | D18: 4.75 | E18: 2250 | F18: 67.5 | G18: 1164.375 | H18: =E18+F18+G18 -> 3481.875 | I18: =ROUND((E18+F18+G18)*(kopsavilkums!$O$8)*D18*12*(1+kopsavilkums!$O$23),2) -> 26000.23 | K18: ANESTEZIOLOGS, REANIMATOLOGS | L18: P 18 | M18: Reģistrēta
A19: Neonatologs | B19: 2212 76 | C19: A 151 | D19: 9.5 | E19: 2250 | F19: 67.5 | G19: 1164.375 | H19: =E19+F19+G19 -> 3481.875 | I19: =ROUND((E19+F19+G19)*(kopsavilkums!$O$8)*D19*12*(1+kopsavilkums!$O$23),2) -> 52000.46 | K19: NEONATOLOGS | L19: A 151 | M19: Reģistrēta
A20: Anesteziologs - reanimatologs | B20: 2212 05 | C20: P 18 | D20: 4.75 | E20: 2900 | F20: 87 | G20: 203 | H20: =E20+F20+G20 -> 3190 | I20: =ROUND((E20+F20+G20)*(kopsavilkums!$O$8)*D20*12*(1+kopsavilkums!$O$23),2) -> 23820.71 | K20: ANESTEZIOLOGS, REANIMATOLOGS | L20: P 18 | M20: Reģistrēta
A21: Apdegumu traumatologs | B21: 2212 58 | C21: PP 30 | D21: 4.75 | E21: 2900 | F21: 87 | G21: 203 | H21: =E21+F21+G21 -> 3190 | I21: =ROUND((E21+F21+G21)*(kopsavilkums!$O$8)*D21*12*(1+kopsavilkums!$O$23),2) -> 23820.71 | K21: KOMBUSTIOLOGS | L21: PP 30 | M21: Reģistrēta
A22: Asinsvadu ķirurgs | B22: 2212 63 | C22: P 07 | D22: 4.75 | E22: 2900 | F22: 87 | G22: 203 | H22: =E22+F22+G22 -> 3190 | I22: =ROUND((E22+F22+G22)*(kopsavilkums!$O$8)*D22*12*(1+kopsavilkums!$O$23),2) -> 23820.71 | K22: Asinsvadu ĶIRURGS | L22: P 07 | M22: Reģistrēta
A23: Bērnu ķirurgs | B23: 2212 64 | C23: P 12 | D23: 4.75 | E23: 2900 | F23: 87 | G23: 203 | H23: =E23+F23+G23 -> 3190 | I23: =ROUND((E23+F23+G23)*(kopsavilkums!$O$8)*D23*12*(1+kopsavilkums!$O$23),2) -> 23820.71 | K23: Bērnu ĶIRURGS | L23: P 12 | M23: Reģistrēta
A24: Bērnu neiroķirurgs | B24: 2212 73 | C24: P 04 | D24: 4.75 | E24: 2900 | F24: 87 | G24: 203 | H24: =E24+F24+G24 -> 3190 | I24: =ROUND((E24+F24+G24)*(kopsavilkums!$O$8)*D24*12*(1+kopsavilkums!$O$23),2) -> 23820.71 | K24: NEIROĶIRURGS | L24: P 04 | M24: Reģistrēta | N24: Specialitātes nosaukumu nevar izmainīt
A25: Bronhologs | B25: 2211 01 | C25: M52 | D25: 4.75 | E25: 2900 | F25: 87 | G25: 203 | H25: =E25+F25+G25 -> 3190 | I25: =ROUND((E25+F25+G25)*(kopsavilkums!$O$8)*D25*12*(1+kopsavilkums!$O$23),2) -> 23820.71 | K25: ĀRSTS | L25: M52 | M25: Reģistrēta | N25: Amata pienākumu veikšanai nepieciešams sertifikāts-bronkoshopijā (M52).
A26: Gastroenterologs - endoskopists | B26: 2212 44 | C26: P 60 | D26: 4.75 | E26: 2900 | F26: 87 | G26: 203 | H26: =E26+F26+G26 -> 3190 | I26: =ROUND((E26+F26+G26)*(kopsavilkums!$O$8)*D26*12*(1+kopsavilkums!$O$23),2) -> 23820.71 | K26: GASTROENTEROLOGS | L26: P 60 | M26: Reģistrēta
A27: Ginekologs un dzemdību speciālists | B27: 2212 47 | C27: P 14 | D27: 4.75 | E27: 2900 | F27: 87 | G27: 203 | H27: =E27+F27+G27 -> 3190 | I27: =ROUND((E27+F27+G27)*(kopsavilkums!$O$8)*D27*12*(1+kopsavilkums!$O$23),2) -> 23820.71 | K27: GINEKOLOGS, dzemdību speciālists | L27: P 14 | M27: Reģistrēta
A28: Infektologs | B28: 2212 54 | C28: P 24 | D28: 4.75 | E28: 2450 | F28: 73.5 | G28: 171.5 | H28: =E28+F28+G28 -> 2695 | I28: =ROUND((E28+F28+G28)*(kopsavilkums!$O$8)*D28*12*(1+kopsavilkums!$O$23),2) -> 20124.39 | K28: INFEKTOLOGS | L28: P 24 | M28: Reģistrēta
A29: Kardiologs | B29: 2212 56 | C29: P 52 | D29: 4.75 | E29: 2450 | F29: 73.5 | G29: 171.5 | H29: =E29+F29+G29 -> 2695 | I29: =ROUND((E29+F29+G29)*(kopsavilkums!$O$8)*D29*12*(1+kopsavilkums!$O$23),2) -> 20124.39 | K29: KARDIOLOGS | L29: P 52 | M29: Reģistrēta
A30: Ķirurgs | B30: 2212 61 | C30: P 03 | D30: 4.75 | E30: 2900 | F30: 87 | G30: 203 | H30: =E30+F30+G30 -> 3190 | I30: =ROUND((E30+F30+G30)*(kopsavilkums!$O$8)*D30*12*(1+kopsavilkums!$O$23),2) -> 23820.71 | K30: ĶIRURGS | L30: P 03 | M30: Reģistrēta
A31: Neiroķirurgs | B31: 2212 73 | C31: P 04 | D31: 9.5 | E31: 2900 | F31: 87 | G31: 203 | H31: =E31+F31+G31 -> 3190 | I31: =ROUND((E31+F31+G31)*(kopsavilkums!$O$8)*D31*12*(1+kopsavilkums!$O$23),2) -> 47641.42 | K31: NEIROĶIRURGS | L31: P 04 | M31: Reģistrēta
A32: Neirologs | B32: 2212 74 | C32: P 20 | D32: 4.75 | E32: 2450 | F32: 73.5 | G32: 171.5 | H32: =E32+F32+G32 -> 2695 | I32: =ROUND((E32+F32+G32)*(kopsavilkums!$O$8)*D32*12*(1+kopsavilkums!$O$23),2) -> 20124.39 | K32: NEIROLOGS | L32: P 20 | M32: Reģistrēta
A33: Otolaringologs | B33: 2212 82 | C33: P 23 | D33: 4.75 | E33: 2900 | F33: 87 | G33: 203 | H33: =E33+F33+G33 -> 3190 | I33: =ROUND((E33+F33+G33)*(kopsavilkums!$O$8)*D33*12*(1+kopsavilkums!$O$23),2) -> 23820.71 | K33: OTOLARINGOLOGS | L33: P 23 | M33: Reģistrēta
A34: Sejas, mutes, žokļu ķirurgs | B34: 2261 07 | C34: P 26 | D34: 4.75 | E34: 2900 | F34: 87 | G34: 203 | H34: =E34+F34+G34 -> 3190 | I34: =ROUND((E34+F34+G34)*(kopsavilkums!$O$8)*D34*12*(1+kopsavilkums!$O$23),2) -> 23820.71 | K34: Mutes, sejas un žokļu ĶIRURGS | L34: P 26 | M34: Reģistrēta
A35: Torakālais ķirurgs | B35: 2212 69 | C35: P 05 | D35: 4.75 | E35: 2900 | F35: 87 | G35: 203 | H35: =E35+F35+G35 -> 3190 | I35: =ROUND((E35+F35+G35)*(kopsavilkums!$O$8)*D35*12*(1+kopsavilkums!$O$23),2) -> 23820.71 | K35: Torakālais ĶIRURGS | L35: P 05 | M35: Reģistrēta
A36: Traumatologs - ortopēds | B36: 2212 101 | C36: P 13 | D36: 4.75 | E36: 2900 | F36: 87 | G36: 203 | H36: =E36+F36+G36 -> 3190 | I36: =ROUND((E36+F36+G36)*(kopsavilkums!$O$8)*D36*12*(1+kopsavilkums!$O$23),2) -> 23820.71 | K36: TRAUMATOLOGS, ORTOPĒDS | L36: P 13 | M36: Reģistrēta
A37: Mugurkaulāja ĶIRURGS | B37: 2212 109 | C37: A 131 | D37: 4.75 | E37: 2900 | F37: 87 | G37: 203 | H37: =E37+F37+G37 -> 3190 | I37: =ROUND((E37+F37+G37)*(kopsavilkums!$O$8)*D37*12*(1+kopsavilkums!$O$23),2) -> 23820.71 | K37: Mugurkaulāja ĶIRURGS | L37: A 131 | M37: Reģistrēta
... A40: Ārsts konsultants | B40: 2212 28 | C40: P 01 / P 02 / P 18 / P 39 / P 52 | D40: 9 | E40: 2350 | F40: 70.5 | G40: 793.125 | H40: =E40+F40+G40 -> 3213.625 | I40: =ROUND((E40+F40+G40)*(kopsavilkums!$O$8)*D40*12*(1+kopsavilkums!$O$23),2) -> 45468.24 | K40: Neatliekamās medicīnas ĀRSTS | L40: P 01 / P 02 / P 18 / P 39 / P 52 | M40: Reģistrēta
A41: Ģimenes ārstu konsultatīvā tāruņa konsultants (ārsts) / Ģimenes ārstu konsultatīvā tāruņa konsultants (ārsts, sertificēts) | B41: 2211 03 | C41: P 02 | D41: 1 | E41: 2255 | F41: 67.65 | G41: 761.0625 | H41: =E41+F41+G41 -> 3083.7125 | I41: =ROUND((E41+F41+G41)*(kopsavilkums!$O$8)*D41*12*(1+kopsavilkums!$O$23),2) -> 4847.8 | L41: P 02 | M41: Reģistrēta
A42: Ģimenes ārstu konsultatīvā tāruņa konsultants (ārsts) | B42: 2211 03 | C42: P 02 | D42: 8 | E42: 2050 | F42: 61.5 | G42: 691.875 | H42: =E42+F42+G42 -> 2803.375 | I42: =ROUND((E42+F42+G42)*(kopsavilkums!$O$8)*D42*12*(1+kopsavilkums!$O$23),2) -> 35256.7 | K42: Ģimenes/ vispārējās prakses ĀRSTS | L42: P 02 | M42: Reģistrēta
A43: Kardiologs - koordinators | B43: 2212 56 | C43: P 52 | D43: 1 | E43: 2450 | F43: 73.5 | G43: 73.5 | H43: =E43+F43+G43 -> 2597 | I43: =ROUND((E43+F43+G43)*(kopsavilkums!$O$8)*D43*12*(1+kopsavilkums!$O$23),2) -> 4082.65 | K43: KARDIOLOGS | L43: P 52 | M43: Reģistrēta
A44: SMC Ārsts -Galvenais speciālists medicīniskās evakuācijas jautājumos | B44: 2212 05 | C44: P 01 - P 64 | D44: 0.75 | E44: 1640 | F44: 49.2 | G44: 49.2 | H44: =E44+F44+G44 -> 1738.4 | I44: =ROUND((E44+F44+G44)*(kopsavilkums!$O$8)*D44*12*(1+kopsavilkums!$O$23),2) -> 2049.66 | K44: ANESTEZIOLOGS, REANIMATOLOGS | L44: P 01 - P 64 | M44: Reģistrēta | N44: Specialitātes nosaukumu nevar izmainīt, amata pienākumus var veikt anesteziologs-reanimatologs
A45: Vecākais ārsts-eksperts | B45: 2212 11 | C45: P 13 | D45: 2 | E45: 1880 | F45: 56.4 | G45: 56.4 | H45: =E45+F45+G45 -> 1992.8 | I45: =ROUND((E45+F45+G45)*(kopsavilkums!$O$8)*D45*12*(1+kopsavilkums!$O$23),2) -> 6265.62 | K45: ĀRSTS EKSPERTS | L45: P 13 | M45: Reģistrēta | N45: Amata prasība ir ārsta eksperta sertifikāts - P 13
A46: Ārsts-eksperts | B46: 2211 11 | C46: P 00 | D46: 1 | E46: 1850 | F46: 55.5 | G46: 55.5 | H46: =E46+F46+G46 -> 1961 | I46: =ROUND((E46+F46+G46)*(kopsavilkums!$O$8)*D46*12*(1+kopsavilkums!$O$23),2) -> 3082.82 | K46: ĀRSTS EKSPERTS | L46: P 00 | M46: Reģistrēta | N46: Amata prasībaun pienākumu veikšanai nepieciešams ārsta grāds un uzturēts reģistrs - P 00
A47: Ārsts-eksperts | B47: 2212 11 | C47: P 00 | D47: 6 | E47: 1820 | F47: 54.6 | G47: 54.6 | H47: =E47+F47+G47 -> 1929.2 | I47: =ROUND((E47+F47+G47)*(kopsavilkums!$O$8)*D47*12*(1+kopsavilkums!$O$23),2) -> 18196.96 | K47: ĀRSTS EKSPERTS | L47: P 00 | M47: Reģistrēta | N47: Amata prasībaun pienākumu veikšanai nepieciešams ārsta grāds un uzturēts reģistrs - P 00
A48: Neatliekamās medicīnas praktisko treniņu vadītājs (NM ārsts) | B48: 2212 28 | C48: P39 | D48: 3 | E48: 1900 | F48: 57 | H48: =E48+F48+G48 -> 1957 | I48: =ROUND((E48+F48+G48)*(kopsavilkums!$O$8)*D48*12*(1+kopsavilkums!$O$23),2) -> 9229.59 | L48: P39
A49: 3.kategorija - Māsa (vispārējās aprūpes māsa), ārsta palīgs (feldšeris), vecmāte, biomedicīnas laborants, radiologa asistents, radiogrāfers | I49: =SUM(I50:I85) -> 2922299.1
A50: BAC vadītājs (NM ārsta palīgs) | B50: 3258 01 | C50: n74 | D50: 13 | E50: 2350 | F50: 70.5 | G50: 70.5 | H50: =E50+F50+G50 -> 2491 | I50: =ROUND((E50+F50+G50)*(kopsavilkums!$O$12)*D50*12*(1+kopsavilkums!$O$23),2) -> 31217.28 | K50: Neatliekamās medicīnas ĀRSTS | L50: n74 | M50: Reģistrēta | N50: Amata pienākumu veikšanai nepieciešams NM ārsta palīga sertifikāts
A51: BAC galvenais ārsta palīgs | B51: 3258 01 | C51: n74 | D51: 8 | E51: 1960 | F51: 58.8 | G51: 58.8 | H51: =E51+F51+G51 -> 2077.6 | I51: =ROUND((E51+F51+G51)*(kopsavilkums!$O$12)*D51*12*(1+kopsavilkums!$O$23),2) -> 16022.48 | K51: Neatliekamās medicīnas ĀRSTA PALĪGS/ FELDŠERIS | L51: n74 | M51: Reģistrēta
A52: BAC galvenais ārsta palīgs | B52: 3258 01 | C52: n74 | D52: 6 | E52: 2000 | F52: 60 | G52: 60 | H52: =E52+F52+G52 -> 2120 | I52: =ROUND((E52+F52+G52)*(kopsavilkums!$O$12)*D52*12*(1+kopsavilkums!$O$23),2) -> 12262.11 | K52: Neatliekamās medicīnas ĀRSTA PALĪGS/ FELDŠERIS | L52: n74 | M52: Reģistrēta
A53: BAC vecākais ārsta palīgs | B53: 3258 01 | C53: n74 | D53: 6 | E53: 1830 | F53: 54.9 | G53: 54.9 | H53: =E53+F53+G53 -> 1939.8 | I53: =ROUND((E53+F53+G53)*(kopsavilkums!$O$12)*D53*12*(1+kopsavilkums!$O$23),2) -> 11219.83 | K53: Neatliekamās medicīnas ĀRSTA PALĪGS/ FELDŠERIS | L53: n74 | M53: Reģistrēta
A54: RC galvenais ārsta palīgs | B54: 3258 01 | C54: n74 | D54: 6 | E54: 2050 | F54: 61.5 | G54: 61.5 | H54: =E54+F54+G54 -> 2173 | I54: =ROUND((E54+F54+G54)*(kopsavilkums!$O$12)*D54*12*(1+kopsavilkums!$O$23),2) -> 12568.66 | K54: Neatliekamās medicīnas ĀRSTA PALĪGS/ FELDŠERIS | L54: n74 | M54: Reģistrēta
A55: Brigādes (2ĀPB) vadītājs - NM ārsta palīgs | B55: 3258 01 | C55: n74 | D55: 33.6 | E55: 1780 | F55: 53.4 | G55: 1116.95 | H55: =E55+F55+G55 -> 2950.35 | I55: =ROUND((E55+F55+G55)*(kopsavilkums!$O$12)*D55*12*(1+kopsavilkums!$O$23),2) -> 95563.21 | K55: Neatliekamās medicīnas ĀRSTA PALĪGS/ FELDŠERIS | L55: n74 | M55: Reģistrēta
A56: Brigādes (2SP) vadītājs - NM ārsta palīgs | B56: 3258 01 | C56: n74 | D56: 43.1 | E56: 1515 | F56: 45.45 | G56: 1238.5125 | H56: =E56+F56+G56 -> 2798.9625 | I56: =ROUND((E56+F56+G56)*(kopsavilkums!$O$12)*D56*12*(1+kopsavilkums!$O$23),2) -> 116292.65 | K56: Neatliekamās medicīnas ĀRSTA PALĪGS/ FELDŠERIS | L56: n74 | M56: Reģistrēta
A57: Brigādes vadītājs - NM ārsta palīgs | B57: 3258 01 | C57: n74 | D57: 653.15 | E57: 1515 | F57: 45.45 | G57: 784.0125 | H57: =E57+F57+G57 -> 2344.4625 | I57: =ROUND((E57+F57+G57)*(kopsavilkums!$O$12)*D57*12*(1+kopsavilkums!$O$23),2) -> 1476162.5 | K57: Neatliekamās medicīnas ĀRSTA PALĪGS/ FELDŠERIS | L57: n74 | M57: Reģistrēta
A58: Brigādes (2ĀPB) otrā ārstniecības persona - NM ārsta palīgs | B58: 3258 01 | C58: n74 | D58: 3.2 | E58: 1330 | F58: 39.9 | G58: 794.675 | H58: =E58+F58+G58 -> 2164.575 | I58: =ROUND((E58+F58+G58)*(kopsavilkums!$O$12)*D58*12*(1+kopsavilkums!$O$23),2) -> 6677.29 | K58: Neatliekamās medicīnas ĀRSTA PALĪGS/ FELDŠERIS | L58: n74 | M58: Reģistrēta
A59: Brigādes otrā ārstniecības persona - NM ārsta palīgs | B59: 3258 01 | C59: n74 | D59: 210.5 | E59: 1287.75 | F59: 38.6325 | G59: 666.41063 | H59: =E59+F59+G59 -> 1992.7931 | I59: =ROUND((E59+F59+G59)*(kopsavilkums!$O$12)*D59*12*(1+kopsavilkums!$O$23),2) -> 404382.41 | K59: Neatliekamās medicīnas ĀRSTA PALĪGS/ FELDŠERIS | L59: n74 | M59: Reģistrēta
A60: Brigādes vadītājs - vecākais NM ārsta palīgs | B60: 3258 01 | C60: n74 | D60: 36.5 | E60: 1580 | F60: 47.4 | G60: 817.65 | H60: =E60+F60+G60 -> 2445.05 | I60: =ROUND((E60+F60+G60)*(kopsavilkums!$O$12)*D60*12*(1+kopsavilkums!$O$23),2) -> 86031.71 | K60: Neatliekamās medicīnas ĀRSTA PALĪGS/ FELDŠERIS | L60: n74 | M60: Reģistrēta
A61: Brigādes vadītājs vecākais - NM ārsta palīgs (atbildībā 2 brigādes) | B61: 3258 01 | C61: n74 | D61: 12 | E61: 1675 | F61: 50.25 | G61: 1084.5625 | H61: =E61+F61+G61 -> 2809.8125 | I61: =ROUND((E61+F61+G61)*(kopsavilkums!$O$12)*D61*12*(1+kopsavilkums!$O$23),2) -> 32503.98 | K61: Neatliekamās medicīnas ĀRSTA PALĪGS/ FELDŠERIS | L61: n74 | M61: Reģistrēta
A62: Brigādes vadītājs vecākais - NM ārsta palīgs (atbildībā 3 brigādes) | B62: 3258 01 | C62: n74 | D62: 7 | E62: 1675 | F62: 50.25 | G62: 1017.5625 | H62: =E62+F62+G62 -> 2742.8125 | I62: =ROUND((E62+F62+G62)*(kopsavilkums!$O$12)*D62*12*(1+kopsavilkums!$O$23),2) -> 18508.54 | K62: Neatliekamās medicīnas ĀRSTA PALĪGS/ FELDŠERIS | L62: n74 | M62: Reģistrēta
... A79: Ģimenes ārstu konsultatīvā tāruņa konsultants (ārsta palīgs) | B79: 3258 01 | C79: n74 | D79: 2 | E79: 1450 | F79: 43.5 | G79: 489.375 | H79: =E79+F79+G79 -> 1982.875 | I79: =ROUND((E79+F79+G79)*(kopsavilkums!$O$12)*D79*12*(1+kopsavilkums!$O$23),2) -> 3822.99 | K79: Neatliekamās medicīnas ĀRSTA PALĪGS/ FELDŠERIS | L79: n74 | M79: Reģistrēta
A80: NMP punkta vecākais ārsta palīgs | B80: 3258 01 | C80: n74 | D80: 7.75 | E80: 1730 | F80: 51.9 | H80: =E80+F80+G80 -> 1781.9 | I80: =ROUND((E80+F80+G80)*(kopsavilkums!$O$12)*D80*12*(1+kopsavilkums!$O$23),2) -> 13312.6 | K80: Neatliekamās medicīnas ĀRSTA PALĪGS/ FELDŠERIS | L80: n74 | M80: Reģistrēta
A81: Infekciju uzraudzības speciālists (māsa) | B81: 2263 07 | C81: n123 | D81: 1 | E81: 1800 | F81: 54 | H81: =E81+F81+G81 -> 1854 | I81: =ROUND((E81+F81+G81)*(kopsavilkums!$O$12)*D81*12*(1+kopsavilkums!$O$23),2) -> 1787.26 | K81: Sabiedrības veselības SPECIĀLISTS | L81: n123 | M81: Reģistrēta
A82: SMC vecākais ārsta palīgs medicīniskā nodrošinājuma jautājumos | B82: 3258 01 | C82: n74 | D82: 1 | E82: 1700 | F82: 51 | G82: 51 | H82: =E82+F82+G82 -> 1802 | I82: =ROUND((E82+F82+G82)*(kopsavilkums!$O$12)*D82*12*(1+kopsavilkums!$O$23),2) -> 1737.13 | K82: Neatliekamās medicīnas ĀRSTA PALĪGS/ FELDŠERIS | L82: n74 | M82: Reģistrēta
A83: SMC ārsta palīgs medicīniskā nodrošinājuma jautājumos | B83: 3258 01 | C83: n74 | D83: 1 | E83: 1330 | F83: 39.9 | G83: 39.9 | H83: =E83+F83+G83 -> 1409.8 | I83: =ROUND((E83+F83+G83)*(kopsavilkums!$O$12)*D83*12*(1+kopsavilkums!$O$23),2) -> 1359.05 | K83: Neatliekamās medicīnas ĀRSTA PALĪGS/ FELDŠERIS | L83: n74 | M83: Reģistrēta
A84: Galvenais speciālists ārstniecības kvalitātes jautājumos (ārsta palīgs) | B84: 2421 04 | C84: n74 | D84: 4 | E84: 1450 | F84: 43.5 | G84: 43.5 | H84: =E84+F84+G84 -> 1537 | I84: =ROUND((E84+F84+G84)*(kopsavilkums!$O$12)*D84*12*(1+kopsavilkums!$O$23),2) -> 5926.68 | K84: Medicīnas KONSULTANTS | L84: n74 | M84: Reģistrēta | N84: Amata prasība - neatliekamās medicīnas ārsta palīga amats un reģistra uzturēšana, medicīniskās kvalitātes konsultants
A85: Neatliekamās medicīnas praktisko treniņu vadītājs (NM ārsta palīgs) | B85: 3258 01 | C85: n74 | D85: 3 | E85: 1530 | F85: 45.9 | H85: =E85+F85+G85 -> 1575.9 | I85: =ROUND((E85+F85+G85)*(kopsavilkums!$O$12)*D85*12*(1+kopsavilkums!$O$23),2) -> 4557.51 | K85: Neatliekamās medicīnas ĀRSTA PALĪGS/ FELDŠERIS" | L85: n74
A86: II. Reģistrētu ārstniecības personu amati | I86: =I87+I92+I94 -> 1081349.8
A87: 2.kategorija - Ārsts, zobārsts, rezidents | I87: =I88+I91+I89+I90 -> 283695.46
A88: Jaunākais dežūrārsts | B88: 2211 01 | C88: P 00 | D88: 2 | E88: 1850 | F88: 55.5 | G88: 624.375 | H88: =E88+F88+G88 -> 2529.875 | I88: =ROUND((E88+F88+G88)*(kopsavilkums!$O$8)*D88*12*(1+kopsavilkums!$O$23),2) -> 7954.25 | K88: Neatliekamās medicīnas ĀRSTA PALĪGS/ FELDŠERI | L88: P 00 | M88: Reģistrēta
A89: Ģimenes ārstu konsultatīvā tāruņa konsultants (ārsts rezidents) | B89: 2211 04 | C89: P 00 | D89: 2 | E89: 2350 | F89: 70.5 | G89: 816.625 | H89: =E89+F89+G89 -> 3237.125 | I89: =ROUND((E89+F89+G89)*(kopsavilkums!$O$8)*D89*12*(1+kopsavilkums!$O$23),2) -> 10177.94 | K89: REZIDENTS (ģimenes/ vispārējās prakses ārsta specialitātē) | L89: P 00 | M89: Reģistrēta
A90: Brigādes vadītājs -ārsts, sagatavots NMP sniegšanai | B90: 2211 02 | C90: P 00 | D90: 44 | E90: 1515 | F90: 45.45 | G90: 935.5125 | H90: =E90+F90+G90 -> 2495.9625 | I90: =ROUND((E90+F90+G90)*(kopsavilkums!$O$8)*D90*12*(1+kopsavilkums!$O$23),2) -> 172647.85 | K90: ĀRSTS STAŽIERIS | L90: P 00 | M90: Reģistrēta
A91: Brigādes vadītājs - ārsts, sagatavots NMP sniegšanai (anestezioloģijas, reanimatoloģijas vai neatliekamās medicīnas ārsta specialitātes 4./5.gada rezidents, ārsts kardiologs, ārsts internists vai ģimenes ārsts) | B91: 2211 01 | C91: P 00 | D91: 20.5 | E91: 1750 | F91: 52.5 | G91: 1080.625 | H91: =E91+F91+G91 -> 2883.125 | I91: =ROUND((E91+F91+G91)*(kopsavilkums!$O$8)*D91*12*(1+kopsavilkums!$O$23),2) -> 92915.42 | K91: ĀRSTS | L91: P 00 | M91: Reģistrēta
A92: 3.kategorija - Fizioterapeits, audiologopēds, uztura speciālists, ergoterapeits, tehniskais ortopēds, mākslas terapeits, optometrists, māsa (vispārējās aprūpes māsa) | I92: =I93 -> 86848.76
A93: Brigādes otrā ārstniecības persona - medicīnas māsa | B93: 2221 46 | C93: n120 | D93: 49 | E93: 1116 | F93: 33.48 | G93: 689.13 | H93: =E93+F93+G93 -> 1838.61 | I93: =ROUND((E93+F93+G93)*(kopsavilkums!$O$12)*D93*12*(1+kopsavilkums!$O$23),2) -> 86848.76 | K93: Neaktuāls kods | L93: n120 | M93: Reģistrēta
A94: 4.kategorija - Ārsta palīgs (feldšeris), vecmāte, biomedicīnas laborants, radiologa asistents, radiogrāfers | I94: =SUM(I95:I100) -> 710805.58
A95: Izsaukumu pieņemšanas dispečers (ārsta palīgs) | B95: 3258 01 | C95: n74 | D95: 8.5 | E95: 1450 | F95: 43.5 | G95: 489.375 | H95: =E95+F95+G95 -> 1982.875 | I95: =ROUND((E95+F95+G95)*(kopsavilkums!$O$12)*D95*12*(1+kopsavilkums!$O$23),2) -> 16247.71 | K95: Neatliekamās medicīnas ĀRSTA PALĪGS/ FELDŠERIS" | L95: n74 | M95: Reģistrēta
A96: Speciālists NMP brigāžu atbalsta jautājumos (ārsta palīgs, medicīnas māsa) | B96: 3258 01 | C96: n74 | D96: 25 | E96: 1120 | F96: 33.6 | G96: 378 | H96: =E96+F96+G96 -> 1531.6 | I96: =ROUND((E96+F96+G96)*(kopsavilkums!$O$12)*D96*12*(1+kopsavilkums!$O$23),2) -> 36911.64 | K96: Neatliekamās medicīnas ĀRSTA PALĪGS/ FELDŠERIS" | L96: n74 | M96: Reģistrēta
A97: Speciālists NMP brigāžu atbalsta jautājumos (ārsta palīgs, medicīnas māsa) | B97: 3258 01 | C97: n74 | D97: 7 | E97: 1230 | F97: 36.9 | G97: 415.125 | H97: =E97+F97+G97 -> 1682.025 | I97: =ROUND((E97+F97+G97)*(kopsavilkums!$O$12)*D97*12*(1+kopsavilkums!$O$23),2) -> 11350.33 | K97: Neatliekamās medicīnas ĀRSTA PALĪGS/ FELDŠERIS" | L97: n74 | M97: Reģistrēta
A98: Ārsta - eksperta palīgs | B98: 3258 01 | C98: n74 | D98: 1 | E98: 1450 | F98: 43.5 | H98: =E98+F98+G98 -> 1493.5 | I98: =ROUND((E98+F98+G98)*(kopsavilkums!$O$12)*D98*12*(1+kopsavilkums!$O$23),2) -> 1439.74 | K98: Neatliekamās medicīnas ĀRSTA PALĪGS/ FELDŠERIS" | L98: n74 | M98: Reģistrēta
A99: Brigādes otrā ārstniecības persona - ārsta palīgs | B99: 3258 01 | C99: n27 | D99: 352.35 | E99: 1116 | F99: 33.48 | G99: 577.53 | H99: =E99+F99+G99 -> 1727.01 | I99: =ROUND((E99+F99+G99)*(kopsavilkums!$O$12)*D99*12*(1+kopsavilkums!$O$23),2) -> 586606.76 | K99: Neatliekamās medicīnas ĀRSTA PALĪGS/ FELDŠERIS" | L99: n27 | M99: Reģistrēta | N99: Visi NM sertificētie un nesertificētie ārsta palīgi nodarbināti neatliekamās medicīniskās palīdzības sniegšanā, tāpēc saskaņā ar profesiju klasifikatoru tiem ir vienādi profesiju kodi no 325 grupas, kur ar kodu 3258 ir atsevišķa grupa neatliekamās mesdicīniskās palīdzības darbinieki.
A100: Brigādes (2ĀPB) otrā ārstniecības persona - ārsta palīgs | B100: 3258 01 | C100: n27 | D100: 28.8 | E100: 1330 | F100: 39.9 | G100: 728.175 | H100: =E100+F100+G100 -> 2098.075 | I100: =ROUND((E100+F100+G100)*(kopsavilkums!$O$12)*D100*12*(1+kopsavilkums!$O$23),2) -> 58249.4 | K100: Neatliekamās medicīnas ĀRSTA PALĪGS/ FELDŠERIS" | L100: n27 | M100: Reģistrēta | N100: Visi NMPD neatliekamajā medicīnā sertificētie un nesertificētie ārsta palīgi nodarbināti neatliekamās medicīniskās palīdzības sniegšanā, tāpēc saskaņā ar profesiju klasifikatoru tiem ir vienādi profesiju kodi no 325 grupas, kur ar kodu 3258 ir noteikta atsevišķa grupa -neatliekamās mesdicīniskās palīdzības darbinieki. Konkrēti šajā amatā nodarbināti kā sertificēti ,tā nesertidficēti ārsta palīgi
A101: III. Transportlīdzekļa vadītājs | I101: =I102 -> 1286781.1
A102: 6.kategorija - Transportlīdzekļa vadītājs | I102: =SUM(I103:I107) -> 1286781.1
A103: OMT vadītājs | B103: 8322 03 | D103: 724.3 | E103: 960 | F103: 28.8 | G103: 496.8 | H103: =E103+F103+G103 -> 1485.6 | I103: =ROUND((E103+F103+G103)*(kopsavilkums!$O$15)*D103*12*(1+kopsavilkums!$O$23),2) -> 1101118.5 | K103: Sanitārautomobiļa VADĪTĀJS | M103: Reģistrēta
A104: Vecākais OMT vadītājs | B104: 8322 03 | D104: 30 | E104: 1024 | F104: 30.72 | G104: 529.92 | H104: =E104+F104+G104 -> 1584.64 | I104: =ROUND((E104+F104+G104)*(kopsavilkums!$O$15)*D104*12*(1+kopsavilkums!$O$23),2) -> 48648.06 | K104: Sanitārautomobiļa VADĪTĀJS | M104: Reģistrēta
A105: Vecākais OMT vadītājs | B105: 8322 03 | D105: 14 | E105: 1102 | F105: 33.06 | G105: 658.445 | H105: =E105+F105+G105 -> 1793.505 | I105: =ROUND((E105+F105+G105)*(kopsavilkums!$O$15)*D105*12*(1+kopsavilkums!$O$23),2) -> 25694.74 | K105: Sanitārautomobiļa VADĪTĀJS | M105: Reģistrēta
A106: Vecākais OMT vadītājs | B106: 8322 03 | D106: 31 | E106: 1102 | F106: 33.06 | G106: 768.645 | H106: =E106+F106+G106 -> 1903.705 | I106: =ROUND((E106+F106+G106)*(kopsavilkums!$O$15)*D106*12*(1+kopsavilkums!$O$23),2) -> 60391.39 | K106: Sanitārautomobiļa VADĪTĀJS | M106: Reģistrēta
A107: SMC OMT vadītājs | B107: 8322 03 | D107: 33.5 | E107: 960 | F107: 28.8 | G107: 496.8 | H107: =E107+F107+G107 -> 1485.6 | I107: =ROUND((E107+F107+G107)*(kopsavilkums!$O$15)*D107*12*(1+kopsavilkums!$O$23),2) -> 50928.44 | K107: Sanitārautomobiļa VADĪTĀJS | M107: Reģistrēta
A108: IV. Medicīnas asistenta amats | I108: =I109 -> 151039.4
A109: 6.kategorija - Medicīnas asistents | I109: =SUM(I110:I110) -> 151039.4
A110: Medicīnas asistents | B110: 5321 05 | D110: 117.75 | E110: 810 | F110: 24.3 | G110: 419.175 | H110: =E110+F110+G110 -> 1253.475 | I110: =ROUND((E110+F110+G110)*(kopsavilkums!$O$15)*D110*12*(1+kopsavilkums!$O$23),2) -> 151039.4
A111: Kopā | D111: =SUM(D12:D48,D50:D85,D88:D91,D93:D93,D95:D100,D103:D110) -> 3046.25 | E111: X | F111: X | G111: X | H111: X | I111: =I101+I86+I10+I108 -> 6608194
I112: =I111+'VM padotibas iest MK361'!U17 -> 6641521.8

Sheet VM VADC MK851
I1: 3.6. pielikums
A2: Valsts asinsdonoru centra ārstniecības personu faktiskā darba samaksas pieaugums (MK noteikumi Nr.851)
I4: EUR
A5: Informācija par ārstniecības personām
A6: Ārstniecības personas amata kvalifikācijas kategorija | B6: Profesiju klasifikātora kods (atbilstoši MK noteikumiem Nr.264) | C6: Ārstniecības personas profesijas vai specialitātes kodu (atbilstoši MK noteikumiem Nr.317) | D6: Slodzes (strādājošo skaits normālā darba laika ietvaros) | E6: Faktiskā mēnešalgas likme par 1 (vienu) slodzi | F6: Palielinājums par darba stāžu | G6: Piemaksas | H6: Faktiskā darba samaksa (atalgojums par slodzi) mēnesī | I6: Darba samaksas pieaugums 2024.gadam, t.sk. 23.59%
K7: Pārbaude, atbilstība prof. klasifikatoram | L7: Ārstniecības personas profesijas vai specialitātes kodu (atbilstoši MK noteikumiem Nr.317) | M7: Reģistrācija Ārstniecības ietāžu reģistrā | N7: Piezīmes, pamatojums
A8: Valsts asinsdonoru centrs
A9: 39.03.00 Specializētās veselības aprūpes nodrošināšana, Asins un asins komponentu nodrošināšana
A10: I. Sertificētu ārstniecības personu amati | I10: =I11+I27 -> 101595.26
A11: 1.kategorija - Ārsts, zobārsts | I11: =SUM(I12:I26) -> 48410.69
A12: Transfuzioloģiskā departamenta direktors (ārsts) | B12: 134203 | C12: PP24 | D12: 1 | E12: 2526 | F12: 75.78 | G12: 105.25 | H12: =E12+F12+G12 -> 2707.03 | I12: =ROUND((E12+F12+G12)*(kopsavilkums!$O$8)*D12*12*(1+kopsavilkums!$O$23),2) -> 4255.63 | L12: PP24 | M12: 10015701
A13: ASD Nodaļas vadītājs (virsārsts) | B13: 134203 | C13: PP24 | D13: 1 | E13: 2205 | F13: 66.15 | G13: 91.875 | H13: =E13+F13+G13 -> 2363.025 | I13: =ROUND((E13+F13+G13)*(kopsavilkums!$O$8)*D13*12*(1+kopsavilkums!$O$23),2) -> 3714.83 | L13: PP24 | M13: 10015701
A14: LF vadītājs (virsārsts) | B14: 134203 | C14: PP24 | D14: 1 | E14: 2108 | F14: 63.24 | G14: 87.833333 | H14: =E14+F14+G14 -> 2259.0733 | I14: =ROUND((E14+F14+G14)*(kopsavilkums!$O$8)*D14*12*(1+kopsavilkums!$O$23),2) -> 3551.41 | L14: PP24 | M14: 10015701
A15: KF vadītājs (virsārsts) | B15: 134203 | C15: PP24 | D15: 1 | E15: 2108 | F15: 63.24 | G15: 87.833333 | H15: =E15+F15+G15 -> 2259.0733 | I15: =ROUND((E15+F15+G15)*(kopsavilkums!$O$8)*D15*12*(1+kopsavilkums!$O$23),2) -> 3551.41 | L15: PP24 | M15: 10015701
A16: ID nodaļas vadītājs (virsārsts) | B16: 134203 | C16: PP24 | D16: 1 | E16: 2108 | F16: 63.24 | G16: 87.833333 | H16: =E16+F16+G16 -> 2259.0733 | I16: =ROUND((E16+F16+G16)*(kopsavilkums!$O$8)*D16*12*(1+kopsavilkums!$O$23),2) -> 3551.41 | L16: PP24 | M16: 10015701
A17: Ārsts Donoru nodaļa | B17: 221101 | C17: P01 | D17: 1 | E17: 1768 | F17: 53.04 | G17: 73.666667 | H17: =E17+F17+G17 -> 1894.7067 | I17: =ROUND((E17+F17+G17)*(kopsavilkums!$O$8)*D17*12*(1+kopsavilkums!$O$23),2) -> 2978.6 | L17: P01 | M17: 10015701
A18: Ārsts Donoru nodaļa | B18: 221101 | C18: P53 | D18: 1 | E18: 1768 | F18: 53.04 | G18: 73.666667 | H18: =E18+F18+G18 -> 1894.7067 | I18: =ROUND((E18+F18+G18)*(kopsavilkums!$O$8)*D18*12*(1+kopsavilkums!$O$23),2) -> 2978.6 | L18: P53 | M18: 10015701
A19: Ārsts Donoru nodaļa | B19: 221101 | C19: PP24/P01 | D19: 1 | E19: 1768 | F19: 53.04 | G19: 73.666667 | H19: =E19+F19+G19 -> 1894.7067 | I19: =ROUND((E19+F19+G19)*(kopsavilkums!$O$8)*D19*12*(1+kopsavilkums!$O$23),2) -> 2978.6 | L19: PP24/P01 | M19: 10015701
A20: Ārsts Donoru nodaļa | B20: 221101 | C20: 0 | D20: 1 | E20: 1768 | F20: 53.04 | G20: 73.666667 | H20: =E20+F20+G20 -> 1894.7067 | I20: =ROUND((E20+F20+G20)*(kopsavilkums!$O$8)*D20*12*(1+kopsavilkums!$O$23),2) -> 2978.6 | L20: 0 | M20: 10015701
A21: Ārsts E nodaļa | B21: 221101 | C21: PP24 | D21: 1 | E21: 1768 | F21: 53.04 | G21: 73.666667 | H21: =E21+F21+G21 -> 1894.7067 | I21: =ROUND((E21+F21+G21)*(kopsavilkums!$O$8)*D21*12*(1+kopsavilkums!$O$23),2) -> 2978.6 | L21: PP24 | M21: 10015701
A22: Ārsts LF nodaļa | B22: 221101 | C22: PP24 | D22: 1 | E22: 1768 | F22: 53.04 | G22: 73.666667 | H22: =E22+F22+G22 -> 1894.7067 | I22: =ROUND((E22+F22+G22)*(kopsavilkums!$O$8)*D22*12*(1+kopsavilkums!$O$23),2) -> 2978.6 | L22: PP24 | M22: 10015701
A23: Ārsts ID nodaļa | B23: 221101 | C23: P29 | D23: 1 | E23: 1768 | F23: 53.04 | G23: 73.666667 | H23: =E23+F23+G23 -> 1894.7067 | I23: =ROUND((E23+F23+G23)*(kopsavilkums!$O$8)*D23*12*(1+kopsavilkums!$O$23),2) -> 2978.6 | L23: P29 | M23: 10015701
A24: Ārsts ID nodaļa | B24: 221101 | C24: PP24 | D24: 1 | E24: 1768 | F24: 53.04 | G24: 73.666667 | H24: =E24+F24+G24 -> 1894.7067 | I24: =ROUND((E24+F24+G24)*(kopsavilkums!$O$8)*D24*12*(1+kopsavilkums!$O$23),2) -> 2978.6 | L24: PP24 | M24: 10015701
A25: Ārsts ID nodaļa | B25: 221101 | C25: PP24 | D25: 1 | E25: 1768 | F25: 53.04 | G25: 73.666667 | H25: =E25+F25+G25 -> 1894.7067 | I25: =ROUND((E25+F25+G25)*(kopsavilkums!$O$8)*D25*12*(1+kopsavilkums!$O$23),2) -> 2978.6 | L25: PP24 | M25: 10015701
A26: Ārsts ID nodaļa | B26: 221101 | C26: PP24 | D26: 1 | E26: 1768 | F26: 53.04 | G26: 73.666667 | H26: =E26+F26+G26 -> 1894.7067 | I26: =ROUND((E26+F26+G26)*(kopsavilkums!$O$8)*D26*12*(1+kopsavilkums!$O$23),2) -> 2978.6 | L26: PP24 | M26: 10015701
A27: 3.kategorija - Ārsta palīgs (feldšeris), vecmāte, biomedicīnas laborants, radiologa asistents, radiogrāfers | I27: =SUM(I28:I38) -> 53184.57
A28: Laboratoriju departamenta direktors (biomedicīnas laborants) | B28: 134204 | C28: n76 | D28: 1 | E28: 2393 | F28: 71.79 | G28: 99.708333 | H28: =E28+F28+G28 -> 2564.4983 | I28: =ROUND((E28+F28+G28)*(kopsavilkums!$O$12)*D28*12*(1+kopsavilkums!$O$23),2) -> 2472.18 | L28: n76 | M28: 10015701
A29: Donoru nodaļas vadītājs (ārsta palīgs) | B29: 134204 | C29: n27 | D29: 1 | E29: 1992 | F29: 59.76 | G29: 83 | H29: =E29+F29+G29 -> 2134.76 | I29: =ROUND((E29+F29+G29)*(kopsavilkums!$O$12)*D29*12*(1+kopsavilkums!$O$23),2) -> 2057.91 | L29: n27 | M29: 10015701
A30: KL Laboratorijas vadītājs (medicīnas laborants) | B30: 134204 | C30: n108 | D30: 1 | E30: 1847 | F30: 55.41 | G30: 76.958333 | H30: =E30+F30+G30 -> 1979.3683 | I30: =ROUND((E30+F30+G30)*(kopsavilkums!$O$12)*D30*12*(1+kopsavilkums!$O$23),2) -> 1908.12 | L30: n108 | M30: 10015701
A31: Vecākais biomedicīnas laborants | B31: 321203 | C31: n76 | D31: 2 | E31: 1555 | F31: 46.65 | G31: 64.791667 | H31: =E31+F31+G31 -> 1666.4417 | I31: =ROUND((E31+F31+G31)*(kopsavilkums!$O$12)*D31*12*(1+kopsavilkums!$O$23),2) -> 3212.91 | L31: n76 | M31: 10015701
A32: Biomedicīnas laborants | B32: 321203 | C32: n76 | D32: 9 | E32: 1458 | F32: 43.74 | G32: 60.75 | H32: =E32+F32+G32 -> 1562.49 | I32: =ROUND((E32+F32+G32)*(kopsavilkums!$O$12)*D32*12*(1+kopsavilkums!$O$23),2) -> 13556.19 | L32: n76 | M32: 10015701
A33: Biomedicīnas laborants LF | B33: 321203 | C33: n76 | D33: 1.5 | E33: 1458 | F33: 43.74 | G33: 60.75 | H33: =E33+F33+G33 -> 1562.49 | I33: =ROUND((E33+F33+G33)*(kopsavilkums!$O$12)*D33*12*(1+kopsavilkums!$O$23),2) -> 2259.37 | L33: n76 | M33: 10015701
A34: Medicīnas laborants | B34: 321202 | C34: n76 | D34: 1 | E34: 1458 | F34: 43.74 | G34: 60.75 | H34: =E34+F34+G34 -> 1562.49 | I34: =ROUND((E34+F34+G34)*(kopsavilkums!$O$12)*D34*12*(1+kopsavilkums!$O$23),2) -> 1506.24 | L34: n76 | M34: 10015701
A35: Vecākais ārsta palīgs (feldšeris) DAD* | B35: 224001 | C35: n27 | D35: 1 | E35: 1604 | F35: 48.12 | G35: 179.11333 | H35: =E35+F35+G35 -> 1831.2333 | I35: =ROUND((E35+F35+G35)*(kopsavilkums!$O$12)*D35*12*(1+kopsavilkums!$O$23),2) -> 1765.31 | L35: n27 | M35: 10015701
A36: Ārsta palīgs * | B36: 224001 | C36: n27 | D36: 12 | E36: 1555 | F36: 46.65 | G36: 173.64167 | H36: =E36+F36+G36 -> 1775.2917 | I36: =ROUND((E36+F36+G36)*(kopsavilkums!$O$12)*D36*12*(1+kopsavilkums!$O$23),2) -> 20536.62 | L36: n27 | M36: 10015701
A37: Ārsta palīgs | B37: 224001 | C37: n27 | D37: 1.5 | E37: 1555 | F37: 46.65 | G37: 64.791667 | H37: =E37+F37+G37 -> 1666.4417 | I37: =ROUND((E37+F37+G37)*(kopsavilkums!$O$12)*D37*12*(1+kopsavilkums!$O$23),2) -> 2409.68 | L37: n27 | M37: 10015701
A38: Ārsta palīgs KF (nesertificēts) | B38: 224001 | C38: n27 | D38: 1 | E38: 1452 | F38: 43.56 | G38: 60.5 | H38: =E38+F38+G38 -> 1556.06 | I38: =ROUND((E38+F38+G38)*(kopsavilkums!$O$12)*D38*12*(1+kopsavilkums!$O$23),2) -> 1500.04 | L38: n27 | M38: 10015701
A39: II. Reģistrētu ārstniecības personu amati | I39: =I51+I40 -> 89998.97
A40: 3.kategorija - Fizioterapeits, audiologopēds, uztura speciālists, ergoterapeits, tehniskais ortopēds, mākslas terapeits, optometrists, māsa (vispārējās aprūpes māsa) | I40: =SUM(I41:I50) -> 68164.96
A41: Eksperts Asins dienestā (māsa) | B41: 242210 | C41: n120 | D41: 1 | E41: 1600 | F41: 48 | G41: 66.666667 | H41: =E41+F41+G41 -> 1714.6667 | I41: =ROUND((E41+F41+G41)*(kopsavilkums!$O$12)*D41*12*(1+kopsavilkums!$O$23),2) -> 1652.94 | L41: n120 | M41: 10015701
A42: Noliktavas pārzinis (medicīniskā noliktava) (māsa) | B42: 432103 | C42: n120 | D42: 1 | E42: 1247 | F42: 37.41 | G42: 51.958333 | H42: =E42+F42+G42 -> 1336.3683 | I42: =ROUND((E42+F42+G42)*(kopsavilkums!$O$12)*D42*12*(1+kopsavilkums!$O$23),2) -> 1288.26 | L42: n120 | M42: 10015701
A43: BVD Laboratorijas vadītājs (medicīnas laborants) | B43: 134204 | C43: n108 | D43: 1 | E43: 1992 | F43: 59.76 | G43: 83 | H43: =E43+F43+G43 -> 2134.76 | I43: =ROUND((E43+F43+G43)*(kopsavilkums!$O$12)*D43*12*(1+kopsavilkums!$O$23),2) -> 2057.91 | L43: n108 | M43: 10015701
A44: Galvenā māsa | B44: 134205 | C44: n120 | D44: 1 | E44: 1798 | F44: 53.94 | G44: 74.916667 | H44: =E44+F44+G44 -> 1926.8567 | I44: =ROUND((E44+F44+G44)*(kopsavilkums!$O$12)*D44*12*(1+kopsavilkums!$O$23),2) -> 1857.49 | L44: n120 | M44: 10015701
A45: Virsmāsa (ASD, E, LF) | B45: 222102 | C45: n120 | D45: 3 | E45: 1555 | F45: 46.65 | G45: 64.791667 | H45: =E45+F45+G45 -> 1666.4417 | I45: =ROUND((E45+F45+G45)*(kopsavilkums!$O$12)*D45*12*(1+kopsavilkums!$O$23),2) -> 4819.36 | L45: n120 | M45: 10015701
A46: Māsa ASD | B46: 222146 | C46: n120 | D46: 19 | E46: 1410 | F46: 42.3 | G46: 58.75 | H46: =E46+F46+G46 -> 1511.05 | I46: =ROUND((E46+F46+G46)*(kopsavilkums!$O$12)*D46*12*(1+kopsavilkums!$O$23),2) -> 27676.45 | L46: n120 | M46: 10015701
A47: Māsa E | B47: 222146 | C47: n120 | D47: 2 | E47: 1410 | F47: 42.3 | G47: 58.75 | H47: =E47+F47+G47 -> 1511.05 | I47: =ROUND((E47+F47+G47)*(kopsavilkums!$O$12)*D47*12*(1+kopsavilkums!$O$23),2) -> 2913.31 | L47: n120 | M47: 10015701
A48: Māsa E** | B48: 222146 | C48: n120 | D48: 6 | E48: 1410 | F48: 42.3 | G48: 129.25 | H48: =E48+F48+G48 -> 1581.55 | I48: =ROUND((E48+F48+G48)*(kopsavilkums!$O$12)*D48*12*(1+kopsavilkums!$O$23),2) -> 9147.7 | L48: n120 | M48: 10015701
A49: Māsa LF | B49: 222146 | C49: n120 | D49: 6.5 | E49: 1410 | F49: 42.3 | G49: 58.75 | H49: =E49+F49+G49 -> 1511.05 | I49: =ROUND((E49+F49+G49)*(kopsavilkums!$O$12)*D49*12*(1+kopsavilkums!$O$23),2) -> 9468.26 | L49: n120 | M49: 10015701
A50: Māsa KF | B50: 222146 | C50: n120 | D50: 5 | E50: 1410 | F50: 42.3 | G50: 58.75 | H50: =E50+F50+G50 -> 1511.05 | I50: =ROUND((E50+F50+G50)*(kopsavilkums!$O$12)*D50*12*(1+kopsavilkums!$O$23),2) -> 7283.28 | L50: n120 | M50: 10015701
A51: 6.kategorija - Māsas palīgs | I51: =SUM(I52:I58) -> 21834.01
A52: E nodaļas vadītājs (māsas palīgs) | B52: 134204 | C52: n70 | D52: 1 | E52: 1945 | F52: 58.35 | G52: 81.041667 | H52: =E52+F52+G52 -> 2084.3917 | I52: =ROUND((E52+F52+G52)*(kopsavilkums!$O$15)*D52*12*(1+kopsavilkums!$O$23),2) -> 2133.01 | L52: n70 | M52: 10015701
A53: Māsas palīgs ASD | B53: 532103 | C53: n70 | D53: 10 | E53: 1159 | F53: 34.77 | G53: 48.291667 | H53: =E53+F53+G53 -> 1242.0617 | I53: =ROUND((E53+F53+G53)*(kopsavilkums!$O$15)*D53*12*(1+kopsavilkums!$O$23),2) -> 12710.33 | L53: n70 | M53: 10015701
A54: Māsas palīgs LF | B54: 532103 | C54: n70 | D54: 1.5 | E54: 1159 | F54: 34.77 | G54: 48.291667 | H54: =E54+F54+G54 -> 1242.0617 | I54: =ROUND((E54+F54+G54)*(kopsavilkums!$O$15)*D54*12*(1+kopsavilkums!$O$23),2) -> 1906.55 | L54: n70 | M54: 10015701
A55: Māsas palīgs KF | B55: 532103 | C55: n70 | D55: 1 | E55: 1159 | F55: 34.77 | G55: 48.291667 | H55: =E55+F55+G55 -> 1242.0617 | I55: =ROUND((E55+F55+G55)*(kopsavilkums!$O$15)*D55*12*(1+kopsavilkums!$O$23),2) -> 1271.03 | L55: n70 | M55: 10015701
A56: Māsas palīgs ID | B56: 532103 | C56: n70 | D56: 1 | E56: 1159 | F56: 34.77 | G56: 48.291667 | H56: =E56+F56+G56 -> 1242.0617 | I56: =ROUND((E56+F56+G56)*(kopsavilkums!$O$15)*D56*12*(1+kopsavilkums!$O$23),2) -> 1271.03 | L56: n70 | M56: 10015701
A57: Māsas palīgs BVD | B57: 532103 | C57: n70 | D57: 1 | E57: 1159 | F57: 34.77 | G57: 48.291667 | H57: =E57+F57+G57 -> 1242.0617 | I57: =ROUND((E57+F57+G57)*(kopsavilkums!$O$15)*D57*12*(1+kopsavilkums!$O$23),2) -> 1271.03 | L57: n70 | M57: 10015701
A58: Māsas palīgs KL | B58: 532103 | C58: n70 | D58: 1 | E58: 1159 | F58: 34.77 | G58: 48.291667 | H58: =E58+F58+G58 -> 1242.0617 | I58: =ROUND((E58+F58+G58)*(kopsavilkums!$O$15)*D58*12*(1+kopsavilkums!$O$23),2) -> 1271.03 | L58: n70 | M58: 10015701
A59: III. Transportlīdzekļa vadītāja amats | I59: =I60 -> 8897.23
A60: 6.kategorija - Transportlīdzekļa vadītājs | I60: =SUM(I61:I61) -> 8897.23
A61: Specializētā autobusa vadītājs - izbraukumos | B61: 833208 | C61: 3./99 | D61: 7 | E61: 1159 | F61: 34.77 | G61: 48.291667 | H61: =E61+F61+G61 -> 1242.0617 | I61: =ROUND((E61+F61+G61)*(kopsavilkums!$O$15)*D61*12*(1+kopsavilkums!$O$23),2) -> 8897.23 | L61: 3./99 | M61: 10015701
A62: Kopā | D62: =SUM(D12:D26,D28:D38,D41:D50,D52:D58,D61) -> 116 | E62: X | F62: X | G62: X | I62: =I39+I10+I59 -> 200491.46
A64: Valsts Asinsdonoru centrs - slimnīcu Asins sagatavošanas nodaļās strādājošie
A65: 39.03.00 Specializētās veselības aprūpes nodrošināšana, Asins un asins komponentu nodrošināšana, EKK 2800
A66: I. Sertificētu ārstniecības personu amati | I66: =I67+I69 -> 29260.12
A67: 1.kategorija - Ārsts, zobārsts | I67: =SUM(I68:I68) -> 11165.12
A68: Ārsts | B68: 2211 01 | D68: 3.5 | E68: 1893.5 | F68: 56.805 | G68: 78.895833 | H68: =E68+F68+G68 -> 2029.2008 | I68: =ROUND((E68+F68+G68)*(kopsavilkums!$O$8)*D68*12*(1+kopsavilkums!$O$23),2) -> 11165.12
A69: 3.kategorija - Māsa (vispārējās aprūpes māsa), ārsta palīgs (feldšeris), vecmāte, biomedicīnas laborants, radiologa asistents, radiogrāfers | I69: =SUM(I70:I70) -> 18095
A70: Māsa | B70: 2221 46 | D70: 13.75 | E70: 1273.85 | F70: 38.2155 | G70: 53.077083 | H70: =E70+F70+G70 -> 1365.1426 | I70: =ROUND((E70+F70+G70)*(kopsavilkums!$O$12)*D70*12*(1+kopsavilkums!$O$23),2) -> 18095
A71: II. Reģistrētu ārstniecības personu amati | I71: =I72 -> 3420.53
A72: 6.kategorija - Māsas palīgs | I72: =SUM(I73:I74) -> 3420.53
A73: Māsas palīgs | B73: 532103 | D73: 3.15 | E73: 840 | F73: 25.2 | G73: 35 | H73: =E73+F73+G73 -> 900.2 | I73: =ROUND((E73+F73+G73)*(kopsavilkums!$O$15)*D73*12*(1+kopsavilkums!$O$23),2) -> 2901.77
A74: Klientu pacientu reģistrators | B74: 334401 | D74: 0.6 | E74: 788.39 | F74: 23.6517 | G74: 32.849583 | H74: =E74+F74+G74 -> 844.89128 | I74: =ROUND((E74+F74+G74)*(kopsavilkums!$O$15)*D74*12*(1+kopsavilkums!$O$23),2) -> 518.76
A75: Kopā | D75: =SUM(D68:D68,D70:D70,,D73:D74) -> 21 | E75: X | F75: X | G75: X | I75: =I71+I66 -> 32680.65
I77: =I62+I75 -> 233172.11
I78: =I77+'VM padotibas iest MK361'!U30 -> 267625.91

Sheet VM VTMEC MK851
I1: 3.7. pielikums
A2: Valsts tiesu medicīnas ekspertīzes centra ārstniecības personu faktiskā darba samaksas pieaugums (MK noteikumi Nr.851)
I4: EUR
A5: Informācija par ārstniecības personām
A6: Ārstniecības personas amata kvalifikācijas kategorija | B6: Profesiju klasifikātora kods (atbilstoši MK noteikumiem Nr.264) | C6: Ārstniecības personas profesijas vai specialitātes kodu (atbilstoši MK noteikumiem Nr.317) | D6: Slodzes (strādājošo skaits normālā darba laika ietvaros) | E6: Faktiskā mēnešalgas likme par 1 (vienu) slodzi | F6: Palielinājums par darba stāžu | G6: Piemaksas | H6: Faktiskā darba samaksa (atalgojums par slodzi) mēnesī | I6: Darba samaksas pieaugums 2024.gadam, t.sk. 23.59%
K7: Pārbaude, atbilstība prof. klasifikatoram | L7: Ārstniecības personas profesijas vai specialitātes kodu (atbilstoši MK noteikumiem Nr.317) | M7: Reģistrācija Ārstniecības ietāžu reģistrā | N7: Piezīmes, pamatojums
A8: Valsts tiesu medicīnas ekspertīzes centrs
A9: 39.06.00 Tiesu medicīniskā ekspertīze
A10: I. Sertificētu ārstniecības personu amati | I10: =I11 -> 191079.02
A11: 1.kategorija - Ārsts, zobārsts | I11: =SUM(I12:I41) -> 191079.02
A12: Direktora vietnieks - vecākais tiesu medicīnas eksperts | B12: 121302 | C12: P34 | D12: 1 | E12: 3344 | F12: 133.76 | G12: 300.96 | H12: =E12+F12+G12 -> 3778.72 | I12: =ROUND((E12+F12+G12)*(kopsavilkums!$O$8)*D12*12*(1+kopsavilkums!$O$23),2) -> 5940.39 | K12: Pārvaldes DIREKTORA VIETNIEKS (valsts pārvaldes jomā) | L12: P34 | M12: Reģistrēta | N12: Saistītais amats ietver sevī gan amatpersonas, t.sk. administratīvā darba pienākumus, gan tiesu medicīnas eksperta, t.sk. medicīnisko ekspertīžu un izpēšu veikšanas pienākumus, līdz ar to atbilst ārstniecības personas statusam.
A13: Tiesu medicīnas ekspertīžu departamenta direktors - vecākais tiesu medicīnas eksperts | B13: 121305 | C13: P34 | D13: 1 | E13: 2903 | F13: 232.24 | G13: 319.33 | H13: =E13+F13+G13 -> 3454.57 | I13: =ROUND((E13+F13+G13)*(kopsavilkums!$O$8)*D13*12*(1+kopsavilkums!$O$23),2) -> 5430.81 | K13: Pamatdarbības struktūrvienības VADĪTĀJS/ DIREKTORS (valsts pārvaldes jomā) | L13: P34 | M13: Reģistrēta | N13: Amats ietver sevī gan amatpersonas, t.sk. administratīvā darba pienākumus, gan tiesu medicīnas eksperta, t.sk. medicīnisko ekspertīžu un izpēšu veikšanas pienākumus, līdz ar to atbilst ārstniecības personas statusam.
A14: Tiesu medicīnas laboratoriju departamenta direktors - vecākais tiesu medicīnas eksperts | B14: 121305 | C14: P34 | D14: 1 | E14: 2758 | F14: 110.32 | G14: 303.38 | H14: =E14+F14+G14 -> 3171.7 | I14: =ROUND((E14+F14+G14)*(kopsavilkums!$O$8)*D14*12*(1+kopsavilkums!$O$23),2) -> 4986.12 | K14: Pamatdarbības struktūrvienības VADĪTĀJS/ DIREKTORS (valsts pārvaldes jomā) | L14: P34 | M14: Reģistrēta | N14: Amats ietver sevī gan amatpersonas, t.sk. administratīvā darba pienākumus, gan tiesu medicīnas eksperta, t.sk. medicīnisko ekspertīžu un izpēšu veikšanas pienākumus, līdz ar to atbilst ārstniecības personas statusam.
A15: Nodaļas vadītājs - vecākais tiesu medicīnas eksperts | B15: 221239 | C15: P34 | D15: 1 | E15: 2614 | F15: 104.56 | G15: 392.1 | H15: =E15+F15+G15 -> 3110.66 | I15: =ROUND((E15+F15+G15)*(kopsavilkums!$O$8)*D15*12*(1+kopsavilkums!$O$23),2) -> 4890.16 | K15: Tiesu medicīnas EKSPERTS | L15: P34 | M15: Reģistrēta
A16: Nodaļas vadītājs - vecākais tiesu medicīnas eksperts | B16: 221239 | C16: P34 | D16: 1 | E16: 2614 | F16: 52.28 | G16: 235.26 | H16: =E16+F16+G16 -> 2901.54 | I16: =ROUND((E16+F16+G16)*(kopsavilkums!$O$8)*D16*12*(1+kopsavilkums!$O$23),2) -> 4561.41 | K16: Tiesu medicīnas EKSPERTS | L16: P34 | M16: Reģistrēta
A17: Nodaļas vadītājs - vecākais tiesu medicīnas eksperts | B17: 221239 | C17: P34 | D17: 1 | E17: 2325 | F17: 116.25 | G17: 302.25 | H17: =E17+F17+G17 -> 2743.5 | I17: =ROUND((E17+F17+G17)*(kopsavilkums!$O$8)*D17*12*(1+kopsavilkums!$O$23),2) -> 4312.96 | K17: Tiesu medicīnas EKSPERTS | L17: P34 | M17: Reģistrēta
A18: Nodaļas vadītājs - vecākais tiesu medicīnas eksperts | B18: 221239 | C18: P34 | D18: 2 | E18: 2325 | F18: 93 | G18: 302.25 | H18: =E18+F18+G18 -> 2720.25 | I18: =ROUND((E18+F18+G18)*(kopsavilkums!$O$8)*D18*12*(1+kopsavilkums!$O$23),2) -> 8552.82 | K18: Tiesu medicīnas EKSPERTS | L18: P34 | M18: Reģistrēta
A19: Nodaļas vadītājs - vecākais tiesu medicīnas eksperts | B19: 221239 | C19: P34 | D19: 2 | E19: 2325 | F19: 69.75 | G19: 302.25 | H19: =E19+F19+G19 -> 2697 | I19: =ROUND((E19+F19+G19)*(kopsavilkums!$O$8)*D19*12*(1+kopsavilkums!$O$23),2) -> 8479.72 | K19: Tiesu medicīnas EKSPERTS | L19: P34 | M19: Reģistrēta
A20: Nodaļas vadītājs - vecākais tiesu medicīnas eksperts | B20: 221239 | C20: P34 | D20: 1 | E20: 2325 | F20: 23.25 | G20: 302.25 | H20: =E20+F20+G20 -> 2650.5 | I20: =ROUND((E20+F20+G20)*(kopsavilkums!$O$8)*D20*12*(1+kopsavilkums!$O$23),2) -> 4166.76 | K20: Tiesu medicīnas EKSPERTS | L20: P34 | M20: Reģistrēta
A21: Nodaļas vadītājs - vecākais tiesu medicīnas eksperts | B21: 221239 | C21: P34 | D21: 1 | E21: 2036 | F21: 81.44 | G21: 264.68 | H21: =E21+F21+G21 -> 2382.12 | I21: =ROUND((E21+F21+G21)*(kopsavilkums!$O$8)*D21*12*(1+kopsavilkums!$O$23),2) -> 3744.85 | K21: Tiesu medicīnas EKSPERTS | L21: P34 | M21: Reģistrēta
A22: Laboratorijas vadītājs, vecākais tiesu medicīnas eksperts | B22: 221239 | C22: P34 | D22: 1 | E22: 2325 | F22: 116.25 | G22: 255.75 | H22: =E22+F22+G22 -> 2697 | I22: =ROUND((E22+F22+G22)*(kopsavilkums!$O$8)*D22*12*(1+kopsavilkums!$O$23),2) -> 4239.86 | K22: Tiesu medicīnas EKSPERTS | L22: P34 | M22: Reģistrēta
A23: Laboratorijas vadītājs, vecākais tiesu medicīnas eksperts | B23: 221239 | C23: P34 | D23: 1 | E23: 2325 | F23: 116.25 | G23: 302.25 | H23: =E23+F23+G23 -> 2743.5 | I23: =ROUND((E23+F23+G23)*(kopsavilkums!$O$8)*D23*12*(1+kopsavilkums!$O$23),2) -> 4312.96 | K23: Tiesu medicīnas EKSPERTS | L23: P34 | M23: Reģistrēta
A24: Laboratorijas vadītājs, vecākais tiesu medicīnas eksperts | B24: 221239 | C24: P34 | D24: 1 | E24: 2325 | F24: 69.75 | G24: 302.25 | H24: =E24+F24+G24 -> 2697 | I24: =ROUND((E24+F24+G24)*(kopsavilkums!$O$8)*D24*12*(1+kopsavilkums!$O$23),2) -> 4239.86 | K24: Tiesu medicīnas EKSPERTS | L24: P34 | M24: Reģistrēta
A25: Laboratorijas vadītājs, vecākais speciālists- vecākais tiesu medicīnas eksperts | B25: 221239 | C25: P34 | D25: 1 | E25: 2325 | F25: 93 | G25: 302.25 | H25: =E25+F25+G25 -> 2720.25 | I25: =ROUND((E25+F25+G25)*(kopsavilkums!$O$8)*D25*12*(1+kopsavilkums!$O$23),2) -> 4276.41 | K25: Tiesu medicīnas EKSPERTS | L25: P34 | M25: Reģistrēta
A26: Nodaļas vadītāja vietnieks - vecākais tiesu medicīnas eksperts | B26: 221239 | C26: P34 | D26: 1 | E26: 2180 | F26: 87.2 | G26: 327 | H26: =E26+F26+G26 -> 2594.2 | I26: =ROUND((E26+F26+G26)*(kopsavilkums!$O$8)*D26*12*(1+kopsavilkums!$O$23),2) -> 4078.25 | K26: Tiesu medicīnas EKSPERTS | L26: P34 | M26: Reģistrēta
... A41: Speciālists- tiesu medicīnas eksperts | B41: 221239 | C41: P34 | D41: 2 | E41: 1930 | F41: 0 | G41: 212.3 | H41: =E41+F41+G41 -> 2142.3 | I41: =ROUND((E41+F41+G41)*(kopsavilkums!$O$8)*D41*12*(1+kopsavilkums!$O$23),2) -> 6735.67 | K41: Tiesu medicīnas EKSPERTS | L41: P34 | M41: Reģistrēta
A42: Kopā | D42: =SUM(D12:D41) -> 49 | E42: X | F42: X | G42: X | I42: =+I10 -> 191079.02
I44: =I42+'VM padotibas iest MK361'!U232 -> 316379.24

Sheet LM_līgumorg_851
J1: 3.8. pielikums
B3: Labklājības ministrijas ārstniecības personu faktiskā darba samaksa par slodzi atbilstoši MK noteikumiem Nr. 851
B5: Informācija par ārstniecības personām
B6: Ārstniecības personas amata kvalifikācijas kategorija | C6: Profesiju klasifikātora kods (atbilstoši MK noteikumiem Nr.264) | D6: Ārstniecības personas profesijas vai specialitātes kodu (atbilstoši MK noteikumiem Nr.317) | E6: Slodzes (strādājošo skaits normālā darba laika ietvaros) | F6: Faktiskā mēnešalgas likme par 1 (vienu) slodzi | G6: Palielinājums par darba stāžu | H6: Piemaksas | I6: Faktiskā darba samaksa (atalgojums par slodzi) mēnesī | J6: Darba samaksas pieaugums 2024.gadam, t.sk. 23.59%
B8: 05.01.00 "Sociālās rehabilitācijas valsts programmas"
B9: VSIA "Nacionālais rehabilitācijas centrs "Vaivari" (28.01.2020. līgums Nr.LM2020/24-1-04/1e par personu nodrošināšanu ar tehniskajiem palīglīdzekļiem)
B10: I. Sertificētu ārstniecības personu amati | E10: =E11+E15+E35+E39 -> 16.3 | F10: =F11+F15+F35+F39 -> 38070 | G10: =G11+G15+G35+G39 -> 649.75 | H10: =H11+H15+H35+H39 -> 0 | I10: =I11+I15+I35+I39 -> 38719.75
B11: 1.kategorija - Ārsts, zobārsts | E11: =SUM(E12:E14) -> 2.5 | F11: =SUM(F12:F14) -> 6870 | G11: =SUM(G12:G14) -> 160.3 | H11: =SUM(H12:H14) -> 0 | I11: =SUM(I12:I14) -> 7030.3
B12: Ārsts konsultants | C12: 2212 61 | D12: P03 | E12: 0.5 | F12: 2290 | G12: 91.6 | H12: 0 | I12: 2381.6 | J12: =ROUND((F12+G12+H12)*(kopsavilkums!$O$8)*E12*12*(1+kopsavilkums!$O$23),2) -> 1872.01
B13: Fizikālās un rehabilitācijas medicīnas ārsts | C13: 2212 17 | D13: P54 | E13: 1.3 | F13: 2290 | G13: 68.7 | H13: 0 | I13: 2358.7 | J13: =ROUND((F13+G13+H13)*(kopsavilkums!$O$8)*E13*12*(1+kopsavilkums!$O$23),2) -> 4820.44
B14: Fizikālās un rehabilitācijas medicīnas ārsts | C14: 2212 17 | D14: P54 | E14: 0.7 | F14: 2290 | G14: 0 | H14: 0 | I14: 2290 | J14: =ROUND((F14+G14+H14)*(kopsavilkums!$O$8)*E14*12*(1+kopsavilkums!$O$23),2) -> 2520.02
B15: 2.kategorija - Fizioterapeits, audiologopēds, uztura speciālists, ergoterapeits, tehniskais ortopēds, mākslas terapeits, optometrists | E15: =SUM(E16:E34) -> 13.8 | F15: =SUM(F16:F34) -> 31200 | G15: =SUM(G16:G34) -> 489.45 | H15: =SUM(H16:H34) -> 0 | I15: =SUM(I16:I34) -> 31689.45
B16: Galvenais ergoterapeits (sertificēts) | C16: 2264 04 | D16: T02 | E16: 0.5 | F16: 1970 | G16: 157.6 | H16: 0 | I16: 2127.6 | J16: =ROUND((F16+G16+H16)*(kopsavilkums!$O$8)*E16*12*(1+kopsavilkums!$O$23),2) -> 1672.36
B17: Galvenais ergoterapeits (sertificēts) | C17: 2264 04 | D17: T02 | E17: 0.5 | F17: 1970 | G17: 0 | H17: 0 | I17: 1970 | J17: =ROUND((F17+G17+H17)*(kopsavilkums!$O$8)*E17*12*(1+kopsavilkums!$O$23),2) -> 1548.48
B18: Ergoterapeits (sertificēts) | C18: 2264 04 | D18: T02 | E18: 1 | F18: 1665 | G18: 99.9 | H18: 0 | I18: 1764.9 | J18: =ROUND((F18+G18+H18)*(kopsavilkums!$O$8)*E18*12*(1+kopsavilkums!$O$23),2) -> 2774.54
B19: Ergoterapeits (sertificēts) | C19: 2264 04 | D19: T02 | E19: 1 | F19: 1665 | G19: 0 | H19: 0 | I19: 1665 | J19: =ROUND((F19+G19+H19)*(kopsavilkums!$O$8)*E19*12*(1+kopsavilkums!$O$23),2) -> 2617.49
B20: Ergoterapeits (sertificēts) | C20: 2264 04 | D20: T02 | E20: 0.5 | F20: 1665 | G20: 0 | H20: 0 | I20: 1665 | J20: =ROUND((F20+G20+H20)*(kopsavilkums!$O$8)*E20*12*(1+kopsavilkums!$O$23),2) -> 1308.74
B21: Vecākais fizioterapeits (sertificēts) | C21: 2264 02 | D21: T01 | E21: 1 | F21: 1820 | G21: 54.6 | H21: 0 | I21: 1874.6 | J21: =ROUND((F21+G21+H21)*(kopsavilkums!$O$8)*E21*12*(1+kopsavilkums!$O$23),2) -> 2946.99
B22: Vecākais fizioterapeits (sertificēts) | C22: 2264 02 | D22: T01 | E22: 1 | F22: 1820 | G22: 0 | H22: 0 | I22: 1820 | J22: =ROUND((F22+G22+H22)*(kopsavilkums!$O$8)*E22*12*(1+kopsavilkums!$O$23),2) -> 2861.16
B23: Fizioterapeits (sertificēts) | C23: 2264 02 | D23: T01 | E23: 1 | F23: 1665 | G23: 0 | H23: 0 | I23: 1665 | J23: =ROUND((F23+G23+H23)*(kopsavilkums!$O$8)*E23*12*(1+kopsavilkums!$O$23),2) -> 2617.49
B24: Vecākais tehniskais ortopēds (sertificēts) | C24: 3214 02 | D24: T06 | E24: 0.5 | F24: 1820 | G24: 127.4 | H24: 0 | I24: 1947.4 | J24: =ROUND((F24+G24+H24)*(kopsavilkums!$O$8)*E24*12*(1+kopsavilkums!$O$23),2) -> 1530.72
B25: Vecākais tehniskais ortopēds (sertificēts) | C25: 3214 02 | D25: T06 | E25: 0.5 | F25: 1820 | G25: 0 | H25: 0 | I25: 1820 | J25: =ROUND((F25+G25+H25)*(kopsavilkums!$O$8)*E25*12*(1+kopsavilkums!$O$23),2) -> 1430.58
B26: Tehniskais ortopēds (sertificēts) | C26: 3214 02 | D26: T06 | E26: 1 | F26: 1665 | G26: 0 | H26: 0 | I26: 1665 | J26: =ROUND((F26+G26+H26)*(kopsavilkums!$O$8)*E26*12*(1+kopsavilkums!$O$23),2) -> 2617.49
B27: Ergoterapeits (sertificēts) | C27: 2264 04 | D27: T02 | E27: 0.5 | F27: 1665 | G27: 0 | H27: 0 | I27: 1665 | J27: =ROUND((F27+G27+H27)*(kopsavilkums!$O$8)*E27*12*(1+kopsavilkums!$O$23),2) -> 1308.74
... B33: Tehniskais ortopēds (sertificēts) | C33: 3214 02 | D33: T06 | E33: 0.5 | F33: 1665 | G33: 0 | H33: 0 | I33: 1665 | J33: =ROUND((F33+G33+H33)*(kopsavilkums!$O$8)*E33*12*(1+kopsavilkums!$O$23),2) -> 1308.74
I34: =F34+G34+H34 -> 0
B35: 3.kategorija - Māsa, ārsta palīgs (feldšeris), vecmāte, biomedicīnas laborants, radiologa asistents, radiogrāfers | E35: =SUM(E36:E38) -> 0 | F35: =SUM(F36:F38) -> 0 | G35: =SUM(G36:G38) -> 0 | H35: =SUM(H36:H38) -> 0 | I35: =SUM(I36:I38) -> 0
I36: =F36+G36+H36 -> 0
I37: =F37+G37+H37 -> 0
I38: =F38+G38+H38 -> 0
B39: 4.kategorija - Masieris, ergoterapeita asistents, fizioterapeita asistents, zobu higiēnists, zobārstniecības māsa, kosmētiķis, podologs, zobu tehniķis | E39: =SUM(E40:E40) -> 0 | F39: =SUM(F40:F40) -> 0 | G39: =SUM(G40:G40) -> 0 | H39: =SUM(H40:H40) -> 0 | I39: =SUM(I40:I40) -> 0
I40: =F40+G40+H40 -> 0
B41: II. Reģistrētu ārstniecības personu amati | E41: =E42 -> 10 | F41: =F42 -> 9220 | G41: =G42 -> 330.4 | H41: =H42 -> 0 | I41: =I42 -> 9550.4
B42: 3.kategorija - Fizioterapeits, audiologopēds, uztura speciālists, ergoterapeits, tehniskais ortopēds, mākslas terapeits, optometrists, māsa (vispārējās aprūpes māsa) | E42: =SUM(E43:E48) -> 10 | F42: =SUM(F43:F48) -> 9220 | G42: =SUM(G43:G48) -> 330.4 | H42: =SUM(H43:H48) -> 0 | I42: =SUM(I43:I48) -> 9550.4
B43: Vecākais ergoterapeits (nesertificēts) | C43: 2264 04 | D43: T02 | E43: 1 | F43: 1720 | G43: 120.4 | H43: 0 | I43: 1840.4 | J43: =ROUND((F43+G43+H43)*(kopsavilkums!$O$8)*E43*12*(1+kopsavilkums!$O$23),2) -> 2893.23
B44: Ergoterapeits (nesertificēts) | C44: 2264 04 | D44: T02 | E44: 1 | F44: 1500 | G44: 105 | H44: 0 | I44: 1605 | J44: =ROUND((F44+G44+H44)*(kopsavilkums!$O$8)*E44*12*(1+kopsavilkums!$O$23),2) -> 2523.16
B45: Ergoterapeits (nesertificēts) | C45: 2264 04 | D45: T02 | E45: 1 | F45: 1500 | G45: 45 | H45: 0 | I45: 1545 | J45: =ROUND((F45+G45+H45)*(kopsavilkums!$O$8)*E45*12*(1+kopsavilkums!$O$23),2) -> 2428.84
B46: Fizioterapeits (nesertificēts) | C46: 2264 02 | D46: T01 | E46: 1 | F46: 1500 | G46: 60 | H46: 0 | I46: 1560 | J46: =ROUND((F46+G46+H46)*(kopsavilkums!$O$8)*E46*12*(1+kopsavilkums!$O$23),2) -> 2452.42
B47: Fizioterapeits (nesertificēts) | C47: 2264 02 | D47: T01 | E47: 5 | F47: 1500 | G47: 0 | H47: 0 | I47: 1500 | J47: =ROUND((F47+G47+H47)*(kopsavilkums!$O$8)*E47*12*(1+kopsavilkums!$O$23),2) -> 11790.49
B48: Tehniskais ortopēds (nesertificēts) | C48: 3214 02 | D48: T06 | E48: 1 | F48: 1500 | G48: 0 | H48: 0 | I48: 1500 | J48: =ROUND((F48+G48+H48)*(kopsavilkums!$O$8)*E48*12*(1+kopsavilkums!$O$23),2) -> 2358.1
B49: IV. Medicīnas asistenta amats | E49: =E50 -> 1 | F49: =F50 -> 1150 | G49: =G50 -> 0 | H49: =H50 -> 0 | I49: =I50 -> 1150
B50: 6.kategorija - Medicīnas asistents | E50: =E51 -> 1 | F50: =F51 -> 1150 | G50: =G51 -> 0 | H50: =H51 -> 0 | I50: =I51 -> 1150
B51: Rehabilitācijas asistente | C51: 5321 05 | E51: 1 | F51: 1150 | G51: 0 | H51: 0 | I51: 1150 | J51: =ROUND((F51+G51+H51)*(kopsavilkums!$O$15)*E51*12*(1+kopsavilkums!$O$23),2) -> 1176.82
B52: Kopā iestāde | E52: =E10+E41+E49 -> 27.3 | F52: x | G52: x | H52: x | I52: x
B53: Latvijas Nedzirdīgo savienība (12.02.2020. līgums Nr.LM2020/24-1-04/2e par personu ar dzirdes invaliditāti nodrošināšanu ar tehniskajiem palīglīdzekļiem - surdotehniku)
B54: I. Sertificētu ārstniecības personu amati | E54: =E55+E57+E61 -> 5.6 | F54: =F55+F57+F61 -> 5841 | G54: =G55+G57+G61 -> 584 | H54: =H55+H57+H61 -> 0 | I54: =I55+I57+I61 -> 6425
B55: 1.kategorija - Ārsts, zobārsts | E55: =E56 -> 3.5 | F55: =F56 -> 2321 | G55: =G56 -> 232 | H55: =H56 -> 0 | I55: =I56 -> 2553
B56: Ārsts otolaringologs | C56: 2212 82 | D56: P23 | E56: 3.5 | F56: 2321 | G56: 232 | H56: 0 | I56: =F56+G56+H56 -> 2553 | J56: =ROUND((F56+G56+H56)*(kopsavilkums!$O$8)*E56*12*(1+kopsavilkums!$O$23),2) -> 14047.19
B57: 2.kategorija - Fizioterapeits, audiologopēds, uztura speciālists, ergoterapeits, tehniskais ortopēds, mākslas terapeits, optometrists | E57: =SUM(E58:E60) -> 2.1 | F57: =SUM(F58:F60) -> 3520 | G57: =SUM(G58:G60) -> 352 | H57: =SUM(H58:H60) -> 0 | I57: =SUM(I58:I60) -> 3872
B58: Audiologopēds | C58: 2266 01 | D58: T05 | E58: 1.1 | F58: 1920 | G58: 192 | H58: 0 | I58: =F58+G58+H58 -> 2112 | J58: =ROUND((F58+G58+H58)*(kopsavilkums!$O$8)*E58*12*(1+kopsavilkums!$O$23),2) -> 3652.22
B59: Protēžu meistars | C59: 3226 17 | D59: T06 | E59: 1 | F59: 1600 | G59: 160 | H59: 0 | I59: =F59+G59+H59 -> 1760 | J59: =ROUND((F59+G59+H59)*(kopsavilkums!$O$8)*E59*12*(1+kopsavilkums!$O$23),2) -> 2766.83
I60: =F60+G60+H60 -> 0
B61: 3.kategorija - Māsa, ārsta palīgs (feldšeris), vecmāte, biomedicīnas laborants, radiologa asistents, radiogrāfers | E61: =SUM(E62:E64) -> 0 | F61: =SUM(F62:F64) -> 0 | G61: =SUM(G62:G64) -> 0 | H61: =SUM(H62:H64) -> 0 | I61: =SUM(I62:I64) -> 0
I62: =F62+G62+H62 -> 0
I63: =F63+G63+H63 -> 0
I64: =F64+G64+H64 -> 0
B65: II. Reģistrētu ārstniecības personu amati | E65: =E66 -> 0 | F65: =F66 -> 0 | G65: =G66 -> 0 | H65: =H66 -> 0 | I65: =I66 -> 0
B66: 4.kategorija - Māsa, ārsta palīgs (feldšeris), vecmāte, biomedicīnas laborants, radiologa asistents, radiogrāfers | E66: =E67 -> 0 | F66: =F67 -> 0 | G66: =G67 -> 0 | H66: =H67 -> 0 | I66: =I67 -> 0
I67: =F67+G67+H67 -> 0
B68: Kopā iestāde | E68: =E54+E65 -> 5.6 | F68: x | G68: x | H68: x | I68: x
B69: Sociālo pakalpojumu centrs "Pīlādzis" (03.02.2022. līgums Nr.LM2022/24-1-06/18e par ilgstošas sociālās aprūpes un sociālās rehabilitācijas pakalpojumu sniegšanu pilngadīgām personām ar smagiem garīga rakstura traucējumiem (personām ar I un II grupas invaliditāti))
B70: I. Sertificētu ārstniecības personu amati | E70: =E71+E73+E77 -> 2 | F70: =F71+F73+F77 -> 2232 | G70: =G71+G73+G77 -> 0 | H70: =H71+H73+H77 -> 100.44 | I70: =I71+I73+I77 -> 2332.44
B71: 1.kategorija - Ārsts, zobārsts | E71: =E72 -> 0 | F71: =F72 -> 0 | G71: =G72 -> 0 | H71: =H72 -> 0 | I71: =I72 -> 0
B73: 2.kategorija - Fizioterapeits, audiologopēds, uztura speciālists, ergoterapeits, tehniskais ortopēds, mākslas terapeits | E73: =SUM(E74:E76) -> 0 | F73: =SUM(F74:F76) -> 0 | G73: =SUM(G74:G76) -> 0 | H73: =SUM(H74:H76) -> 0 | I73: =SUM(I74:I76) -> 0
B74: Fizioterapeits | I74: =F74+G74+H74 -> 0
B75: Mākslas terapeits | I75: =F75+G75+H75 -> 0
B76: Ergoterapeits | I76: =F76+G76+H76 -> 0
B77: 3.kategorija - Māsa (vispārējās aprūpes māsa), ārsta palīgs (feldšeris), vecmāte, biomedicīnas laborants, radiologa asistents, radiogrāfers | E77: =SUM(E78:E79) -> 2 | F77: =SUM(F78:F79) -> 2232 | G77: =SUM(G78:G79) -> 0 | H77: =SUM(H78:H79) -> 100.44 | I77: =SUM(I78:I79) -> 2332.44
B78: Ārsta palīgs | C78: 2239 01 | D78: n26 | E78: 1 | F78: 1116 | G78: 0 | H78: 78.12 | I78: =F78+G78+H78 -> 1194.12 | J78: =ROUND((F78+G78+H78)*(kopsavilkums!$O$12)*E78*12*(1+kopsavilkums!$O$23),2) -> 1151.13
B79: Ārsta palīgs | C79: 2240 01 | D79: n27 | E79: 1 | F79: 1116 | G79: 0 | H79: 22.32 | I79: =F79+G79+H79 -> 1138.32 | J79: =ROUND((F79+G79+H79)*(kopsavilkums!$O$12)*E79*12*(1+kopsavilkums!$O$23),2) -> 1097.34
B80: II. Reģistrētu ārstniecības personu amati | E80: =E81 -> 1 | F80: =F81 -> 1116 | G80: =G81 -> 0 | H80: =H81 -> 22.32 | I80: =I81 -> 1138.32
B81: 3.kategorija - Fizioterapeits, audiologopēds, uztura speciālists, ergoterapeits, tehniskais ortopēds, mākslas terapeits, optometrists, māsa (vispārējās aprūpes māsa) | E81: =E82 -> 1 | F81: =F82 -> 1116 | G81: =G82 -> 0 | H81: =H82 -> 22.32 | I81: =I82 -> 1138.32
B82: Māsa | C82: 2221 46 | D82: n120 | E82: 1 | F82: 1116 | G82: 0 | H82: 22.32 | I82: =F82+G82+H82 -> 1138.32 | J82: =ROUND((F82+G82+H82)*(kopsavilkums!$O$12)*E82*12*(1+kopsavilkums!$O$23),2) -> 1097.34
B83: Kopā iestāde | E83: =E70+E80 -> 3 | F83: x | G83: x | H83: x | I83: x
B84: Biedrības "Latvijas Sarkanais Krusts" sociālās aprūpes centrs "Stūrīši" (03.02.2022. līgums Nr.LM2022/24-1-06/17e par ilgstošas sociālās aprūpes un sociālās rehabilitācijas pakalpojumu sniegšanu pilngadīgām personām ar smagiem garīga rakstura traucējumiem (personām ar I un II grupas invaliditāti))
B85: I. Sertificētu ārstniecības personu amati | E85: =E86+E88+E90 -> 2 | F85: =F86+F88+F90 -> 3045.6 | G85: =G86+G88+G90 -> 0 | H85: =H86+H88+H90 -> 0 | I85: =I86+I88+I90 -> 3045.6
B86: 1.kategorija - Ārsts, zobārsts | E86: =E87 -> 0 | F86: =F87 -> 0 | G86: =G87 -> 0 | H86: =H87 -> 0 | I86: =I87 -> 0
B88: 2.kategorija - Fizioterapeits, audiologopēds, uztura speciālists, ergoterapeits, tehniskais ortopēds, mākslas terapeits, optometrists | E88: =SUM(E89:E89) -> 1 | F88: =SUM(F89:F89) -> 1920 | G88: =SUM(G89:G89) -> 0 | H88: =SUM(H89:H89) -> 0 | I88: =SUM(I89:I89) -> 1920
B89: Fizioterapeits | C89: 2264 02 | D89: T01 | E89: 1 | F89: 1920 | G89: 0 | H89: 0 | I89: =F89+G89+H89 -> 1920 | J89: =ROUND((F89+G89+H89)*(kopsavilkums!$O$8)*E89*12*(1+kopsavilkums!$O$23),2) -> 3018.36
B90: 3.kategorija - Māsa (vispārējās aprūpes māsa), ārsta palīgs (feldšeris), vecmāte, biomedicīnas laborants, radiologa asistents, radiogrāfers | E90: =SUM(E91:E91) -> 1 | F90: =SUM(F91:F91) -> 1125.6 | G90: =SUM(G91:G91) -> 0 | H90: =SUM(H91:H91) -> 0 | I90: =SUM(I91:I91) -> 1125.6
B91: Māsa | C91: 2221 46 | D91: n120 | E91: 1 | F91: 1125.6 | G91: 0 | H91: 0 | I91: =F91+G91+H91 -> 1125.6 | J91: =ROUND((F91+G91+H91)*(kopsavilkums!$O$12)*E91*12*(1+kopsavilkums!$O$23),2) -> 1085.08
B92: II. Reģistrētu ārstniecības personu amati | E92: =E93+E95 -> 2 | F92: =F93+F95 -> 2555.6 | G92: =G93+G95 -> 0 | H92: =H93+H95 -> 0 | I92: =I93+I95 -> 2555.6
B93: 3.kategorija - Fizioterapeits, audiologopēds, uztura speciālists, ergoterapeits, tehniskais ortopēds, mākslas terapeits, optometrists, māsa (vispārējās aprūpes māsa) | E93: =E94 -> 1 | F93: =F94 -> 1430 | G93: =G94 -> 0 | H93: =H94 -> 0 | I93: =I94 -> 1430
B94: Vecākā māsa | C94: 2221 01 | D94: n120 | E94: 1 | F94: 1430 | G94: 0 | H94: 0 | I94: =F94+G94+H94 -> 1430 | J94: =ROUND((F94+G94+H94)*(kopsavilkums!$O$12)*E94*12*(1+kopsavilkums!$O$23),2) -> 1378.52
B95: 4.kategorija - Ārsta palīgs (feldšeris), vecmāte, biomedicīnas laborants, radiologa asistents, radiogrāfers | E95: =E96 -> 1 | F95: =F96 -> 1125.6 | G95: =G96 -> 0 | H95: =H96 -> 0 | I95: =I96 -> 1125.6
B96: Ārsta palīgs | C96: 2240 01 | D96: n27 | E96: 1 | F96: 1125.6 | G96: 0 | H96: 0 | I96: =F96+G96+H96 -> 1125.6 | J96: =ROUND((F96+G96+H96)*(kopsavilkums!$O$12)*E96*12*(1+kopsavilkums!$O$23),2) -> 1085.08
B97: Kopā iestāde | E97: =E85+E92 -> 4 | F97: x | G97: x | H97: x | I97: x
B98: SIA "Atsaucība" (03.02.2022. līgums Nr.LM2022/24-1-06/19e par ilgstošas sociālās aprūpes un sociālās rehabilitācijas pakalpojumu sniegšanu pilngadīgām personām ar smagiem garīga rakstura traucējumiem (personām ar I un II grupas invaliditāti))
B99: I. Sertificētu ārstniecības personu amati | E99: =E100+E102+E106 -> 1.25 | F99: =F100+F102+F106 -> 1990 | G99: =G100+G102+G106 -> 19.9 | H99: =H100+H102+H106 -> 0 | I99: =I100+I102+I106 -> 2009.9
B100: 1.kategorija - Ārsts, zobārsts | E100: =E101 -> 1.25 | F100: =F101 -> 1990 | G100: =G101 -> 19.9 | H100: =H101 -> 0 | I100: =I101 -> 2009.9
B101: Psihiatrs | C101: 2212 86 | D101: P19 | E101: 1.25 | F101: 1990 | G101: 19.9 | H101: 0 | I101: =F101+G101+H101 -> 2009.9 | J101: =ROUND((F101+G101+H101)*(kopsavilkums!$O$8)*E101*12*(1+kopsavilkums!$O$23),2) -> 3949.62
B102: 2.kategorija - Fizioterapeits, audiologopēds, uztura speciālists, ergoterapeits, tehniskais ortopēds, mākslas terapeits | E102: =SUM(E103:E105) -> 0 | F102: =SUM(F103:F105) -> 0 | G102: =SUM(G103:G105) -> 0 | H102: =SUM(H103:H105) -> 0 | I102: =SUM(I103:I105) -> 0
B103: Fizioterapeits | I103: =F103+G103+H103 -> 0
B104: Mākslas terapeits | I104: =F104+G104+H104 -> 0
B105: Ergoterapeits | I105: =F105+G105+H105 -> 0
B106: 3.kategorija - Māsa, ārsta palīgs (feldšeris), vecmāte, biomedicīnas laborants, radiologa asistents, radiogrāfers | E106: =SUM(E107:E107) -> 0 | F106: =SUM(F107:F107) -> 0 | G106: =SUM(G107:G107) -> 0 | H106: =SUM(H107:H107) -> 0 | I106: =SUM(I107:I107) -> 0
I107: =F107+G107+H107 -> 0
B108: II. Reģistrētu ārstniecības personu amati | E108: =E109 -> 14 | F108: =F109 -> 3340 | G108: =G109 -> 66.8 | H108: =H109 -> 120 | I108: =I109 -> 3526.8
B109: 3.kategorija - Fizioterapeits, audiologopēds, uztura speciālists, ergoterapeits, tehniskais ortopēds, mākslas terapeits, optometrists, māsa (vispārējās aprūpes māsa) | E109: =E110+E111 -> 14 | F109: =F110+F111 -> 3340 | G109: =G110+G111 -> 66.8 | H109: =H110+H111 -> 120 | I109: =I110+I111 -> 3526.8
B110: Virsmāsa | C110: 2221 02 | D110: n120 | E110: 1 | F110: 1820 | G110: 36.4 | H110: 0 | I110: =F110+G110+H110 -> 1856.4 | J110: =ROUND((F110+G110+H110)*(kopsavilkums!$O$12)*E110*12*(1+kopsavilkums!$O$23),2) -> 1789.57
...

Sheet IEM_kapitsab_851
J1: 3.9. pielikums
B2: Ārstniecības personu darba samaksas pieaugums 14.Iekšlietu ministrijas kapitālsabiedrībai VSIA "Iekšlietu ministrijas poliklīnika"
J4: EUR
B5: Informācija par ārstniecības personām
B6: Ārstniecības personas amata kvalifikācijas kategorija | C6: Profesiju klasifikātora kods (atbilstoši MK noteikumiem Nr.264) | D6: Ārstniecības personas profesijas vai specialitātes kodu (atbilstoši MK noteikumiem Nr.317) | E6: Slodzes (strādājošo skaits normālā darba laika ietvaros) | F6: Faktiskā mēnešalgas likme par 1 (vienu) slodzi | G6: Palielinājums par darba stāžu | H6: Piemaksas | I6: Faktiskā darba samaksa (atalgojums par slodzi) mēnesī | J6: Darba samaksas pieaugums 2024.gadam, t.sk. 23.59%
M7: Pārbaude, atbilstība prof. klasifikatoram | N7: Ārstniecības personas profesijas vai specialitātes kodu (atbilstoši MK noteikumiem Nr.317) | O7: Reģistrācija Ārstniecības ietāžu reģistrā | P7: Piezīmes, pamatojums
B8: VSIA Iekšlietu ministrijas poliklīnika
B9: 38.05.00. Veselības aprūpe un fiziskā sagatavotība
B10: I. Sertificētu ārstniecības personu amati
B11: 1.kategorija - Ārsts, zobārsts
B12: VADĪTĀJS/ DIREKTORS/ PĀRVALDNIEKS (veselības aprūpes jomā)(CMEK vadītāja) | C12: 1342 01 | D12: P53 | E12: 1 | F12: 2500 | G12: 75 | H12: 590 | I12: =F12+G12+H12 -> 3165 | J12: =ROUND((F12+G12+H12)*(kopsavilkums!$O$8)*E12*12*(1+kopsavilkums!$O$23),2) -> 4975.59 | N12: P53 | O12: Reģistrēta
B13: VADĪTĀJA VIETNIEKS/ IZPILDDIREKTORS (veselības aprūpes jomā)(CMEK vadītāja vietniece) | C13: 1342 02 | D13: P53 | E13: 0.8 | F13: 2350 | G13: 70.5 | H13: 200 | I13: =F13+G13+H13 -> 2620.5 | J13: =ROUND((F13+G13+H13)*(kopsavilkums!$O$8)*E13*12*(1+kopsavilkums!$O$23),2) -> 3295.68 | N13: P53 | O13: Reģistrēta
B14: Arodveselības un arodslimību ĀRSTS | C14: 2212 08 | D14: P53 | E14: 0.4 | F14: 2300 | G14: 69 | H14: 276 | I14: =F14+G14+H14 -> 2645 | J14: =ROUND((F14+G14+H14)*(kopsavilkums!$O$8)*E14*12*(1+kopsavilkums!$O$23),2) -> 1663.24 | N14: P53 | O14: Reģistrēta
B15: PSIHIATRS | C15: 2212 86 | D15: P19 | E15: 1 | F15: 2300 | G15: 69 | H15: 276 | I15: =F15+G15+H15 -> 2645 | J15: =ROUND((F15+G15+H15)*(kopsavilkums!$O$8)*E15*12*(1+kopsavilkums!$O$23),2) -> 4158.11 | N15: P19 | O15: Reģistrēta
B16: NEIROLOGS | C16: 2212 74 | D16: P20 | E16: 1 | F16: 2300 | G16: 69 | H16: 276 | I16: =F16+G16+H16 -> 2645 | J16: =ROUND((F16+G16+H16)*(kopsavilkums!$O$8)*E16*12*(1+kopsavilkums!$O$23),2) -> 4158.11 | N16: P20 | O16: Reģistrēta
B17: OTOLARINGOLOG | C17: 2212 82 | D17: P23 | E17: 0.5 | F17: 2300 | G17: 69 | H17: 276 | I17: =F17+G17+H17 -> 2645 | J17: =ROUND((F17+G17+H17)*(kopsavilkums!$O$8)*E17*12*(1+kopsavilkums!$O$23),2) -> 2079.06 | N17: P23 | O17: Reģistrēta
B18: ĶIRURGS | C18: 2212 61 | D18: P03 | E18: 0.4 | F18: 2300 | G18: 69 | H18: 276 | I18: =F18+G18+H18 -> 2645 | J18: =ROUND((F18+G18+H18)*(kopsavilkums!$O$8)*E18*12*(1+kopsavilkums!$O$23),2) -> 1663.24 | N18: P03 | O18: Reģistrēta
B19: Arodveselības un arodslimību ĀRSTS | C19: 2212 08 | D19: P53 | E19: 0.2 | F19: 2200 | G19: 66 | H19: 185 | I19: =F19+G19+H19 -> 2451 | J19: =ROUND((F19+G19+H19)*(kopsavilkums!$O$8)*E19*12*(1+kopsavilkums!$O$23),2) -> 770.63 | N19: P53 | O19: Reģistrēta
B20: Arodveselības un arodslimību ĀRSTS | C20: 2212 08 | D20: P53 | E20: 0.2 | F20: 2200 | G20: 66 | H20: 185 | I20: =F20+G20+H20 -> 2451 | J20: =ROUND((F20+G20+H20)*(kopsavilkums!$O$8)*E20*12*(1+kopsavilkums!$O$23),2) -> 770.63 | N20: P53 | O20: Reģistrēta
B21: ĶIRURGS | C21: 2212 61 | D21: P03 | E21: 0.4 | F21: 2200 | G21: 66 | H21: 185 | I21: =F21+G21+H21 -> 2451 | J21: =ROUND((F21+G21+H21)*(kopsavilkums!$O$8)*E21*12*(1+kopsavilkums!$O$23),2) -> 1541.25 | N21: P03 | O21: Reģistrēta
B22: OFTALMOLOGS | C22: 2212 77 | D22: P22 | E22: 0.2 | F22: 2200 | G22: 66 | H22: 185 | I22: =F22+G22+H22 -> 2451 | J22: =ROUND((F22+G22+H22)*(kopsavilkums!$O$8)*E22*12*(1+kopsavilkums!$O$23),2) -> 770.63 | N22: P22 | O22: Reģistrēta
B23: OFTALMOLOGS | C23: 2212 77 | D23: P22 | E23: 0.2 | F23: 2200 | G23: 66 | H23: 185 | I23: =F23+G23+H23 -> 2451 | J23: =ROUND((F23+G23+H23)*(kopsavilkums!$O$8)*E23*12*(1+kopsavilkums!$O$23),2) -> 770.63 | N23: P22 | O23: Reģistrēta
... B25: Arodveselības un arodslimību ĀRSTS | C25: 2212 08 | D25: P53 | E25: 0.2 | F25: 2200 | G25: 66 | H25: 185 | I25: =F25+G25+H25 -> 2451 | J25: =ROUND((F25+G25+H25)*(kopsavilkums!$O$8)*E25*12*(1+kopsavilkums!$O$23),2) -> 770.63 | N25: P53 | O25: Reģistrēta
B26: INTERNISTS | C26: 2212104 | D26: P01 | E26: 0.2 | F26: 2200 | G26: 66 | H26: 185 | I26: =F26+G26+H26 -> 2451 | J26: =ROUND((F26+G26+H26)*(kopsavilkums!$O$8)*E26*12*(1+kopsavilkums!$O$23),2) -> 770.63 | N26: P01 | O26: Reģistrēta
B27: GINEKOLOGS, dzemdību speciālists | C27: 2212 47 | D27: P14 | E27: 0.25 | F27: 2200 | G27: 66 | H27: 185 | I27: =F27+G27+H27 -> 2451 | J27: =ROUND((F27+G27+H27)*(kopsavilkums!$O$8)*E27*12*(1+kopsavilkums!$O$23),2) -> 963.28 | N27: P14 | O27: Reģistrēta
B28: ZOBĀRSTS | C28: 2261 02 | D28: P25 | E28: 0.75 | F28: 2200 | G28: 66 | H28: 185 | I28: =F28+G28+H28 -> 2451 | J28: =ROUND((F28+G28+H28)*(kopsavilkums!$O$8)*E28*12*(1+kopsavilkums!$O$23),2) -> 2889.85 | N28: P25 | O28: Reģistrēta
B29: RADIOLOGS | C29: 2212 90 | D29: P32 | E29: 0.6 | F29: 2200 | G29: 66 | H29: 185 | I29: =F29+G29+H29 -> 2451 | J29: =ROUND((F29+G29+H29)*(kopsavilkums!$O$8)*E29*12*(1+kopsavilkums!$O$23),2) -> 2311.88 | N29: P32 | O29: Reģistrēta
B30: KARDIOLOGS | C30: 2212 56 | D30: P52 | E30: 0.2 | F30: 2200 | G30: 66 | H30: 185 | I30: =F30+G30+H30 -> 2451 | J30: =ROUND((F30+G30+H30)*(kopsavilkums!$O$8)*E30*12*(1+kopsavilkums!$O$23),2) -> 770.63 | N30: P52 | O30: Reģistrēta
B31: KARDIOLOGS | C31: 2212 56 | D31: P52 | E31: 0.2 | F31: 2200 | G31: 66 | H31: 185 | I31: =F31+G31+H31 -> 2451 | J31: =ROUND((F31+G31+H31)*(kopsavilkums!$O$8)*E31*12*(1+kopsavilkums!$O$23),2) -> 770.63 | N31: P52 | O31: Reģistrēta
B32: ĀRSTS klīniskais FIZIOLOGS | C32: 2212 15 | D32: P51 | E32: 0.2 | F32: 2200 | G32: 66 | H32: 185 | I32: =F32+G32+H32 -> 2451 | J32: =ROUND((F32+G32+H32)*(kopsavilkums!$O$8)*E32*12*(1+kopsavilkums!$O$23),2) -> 770.63 | N32: P51 | O32: Reģistrēta
B33: 2.kategorija - Fizioterapeits, audiologopēds, uztura speciālists, ergoterapeits, tehniskais ortopēds, mākslas terapeits, optometrists
B34: Optometrists | C34: 2267 01 | D34: n114 | E34: 0.8 | F34: 1600 | G34: 0 | H34: 80 | I34: =F34+G34+H34 -> 1680 | J34: =ROUND((F34+G34+H34)*(kopsavilkums!$O$8)*E34*12*(1+kopsavilkums!$O$23),2) -> 2112.86 | N34: n114 | O34: Reģistrēta
B35: 3.kategorija - Ārsta palīgs (feldšeris), vecmāte, biomedicīnas laborants, radiologa asistents, radiogrāfers
B36: Radiologa asistents | C36: 3211 01 | D36: n85 | E36: 0.5 | F36: 1340 | G36: 107.2 | H36: 220 | I36: =F36+G36+H36 -> 1667.2 | J36: =ROUND((F36+G36+H36)*(kopsavilkums!$O$12)*E36*12*(1+kopsavilkums!$O$23),2) -> 803.59 | N36: n85 | O36: Reģistrēta
B37: Radiologa asistents | C37: 3211 01 | D37: n85 | E37: 0.5 | F37: 1340 | G37: 107.2 | H37: 220 | I37: =F37+G37+H37 -> 1667.2 | J37: =ROUND((F37+G37+H37)*(kopsavilkums!$O$12)*E37*12*(1+kopsavilkums!$O$23),2) -> 803.59 | N37: n85 | O37: Reģistrēta
B38: Radiologa asistents | C38: 3211 01 | D38: n85 | E38: 0.5 | F38: 1340 | G38: 107.2 | H38: 220 | I38: =F38+G38+H38 -> 1667.2 | J38: =ROUND((F38+G38+H38)*(kopsavilkums!$O$12)*E38*12*(1+kopsavilkums!$O$23),2) -> 803.59 | N38: n85 | O38: Reģistrēta
B39: Biomedicinas laborants | C39: 3212 03 | D39: n76 | E39: 0.5 | F39: 1340 | G39: 40.2 | H39: 220 | I39: =F39+G39+H39 -> 1600.2 | J39: =ROUND((F39+G39+H39)*(kopsavilkums!$O$12)*E39*12*(1+kopsavilkums!$O$23),2) -> 771.3 | N39: n76 | O39: Reģistrēta
B40: Biomedicinas laborants | C40: 3212 03 | D40: n76 | E40: 1 | F40: 1340 | G40: 40.2 | H40: 220 | I40: =F40+G40+H40 -> 1600.2 | J40: =ROUND((F40+G40+H40)*(kopsavilkums!$O$12)*E40*12*(1+kopsavilkums!$O$23),2) -> 1542.6 | N40: n76 | O40: Reģistrēta
B41: Biomedicinas laborants | C41: 3212 03 | D41: n76 | E41: 0.9 | F41: 1340 | G41: 40.2 | H41: 220 | I41: =F41+G41+H41 -> 1600.2 | J41: =ROUND((F41+G41+H41)*(kopsavilkums!$O$12)*E41*12*(1+kopsavilkums!$O$23),2) -> 1388.34 | N41: n76 | O41: Reģistrēta
B42: II. Reģistrētu ārstniecības personu amati
B43: 3.kategorija - Fizioterapeits, audiologopēds, uztura speciālists, ergoterapeits, tehniskais ortopēds, mākslas terapeits, optometrists, māsa (vispārējās aprūpes māsa)
B44: Virsmāsa | C44: 2221 02 | D44: n120 | E44: 1 | F44: 1450 | G44: 143.5 | H44: 240 | I44: =F44+G44+H44 -> 1833.5 | J44: =ROUND((F44+G44+H44)*(kopsavilkums!$O$12)*E44*12*(1+kopsavilkums!$O$23),2) -> 1767.5 | N44: n120 | O44: Reģistrēta
B45: Māsa | C45: 2221 46 | D45: n120 | E45: 1 | F45: 1340 | G45: 40.2 | H45: 220 | I45: =F45+G45+H45 -> 1600.2 | J45: =ROUND((F45+G45+H45)*(kopsavilkums!$O$12)*E45*12*(1+kopsavilkums!$O$23),2) -> 1542.6 | N45: n120 | O45: Reģistrēta
B46: Māsa | C46: 2221 46 | D46: n120 | E46: 1 | F46: 1340 | G46: 40.2 | H46: 220 | I46: =F46+G46+H46 -> 1600.2 | J46: =ROUND((F46+G46+H46)*(kopsavilkums!$O$12)*E46*12*(1+kopsavilkums!$O$23),2) -> 1542.6 | N46: n120 | O46: Reģistrēta
B47: Māsa | C47: 2221 46 | D47: n120 | E47: 0.4 | F47: 1340 | G47: 40.2 | H47: 220 | I47: =F47+G47+H47 -> 1600.2 | J47: =ROUND((F47+G47+H47)*(kopsavilkums!$O$12)*E47*12*(1+kopsavilkums!$O$23),2) -> 617.04 | N47: n120 | O47: Reģistrēta
B48: Māsa | C48: 2221 46 | D48: n120 | E48: 1 | F48: 1340 | G48: 40.2 | H48: 220 | I48: =F48+G48+H48 -> 1600.2 | J48: =ROUND((F48+G48+H48)*(kopsavilkums!$O$12)*E48*12*(1+kopsavilkums!$O$23),2) -> 1542.6 | N48: n120 | O48: Reģistrēta
B49: Māsa | C49: 2221 46 | D49: n120 | E49: 0.2 | F49: 1340 | G49: 40.2 | H49: 220 | I49: =F49+G49+H49 -> 1600.2 | J49: =ROUND((F49+G49+H49)*(kopsavilkums!$O$12)*E49*12*(1+kopsavilkums!$O$23),2) -> 308.52 | N49: n120 | O49: Reģistrēta
B50: Māsa | C50: 2221 46 | D50: n120 | E50: 1 | F50: 1340 | G50: 40.2 | H50: 220 | I50: =F50+G50+H50 -> 1600.2 | J50: =ROUND((F50+G50+H50)*(kopsavilkums!$O$12)*E50*12*(1+kopsavilkums!$O$23),2) -> 1542.6 | N50: n120 | O50: Reģistrēta
B51: Māsa | C51: 2221 46 | D51: n120 | E51: 1 | F51: 1340 | G51: 40.2 | H51: 220 | I51: =F51+G51+H51 -> 1600.2 | J51: =ROUND((F51+G51+H51)*(kopsavilkums!$O$12)*E51*12*(1+kopsavilkums!$O$23),2) -> 1542.6 | N51: n120 | O51: Reģistrēta
B52: Kopā | E52: =SUM(E12:E32,E36:E41,E34,E44:E51) -> 20.4 | F52: X | G52: X | H52: X | I52: X | J52: =SUM(J12:J32,J36:J41,J34,J44:J51) -> 56037.52

Sheet IZM_pašv_1
M1: 3.10. pielikums
A3: Pašvaldību speciālajās izglītības iestādēs, kas nodrošina internāta pakalpojumus nodarbināto ārstniecības personu faktiskā darba samaksa par slodzi 2024.gadā
M4: EUR
A5: Informācija par ārstniecības personām
A6: Ārstniecības personas amata kvalifikācijas kategorija | B6: Profesiju klasifikātora kods (atbilstoši MK noteikumiem Nr.264) | C6: Ārstniecības personas profesijas vai specialitātes kodu (atbilstoši MK noteikumiem Nr.317) | D6: Slodzes (strādājošo skaits normālā darba laika ietvaros) | E6: Faktiskā mēnešalgas likme par 1 (vienu) slodzi | F6: Palielinājums par darba stāžu | G6: Piemaksas* | H6: Piemaksas** | I6: Piemaksas kopā | J6: Faktiskā darba samaksa (atalgojums par slodzi) mēnesī | K6: Kopā atalgojums visām slodzēm mēnesī | L6: Kopā ar sociālo nodokli 23.59%, EUR | M6: Darba samaksas pieaugums 2024.gadam, t.sk. 23.59%
A8: 62. “Mērķdotācijas pašvaldībām”
A9: 01.00.00. "Mērķdotācijas izglītības pasākumiem"
A10: Ārsti un funkcionālie speciālisti | D10: =SUM(D11:D52) -> 35.375 | J10: =SUM(J11:J52) -> 65923.99 | K10: =SUM(K11:K52) -> 57070.524 | L10: =SUM(L11:L52) -> 70533.461 | M10: =SUM(M11:M52) -> 89718.61
