Workbook

Sheet kopsavilkums
R1: 3.pielikums
B4: Ārstniecības personu darba samaksas pieauguma nodrošināšana no 2024. gada un turpmāk ik gadu
E6: 2024 | F6: 2025 | G6: 2026 | H6: Turpmāk katru gadu (ja pasākums nav terminēts) | O6: Pieaugums (%)
B7: Darba samaksa pieaugums (%)
B8: Izdevumi kopā, euro | E8: =E9+E23 -> 9846474 | F8: =F9+F23 -> 9846474 | G8: =G9+G23 -> 9846474 | H8: =H9+H23 -> 9846474 | J8: Darba samaksas pieaugums Ārsti un funkcionālie speciālisti | O8: =[1]PAPILDUS_nepieciešamais!$C$54 -> 0.106 | P8: Ārsti
B9: Veselības ministrijas padotības iestāžu ārstniecības personu darba samaksas palielināšanai | E9: =E11+E13+E15+E17+E19+E21 -> 7689499 | F9: =E9 -> 7689499 | G9: =E9 -> 7689499 | H9: =E9 -> 7689499
B10: tai skaitā atlīdzība | E10: =ROUNDUP(E12+E14+E16+E18+E20+E22,0) -> 7656818 | F10: =E10 -> 7656818 | G10: =E10 -> 7656818 | H10: =E10 -> 7656818
B11: t.sk. 39.03.00 Asins un asins komponentu nodrošināšana | E11: =ROUND(E12+'VM VADC MK851'!I75,0) -> 267626 | F11: =E11 -> 267626 | G11: =E11 -> 267626 | H11: =E11 -> 267626
B12: tai skaitā atlīdzība | E12: =ROUND('VM padotibas iest MK361'!U30+'VM VADC MK851'!I62,0) -> 234945 | F12: =E12 -> 234945 | G12: =E12 -> 234945 | H12: =E12 -> 234945 | J12: Darba samaksas pieaugums Ārstniecības un pacientu aprūpes personas | O12: =[2]PAPILDUS_nepieciešamais!$C$55 -> 0.065 | P12: Māsas
B13: t.sk. 39.04.00 Neatliekamā medicīniskā palīdzība | E13: =E14 -> 6641522 | F13: =E13 -> 6641522 | G13: =E13 -> 6641522 | H13: =E13 -> 6641522
B14: tai skaitā atlīdzība | E14: =ROUND('VM padotibas iest MK361'!U17+'VM NMPD MK851'!I111,0) -> 6641522 | F14: =E14 -> 6641522 | G14: =E14 -> 6641522 | H14: =E14 -> 6641522
B15: t.sk. 39.06.00 Tiesu medicīniskā ekspertīze | E15: =E16 -> 316379 | F15: =E15 -> 316379 | G15: =E15 -> 316379 | H15: =E15 -> 316379 | J15: Darba samaksas pieaugums Ārstniecības un pacientu aprūpes atbalsta pesonas | O15: =[2]PAPILDUS_nepieciešamais!$C$56 -> 0.069 | P15: Pārējās māsas
B16: tai skaitā atlīdzība | E16: =ROUND('VM padotibas iest MK361'!U232+'VM VTMEC MK851'!I42,0) -> 316379 | F16: =E16 -> 316379 | G16: =E16 -> 316379 | H16: =E16 -> 316379
B17: t.sk. 45.01.00 Veselības aprūpes finansējuma administrēšana un ekonomiskā novērtēšana | E17: =E18 -> 39419 | F17: =E17 -> 39419 | G17: =E17 -> 39419 | H17: =E17 -> 39419
B18: tai skaitā atlīdzība | E18: =ROUND('VM padotibas iest MK361'!U247,0) -> 39419 | F18: =E18 -> 39419 | G18: =E18 -> 39419 | H18: =E18 -> 39419
B19: t.sk. 46.01.00 Uzraudzība un kontrole | E19: =E20 -> 256053 | F19: =E19 -> 256053 | G19: =E19 -> 256053 | H19: =E19 -> 256053
B20: tai skaitā atlīdzība | E20: =ROUND('VM padotibas iest MK361'!U134,0) -> 256053 | F20: =E20 -> 256053 | G20: =E20 -> 256053 | H20: =E20 -> 256053
B21: t.sk. 46.03.00 Slimību profilakses nodrošināšana | E21: =E22 -> 168500 | F21: =E21 -> 168500 | G21: =E21 -> 168500 | H21: =E21 -> 168500
B22: tai skaitā atlīdzība | E22: =ROUND('VM padotibas iest MK361'!U210,0) -> 168500 | F22: =E22 -> 168500 | G22: =E22 -> 168500 | H22: =E22 -> 168500
B23: citu ministriju t.sk. 62.resora ārstniecības personu darba samaksas palielināšanai | E23: =E24+E27+E34+E45+E48+E55 -> 2156975 | F23: =E23 -> 2156975 | G23: =E23 -> 2156975 | H23: =E23 -> 2156975 | O23: 0.2359
B24: Aizsardzības ministrijai: | E24: =E25 -> 480820 | F24: =E24 -> 480820 | G24: =E24 -> 480820 | H24: =E24 -> 480820
B25: 22.10.00 Starptautisko operāciju un Nacionālo bruņoto spēku centralizētais atalgojums | E25: =E26 -> 480820 | F25: =E25 -> 480820 | G25: =E25 -> 480820 | H25: =E25 -> 480820
B26: tai skaitā atlīdzība | E26: =ROUND('Pārējās ministrijas MK851'!I247+'Pārējās ministrijas MK509'!J136,0) -> 480820 | F26: =E26 -> 480820 | G26: =E26 -> 480820 | H26: =E26 -> 480820
B27: Izglītības un zinātnes ministrija t.sk. (62.resors "Mērķotācijas pašvaldībām"): | E27: =E28+E30+E32 -> 225125 | F27: =E27 -> 225125 | G27: =E27 -> 225125 | H27: =E27 -> 225125
B28: 02.01.00 "Profesionālās izglītības programmu īstenošana" | E28: =E29 -> 23324 | F28: =E28 -> 23324 | G28: =E28 -> 23324 | H28: =E28 -> 23324
B29: tai skaitā atlīdzība | E29: =ROUND('Pārējās ministrijas MK361'!U74,0) -> 23324 | F29: =E29 -> 23324 | G29: =E29 -> 23324 | H29: =E29 -> 23324
B30: 09.10.00. "Murjāņu sporta ģimnāzija" | E30: =E31 -> 11767 | F30: =E30 -> 11767 | G30: =E30 -> 11767 | H30: =E30 -> 11767
B31: tai skaitā atlīdzība | E31: =ROUND('Pārējās ministrijas MK361'!U102,0) -> 11767 | F31: =E31 -> 11767 | G31: =E31 -> 11767 | H31: =E31 -> 11767
B32: 62.resors "Mērķotācijas pašvaldībām" | E32: =ROUND(IZM_pašv_1!M109,0) -> 190034 | F32: =E32 -> 190034 | G32: =E32 -> 190034 | H32: =E32 -> 190034
B33: tai skaitā atlīdzība | E33: 0 | F33: =E33 -> 0 | G33: =E33 -> 0 | H33: =E33 -> 0
B34: Labklājības ministrijai: | E34: =E37+E39+E41+E43+E35 -> 1065326 | F34: =E34 -> 1065326 | G34: =E34 -> 1065326 | H34: =E34 -> 1065326
B35: 04.05.00 "Valsts sociālās apdrošināšanas aģentūras speciālais budžets" | E35: =E36 -> 2091 | F35: =E35 -> 2091 | G35: =E35 -> 2091 | H35: =E35 -> 2091
B36: tai skaitā atlīdzība | E36: =ROUND('Pārējās ministrijas MK361'!U9,0) -> 2091 | F36: =F35 -> 2091 | G36: =G35 -> 2091 | H36: =H35 -> 2091
B37: 05.03.00 "Aprūpe valsts sociālās aprūpes institūcijās" | E37: =E38 -> 534099 | F37: =F38 -> 534099 | G37: =G38 -> 534099 | H37: =H38 -> 534099
B38: tai skaitā atlīdzība | E38: =ROUND(LM_līgumorg_851!J418,0) -> 534099 | F38: =E38 -> 534099 | G38: =F38 -> 534099 | H38: =G38 -> 534099
B39: 05.37.00 "Sociālās integrācijas valsts aģentūras administrēšana un profesionālās un sociālās rehabilitācijas pakalpojumu nodrošināšana" | E39: =E40 -> 108371 | F39: =F40 -> 108371 | G39: =G40 -> 108371 | H39: =H40 -> 108371
B40: tai skaitā atlīdzība | E40: =ROUND(LM_līgumorg_851!J448,0) -> 108371 | F40: =E40 -> 108371 | G40: =F40 -> 108371 | H40: =G40 -> 108371
B41: 05.62.00 "Invaliditātes ekspertīžu nodrošināšana" (Veselības un darbspēju ekspertīzes ārstu valsts komisija) | E41: =E42 -> 199718 | F41: =E41 -> 199718 | G41: =E41 -> 199718 | H41: =E41 -> 199718
B42: tai skaitā atlīdzība | E42: =ROUND('Pārējās ministrijas MK361'!U15,0) -> 199718 | F42: =E42 -> 199718 | G42: =E42 -> 199718 | H42: =E42 -> 199718
B43: Labklājības ministrijas līgumorganizācijas 05.01.00 "Sociālās rehabilitācijas valsts programmas" | E43: =ROUND(LM_līgumorg_851!J214,0) -> 221047 | F43: =E43 -> 221047 | G43: =E43 -> 221047 | H43: =E43 -> 221047
...

Sheet Pārējās ministrijas MK361
U1: 3.1. pielikums
A3: Ārstniecības personu darba samaksas pieaugums 14.Iekšlietu ministrijai, 15.Izglītības un zinātnes ministrijai, 16.Zemkopības ministrija un 18.Labklājības ministrijai
A6: Informācija par ārstniecības personām | U6: EUR
A7: Amata nosaukums | B7: Profesiju klasifikātora kods (atbilstoši MK noteikumiem Nr.264) | C7: Ārstniecības personas profesijas vai specialitātes kodu (atbilstoši MK noteikumiem Nr.317) | D7: Valsts kancelejā saskaņotā amata saime | E7: Līmenis | F7: Amatam atbilstošā mēneš-algu grupa | G7: Mēnešalgas apmērs ņemot vērā minimālo koeficientu pret bāzes mēnešalgu pēc MK not. Nr.361 (Atlīdzības likuma 3.piel), EUR | H7: Mēnešalgas apmērs ņemot vērā viduspunkta koeficientu pret bāzes mēnešalgu pēc MK not. Nr.361 (Atlīdzības likuma 3.piel), EUR | I7: Mēnešalgas apmērs ņemot vērā maksimālo koeficientu pret bāzes mēnešalgu pēc MK not. Nr.361 (Atlīdzības likuma 3.piel), EUR | J7: Faktiskā mēneš-algas likme par 1 slodzi | K7: Piemaksas* | L7: Piemaksas kopā | M7: Slodzes (normālā darba laika ietvaros) | N7: 2024.gada jaunā amatalga ar pieaugumu | O7: pieaugums regulārai piemaksai | P7: regulārā piemaksa ar pieau-gumu | Q7: kopā pieaugums uz vienu slodzi (ievērojot MK not.) | R7: kopā pieaugums uz visām slodzēm mēnesī | S7: papildus līdzekļi atalgojumam (1100 kods) gadā | T7: darba devēja VSAOI 23,59% (1200 kods) gadā | U7: papildus līdzekļi atlīdzībai (1000 kods) gadā | X7: Pārbaude, atbilstība prof. klasifikatoram | Y7: Ārstniecības personas profesijas vai specialitātes kodu (atbilstoši MK noteikumiem Nr.317) | Z7: Reģistrācija Ārstniecības ietāžu reģistrā | AA7: Piezīmes, pamatojums
A8: 18. Labklājības ministrija
A9: 04.05.00 "Valsts sociālās apdrošināšanas aģentūras speciālais budžets" | U9: =ROUND(U11+U12,2) -> 2090.84
A10: Ārsti un funkcionālie speciālisti
A11: ārsts - eksperts | B11: 2212 11 | C11: PP13 | D11: 13 | E11: III | F11: 9 | H11: 1537 | J11: 1330 | K11: 0 | L11: =K11 -> 0 | M11: 0.5 | N11: =ROUND(J11*(1+kopsavilkums!$O$8),2) -> 1470.98 | O11: =P11-L11 -> 0 | P11: =ROUND(L11*(1+kopsavilkums!$O$8),2) -> 0 | Q11: =(N11+P11)-(J11+L11) -> 140.98 | R11: =Q11*M11 -> 70.49 | S11: =R11*12 -> 845.88 | T11: =ROUND(S11*kopsavilkums!$O$23,2) -> 199.54 | U11: =SUM(S11:T11) -> 1045.42
A12: ārsts - eksperts | B12: 2212 11 | C12: PP13 | D12: 13 | E12: III | F12: 9 | H12: 1537 | J12: 1330 | K12: 0 | L12: =K12 -> 0 | M12: 0.5 | N12: =ROUND(J12*(1+kopsavilkums!$O$8),2) -> 1470.98 | O12: =P12-L12 -> 0 | P12: =ROUND(L12*(1+kopsavilkums!$O$8),2) -> 0 | Q12: =(N12+P12)-(J12+L12) -> 140.98 | R12: =Q12*M12 -> 70.49 | S12: =R12*12 -> 845.88 | T12: =ROUND(S12*kopsavilkums!$O$23,2) -> 199.54 | U12: =SUM(S12:T12) -> 1045.42
A13: Kopā | D13: x | E13: x | F13: x | I13: x | J13: x | K13: x | M13: =SUM(M11:M12) -> 1
A14: 04.05.00 Kopā | M14: =M13 -> 1
A15: 05.62.00 "Invaliditātes ekspertīžu nodrošināšana"( Veselības un darbspēju ekspertīzes ārstu valsts komisija) | U15: =SUM(U17:U34) -> 199718.29
A16: Ārsti un funkcionālie speciālisti
A17: Nodaļas vadītājs (vecākais ārsts eksperts) | B17: 1213 05 | C17: PP13 | D17: 13 | E17: V | F17: 12 | G17: 2174 | J17: 2390 | K17: 0 | L17: 0 | M17: 1 | N17: =ROUND(J17*(1+kopsavilkums!$O$8),2) -> 2643.34 | O17: =P17-L17 -> 0 | P17: =ROUND(L17*(1+kopsavilkums!$O$8),2) -> 0 | Q17: =(N17+P17)-(J17+L17) -> 253.34 | R17: =Q17*M17 -> 253.34 | S17: =R17*12 -> 3040.08 | T17: =ROUND(S17*kopsavilkums!$O$23,2) -> 717.15 | U17: =SUM(S17:T17) -> 3757.23
A18: Vecākais ārsts eksperts | B18: 2212 11 | C18: PP13 | D18: 13 | E18: IV | F18: 11 | H18: 2496 | J18: 2135 | K18: 0 | L18: 0 | M18: 6.5 | N18: =ROUND(J18*(1+kopsavilkums!$O$8),2) -> 2361.31 | O18: =P18-L18 -> 0 | P18: =ROUND(L18*(1+kopsavilkums!$O$8),2) -> 0 | Q18: =(N18+P18)-(J18+L18) -> 226.31 | R18: =Q18*M18 -> 1471.015 | S18: =R18*12 -> 17652.18 | T18: =ROUND(S18*kopsavilkums!$O$23,2) -> 4164.15 | U18: =SUM(S18:T18) -> 21816.33
A19: Vecākais ārsts eksperts | B19: 2212 11 | C19: Nesertificēts ārsts | D19: 13 | E19: IV | F19: 11 | H19: 2496 | J19: 2135 | K19: 0 | L19: 0 | M19: 4 | N19: =ROUND(J19*(1+kopsavilkums!$O$8),2) -> 2361.31 | O19: =P19-L19 -> 0 | P19: =ROUND(L19*(1+kopsavilkums!$O$8),2) -> 0 | Q19: =(N19+P19)-(J19+L19) -> 226.31 | R19: =Q19*M19 -> 905.24 | S19: =R19*12 -> 10862.88 | T19: =ROUND(S19*kopsavilkums!$O$23,2) -> 2562.55 | U19: =SUM(S19:T19) -> 13425.43
A20: Vecākais ārsts eksperts | B20: 2212 11 | C20: Nesertificēts ārsts | D20: 13 | E20: IV | F20: 11 | G20: 1746 | J20: 2057 | K20: 0 | L20: 0 | M20: 2 | N20: =ROUND(J20*(1+kopsavilkums!$O$8),2) -> 2275.04 | O20: =P20-L20 -> 0 | P20: =ROUND(L20*(1+kopsavilkums!$O$8),2) -> 0 | Q20: =(N20+P20)-(J20+L20) -> 218.04 | R20: =Q20*M20 -> 436.08 | S20: =R20*12 -> 5232.96 | T20: =ROUND(S20*kopsavilkums!$O$23,2) -> 1234.46 | U20: =SUM(S20:T20) -> 6467.42
A21: Ārsts eksperts | B21: 2212 11 | C21: PP13 | D21: 13 | E21: IV | F21: 11 | G21: 1746 | J21: 1922 | K21: 0 | L21: 0 | M21: 2.5 | N21: =ROUND(J21*(1+kopsavilkums!$O$8),2) -> 2125.73 | O21: =P21-L21 -> 0 | P21: =ROUND(L21*(1+kopsavilkums!$O$8),2) -> 0 | Q21: =(N21+P21)-(J21+L21) -> 203.73 | R21: =Q21*M21 -> 509.325 | S21: =R21*12 -> 6111.9 | T21: =ROUND(S21*kopsavilkums!$O$23,2) -> 1441.8 | U21: =SUM(S21:T21) -> 7553.7
A22: Ārsts eksperts | B22: 2212 11 | C22: Nesertificēts ārsts | D22: 13 | E22: IV | F22: 11 | G22: 1746 | J22: 1922 | K22: 0 | L22: 0 | M22: 1.75 | N22: =ROUND(J22*(1+kopsavilkums!$O$8),2) -> 2125.73 | O22: =P22-L22 -> 0 | P22: =ROUND(L22*(1+kopsavilkums!$O$8),2) -> 0 | Q22: =(N22+P22)-(J22+L22) -> 203.73 | R22: =Q22*M22 -> 356.5275 | S22: =R22*12 -> 4278.33 | T22: =ROUND(S22*kopsavilkums!$O$23,2) -> 1009.26 | U22: =SUM(S22:T22) -> 5287.59
A23: Vecākais ārsts eksperts - nodaļas vadītājs | B23: 2212 11 | C23: PP13 | D23: 13 | E23: V | F23: 12 | G23: 2174 | J23: 2326 | K23: 0 | L23: 0 | M23: 1 | N23: =ROUND(J23*(1+kopsavilkums!$O$8),2) -> 2572.56 | O23: =P23-L23 -> 0 | P23: =ROUND(L23*(1+kopsavilkums!$O$8),2) -> 0 | Q23: =(N23+P23)-(J23+L23) -> 246.56 | R23: =Q23*M23 -> 246.56 | S23: =R23*12 -> 2958.72 | T23: =ROUND(S23*kopsavilkums!$O$23,2) -> 697.96 | U23: =SUM(S23:T23) -> 3656.68
A24: Vecākais ārsts eksperts - nodaļas vadītāja vietnieks | B24: 2212 11 | C24: PP13 | D24: 13 | E24: IV | F24: 11 | G24: 1746 | J24: 2200 | K24: 0 | L24: 0 | M24: 1 | N24: =ROUND(J24*(1+kopsavilkums!$O$8),2) -> 2433.2 | O24: =P24-L24 -> 0 | P24: =ROUND(L24*(1+kopsavilkums!$O$8),2) -> 0 | Q24: =(N24+P24)-(J24+L24) -> 233.2 | R24: =Q24*M24 -> 233.2 | S24: =R24*12 -> 2798.4 | T24: =ROUND(S24*kopsavilkums!$O$23,2) -> 660.14 | U24: =SUM(S24:T24) -> 3458.54
A25: Vecākais ārsts eksperts - nodaļas vadītājs | B25: 2212 11 | C25: PP13 | D25: 13 | E25: IV | F25: 12 | G25: 2174 | J25: 2304 | K25: 0 | L25: 0 | M25: 1 | N25: =ROUND(J25*(1+kopsavilkums!$O$8),2) -> 2548.22 | O25: =P25-L25 -> 0 | P25: =ROUND(L25*(1+kopsavilkums!$O$8),2) -> 0 | Q25: =(N25+P25)-(J25+L25) -> 244.22 | R25: =Q25*M25 -> 244.22 | S25: =R25*12 -> 2930.64 | T25: =ROUND(S25*kopsavilkums!$O$23,2) -> 691.34 | U25: =SUM(S25:T25) -> 3621.98
A26: Vecākais ārsts eksperts - nodaļas vadītājs | B26: 2212 11 | C26: Nesertificēts ārsts | D26: 13 | E26: IV | F26: 12 | G26: 2174 | J26: 2304 | K26: 0 | L26: 0 | M26: 1 | N26: =ROUND(J26*(1+kopsavilkums!$O$8),2) -> 2548.22 | O26: =P26-L26 -> 0 | P26: =ROUND(L26*(1+kopsavilkums!$O$8),2) -> 0 | Q26: =(N26+P26)-(J26+L26) -> 244.22 | R26: =Q26*M26 -> 244.22 | S26: =R26*12 -> 2930.64 | T26: =ROUND(S26*kopsavilkums!$O$23,2) -> 691.34 | U26: =SUM(S26:T26) -> 3621.98
A27: Vecākais ārsts eksperts - nodaļas vadītājs | B27: 2212 11 | C27: PP13 | D27: 13 | E27: IV | F27: 12 | G27: 2174 | J27: 2304 | K27: 0 | L27: 0 | M27: 2 | N27: =ROUND(J27*(1+kopsavilkums!$O$8),2) -> 2548.22 | O27: =P27-L27 -> 0 | P27: =ROUND(L27*(1+kopsavilkums!$O$8),2) -> 0 | Q27: =(N27+P27)-(J27+L27) -> 244.22 | R27: =Q27*M27 -> 488.44 | S27: =R27*12 -> 5861.28 | T27: =ROUND(S27*kopsavilkums!$O$23,2) -> 1382.68 | U27: =SUM(S27:T27) -> 7243.96
A28: Vecākais ārsts eksperts - nodaļas vadītājs | B28: 2212 11 | C28: Nesertificēts ārsts | D28: 13 | E28: IV | F28: 12 | G28: 2174 | J28: 2304 | K28: 0 | L28: 0 | M28: 1 | N28: =ROUND(J28*(1+kopsavilkums!$O$8),2) -> 2548.22 | O28: =P28-L28 -> 0 | P28: =ROUND(L28*(1+kopsavilkums!$O$8),2) -> 0 | Q28: =(N28+P28)-(J28+L28) -> 244.22 | R28: =Q28*M28 -> 244.22 | S28: =R28*12 -> 2930.64 | T28: =ROUND(S28*kopsavilkums!$O$23,2) -> 691.34 | U28: =SUM(S28:T28) -> 3621.98
A29: Vecākais ārsts eksperts | B29: 2212 11 | C29: PP13 | D29: 13 | E29: IV | F29: 11 | G29: 1746 | J29: 2057 | K29: 0 | L29: 0 | M29: 7.8 | N29: =ROUND(J29*(1+kopsavilkums!$O$8),2) -> 2275.04 | O29: =P29-L29 -> 0 | P29: =ROUND(L29*(1+kopsavilkums!$O$8),2) -> 0 | Q29: =(N29+P29)-(J29+L29) -> 218.04 | R29: =Q29*M29 -> 1700.712 | S29: =R29*12 -> 20408.544 | T29: =ROUND(S29*kopsavilkums!$O$23,2) -> 4814.38 | U29: =SUM(S29:T29) -> 25222.924
A30: Vecākais ārsts eksperts | B30: 2212 11 | C30: Nesertificēts ārsts | D30: 13 | E30: IV | F30: 11 | G30: 1746 | J30: 2057 | K30: 0 | L30: 0 | M30: 2.75 | N30: =ROUND(J30*(1+kopsavilkums!$O$8),2) -> 2275.04 | O30: =P30-L30 -> 0 | P30: =ROUND(L30*(1+kopsavilkums!$O$8),2) -> 0 | Q30: =(N30+P30)-(J30+L30) -> 218.04 | R30: =Q30*M30 -> 599.61 | S30: =R30*12 -> 7195.32 | T30: =ROUND(S30*kopsavilkums!$O$23,2) -> 1697.38 | U30: =SUM(S30:T30) -> 8892.7
A31: Ārsts eksperts | B31: 2212 11 | C31: PP13 | D31: 13 | E31: III | F31: 9 | I31: 2067 | J31: 1922 | K31: 0 | L31: 0 | M31: 2 | N31: =ROUND(J31*(1+kopsavilkums!$O$8),2) -> 2125.73 | O31: =P31-L31 -> 0 | P31: =ROUND(L31*(1+kopsavilkums!$O$8),2) -> 0 | Q31: =(N31+P31)-(J31+L31) -> 203.73 | R31: =Q31*M31 -> 407.46 | S31: =R31*12 -> 4889.52 | T31: =ROUND(S31*kopsavilkums!$O$23,2) -> 1153.44 | U31: =SUM(S31:T31) -> 6042.96
A32: Ārsts eksperts | B32: 2212 11 | C32: Nesertificēts ārsts | D32: 13 | E32: III | F32: 9 | I32: 2067 | J32: 1922 | K32: 0 | L32: 0 | M32: 1 | N32: =ROUND(J32*(1+kopsavilkums!$O$8),2) -> 2125.73 | O32: =P32-L32 -> 0 | P32: =ROUND(L32*(1+kopsavilkums!$O$8),2) -> 0 | Q32: =(N32+P32)-(J32+L32) -> 203.73 | R32: =Q32*M32 -> 203.73 | S32: =R32*12 -> 2444.76 | T32: =ROUND(S32*kopsavilkums!$O$23,2) -> 576.72 | U32: =SUM(S32:T32) -> 3021.48
A33: Ārsts eksperts | B33: 2212 11 | C33: PP13 | D33: 13 | E33: III | F33: 9 | I33: 2067 | J33: 1793 | K33: 0 | L33: 0 | M33: 11.6 | N33: =ROUND(J33*(1+kopsavilkums!$O$8),2) -> 1983.06 | O33: =P33-L33 -> 0 | P33: =ROUND(L33*(1+kopsavilkums!$O$8),2) -> 0 | Q33: =(N33+P33)-(J33+L33) -> 190.06 | R33: =Q33*M33 -> 2204.696 | S33: =R33*12 -> 26456.352 | T33: =ROUND(S33*kopsavilkums!$O$23,2) -> 6241.05 | U33: =SUM(S33:T33) -> 32697.402
A34: Ārsts eksperts | B34: 2212 11 | C34: Nesertificēts ārsts | D34: 13 | E34: III | F34: 9 | I34: 2067 | J34: 1793 | K34: 0 | L34: 0 | M34: 14.3 | N34: =ROUND(J34*(1+kopsavilkums!$O$8),2) -> 1983.06 | O34: =P34-L34 -> 0 | P34: =ROUND(L34*(1+kopsavilkums!$O$8),2) -> 0 | Q34: =(N34+P34)-(J34+L34) -> 190.06 | R34: =Q34*M34 -> 2717.858 | S34: =R34*12 -> 32614.296 | T34: =ROUND(S34*kopsavilkums!$O$23,2) -> 7693.71 | U34: =SUM(S34:T34) -> 40308.006
A35: Kopā | D35: x | E35: x | F35: x | I35: x | J35: x | K35: x | M35: =SUM(M17:M34) -> 64.2
A36: 05.62.00 Kopā | M36: =M35 -> 64.2
A38: 14. Iekšlietu ministrija
A39: 06.01.00 "Valsts policija" | U39: =SUM(U41,U43:U44) -> 8802.08
A40: Ārsti un funkcionālie speciālisti
A41: Ārsts | B41: 2211 01 | C41: P00 P01 | D41: 6.1. | E41: III | F41: 9 | G41: 1157 | H41: 1653 | I41: 2067 | J41: 1461 | K41: 365.25 | L41: 365.25 | M41: 1 | N41: =ROUND(J41*(1+kopsavilkums!$O$8),2) -> 1615.87 | O41: =P41-L41 -> 38.72 | P41: =ROUND(L41*(1+kopsavilkums!$O$8),2) -> 403.97 | Q41: =(N41+P41)-(J41+L41) -> 193.59 | R41: =Q41*M41 -> 193.59 | S41: =R41*12 -> 2323.08 | T41: =ROUND(S41*kopsavilkums!$O$23,2) -> 548.01 | U41: =SUM(S41:T41) -> 2871.09 | X41: atbilst | Y41: P00 P01 | Z41: nav
A42: Ārstniecības un pacientu aprūpes personas
A43: Ārsta palīgs | B43: 2240 01 | C43: n27 n86 | D43: 6.1. | E43: IA | F43: 7 | G43: 905 | H43: 1293 | I43: 1682 | J43: 1240 | K43: 310 | L43: 310 | M43: 3 | N43: =ROUND(J43*(1+kopsavilkums!$O$12),2) -> 1320.6 | O43: =P43-L43 -> 20.15 | P43: =ROUND(L43*(1+kopsavilkums!$O$12),2) -> 330.15 | Q43: =(N43+P43)-(J43+L43) -> 100.75 | R43: =Q43*M43 -> 302.25 | S43: =R43*12 -> 3627 | T43: =ROUND(S43*kopsavilkums!$O$23,2) -> 855.61 | U43: =SUM(S43:T43) -> 4482.61 | X43: atbilst | Y43: n27 n86 | Z43: nav
A44: Ārsta palīgs | B44: 2240 01 | C44: n27 n86 | D44: 6.1. | E44: IA | F44: 7 | G44: 905 | H44: 1293 | I44: 1682 | J44: 1202 | K44: 300.5 | L44: 300.5 | M44: 1 | N44: =ROUND(J44*(1+kopsavilkums!$O$12),2) -> 1280.13 | O44: =P44-L44 -> 19.53 | P44: =ROUND(L44*(1+kopsavilkums!$O$12),2) -> 320.03 | Q44: =(N44+P44)-(J44+L44) -> 97.66 | R44: =Q44*M44 -> 97.66 | S44: =R44*12 -> 1171.92 | T44: =ROUND(S44*kopsavilkums!$O$23,2) -> 276.46 | U44: =SUM(S44:T44) -> 1448.38 | X44: atbilst | Y44: n27 n86 | Z44: nav
...

Sheet Pārējās ministrijas MK851
I1: 3.2. pielikums
A2: Ārstniecības personu darba samaksas pieaugums 10.Aisardzības ministrijai un 19.Tieslietu ministrijai
I3: EUR
A4: Ārstniecības personas amata kvalifikācijas kategorija | B4: Profesiju klasifikātora kods (atbilstoši MK noteikumiem Nr.264) | C4: Ārstniecības personas profesijas vai specialitātes kodu (atbilstoši MK noteikumiem Nr.317) | D4: Slodzes (strādājošo skaits normālā darba laika ietvaros) | E4: Faktiskā mēnešalgas likme par 1 (vienu) slodzi | F4: Palielinājums par darba stāžu | G4: Piemaksas | H4: Faktiskā darba samaksa (atalgojums par slodzi) mēnesī | I4: Darba samaksas pieaugums 2024.gadam, t.sk. 23.59%
K5: Pārbaude, atbilstība prof. klasifikatoram | L5: Ārstniecības personas profesijas vai specialitātes kodu (atbilstoši MK noteikumiem Nr.317) | M5: Reģistrācija Ārstniecības ietāžu reģistrā | N5: Piezīmes, pamatojums
A7: 19.Tieslietu ministrija
A8: Apakšprogramma 04.01.00 "Ieslodzījuma vietas"
A9: I.Sertificētu ārstniecības personu amati
A10: 1.kategorija - Ārsts, zobārsts
A11: Galvenais ārsts | B11: 1342 01 | C11: P63, P27 | D11: 1 | E11: 2980 | F11: 387.4 | G11: 596 | H11: =G11+F11+E11 -> 3963.4 | I11: =ROUND((E11+F11+G11)*(kopsavilkums!$O$8)*D11*12*(1+kopsavilkums!$O$23),2) -> 6230.72 | L11: P63, P27 | M11: Reģistrēts | N11: 801000010
A12: Daļas vadītājs (ārsts) | B12: 1342 03 | C12: P25 | D12: 1 | E12: 2455 | F12: 319.15 | G12: 491 | H12: =G12+F12+E12 -> 3265.15 | I12: =ROUND((E12+F12+G12)*(kopsavilkums!$O$8)*D12*12*(1+kopsavilkums!$O$23),2) -> 5133.03 | L12: P25 | M12: Reģistrēts | N12: 801000010
A13: Daļas vadītājs (ārsts) | B13: 1342 03 | C13: P53, P54 | D13: 1 | E13: 2455 | F13: 319.15 | G13: 491 | H13: =G13+F13+E13 -> 3265.15 | I13: =ROUND((E13+F13+G13)*(kopsavilkums!$O$8)*D13*12*(1+kopsavilkums!$O$23),2) -> 5133.03 | L13: P53, P54 | M13: Reģistrēts | N13: 801000010
A14: Daļas vadītājs (ārsts) | B14: 1342 03 | C14: P39 | D14: 1 | E14: 2455 | F14: 294.6 | G14: 491 | H14: =G14+F14+E14 -> 3240.6 | I14: =ROUND((E14+F14+G14)*(kopsavilkums!$O$8)*D14*12*(1+kopsavilkums!$O$23),2) -> 5094.43 | L14: P39 | M14: Reģistrēts | N14: 801000010
A15: Daļas vadītājs (ārsts) | B15: 1342 03 | C15: P00 | D15: 1 | E15: 2030 | F15: 243.6 | G15: 406 | H15: =G15+F15+E15 -> 2679.6 | I15: =ROUND((E15+F15+G15)*(kopsavilkums!$O$8)*D15*12*(1+kopsavilkums!$O$23),2) -> 4212.5 | L15: P00 | M15: Reģistrēts | N15: 801000010
A16: Daļas vadītājs (ārsts) | B16: 1342 03 | C16: P63 | D16: 1 | E16: 2455 | F16: 319.15 | G16: 491 | H16: =G16+F16+E16 -> 3265.15 | I16: =ROUND((E16+F16+G16)*(kopsavilkums!$O$8)*D16*12*(1+kopsavilkums!$O$23),2) -> 5133.03 | L16: P63 | M16: Reģistrēts | N16: 801000010
A17: Daļas vadītājs (ārsts) | B17: 1342 03 | C17: P01 | D17: 1 | E17: 2455 | F17: 294.6 | G17: 491 | H17: =G17+F17+E17 -> 3240.6 | I17: =ROUND((E17+F17+G17)*(kopsavilkums!$O$8)*D17*12*(1+kopsavilkums!$O$23),2) -> 5094.43 | L17: P01 | M17: Reģistrēts | N17: 801000010
A18: Nodaļas vadītājs (ārsts) | B18: 1342 03 | C18: P02 | D18: 1 | E18: 2285 | F18: 205.65 | G18: 457 | H18: =G18+F18+E18 -> 2947.65 | I18: =ROUND((E18+F18+G18)*(kopsavilkums!$O$8)*D18*12*(1+kopsavilkums!$O$23),2) -> 4633.9 | L18: P02 | M18: Reģistrēts | N18: 801000010
A19: Nodaļas vadītājs (ārsts) | B19: 1342 03 | C19: P19 | D19: 1 | E19: 2285 | F19: 297.05 | G19: 457 | H19: =G19+F19+E19 -> 3039.05 | I19: =ROUND((E19+F19+G19)*(kopsavilkums!$O$8)*D19*12*(1+kopsavilkums!$O$23),2) -> 4777.58 | L19: P19 | M19: Reģistrēts | N19: 801000010
A20: Nodaļas vadītājs (ārsts) | B20: 1342 03 | C20: P57 | D20: 1 | E20: 2285 | F20: 297.05 | G20: 457 | H20: =G20+F20+E20 -> 3039.05 | I20: =ROUND((E20+F20+G20)*(kopsavilkums!$O$8)*D20*12*(1+kopsavilkums!$O$23),2) -> 4777.58 | L20: P57 | M20: Reģistrēts | N20: 801000010
A21: Nodaļas vadītājs (ārsts) | B21: 1342 03 | C21: P27 | D21: 1 | E21: 2285 | F21: 159.95 | G21: 457 | H21: =G21+F21+E21 -> 2901.95 | I21: =ROUND((E21+F21+G21)*(kopsavilkums!$O$8)*D21*12*(1+kopsavilkums!$O$23),2) -> 4562.05 | L21: P27 | M21: Reģistrēts | N21: 801000010
A22: Ārsts | B22: 2211 01 | C22: P00 | D22: 0.75 | E22: 1810 | F22: 126.7 | G22: 362 | H22: =G22+F22+E22 -> 2298.7 | I22: =ROUND((E22+F22+G22)*(kopsavilkums!$O$8)*D22*12*(1+kopsavilkums!$O$23),2) -> 2710.28 | L22: P00 | M22: Reģistrēts | N22: 801000010
... A24: Ārsts | B24: 2212 28 | C24: P39 | D24: 1 | E24: 2060 | F24: 267.8 | G24: 412 | H24: =G24+F24+E24 -> 2739.8 | I24: =ROUND((E24+F24+G24)*(kopsavilkums!$O$8)*D24*12*(1+kopsavilkums!$O$23),2) -> 4307.14 | L24: P39 | M24: Reģistrēts | N24: 801000010
A25: Ārsts | B25: 2212104 | C25: P00 | D25: 0.5 | E25: 1810 | F25: 217.2 | G25: 362 | H25: =G25+F25+E25 -> 2389.2 | I25: =ROUND((E25+F25+G25)*(kopsavilkums!$O$8)*D25*12*(1+kopsavilkums!$O$23),2) -> 1877.99 | L25: P00 | M25: Reģistrēts | N25: 801000010
A26: Ārsts | B26: 2212104 | C26: P01 | D26: 0.75 | E26: 2060 | F26: 206 | G26: 412 | H26: =G26+F26+E26 -> 2678 | I26: =ROUND((E26+F26+G26)*(kopsavilkums!$O$8)*D26*12*(1+kopsavilkums!$O$23),2) -> 3157.49 | L26: P01 | M26: Reģistrēts | N26: 801000010
A27: Ārsts | B27: 2212104 | C27: P01 | D27: 1 | E27: 2060 | F27: 267.8 | G27: 412 | H27: =G27+F27+E27 -> 2739.8 | I27: =ROUND((E27+F27+G27)*(kopsavilkums!$O$8)*D27*12*(1+kopsavilkums!$O$23),2) -> 4307.14 | L27: P01 | M27: Reģistrēts | N27: 801000010
A28: Ārsts | B28: 2212104 | C28: P01 | D28: 0.5 | E28: 2060 | F28: 247.2 | G28: 412 | H28: =G28+F28+E28 -> 2719.2 | I28: =ROUND((E28+F28+G28)*(kopsavilkums!$O$8)*D28*12*(1+kopsavilkums!$O$23),2) -> 2137.38 | L28: P01 | M28: Reģistrēts | N28: 801000010
A29: Ārsts | B29: 2212104 | C29: P01 | D29: 1 | E29: 2060 | F29: 267.8 | G29: 412 | H29: =G29+F29+E29 -> 2739.8 | I29: =ROUND((E29+F29+G29)*(kopsavilkums!$O$8)*D29*12*(1+kopsavilkums!$O$23),2) -> 4307.14 | L29: P01 | M29: Reģistrēts | N29: 801000010
A30: Ārsts | B30: 2212104 | C30: P00 | D30: 0.25 | E30: 1810 | F30: 235.3 | G30: 362 | H30: =G30+F30+E30 -> 2407.3 | I30: =ROUND((E30+F30+G30)*(kopsavilkums!$O$8)*D30*12*(1+kopsavilkums!$O$23),2) -> 946.11 | L30: P00 | M30: Reģistrēts | N30: 801000010
A31: Ārsts | B31: 2212104 | C31: P01 | D31: 0.75 | E31: 2060 | F31: 206 | G31: 412 | H31: =G31+F31+E31 -> 2678 | I31: =ROUND((E31+F31+G31)*(kopsavilkums!$O$8)*D31*12*(1+kopsavilkums!$O$23),2) -> 3157.49 | L31: P01 | M31: Reģistrēts | N31: 801000010
A32: Ārsts | B32: 2212 86 | C32: P19 | D32: 1 | E32: 2060 | F32: 267.8 | G32: 412 | H32: =G32+F32+E32 -> 2739.8 | I32: =ROUND((E32+F32+G32)*(kopsavilkums!$O$8)*D32*12*(1+kopsavilkums!$O$23),2) -> 4307.14 | L32: P19 | M32: Reģistrēts | N32: 801000010
A33: Ārsts | B33: 2212 86 | C33: P19 | D33: 1 | E33: 2060 | F33: 267.8 | G33: 412 | H33: =G33+F33+E33 -> 2739.8 | I33: =ROUND((E33+F33+G33)*(kopsavilkums!$O$8)*D33*12*(1+kopsavilkums!$O$23),2) -> 4307.14 | L33: P19 | M33: Reģistrēts | N33: 801000010
A34: Ārsts | B34: 2212 86 | C34: P19 | D34: 0.5 | E34: 2060 | F34: 144.2 | G34: 412 | H34: =G34+F34+E34 -> 2616.2 | I34: =ROUND((E34+F34+G34)*(kopsavilkums!$O$8)*D34*12*(1+kopsavilkums!$O$23),2) -> 2056.42 | L34: P19 | M34: Reģistrēts | N34: 801000010
A35: Ārsts | B35: 2212 86 | C35: P19 | D35: 0.5 | E35: 2060 | F35: 206 | G35: 412 | H35: =G35+F35+E35 -> 2678 | I35: =ROUND((E35+F35+G35)*(kopsavilkums!$O$8)*D35*12*(1+kopsavilkums!$O$23),2) -> 2104.99 | L35: P19 | M35: Reģistrēts | N35: 801000010
A36: Ārsts | B36: 2212 86 | C36: P19 | D36: 0.5 | E36: 2060 | F36: 267.8 | G36: 412 | H36: =G36+F36+E36 -> 2739.8 | I36: =ROUND((E36+F36+G36)*(kopsavilkums!$O$8)*D36*12*(1+kopsavilkums!$O$23),2) -> 2153.57 | L36: P19 | M36: Reģistrēts | N36: 801000010
A37: Ārsts | B37: 2212 86 | C37: P19, P64 | D37: 0.25 | E37: 2060 | F37: 267.8 | G37: 412 | H37: =G37+F37+E37 -> 2739.8 | I37: =ROUND((E37+F37+G37)*(kopsavilkums!$O$8)*D37*12*(1+kopsavilkums!$O$23),2) -> 1076.79 | L37: P19, P64 | M37: Reģistrēts | N37: 801000010
A38: Ārsts | B38: 2212 86 | C38: P19, P64 | D38: 0.25 | E38: 2060 | F38: 247.2 | G38: 412 | H38: =G38+F38+E38 -> 2719.2 | I38: =ROUND((E38+F38+G38)*(kopsavilkums!$O$8)*D38*12*(1+kopsavilkums!$O$23),2) -> 1068.69 | L38: P19, P64 | M38: Reģistrēts | N38: 801000010
A39: Ārsts | B39: 2212 86 | C39: P19 | D39: 0.5 | E39: 2060 | F39: 123.6 | G39: 412 | H39: =G39+F39+E39 -> 2595.6 | I39: =ROUND((E39+F39+G39)*(kopsavilkums!$O$8)*D39*12*(1+kopsavilkums!$O$23),2) -> 2040.23 | L39: P19 | M39: Reģistrēts | N39: 801000010
A40: Ārsts | B40: 2212 86 | C40: P19 | D40: 1 | E40: 2060 | F40: 144.2 | G40: 412 | H40: =G40+F40+E40 -> 2616.2 | I40: =ROUND((E40+F40+G40)*(kopsavilkums!$O$8)*D40*12*(1+kopsavilkums!$O$23),2) -> 4112.84 | L40: P19 | M40: Reģistrēts | N40: 801000010
A41: Ārsts | B41: 2212 82 | C41: P23 | D41: 0.25 | E41: 2060 | F41: 247.2 | G41: 412 | H41: =G41+F41+E41 -> 2719.2 | I41: =ROUND((E41+F41+G41)*(kopsavilkums!$O$8)*D41*12*(1+kopsavilkums!$O$23),2) -> 1068.69 | L41: P23 | M41: Reģistrēts | N41: 801000010
A42: Ārsts | B42: 2212 37 | C42: P27 | D42: 0.25 | E42: 2060 | F42: 267.8 | G42: 412 | H42: =G42+F42+E42 -> 2739.8 | I42: =ROUND((E42+F42+G42)*(kopsavilkums!$O$8)*D42*12*(1+kopsavilkums!$O$23),2) -> 1076.79 | L42: P27 | M42: Reģistrēts | N42: 801000010
...

Sheet Pārējās ministrijas MK509
J1: 3.3. pielikums
B3: Nacionālo bruņoto spēku militārā ārstniecības personāla faktiskā darba samaksa atbilstoši MK 26.08.2014. noteikumiem Nr. 509
J4: EUR
B5: Informācija par ārstniecības personām
B6: Ārstniecības personas amata kvalifikācijas kategorija | C6: Nacionālo bruņoto spēku profesiju klasifikātora kods (atbilstoši MK noteikumiem Nr.264) | D6: Ārstniecības personas profesijas vai specialitātes kodu (atbilstoši MK noteikumiem Nr.317) | E6: Slodzes (strādājošo skaits normālā darba laika ietvaros) | F6: Faktiskā mēnešalgas likme par 1 (vienu) slodzi | G6: Palielinājums par darba stāžu | H6: Piemaksas | I6: Faktiskā darba samaksa (atalgojums par slodzi) mēnesī | J6: Darba samaksas pieaugums 2024.gadam, t.sk. 23.59%
L7: Pārbaude, atbilstība prof. klasifikatoram | M7: Ārstniecības personas profesijas vai specialitātes kodu (atbilstoši MK noteikumiem Nr.317) | N7: Reģistrācija Ārstniecības ietāžu reģistrā | O7: Piezīmes, pamatojums
B8: Aizsardzības ministrija
B9: Budžeta programma 22.00.00 "Nacionālie bruņotie spēki", apakšprogramma 22.10.00 "Starptautisko operāciju un Nacionālo bruņoto spēku centralizētais atalgojums"
B10: I. Sertificētu ārstniecības personu amati
B11: 1.kategorija - Ārsts, zobārsts | E11: =SUM(E12:E27) -> 16 | F11: =SUM(F12:F27) -> 46703 | G11: =SUM(G12:G27) -> 0 | H11: =SUM(H12:H27) -> 0 | I11: =SUM(I12:I27) -> 46703
B12: Galvenais vadības ārsts | C12: 0110 04 | D12: P 63 "Veselības aprūpes vadības ārsts" P 61 "Akupunktūras ārsts" | E12: 1 | F12: 4133.25 | I12: 4133.25 | J12: =ROUND((F12+G12+H12)*(kopsavilkums!$O$8)*E12*12*(1+kopsavilkums!$O$23),2) -> 6497.74 | L12: 0110 04 "PULKVEDIS/ Jūras KAPTEINIS" 1342 03 "Veselības aprūpes vadības ĀRSTS" | M12: P 63 "Veselības aprūpes vadības ārsts" P 61 "Akupunktūras ārsts" | N12: Reģistrēts | O12: Kods: 804455301
B13: Galvenais ārsts | C13: 0110 05 | D13: PP 13 "Eksperts" | E13: 1 | F13: 3110.25 | I13: 3110.25 | J13: =ROUND((F13+G13+H13)*(kopsavilkums!$O$8)*E13*12*(1+kopsavilkums!$O$23),2) -> 4889.51 | L13: 0110 05 "PULKVEŽLEITNANTS/ KOMANDKAPTEINIS" 2212 11 "ĀRSTS EKSPERTS" | M13: PP 13 "Eksperts" | N13: Reģistrēts | O13: Kods: 010058901
B14: Galvenais ārsts | C14: 0110 05 | D14: P 63 "Veselības aprūpes vadības ārsts" P 42 "Psihoterapeits" P 01 "Internists" | E14: 1 | F14: 4344 | I14: 4344 | J14: =ROUND((F14+G14+H14)*(kopsavilkums!$O$8)*E14*12*(1+kopsavilkums!$O$23),2) -> 6829.05 | L14: 0110 05 "PULKVEŽLEITNANTS/ KOMANDKAPTEINIS" 1342 03 "Veselības aprūpes vadības ĀRSTS" | M14: P 63 "Veselības aprūpes vadības ārsts" P 42 "Psihoterapeits" P 01 "Internists" | N14: Reģistrēts | O14: Kods: 170055301
B15: Galvenais ārsts | C15: 0110 05 | D15: P 53 "Arodveselības un arodslimību ārsts" P 63 "Veselības aprūpes vadības ārsts" PP 13 "Eksperts" P 01 "Internists" | E15: 1 | F15: 3544 | I15: 3544 | J15: =ROUND((F15+G15+H15)*(kopsavilkums!$O$8)*E15*12*(1+kopsavilkums!$O$23),2) -> 5571.4 | L15: 0110 05 "PULKVEŽLEITNANTS/ KOMANDKAPTEINIS" 1342 03 "Veselības aprūpes vadības ĀRSTS" | M15: P 53 "Arodveselības un arodslimību ārsts" P 63 "Veselības aprūpes vadības ārsts" PP 13 "Eksperts" P 01 "Internists" | N15: Reģistrēts | O15: Kods: 010054116
B16: Galvenais ārsts | C16: 0110 05 | D16: P 01 "Internists" | E16: 1 | F16: 4008 | I16: 4008 | J16: =ROUND((F16+G16+H16)*(kopsavilkums!$O$8)*E16*12*(1+kopsavilkums!$O$23),2) -> 6300.84 | L16: 0110 05 "PULKVEŽLEITNANTS/ KOMANDKAPTEINIS" 2212 104 "INTERNISTS" | M16: P 01 "Internists" | N16: Reģistrēts | O16: Kods: 010001838
B17: Vecākais ārsts | C17: 0110 06 | D17: P 03 "Ķirurgs" | E17: 1 | F17: 2277 | I17: 2277 | J17: =ROUND((F17+G17+H17)*(kopsavilkums!$O$8)*E17*12*(1+kopsavilkums!$O$23),2) -> 3579.59 | L17: 0110 06 "MAJORS/ KOMANDLEITNANTS" 2212 61 "ĶIRURGS" | M17: P 03 "Ķirurgs" | N17: Reģistrēts | O17: Kods: 010054116
B18: Vecākais ārsts | C18: 0110 06 | D18: P 53 "Arodveselības un arodslimību ārsts" P 02 "Ģimenes (vispārējās prakses) ārsts" | E18: 1 | F18: 3745.5 | I18: 3745.5 | J18: =ROUND((F18+G18+H18)*(kopsavilkums!$O$8)*E18*12*(1+kopsavilkums!$O$23),2) -> 5888.17 | L18: 0110 06 "MAJORS/ KOMANDLEITNANTS" 2212 08 "Arodveselības un arodslimību ĀRSTS" | M18: P 53 "Arodveselības un arodslimību ārsts" P 02 "Ģimenes (vispārējās prakses) ārsts" | N18: Reģistrēts | O18: Kods: 420200055
B19: Virsārsts | C19: 0110 06 | D19: P 01 "Internists" | E19: 1 | F19: 3368 | I19: 3368 | J19: =ROUND((F19+G19+H19)*(kopsavilkums!$O$8)*E19*12*(1+kopsavilkums!$O$23),2) -> 5294.71 | L19: 0110 06 "MAJORS/ KOMANDLEITNANTS" 2212 104 "INTERNISTS" | M19: P 01 "Internists" | N19: Reģistrēts | O19: Kods: 010058901
B20: Virsārsts | C20: 0110 06 | D20: P 36 "Sporta ārsts" | E20: 1 | F20: 2576 | I20: 2576 | J20: =ROUND((F20+G20+H20)*(kopsavilkums!$O$8)*E20*12*(1+kopsavilkums!$O$23),2) -> 4049.64 | L20: 0110 06 "MAJORS/ KOMANDLEITNANTS" 2212 36 "Sporta ĀRSTS" | M20: P 36 "Sporta ārsts" | N20: Reģistrēts | O20: Kods: 741000012
B21: Virsārsts | C21: 0110 06 | D21: P 02 "Ģimenes (vispārējās prakses) ārsts" | E21: 1 | F21: 2656.5 | I21: 2656.5 | J21: =ROUND((F21+G21+H21)*(kopsavilkums!$O$8)*E21*12*(1+kopsavilkums!$O$23),2) -> 4176.19 | L21: 0110 06 "MAJORS/ KOMANDLEITNANTS" 2211 03 "Ģimenes/ vispārējās prakses ĀRSTS" | M21: P 02 "Ģimenes (vispārējās prakses) ārsts" | N21: Reģistrēts | O21: Kods: 804455301
B22: Virsārsts | C22: 0110 06 | D22: P 01 "Internists" | E22: 1 | F22: 2359.5 | I22: 2359.5 | J22: =ROUND((F22+G22+H22)*(kopsavilkums!$O$8)*E22*12*(1+kopsavilkums!$O$23),2) -> 3709.29 | L22: 0110 06 "MAJORS/ KOMANDLEITNANTS" 2212 104 "INTERNISTS" | M22: P 01 "Internists" | N22: Reģistrēts | O22: Kods: 804455301
B23: Virsārsts | C23: 0110 06 | D23: P 02 "Ģimenes (vispārējās prakses) ārsts" | E23: 1 | F23: 2277 | I23: 2277 | J23: =ROUND((F23+G23+H23)*(kopsavilkums!$O$8)*E23*12*(1+kopsavilkums!$O$23),2) -> 3579.59 | L23: 0110 06 "MAJORS/ KOMANDLEITNANTS" 2211 03 "Ģimenes/ vispārējās prakses ĀRSTS" | M23: P 02 "Ģimenes (vispārējās prakses) ārsts" | N23: Reģistrēts | O23: Kods: 010001838
... B27: Ārsts | C27: 0110 07 | D27: P 02 "Ģimenes (vispārējās prakses) ārsts" | E27: 1 | F27: 1904 | I27: 1904 | J27: =ROUND((F27+G27+H27)*(kopsavilkums!$O$8)*E27*12*(1+kopsavilkums!$O$23),2) -> 2993.21 | L27: 0110 07 "KAPTEINIS/ KAPTEIŅLEITNANTS" 2211 03 "Ģimenes/ vispārējās prakses ĀRSTS" | M27: P 02 "Ģimenes (vispārējās prakses) ārsts" | N27: Reģistrēts | O27: Kods: 804455301
B28: 3.kategorija - Māsa (vispārējās aprūpes māsa), ārsta palīgs (feldšeris), vecmāte, biomedicīnas laborants, radiologa asistents, radiogrāfers | E28: =SUM(E29:E135) -> 107 | F28: =SUM(F29:F29) -> 1635.25 | G28: =SUM(G29:G29) -> 0 | H28: =SUM(H29:H29) -> 0 | I28: =SUM(I29:I29) -> 1635.25
B29: Galvenā vadības māsa | C29: 0210 03 | D29: n120 "Māsa (vispārējās aprūpes māsa)" | E29: 1 | F29: 1635.25 | G29: 0 | H29: 0 | I29: =E29*(F29+G29)+H29 -> 1635.25 | J29: =ROUND((F29+G29+H29)*(kopsavilkums!$O$12)*E29*12*(1+kopsavilkums!$O$23),2) -> 1576.38 | L29: 0210 03 "Štāba VIRSSERŽANTS/ Štāba BOCMANIS" 1342 05 "Galvenā medicīnas MĀSA" | M29: n120 "Māsa (vispārējās aprūpes māsa)" | N29: Reģistrēts | O29: Kods: 010058901
B30: Vecākais ārsta palīgs | C30: 0210 03 | D30: n74 "Neatliekamās medicīnas ārsta palīgs (feldšeris)" | E30: 1 | F30: 3072 | I30: =E30*(F30+G30)+H30 -> 3072 | J30: =ROUND((F30+G30+H30)*(kopsavilkums!$O$12)*E30*12*(1+kopsavilkums!$O$23),2) -> 2961.41 | L30: 0210 03 "Štāba VIRSSERŽANTS/ Štāba BOCMANIS" 2240 01 "ĀRSTA PALĪGS/ FELDŠERIS" | M30: n74 "Neatliekamās medicīnas ārsta palīgs (feldšeris)" | N30: Reģistrēts | O30: Kods: 010054116
B31: Vecākais ārsta palīgs | C31: 0210 03 | D31: n86 "Ambulatorā dienesta ārsta palīgs" | E31: 1 | F31: 1952 | I31: =E31*(F31+G31)+H31 -> 1952 | J31: =ROUND((F31+G31+H31)*(kopsavilkums!$O$12)*E31*12*(1+kopsavilkums!$O$23),2) -> 1881.73 | L31: 0210 03 "Štāba VIRSSERŽANTS/ Štāba BOCMANIS" 2240 02 "Ambulatorā dienesta ĀRSTA PALĪGS" | M31: n86 "Ambulatorā dienesta ārsta palīgs" | N31: Reģistrēts | O31: Kods: 170055301
B32: Vecākais ārsta palīgs | C32: 0210 03 | D32: n74 "Neatliekamās medicīnas ārsta palīgs (feldšeris)" | E32: 1 | F32: 1952 | I32: =E32*(F32+G32)+H32 -> 1952 | J32: =ROUND((F32+G32+H32)*(kopsavilkums!$O$12)*E32*12*(1+kopsavilkums!$O$23),2) -> 1881.73 | L32: 0210 03 "Štāba VIRSSERŽANTS/ Štāba BOCMANIS" 2240 01 "ĀRSTA PALĪGS/ FELDŠERIS" | M32: n74 "Neatliekamās medicīnas ārsta palīgs (feldšeris)" | N32: Reģistrēts | O32: Kods: 170055301
B33: Vecākais ārsta palīgs | C33: 0210 03 | D33: n86 "Ambulatorā dienesta ārsta palīgs" n74 "Neatliekamās medicīnas ārsta palīgs (feldšeris)" | E33: 1 | F33: 1952 | I33: =E33*(F33+G33)+H33 -> 1952 | J33: =ROUND((F33+G33+H33)*(kopsavilkums!$O$12)*E33*12*(1+kopsavilkums!$O$23),2) -> 1881.73 | L33: 0210 03 "Štāba VIRSSERŽANTS/ Štāba BOCMANIS" 2240 02 "Ambulatorā dienesta ĀRSTA PALĪGS" | M33: n86 "Ambulatorā dienesta ārsta palīgs" n74 "Neatliekamās medicīnas ārsta palīgs (feldšeris)" | N33: Reģistrēts | O33: Kods: 420200055
B34: Vecākais ārsta palīgs | C34: 0210 03 | D34: n74 "Neatliekamās medicīnas ārsta palīgs (feldšeris)" | E34: 1 | F34: 2592 | I34: =E34*(F34+G34)+H34 -> 2592 | J34: =ROUND((F34+G34+H34)*(kopsavilkums!$O$12)*E34*12*(1+kopsavilkums!$O$23),2) -> 2498.69 | L34: 0210 03 "Štāba VIRSSERŽANTS/ Štāba BOCMANIS" 2240 01 "ĀRSTA PALĪGS/ FELDŠERIS" | M34: n74 "Neatliekamās medicīnas ārsta palīgs (feldšeris)" | N34: Reģistrēts | O34: Kods: 170055301
B35: Vecākais ārsta palīgs | C35: 0210 03 | D35: n86 "Ambulatorā dienesta ārsta palīgs" | E35: 1 | F35: 2201 | I35: =E35*(F35+G35)+H35 -> 2201 | J35: =ROUND((F35+G35+H35)*(kopsavilkums!$O$12)*E35*12*(1+kopsavilkums!$O$23),2) -> 2121.77 | L35: 0210 03 "Štāba VIRSSERŽANTS/ Štāba BOCMANIS" 2240 02 "Ambulatorā dienesta ĀRSTA PALĪGS" | M35: n86 "Ambulatorā dienesta ārsta palīgs" | N35: Reģistrēts | O35: Kods: 360200046
B36: Galvenā medicīnas māsa | C36: 0210 03 | D36: n120 "Māsa (vispārējās aprūpes māsa)" | E36: 1 | F36: 3152 | I36: =E36*(F36+G36)+H36 -> 3152 | J36: =ROUND((F36+G36+H36)*(kopsavilkums!$O$12)*E36*12*(1+kopsavilkums!$O$23),2) -> 3038.53 | L36: 0210 03 "Štāba VIRSSERŽANTS/ Štāba BOCMANIS" 1342 05 "Galvenā medicīnas MĀSA" | M36: n120 "Māsa (vispārējās aprūpes māsa)" | N36: Reģistrēts | O36: Kods: 360200046
B37: Vecākais ārsta palīgs | C37: 0210 03 | D37: n86 "Ambulatorā dienesta ārsta palīgs" | E37: 1 | F37: 3072 | I37: =E37*(F37+G37)+H37 -> 3072 | J37: =ROUND((F37+G37+H37)*(kopsavilkums!$O$12)*E37*12*(1+kopsavilkums!$O$23),2) -> 2961.41 | L37: 0210 03 "Štāba VIRSSERŽANTS/ Štāba BOCMANIS" 2240 02 "Ambulatorā dienesta ĀRSTA PALĪGS" | M37: n86 "Ambulatorā dienesta ārsta palīgs" | N37: Reģistrēts | O37: Kods: 360200046
B38: Vecākais ārsta palīgs | C38: 0210 03 | D38: n86 "Ambulatorā dienesta ārsta palīgs" | E38: 1 | F38: 3072 | I38: =E38*(F38+G38)+H38 -> 3072 | J38: =ROUND((F38+G38+H38)*(kopsavilkums!$O$12)*E38*12*(1+kopsavilkums!$O$23),2) -> 2961.41 | L38: 0210 03 "Štāba VIRSSERŽANTS/ Štāba BOCMANIS" 2240 02 "Ambulatorā dienesta ĀRSTA PALĪGS" | M38: n86 "Ambulatorā dienesta ārsta palīgs" | N38: Reģistrēts | O38: Kods: 170055301
B39: Galvenā medicīnas māsa | C39: 0210 03 | D39: n120 "Māsa (vispārējās aprūpes māsa)" | E39: 1 | F39: 2123.5 | I39: =E39*(F39+G39)+H39 -> 2123.5 | J39: =ROUND((F39+G39+H39)*(kopsavilkums!$O$12)*E39*12*(1+kopsavilkums!$O$23),2) -> 2047.06 | L39: 0210 03 "Štāba VIRSSERŽANTS/ Štāba BOCMANIS" 1342 05 "Galvenā medicīnas MĀSA" | M39: n120 "Māsa (vispārējās aprūpes māsa)" | N39: Reģistrēts | O39: Kods: 741000012
B40: Vecākais ārsta palīgs | C40: 0210 03 | D40: n86 "Ambulatorā dienesta ārsta palīgs" | E40: 1 | F40: 2588.5 | I40: =E40*(F40+G40)+H40 -> 2588.5 | J40: =ROUND((F40+G40+H40)*(kopsavilkums!$O$12)*E40*12*(1+kopsavilkums!$O$23),2) -> 2495.32 | L40: 0210 03 "Štāba VIRSSERŽANTS/ Štāba BOCMANIS" 2240 02 "Ambulatorā dienesta ĀRSTA PALĪGS" | M40: n86 "Ambulatorā dienesta ārsta palīgs" | N40: Reģistrēts | O40: Kods: 741000012
B41: Galvenā medicīnas māsa | C41: 0210 03 | D41: n120 "Māsa (vispārējās aprūpes māsa)" | E41: 1 | F41: 2992 | I41: =E41*(F41+G41)+H41 -> 2992 | J41: =ROUND((F41+G41+H41)*(kopsavilkums!$O$12)*E41*12*(1+kopsavilkums!$O$23),2) -> 2884.29 | L41: 0210 03 "Štāba VIRSSERŽANTS/ Štāba BOCMANIS" 1342 05 "Galvenā medicīnas MĀSA" | M41: n120 "Māsa (vispārējās aprūpes māsa)" | N41: Reģistrēts | O41: Kods: 804455301
... B135: Jaunākais instruktors | C135: 0210 06 | D135: n74 "Neatliekamās medicīnas ārsta palīgs (feldšeris)" | E135: 1 | F135: 1588.75 | I135: =E135*(F135+G135)+H135 -> 1588.75 | J135: =ROUND((F135+G135+H135)*(kopsavilkums!$O$12)*E135*12*(1+kopsavilkums!$O$23),2) -> 1531.56 | L135: 0210 06 "KAPRĀLIS" 2240 01 "ĀRSTA PALĪGS/ FELDŠERIS" | M135: n74 "Neatliekamās medicīnas ārsta palīgs (feldšeris)" | N135: Reģistrēts | O135: Kods: 360200046
B136: Kopā | E136: =E28+E11 -> 123 | F136: 1643 | I136: =E136*(F136+G136)+H136 -> 202089 | J136: =SUM(J12:J135) -> 297929.7

Sheet VM padotibas iest MK361
U1: 3.4. pielikums
A2: Veselības ministrijas padotības iestādēs strādājošo, uz kuriem ir attiecināms Valsts un pašvaldību institūciju amatpersonu un darbinieku atlīdzības likumā noteiktās mēnešalgu grupu maksimālās mēnešalgas, darba samaksas palielinājums
U3: EUR
A4: Amata nosaukums | B4: Profesiju klasifikātora kods (atbilstoši MK noteikumiem Nr.264) | C4: Ārstniecības personas profesijas vai specialitātes kodu (atbilstoši MK noteikumiem Nr.317) | D4: Valsts kancelejā saskaņotā amata saime | E4: Līmenis | F4: Amatam atbilstošā mēneš-algu grupa | G4: Mēnešalgas apmērs ņemot vērā minimālo koeficientu pret bāzes mēnešalgu pēc MK not. Nr.361 (Atlīdzības likuma 3.piel), EUR | H4: Mēnešalgas apmērs ņemot vērā viduspunkta koeficientu pret bāzes mēnešalgu pēc MK not. Nr.361 (Atlīdzības likuma 3.piel), EUR | I4: Mēnešalgas apmērs ņemot vērā maksimālo koeficientu pret bāzes mēnešalgu pēc MK not. Nr.361 (Atlīdzības likuma 3.piel), EUR | J4: Faktiskā mēneš-algas likme par 1 slodzi | K4: Piemaksas* | L4: Piemaksas kopā | M4: Slodzes (normālā darba laika ietvaros) | N4: 2024.gada jaunā amatalga ar pieaugumu | O4: pieaugums regulārai piemaksai | P4: regulārā piemaksa ar pieau-gumu | Q4: kopā pieaugums uz vienu slodzi (ievērojot MK not.) | R4: kopā pieaugums uz visām slodzēm mēnesī | S4: papildus līdzekļi atalgojumam (1100 kods) gadā | T4: darba devēja VSAOI 23.59% (1200 kods) gadā | U4: papildus līdzekļi atlīdzībai (1000 kods) gadā | W4: Pārbaude, atbilstība prof. klasifikatoram | X4: Ārstniecības personas profesijas vai specialitātes kodu (atbilstoši MK noteikumiem Nr.317) | Y4: Reģistrācija Ārstniecības ietāžu reģistrā | Z4: Piezīmes, pamatojums
A5: Neatliekamās medicīniskās palīdzības dienests
A6: 39.04.00 Neatliekamā medicīniskā palīdzība
A7: Funkcionālie speciālisti
A8: Brigāžu atbalsta vadības centra vadītājs | B8: 1213 05 | C8: P 39 | D8: 6.4 | E8: VI | F8: 14 | G8: 3225.8366 | H8: 4606.713 | I8: 5528.0556 | J8: 3230 | K8: 0 | L8: 0 | M8: 1 | N8: =ROUND(J8*(1+kopsavilkums!$O$8),2) -> 3572.38 | O8: =P8-L8 -> 0 | P8: =ROUND(L8*(1+kopsavilkums!$O$8),2) -> 0 | Q8: =(N8+P8)-(J8+L8) -> 342.38 | R8: =Q8*M8 -> 342.38 | S8: =R8*12 -> 4108.56 | T8: =ROUND(S8*(kopsavilkums!$O$23),2) -> 969.21 | U8: =SUM(S8:T8) -> 5077.77 | W8: Pamatdarbības struktūrvienības VADĪTĀJS/ DIREKTORS (valsts pārvaldes jomā) | X8: P 39 | Y8: Reģistrēta | Z8: Amata pienākumus var veikt tikai reģistrēta ārstniecības persona.
A9: Operatīvā darba organizēšanas nodaļas vadītājs | B9: 1213 05 | C9: P 00 | D9: 6.4 | E9: IV | F9: 12 | G9: 2173.6861 | H9: 3105.2658 | I9: 3726.319 | J9: 2175 | K9: 0 | L9: 0 | M9: 1 | N9: =ROUND(J9*(1+kopsavilkums!$O$8),2) -> 2405.55 | O9: =P9-L9 -> 0 | P9: =ROUND(L9*(1+kopsavilkums!$O$8),2) -> 0 | Q9: =(N9+P9)-(J9+L9) -> 230.55 | R9: =Q9*M9 -> 230.55 | S9: =R9*12 -> 2766.6 | T9: =ROUND(S9*(kopsavilkums!$O$23),2) -> 652.64 | U9: =SUM(S9:T9) -> 3419.24 | W9: Pamatdarbības struktūrvienības VADĪTĀJS/ DIREKTORS (valsts pārvaldes jomā) | X9: P 00 | Y9: Reģistrēta | Z9: Amata pienākumus var veikt tikai reģistrēta ārstniecības persona.
A10: SMC vadītājs | B10: 1213 06 | C10: P 00 | D10: 6.4 | E10: V | F10: 13 | G10: 2694.6427 | H10: 3850.3021 | I10: 4620.3625 | J10: 2750 | K10: 0 | L10: 0 | M10: 1 | N10: =ROUND(J10*(1+kopsavilkums!$O$8),2) -> 3041.5 | O10: =P10-L10 -> 0 | P10: =ROUND(L10*(1+kopsavilkums!$O$8),2) -> 0 | Q10: =(N10+P10)-(J10+L10) -> 291.5 | R10: =Q10*M10 -> 291.5 | S10: =R10*12 -> 3498 | T10: =ROUND(S10*(kopsavilkums!$O$23),2) -> 825.18 | U10: =SUM(S10:T10) -> 4323.18 | W10: Pamatdarbības struktūrvienības VADĪTĀJS/ DIREKTORS (valsts pārvaldes jomā) | X10: P 00 | Y10: Reģistrēta | Z10: Amata pienākumus var veikt tikai reģistrēta ārstniecības persona.
A11: SMC vadītāja vietnieks | B11: 1213 05 | C11: P 00 | D11: 6.4 | E11: IV | F11: 12 | G11: 2173.6861 | H11: 3105.2658 | I11: 3726.319 | J11: 2175 | K11: 0 | L11: 0 | M11: 1 | N11: =ROUND(J11*(1+kopsavilkums!$O$8),2) -> 2405.55 | O11: =P11-L11 -> 0 | P11: =ROUND(L11*(1+kopsavilkums!$O$8),2) -> 0 | Q11: =(N11+P11)-(J11+L11) -> 230.55 | R11: =Q11*M11 -> 230.55 | S11: =R11*12 -> 2766.6 | T11: =ROUND(S11*(kopsavilkums!$O$23),2) -> 652.64 | U11: =SUM(S11:T11) -> 3419.24 | W11: Pamatdarbības struktūrvienības VADĪTĀJA VIETNIEKS/ DIREKTORA VIETNIEKS (valsts pārvaldes jomā) | X11: P 00 | Y11: Reģistrēta | Z11: Amata pienākumus var veikt tikai reģistrēta ārstniecības persona.
A12: OVC vadītājs | B12: 1213 06 | C12: P 00 | D12: 6.4 | E12: VI | F12: 14 | G12: 3225.8366 | H12: 4606.713 | I12: 5528.0556 | J12: 3250 | K12: 0 | L12: 0 | M12: 1 | N12: =ROUND(J12*(1+kopsavilkums!$O$8),2) -> 3594.5 | O12: =P12-L12 -> 0 | P12: =ROUND(L12*(1+kopsavilkums!$O$8),2) -> 0 | Q12: =(N12+P12)-(J12+L12) -> 344.5 | R12: =Q12*M12 -> 344.5 | S12: =R12*12 -> 4134 | T12: =ROUND(S12*(kopsavilkums!$O$23),2) -> 975.21 | U12: =SUM(S12:T12) -> 5109.21 | W12: Pamatdarbības struktūrvienības VADĪTĀJS/ DIREKTORS (valsts pārvaldes jomā) | X12: P 00 | Y12: Reģistrēta | Z12: Amata pienākumus var veikt tikai reģistrēta ārstniecības persona.
A13: OVC vadītāja vietnieks | B13: 1213 05 | C13: P 00/n74 | D13: 6.4 | E13: V | F13: 13 | G13: 2694.6427 | H13: 3850.3021 | I13: 4620.3625 | J13: 2695 | K13: 0 | L13: 0 | M13: 1 | N13: =ROUND(J13*(1+kopsavilkums!$O$8),2) -> 2980.67 | O13: =P13-L13 -> 0 | P13: =ROUND(L13*(1+kopsavilkums!$O$8),2) -> 0 | Q13: =(N13+P13)-(J13+L13) -> 285.67 | R13: =Q13*M13 -> 285.67 | S13: =R13*12 -> 3428.04 | T13: =ROUND(S13*(kopsavilkums!$O$23),2) -> 808.67 | U13: =SUM(S13:T13) -> 4236.71 | W13: Pamatdarbības struktūrvienības VADĪTĀJA VIETNIEKS/ DIREKTORA VIETNIEKS (valsts pārvaldes jomā) | X13: P 00/n74 | Y13: Reģistrēta | Z13: Amata pienākumus var veikt tikai reģistrēta ārstniecības persona.
A14: Pacientu drošības sistēmas vadītājs | B14: 2421 01 | C14: P39 | D14: 6.4 | E14: IV | F14: 12 | G14: 2173.6861 | H14: 3105.2658 | I14: 3726.319 | J14: 2175 | K14: 0 | L14: 0 | M14: 1 | N14: =ROUND(J14*(1+kopsavilkums!$O$8),2) -> 2405.55 | O14: =P14-L14 -> 0 | P14: =ROUND(L14*(1+kopsavilkums!$O$8),2) -> 0 | Q14: =(N14+P14)-(J14+L14) -> 230.55 | R14: =Q14*M14 -> 230.55 | S14: =R14*12 -> 2766.6 | T14: =ROUND(S14*(kopsavilkums!$O$23),2) -> 652.64 | U14: =SUM(S14:T14) -> 3419.24 | W14: Vecākais KONSULTANTS | X14: P39 | Y14: Reģistrēta | Z14: Amata pienākumus var veikt tikai reģistrēta ārstniecības persona.
A15: Brigāžu atbalsta vadības centra vadītāja vietnieks | B15: 1213 06 | C15: n75 | D15: 6.4 | E15: V | F15: 13 | G15: 2694.6427 | H15: 3850.3021 | I15: 4620.3625 | J15: 2750 | K15: 0 | L15: 0 | M15: 1 | N15: =ROUND(J15*(1+kopsavilkums!$O$8),2) -> 3041.5 | O15: =P15-L15 -> 0 | P15: =ROUND(L15*(1+kopsavilkums!$O$8),2) -> 0 | Q15: =(N15+P15)-(J15+L15) -> 291.5 | R15: =Q15*M15 -> 291.5 | S15: =R15*12 -> 3498 | T15: =ROUND(S15*(kopsavilkums!$O$23),2) -> 825.18 | U15: =SUM(S15:T15) -> 4323.18 | W15: Pamatdarbības struktūrvienības VADĪTĀJA VIETNIEKS/ DIREKTORA VIETNIEKS (valsts pārvaldes jomā) | X15: n75 | Y15: Reģistrēta | Z15: Amata pienākumus var veikt tikai reģistrēta ārstniecības persona.
A16: Kopā | D16: x | E16: x | F16: x | I16: x | J16: x | K16: x | M16: =SUM(M8:M15) -> 8
A17: Kopā iestādei | M17: =SUM(M16) -> 8 | U17: =SUM(U8:U15) -> 33327.77
A19: Valsts asinsdonoru centrs
A20: 39.03.00 Specializētās veselības aprūpes nodrošināšana, Asins un asins komponentu nodrošināšana
A21: Atbalsta personas
A22: Izbraukumu projektu vadītājs (izbraukumu organizators) | B22: 2422 02 | D22: 25 | E22: V | F22: 9 | G22: 1157 | H22: 1653 | I22: 2067 | J22: 1467 | K22: 61.125 | L22: 61.125 | M22: 1 | N22: =ROUND(J22*(1+kopsavilkums!$O$12),2) -> 1562.36 | O22: =P22-L22 -> 3.973125 | P22: =L22*(1+kopsavilkums!$O$12) -> 65.098125 | Q22: =(N22+P22)-(J22+L22) -> 99.333125 | R22: =Q22*M22 -> 99.333125 | S22: =R22*12 -> 1191.9975 | T22: =ROUND(S22*kopsavilkums!$O$23,2) -> 281.19 | U22: =SUM(S22:T22) -> 1473.1875 | X22: n115 | Y22: 10015701
A23: Klientu apkalpošanas speciālists | B23: 4222 07 | D23: 25 | E23: V | F23: 9 | G23: 1157 | H23: 1653 | I23: 2067 | J23: 1134 | K23: 47.25 | L23: 47.25 | M23: 2 | N23: =ROUND(J23*(1+kopsavilkums!$O$12),2) -> 1207.71 | O23: =P23-L23 -> 3.07125 | P23: =L23*(1+kopsavilkums!$O$12) -> 50.32125 | Q23: =(N23+P23)-(J23+L23) -> 76.78125 | R23: =Q23*M23 -> 153.5625 | S23: =R23*12 -> 1842.75 | T23: =ROUND(S23*kopsavilkums!$O$23,2) -> 434.7 | U23: =SUM(S23:T23) -> 2277.45 | X23: n115 | Y23: 10015701
A24: Klientu un pacientu reģistrators | B24: 4226 01 | D24: 25 | E24: III | F24: 7 | G24: 905 | H24: 1293 | I24: 1682 | J24: 1017 | K24: 42.375 | L24: 42.375 | M24: 14 | N24: =ROUND(J24*(1+kopsavilkums!$O$15),2) -> 1087.17 | O24: =P24-L24 -> 2.754375 | P24: =L24*(1+kopsavilkums!$O$12) -> 45.129375 | Q24: =(N24+P24)-(J24+L24) -> 72.924375 | R24: =Q24*M24 -> 1020.9413 | S24: =R24*12 -> 12251.295 | T24: =ROUND(S24*kopsavilkums!$O$23,2) -> 2890.08 | U24: =SUM(S24:T24) -> 15141.375 | X24: n115 | Y24: 10015701
A25: Sanitārs | B25: 5321 01 | D25: 16 | E25: II | F25: 2 | G25: 584 | H25: 673 | I25: 875 | J25: 814 | K25: 33.916667 | L25: 33.916667 | M25: 13 | N25: =ROUND(J25*(1+kopsavilkums!$O$15),2) -> 870.17 | O25: =P25-L25 -> 2.2045833 | P25: =L25*(1+kopsavilkums!$O$12) -> 36.12125 | Q25: =(N25+P25)-(J25+L25) -> 58.374583 | R25: =Q25*M25 -> 758.86958 | S25: =R25*12 -> 9106.435 | T25: =ROUND(S25*kopsavilkums!$O$23,2) -> 2148.21 | U25: =SUM(S25:T25) -> 11254.645 | X25: 3./99 | Y25: 10015701
A26: Eksperts asins dienestā | B26: 2422 10 | D26: 38.1 | E26: III | F26: 11 | G26: 1746 | H26: 2496 | I26: 3120 | J26: 1600 | K26: 66.666667 | L26: 66.666667 | M26: 1 | N26: =ROUND(J26*(1+kopsavilkums!$O$15),2) -> 1710.4 | O26: =P26-L26 -> 4.3333333 | P26: =L26*(1+kopsavilkums!$O$12) -> 71 | Q26: =(N26+P26)-(J26+L26) -> 114.73333 | R26: =Q26*M26 -> 114.73333 | S26: =R26*12 -> 1376.8 | T26: =ROUND(S26*kopsavilkums!$O$23,2) -> 324.79 | U26: =SUM(S26:T26) -> 1701.59 | X26: PP13 | Y26: 10015701
A27: Eksperts asins dienestā | B27: 2422 10 | D27: 38.1 | E27: III | F27: 11 | G27: 1746 | H27: 2496 | I27: 3120 | J27: 1500 | K27: 62.5 | L27: 62.5 | M27: 1 | N27: =ROUND(J27*(1+kopsavilkums!$O$15),2) -> 1603.5 | O27: =P27-L27 -> 4.0625 | P27: =L27*(1+kopsavilkums!$O$12) -> 66.5625 | Q27: =(N27+P27)-(J27+L27) -> 107.5625 | R27: =Q27*M27 -> 107.5625 | S27: =R27*12 -> 1290.75 | T27: =ROUND(S27*kopsavilkums!$O$23,2) -> 304.49 | U27: =SUM(S27:T27) -> 1595.24 | X27: PP13 | Y27: 10015701
A28: Medicīnas atbalsta dienesta noliktavas darbinieks | B28: 4321 08 | D28: 2 | E28: II | F28: 7 | G28: 905 | H28: 1293 | I28: 1682 | J28: 950 | K28: 39.583333 | L28: 39.583333 | M28: 1 | N28: =ROUND(J28*(1+kopsavilkums!$O$15),2) -> 1015.55 | O28: =P28-L28 -> 2.5729167 | P28: =L28*(1+kopsavilkums!$O$12) -> 42.15625 | Q28: =(N28+P28)-(J28+L28) -> 68.122917 | R28: =Q28*M28 -> 68.122917 | S28: =R28*12 -> 817.475 | T28: =ROUND(S28*kopsavilkums!$O$23,2) -> 192.84 | U28: =SUM(S28:T28) -> 1010.315 | X28: 3./99 | Y28: 10015701
A29: Kopā | D29: x | E29: x | F29: x | I29: x | J29: x | K29: x | M29: =SUM(M22:M28) -> 33
A30: Kopā iestādei | M30: =SUM(M29) -> 33 | U30: =SUM(U22:U23,U24:U28) -> 34453.803
A32: Veselības inspekcija
A33: 46.01.00 Uzraudzība un kontrole
A34: Ārsti un funkcionālie speciālisti
A35: Veselības inspekcijas vadītājs | B35: 1112 29 | D35: 1.1 | E35: III | F35: 15 | G35: 3633 | H35: 5189 | I35: 6228 | J35: 4200 | M35: 1 | N35: =ROUND(J35*(1+kopsavilkums!$O$8),2) -> 4645.2 | O35: =P35-L35 -> 0 | P35: =ROUND(L35*(1+kopsavilkums!$O$8),2) -> 0 | Q35: =(N35+P35)-(J35+L35) -> 445.2 | R35: =Q35*M35 -> 445.2 | S35: =R35*12 -> 5342.4 | T35: =ROUND(S35*kopsavilkums!$O$23,2) -> 1260.27 | U35: =SUM(S35:T35) -> 6602.67
A36: Nodaļas vadītājs | B36: 1213 05 | D36: 36 | E36: V | F36: 11 | G36: 1746 | H36: 2496 | I36: 3120 | J36: 2257 | M36: 1 | N36: =ROUND(J36*(1+kopsavilkums!$O$8),2) -> 2496.24 | O36: =P36-L36 -> 0 | P36: =ROUND(L36*(1+kopsavilkums!$O$8),2) -> 0 | Q36: =(N36+P36)-(J36+L36) -> 239.24 | R36: =Q36*M36 -> 239.24 | S36: =R36*12 -> 2870.88 | T36: =ROUND(S36*kopsavilkums!$O$23,2) -> 677.24 | U36: =SUM(S36:T36) -> 3548.12
A37: Veselības aprūpes analītiķis | B37: 2120 18 | D37: 36 | E37: II | F37: 8 | G37: 967 | H37: 1388 | I37: 1796 | J37: 1388 | M37: 1 | N37: =ROUND(J37*(1+kopsavilkums!$O$8),2) -> 1535.13 | O37: =P37-L37 -> 0 | P37: =ROUND(L37*(1+kopsavilkums!$O$8),2) -> 0 | Q37: =(N37+P37)-(J37+L37) -> 147.13 | R37: =Q37*M37 -> 147.13 | S37: =R37*12 -> 1765.56 | T37: =ROUND(S37*kopsavilkums!$O$23,2) -> 416.5 | U37: =SUM(S37:T37) -> 2182.06
A38: Vides veselības analītiķis | B38: 2263 02 | D38: 36 | E38: II | F38: 8 | G38: 967 | H38: 1388 | I38: 1796 | J38: 1388 | M38: 1 | N38: =ROUND(J38*(1+kopsavilkums!$O$8),2) -> 1535.13 | O38: =P38-L38 -> 0 | P38: =ROUND(L38*(1+kopsavilkums!$O$8),2) -> 0 | Q38: =(N38+P38)-(J38+L38) -> 147.13 | R38: =Q38*M38 -> 147.13 | S38: =R38*12 -> 1765.56 | T38: =ROUND(S38*kopsavilkums!$O$23,2) -> 416.5 | U38: =SUM(S38:T38) -> 2182.06
A39: Departamenta vadītājs | B39: 1213 05 | D39: 28.3 | E39: VII | F39: 12 | G39: 2174 | H39: 3105 | I39: 3726 | J39: 3000 | M39: 1 | N39: =ROUND(J39*(1+kopsavilkums!$O$8),2) -> 3318 | O39: =P39-L39 -> 0 | P39: =ROUND(L39*(1+kopsavilkums!$O$8),2) -> 0 | Q39: =(N39+P39)-(J39+L39) -> 318 | R39: =Q39*M39 -> 318 | S39: =R39*12 -> 3816 | T39: =ROUND(S39*kopsavilkums!$O$23,2) -> 900.19 | U39: =SUM(S39:T39) -> 4716.19
A40: Vecākais referents | B40: 2422 03 | D40: 36 | E40: II | F40: 8 | G40: 967 | H40: 1388 | I40: 1796 | J40: 1600 | M40: 1 | N40: =ROUND(J40*(1+kopsavilkums!$O$8),2) -> 1769.6 | O40: =P40-L40 -> 0 | P40: =ROUND(L40*(1+kopsavilkums!$O$8),2) -> 0 | Q40: =(N40+P40)-(J40+L40) -> 169.6 | R40: =Q40*M40 -> 169.6 | S40: =R40*12 -> 2035.2 | T40: =ROUND(S40*kopsavilkums!$O$23,2) -> 480.1 | U40: =SUM(S40:T40) -> 2515.3
A41: Vecākais ārsts eksperts | B41: 2422 09 | D41: 13 | E41: IV | F41: 11 | G41: 1746 | H41: 2496 | I41: 3120 | J41: 2650 | M41: 1 | N41: =ROUND(J41*(1+kopsavilkums!$O$8),2) -> 2930.9 | O41: =P41-L41 -> 0 | P41: =ROUND(L41*(1+kopsavilkums!$O$8),2) -> 0 | Q41: =(N41+P41)-(J41+L41) -> 280.9 | R41: =Q41*M41 -> 280.9 | S41: =R41*12 -> 3370.8 | T41: =ROUND(S41*kopsavilkums!$O$23,2) -> 795.17 | U41: =SUM(S41:T41) -> 4165.97
A42: Vecākais ārsts eksperts | B42: 2422 09 | D42: 13 | E42: IV | F42: 11 | G42: 1746 | H42: 2496 | I42: 3120 | J42: 2650 | M42: 1 | N42: =ROUND(J42*(1+kopsavilkums!$O$8),2) -> 2930.9 | O42: =P42-L42 -> 0 | P42: =ROUND(L42*(1+kopsavilkums!$O$8),2) -> 0 | Q42: =(N42+P42)-(J42+L42) -> 280.9 | R42: =Q42*M42 -> 280.9 | S42: =R42*12 -> 3370.8 | T42: =ROUND(S42*kopsavilkums!$O$23,2) -> 795.17 | U42: =SUM(S42:T42) -> 4165.97
...

Sheet VM NMPD MK851
I1: 3.5. pielikums
A2: Neatliekamās medicīniskās palīdzības dienesta ārstniecības personu faktiskā darba samaksas pieaugums (MK noteikumi Nr.851)
A5: Informācija par ārstniecības personām
A6: Ārstniecības personas amata kvalifikācijas kategorija | B6: Profesiju klasifikātora kods (atbilstoši MK noteikumiem Nr.264) | C6: Ārstniecības personas profesijas vai specialitātes kodu (atbilstoši MK noteikumiem Nr.317) | D6: Slodzes (strādājošo skaits normālā darba laika ietvaros) | E6: Faktiskā mēnešalgas likme par 1 (vienu) slodzi | F6: Palielinājums par darba stāžu | G6: Piemaksas * | H6: Faktiskā darba samaksa (atalgojums par slodzi) mēnesī | I6: Sākotnējs darba samaksas pieaugums 2024.gadam, t.sk. 23.59%
K7: Pārbaude, atbilstība prof. klasifikatoram | L7: Ārstniecības personas profesijas vai specialitātes kodu (atbilstoši MK noteikumiem Nr.317) | M7: Reģistrācija Ārstniecības ietāžu reģistrā | N7: Piezīmes, pamatojums
A8: Neatliekamās medicīniskās palīdzības dienests
A9: 39.04.00 Neatliekamā medicīniskā palīdzība
A10: I. Sertificētu ārstniecības personu amati | I10: =I11+I49 -> 4089023.7
A11: 1.kategorija - Ārsts, zobārsts | I11: =SUM(I12:I48) -> 1166724.6
A12: BAC vadītājs (NM ārsts) | B12: 2212 28 | C12: P 39 | D12: 1 | E12: 2500 | F12: 74.925 | G12: 75 | H12: =E12+F12+G12 -> 2649.925 | I12: =ROUND((E12+F12+G12)*(kopsavilkums!$O$8)*D12*12*(1+kopsavilkums!$O$23),2) -> 4165.85 | K12: Neatliekamās medicīnas ĀRSTS | L12: P 39 | M12: Reģistrēta
A13: Vadības ārsts (operatīvais dežurants) | B13: 2212 11 | C13: P 00 | D13: 4 | E13: 1647 | F13: 49.41 | G13: 131.76 | H13: =E13+F13+G13 -> 1828.17 | I13: =ROUND((E13+F13+G13)*(kopsavilkums!$O$8)*D13*12*(1+kopsavilkums!$O$23),2) -> 11496.01 | K13: ĀRSTS | L13: P 00 | M13: Reģistrēta
A14: Ārsta speciālista brigādes vadītājs - NM ārsts, anesteziologs-reanimatologs | B14: 2211 01 | C14: P 39 / P 18 | D14: 28.5 | E14: 2250 | F14: 67.5 | G14: 1164.375 | H14: =E14+F14+G14 -> 3481.875 | I14: =ROUND((E14+F14+G14)*(kopsavilkums!$O$8)*D14*12*(1+kopsavilkums!$O$23),2) -> 156001.39 | K14: Neatliekamās medicīnas ĀRSTS/anesteziologs-reanimatologs | L14: P 39 / P 18 | M14: Reģistrēta | N14: Amata pienākumus var veikt tikai anastezioloģijā-reanimatoloģijā vai neatliekamajā medicīnā sertificēti ārsti, tāpēc norādīti abi kodi
A15: Intensīvās terapijas brigādes vadītājs - NM ārsts | B15: 2212 28 | C15: P 39 | D15: 42.75 | E15: 2000 | F15: 60 | G15: 1035 | H15: =E15+F15+G15 -> 3095 | I15: =ROUND((E15+F15+G15)*(kopsavilkums!$O$8)*D15*12*(1+kopsavilkums!$O$23),2) -> 208001.86 | K15: Neatliekamās medicīnas ĀRSTS | L15: P 39 | M15: Reģistrēta | N15: Amata pienākumus var veikt tikai anastezioloģijā-reanimatoloģijā un/vai neatliekamajā medicīnā sertificēti ārsti
A16: Intensīvās terapijas brigādes vadītājs - ārsts (anesteziologs-reanimatologs) | B16: 2212 28 | C16: P 18 | D16: 4.75 | E16: 2250 | F16: 67.5 | G16: 1179.6975 | H16: =E16+F16+G16 -> 3497.1975 | I16: =ROUND((E16+F16+G16)*(kopsavilkums!$O$8)*D16*12*(1+kopsavilkums!$O$23),2) -> 26114.65 | K16: ANESTEZIOLOGS, REANIMATOLOGS | L16: P 18 | M16: Reģistrēta | N16: Amata pienākumus var veikt tikai anastezioloģijā-reanimatoloģijā un/vai neatliekamajā medicīnā sertificēti ārsti
A17: Anesteziologs - reanimatologs | B17: 2212 05 | C17: P 18 | D17: 4.75 | E17: 2250 | F17: 67.5 | G17: 1164.375 | H17: =E17+F17+G17 -> 3481.875 | I17: =ROUND((E17+F17+G17)*(kopsavilkums!$O$8)*D17*12*(1+kopsavilkums!$O$23),2) -> 26000.23 | K17: ANESTEZIOLOGS, REANIMATOLOGS | L17: P 18 | M17: Reģistrēta
A18: Bērnu IT brigādes anesteziologs-reanimatologs | B18: 2212 05 | C18: P 18 | D18: 4.75 | E18: 2250 | F18: 67.5 | G18: 1164.375 | H18: =E18+F18+G18 -> 3481.875 | I18: =ROUND((E18+F18+G18)*(kopsavilkums!$O$8)*D18*12*(1+kopsavilkums!$O$23),2) -> 26000.23 | K18: ANESTEZIOLOGS, REANIMATOLOGS | L18: P 18 | M18: Reģistrēta
A19: Neonatologs | B19: 2212 76 | C19: A 151 | D19: 9.5 | E19: 2250 | F19: 67.5 | G19: 1164.375 | H19: =E19+F19+G19 -> 3481.875 | I19: =ROUND((E19+F19+G19)*(kopsavilkums!$O$8)*D19*12*(1+kopsavilkums!$O$23),2) -> 52000.46 | K19: NEONATOLOGS | L19: A 151 | M19: Reģistrēta
