Workbook

Sheet Satursvec
M1: 5.pielikums
M2: Ministru kabineta noteikumu projekta "Grozījumi Ministru kabineta
M3: 2013.gada 24.septembra noteikumos Nr.1002 "Sociālās
M4: integrācijas valstas aģentūras sniegto maksas pakalpojumu cenrādis""
M5: sākotnējās ietekmes novērtējuma ziņojumam (anotācijai)
A13: Satura rādītājs
A15: 7.1. | B15: Viesu izmitināšana Dubultu prospektā 71, 2.korpusā, Jūrmalā (viena vieta vienvietīgā numurā)
A16: 4.1.1. | B16: Viesu izmitināšana Dubultu prospektā 71, 2.korpusā, Jūrmalā, viena vieta vienvietīgā numurā (ar brokastīm),
A17: 4.1.2. | B17: Viesu izmitināšana Dubultu prospektā 71, 2.korpusā, Jūrmalā, viena vieta vienvietīgā numurā (ar trīsreizēju ēdināšanu),
A18: 4.2.1. | B18: Viesu izmitināšana Dubultu prospektā 71, 2.korpusā, Jūrmalā viena vieta divvietīgā numurā(ar brokastīm)
A19: 4.2.2. | B19: Viesu izmitināšana Dubultu prospektā 71, 2.korpusā, Jūrmalā viena vieta divvietīgā numurā (ar trīsreizēju ēdināšanu)
A20: 4.2.3. | B20: Viesu izmitināšana pielāgotā numurā Dubultu prospektā 71, 2.korpusā, Jūrmalā, viena vieta divvietīgā pielāgotā numurā (ar brokastīm)
A21: 4.2.4. | B21: Viesu izmitināšana pielāgotā numurā Dubultu prospektā 71, 2.korpusā, Jūrmalā, viena vieta divvietīgā pielāgotā numurā (ar trīsreizēju ēdināšanu)
A22: 4.2.5. | B22: Piemaksa par uzturēšanos vienai personai divvietīgā numurā, Dubultu prospektā 71, 2.korpusā, Jūrmalā
A23: 4.3.1. | B23: Papildu vieta bērnam no 2 līdz 14 gadu vecumam Dubultu prospektā 71, 2 korpuss, Jūrmalā (ar brokastīm)
A24: 4.3.2. | B24: Papildu vieta bērnam no 2 līdz 14 gadu vecumam Dubultu prospektā 71, 2 korpuss, Jūrmalā (ar trīsreizēju ēdināšanu)
A25: 4.3.3. | B25: Papildu vieta vienai personai Dubultu prospektā 71, 2 korpuss, Jūrmalā (ar brokastīm)
A26: 4.3.4. | B26: Papildu vieta vienai personai Dubultu prospektā 71, 2 korpuss, Jūrmalā (ar trīsreizēju ēdināšanu)
... A39: 4.13. | B39: Viesu izmitināšana Slokas ielā 68, Jūrmalā

Sheet 4.1.1.
E1: SASKAŅOTS
E2: Sociālās integrācijas valsts aģentūras
E3: direktore I.Jurševska
E5: 2023. gada 29. martā
A7: Maksas pakalpojuma izcenojuma aprēķins
A9: Sociālās integrācijas valsts aģentūra
A10: Publiskā pakalpojuma veids:
B11: 4. Viesu izmitināšana
B12: 4.1. Viesu izmitināšana - Dubultu prospekts 71, 2.korpuss, Jūrmala (viena vieta vienvietīgā numurā)
B13: 4.1.1. Viesu izmitināšana - Dubultu prospekts 71, 2.korpuss, Jūrmala (viena vieta vienvietīgā numurā, ar brokastīm)
A14: Laikposms | B14: 2023.gadā un turpmāk
A15: Izdevumu klasifikācijas kods | B15: Rādītājs (materiāla/izejvielas nosaukums, atlīdzība un citi izmaksu veidi) | E15: Izmaksu apjoms noteiktā laikposmā viena maksas pakalpojuma veida nodrošināšanai
A16: 1 | B16: 2 | E16: 3
B17: Tiešās izmaksas
A18: 1100 | B18: Atalgojums | D18: 11.804 | E18: 266.77
A19: 1200 | B19: Darba devēja valsts sociālās apdrošināšanas obligātās iemaksas, pabalsti un kompensācijas | D19: =D18*0.2359 -> 2.7845636 | E19: 62.93
A20: 2210 | B20: Izdevumi par sakaru pakalpojumiem
A21: 2222 | B21: Izdevumi par ūdensapgādi un kanalizāciju | D21: 0.53 | E21: 10.6
A22: 2223 | B22: Izdevumi par elektroenerģiju | D22: 1.59 | E22: 31.8
A23: 2243 | B23: Iekārtas, inventāra un aparatūras remonts, tehniskā apkalpošana | D23: 0.07 | E23: 1.4
A24: 2244 | B24: Nekustamā īpašuma uzturēšana | D24: 1.89 | E24: 37.8
A25: 2250 | B25: Informācijas tehnoloģiju pakalpojumi | D25: 0.19 | E25: 3.8
A26: 2263 | B26: Zemes noma
A27: 2311 | B27: Biroja preces | D27: 2.47 | E27: 49.4
A28: 2312 | B28: Inventārs | D28: 0.8 | E28: 16
A29: 2321 | B29: Kurināmais | D29: 1.09 | E29: 21.8
A30: 2350 | B30: Iestāžu uzturēšanas materiāli un preces | D30: 0.36 | E30: 7.2
A31: 2361 | B31: Mīkstais inventārs | D31: 0.18 | E31: 3.6
A32: 2362 | B32: Virtuves inventārs, trauki un galda piederumi | D32: 0.02 | E32: 0.4
A33: 2363 | B33: Ēdināšanas izdevumi | D33: 3.87 | E33: 77.4
A34: 2513 | B34: Budžeta iestāžu nekustamā īpašuma nodokļa maksājumi
A35: 2519 | B35: Pārējie budžeta iestāžu pārskaitītie nodokļi un nodevas
A36: 5239 | B36: Pārējie iepriekš neklasificētie pamatlīdzekļi un ieguldījuma īpašumi | D36: 1.27 | E36: 25.4
B37: Tiešās izmaksas kopā | D37: =SUM(D18:D36) -> 28.918564 | E37: =SUM(E18:E36) -> 616.3
B38: Netiešās izmaksas
A39: 1100 | B39: Atalgojums | C39: 0.4855 | E39: 285.05
A40: 1200 | B40: Darba devēja valsts sociālās apdrošināšanas obligātās iemaksas, pabalsti un kompensācijas | C40: =C39*0.2359 -> 0.11452945 | E40: 67.24
A41: 2100 | B41: Mācību, darba un dienesta komandējumi, dienesta, darba braucieni | C41: 0.001166 | E41: 0.76
A42: 2210 | B42: Izdevumi par sakaru pakalpojumiem | C42: 0.0076 | E42: 4.95
A43: 2222 | B43: Izdevumi par ūdensapgādi un kanalizāciju | C43: =0.0095*1.15 -> 0.010925 | E43: 7.11
A44: 2223 | B44: Izdevumi par elektroenerģiju | C44: =0.01902*2.13 -> 0.0405126 | E44: 26.37
A45: 2224 | B45: Izdevumi par atkritumu savākšanu, izvešanu no apdzīvotām vietām un teritorijām ārpus apdzīvotām vietām un atkritumu utilizāciju | C45: =0.00495*1.15 -> 0.0056925 | E45: 3.7
A46: 2231 | B46: Izdevumi iestādes sabiedrisko aktivitāšu īstenošanai | C46: 0.00155 | E46: 1.01
A47: 2235 | B47: Izdevumi par saņemtajiem mācību pakalpojumiem | C47: 0.00165 | E47: 1.07
A48: 2239 | B48: Pārējie neklasificētie pakalpojumi | C48: 0.00441 | E48: 2.87
A49: 2241 | B49: Ēku, būvju un telpu būvdarbi | C49: 0.0165 | E49: 10.74
A50: 2242 | B50: Transportlīdzekļu uzturēšana un remonts | C50: 0.00226 | E50: 1.47
A51: 2243 | B51: Iekārtas, inventāra un aparatūras remonts, tehniskā apkalpošana | C51: 0.0326 | E51: 21.22
A52: 2244 | B52: Nekustamā īpašuma uzturēšana | C52: =0.20397-0.09084 -> 0.11313 | E52: 73.63
A53: 2247 | B53: Apdrošināšanas izdevumi | C53: 0.000719 | E53: 0.47
A54: 2249 | B54: Pārējie remontdarbu un iestāžu uzturēšanas pakalpojumi | C54: 0.000232 | E54: 0.15
A55: 2250 | B55: Informācijas tehnoloģiju pakalpojumi | C55: =0.024026-0.005 -> 0.019026 | E55: 12.38
A56: 2262 | B56: Transportlīdzekļu noma | C56: 0.00626 | E56: 4.07
A57: 2263 | B57: Zemes noma | C57: 0.0458 | E57: 29.81
A58: 2264 | B58: Iekārtu, aparatūras un inventāra īre un noma | C58: 0.00149 | E58: 0.97
A59: 2311 | B59: Biroja preces | C59: 0.00477 | E59: 3.1
A60: 2312 | B60: Inventārs | C60: 0.00579 | E60: 3.77
A61: 2314 | B61: Izdevumi par precēm iestādes sabiedrisko aktivitāšu īstenošanai | C61: 0.00222 | E61: 1.44
A62: 2321 | B62: Kurināmais | C62: =0.0198*1.2+0.005 -> 0.02876 | E62: 18.72
A63: 2322 | B63: Degviela | C63: =0.0035*1.2 -> 0.0042 | E63: 2.73
A64: 2341 | B64: Zāles, ķimikālijas, laboratorijas preces
A65: 2350 | B65: Iestāžu uzturēšanas materiāli un preces | C65: 0.0085 | E65: 5.53
A66: 2513 | B66: Budžeta iestāžu nekustamā īpašuma nodokļa maksājumi | C66: 0.00146 | E66: 0.95
A67: 2515 | B67: Budžeta iestāžu dabas resursu nodokļa maksājumi | C67: 0.0019 | E67: 1.24
A68: 2519 | B68: Pārējie budžeta iestāžu pārskaitītie nodokļi un nodevas | C68: 0.002 | E68: 1.3
A69: 5220 | B69: Tehnoloģiskās iekārtas un mašīnas | C69: 0.0106 | E69: 6.9
A70: 5238 | B70: Datortehnika, sakaru un cita biroja tehnika | C70: 0.00165 | E70: 1.07
A71: 5239 | B71: Pārējie iepriekš neklasificētie pamatlīdzekļi un ieguldījuma īpašumi | C71: 0.00954 | E71: 6.4
A72: 5250 | B72: Kapitālais remonts un rekonstrukcija | C72: 0.00706 | E72: 4.51
B73: Netiešās izmaksas kopā | C73: =SUM(C39:C72) -> 1.0000026 | E73: =SUM(E39:E72) -> 612.7
B74: Pakalpojumu izmaksas kopā | E74: =E37+E73 -> 1229
A76: Maksas pakalpojuma vienību skaits noteiktā laikposmā (gab.) | E76: 20
A77: Maksas pakalpojuma izcenojums (euro) | E77: =E74/E76 -> 61.45
A79: Prognozētais maksas pakalpojumu skaits gadā (gab.)*
A80: Prognozētie ieņēmumi gadā (euro)*
A82: Piezīme. *Ailes neaizpilda, ja izvēlētais laikposms ir viens gads.
A84: Aprēķinu sastādīja: SIVA Finanšu nodaļas finanšu ekonomiste E.Lipiņa

Sheet 4.1.2.
E1: SASKAŅOTS
E2: Sociālās integrācijas valsts aģentūras
E3: direktore I.Jurševska
E5: 2023. gada 29. martā
A7: Maksas pakalpojuma izcenojuma aprēķins
A9: Sociālās integrācijas valsts aģentūra
A10: Publiskā pakalpojuma veids:
B11: 4. Viesu izmitināšana
B12: 4.1. Viesu izmitināšana - Dubultu prospekts 71, 2.korpuss, Jūrmala (viena vieta vienvietīgā numurā)
B13: 4.1.2. Viesu izmitināšana - Dubultu prospekts 71, 2.korpuss, Jūrmala (viena vieta vienvietīgā numurā, ar trīsreizēju ēdināšanu)
A14: Laikposms | B14: 2023.gadā un turpmāk
A15: Izdevumu klasifikācijas kods | B15: Rādītājs (materiāla/izejvielas nosaukums, atlīdzība un citi izmaksu veidi) | E15: Izmaksu apjoms noteiktā laikposmā viena maksas pakalpojuma veida nodrošināšanai
A16: 1 | B16: 2 | E16: 3
B17: Tiešās izmaksas
A18: 1100 | B18: Atalgojums | D18: 15.694 | E18: 354.68
A19: 1200 | B19: Darba devēja valsts sociālās apdrošināšanas obligātās iemaksas, pabalsti un kompensācijas | D19: =D18*0.2359 -> 3.7022146 | E19: 83.67
A20: 2210 | B20: Izdevumi par sakaru pakalpojumiem
A21: 2222 | B21: Izdevumi par ūdensapgādi un kanalizāciju | D21: 0.6 | E21: 12
A22: 2223 | B22: Izdevumi par elektroenerģiju | D22: 1.66 | E22: 33.2
A23: 2243 | B23: Iekārtas, inventāra un aparatūras remonts, tehniskā apkalpošana | D23: 0.082990839 | E23: 1.66
A24: 2244 | B24: Nekustamā īpašuma uzturēšana | D24: 1.9878511 | E24: 39.77
A25: 2250 | B25: Informācijas tehnoloģiju pakalpojumi | D25: 0.19 | E25: 3.8
A26: 2263 | B26: Zemes noma
A27: 2311 | B27: Biroja preces | D27: 2.47 | E27: 49.4
A28: 2312 | B28: Inventārs | D28: 0.91939188 | E28: 18.41
A29: 2321 | B29: Kurināmais | D29: 1.1514594 | E29: 23.04
A30: 2350 | B30: Iestāžu uzturēšanas materiāli un preces | D30: 0.41019892 | E30: 8.21
A31: 2361 | B31: Mīkstais inventārs | D31: 0.18 | E31: 3.6
A32: 2362 | B32: Virtuves inventārs, trauki un galda piederumi | D32: 0.048496534 | E32: 0.97
A33: 2363 | B33: Ēdināšanas izdevumi | D33: 9.75 | E33: 195
A34: 2513 | B34: Budžeta iestāžu nekustamā īpašuma nodokļa maksājumi
A35: 2519 | B35: Pārējie budžeta iestāžu pārskaitītie nodokļi un nodevas
A36: 5239 | B36: Pārējie iepriekš neklasificētie pamatlīdzekļi un ieguldījuma īpašumi | D36: 1.3731894 | E36: 27.48
B37: Tiešās izmaksas kopā | D37: =SUM(D18:D36) -> 40.219793 | E37: =SUM(E18:E36) -> 854.89
B38: Netiešās izmaksas
A39: 1100 | B39: Atalgojums | C39: 0.4855 | E39: 314.44
A40: 1200 | B40: Darba devēja valsts sociālās apdrošināšanas obligātās iemaksas, pabalsti un kompensācijas | C40: =C39*0.2359 -> 0.11452945 | E40: 74.18
A41: 2100 | B41: Mācību, darba un dienesta komandējumi, dienesta, darba braucieni | C41: 0.001166 | E41: 0.85
A42: 2210 | B42: Izdevumi par sakaru pakalpojumiem | C42: 0.0076 | E42: 5.56
A43: 2222 | B43: Izdevumi par ūdensapgādi un kanalizāciju | C43: =0.0095*1.15 -> 0.010925 | E43: 8
A44: 2223 | B44: Izdevumi par elektroenerģiju | C44: =0.01902*2.13 -> 0.0405126 | E44: 29.66
A45: 2224 | B45: Izdevumi par atkritumu savākšanu, izvešanu no apdzīvotām vietām un teritorijām ārpus apdzīvotām vietām un atkritumu utilizāciju | C45: =0.00495*1.15 -> 0.0056925 | E45: 4.17
A46: 2231 | B46: Izdevumi iestādes sabiedrisko aktivitāšu īstenošanai | C46: 0.00155 | E46: 1.13
A47: 2235 | B47: Izdevumi par saņemtajiem mācību pakalpojumiem | C47: 0.00165 | E47: 1.21
A48: 2239 | B48: Pārējie neklasificētie pakalpojumi | C48: 0.00441 | E48: 3.23
A49: 2241 | B49: Ēku, būvju un telpu būvdarbi | C49: 0.0165 | E49: 12.08
A50: 2242 | B50: Transportlīdzekļu uzturēšana un remonts | C50: 0.00226 | E50: 1.65
A51: 2243 | B51: Iekārtas, inventāra un aparatūras remonts, tehniskā apkalpošana | C51: 0.0326 | E51: 23.87
A52: 2244 | B52: Nekustamā īpašuma uzturēšana | C52: =0.20397-0.09084 -> 0.11313 | E52: 82.83
A53: 2247 | B53: Apdrošināšanas izdevumi | C53: 0.000719 | E53: 0.53
A54: 2249 | B54: Pārējie remontdarbu un iestāžu uzturēšanas pakalpojumi | C54: 0.000232 | E54: 0.17
A55: 2250 | B55: Informācijas tehnoloģiju pakalpojumi | C55: =0.024026-0.005 -> 0.019026 | E55: 14.01
A56: 2262 | B56: Transportlīdzekļu noma | C56: 0.00626 | E56: 4.58
A57: 2263 | B57: Zemes noma | C57: 0.0458 | E57: 33.53
A58: 2264 | B58: Iekārtu, aparatūras un inventāra īre un noma | C58: 0.00149 | E58: 1.09
A59: 2311 | B59: Biroja preces | C59: 0.00477 | E59: 3.49
A60: 2312 | B60: Inventārs | C60: 0.00579 | E60: 4.24
A61: 2314 | B61: Izdevumi par precēm iestādes sabiedrisko aktivitāšu īstenošanai | C61: 0.00222 | E61: 1.63
A62: 2321 | B62: Kurināmais | C62: =0.0198*1.2+0.005 -> 0.02876 | E62: 21.06
A63: 2322 | B63: Degviela | C63: =0.0035*1.2 -> 0.0042 | E63: 3.07
A64: 2341 | B64: Zāles, ķimikālijas, laboratorijas preces
A65: 2350 | B65: Iestāžu uzturēšanas materiāli un preces | C65: 0.0085 | E65: 6.22
A66: 2513 | B66: Budžeta iestāžu nekustamā īpašuma nodokļa maksājumi | C66: 0.00146 | E66: 1.07
A67: 2515 | B67: Budžeta iestāžu dabas resursu nodokļa maksājumi | C67: 0.0019 | E67: 1.39
A68: 2519 | B68: Pārējie budžeta iestāžu pārskaitītie nodokļi un nodevas | C68: 0.002 | E68: 1.46
A69: 5220 | B69: Tehnoloģiskās iekārtas un mašīnas | C69: 0.0106 | E69: 7.76
A70: 5238 | B70: Datortehnika, sakaru un cita biroja tehnika | C70: 0.00165 | E70: 1.21
A71: 5239 | B71: Pārējie iepriekš neklasificētie pamatlīdzekļi un ieguldījuma īpašumi | C71: 0.00954 | E71: 6.97
A72: 5250 | B72: Kapitālais remonts un rekonstrukcija | C72: 0.00706 | E72: 5.17
B73: Netiešās izmaksas kopā | C73: =SUM(C39:C72) -> 1.0000026 | E73: =SUM(E39:E72) -> 681.51
B74: Pakalpojumu izmaksas kopā | E74: =E37+E73 -> 1536.4
A76: Maksas pakalpojuma vienību skaits noteiktā laikposmā (gab.) | E76: 20
A77: Maksas pakalpojuma izcenojums (euro) | E77: =E74/E76 -> 76.82
A79: Prognozētais maksas pakalpojumu skaits gadā (gab.)*
A80: Prognozētie ieņēmumi gadā (euro)*
A82: Piezīme. *Ailes neaizpilda, ja izvēlētais laikposms ir viens gads.
A84: Aprēķinu sastādīja: SIVA Finanšu nodaļas finanšu ekonomiste E.Lipiņa

Sheet 4.2.1.
E1: SASKAŅOTS | F1: SASKAŅOTS
F2: Sociālās integrācijas valsts aģentūras
E3: direktore I.Jurševska | F3: direktore I.Jurševska
E5: 2023. gada | F5: 2023. gada 29. martā
A7: Maksas pakalpojuma izcenojuma aprēķins
A9: Sociālās integrācijas valsts aģentūra
A10: Publiskā pakalpojuma veids:
B11: 4. Viesu izmitināšana
B12: 4.2. Viesu izmitināšana - Dubultu prospekts 71, 2.korpuss, Jūrmala (viena vieta divvietīgā numurā)
B13: 4.2.1. Viesu izmitināšana - Dubultu prospekts 71, 2.korpuss, Jūrmala (viena vieta divvietīgā numurā, ar brokastīm)
A14: Laikposms | B14: 2023.gadā un turpmāk
A15: Izdevumu klasifikācijas kods | B15: Rādītājs (materiāla/izejvielas nosaukums, atlīdzība un citi izmaksu veidi) | E15: Izmaksu apjoms noteiktā laikposmā viena maksas pakalpojuma veida nodrošināšanai | F15: Izmaksu apjoms noteiktā laikposmā viena maksas pakalpojuma veida nodrošināšanai
A16: 1 | B16: 2 | E16: 3 | F16: 3
B17: Tiešās izmaksas
A18: 1100 | B18: Atalgojums | D18: 9.6161298 | E18: 7606.05 | F18: =E18/700*500 -> 5432.8929
A19: 1200 | B19: Darba devēja valsts sociālās apdrošināšanas obligātās iemaksas, pabalsti un kompensācijas | D19: =D18*0.2359 -> 2.268445 | E19: 1794.27 | F19: =E19/700*500 -> 1281.6214
A20: 2210 | B20: Izdevumi par sakaru pakalpojumiem
A21: 2222 | B21: Izdevumi par ūdensapgādi un kanalizāciju | D21: 0.30567649 | E21: 213.95 | F21: =E21/700*500 -> 152.82143
A22: 2223 | B22: Izdevumi par elektroenerģiju | D22: 0.91225662 | E22: 638.5 | F22: =E22/700*500 -> 456.07143
A23: 2243 | B23: Iekārtas, inventāra un aparatūras remonts, tehniskā apkalpošana | D23: 0.046135796 | E23: 32.29 | F23: =E23/700*500 -> 23.064286
A24: 2244 | B24: Nekustamā īpašuma uzturēšana | D24: 1.1167998 | E24: 781.66 | F24: =E24/700*500 -> 558.32857
A25: 2250 | B25: Informācijas tehnoloģiju pakalpojumi | D25: 0.19 | E25: 133 | F25: =E25/700*500 -> 95
A26: 2263 | B26: Zemes noma
A27: 2311 | B27: Biroja preces | D27: 1.9879431 | E27: 1391.5 | F27: =E27/700*500 -> 993.92857
A28: 2312 | B28: Inventārs | D28: 0.57567649 | E28: 402.95 | F28: =E28/700*500 -> 287.82143
A29: 2321 | B29: Kurināmais | D29: 0.64135297 | E29: 448.89 | F29: =E29/700*500 -> 320.63571
A30: 2350 | B30: Iestāžu uzturēšanas materiāli un preces | D30: 0.2072691 | E30: 145.07 | F30: =E30/700*500 -> 103.62143
A31: 2361 | B31: Mīkstais inventārs | D31: 0.094088867 | E31: 65.85 | F31: =E31/700*500 -> 47.035714
A32: 2362 | B32: Virtuves inventārs, trauki un galda piederumi | D32: 0.02 | E32: 14 | F32: =E32/700*500 -> 10
A33: 2363 | B33: Ēdināšanas izdevumi | D33: 3.87 | E33: 2709 | F33: =E33/700*500 -> 1935
A34: 2513 | B34: Budžeta iestāžu nekustamā īpašuma nodokļa maksājumi
A35: 2519 | B35: Pārējie budžeta iestāžu pārskaitītie nodokļi un nodevas
A36: 5239 | B36: Pārējie iepriekš neklasificētie pamatlīdzekļi un ieguldījuma īpašumi | D36: 0.8595357 | E36: 601.62 | F36: =E36/700*500 -> 429.72857
B37: Tiešās izmaksas kopā | D37: =SUM(D18:D36) -> 22.71131 | E37: =SUM(E18:E36) -> 16978.6 | F37: =SUM(F18:F36) -> 12127.571
B38: Netiešās izmaksas
A39: 1100 | B39: Atalgojums | C39: 0.4855 | E39: 5790.12 | F39: =E39/700*500 -> 4135.8
A40: 1200 | B40: Darba devēja valsts sociālās apdrošināšanas obligātās iemaksas, pabalsti un kompensācijas | C40: =C39*0.2359 -> 0.11452945 | E40: 1365.89 | F40: =E40/700*500 -> 975.63571
A41: 2100 | B41: Mācību, darba un dienesta komandējumi, dienesta, darba braucieni | C41: 0.001166 | E41: 16.01 | F41: =E41/700*500 -> 11.435714
A42: 2210 | B42: Izdevumi par sakaru pakalpojumiem | C42: 0.0076 | E42: 104.38 | F42: =E42/700*500 -> 74.557143
A43: 2222 | B43: Izdevumi par ūdensapgādi un kanalizāciju | C43: =0.0095*1.15 -> 0.010925 | E43: 150.04 | F43: =E43/700*500 -> 107.17143
A44: 2223 | B44: Izdevumi par elektroenerģiju | C44: =0.01902*2.13 -> 0.0405126 | E44: 556.39 | F44: =E44/700*500 -> 397.42143
A45: 2224 | B45: Izdevumi par atkritumu savākšanu, izvešanu no apdzīvotām vietām un teritorijām ārpus apdzīvotām vietām un atkritumu utilizāciju | C45: =0.00495*1.15 -> 0.0056925 | E45: 78.18 | F45: =E45/700*500 -> 55.842857
A46: 2231 | B46: Izdevumi iestādes sabiedrisko aktivitāšu īstenošanai | C46: 0.00155 | E46: 21.29 | F46: =E46/700*500 -> 15.207143
A47: 2235 | B47: Izdevumi par saņemtajiem mācību pakalpojumiem | C47: 0.00165 | E47: 22.66 | F47: =E47/700*500 -> 16.185714
A48: 2239 | B48: Pārējie neklasificētie pakalpojumi | C48: 0.00441 | E48: 60.57 | F48: =E48/700*500 -> 43.264286
A49: 2241 | B49: Ēku, būvju un telpu būvdarbi | C49: 0.0165 | E49: =226.61+3.26 -> 229.87 | F49: =E49/700*500 -> 164.19286
A50: 2242 | B50: Transportlīdzekļu uzturēšana un remonts | C50: 0.00226 | E50: 31.04 | F50: =E50/700*500 -> 22.171429
A51: 2243 | B51: Iekārtas, inventāra un aparatūras remonts, tehniskā apkalpošana | C51: 0.0326 | E51: 447.72 | F51: =E51/700*500 -> 319.8
A52: 2244 | B52: Nekustamā īpašuma uzturēšana | C52: =0.20397-0.09084 -> 0.11313 | E52: 1553.71 | F52: =E52/700*500 -> 1109.7929
A53: 2247 | B53: Apdrošināšanas izdevumi | C53: 0.000719 | E53: 9.87 | F53: =E53/700*500 -> 7.05
A54: 2249 | B54: Pārējie remontdarbu un iestāžu uzturēšanas pakalpojumi | C54: 0.000232 | E54: 3.19 | F54: =E54/700*500 -> 2.2785714
A55: 2250 | B55: Informācijas tehnoloģiju pakalpojumi | C55: =0.024026-0.005 -> 0.019026 | E55: 261.3 | F55: =E55/700*500 -> 186.64286
A56: 2262 | B56: Transportlīdzekļu noma | C56: 0.00626 | E56: 85.97 | F56: =E56/700*500 -> 61.407143
A57: 2263 | B57: Zemes noma | C57: 0.0458 | E57: 629.01 | F57: =E57/700*500 -> 449.29286
A58: 2264 | B58: Iekārtu, aparatūras un inventāra īre un noma | C58: 0.00149 | E58: 20.46 | F58: =E58/700*500 -> 14.614286
A59: 2311 | B59: Biroja preces | C59: 0.00477 | E59: 65.51 | F59: =E59/700*500 -> 46.792857
A60: 2312 | B60: Inventārs | C60: 0.00579 | E60: 79.52 | F60: =E60/700*500 -> 56.8
A61: 2314 | B61: Izdevumi par precēm iestādes sabiedrisko aktivitāšu īstenošanai | C61: 0.00222 | E61: 30.49 | F61: =E61/700*500 -> 21.778571
A62: 2321 | B62: Kurināmais | C62: =0.0198*1.2+0.005 -> 0.02876 | E62: 394.99 | F62: =E62/700*500 -> 282.13571
A63: 2322 | B63: Degviela | C63: =0.0035*1.2 -> 0.0042 | E63: 57.68 | F63: =E63/700*500 -> 41.2
A64: 2341 | B64: Zāles, ķimikālijas, laboratorijas preces
A65: 2350 | B65: Iestāžu uzturēšanas materiāli un preces | C65: 0.0085 | E65: 116.74 | F65: =E65/700*500 -> 83.385714
A66: 2513 | B66: Budžeta iestāžu nekustamā īpašuma nodokļa maksājumi | C66: 0.00146 | E66: 20.05 | F66: =E66/700*500 -> 14.321429
A67: 2515 | B67: Budžeta iestāžu dabas resursu nodokļa maksājumi | C67: 0.0019 | E67: 26.09 | F67: =E67/700*500 -> 18.635714
A68: 2519 | B68: Pārējie budžeta iestāžu pārskaitītie nodokļi un nodevas | C68: 0.002 | E68: 27.47 | F68: =E68/700*500 -> 19.621429
A69: 5220 | B69: Tehnoloģiskās iekārtas un mašīnas | C69: 0.0106 | E69: 145.58 | F69: =E69/700*500 -> 103.98571
A70: 5238 | B70: Datortehnika, sakaru un cita biroja tehnika | C70: 0.00165 | E70: 22.66 | F70: =E70/700*500 -> 16.185714
A71: 5239 | B71: Pārējie iepriekš neklasificētie pamatlīdzekļi un ieguldījuma īpašumi | C71: 0.00954 | E71: 131.02 | F71: =E71/700*500 -> 93.585714
A72: 5250 | B72: Kapitālais remonts un rekonstrukcija | C72: 0.00706 | E72: 96.93 | F72: =E72/700*500 -> 69.235714
B73: Netiešās izmaksas kopā | C73: =SUM(C39:C72) -> 1.0000026 | E73: =SUM(E39:E72) -> 12652.4 | F73: =SUM(F39:F72) -> 9037.4286
B74: Pakalpojumu izmaksas kopā | E74: =E37+E73 -> 29631 | F74: =F37+F73 -> 21165
A76: Maksas pakalpojuma vienību skaits noteiktā laikposmā (gab.) | E76: 700 | F76: 500
A77: Maksas pakalpojuma izcenojums (euro) | E77: =E74/E76 -> 42.33 | F77: =F74/F76 -> 42.33
A79: Prognozētais maksas pakalpojumu skaits gadā (gab.)*
A80: Prognozētie ieņēmumi gadā (euro)*
A82: Piezīme. *Ailes neaizpilda, ja izvēlētais laikposms ir viens gads.
A84: Aprēķinu sastādīja: SIVA Finanšu nodaļas finanšu ekonomiste E.Lipiņa

Sheet 4.2.2.
E1: SASKAŅOTS | F1: SASKAŅOTS
E2: Sociālās integrācijas valsts aģentūras | F2: Sociālās integrācijas valsts aģentūras
E3: direktore I.Jurševska | F3: direktore I.Jurševska
E6: 2023. gada | F6: 2023. gada 29. martā
A7: Maksas pakalpojuma izcenojuma aprēķins
A9: Sociālās integrācijas valsts aģentūra
A10: Publiskā pakalpojuma veids:
B11: 4. Viesu izmitināšana
B12: 4.2. Viesu izmitināšana - Dubultu prospekts 71, 2.korpuss, Jūrmala (viena vieta divvietīgā numurā)
B13: 4.2.2. Viesu izmitināšana - Dubultu prospekts 71, 2.korpuss, Jūrmala (viena vieta divvietīgā numurā, ar trīsreizēju ēdināsanu)
A14: Laikposms | B14: 2023.gadā un turpmāk
A15: Izdevumu klasifikācijas kods | B15: Rādītājs (materiāla/izejvielas nosaukums, atlīdzība un citi izmaksu veidi) | E15: Izmaksu apjoms noteiktā laikposmā viena maksas pakalpojuma veida nodrošināšanai | F15: Izmaksu apjoms noteiktā laikposmā viena maksas pakalpojuma veida nodrošināšanai
A16: 1 | B16: 2 | E16: 3 | F16: 3
B17: Tiešās izmaksas
A18: 1100 | B18: Atalgojums | D18: 13.50613 | E18: 13735.54 | F18: =E18/900*700 -> 10683.198
A19: 1200 | B19: Darba devēja valsts sociālās apdrošināšanas obligātās iemaksas, pabalsti un kompensācijas | D19: =D18*0.2359 -> 3.186096 | E19: 3240.21 | F19: =E19/900*700 -> 2520.1633
A20: 2210 | B20: Izdevumi par sakaru pakalpojumiem
A21: 2222 | B21: Izdevumi par ūdensapgādi un kanalizāciju | D21: 0.37567649 | E21: 338.07 | F21: =E21/900*700 -> 262.94333
A22: 2223 | B22: Izdevumi par elektroenerģiju | D22: 0.98225662 | E22: 883.92 | F22: =E22/900*700 -> 687.49333
A23: 2243 | B23: Iekārtas, inventāra un aparatūras remonts, tehniskā apkalpošana | D23: 0.059126636 | E23: 53.34 | F23: =E23/900*700 -> 41.486667
A24: 2244 | B24: Nekustamā īpašuma uzturēšana | D24: 1.2146509 | E24: 1093.72 | F24: =E24/900*700 -> 850.67111
A25: 2250 | B25: Informācijas tehnoloģiju pakalpojumi | D25: 0.19 | E25: 171 | F25: =E25/900*700 -> 133
A26: 2263 | B26: Zemes noma
A27: 2311 | B27: Biroja preces | D27: 1.9879431 | E27: 1789.07 | F27: =E27/900*700 -> 1391.4989
A28: 2312 | B28: Inventārs | D28: 0.69506837 | E28: 626.38 | F28: =E28/900*700 -> 487.18444
A29: 2321 | B29: Kurināmais | D29: 0.70281237 | E29: 632.86 | F29: =E29/900*700 -> 492.22444
A30: 2350 | B30: Iestāžu uzturēšanas materiāli un preces | D30: 0.25746801 | E30: 232.05 | F30: =E30/900*700 -> 180.48333
A31: 2361 | B31: Mīkstais inventārs | D31: 0.094088867 | E31: 84.67 | F31: =E31/900*700 -> 65.854444
A32: 2362 | B32: Virtuves inventārs, trauki un galda piederumi | D32: 0.048496534 | E32: 43.84 | F32: =E32/900*700 -> 34.097778
A33: 2363 | B33: Ēdināšanas izdevumi | D33: 9.75 | E33: =D33*900 -> 8775 | F33: =E33/900*700 -> 6825
A34: 2513 | B34: Budžeta iestāžu nekustamā īpašuma nodokļa maksājumi
A35: 2519 | B35: Pārējie budžeta iestāžu pārskaitītie nodokļi un nodevas
A36: 5239 | B36: Pārējie iepriekš neklasificētie pamatlīdzekļi un ieguldījuma īpašumi | D36: 0.96272507 | E36: 867.14 | F36: =E36/900*700 -> 674.44222
B37: Tiešās izmaksas kopā | D37: =SUM(D18:D36) -> 34.012539 | E37: =SUM(E18:E36) -> 32566.81 | F37: =SUM(F18:F36) -> 25329.741
B38: Netiešās izmaksas
A39: 1100 | B39: Atalgojums | C39: 0.4855 | E39: 8767.06 | F39: =E39/900*700 -> 6818.8244
A40: 1200 | B40: Darba devēja valsts sociālās apdrošināšanas obligātās iemaksas, pabalsti un kompensācijas | C40: =C39*0.2359 -> 0.11452945 | E40: 2068.15 | F40: =E40/900*700 -> 1608.5611
A41: 2100 | B41: Mācību, darba un dienesta komandējumi, dienesta, darba braucieni | C41: 0.001166 | E41: 24.85 | F41: =E41/900*700 -> 19.327778
A42: 2210 | B42: Izdevumi par sakaru pakalpojumiem | C42: 0.0076 | E42: 162 | F42: =E42/900*700 -> 126
A43: 2222 | B43: Izdevumi par ūdensapgādi un kanalizāciju | C43: =0.0095*1.15 -> 0.010925 | E43: 232.88 | F43: =E43/900*700 -> 181.12889
A44: 2223 | B44: Izdevumi par elektroenerģiju | C44: =0.01902*2.13 -> 0.0405126 | E44: 863.58 | F44: =E44/900*700 -> 671.67333
A45: 2224 | B45: Izdevumi par atkritumu savākšanu, izvešanu no apdzīvotām vietām un teritorijām ārpus apdzīvotām vietām un atkritumu utilizāciju | C45: =0.00495*1.15 -> 0.0056925 | E45: 121.34 | F45: =E45/900*700 -> 94.375556
A46: 2231 | B46: Izdevumi iestādes sabiedrisko aktivitāšu īstenošanai | C46: 0.00155 | E46: 33.04 | F46: =E46/900*700 -> 25.697778
A47: 2235 | B47: Izdevumi par saņemtajiem mācību pakalpojumiem | C47: 0.00165 | E47: 35.17 | F47: =E47/900*700 -> 27.354444
A48: 2239 | B48: Pārējie neklasificētie pakalpojumi | C48: 0.00441 | E48: 94.01 | F48: =E48/900*700 -> 73.118889
A49: 2241 | B49: Ēku, būvju un telpu būvdarbi | C49: 0.0165 | E49: =351.72+2.03 -> 353.75 | F49: =E49/900*700 -> 275.13889
A50: 2242 | B50: Transportlīdzekļu uzturēšana un remonts | C50: 0.00226 | E50: 48.17 | F50: =E50/900*700 -> 37.465556
A51: 2243 | B51: Iekārtas, inventāra un aparatūras remonts, tehniskā apkalpošana | C51: 0.0326 | E51: 694.91 | F51: =E51/900*700 -> 540.48556
A52: 2244 | B52: Nekustamā īpašuma uzturēšana | C52: =0.20397-0.09084 -> 0.11313 | E52: 2411.52 | F52: =E52/900*700 -> 1875.6267
A53: 2247 | B53: Apdrošināšanas izdevumi | C53: 0.000719 | E53: 15.33 | F53: =E53/900*700 -> 11.923333
A54: 2249 | B54: Pārējie remontdarbu un iestāžu uzturēšanas pakalpojumi | C54: 0.000232 | E54: 4.95 | F54: =E54/900*700 -> 3.85
A55: 2250 | B55: Informācijas tehnoloģiju pakalpojumi | C55: =0.024026-0.005 -> 0.019026 | E55: 405.57 | F55: =E55/900*700 -> 315.44333
A56: 2262 | B56: Transportlīdzekļu noma | C56: 0.00626 | E56: 133.44 | F56: =E56/900*700 -> 103.78667
A57: 2263 | B57: Zemes noma | C57: 0.0458 | E57: 976.29 | F57: =E57/900*700 -> 759.33667
A58: 2264 | B58: Iekārtu, aparatūras un inventāra īre un noma | C58: 0.00149 | E58: 31.76 | F58: =E58/900*700 -> 24.702222
A59: 2311 | B59: Biroja preces | C59: 0.00477 | E59: 101.68 | F59: =E59/900*700 -> 79.084444
A60: 2312 | B60: Inventārs | C60: 0.00579 | E60: 123.42 | F60: =E60/900*700 -> 95.993333
A61: 2314 | B61: Izdevumi par precēm iestādes sabiedrisko aktivitāšu īstenošanai | C61: 0.00222 | E61: 47.32 | F61: =E61/900*700 -> 36.804444
A62: 2321 | B62: Kurināmais | C62: =0.0198*1.2+0.005 -> 0.02876 | E62: 613.06 | F62: =E62/900*700 -> 476.82444
A63: 2322 | B63: Degviela | C63: =0.0035*1.2 -> 0.0042 | E63: 89.53 | F63: =E63/900*700 -> 69.634444
A64: 2341 | B64: Zāles, ķimikālijas, laboratorijas preces
A65: 2350 | B65: Iestāžu uzturēšanas materiāli un preces | C65: 0.0085 | E65: 181.19 | F65: =E65/900*700 -> 140.92556
A66: 2513 | B66: Budžeta iestāžu nekustamā īpašuma nodokļa maksājumi | C66: 0.00146 | E66: 31.12 | F66: =E66/900*700 -> 24.204444
A67: 2515 | B67: Budžeta iestāžu dabas resursu nodokļa maksājumi | C67: 0.0019 | E67: 40.5 | F67: =E67/900*700 -> 31.5
A68: 2519 | B68: Pārējie budžeta iestāžu pārskaitītie nodokļi un nodevas | C68: 0.002 | E68: 42.63 | F68: =E68/900*700 -> 33.156667
A69: 5220 | B69: Tehnoloģiskās iekārtas un mašīnas | C69: 0.0106 | E69: 225.95 | F69: =E69/900*700 -> 175.73889
A70: 5238 | B70: Datortehnika, sakaru un cita biroja tehnika | C70: 0.00165 | E70: 35.17 | F70: =E70/900*700 -> 27.354444
A71: 5239 | B71: Pārējie iepriekš neklasificētie pamatlīdzekļi un ieguldījuma īpašumi | C71: 0.00954 | E71: 203.36 | F71: =E71/900*700 -> 158.16889
A72: 5250 | B72: Kapitālais remonts un rekonstrukcija | C72: 0.00706 | E72: 150.49 | F72: =E72/900*700 -> 117.04778
B73: Netiešās izmaksas kopā | C73: =SUM(C39:C72) -> 1.0000026 | E73: =SUM(E39:E72) -> 19363.19 | F73: =SUM(F39:F72) -> 15060.259
B74: Pakalpojumu izmaksas kopā | E74: =E37+E73 -> 51930 | F74: =F37+F73 -> 40390
A76: Maksas pakalpojuma vienību skaits noteiktā laikposmā (gab.) | E76: 900 | F76: 700
A77: Maksas pakalpojuma izcenojums (euro) | E77: =E74/E76 -> 57.7 | F77: =F74/F76 -> 57.7
A79: Prognozētais maksas pakalpojumu skaits gadā (gab.)*
A80: Prognozētie ieņēmumi gadā (euro)*
A82: Piezīme. *Ailes neaizpilda, ja izvēlētais laikposms ir viens gads.
A84: Aprēķinu sastādīja: SIVA Finanšu nodaļas finanšu ekonomiste E.Lipiņa

Sheet 4.2.3.
E1: SASKAŅOTS
E2: Sociālās integrācijas valsts aģentūras
E3: direktore I.Jurševska
E5: 2023. gada 29. martā
A7: Maksas pakalpojuma izcenojuma aprēķins
A9: Sociālās integrācijas valsts aģentūra
A10: Publiskā pakalpojuma veids:
B11: 4. Viesu izmitināšana
B12: 4.2. Viesu izmitināšana - Dubultu prospekts 71, 2.korpuss, Jūrmala (viena vieta divvietīgā numurā)
B13: 4.2.3. Viesu izmitināšana - Dubultu prospekts 71, 2.korpuss, Jūrmala (viena vieta divvietīgā pielāgotā numurā, ar brokastīm)
A14: Laikposms | B14: 2023.gadā un turpmāk
A15: Izdevumu klasifikācijas kods | B15: Rādītājs (materiāla/izejvielas nosaukums, atlīdzība un citi izmaksu veidi) | E15: Izmaksu apjoms noteiktā laikposmā viena maksas pakalpojuma veida nodrošināšanai
A16: 1 | B16: 2 | E16: 4
B17: Tiešās izmaksas
A18: 1100 | B18: Atalgojums | D18: 9.8060809 | E18: 221.63
A19: 1200 | B19: Darba devēja valsts sociālās apdrošināšanas obligātās iemaksas, pabalsti un kompensācijas | D19: =D18*0.2359 -> 2.3132545 | E19: 52.28
A20: 2210 | B20: Izdevumi par sakaru pakalpojumiem
A21: 2222 | B21: Izdevumi par ūdensapgādi un kanalizāciju | D21: 0.32515227 | E21: 6.5
A22: 2223 | B22: Izdevumi par elektroenerģiju | D22: 0.97109835 | E22: 19.43
A23: 2243 | B23: Iekārtas, inventāra un aparatūras remonts, tehniskā apkalpošana | D23: 0.048207688 | E23: 0.96
A24: 2244 | B24: Nekustamā īpašuma uzturēšana | D24: 1.1839291 | E24: 23.68
A25: 2250 | B25: Informācijas tehnoloģiju pakalpojumi | D25: 0.19 | E25: 3.8
A26: 2263 | B26: Zemes noma
A27: 2311 | B27: Biroja preces | D27: 2.0297953 | E27: 40.6
A28: 2312 | B28: Inventārs | D28: 0.59515227 | E28: 11.9
A29: 2321 | B29: Kurināmais | D29: 0.68030454 | E29: 13.61
A30: 2350 | B30: Iestāžu uzturēšanas materiāli un preces | D30: 0.22052921 | E30: 4.41
A31: 2361 | B31: Mīkstais inventārs | D31: 0.10154768 | E31: 2.03
A32: 2362 | B32: Virtuves inventārs, trauki un galda piederumi | D32: 0.02 | E32: 0.4
A33: 2363 | B33: Ēdināšanas izdevumi | D33: 3.87 | E33: =D33*20 -> 77.4
A34: 2513 | B34: Budžeta iestāžu nekustamā īpašuma nodokļa maksājumi
A35: 2519 | B35: Pārējie budžeta iestāžu pārskaitītie nodokļi un nodevas
A36: 5239 | B36: Pārējie iepriekš neklasificētie pamatlīdzekļi un ieguldījuma īpašumi | D36: 0.89517224 | E36: 17.91
B37: Tiešās izmaksas kopā | D37: =SUM(D18:D36) -> 23.250224 | E37: =SUM(E18:E36) -> 496.54
B38: Netiešās izmaksas
A39: 1100 | B39: Atalgojums | C39: 0.4855 | E39: 175.88
A40: 1200 | B40: Darba devēja valsts sociālās apdrošināšanas obligātās iemaksas, pabalsti un kompensācijas | C40: =C39*0.2359 -> 0.11452945 | E40: 41.49
A41: 2100 | B41: Mācību, darba un dienesta komandējumi, dienesta, darba braucieni | C41: 0.001166 | E41: 0.48
A42: 2210 | B42: Izdevumi par sakaru pakalpojumiem | C42: 0.0076 | E42: 3.15
A43: 2222 | B43: Izdevumi par ūdensapgādi un kanalizāciju | C43: =0.0095*1.15 -> 0.010925 | E43: 4.53
A44: 2223 | B44: Izdevumi par elektroenerģiju | C44: =0.01902*2.13 -> 0.0405126 | E44: 16.81
A45: 2224 | B45: Izdevumi par atkritumu savākšanu, izvešanu no apdzīvotām vietām un teritorijām ārpus apdzīvotām vietām un atkritumu utilizāciju | C45: =0.00495*1.15 -> 0.0056925 | E45: 2.36
A46: 2231 | B46: Izdevumi iestādes sabiedrisko aktivitāšu īstenošanai | C46: 0.00155 | E46: 0.64
A47: 2235 | B47: Izdevumi par saņemtajiem mācību pakalpojumiem | C47: 0.00165 | E47: 0.68
A48: 2239 | B48: Pārējie neklasificētie pakalpojumi | C48: 0.00441 | E48: 1.83
A49: 2241 | B49: Ēku, būvju un telpu būvdarbi | C49: 0.0165 | E49: 6.85
A50: 2242 | B50: Transportlīdzekļu uzturēšana un remonts | C50: 0.00226 | E50: 0.94
A51: 2243 | B51: Iekārtas, inventāra un aparatūras remonts, tehniskā apkalpošana | C51: 0.0326 | E51: 13.53
A52: 2244 | B52: Nekustamā īpašuma uzturēšana | C52: =0.20397-0.09084 -> 0.11313 | E52: 46.94
A53: 2247 | B53: Apdrošināšanas izdevumi | C53: 0.000719 | E53: 0.3
A54: 2249 | B54: Pārējie remontdarbu un iestāžu uzturēšanas pakalpojumi | C54: 0.000232 | E54: 0.1
A55: 2250 | B55: Informācijas tehnoloģiju pakalpojumi | C55: =0.024026-0.005 -> 0.019026 | E55: 7.9
A56: 2262 | B56: Transportlīdzekļu noma | C56: 0.00626 | E56: 2.6
A57: 2263 | B57: Zemes noma | C57: 0.0458 | E57: 19.01
A58: 2264 | B58: Iekārtu, aparatūras un inventāra īre un noma | C58: 0.00149 | E58: 0.62
A59: 2311 | B59: Biroja preces | C59: 0.00477 | E59: 1.98
A60: 2312 | B60: Inventārs | C60: 0.00579 | E60: 2.4
A61: 2314 | B61: Izdevumi par precēm iestādes sabiedrisko aktivitāšu īstenošanai | C61: 0.00222 | E61: 0.92
A62: 2321 | B62: Kurināmais | C62: =0.0198*1.2+0.005 -> 0.02876 | E62: 11.93
A63: 2322 | B63: Degviela | C63: =0.0035*1.2 -> 0.0042 | E63: 1.74
A64: 2341 | B64: Zāles, ķimikālijas, laboratorijas preces
A65: 2350 | B65: Iestāžu uzturēšanas materiāli un preces | C65: 0.0085 | E65: 3.53
A66: 2513 | B66: Budžeta iestāžu nekustamā īpašuma nodokļa maksājumi | C66: 0.00146 | E66: 0.61
A67: 2515 | B67: Budžeta iestāžu dabas resursu nodokļa maksājumi | C67: 0.0019 | E67: 0.79
A68: 2519 | B68: Pārējie budžeta iestāžu pārskaitītie nodokļi un nodevas | C68: 0.002 | E68: 0.83
A69: 5220 | B69: Tehnoloģiskās iekārtas un mašīnas | C69: 0.0106 | E69: 4.33
A70: 5238 | B70: Datortehnika, sakaru un cita biroja tehnika | C70: 0.00165 | E70: 0.68
A71: 5239 | B71: Pārējie iepriekš neklasificētie pamatlīdzekļi un ieguldījuma īpašumi | C71: 0.00954 | E71: 3.95
A72: 5250 | B72: Kapitālais remonts un rekonstrukcija | C72: 0.00706 | E72: 2.93
B73: Netiešās izmaksas kopā | C73: =SUM(C39:C72) -> 1.0000026 | E73: =SUM(E39:E72) -> 383.26
B74: Pakalpojumu izmaksas kopā | E74: =E37+E73 -> 879.8
A76: Maksas pakalpojuma vienību skaits noteiktā laikposmā (gab.) | E76: 20
A77: Maksas pakalpojuma izcenojums (euro) | E77: =E74/E76 -> 43.99
A79: Prognozētais maksas pakalpojumu skaits gadā (gab.)*
A80: Prognozētie ieņēmumi gadā (euro)*
A82: Piezīme. *Ailes neaizpilda, ja izvēlētais laikposms ir viens gads.
A84: Aprēķinu sastādīja: SIVA Finanšu nodaļas finanšu ekonomiste E.Lipiņa

Sheet 4.2.4.
E1: SASKAŅOTS
E2: Sociālās integrācijas valsts aģentūras
E3: direktore I.Jurševska
E5: 2023. gada 29. martā
A6: Maksas pakalpojuma izcenojuma aprēķins
A8: Sociālās integrācijas valsts aģentūra
A9: Publiskā pakalpojuma veids:
B10: 4. Viesu izmitināšana
B11: 4.2. Viesu izmitināšana - Dubultu prospekts 71, 2.korpuss, Jūrmala (viena vieta divvietīgā numurā)
B12: 4.2.4. Viesu izmitināšana - Dubultu prospekts 71, 2.korpuss, Jūrmala (viena vieta divvietīgā pielāgotā numurā, ar trīsreizēju ēdināšanu)
A14: Laikposms | B14: 2023.gadā un turpmāk
A15: Izdevumu klasifikācijas kods | B15: Rādītājs (materiāla/izejvielas nosaukums, atlīdzība un citi izmaksu veidi) | E15: Izmaksu apjoms noteiktā laikposmā viena maksas pakalpojuma veida nodrošināšanai
A16: 1 | B16: 2 | E16: 3
B17: Tiešās izmaksas
A18: 1100 | B18: Atalgojums | D18: 13.696081 | E18: 309.54
A19: 1200 | B19: Darba devēja valsts sociālās apdrošināšanas obligātās iemaksas, pabalsti un kompensācijas | D19: =D18*0.2359 -> 3.2309055 | E19: 73.02
A20: 2210
A21: 2222 | B21: Izdevumi par ūdensapgādi un kanalizāciju | D21: 0.39515227 | E21: 7.9
A22: 2223 | B22: Izdevumi par elektroenerģiju | D22: 1.0410984 | E22: 20.83
A23: 2243 | B23: Iekārtas, inventāra un aparatūras remonts, tehniskā apkalpošana | D23: 0.061198528 | E23: 1.23
A24: 2244 | B24: Nekustamā īpašuma uzturēšana | D24: 1.2817802 | E24: 25.65
A25: 2250 | B25: Informācijas tehnoloģiju pakalpojumi | D25: 0.19 | E25: 3.8
A26: 2263 | B26: Zemes noma
A27: 2311 | B27: Biroja preces | D27: 2.0297953 | E27: 40.6
A28: 2312 | B28: Inventārs | D28: 0.71454415 | E28: 14.31
A29: 2321 | B29: Kurināmais | D29: 0.74176394 | E29: 14.85
A30: 2350 | B30: Iestāžu uzturēšanas materiāli un preces | D30: 0.27072812 | E30: 5.42
A31: 2361 | B31: Mīkstais inventārs | D31: 0.10154768 | E31: 2.03
A32: 2362 | B32: Virtuves inventārs, trauki un galda piederumi | D32: 0.048496534 | E32: 0.97
A33: 2363 | B33: Ēdināšanas izdevumi | D33: 9.75 | E33: =D33*20 -> 195
A34: 2513 | B34: Budžeta iestāžu nekustamā īpašuma nodokļa maksājumi
A35: 2519 | B35: Pārējie budžeta iestāžu pārskaitītie nodokļi un nodevas
A36: 5239 | B36: Pārējie iepriekš neklasificētie pamatlīdzekļi un ieguldījuma īpašumi | D36: 0.99836162 | E36: 19.99
B37: Tiešās izmaksas kopā | D37: =SUM(D18:D36) -> 34.551453 | E37: =SUM(E18:E36) -> 735.14
B38: Netiešās izmaksas
A39: 1100 | B39: Atalgojums | C39: 0.4855 | E39: 205.1
A40: 1200 | B40: Darba devēja valsts sociālās apdrošināšanas obligātās iemaksas, pabalsti un kompensācijas | C40: =C39*0.2359 -> 0.11452945 | E40: 48.38
A41: 2100 | B41: Mācību, darba un dienesta komandējumi, dienesta, darba braucieni | C41: 0.001166 | E41: 0.58
A42: 2210 | B42: Izdevumi par sakaru pakalpojumiem | C42: 0.0076 | E42: 3.77
A43: 2222 | B43: Izdevumi par ūdensapgādi un kanalizāciju | C43: =0.0095*1.15 -> 0.010925 | E43: 5.42
A44: 2223 | B44: Izdevumi par elektroenerģiju | C44: =0.01902*2.13 -> 0.0405126 | E44: 20.11
A45: 2224 | B45: Izdevumi par atkritumu savākšanu, izvešanu no apdzīvotām vietām un teritorijām ārpus apdzīvotām vietām un atkritumu utilizāciju | C45: =0.00495*1.15 -> 0.0056925 | E45: 2.82
A46: 2231 | B46: Izdevumi iestādes sabiedrisko aktivitāšu īstenošanai | C46: 0.00155 | E46: 0.77
A47: 2235 | B47: Izdevumi par saņemtajiem mācību pakalpojumiem | C47: 0.00165 | E47: 0.82
A48: 2239 | B48: Pārējie neklasificētie pakalpojumi | C48: 0.00441 | E48: 2.19
A49: 2241 | B49: Ēku, būvju un telpu būvdarbi | C49: 0.0165 | E49: 8.28
A50: 2242 | B50: Transportlīdzekļu uzturēšana un remonts | C50: 0.00226 | E50: 1.12
A51: 2243 | B51: Iekārtas, inventāra un aparatūras remonts, tehniskā apkalpošana | C51: 0.0326 | E51: 16.18
A52: 2244 | B52: Nekustamā īpašuma uzturēšana | C52: =0.20397-0.09084 -> 0.11313 | E52: 56.14
A53: 2247 | B53: Apdrošināšanas izdevumi | C53: 0.000719 | E53: 0.36
A54: 2249 | B54: Pārējie remontdarbu un iestāžu uzturēšanas pakalpojumi | C54: 0.000232 | E54: 0.12
A55: 2250 | B55: Informācijas tehnoloģiju pakalpojumi | C55: =0.024026-0.005 -> 0.019026 | E55: 9.44
A56: 2262 | B56: Transportlīdzekļu noma | C56: 0.00626 | E56: 3.11
A57: 2263 | B57: Zemes noma | C57: 0.0458 | E57: 22.73
A58: 2264 | B58: Iekārtu, aparatūras un inventāra īre un noma | C58: 0.00149 | E58: 0.74
A59: 2311 | B59: Biroja preces | C59: 0.00477 | E59: 2.37
A60: 2312 | B60: Inventārs | C60: 0.00579 | E60: 2.87
A61: 2314 | B61: Izdevumi par precēm iestādes sabiedrisko aktivitāšu īstenošanai | C61: 0.00222 | E61: 1.1
A62: 2321 | B62: Kurināmais | C62: =0.0198*1.2+0.005 -> 0.02876 | E62: 14.27
A63: 2322 | B63: Degviela | C63: =0.0035*1.2 -> 0.0042 | E63: 2.08
A64: 2341 | B64: Zāles, ķimikālijas, laboratorijas preces | E64: 0
A65: 2350 | B65: Iestāžu uzturēšanas materiāli un preces | C65: 0.0085 | E65: 4.22
A66: 2513 | B66: Budžeta iestāžu nekustamā īpašuma nodokļa maksājumi | C66: 0.00146 | E66: 0.72
A67: 2515 | B67: Budžeta iestāžu dabas resursu nodokļa maksājumi | C67: 0.0019 | E67: 0.94
A68: 2519 | B68: Pārējie budžeta iestāžu pārskaitītie nodokļi un nodevas | C68: 0.002 | E68: 0.99
A69: 5220 | B69: Tehnoloģiskās iekārtas un mašīnas | C69: 0.0106 | E69: 5.26
A70: 5238 | B70: Datortehnika, sakaru un cita biroja tehnika | C70: 0.00165 | E70: 0.82
A71: 5239 | B71: Pārējie iepriekš neklasificētie pamatlīdzekļi un ieguldījuma īpašumi | C71: 0.00954 | E71: 4.73
A72: 5250 | B72: Kapitālais remonts un rekonstrukcija | C72: 0.00706 | E72: 3.51
B73: Netiešās izmaksas kopā | C73: =SUM(C39:C72) -> 1.0000026 | E73: =SUM(E39:E72) -> 452.06
B74: Pakalpojumu izmaksas kopā | E74: =E37+E73 -> 1187.2
A76: Maksas pakalpojuma vienību skaits noteiktā laikposmā (gab.) | E76: 20
A77: Maksas pakalpojuma izcenojums (euro) | E77: =E74/E76 -> 59.36
A79: Prognozētais maksas pakalpojumu skaits gadā (gab.)*
A80: Prognozētie ieņēmumi gadā (euro)*
A82: Piezīme. *Ailes neaizpilda, ja izvēlētais laikposms ir viens gads.
A84: Aprēķinu sastādīja: SIVA Finanšu nodaļas finanšu ekonomiste E.Lipiņa

Sheet 4.2.5.
E1: SASKAŅOTS
E2: Sociālās integrācijas valsts aģentūras
E3: direktore I.Jurševska
E5: 2023. gada 29. martā
A7: Maksas pakalpojuma izcenojuma aprēķins
A9: Sociālās integrācijas valsts aģentūra
A10: Publiskā pakalpojuma veids:
B11: 4. Viesu izmitināšana
B12: 4.2. Viesu izmitināšana Dubultu prospektā 71, 2.korpusā, Jūrmalā (viena vieta divvietīgā numurā)
B13: 4.2.5. Piemaksa par uzturēšanos vienai personai divvietīgā numurā
A14: Laikposms | B14: ='4.2.4.'!B14 -> 2023.gadā un turpmāk
A15: Izdevumu klasifikācijas kods | B15: Rādītājs (materiāla/izejvielas nosaukums, atlīdzība un citi izmaksu veidi) | C15: 1 | E15: Izmaksu apjoms noteiktā laikposmā viena maksas pakalpojuma veida nodrošināšanai
A16: 1 | B16: 2 | E16: 3
B17: Tiešās izmaksas
A18: 1100 | B18: Atalgojums | C18: 2.1878702 | E18: 568.73
A19: 1200 | B19: Darba devēja valsts sociālās apdrošināšanas obligātās iemaksas, pabalsti un kompensācijas | C19: =C18*0.2359 -> 0.51611858 | E19: 134.16
A20: 2210 | B20: Izdevumi par sakaru pakalpojumiem
A21: 2222 | B21: Izdevumi par ūdensapgādi un kanalizāciju | C21: 0.22432351 | E21: 51.6
A22: 2223 | B22: Izdevumi par elektroenerģiju | C22: 0.67774338 | E22: 155.91
A23: 2243 | B23: Iekārtas, inventāra un aparatūras remonts, tehniskā apkalpošana | C23: 0.023864204 | E23: 5.49
A24: 2244 | B24: Nekustamā īpašuma uzturēšana | C24: 0.7732002 | E24: 177.87
A25: 2250 | B25: Informācijas tehnoloģiju pakalpojumi | C25: 0 | E25: 0
A26: 2263 | B26: Zemes noma
A27: 2311 | B27: Biroja preces | C27: 0.48205691 | E27: 110.89
A28: 2312 | B28: Inventārs | C28: 0.22432351 | E28: 51.6
A29: 2321 | B29: Kurināmais | C29: 0.44864703 | E29: 103.21
A30: 2350 | B30: Iestāžu uzturēšanas materiāli un preces | C30: 0.1527309 | E30: 35.13
A31: 2361 | B31: Mīkstais inventārs | C31: 0.085911133 | E31: 19.76
A32: 2362 | B32: Virtuves inventārs, trauki un galda piederumi
A33: 2363 | B33: Ēdināšanas izdevumi | C33: 0 | E33: 0
A34: 2513 | B34: Budžeta iestāžu nekustamā īpašuma nodokļa maksājumi
A35: 2519 | B35: Pārējie budžeta iestāžu pārskaitītie nodokļi un nodevas
A36: 5239 | B36: Pārējie iepriekš neklasificētie pamatlīdzekļi un ieguldījuma īpašumi | C36: 0.4104643 | E36: 94.42
B37: Tiešās izmaksas kopā | C37: =SUM(C18:C36) -> 6.2072539 | E37: =SUM(E18:E36) -> 1508.77
B38: Netiešās izmaksas
A39: 1100 | B39: Atalgojums | D39: 0.4855 | E39: 1376.11
A40: 1200 | B40: Darba devēja valsts sociālās apdrošināšanas obligātās iemaksas, pabalsti un kompensācijas | D40: =D39*0.2359 -> 0.11452945 | E40: 324.62
A41: 2100 | B41: Mācību, darba un dienesta komandējumi, dienesta, darba braucieni | D41: 0.001166 | E41: 3.46
A42: 2210 | B42: Izdevumi par sakaru pakalpojumiem | D42: 0.0076 | E42: 22.57
A43: 2222 | B43: Izdevumi par ūdensapgādi un kanalizāciju | D43: =0.0095*1.15 -> 0.010925 | E43: 32.44
A44: 2223 | B44: Izdevumi par elektroenerģiju | D44: =0.01902*2.13 -> 0.0405126 | E44: 120.31
A45: 2224 | B45: Izdevumi par atkritumu savākšanu, izvešanu no apdzīvotām vietām un teritorijām ārpus apdzīvotām vietām un atkritumu utilizāciju | D45: =0.00495*1.15 -> 0.0056925 | E45: 16.9
A46: 2231 | B46: Izdevumi iestādes sabiedrisko aktivitāšu īstenošanai | D46: 0.00155 | E46: 4.6
A47: 2235 | B47: Izdevumi par saņemtajiem mācību pakalpojumiem | D47: 0.00165 | E47: 4.9
A48: 2239 | B48: Pārējie neklasificētie pakalpojumi | D48: 0.00441 | E48: 13.1
A49: 2241 | B49: Ēku, būvju un telpu būvdarbi | D49: 0.0165 | E49: 49.32
A50: 2242 | B50: Transportlīdzekļu uzturēšana un remonts | D50: 0.00226 | E50: 6.71
A51: 2243 | B51: Iekārtas, inventāra un aparatūras remonts, tehniskā apkalpošana | D51: 0.0326 | E51: 96.81
A52: 2244 | B52: Nekustamā īpašuma uzturēšana | D52: =0.20397-0.09084 -> 0.11313 | E52: 335.96
A53: 2247 | B53: Apdrošināšanas izdevumi | D53: 0.000719 | E53: 2.14
A54: 2249 | B54: Pārējie remontdarbu un iestāžu uzturēšanas pakalpojumi | D54: 0.000232 | E54: 0.69
A55: 2250 | B55: Informācijas tehnoloģiju pakalpojumi | D55: =0.024026-0.005 -> 0.019026 | E55: 56.5
A56: 2262 | B56: Transportlīdzekļu noma | D56: 0.00626 | E56: 18.59
A57: 2263 | B57: Zemes noma | D57: 0.0458 | E57: 136.01
A58: 2264 | B58: Iekārtu, aparatūras un inventāra īre un noma | D58: 0.00149 | E58: 4.42
A59: 2311 | B59: Biroja preces | D59: 0.00477 | E59: 14.17
A60: 2312 | B60: Inventārs | D60: 0.00579 | E60: 17.19
A61: 2314 | B61: Izdevumi par precēm iestādes sabiedrisko aktivitāšu īstenošanai | D61: 0.00222 | E61: 6.59
A62: 2321 | B62: Kurināmais | D62: =0.0198*1.2+0.005 -> 0.02876 | E62: 85.41
A63: 2322 | B63: Degviela | D63: =0.0035*1.2 -> 0.0042 | E63: 12.47
A64: 2341 | B64: Zāles, ķimikālijas, laboratorijas preces | E64: 0
A65: 2350 | B65: Iestāžu uzturēšanas materiāli un preces | D65: 0.0085 | E65: 25.24
A66: 2513 | B66: Budžeta iestāžu nekustamā īpašuma nodokļa maksājumi | D66: 0.00146 | E66: 4.34
A67: 2515 | B67: Budžeta iestāžu dabas resursu nodokļa maksājumi | D67: 0.0019 | E67: 5.64
A68: 2519 | B68: Pārējie budžeta iestāžu pārskaitītie nodokļi un nodevas | D68: 0.002 | E68: 5.94
A69: 5220 | B69: Tehnoloģiskās iekārtas un mašīnas | D69: 0.0106 | E69: 31.48
A70: 5238 | B70: Datortehnika, sakaru un cita biroja tehnika | D70: 0.00165 | E70: 4.9
A71: 5239 | B71: Pārējie iepriekš neklasificētie pamatlīdzekļi un ieguldījuma īpašumi | D71: 0.00954 | E71: 28.33
A72: 5250 | B72: Kapitālais remonts un rekonstrukcija | D72: 0.00706 | E72: 20.97
B73: Netiešās izmaksas kopā | D73: =SUM(D39:D72) -> 1.0000026 | E73: =SUM(E39:E72) -> 2888.83
B74: Pakalpojumu izmaksas kopā | E74: =E37+E73 -> 4397.6
A76: Maksas pakalpojuma vienību skaits noteiktā laikposmā | E76: 230
A77: Maksas pakalpojuma izcenojums (euro) | E77: =E74/E76 -> 19.12
A79: Prognozētais maksas pakalpojumu skaits gadā (gab.)*
A80: Prognozētie ieņēmumi gadā (euro)*
A82: Piezīme. *Ailes neaizpilda, ja izvēlētais laikposms ir viens gads.
A84: Aprēķinu sastādīja: SIVA Finanšu nodaļas finanšu ekonomiste E.Lipiņa

Sheet 7.3.1._vec
E1: SASKAŅOTS
E2: Sociālās integrācijas valsts aģentūras
E3: direktore I.Jurševska
E5: 2021. gada 30. augustā
A7: Maksas pakalpojuma izcenojuma aprēķins
A9: Sociālās integrācijas valsts aģentūra
A10: Publiskā pakalpojuma veids:
B11: 7. Viesu izmitināšana
B12: 7.3. Viesu izmitināšana - Dubultu prospekts 71, 1.korpuss, Jūrmala (viena vieta vienvietīgā numurā)
B13: 7.3.1. Viesu izmitināšana - Dubultu prospekts 71, 1.korpuss, Jūrmala (viena vieta vienvietīgā numurā, ar brokastīm)
A14: Laikposms | B14: 2022.gadā un turpmāk
A15: Izdevumu klasifikācijas kods | B15: Rādītājs (materiāla/izejvielas nosaukums, atlīdzība un citi izmaksu veidi) | E15: Izmaksu apjoms noteiktā laikposmā viena maksas pakalpojuma veida nodrošināšanai
A16: 1 | B16: 2 | E16: 3
B17: Tiešās izmaksas
A18: 1100 | B18: Atalgojums | D18: =5.91/1.2359 -> 4.7819403 | E18: 717.29
A19: 1200 | B19: Darba devēja valsts sociālās apdrošināšanas obligātās iemaksas, pabalsti un kompensācijas | D19: =D18*0.2359 -> 1.1280597 | E19: 169.21
A20: 2210 | B20: Izdevumi par sakaru pakalpojumiem | D20: 0.08 | E20: =D20*150 -> 12
A21: 2222 | B21: Izdevumi par ūdensapgādi un kanalizāciju | D21: 1.88 | E21: =D21*150 -> 282
A22: 2223 | B22: Izdevumi par elektroenerģiju | D22: 1.92339 | E22: 288.51
A23: 2243 | B23: Iekārtas, inventāra un aparatūras remonts, tehniskā apkalpošana | D23: 0.04 | E23: =D23*150 -> 6
A24: 2244 | B24: Nekustamā īpašuma uzturēšana | D24: 2.95964 | E24: 443.95
A25: 2250 | B25: Informācijas tehnoloģiju pakalpojumi | D25: 0.16 | E25: =D25*150 -> 24
A26: 2311 | B26: Biroja preces | D26: 0.48 | E26: =D26*150 -> 72
A27: 2312 | B27: Inventārs | D27: 1.55 | E27: =D27*150 -> 232.5
A28: 2321 | B28: Kurināmais | D28: 2.504884 | E28: 375.73
A29: 2350 | B29: Iestāžu uzturēšanas materiāli un preces | D29: 0.28 | E29: =D29*150 -> 42
A30: 2361 | B30: Mīkstais inventārs | D30: 0.28 | E30: =D30*150 -> 42
A31: 2362 | B31: Virtuves inventārs, trauki un galda piederumi | D31: 0.12 | E31: =D31*150 -> 18
A32: 2363 | B32: Ēdināšanas izdevumi | D32: 3.58 | E32: =D32*150 -> 537
A33: 5239 | B33: Pārējie iepriekš neklasificētie pamatlīdzekļi un ieguldījuma īpašumi | D33: 0.82 | E33: =D33*150 -> 123
B34: Tiešās izmaksas kopā | D34: =SUM(D18:D33) -> 22.567914 | E34: =SUM(E18:E33) -> 3385.19
B35: Netiešās izmaksas
A36: 1100 | B36: Atalgojums | C36: =0.388+0.024 -> 0.412 | E36: 629.25
A37: 1200 | B37: Darba devēja valsts sociālās apdrošināšanas obligātās iemaksas, pabalsti un kompensācijas | C37: =C36*0.2359 -> 0.0971908 | E37: 148.44
A38: 2100 | B38: Mācību, darba un dienesta komandējumi, dienesta, darba braucieni | C38: 0.001166 | E38: 1.78
A39: 2210 | B39: Izdevumi par sakaru pakalpojumiem | C39: 0.0076 | E39: 11.61
A40: 2222 | B40: Izdevumi par ūdensapgādi un kanalizāciju | C40: 0.0095 | E40: 14.51
A41: 2223 | B41: Izdevumi par elektroenerģiju | C41: 0.01902 | E41: 29.05
A42: 2224 | B42: Izdevumi par atkritumu savākšanu, izvešanu no apdzīvotām vietām un teritorijām ārpus apdzīvotām vietām un atkritumu utilizāciju | C42: 0.00495 | E42: 7.56
A43: 2231 | B43: Izdevumi iestādes sabiedrisko aktivitāšu īstenošanai | C43: 0.00155 | E43: 2.37
A44: 2235 | B44: Izdevumi par saņemtajiem mācību pakalpojumiem | C44: 0.00165 | E44: 2.52
A45: 2239 | B45: Pārējie neklasificētie pakalpojumi | C45: 0.00441 | E45: 6.74
A46: 2241 | B46: Ēku, būvju un telpu būvdarbi | C46: 0.0165 | E46: 25.2
A47: 2242 | B47: Transportlīdzekļu uzturēšana un remonts | C47: 0.00226 | E47: 3.45
A48: 2243 | B48: Iekārtas, inventāra un aparatūras remonts, tehniskā apkalpošana | C48: 0.0326 | E48: 49.79
A49: 2244 | B49: Nekustamā īpašuma uzturēšana | C49: 0.20397 | E49: 311.53
... A52: 2250 | B52: Informācijas tehnoloģiju pakalpojumi | C52: 0.024026 | E52: 36.7
A53: 2261 | B53: Ēku, telpu īre un noma | C53: 0 | E53: =C53*1527.31 -> 0
A54: 2262 | B54: Transportlīdzekļu noma | C54: 0.00626 | E54: 9.56
A55: 2263 | B55: Zemes noma | C55: 0.0458 | E55: 69.95
A56: 2264 | B56: Iekārtu, aparatūras un inventāra īre un noma | C56: 0.00149 | E56: 2.28
A57: 2311 | B57: Biroja preces | C57: 0.00477 | E57: 7.29
A58: 2312 | B58: Inventārs | C58: 0.00579 | E58: 8.84
A59: 2314 | B59: Izdevumi par precēm iestādes sabiedrisko aktivitāšu īstenošanai | C59: 0.00222 | E59: 3.39
A60: 2321 | B60: Kurināmais | C60: 0.0198 | E60: 30.24
A61: 2322 | B61: Degviela | C61: 0.0035 | E61: 5.35
A62: 2341 | B62: Zāles, ķimikālijas, laboratorijas preces | E62: =C62*1527.31 -> 0
A63: 2350 | B63: Iestāžu uzturēšanas materiāli un preces | C63: 0.0085 | E63: 12.98
A64: 2512 | B64: Budžeta iestāžu pievienotās vērtības nodokļa maksājumi | C64: 0 | D64: 3.93 | E64: 0
A65: 2513 | B65: Budžeta iestāžu nekustamā īpašuma nodokļa maksājumi | C65: 0.00146 | E65: 2.23
A66: 2515 | B66: Budžeta iestāžu dabas resursu nodokļa maksājumi | C66: 0.0019 | E66: 2.9
A67: 2519 | B67: Pārējie budžeta iestāžu pārskaitītie nodokļi un nodevas | C67: 0.002 | E67: 3.05
A68: 5220 | B68: Tehnoloģiskās iekārtas un mašīnas | C68: 0.0106 | E68: 16.19
A69: 5238 | B69: Datortehnika, sakaru un cita biroja tehnika | C69: 0.00165 | E69: 2.59
A70: 5239 | B70: Pārējie iepriekš neklasificētie pamatlīdzekļi un ieguldījuma īpašumi | C70: 0.0198 | E70: 30.24
A71: 5250 | B71: Kapitālais remonts un rekonstrukcija | C71: 0.025 | E71: 38.28
B72: Netiešās izmaksas kopā | C72: =SUM(C36:C71) -> 0.9998838 | E72: =SUM(E36:E71) -> 1527.31
B73: Pakalpojumu izmaksas kopā | E73: =E34+E72 -> 4912.5
A75: Maksas pakalpojuma vienību skaits noteiktā laikposmā (gab.) | E75: 150
A76: Maksas pakalpojuma izcenojums (euro) | E76: =E73/E75 -> 32.75
A78: Prognozētais maksas pakalpojumu skaits gadā (gab.)*
A79: Prognozētie ieņēmumi gadā (euro)*
A81: Piezīme. *Ailes neaizpilda, ja izvēlētais laikposms ir viens gads.
A83: Aprēķinu sastādīja: SIVA Finanšu nodaļas vecākā finanšu ekonomiste Anita Ozoliņa

Sheet 7.3.2.vec
E1: SASKAŅOTS
E2: Sociālās integrācijas valsts aģentūras
E3: direktore I.Jurševska
E5: 2021. gada 30. augustā
A7: Maksas pakalpojuma izcenojuma aprēķins
A9: Sociālās integrācijas valsts aģentūra
A10: Publiskā pakalpojuma veids:
B11: 7. Viesu izmitināšana
B12: 7.3. Viesu izmitināšana - Dubultu prospekts 71, 2.korpuss, Jūrmala (viena vieta vienvietīgā numurā)
B13: 7.3.2. Viesu izmitināšana - Dubultu prospekts 71, 1.korpuss, Jūrmala (viena vieta vienvietīgā numurā, ar trīsreizēju ēdināšanu)
A14: Laikposms | B14: 2022.gadā un turpmāk
A15: Izdevumu klasifikācijas kods | B15: Rādītājs (materiāla/izejvielas nosaukums, atlīdzība un citi izmaksu veidi) | E15: Izmaksu apjoms noteiktā laikposmā viena maksas pakalpojuma veida nodrošināšanai
A16: 1 | B16: 2 | E16: 3
B17: Tiešās izmaksas
A18: 1100 | B18: Atalgojums | D18: =7.12/1.2359 -> 5.7609839 | E18: 1440.25
A19: 1200 | B19: Darba devēja valsts sociālās apdrošināšanas obligātās iemaksas, pabalsti un kompensācijas | D19: =D18*0.2359 -> 1.3590161 | E19: 339.75
A20: 2210 | B20: Izdevumi par sakaru pakalpojumiem | D20: 0.08 | E20: =D20*250 -> 20
A21: 2222 | B21: Izdevumi par ūdensapgādi un kanalizāciju | D21: 1.9928 | E21: 498.2
A22: 2223 | B22: Izdevumi par elektroenerģiju | D22: 2.0387969 | E22: 509.7
A23: 2243 | B23: Iekārtas, inventāra un aparatūras remonts, tehniskā apkalpošana | D23: 0.06 | E23: 15
A24: 2244 | B24: Nekustamā īpašuma uzturēšana | D24: 3.1372185 | E24: 784.3
A25: 2250 | B25: Informācijas tehnoloģiju pakalpojumi | D25: 0.16 | E25: 40
A26: 2311 | B26: Biroja preces | D26: 0.48 | E26: =D26*250 -> 120
A27: 2312 | B27: Inventārs | D27: 1.63 | E27: =D27*250 -> 407.5
A28: 2321 | B28: Kurināmais | D28: 2.6551774 | E28: 663.79
A29: 2350 | B29: Iestāžu uzturēšanas materiāli un preces | D29: 0.33 | E29: =D29*250 -> 82.5
A30: 2361 | B30: Mīkstais inventārs | D30: 0.28 | E30: =D30*250 -> 70
A31: 2362 | B31: Virtuves inventārs, trauki un galda piederumi | D31: 0.18 | E31: =D31*250 -> 45
A32: 2363 | B32: Ēdināšanas izdevumi | D32: 8.12 | E32: =D32*250 -> 2030
A33: 5239 | B33: Pārējie iepriekš neklasificētie pamatlīdzekļi un ieguldījuma īpašumi | D33: 0.8692545 | E33: 217.31
B34: Tiešās izmaksas kopā | D34: =SUM(D18:D33) -> 29.133247 | E34: =SUM(E18:E33) -> 7283.3
B35: Netiešās izmaksas
A36: 1100 | B36: Atalgojums | C36: =0.388+0.024 -> 0.412 | E36: 1351.03
A37: 1200 | B37: Darba devēja valsts sociālās apdrošināšanas obligātās iemaksas, pabalsti un kompensācijas | C37: =C36*0.2359 -> 0.0971908 | E37: 318.71
A38: 2100 | B38: Mācību, darba un dienesta komandējumi, dienesta, darba braucieni | C38: 0.001166 | E38: 3.82
A39: 2210 | B39: Izdevumi par sakaru pakalpojumiem | C39: 0.0076 | E39: 24.92
A40: 2222 | B40: Izdevumi par ūdensapgādi un kanalizāciju | C40: 0.0095 | E40: 31.15
A41: 2223 | B41: Izdevumi par elektroenerģiju | C41: 0.01902 | E41: 62.37
A42: 2224 | B42: Izdevumi par atkritumu savākšanu, izvešanu no apdzīvotām vietām un teritorijām ārpus apdzīvotām vietām un atkritumu utilizāciju | C42: 0.00495 | E42: 16.23
A43: 2231 | B43: Izdevumi iestādes sabiedrisko aktivitāšu īstenošanai | C43: 0.00155 | E43: 5.08
A44: 2235 | B44: Izdevumi par saņemtajiem mācību pakalpojumiem | C44: 0.00165 | E44: 5.41
A45: 2239 | B45: Pārējie neklasificētie pakalpojumi | C45: 0.00441 | E45: 14.46
A46: 2241 | B46: Ēku, būvju un telpu būvdarbi | C46: 0.0165 | E46: 54.11
A47: 2242 | B47: Transportlīdzekļu uzturēšana un remonts | C47: 0.00226 | E47: 7.41
A48: 2243 | B48: Iekārtas, inventāra un aparatūras remonts, tehniskā apkalpošana | C48: 0.0326 | E48: 107.27
A49: 2244 | B49: Nekustamā īpašuma uzturēšana | C49: 0.20397 | E49: 668.86
... A61: 2322 | B61: Degviela | C61: 0.0035 | E61: 11.48
A62: 2341 | B62: Zāles, ķimikālijas, laboratorijas preces | E62: 0
A63: 2350 | B63: Iestāžu uzturēšanas materiāli un preces | C63: 0.0085 | E63: 27.87
A64: 2512 | B64: Budžeta iestāžu pievienotās vērtības nodokļa maksājumi | C64: 0 | D64: 5.07 | E64: 0
A65: 2513 | B65: Budžeta iestāžu nekustamā īpašuma nodokļa maksājumi | C65: 0.00146 | E65: 4.79
A66: 2515 | B66: Budžeta iestāžu dabas resursu nodokļa maksājumi | C66: 0.0019 | E66: 6.23
A67: 2519 | B67: Pārējie budžeta iestāžu pārskaitītie nodokļi un nodevas | C67: 0.002 | E67: 6.56
A68: 5220 | B68: Tehnoloģiskās iekārtas un mašīnas | C68: 0.0106 | E68: 34.76
A69: 5238 | B69: Datortehnika, sakaru un cita biroja tehnika | C69: 0.00165 | E69: 5.41
A70: 5239 | B70: Pārējie iepriekš neklasificētie pamatlīdzekļi un ieguldījuma īpašumi | C70: 0.0198 | E70: 64.93
A71: 5250 | B71: Kapitālais remonts un rekonstrukcija | C71: 0.025 | E71: 81.98
B72: Netiešās izmaksas kopā | C72: =SUM(C36:C71) -> 0.9998838 | E72: =SUM(E36:E71) -> 3279.2
B73: Pakalpojumu izmaksas kopā | E73: =E34+E72 -> 10562.5
A75: Maksas pakalpojuma vienību skaits noteiktā laikposmā (gab.) | E75: 250
A76: Maksas pakalpojuma izcenojums (euro) | E76: =E73/E75 -> 42.25
A78: Prognozētais maksas pakalpojumu skaits gadā (gab.)*
A79: Prognozētie ieņēmumi gadā (euro)*
A81: Piezīme. *Ailes neaizpilda, ja izvēlētais laikposms ir viens gads.
A83: Aprēķinu sastādīja: SIVA Finanšu nodaļas vecākā finanšu ekonomiste Anita Ozoliņa

Sheet 7.4.1.vec
E1: SASKAŅOTS
E2: Sociālās integrācijas valsts aģentūras
E3: direktore I.Jurševska
E5: 2021. gada 30. augustā
A7: Maksas pakalpojuma izcenojuma aprēķins
A9: Sociālās integrācijas valsts aģentūra
A10: Publiskā pakalpojuma veids:
B11: 7. Viesu izmitināšana
B12: 7.4. Viesu izmitināšana - Dubultu prospekts 71, 1.korpuss, Jūrmala (viena vieta divvietīgā numurā)
B13: 7.4.1. Viesu izmitināšana - Dubultu prospekts 71, 1.korpuss, Jūrmala (viena vieta divvietīgā numurā, ar brokastīm)
A14: Laikposms | B14: 2022.gadā un turpmāk
A15: Izdevumu klasifikācijas kods | B15: Rādītājs (materiāla/izejvielas nosaukums, atlīdzība un citi izmaksu veidi) | E15: Izmaksu apjoms noteiktā laikposmā viena maksas pakalpojuma veida nodrošināšanai
A16: 1 | B16: 2 | E16: 3
B17: Tiešās izmaksas
A18: 1100 | B18: Atalgojums | D18: =5.91/1.2359 -> 4.7819403 | E18: 4064.65
A19: 1200 | B19: Darba devēja valsts sociālās apdrošināšanas obligātās iemaksas, pabalsti un kompensācijas | D19: =D18*0.2359 -> 1.1280597 | E19: 958.85
A20: 2210 | B20: Izdevumi par sakaru pakalpojumiem | D20: 0.08 | E20: =D20*850 -> 68
A21: 2222 | B21: Izdevumi par ūdensapgādi un kanalizāciju | D21: 1.88 | E21: =D21*850 -> 1598
A22: 2223 | B22: Izdevumi par elektroenerģiju | D22: 1.1222 | E22: 953.87
A23: 2243 | B23: Iekārtas, inventāra un aparatūras remonts, tehniskā apkalpošana | D23: 0.04 | E23: =D23*850 -> 34
A24: 2244 | B24: Nekustamā īpašuma uzturēšana | D24: 1.7267969 | E24: 1467.78
A25: 2250 | B25: Informācijas tehnoloģiju pakalpojumi | D25: 0.16 | E25: =D25*850 -> 136
A26: 2311 | B26: Biroja preces | D26: 0.48 | E26: =D26*850 -> 408
A27: 2312 | B27: Inventārs | D27: 1.55 | E27: =D27*850 -> 1317.5
A28: 2321 | B28: Kurināmais | D28: 1.46147 | E28: 1242.25
A29: 2350 | B29: Iestāžu uzturēšanas materiāli un preces | D29: 0.28 | E29: =D29*850 -> 238
A30: 2361 | B30: Mīkstais inventārs | D30: 0.28 | E30: =D30*850 -> 238
A31: 2362 | B31: Virtuves inventārs, trauki un galda piederumi | D31: 0.12 | E31: =D31*850 -> 102
A32: 2363 | B32: Ēdināšanas izdevumi | D32: 3.58 | E32: =D32*850 -> 3043
A33: 5239 | B33: Pārējie iepriekš neklasificētie pamatlīdzekļi un ieguldījuma īpašumi | D33: 0.47846 | E33: 406.69
B34: Tiešās izmaksas kopā | D34: =SUM(D18:D33) -> 19.148927 | E34: =SUM(E18:E33) -> 16276.59
B35: Netiešās izmaksas
A36: 1100 | B36: Atalgojums | C36: =0.388+0.024 -> 0.412 | E36: 3761.52
A37: 1200 | B37: Darba devēja valsts sociālās apdrošināšanas obligātās iemaksas, pabalsti un kompensācijas | C37: =C36*0.2359 -> 0.0971908 | E37: 887.34
A38: 2100 | B38: Mācību, darba un dienesta komandējumi, dienesta, darba braucieni | C38: 0.001166 | E38: 10.65
A39: 2210 | B39: Izdevumi par sakaru pakalpojumiem | C39: 0.0076 | E39: 69.39
A40: 2222 | B40: Izdevumi par ūdensapgādi un kanalizāciju | C40: 0.0095 | E40: 86.73
A41: 2223 | B41: Izdevumi par elektroenerģiju | C41: 0.01902 | E41: 173.65
A42: 2224 | B42: Izdevumi par atkritumu savākšanu, izvešanu no apdzīvotām vietām un teritorijām ārpus apdzīvotām vietām un atkritumu utilizāciju | C42: 0.00495 | E42: 45.19
A43: 2231 | B43: Izdevumi iestādes sabiedrisko aktivitāšu īstenošanai | C43: 0.00155 | E43: 14.15
A44: 2235 | B44: Izdevumi par saņemtajiem mācību pakalpojumiem | C44: 0.00165 | E44: 15.06
A45: 2239 | B45: Pārējie neklasificētie pakalpojumi | C45: 0.00441 | E45: 40.26
A46: 2241 | B46: Ēku, būvju un telpu būvdarbi | C46: 0.0165 | E46: 150.64
A47: 2242 | B47: Transportlīdzekļu uzturēšana un remonts | C47: 0.00226 | E47: 20.63
A48: 2243 | B48: Iekārtas, inventāra un aparatūras remonts, tehniskā apkalpošana | C48: 0.0326 | E48: 297.94
A49: 2244 | B49: Nekustamā īpašuma uzturēšana | C49: 0.20397 | E49: 1862.23
... A52: 2250 | B52: Informācijas tehnoloģiju pakalpojumi | C52: 0.024026 | E52: 219.76
A53: 2261 | B53: Ēku, telpu īre un noma | C53: 0 | E53: =C53*9129.91 -> 0
A54: 2262 | B54: Transportlīdzekļu noma | C54: 0.00626 | E54: 57.15
A55: 2263 | B55: Zemes noma | C55: 0.0458 | E55: 418.45
A56: 2264 | B56: Iekārtu, aparatūras un inventāra īre un noma | C56: 0.00149 | E56: 13.6
A57: 2311 | B57: Biroja preces | C57: 0.00477 | E57: 43.55
A58: 2312 | B58: Inventārs | C58: 0.00579 | E58: 52.86
A59: 2314 | B59: Izdevumi par precēm iestādes sabiedrisko aktivitāšu īstenošanai | C59: 0.00222 | E59: 20.27
A60: 2321 | B60: Kurināmais | C60: 0.0198 | E60: 180.77
A61: 2322 | B61: Degviela | C61: 0.0035 | E61: 31.95
A62: 2341 | B62: Zāles, ķimikālijas, laboratorijas preces | E62: =C62*9129.91 -> 0
A63: 2350 | B63: Iestāžu uzturēšanas materiāli un preces | C63: 0.0085 | E63: 77.6
A64: 2512 | B64: Budžeta iestāžu pievienotās vērtības nodokļa maksājumi | C64: 0 | D64: 3.59 | E64: 0
A65: 2513 | B65: Budžeta iestāžu nekustamā īpašuma nodokļa maksājumi | C65: 0.00146 | E65: 13.33
A66: 2515 | B66: Budžeta iestāžu dabas resursu nodokļa maksājumi | C66: 0.0019 | E66: 17.35
A67: 2519 | B67: Pārējie budžeta iestāžu pārskaitītie nodokļi un nodevas | C67: 0.002 | E67: 18.26
A68: 5220 | B68: Tehnoloģiskās iekārtas un mašīnas | C68: 0.0106 | E68: 96.78
A69: 5238 | B69: Datortehnika, sakaru un cita biroja tehnika | C69: 0.00165 | E69: 15.15
A70: 5239 | B70: Pārējie iepriekš neklasificētie pamatlīdzekļi un ieguldījuma īpašumi | C70: 0.0198 | E70: 180.77
A71: 5250 | B71: Kapitālais remonts un rekonstrukcija | C71: 0.025 | E71: 228.25
B72: Netiešās izmaksas kopā | C72: =SUM(C36:C71) -> 0.9998838 | E72: =SUM(E36:E71) -> 9129.91
B73: Pakalpojumu izmaksas kopā | E73: =E34+E72 -> 25406.5
A75: Maksas pakalpojuma vienību skaits noteiktā laikposmā (gab.) | E75: 850
A76: Maksas pakalpojuma izcenojums (euro) | E76: =E73/E75 -> 29.89
A78: Prognozētais maksas pakalpojumu skaits gadā (gab.)*
A79: Prognozētie ieņēmumi gadā (euro)*
A81: Piezīme. *Ailes neaizpilda, ja izvēlētais laikposms ir viens gads.
A83: Aprēķinu sastādīja: SIVA Finanšu nodaļas vecākā finanšu ekonomiste Anita Ozoliņa

Sheet 7.4.2.vec
E1: SASKAŅOTS
E2: Sociālās integrācijas valsts aģentūras
E3: direktore I.Jurševska
E5: 2021. gada 30. augustā
A7: Maksas pakalpojuma izcenojuma aprēķins
A9: Sociālās integrācijas valsts aģentūra
A10: Publiskā pakalpojuma veids:
B11: 7. Viesu izmitināšana
B12: 7.4. Viesu izmitināšana - Dubultu prospekts 71, 2.korpuss, Jūrmala (viena vieta divvietīgā numurā)
B13: 7.4.2. Viesu izmitināšana - Dubultu prospekts 71, 1.korpuss, Jūrmala (viena vieta divvietīgā numurā, ar trīsreizēju ēdināšanu)
A14: Laikposms | B14: 2022.gadā un turpmāk
A15: Izdevumu klasifikācijas kods | B15: Rādītājs (materiāla/izejvielas nosaukums, atlīdzība un citi izmaksu veidi) | E15: Izmaksu apjoms noteiktā laikposmā viena maksas pakalpojuma veida nodrošināšanai
A16: 1 | B16: 2 | E16: 3
B17: Tiešās izmaksas
A18: 1100 | B18: Atalgojums | D18: =7.12/1.2359 -> 5.7609839 | E18: 5472.93
A19: 1200 | B19: Darba devēja valsts sociālās apdrošināšanas obligātās iemaksas, pabalsti un kompensācijas | D19: =D18*0.2359 -> 1.3590161 | E19: 1291.06
A20: 2210 | B20: Izdevumi par sakaru pakalpojumiem | D20: 0.08 | E20: =D20*950 -> 76
A21: 2222 | B21: Izdevumi par ūdensapgādi un kanalizāciju | D21: 1.9928 | E21: 1893.16
A22: 2223 | B22: Izdevumi par elektroenerģiju | D22: 1.18953 | E22: 1130.05
A23: 2243 | B23: Iekārtas, inventāra un aparatūras remonts, tehniskā apkalpošana | D23: 0.06 | E23: =D23*950 -> 57
A24: 2244 | B24: Nekustamā īpašuma uzturēšana | D24: 1.8304 | E24: 1738.88
A25: 2250 | B25: Informācijas tehnoloģiju pakalpojumi | D25: 0.16 | E25: =D25*950 -> 152
A26: 2311 | B26: Biroja preces | D26: 0.48 | E26: =D26*950 -> 456
A27: 2312 | B27: Inventārs | D27: 1.63 | E27: =D27*950 -> 1548.5
A28: 2321 | B28: Kurināmais | D28: 1.5491587 | E28: 1471.7
A29: 2350 | B29: Iestāžu uzturēšanas materiāli un preces | D29: 0.33 | E29: =D29*950 -> 313.5
A30: 2361 | B30: Mīkstais inventārs | D30: 0.28 | E30: =D30*950 -> 266
A31: 2362 | B31: Virtuves inventārs, trauki un galda piederumi | D31: 0.18 | E31: =D31*950 -> 171
A32: 2363 | B32: Ēdināšanas izdevumi | D32: 8.12 | E32: =D32*950 -> 7714
A33: 5239 | B33: Pārējie iepriekš neklasificētie pamatlīdzekļi un ieguldījuma īpašumi | D33: 0.507165 | E33: 481.81
B34: Tiešās izmaksas kopā | D34: =SUM(D18:D33) -> 25.509054 | E34: =SUM(E18:E33) -> 24233.59
B35: Netiešās izmaksas
A36: 1100 | B36: Atalgojums | C36: =0.388+0.024 -> 0.412 | E36: 5433
A37: 1200 | B37: Darba devēja valsts sociālās apdrošināšanas obligātās iemaksas, pabalsti un kompensācijas | C37: =C36*0.2359 -> 0.0971908 | E37: 1281.64
A38: 2100 | B38: Mācību, darba un dienesta komandējumi, dienesta, darba braucieni | C38: 0.001166 | E38: 15.38
A39: 2210 | B39: Izdevumi par sakaru pakalpojumiem | C39: 0.0076 | E39: 100.22
A40: 2222 | B40: Izdevumi par ūdensapgādi un kanalizāciju | C40: 0.0095 | E40: 125.28
A41: 2223 | B41: Izdevumi par elektroenerģiju | C41: 0.01902 | E41: 250.81
A42: 2224 | B42: Izdevumi par atkritumu savākšanu, izvešanu no apdzīvotām vietām un teritorijām ārpus apdzīvotām vietām un atkritumu utilizāciju | C42: 0.00495 | E42: 65.28
A43: 2231 | B43: Izdevumi iestādes sabiedrisko aktivitāšu īstenošanai | C43: 0.00155 | E43: 20.44
A44: 2235 | B44: Izdevumi par saņemtajiem mācību pakalpojumiem | C44: 0.00165 | E44: 21.76
A45: 2239 | B45: Pārējie neklasificētie pakalpojumi | C45: 0.00441 | E45: 58.15
A46: 2241 | B46: Ēku, būvju un telpu būvdarbi | C46: 0.0165 | E46: 217.58
A47: 2242 | B47: Transportlīdzekļu uzturēšana un remonts | C47: 0.00226 | E47: 29.8
A48: 2243 | B48: Iekārtas, inventāra un aparatūras remonts, tehniskā apkalpošana | C48: 0.0326 | E48: 429.89
A49: 2244 | B49: Nekustamā īpašuma uzturēšana | C49: 0.20397 | E49: 2689.73
... A52: 2250 | B52: Informācijas tehnoloģiju pakalpojumi | C52: 0.024026 | E52: 316.83
A53: 2261 | B53: Ēku, telpu īre un noma | C53: 0 | E53: =C53*13186.9 -> 0
A54: 2262 | B54: Transportlīdzekļu noma | C54: 0.00626 | E54: 82.55
A55: 2263 | B55: Zemes noma | C55: 0.0458 | E55: 604.53
A56: 2264 | B56: Iekārtu, aparatūras un inventāra īre un noma | C56: 0.00149 | E56: 19.65
A57: 2311 | B57: Biroja preces | C57: 0.00477 | E57: 62.9
A58: 2312 | B58: Inventārs | C58: 0.00579 | E58: 76.35
A59: 2314 | B59: Izdevumi par precēm iestādes sabiedrisko aktivitāšu īstenošanai | C59: 0.00222 | E59: 29.27
A60: 2321 | B60: Kurināmais | C60: 0.0198 | E60: 261.1
A61: 2322 | B61: Degviela | C61: 0.0035 | E61: 46.15
A62: 2341 | B62: Zāles, ķimikālijas, laboratorijas preces | E62: =C62*13186.9 -> 0
A63: 2350 | B63: Iestāžu uzturēšanas materiāli un preces | C63: 0.0085 | E63: 112.09
A64: 2512 | B64: Budžeta iestāžu pievienotās vērtības nodokļa maksājumi | C64: 0 | D64: 4.73 | E64: =D64*950 -> 4493.5
A65: 2513 | B65: Budžeta iestāžu nekustamā īpašuma nodokļa maksājumi | C65: 0.00146 | E65: 19.25
A66: 2515 | B66: Budžeta iestāžu dabas resursu nodokļa maksājumi | C66: 0.0019 | E66: 25.06
A67: 2519 | B67: Pārējie budžeta iestāžu pārskaitītie nodokļi un nodevas | C67: 0.002 | E67: 26.37
A68: 5220 | B68: Tehnoloģiskās iekārtas un mašīnas | C68: 0.0106 | E68: 139.78
A69: 5238 | B69: Datortehnika, sakaru un cita biroja tehnika | C69: 0.00165 | E69: 22.76
A70: 5239 | B70: Pārējie iepriekš neklasificētie pamatlīdzekļi un ieguldījuma īpašumi | C70: 0.0198 | E70: 261.1
A71: 5250 | B71: Kapitālais remonts un rekonstrukcija | C71: 0.025 | E71: 329.67
B72: Netiešās izmaksas kopā | C72: =SUM(C36:C71) -> 0.9998838 | E72: =SUM(E36:E71) -> 17680.41
B73: Pakalpojumu izmaksas kopā | E73: =E34+E72 -> 41914
A75: Maksas pakalpojuma vienību skaits noteiktā laikposmā (gab.) | E75: 950
A76: Maksas pakalpojuma izcenojums (euro) | E76: =E73/E75 -> 44.12
A78: Prognozētais maksas pakalpojumu skaits gadā (gab.)*
A79: Prognozētie ieņēmumi gadā (euro)*
A81: Piezīme. *Ailes neaizpilda, ja izvēlētais laikposms ir viens gads.
A83: Aprēķinu sastādīja: SIVA Finanšu nodaļas vecākā finanšu ekonomiste Anita Ozoliņa

Sheet 7.4.3.
D1: SASKAŅOTS
D2: Sociālās integrācijas valsts aģentūras
D3: direktores p.i. G.Apele
D5: 2019. gada 15.martā
A7: Maksas pakalpojuma izcenojuma aprēķins
A9: Sociālās integrācijas valsts aģentūra
A10: Publiskā pakalpojuma veids:
B11: 7. Viesu izmitināšana
B12: 7.4. Viesu izmitināšana Dubultu prospektā 71, 1.korpusā Jūrmalā (viena vieta divvietīgā numurā)
B13: 7.4.3. Piemaksa par uzturēšanos vienai personai divvietīgā numurā
A14: Laikposms | B14: ='7.4.2.vec'!B14 -> 2022.gadā un turpmāk
A15: Izdevumu klasifikācijas kods | B15: Rādītājs (materiāla/izejvielas nosaukums, atlīdzība un citi izmaksu veidi) | C15: Izmaksu apjoms noteiktā laikposmā viena maksas pakalpojuma veida nodrošināšanai | D15: Izmaksu apjoms noteiktā laikposmā viena maksas pakalpojuma veida nodrošināšanai
A16: 1 | B16: 2 | D16: 3
B17: Tiešās izmaksas
A18: 1100 | B18: Atalgojums | C18: 31.18 | D18: =C18/30*340 -> 353.37333
A19: 1200 | B19: Darba devēja valsts sociālās apdrošināšanas obligātās iemaksas, sociāla rakstura pabalsti un kompensācijas | C19: 7.51 | D19: =C19/30*340 -> 85.113333
A20: 2210 | B20: Pasta, telefona un citu sakaru pakalpojumi | C20: 0 | D20: =C20/30*340 -> 0
A21: 2222 | B21: Izdevumi par ūdeni un kanalizāciju | C21: 22.55 | D21: =C21/30*340 -> 255.56667
A22: 2223 | B22: Izdevumi par elektroenerģiju | C22: 28.66 | D22: =C22/30*340 -> 324.81333
A23: 2230 | B23: Iestādes administratīvie izdevumi un ar iestādes darbības nodrošināšanu saistītie izdevumi | C23: 0 | D23: =C23/30*340 -> 0
A24: 2243 | B24: Iekārtas, inventāra un aparatūras remonts, tehniskā apkalpošana | C24: 0.44 | D24: =C24/30*340 -> 4.9866667
A25: 2244 | B25: Ēku, būvju un telpu uzturēšana | C25: 32.12 | D25: 934.21
A26: 2249 | B26: Pārējie remonta darbu un iestāžu uzturēšanas pakalpojumi | C26: 0 | D26: =C26/30*340 -> 0
A27: 2251 | B27: Informācijas sistēmas uzturēšana | C27: 0 | D27: =C27/30*340 -> 0
A28: 2263 | B28: Zemes noma | C28: 8.57 | D28: =C28/30*340 -> 97.126667
A29: 2264 | B29: Iekārtu un inventāra īre un noma | C29: 0 | D29: =C29/30*340 -> 0
A30: 2279 | B30: Pārējie iepriekš neklasificētie pakalpojumu veidi | C30: 5.21 | D30: =C30/30*340 -> 59.046667
A31: 2321 | B31: Kurināmais | C31: 34.65 | D31: =C31/30*340 -> 392.7
A32: 2341 | B32: Zāles, ķimikālijas, laboratorijas preces | C32: 0 | D32: =C32/30*340 -> 0
A33: 2350 | B33: Kārtējā remonta un iestāžu uzturēšanas materiāli | C33: 0 | D33: =C33/30*340 -> 0
A34: 2362 | B34: Virtuves inventārs, trauki un galda piederumi | C34: 0 | D34: =C34/30*340 -> 0
A35: 2363 | B35: Ēdināšanas izdevumi | C35: 0 | D35: =C35/30*340 -> 0
A36: 2513 | B36: Budžeta iestāžu nekustamā īpašuma nodokļa (t.sk. zemes nodokļa parāda) maksājumi budžetā | C36: 1.21 | D36: =C36/30*340 -> 13.713333
A37: 2519 | B37: Pārējie budžeta iestāžu pārskaitītie nodokļi un nodevas | C37: 0.63 | D37: =C37/30*340 -> 7.14
A38: 5232 | B38: Saimniecības pamatlīdzekļi
B39: Tiešās izmaksas kopā | C39: =SUM(C18:C38) -> 172.73 | D39: =SUM(D18:D38) -> 2527.79
B40: Netiešās izmaksas
A41: 1100 | B41: Atalgojums | C41: 56.1 | D41: =C41/30*340 -> 635.8
A42: 1200 | B42: Darba devēja valsts sociālās apdrošināšanas obligātās iemaksas, sociāla rakstura pabalsti un kompensācijas | C42: 13.51 | D42: =C42/30*340 -> 153.11333
A43: 2100 | B43: Mācību, darba un dienesta komandējumi, dienesta, darba braucieni | C43: 0 | D43: =C43/30*340 -> 0
A44: 2210 | B44: Pasta, telefona un citu sakaru pakalpojumi | C44: 0 | D44: =C44/30*340 -> 0
A45: 2222 | B45: Izdevumi par ūdeni un kanalizāciju | C45: 0 | D45: =C45/30*340 -> 0
A46: 2223 | B46: Izdevumi par elektroenerģiju | C46: 0 | D46: =C46/30*340 -> 0
A47: 2230 | B47: Iestādes administratīvie izdevumi un ar iestādes darbības nodrošināšanu saistītie izdevumi | C47: 0 | D47: =C47/30*340 -> 0
A48: 2234 | B48: Normatīvajos aktos noteiktie darba devēja veselības izdevumi darba ņēmējiem | C48: 0 | D48: =C48/30*340 -> 0
A49: 2239 | B49: Pārējie iestādes administratīvie izdevumi un ar iestādes darbības nodrošināšanu saistītie pakalpojumi | C49: 3.49 | D49: =C49/30*340 -> 39.553333
A50: 2241 | B50: Ēku, būvju un telpu kārtējais remonts | C50: 13.72 | D50: =C50/30*340 -> 155.49333
A51: 2242 | B51: Transportlīdzekļu uzturēšana un remonts | C51: 0.45 | D51: =C51/30*340 -> 5.1
A52: 2243 | B52: Iekārtas, inventāra un aparatūras remonts, tehniskā apkalpošana | C52: 2.39 | D52: =C52/30*340 -> 27.086667
... A75: 2400 | B75: Izdevumi periodikas iegādei | C75: 0.15 | D75: =C75/30*340 -> 1.7
A76: 2512 | B76: Budžeta iestāžu pievienotās vērtības nodokļa maksājumi | C76: 46.41 | D76: 595
A77: 2513 | B77: Budžeta iestāžu nekustamā īpašuma nodokļa (t.sk. zemes nodokļa parāda) maksājumi budžetā | C77: 0 | D77: =C77/30*340 -> 0
A78: 2515 | B78: Budžeta iestāžu dabas resursu nodokļa maksājumi | C78: 0.19 | D78: =C78/30*340 -> 2.1533333
A79: 2519 | B79: Pārējie budžeta iestāžu pārskaitītie nodokļi un nodevas | C79: 0.01 | D79: =C79/30*340 -> 0.11333333
A80: 6240 | B80: Bezdarbnieku stipendijas | C80: 0 | D80: =C80/30*340 -> 0
A81: 6290 | B81: Stipendijas | C81: 0 | D81: =C81/30*340 -> 0
A82: 5121 | B82: Datorprogrammas | C82: 0 | D82: =C82/30*340 -> 0
A83: 5232 | B83: Saimniecības pamatlīdzekļi | C83: 57.2 | D83: =C83/30*340 -> 648.26667
A84: 5238 | B84: Datortehnika, sakaru un cita biroja tehnika | C84: 0 | D84: =C84/30*340 -> 0
A85: 5240 | B85: Pamatlīdzekļu izveidošana un nepabeigtā būvniecība | C85: 1.23 | D85: =C85/30*340 -> 13.94
A86: 5250 | B86: Kapitālais remonts un rekonstrukcija | C86: 52.92 | D86: =C86/30*340 -> 599.76
B87: Netiešās izmaksas kopā | C87: =SUM(C41:C86) -> 260.47 | D87: =SUM(D41:D86) -> 3021.0133
B88: Pakalpojumu izmaksas kopā | C88: =C87+C39 -> 433.2 | D88: =D87+D39 -> 5548.8033
A90: Maksas pakalpojuma vienību skaits noteiktā laikposmā | C90: 30 | D90: 340
A91: Maksas pakalpojuma izcenojums (euro) | C91: =C88/C90 -> 14.44 | D91: =D88/D90 -> 16.32001
A93: Prognozētais maksas pakalpojumu skaits gadā (gab.)*
A94: Prognozētie ieņēmumi gadā (euro)*
A96: Piezīme. *Ailes neaizpilda, ja izvēlētais laikposms ir viens gads.
A98: Aprēķinu sastādīja:SIVA Finanšu nodaļas vecākā finanšu ekonomiste Anita Ozoliņa

Sheet 4.3.1.
E1: SASKAŅOTS
E2: Sociālās integrācijas valsts aģentūras
E3: direktore I.Jurševska
E5: 2023. gada 29. martā
A7: Maksas pakalpojuma izcenojuma aprēķins
A9: Sociālās integrācijas valsts aģentūra
A10: Publiskā pakalpojuma veids:
B11: 4. Viesu izmitināšana
B12: 4.3. Viesu izmitināšana Dubultu prospektā 71, Jūrmalā, papildus vieta
B13: 4.3.1. Papildu vieta bērnam no 2 līdz 14 gadu vecumam Dubultu prospektā 71, 2 korpuss, Jūrmalā (ar brokastīm)
A14: Laikposms | B14: 2023.gadā un turpmāk
A15: Izdevumu klasifikācijas kods | B15: Rādītājs (materiāla/izejvielas nosaukums, atlīdzība un citi izmaksu veidi) | E15: Izmaksu apjoms noteiktā laikposmā viena maksas pakalpojuma veida nodrošināšanai
A16: 1 | B16: 2 | E16: 3
B17: Tiešās izmaksas
A18: 1100 | B18: Atalgojums | C18: 5.3220007 | E18: 180.07
A19: 1200 | B19: Darba devēja valsts sociālās apdrošināšanas obligātās iemaksas, pabalsti un kompensācijas | C19: =C18*0.2359 -> 1.25546 | E19: 42.48
A20: 2210 | B20: Izdevumi par sakaru pakalpojumiem
A21: 2222 | B21: Izdevumi par ūdensapgādi un kanalizāciju | C21: 0.1774443 | E21: 5.2
A22: 2223 | B22: Izdevumi par elektroenerģiju | C22: 0.52153524 | E22: 15.26
A23: 2243 | B23: Iekārtas, inventāra un aparatūras remonts, tehniskā apkalpošana | C23: 0.024067273 | E23: 0.71
A24: 2244 | B24: Nekustamā īpašuma uzturēšana | C24: 0.63560965 | E24: 18.63
A25: 2250 | B25: Informācijas tehnoloģiju pakalpojumi | C25: 0.095 | E25: 2.85
A26: 2263 | B26: Zemes noma
A27: 2311 | B27: Biroja preces | C27: 1.0355716 | E27: 30.79
A28: 2312 | B28: Inventārs | C28: 0.31664822 | E28: 9.38
A29: 2321 | B29: Kurināmais | C29: 0.3668872 | E29: 10.75
A30: 2350 | B30: Iestāžu uzturēšanas materiāli un preces | C30: 0.12125717 | E30: 3.55
A31: 2361 | B31: Mīkstais inventārs | C31: 0.054458313 | E31: 1.58
A32: 2362 | B32: Virtuves inventārs, trauki un galda piederumi | C32: 0.013141747 | E32: 0.4
A33: 2363 | B33: Ēdināšanas izdevumi | C33: 2.09 | E33: 62.7
A34: 2513 | B34: Budžeta iestāžu nekustamā īpašuma nodokļa maksājumi
A35: 2519 | B35: Pārējie budžeta iestāžu pārskaitītie nodokļi un nodevas
A36: 5239 | B36: Pārējie iepriekš neklasificētie pamatlīdzekļi un ieguldījuma īpašumi | C36: 0.47254079 | E36: 13.94
B37: Tiešās izmaksas kopā | C37: =SUM(C18:C36) -> 12.501622 | E37: =SUM(E18:E36) -> 398.29
B38: Netiešās izmaksas
A39: 1100 | B39: Atalgojums | D39: 0.4855 | E39: 137.26
A40: 1200 | B40: Darba devēja valsts sociālās apdrošināšanas obligātās iemaksas, pabalsti un kompensācijas | D40: =D39*0.2359 -> 0.11452945 | E40: 32.38
A41: 2100 | B41: Mācību, darba un dienesta komandējumi, dienesta, darba braucieni | D41: 0.001166 | E41: 0.36
A42: 2210 | B42: Izdevumi par sakaru pakalpojumiem | D42: 0.0076 | E42: 2.33
A43: 2222 | B43: Izdevumi par ūdensapgādi un kanalizāciju | D43: =0.0095*1.15 -> 0.010925 | E43: 3.35
A44: 2223 | B44: Izdevumi par elektroenerģiju | D44: =0.01902*2.13 -> 0.0405126 | E44: 12.43
A45: 2224 | B45: Izdevumi par atkritumu savākšanu, izvešanu no apdzīvotām vietām un teritorijām ārpus apdzīvotām vietām un atkritumu utilizāciju | D45: =0.00495*1.15 -> 0.0056925 | E45: 1.75
A46: 2231 | B46: Izdevumi iestādes sabiedrisko aktivitāšu īstenošanai | D46: 0.00155 | E46: 0.48
A47: 2235 | B47: Izdevumi par saņemtajiem mācību pakalpojumiem | D47: 0.00165 | E47: 0.51
A48: 2239 | B48: Pārējie neklasificētie pakalpojumi | D48: 0.00441 | E48: 1.35
A49: 2241 | B49: Ēku, būvju un telpu būvdarbi | D49: 0.0165 | E49: 5.06
A50: 2242 | B50: Transportlīdzekļu uzturēšana un remonts | D50: 0.00226 | E50: 0.69
A51: 2243 | B51: Iekārtas, inventāra un aparatūras remonts, tehniskā apkalpošana | D51: 0.0326 | E51: 10
A52: 2244 | B52: Nekustamā īpašuma uzturēšana | D52: =0.20397-0.09084 -> 0.11313 | E52: 34.71
A53: 2247 | B53: Apdrošināšanas izdevumi | D53: 0.000719 | E53: 0.22
A54: 2249 | B54: Pārējie remontdarbu un iestāžu uzturēšanas pakalpojumi | D54: 0.000232 | E54: 0.07
A55: 2250 | B55: Informācijas tehnoloģiju pakalpojumi | D55: =0.024026-0.005 -> 0.019026 | E55: 5.84
A56: 2262 | B56: Transportlīdzekļu noma | D56: 0.00626 | E56: 1.92
A57: 2263 | B57: Zemes noma | D57: 0.0458 | E57: 14.05
A58: 2264 | B58: Iekārtu, aparatūras un inventāra īre un noma | D58: 0.00149 | E58: 0.46
A59: 2311 | B59: Biroja preces | D59: 0.00477 | E59: 1.46
A60: 2312 | B60: Inventārs | D60: 0.00579 | E60: 1.78
A61: 2314 | B61: Izdevumi par precēm iestādes sabiedrisko aktivitāšu īstenošanai | D61: 0.00222 | E61: 0.68
A62: 2321 | B62: Kurināmais | D62: =0.0198*1.2+0.005 -> 0.02876 | E62: 8.82
A63: 2322 | B63: Degviela | D63: =0.0035*1.2 -> 0.0042 | E63: 1.29
A64: 2341 | B64: Zāles, ķimikālijas, laboratorijas preces | E64: =D64*306.82 -> 0
A65: 2350 | B65: Iestāžu uzturēšanas materiāli un preces | D65: 0.0085 | E65: 2.61
A66: 2513 | B66: Budžeta iestāžu nekustamā īpašuma nodokļa maksājumi | D66: 0.00146 | E66: 0.45
A67: 2515 | B67: Budžeta iestāžu dabas resursu nodokļa maksājumi | D67: 0.0019 | E67: 0.58
A68: 2519 | B68: Pārējie budžeta iestāžu pārskaitītie nodokļi un nodevas | D68: 0.002 | E68: 0.61
A69: 5220 | B69: Tehnoloģiskās iekārtas un mašīnas | D69: 0.0106 | E69: 3.2
A70: 5238 | B70: Datortehnika, sakaru un cita biroja tehnika | D70: 0.00165 | E70: 0.51
A71: 5239 | B71: Pārējie iepriekš neklasificētie pamatlīdzekļi un ieguldījuma īpašumi | D71: 0.00954 | E71: 2.93
A72: 5250 | B72: Kapitālais remonts un rekonstrukcija | D72: 0.00706 | E72: 2.17
B73: Netiešās izmaksas kopā | D73: =SUM(D39:D72) -> 1.0000026 | E73: =SUM(E39:E72) -> 292.31
B74: Pakalpojumu izmaksas kopā | E74: =E73+E37 -> 690.6
A76: Maksas pakalpojuma vienību skaits noteiktā laikposmā | E76: 30
A77: Maksas pakalpojuma izcenojums (euro) | E77: =E74/E76 -> 23.02
A79: Prognozētais maksas pakalpojumu skaits gadā (gab.)*
A80: Prognozētie ieņēmumi gadā (euro)*
A82: Piezīme. *Ailes neaizpilda, ja izvēlētais laikposms ir viens gads.
A84: Aprēķinu sastādīja: SIVA Finanšu nodaļas finanšu ekonomiste E.Lipiņa

Sheet 4.3.2.
E1: SASKAŅOTS
E2: Sociālās integrācijas valsts aģentūras
E3: direktore I.Jurševska
E5: 2023. gada 29. martā
A7: Maksas pakalpojuma izcenojuma aprēķins
A9: Sociālās integrācijas valsts aģentūra
A10: Publiskā pakalpojuma veids:
B11: 4. Viesu izmitināšana
B12: 4.3. Viesu izmitināšana Dubultu prospektā 71, Jūrmalā, papildus vieta
B13: 4.3.2. Papildu vieta bērnam no 2 līdz 14 gadu vecumam Dubultu prospektā 71, 2 korpuss, Jūrmalā (ar trīsreizēju ēdināšanu)
A14: Laikposms | B14: 2023.gadā un turpmāk
A15: Izdevumu klasifikācijas kods | B15: Rādītājs (materiāla/izejvielas nosaukums, atlīdzība un citi izmaksu veidi) | E15: Izmaksu apjoms noteiktā laikposmā viena maksas pakalpojuma veida nodrošināšanai
A16: 1 | B16: 2 | E16: 3
B17: Tiešās izmaksas
A18: 1100 | B18: Atalgojums | C18: 7.8366013 | E18: 266.81
A19: 1200 | B19: Darba devēja valsts sociālās apdrošināšanas obligātās iemaksas, pabalsti un kompensācijas | C19: =C18*0.2359 -> 1.8486542 | E19: 62.94
A20: 2210 | B20: Izdevumi par sakaru pakalpojumiem
A21: 2222 | B21: Izdevumi par ūdensapgādi un kanalizāciju | C21: 0.22548084 | E21: 6.65
A22: 2223 | B22: Izdevumi par elektroenerģiju | C22: 0.56503637 | E22: 16.57
A23: 2243 | B23: Iekārtas, inventāra un aparatūras remonts, tehniskā apkalpošana | C23: 0.03625094 | E23: 1.08
A24: 2244 | B24: Nekustamā īpašuma uzturēšana | C24: 0.69759783 | E24: 20.49
A25: 2250 | B25: Informācijas tehnoloģiju pakalpojumi | C25: 0.095 | E25: 2.85
A26: 2263 | B26: Zemes noma
A27: 2311 | B27: Biroja preces | C27: 1.0355716 | E27: 30.79
A28: 2312 | B28: Inventārs | C28: 0.39767064 | E28: 11.82
A29: 2321 | B29: Kurināmais | C29: 0.40435662 | E29: 11.88
A30: 2350 | B30: Iestāžu uzturēšanas materiāli un preces | C30: 0.15456804 | E30: 4.56
A31: 2361 | B31: Mīkstais inventārs | C31: 0.054458313 | E31: 1.58
A32: 2362 | B32: Virtuves inventārs, trauki un galda piederumi | C32: 0.031051737 | E32: 0.94
A33: 2363 | B33: Ēdināšanas izdevumi | C33: 5.36 | E33: =5.36*30 -> 160.8
A34: 2513 | B34: Budžeta iestāžu nekustamā īpašuma nodokļa maksājumi
A35: 2519 | B35: Pārējie budžeta iestāžu pārskaitītie nodokļi un nodevas
A36: 5239 | B36: Pārējie iepriekš neklasificētie pamatlīdzekļi un ieguldījuma īpašumi | C36: 0.54388651 | E36: 16.09
B37: Tiešās izmaksas kopā | C37: =SUM(C18:C36) -> 19.286185 | E37: =SUM(E18:E36) -> 615.85
B38: Netiešās izmaksas
A39: 1100 | B39: Atalgojums | D39: 0.4855 | E39: 148.57
A40: 1200 | B40: Darba devēja valsts sociālās apdrošināšanas obligātās iemaksas, pabalsti un kompensācijas | D40: =D39*0.2359 -> 0.11452945 | E40: 35.05
A41: 2100 | B41: Mācību, darba un dienesta komandējumi, dienesta, darba braucieni | D41: 0.001166 | E41: 0.41
A42: 2210 | B42: Izdevumi par sakaru pakalpojumiem | D42: 0.0076 | E42: 2.67
A43: 2222 | B43: Izdevumi par ūdensapgādi un kanalizāciju | D43: =0.0095*1.15 -> 0.010925 | E43: 3.83
A44: 2223 | B44: Izdevumi par elektroenerģiju | D44: =0.01902*2.13 -> 0.0405126 | E44: 14.22
A45: 2224 | B45: Izdevumi par atkritumu savākšanu, izvešanu no apdzīvotām vietām un teritorijām ārpus apdzīvotām vietām un atkritumu utilizāciju | D45: =0.00495*1.15 -> 0.0056925 | E45: 2
A46: 2231 | B46: Izdevumi iestādes sabiedrisko aktivitāšu īstenošanai | D46: 0.00155 | E46: 0.54
A47: 2235 | B47: Izdevumi par saņemtajiem mācību pakalpojumiem | D47: 0.00165 | E47: 0.58
A48: 2239 | B48: Pārējie neklasificētie pakalpojumi | D48: 0.00441 | E48: 1.55
A49: 2241 | B49: Ēku, būvju un telpu būvdarbi | D49: 0.0165 | E49: 5.87
A50: 2242 | B50: Transportlīdzekļu uzturēšana un remonts | D50: 0.00226 | E50: 0.79
A51: 2243 | B51: Iekārtas, inventāra un aparatūras remonts, tehniskā apkalpošana | D51: 0.0326 | E51: 11.44
A52: 2244 | B52: Nekustamā īpašuma uzturēšana | D52: =0.20397-0.09084 -> 0.11313 | E52: 39.7
A53: 2247 | B53: Apdrošināšanas izdevumi | D53: 0.000719 | E53: 0.25
A54: 2249 | B54: Pārējie remontdarbu un iestāžu uzturēšanas pakalpojumi | D54: 0.000232 | E54: 0.08
A55: 2250 | B55: Informācijas tehnoloģiju pakalpojumi | D55: =0.024026-0.005 -> 0.019026 | E55: 6.68
A56: 2262 | B56: Transportlīdzekļu noma | D56: 0.00626 | E56: 2.2
A57: 2263 | B57: Zemes noma | D57: 0.0458 | E57: 16.07
A58: 2264 | B58: Iekārtu, aparatūras un inventāra īre un noma | D58: 0.00149 | E58: 0.52
A59: 2311 | B59: Biroja preces | D59: 0.00477 | E59: 1.67
A60: 2312 | B60: Inventārs | D60: 0.00579 | E60: 2.03
A61: 2314 | B61: Izdevumi par precēm iestādes sabiedrisko aktivitāšu īstenošanai | D61: 0.00222 | E61: 0.78
A62: 2321 | B62: Kurināmais | D62: =0.0198*1.2+0.005 -> 0.02876 | E62: 10.09
A63: 2322 | B63: Degviela | D63: =0.0035*1.2 -> 0.0042 | E63: 1.47
A64: 2341 | B64: Zāles, ķimikālijas, laboratorijas preces | E64: =D64*350.9 -> 0
A65: 2350 | B65: Iestāžu uzturēšanas materiāli un preces | D65: 0.0085 | E65: 2.98
A66: 2513 | B66: Budžeta iestāžu nekustamā īpašuma nodokļa maksājumi | D66: 0.00146 | E66: 0.51
A67: 2515 | B67: Budžeta iestāžu dabas resursu nodokļa maksājumi | D67: 0.0019 | E67: 0.67
A68: 2519 | B68: Pārējie budžeta iestāžu pārskaitītie nodokļi un nodevas | D68: 0.002 | E68: 0.7
A69: 5220 | B69: Tehnoloģiskās iekārtas un mašīnas | D69: 0.0106 | E69: 3.72
A70: 5238 | B70: Datortehnika, sakaru un cita biroja tehnika | D70: 0.00165 | E70: 0.58
A71: 5239 | B71: Pārējie iepriekš neklasificētie pamatlīdzekļi un ieguldījuma īpašumi | D71: 0.00954 | E71: 3.35
A72: 5250 | B72: Kapitālais remonts un rekonstrukcija | D72: 0.00706 | E72: 2.48
B73: Netiešās izmaksas kopā | D73: =SUM(D39:D72) -> 1.0000026 | E73: =SUM(E39:E72) -> 324.05
B74: Pakalpojumu izmaksas kopā | E74: =E73+E37 -> 939.9
A76: Maksas pakalpojuma vienību skaits noteiktā laikposmā | E76: 30
A77: Maksas pakalpojuma izcenojums (euro) | E77: =E74/E76 -> 31.33
A79: Prognozētais maksas pakalpojumu skaits gadā (gab.)*
A80: Prognozētie ieņēmumi gadā (euro)*
A82: Piezīme. *Ailes neaizpilda, ja izvēlētais laikposms ir viens gads.
A84: Aprēķinu sastādīja: SIVA Finanšu nodaļas finanšu ekonomiste E.Lipiņa

Sheet 7.5.3.vec
C1: SASKAŅOTS
C2: Sociālās integrācijas valsts aģentūras
C3: direktores p.i. G.Apele
C5: 2019. gada 15.martā
A7: Maksas pakalpojuma izcenojuma aprēķins
A9: Sociālās integrācijas valsts aģentūra
A10: Publiskā pakalpojuma veids:
B11: 7. Viesu izmitināšana
B12: 7.5. Viesu izmitināšana Dubultu prospektā 71, Jūrmalā, papildus vieta
B13: 7.5.3. Papildu vieta bērnam no 2 līdz 14 gadu vecumam Dubultu prospektā 71, 1 korpuss, Jūrmalā (ar brokastīm)
A14: Laikposms | B14: ='4.3.2.'!B14 -> 2023.gadā un turpmāk
A15: Izdevumu klasifikācijas kods | B15: Rādītājs (materiāla/izejvielas nosaukums, atlīdzība un citi izmaksu veidi) | C15: Izmaksu apjoms noteiktā laikposmā viena maksas pakalpojuma veida nodrošināšanai
A16: 1 | B16: 2 | C16: 3
B17: Tiešās izmaksas
A18: 1100 | B18: Atalgojums | C18: 52.66
A19: 1200 | B19: Darba devēja valsts sociālās apdrošināšanas obligātās iemaksas, sociāla rakstura pabalsti un kompensācijas | C19: 12.69
A20: 2219 | B20: Pārējie sakaru pakalpojumi | C20: 0.97
A21: 2222 | B21: Izdevumi par ūdeni un kanalizāciju | C21: 29.19
A22: 2223 | B22: Izdevumi par elektroenerģiju | C22: 32.92
A23: 2243 | B23: Iekārtas, inventāra un aparatūras remonts, tehniskā apkalpošana | C23: 0.45
A24: 2244 | B24: Ēku, būvju un telpu uzturēšana | C24: 50.57
A25: 2249 | B25: Pārējie remontdarbu un iestāžu uzturēšanas pakalpojumi | C25: 0
A26: 2263 | B26: Zemes noma | C26: 9.22
A27: 2264 | B27: Iekārtu un inventāra īre un noma | C27: 0.06
A28: 2279 | B28: Pārējie iepriekš neklasificētie pakalpojumu veidi | C28: 5.06
A29: 2321 | B29: Kurināmais | C29: 45.16
... A32: 2519 | B32: Pārējie budžeta iestāžu pārskaitītie nodokļi un nodevas | C32: 0.65
B33: Tiešās izmaksas kopā | C33: =SUM(C18:C32) -> 294.77
B34: Netiešās izmaksas
A35: 1100 | B35: Atalgojums | C35: 57.79
A36: 1200 | B36: Darba devēja valsts sociālās apdrošināšanas obligātās iemaksas, sociāla rakstura pabalsti un kompensācijas | C36: 13.92
A37: 2219 | B37: Pārējie sakaru pakalpojumi | C37: 1.56
A38: 2234 | B38: Normatīvajos aktos noteiktie darba devēja veselības izdevumi darba ņēmējiem | C38: 0.13
A39: 2239 | B39: Pārējie iestādes administratīvie izdevumi un ar iestādes darbības nodrošināšanu saistītie pakalpojumi | C39: 0.65
A40: 2241 | B40: Ēku, būvju un telpu remonts | C40: 0.13
A41: 2242 | B41: Transportlīdzekļu uzturēšana un remonts | C41: 0
A42: 2243 | B42: Iekārtas, inventāra un aparatūras remonts, tehniskā apkalpošana | C42: 0.52
A43: 2244 | B43: Ēku, būvju un telpu uzturēšana | C43: 8.76
A44: 2247 | B44: Apdrošināšanas izdevumi | C44: 0.2
A45: 2251 | B45: Informācijas sistēmas uzturēšana | C45: 7.1
A46: 2259 | B46: Pārējie informācijas tehnoloģiju pakalpojumi | C46: 0.06
... A62: 5250 | B62: Kapitālais remonts un rekonstrukcija | C62: 2.62
B63: Netiešās izmaksas kopā | C63: =SUM(C35:C62) -> 173.53
B64: Pakalpojumu izmaksas kopā | C64: =C63+C33 -> 468.3
A66: Maksas pakalpojuma vienību skaits noteiktā laikposmā | C66: 30
A67: Maksas pakalpojuma izcenojums (euro) | C67: =C64/C66 -> 15.61
A69: Prognozētais maksas pakalpojumu skaits gadā (gab.)*
A70: Prognozētie ieņēmumi gadā (euro)*
A72: Piezīme. *Ailes neaizpilda, ja izvēlētais laikposms ir viens gads.
A74: Aprēķinu sastādīja:SIVA Finanšu nodaļas vecākā finanšu ekonomiste Anita Ozoliņa

Sheet 7.5.4.
C1: SASKAŅOTS
C2: Sociālās integrācijas valsts aģentūras
C3: direktores p.i. G.Apele
C5: 2019. gada 15.martā
A7: Maksas pakalpojuma izcenojuma aprēķins
A9: Sociālās integrācijas valsts aģentūra
A10: Publiskā pakalpojuma veids:
B11: 7. Viesu izmitināšana
B12: 7.5. Viesu izmitināšana Dubultu prospektā 71, Jūrmalā, papildus vieta
B13: 7.5.4. Papildu vieta bērnam no 2 līdz 14 gadu vecumam Dubultu prospektā 71, 1 korpuss, Jūrmalā (ar trīsreizēju ēdināšanu)
A14: Laikposms | B14: ='7.5.3.vec'!B14 -> 2023.gadā un turpmāk
A15: Izdevumu klasifikācijas kods | B15: Rādītājs (materiāla/izejvielas nosaukums, atlīdzība un citi izmaksu veidi) | C15: Izmaksu apjoms noteiktā laikposmā viena maksas pakalpojuma veida nodrošināšanai
A16: 1 | B16: 2 | C16: 3
B17: Tiešās izmaksas
A18: 1100 | B18: Atalgojums | C18: 63.2
A19: 1200 | B19: Darba devēja valsts sociālās apdrošināšanas obligātās iemaksas, sociāla rakstura pabalsti un kompensācijas | C19: 15.23
A20: 2219 | B20: Pārējie sakaru pakalpojumi | C20: 1.16
A21: 2222 | B21: Izdevumi par ūdeni un kanalizāciju | C21: 35.03
A22: 2223 | B22: Izdevumi par elektroenerģiju | C22: 39.51
A23: 2243 | B23: Iekārtas, inventāra un aparatūras remonts, tehniskā apkalpošana | C23: 0.54
A24: 2244 | B24: Ēku, būvju un telpu uzturēšana | C24: 63
A25: 2249 | B25: Pārējie remontdarbu un iestāžu uzturēšanas pakalpojumi | C25: 0
A26: 2263 | B26: Zemes noma | C26: 11.06
A27: 2264 | B27: Iekārtu un inventāra īre un noma | C27: 0.07
A28: 2279 | B28: Pārējie iepriekš neklasificētie pakalpojumu veidi | C28: 6.07
A29: 2321 | B29: Kurināmais | C29: 54.19
... A32: 2519 | B32: Pārējie budžeta iestāžu pārskaitītie nodokļi un nodevas | C32: 0.78
B33: Tiešās izmaksas kopā | C33: =SUM(C18:C32) -> 408.84
B34: Netiešās izmaksas
A35: 1100 | B35: Atalgojums | C35: 63.57
A36: 1200 | B36: Darba devēja valsts sociālās apdrošināšanas obligātās iemaksas, sociāla rakstura pabalsti un kompensācijas | C36: 15.31
A37: 2219 | B37: Pārējie sakaru pakalpojumi | C37: 1.87
A38: 2234 | B38: Normatīvajos aktos noteiktie darba devēja veselības izdevumi darba ņēmējiem | C38: 0.16
A39: 2239 | B39: Pārējie iestādes administratīvie izdevumi un ar iestādes darbības nodrošināšanu saistītie pakalpojumi | C39: 0.78
A40: 2241 | B40: Ēku, būvju un telpu remonts | C40: 0.16
A41: 2242 | B41: Transportlīdzekļu uzturēšana un remonts | C41: 0
A42: 2243 | B42: Iekārtas, inventāra un aparatūras remonts, tehniskā apkalpošana | C42: 1.02
A43: 2244 | B43: Ēku, būvju un telpu uzturēšana | C43: 25.25
A44: 2247 | B44: Apdrošināšanas izdevumi | C44: 0.24
A45: 2251 | B45: Informācijas sistēmas uzturēšana | C45: 8.52
A46: 2259 | B46: Pārējie informācijas tehnoloģiju pakalpojumi | C46: 0.07
... A62: 5250 | B62: Kapitālais remonts un rekonstrukcija | C62: 3.14
B63: Netiešās izmaksas kopā | C63: =SUM(C35:C62) -> 225.96
B64: Pakalpojumu izmaksas kopā | C64: =C33+C63 -> 634.8
A66: Maksas pakalpojuma vienību skaits noteiktā laikposmā | C66: 30
A67: Maksas pakalpojuma izcenojums (euro) | C67: =C64/C66 -> 21.16
A69: Prognozētais maksas pakalpojumu skaits gadā (gab.)*
A70: Prognozētie ieņēmumi gadā (euro)*
A72: Piezīme. *Ailes neaizpilda, ja izvēlētais laikposms ir viens gads.
A74: Aprēķinu sastādīja:SIVA Finanšu nodaļas vecākā finanšu ekonomiste Anita Ozoliņa

Sheet 4.3.3.
E1: SASKAŅOTS
E2: Sociālās integrācijas valsts aģentūras
E3: direktore I.Jurševska
E5: 2023. gada 29. martā
A7: Maksas pakalpojuma izcenojuma aprēķins
A9: Sociālās integrācijas valsts aģentūra
A10: Publiskā pakalpojuma veids:
B11: 4. Viesu izmitināšana
B12: 4.3. Viesu izmitināšana Dubultu prospektā 71, Jūrmalā, papildus vieta
B13: 4.3.3. Papildu vieta vienai personai Dubultu prospektā 71, 2. korp., Jūrmalā (ar brokastīm)
A14: Laikposms | B14: 2023.gadā un turpmāk
A15: Izdevumu klasifikācijas kods | B15: Rādītājs (materiāla/izejvielas nosaukums, atlīdzība un citi izmaksu veidi) | E15: Izmaksu apjoms noteiktā laikposmā viena maksas pakalpojuma veida nodrošināšanai
A16: 1 | B16: 2 | E16: 3
B17: Tiešās izmaksas
A18: 1100 | B18: Atalgojums | C18: 8.6068717 | E18: 282.63
A19: 1200 | B19: Darba devēja valsts sociālās apdrošināšanas obligātās iemaksas, pabalsti un kompensācijas | C19: =C18*0.2359 -> 2.030361 | E19: 66.67
A20: 2210 | B20: Izdevumi par sakaru pakalpojumiem
A21: 2222 | B21: Izdevumi par ūdensapgādi un kanalizāciju | C21: 0.2021967 | E21: 5.94
A22: 2223 | B22: Izdevumi par elektroenerģiju | C22: 0.59961558 | E22: 17.6
A23: 2243 | B23: Iekārtas, inventāra un aparatūras remonts, tehniskā apkalpošana | C23: 0.035127309 | E23: 1.04
A24: 2244 | B24: Nekustamā īpašuma uzturēšana | C24: 0.76012481 | E24: 22.35
A25: 2250 | B25: Informācijas tehnoloģiju pakalpojumi | C25: 0.19 | E25: 5.7
A26: 2263 | B26: Zemes noma
A27: 2311 | B27: Biroja preces | C27: 1.7655716 | E27: 52.69
A28: 2312 | B28: Inventārs | C28: 0.4721967 | E28: 14.04
A29: 2321 | B29: Kurināmais | C29: 0.43439341 | E29: 12.77
A30: 2350 | B30: Iestāžu uzturēšanas materiāli un preces | C30: 0.13681478 | E30: 4.02
A31: 2361 | B31: Mīkstais inventārs | C31: 0.054458313 | E31: 1.58
A32: 2362 | B32: Virtuves inventārs, trauki un galda piederumi | C32: 0.02 | E32: 0.6
A33: 2363 | B33: Ēdināšanas izdevumi | C33: 3.87 | E33: 116.1
A34: 2513 | B34: Budžeta iestāžu nekustamā īpašuma nodokļa maksājumi
A35: 2519 | B35: Pārējie budžeta iestāžu pārskaitītie nodokļi un nodevas
A36: 5239 | B36: Pārējie iepriekš neklasificētie pamatlīdzekļi un ieguldījuma īpašumi | C36: 0.67018972 | E36: 19.87
B37: Tiešās izmaksas kopā | C37: =SUM(C18:C36) -> 19.847922 | E37: =SUM(E18:E36) -> 623.6
B38: Netiešās izmaksas
A39: 1100 | B39: Atalgojums | D39: 0.4855 | E39: 178.43
A40: 1200 | B40: Darba devēja valsts sociālās apdrošināšanas obligātās iemaksas, pabalsti un kompensācijas | D40: =D39*0.2359 -> 0.11452945 | E40: 42.09
A41: 2100 | B41: Mācību, darba un dienesta komandējumi, dienesta, darba braucieni | D41: 0.001166 | E41: 0.47
A42: 2210 | B42: Izdevumi par sakaru pakalpojumiem | D42: 0.0076 | E42: 3.06
A43: 2222 | B43: Izdevumi par ūdensapgādi un kanalizāciju | D43: =0.0095*1.15 -> 0.010925 | E43: 4.4
A44: 2223 | B44: Izdevumi par elektroenerģiju | D44: =0.01902*2.13 -> 0.0405126 | E44: 16.31
A45: 2224 | B45: Izdevumi par atkritumu savākšanu, izvešanu no apdzīvotām vietām un teritorijām ārpus apdzīvotām vietām un atkritumu utilizāciju | D45: =0.00495*1.15 -> 0.0056925 | E45: 2.29
A46: 2231 | B46: Izdevumi iestādes sabiedrisko aktivitāšu īstenošanai | D46: 0.00155 | E46: 0.62
A47: 2235 | B47: Izdevumi par saņemtajiem mācību pakalpojumiem | D47: 0.00165 | E47: 0.66
A48: 2239 | B48: Pārējie neklasificētie pakalpojumi | D48: 0.00441 | E48: 1.78
A49: 2241 | B49: Ēku, būvju un telpu būvdarbi | D49: 0.0165 | E49: 6.82
A50: 2242 | B50: Transportlīdzekļu uzturēšana un remonts | D50: 0.00226 | E50: 0.91
A51: 2243 | B51: Iekārtas, inventāra un aparatūras remonts, tehniskā apkalpošana | D51: 0.0326 | E51: 13.1
A52: 2244 | B52: Nekustamā īpašuma uzturēšana | D52: =0.20397-0.09084 -> 0.11313 | E52: 45.55
A53: 2247 | B53: Apdrošināšanas izdevumi | D53: 0.000719 | E53: 0.29
A54: 2249 | B54: Pārējie remontdarbu un iestāžu uzturēšanas pakalpojumi | D54: 0.000232 | E54: 0.09
A55: 2250 | B55: Informācijas tehnoloģiju pakalpojumi | D55: =0.024026-0.005 -> 0.019026 | E55: 7.66
A56: 2262 | B56: Transportlīdzekļu noma | D56: 0.00626 | E56: 2.52
A57: 2263 | B57: Zemes noma | D57: 0.0458 | E57: 18.44
A58: 2264 | B58: Iekārtu, aparatūras un inventāra īre un noma | D58: 0.00149 | E58: 0.6
A59: 2311 | B59: Biroja preces | D59: 0.00477 | E59: 1.92
A60: 2312 | B60: Inventārs | D60: 0.00579 | E60: 2.33
A61: 2314 | B61: Izdevumi par precēm iestādes sabiedrisko aktivitāšu īstenošanai | D61: 0.00222 | E61: 0.89
A62: 2321 | B62: Kurināmais | D62: =0.0198*1.2+0.005 -> 0.02876 | E62: 11.58
A63: 2322 | B63: Degviela | D63: =0.0035*1.2 -> 0.0042 | E63: 1.69
A64: 2341 | B64: Zāles, ķimikālijas, laboratorijas preces | E64: =D64*402.665 -> 0
A65: 2350 | B65: Iestāžu uzturēšanas materiāli un preces | D65: 0.0085 | E65: 3.42
A66: 2513 | B66: Budžeta iestāžu nekustamā īpašuma nodokļa maksājumi | D66: 0.00146 | E66: 0.59
A67: 2515 | B67: Budžeta iestāžu dabas resursu nodokļa maksājumi | D67: 0.0019 | E67: 0.77
A68: 2519 | B68: Pārējie budžeta iestāžu pārskaitītie nodokļi un nodevas | D68: 0.002 | E68: 0.81
A69: 5220 | B69: Tehnoloģiskās iekārtas un mašīnas | D69: 0.0106 | E69: 4.27
A70: 5238 | B70: Datortehnika, sakaru un cita biroja tehnika | D70: 0.00165 | E70: 0.66
A71: 5239 | B71: Pārējie iepriekš neklasificētie pamatlīdzekļi un ieguldījuma īpašumi | D71: 0.00954 | E71: 3.84
A72: 5250 | B72: Kapitālais remonts un rekonstrukcija | D72: 0.00706 | E72: 2.84
B73: Netiešās izmaksas kopā | D73: =SUM(D39:D72) -> 1.0000026 | E73: =SUM(E39:E72) -> 381.7
B74: Pakalpojumu izmaksas kopā | E74: =E73+E37 -> 1005.3
A76: Maksas pakalpojuma vienību skaits noteiktā laikposmā | E76: 30
A77: Maksas pakalpojuma izcenojums (euro) | E77: =E74/E76 -> 33.51
A79: Prognozētais maksas pakalpojumu skaits gadā (gab.)*
A80: Prognozētie ieņēmumi gadā (euro)*
A82: Piezīme. *Ailes neaizpilda, ja izvēlētais laikposms ir viens gads.
A84: Aprēķinu sastādīja: SIVA Finanšu nodaļas finanšu ekonomiste E.Lipiņa

Sheet 7.5.7.
C1: SASKAŅOTS
C2: Sociālās integrācijas valsts aģentūras
C3: direktores p.i. G.Apele
C5: 2019. gada 15.martā
A7: Maksas pakalpojuma izcenojuma aprēķins
A9: Sociālās integrācijas valsts aģentūra
A10: Publiskā pakalpojuma veids:
B11: 7. Viesu izmitināšana
B12: 7.5. Viesu izmitināšana Dubultu prospektā 71, Jūrmalā, papildus vieta
B13: 7.5.7. Papildu vieta vienai personai Dubultu prospektā 71, 1 korpuss, Jūrmalā (ar brokastīm)
A14: Laikposms | B14: ='4.3.4.'!B14 -> 2023.gadā un turpmāk
A15: Izdevumu klasifikācijas kods | B15: Rādītājs (materiāla/izejvielas nosaukums, atlīdzība un citi izmaksu veidi) | C15: Izmaksu apjoms noteiktā laikposmā viena maksas pakalpojuma veida nodrošināšanai
A16: 1 | B16: 2 | C16: 3
B17: Tiešās izmaksas
A18: 1100 | B18: Atalgojums | C18: 63.2
A19: 1200 | B19: Darba devēja valsts sociālās apdrošināšanas obligātās iemaksas, sociāla rakstura pabalsti un kompensācijas | C19: 15.22
A20: 2219 | B20: Pārējie sakaru pakalpojumi | C20: 0.97
A21: 2222 | B21: Izdevumi par ūdeni un kanalizāciju | C21: 38.02
A22: 2223 | B22: Izdevumi par elektroenerģiju | C22: 43.62
A23: 2243 | B23: Iekārtas, inventāra un aparatūras remonts, tehniskā apkalpošana | C23: 0.52
A24: 2244 | B24: Ēku, būvju un telpu uzturēšana | C24: 51.36
A25: 2249 | B25: Pārējie remontdarbu un iestāžu uzturēšanas pakalpojumi | C25: 0
A26: 2263 | B26: Zemes noma | C26: 10.14
A27: 2264 | B27: Iekārtu un inventāra īre un noma | C27: 0.06
A28: 2279 | B28: Pārējie iepriekš neklasificētie pakalpojumu veidi | C28: 5.06
A29: 2321 | B29: Kurināmais | C29: 54.19
... A32: 2519 | B32: Pārējie budžeta iestāžu pārskaitītie nodokļi un nodevas | C32: 0.65
B33: Tiešās izmaksas kopā | C33: =SUM(C18:C32) -> 391.58
B34: Netiešās izmaksas
A35: 1100 | B35: Atalgojums | C35: 63.57
A36: 1200 | B36: Darba devēja valsts sociālās apdrošināšanas obligātās iemaksas, sociāla rakstura pabalsti un kompensācijas | C36: 15.31
A37: 2219 | B37: Pārējie sakaru pakalpojumi | C37: 1.56
A38: 2234 | B38: Normatīvajos aktos noteiktie darba devēja veselības izdevumi darba ņēmējiem | C38: 0.13
A39: 2239 | B39: Pārējie iestādes administratīvie izdevumi un ar iestādes darbības nodrošināšanu saistītie pakalpojumi | C39: 0.65
A40: 2241 | B40: Ēku, būvju un telpu remonts | C40: 0.14
A41: 2242 | B41: Transportlīdzekļu uzturēšana un remonts | C41: 0
A42: 2243 | B42: Iekārtas, inventāra un aparatūras remonts, tehniskā apkalpošana | C42: 0.63
A43: 2244 | B43: Ēku, būvju un telpu uzturēšana | C43: 25.39
A44: 2247 | B44: Apdrošināšanas izdevumi | C44: 0.2
A45: 2251 | B45: Informācijas sistēmas uzturēšana | C45: 7.81
A46: 2259 | B46: Pārējie informācijas tehnoloģiju pakalpojumi | C46: 0.06
... A62: 5250 | B62: Kapitālais remonts un rekonstrukcija | C62: 2.88
B63: Netiešās izmaksas kopā | C63: =SUM(C35:C62) -> 218.62
B64: Pakalpojumu izmaksas kopā | C64: =C63+C33 -> 610.2
A66: Maksas pakalpojuma vienību skaits noteiktā laikposmā | C66: 30
A67: Maksas pakalpojuma izcenojums (euro) | C67: =C64/C66 -> 20.34
A69: Prognozētais maksas pakalpojumu skaits gadā (gab.)*
A70: Prognozētie ieņēmumi gadā (euro)*
A72: Piezīme. *Ailes neaizpilda, ja izvēlētais laikposms ir viens gads.
A74: Aprēķinu sastādīja:SIVA Finanšu nodaļas vecākā finanšu ekonomiste Anita Ozoliņa

Sheet 7.5.8.
C1: SASKAŅOTS | D1: SASKAŅOTS
C2: Sociālās integrācijas valsts aģentūras | D2: Sociālās integrācijas valsts aģentūras
C3: direktore I.Jurševska | D3: direktores p.i. G.Apele
C5: 2017. gada .novembrī | D5: 2019. gada 15.martā
A7: Maksas pakalpojuma izcenojuma aprēķins
A9: Sociālās integrācijas valsts aģentūra
A10: Publiskā pakalpojuma veids:
B11: 7. Viesu izmitināšana
B12: 7.5. Viesu izmitināšana Dubultu prospektā 71, Jūrmalā, papildus vieta
B13: 7.5.8. Papildu vieta vienai personai Dubultu prospektā 71, 1 korpuss, Jūrmalā (ar trīsreizēju ēdināšanu)
A14: Laikposms | B14: ='7.5.7.'!B14 -> 2023.gadā un turpmāk
A15: Izdevumu klasifikācijas kods | B15: Rādītājs (materiāla/izejvielas nosaukums, atlīdzība un citi izmaksu veidi) | C15: Izmaksu apjoms noteiktā laikposmā viena maksas pakalpojuma veida nodrošināšanai | D15: Izmaksu apjoms noteiktā laikposmā viena maksas pakalpojuma veida nodrošināšanai
A16: 1 | B16: 2 | C16: 3 | D16: 3
B17: Tiešās izmaksas
A18: 1100 | B18: Atalgojums | C18: 76.15 | D18: 126.39
A19: 1200 | B19: Darba devēja valsts sociālās apdrošināšanas obligātās iemaksas, sociāla rakstura pabalsti un kompensācijas | C19: 17.95 | D19: 30.45
A20: 2219 | B20: Pārējie sakaru pakalpojumi | C20: 1.16 | D20: =C20/30*50 -> 1.9333333
A21: 2222 | B21: Izdevumi par ūdeni un kanalizāciju | C21: 48.62 | D21: =C21/30*50 -> 81.033333
A22: 2223 | B22: Izdevumi par elektroenerģiju | C22: 52.87 | D22: =C22/30*50 -> 88.116667
A23: 2243 | B23: Iekārtas, inventāra un aparatūras remonts, tehniskā apkalpošana | C23: 0.62 | D23: =C23/30*50 -> 1.0333333
A24: 2244 | B24: Ēku, būvju un telpu uzturēšana | C24: 69.25 | D24: =C24/30*50 -> 115.41667
A25: 2249 | B25: Pārējie remontdarbu un iestāžu uzturēšanas pakalpojumi | C25: 0 | D25: =C25/30*50 -> 0
A26: 2263 | B26: Zemes noma | C26: 12.17 | D26: =C26/30*50 -> 20.283333
A27: 2264 | B27: Iekārtu un inventāra īre un noma | C27: 0.07 | D27: =C27/30*50 -> 0.11666667
A28: 2279 | B28: Pārējie iepriekš neklasificētie pakalpojumu veidi | C28: 6.07 | D28: =C28/30*50 -> 10.116667
A29: 2321 | B29: Kurināmais | C29: 73.25 | D29: =C29/30*50 -> 122.08333
A30: 2363 | B30: Ēdināšanas izdevumi | C30: 221.4 | D30: 406
A31: 2513 | B31: Budžeta iestāžu nekustamā īpašuma nodokļa (t.sk. zemes nodokļa parāda) maksājumi budžetā | C31: 1.4 | D31: =C31/30*50 -> 2.3333333
A32: 2519 | B32: Pārējie budžeta iestāžu pārskaitītie nodokļi un nodevas | C32: 0.78 | D32: =C32/30*50 -> 1.3
B33: Tiešās izmaksas kopā | C33: =SUM(C18:C32) -> 581.76 | D33: =SUM(D18:D32) -> 1006.6067
B34: Netiešās izmaksas
A35: 1100 | B35: Atalgojums | C35: 76.58 | D35: 127.13
A36: 1200 | B36: Darba devēja valsts sociālās apdrošināšanas obligātās iemaksas, sociāla rakstura pabalsti un kompensācijas | C36: 18.07 | D36: 30.62
A37: 2219 | B37: Pārējie sakaru pakalpojumi | C37: 1.87 | D37: =C37/30*50 -> 3.1166667
A38: 2234 | B38: Normatīvajos aktos noteiktie darba devēja veselības izdevumi darba ņēmējiem | C38: 0.16 | D38: =C38/30*50 -> 0.26666667
A39: 2239 | B39: Pārējie iestādes administratīvie izdevumi un ar iestādes darbības nodrošināšanu saistītie pakalpojumi | C39: 0.78 | D39: =C39/30*50 -> 1.3
A40: 2241 | B40: Ēku, būvju un telpu remonts | C40: 0.17 | D40: 0.32
A41: 2242 | B41: Transportlīdzekļu uzturēšana un remonts | C41: 0 | D41: =C41/30*50 -> 0
A42: 2243 | B42: Iekārtas, inventāra un aparatūras remonts, tehniskā apkalpošana | C42: 0.76 | D42: 1.33
A43: 2244 | B43: Ēku, būvju un telpu uzturēšana | C43: 0.18 | D43: 74.3
A44: 2247 | B44: Apdrošināšanas izdevumi | C44: 0.24 | D44: =C44/30*50 -> 0.4
A45: 2251 | B45: Informācijas sistēmas uzturēšana | C45: 12.39 | D45: =C45/30*50 -> 20.65
A46: 2259 | B46: Pārējie informācijas tehnoloģiju pakalpojumi | C46: 0.07 | D46: 0.15
A47: 2262 | B47: Transportlīdzekļu noma | C47: 1.48 | D47: =C47/30*50 -> 2.4666667
A48: 2264 | B48: Iekārtu un inventāra īre un noma | C48: 0.07 | D48: =C48/30*50 -> 0.11666667
A49: 2279 | B49: Pārējie iepriekš neklasificētie pakalpojumu veidi | C49: 0.16 | D49: =C49/30*50 -> 0.26666667
A50: 2311 | B50: Biroja preces | C50: 0.78 | D50: =C50/30*50 -> 1.3
A51: 2312 | B51: Inventārs | C51: 0.36 | D51: =C51/30*50 -> 0.6
A52: 2322 | B52: Degviela | C52: 3.11 | D52: =C52/30*50 -> 5.1833333
A53: 2350 | B53: Kārtējā remonta un iestāžu uzturēšanas materiāli | C53: 15.98 | D53: =C53/30*50 -> 26.633333
A54: 2361 | B54: Mīkstais inventārs | C54: 3.5 | D54: =C54/30*50 -> 5.8333333
A55: 2362 | B55: Virtuves inventārs, trauki un galda piederumi | C55: 2.4 | D55: =C55/30*50 -> 4
A56: 2400 | B56: Izdevumi periodikas iegādei | C56: 0.24 | D56: =C56/30*50 -> 0.4
A57: 2512 | B57: Budžeta iestāžu pievienotās vērtības nodokļa maksājumi | C57: 91.58 | D57: 166
A58: 2515 | B58: Budžeta iestāžu dabas resursu nodokļa maksājumi | C58: 0.31 | D58: =C58/30*50 -> 0.51666667
A59: 2519 | B59: Pārējie budžeta iestāžu pārskaitītie nodokļi un nodevas | C59: 0.07 | D59: =C59/30*50 -> 0.11666667
A60: 5232 | B60: Saimniecības pamatlīdzekļi | C60: 33.97 | D60: =C60/30*50 -> 56.616667
A61: 5240 | B61: Pamatlīdzekļu izveidošana un nepabeigtā būvniecība | C61: 1.97 | D61: =C61/30*50 -> 3.2833333
A62: 5250 | B62: Kapitālais remonts un rekonstrukcija | C62: 5.69 | D62: 9.48
B63: Netiešās izmaksas kopā | C63: =SUM(C35:C62) -> 272.94 | D63: =SUM(D35:D62) -> 542.39667
B64: Pakalpojumu izmaksas kopā | C64: =C63+C33 -> 854.7 | D64: =D63+D33 -> 1549.0033
A66: Maksas pakalpojuma vienību skaits noteiktā laikposmā | C66: 30 | D66: 50
A67: Maksas pakalpojuma izcenojums (euro) | C67: =C64/C66 -> 28.49 | D67: =D64/D66 -> 30.980067
A69: Prognozētais maksas pakalpojumu skaits gadā (gab.)*
A70: Prognozētie ieņēmumi gadā (euro)*
A72: Piezīme. *Ailes neaizpilda, ja izvēlētais laikposms ir viens gads.
A74: Aprēķinu sastādīja:SIVA Finanšu nodaļas vecākā finanšu ekonomiste Anita Ozoliņa

Sheet 4.3.4.
E1: SASKAŅOTS
E2: Sociālās integrācijas valsts aģentūras
E3: direktore I.Jurševska
E5: 2023. gada 29. martā
A7: Maksas pakalpojuma izcenojuma aprēķins
A9: Sociālās integrācijas valsts aģentūra
A10: Publiskā pakalpojuma veids:
B11: 4. Viesu izmitināšana
B12: 4.3. Viesu izmitināšana Dubultu prospektā 71, Jūrmalā, papildus vieta
B13: 4.3.4. Papildu vieta vienai personai Dubultu prospektā 71, 2. korp., Jūrmalā (ar ar trīsreizēju ēdināšanu)
A14: Laikposms | B14: 2023.gadā un turpmāk
A15: Izdevumu klasifikācijas kods | B15: Rādītājs (materiāla/izejvielas nosaukums, atlīdzība un citi izmaksu veidi) | E15: Izmaksu apjoms noteiktā laikposmā viena maksas pakalpojuma veida nodrošināšanai
A16: 1 | B16: 2 | E16: 3
B17: Tiešās izmaksas
A18: 1100 | B18: Atalgojums | C18: 12.496872 | E18: 422.21
A19: 1200 | B19: Darba devēja valsts sociālās apdrošināšanas obligātās iemaksas, pabalsti un kompensācijas | C19: =C18*0.2359 -> 2.948012 | E19: 99.6
A20: 2210 | B20: Izdevumi par sakaru pakalpojumiem
A21: 2222 | B21: Izdevumi par ūdensapgādi un kanalizāciju | C21: 0.2721967 | E21: 8.04
A22: 2223 | B22: Izdevumi par elektroenerģiju | C22: 0.66961558 | E22: 19.7
A23: 2243 | B23: Iekārtas, inventāra un aparatūras remonts, tehniskā apkalpošana | C23: 0.048118148 | E23: 1.43
A24: 2244 | B24: Nekustamā īpašuma uzturēšana | C24: 0.85797593 | E24: 25.31
A25: 2250 | B25: Informācijas tehnoloģiju pakalpojumi | C25: 0.19 | E25: 5.7
A26: 2263 | B26: Zemes noma
A27: 2311 | B27: Biroja preces | C27: 1.7655716 | E27: 52.69
A28: 2312 | B28: Inventārs | C28: 0.59158859 | E28: 17.65
A29: 2321 | B29: Kurināmais | C29: 0.49585281 | E29: 14.63
A30: 2350 | B30: Iestāžu uzturēšanas materiāli un preces | C30: 0.1870137 | E30: 5.53
A31: 2361 | B31: Mīkstais inventārs | C31: 0.054458313 | E31: 1.58
A32: 2362 | B32: Virtuves inventārs, trauki un galda piederumi | C32: 0.048496534 | E32: 1.46
A33: 2363 | B33: Ēdināšanas izdevumi | C33: 9.75 | E33: 292.5
A34: 2513 | B34: Budžeta iestāžu nekustamā īpašuma nodokļa maksājumi
A35: 2519 | B35: Pārējie budžeta iestāžu pārskaitītie nodokļi un nodevas
A36: 5239 | B36: Pārējie iepriekš neklasificētie pamatlīdzekļi un ieguldījuma īpašumi | C36: 0.77337909 | E36: 22.99
B37: Tiešās izmaksas kopā | C37: =SUM(C18:C36) -> 31.149151 | E37: =SUM(E18:E36) -> 991.02
B38: Netiešās izmaksas
A39: 1100 | B39: Atalgojums | D39: 0.4855 | E39: 214.75
A40: 1200 | B40: Darba devēja valsts sociālās apdrošināšanas obligātās iemaksas, pabalsti un kompensācijas | D40: =D39*0.2359 -> 0.11452945 | E40: 50.66
A41: 2100 | B41: Mācību, darba un dienesta komandējumi, dienesta, darba braucieni | D41: 0.001166 | E41: 0.61
A42: 2210 | B42: Izdevumi par sakaru pakalpojumiem | D42: 0.0076 | E42: 3.99
A43: 2222 | B43: Izdevumi par ūdensapgādi un kanalizāciju | D43: =0.0095*1.15 -> 0.010925 | E43: 5.73
A44: 2223 | B44: Izdevumi par elektroenerģiju | D44: =0.01902*2.13 -> 0.0405126 | E44: 21.25
A45: 2224 | B45: Izdevumi par atkritumu savākšanu, izvešanu no apdzīvotām vietām un teritorijām ārpus apdzīvotām vietām un atkritumu utilizāciju | D45: =0.00495*1.15 -> 0.0056925 | E45: 2.99
A46: 2231 | B46: Izdevumi iestādes sabiedrisko aktivitāšu īstenošanai | D46: 0.00155 | E46: 0.81
A47: 2235 | B47: Izdevumi par saņemtajiem mācību pakalpojumiem | D47: 0.00165 | E47: 0.87
A48: 2239 | B48: Pārējie neklasificētie pakalpojumi | D48: 0.00441 | E48: 2.31
A49: 2241 | B49: Ēku, būvju un telpu būvdarbi | D49: 0.0165 | E49: 8.8
A50: 2242 | B50: Transportlīdzekļu uzturēšana un remonts | D50: 0.00226 | E50: 1.19
A51: 2243 | B51: Iekārtas, inventāra un aparatūras remonts, tehniskā apkalpošana | D51: 0.0326 | E51: 17.1
A52: 2244 | B52: Nekustamā īpašuma uzturēšana | D52: =0.20397-0.09084 -> 0.11313 | E52: 59.35
A53: 2247 | B53: Apdrošināšanas izdevumi | D53: 0.000719 | E53: 0.38
A54: 2249 | B54: Pārējie remontdarbu un iestāžu uzturēšanas pakalpojumi | D54: 0.000232 | E54: 0.12
A55: 2250 | B55: Informācijas tehnoloģiju pakalpojumi | D55: =0.024026-0.005 -> 0.019026 | E55: 9.98
A56: 2262 | B56: Transportlīdzekļu noma | D56: 0.00626 | E56: 3.28
A57: 2263 | B57: Zemes noma | D57: 0.0458 | E57: 24.03
A58: 2264 | B58: Iekārtu, aparatūras un inventāra īre un noma | D58: 0.00149 | E58: 0.78
A59: 2311 | B59: Biroja preces | D59: 0.00477 | E59: 2.5
A60: 2312 | B60: Inventārs | D60: 0.00579 | E60: 3.04
A61: 2314 | B61: Izdevumi par precēm iestādes sabiedrisko aktivitāšu īstenošanai | D61: 0.00222 | E61: 1.16
A62: 2321 | B62: Kurināmais | D62: =0.0198*1.2+0.005 -> 0.02876 | E62: 15.09
A63: 2322 | B63: Degviela | D63: =0.0035*1.2 -> 0.0042 | E63: 2.2
A64: 2341 | B64: Zāles, ķimikālijas, laboratorijas preces | E64: 0
A65: 2350 | B65: Iestāžu uzturēšanas materiāli un preces | D65: 0.0085 | E65: 4.46
A66: 2513 | B66: Budžeta iestāžu nekustamā īpašuma nodokļa maksājumi | D66: 0.00146 | E66: 0.77
A67: 2515 | B67: Budžeta iestāžu dabas resursu nodokļa maksājumi | D67: 0.0019 | E67: 1
A68: 2519 | B68: Pārējie budžeta iestāžu pārskaitītie nodokļi un nodevas | D68: 0.002 | E68: 1.05
A69: 5220 | B69: Tehnoloģiskās iekārtas un mašīnas | D69: 0.0106 | E69: 5.56
A70: 5238 | B70: Datortehnika, sakaru un cita biroja tehnika | D70: 0.00165 | E70: 0.87
A71: 5239 | B71: Pārējie iepriekš neklasificētie pamatlīdzekļi un ieguldījuma īpašumi | D71: 0.00954 | E71: 5
A72: 5250 | B72: Kapitālais remonts un rekonstrukcija | D72: 0.00706 | E72: 3.7
B73: Netiešās izmaksas kopā | D73: =SUM(D39:D72) -> 1.0000026 | E73: =SUM(E39:E72) -> 475.38
B74: Pakalpojumu izmaksas kopā | E74: =E73+E37 -> 1466.4
A76: Maksas pakalpojuma vienību skaits noteiktā laikposmā | E76: 30
A77: Maksas pakalpojuma izcenojums (euro) | E77: =E74/E76 -> 48.88
A79: Prognozētais maksas pakalpojumu skaits gadā (gab.)*
A80: Prognozētie ieņēmumi gadā (euro)*
A82: Piezīme. *Ailes neaizpilda, ja izvēlētais laikposms ir viens gads.
A84: Aprēķinu sastādīja: SIVA Finanšu nodaļas finanšu ekonomiste E.Lipiņa

Sheet Saturs
O1: 1.pielikums
O2: Ministru kabineta noteikumu projekta "Grozījums Ministru kabineta
O3: 2013.gada 24.septembra noteikumos Nr.1002 "Sociālās
O4: integrācijas valstas aģentūras sniegto maksas pakalpojumu cenrādis""
O5: sākotnējās ietekmes novērtējuma ziņojumam (anotācijai)
A8: Satura rādītājs
A10: 2.2.2.1. | B10: Ārstnieciskā vanna
A11: 2.2.2.2. | B11: Ārstnieciskā roku/kāju vanna
A12: 2.3.2.4. | B12: FMS (funkcionālā magnētiskā stimulācija) ar manualo aplikatoru, aktīva procedūra (ar speciālista darbu)
A13: 2.3.1.5. | B13: FMS (funkcionālā magnētiskā stimulācija), magnētiskais krēsls ar vienu magnētu
A14: 2.3.2.6. | B14: FMS (funkcionālā magnētiskā stimulācija), magnētiskais krēsls ar diviem magnētiem
A15: 2.4.7. | B15: Visa ķermeņa masāža (6 vienības)
A16: 3.2.2. | B16: Rokas bremze un akselerators transportlīdzeklim ar automātisko ātrumkārbu, stiprinājums pie grīdas (RBA-2) (personām ar satveršanas problēmām) ar divzaru vai trīszaru palīgroktura izveidi un uzstādīšanu uz stūres rata
A17: 3.5.2. | B17: Rokas bremze un akselerators transportlīdzeklim ar mehānisko ātrumkārbu, stiprinājums pie grīdas (RBA-5) (personām ar satveršanas problēmām) ar divzaru vai trīszaru palīgroktura izveidi un uzstādīšanu uz stūres rata
A18: 3.11.2. | B18: Divzaru vai trīszaru palīgroktura izveide un uzstādīšana uz stūres rata
A19: 4.4.1. | B19: Dubultu prospektā 59, Jūrmalā, četrvietīgs numurs
A20: 4.4.2. | B20: Dubultu prospektā 59, Jūrmalā, astoņvietīgs numurs
A21: 4.5.1. | B21: Dubultu prospektā 59, Jūrmalā, četrvietīgs numurs
... A42: 8.13. | B42: Nojumes vietas noma (līdz 9 m2) viesnīcas klientiem Dubultu prospektā 59, Jūrmalā

Sheet 2.2.2.1.
D1: SASKAŅOTS | E1: SASKAŅOTS | F1: SASKAŅOTS
D2: Sociālās integrācijas valsts aģentūras | E2: Sociālās integrācijas valsts aģentūras | F2: Sociālās integrācijas valsts aģentūras
D3: direktore I.Jurševska | E3: direktore I.Jurševska | F3: direktore I.Jurševska
D5: 2025. gada | E5: 2025. gada | F5: 2025. gada jūnijs
A7: Maksas pakalpojuma izcenojuma aprēķins
A9: Sociālās integrācijas valsts aģentūra
A10: Publiskā pakalpojuma veids:
B11: 2. Ārstniecības pakalpojumi
B12: 2.2. Hidroterapija
B13: 2.2.2. Ārstnieciskās vannas
B14: 2.2.2.1. Ārstnieciskā vanna
A15: Laikposms | B15: 2025.gadā un turpmāk
A17: Izdevumu klasifikācijas kods | B17: Rādītājs (materiāla/izejvielas nosaukums, atlīdzība un citi izmaksu veidi) | D17: Izmaksu apjoms noteiktā laikposmā viena maksas pakalpojuma veida nodrošināšanai | E17: Izmaksu apjoms noteiktā laikposmā viena maksas pakalpojuma veida nodrošināšanai | F17: Izmaksu apjoms noteiktā laikposmā viena maksas pakalpojuma veida nodrošināšanai
A18: 1 | B18: 2 | D18: 3 | E18: 3 | F18: 3
B19: Tiešās izmaksas
A20: 1100 | B20: Atalgojums | D20: 5514.5 | E20: 5604.27 | F20: =ROUND(E20/1730*600,2) -> 1943.68
A21: 1200 | B21: Darba devēja valsts sociālās apdrošināšanas obligātās iemaksas, pabalsti un kompensācijas | D21: 1300.87 | E21: 1322.05 | F21: =ROUND(E21/1730*600,2) -> 458.51
A22: 2222 | B22: Izdevumi par ūdensapgādi un kanalizāciju | D22: 1049.39 | E22: 1066.47 | F22: =ROUND(E22/1730*600,2) -> 369.87
A23: 2223 | B23: Izdevumi par elektroenerģiju | D23: 596.29 | E23: 606 | F23: =ROUND(E23/1730*600,2) -> 210.17
A24: 2243 | B24: Iekārtas, inventāra un aparatūras remonts, tehniskā apkalpošana | D24: 445.34 | E24: 452.59 | F24: =ROUND(E24/1730*600,2) -> 156.97
A25: 2321 | B25: Kurināmais | D25: 122.25 | E25: 124.24 | F25: =ROUND(E25/1730*600,2) -> 43.09
A26: 2341 | B26: Zāles, ķimikālijas, laboratorijas preces | D26: 1824.46 | E26: 1854.16 | F26: =ROUND(E26/1730*600,2) -> 643.06
A27: 2350 | B27: Iestāžu uzturēšanas materiāli un preces | D27: 677.92 | E27: 688.96 | F27: =ROUND(E27/1730*600,2) -> 238.95
A28: 5220 | B28: Tehnoloģiskās iekārtas un mašīnas | D28: 391.34 | E28: 397.71 | F28: =ROUND(E28/1730*600,2) -> 137.93
B29: Tiešās izmaksas kopā | D29: =SUM(D20:D28) -> 11922.36 | E29: =SUM(E20:E28) -> 12116.45 | F29: =SUM(F20:F28) -> 4202.23
B30: Netiešās izmaksas
A31: 1100 | B31: Atalgojums | C31: 0.45928 | D31: 2205.76 | E31: 2224.55 | F31: =ROUND(E31/1730*600,2) -> 771.52
A32: 1200 | B32: Darba devēja valsts sociālās apdrošināšanas obligātās iemaksas, pabalsti un kompensācijas | C32: 0.10834 | D32: 520.32 | E32: 524.77 | F32: =ROUND(E32/1730*600,2) -> 182
A33: 2100 | B33: Mācību, darba un dienesta komandējumi, dienesta, darba braucieni | C33: 0.00156 | D33: 7.49 | E33: 7.55 | F33: =ROUND(E33/1730*600,2) -> 2.62
A34: 2210 | B34: Izdevumi par sakaru pakalpojumiem | C34: 0.0082 | D34: 39.38 | E34: 39.72 | F34: =ROUND(E34/1730*600,2) -> 13.78
A35: 2222 | B35: Izdevumi par ūdensapgādi un kanalizāciju | C35: 0.00836 | D35: 40.15 | E35: 40.49 | F35: =ROUND(E35/1730*600,2) -> 14.04
A36: 2223 | B36: Izdevumi par elektroenerģiju | C36: 0.06697 | D36: 321.63 | E36: 324.37 | F36: =ROUND(E36/1730*600,2) -> 112.5
A37: 2224 | B37: Izdevumi par atkritumu savākšanu, izvešanu no apdzīvotām vietām un teritorijām ārpus apdzīvotām vietām un atkritumu utilizāciju | C37: 0.00389 | D37: 18.68 | E37: 18.84 | F37: =ROUND(E37/1730*600,2) -> 6.53
A38: 2231 | B38: Izdevumi iestādes sabiedrisko aktivitāšu īstenošanai | C38: 0.00105 | D38: 5.04 | E38: 5.08 | F38: =ROUND(E38/1730*600,2) -> 1.76
A39: 2232 | B39: Izdevumi par profesionālās darbības pakalpojumiem | C39: 0.01469 | D39: 70.55 | E39: 71.15 | F39: =ROUND(E39/1730*600,2) -> 24.68
A40: 2235 | B40: Izdevumi par saņemtajiem mācību pakalpojumiem | C40: 0.00156 | D40: 7.49 | E40: 7.55 | F40: =ROUND(E40/1730*600,2) -> 2.62
A41: 2239 | B41: Pārējie neklasificētie pakalpojumi | C41: 0.00092 | D41: 4.42 | E41: 4.46 | F41: =ROUND(E41/1730*600,2) -> 1.55
A42: 2241 | B42: Ēku, būvju un telpu būvdarbi | C42: 0.00608 | D42: 29.2 | E42: 29.45 | F42: =ROUND(E42/1730*600,2) -> 10.21
... A65: 5250 | B65: Kapitālais remonts un rekonstrukcija | C65: 0.02256 | D65: 107.35 | E65: 108.21 | F65: =ROUND(E65/1730*600,2) -> 37.53
B66: Netiešās izmaksas kopā | C66: =SUM(C31:C65) -> 1 | D66: =SUM(D31:D65) -> 4802.64 | E66: =SUM(E31:E65) -> 4837.55 | F66: =SUM(F31:F65) -> 1677.77
B67: Pakalpojumu izmaksas kopā | D67: =D29+D66 -> 16725 | E67: =E29+E66 -> 16954 | F67: =F29+F66 -> 5880
A69: Maksas pakalpojuma vienību skaits noteiktā laikposmā (gab.) | D69: 2230 | E69: 1730 | F69: 600
A70: Maksas pakalpojuma izcenojums (euro) | D70: =D67/D69 -> 7.5 | E70: =E67/E69 -> 9.8 | F70: =F67/F69 -> 9.8
A72: Prognozētais maksas pakalpojumu skaits gadā (gab.)*
A73: Prognozētie ieņēmumi gadā (euro)*
A75: Piezīme. *Ailes neaizpilda, ja izvēlētais laikposms ir viens gads.
A77: Aprēķinu sastādīja: SIVA Finanšu nodaļas finanšu ekonomiste E.Lipiņa

Sheet 2.2.2.2.
D1: SASKAŅOTS | E1: SASKAŅOTS | F1: SASKAŅOTS
D2: Sociālās integrācijas valsts aģentūras | E2: Sociālās integrācijas valsts aģentūras | F2: Sociālās integrācijas valsts aģentūras
D3: direktore I.Jurševska | E3: direktore I.Jurševska | F3: direktore I.Jurševska
D5: 2025. gada | E5: 2025. gada | F5: 2025. gada jūnijs
A7: Maksas pakalpojuma izcenojuma aprēķins
A9: Sociālās integrācijas valsts aģentūra
A10: Publiskā pakalpojuma veids:
B11: 2. Ārstniecības pakalpojumi
B12: 2.2. Hidroterapija
B13: 2.2.2. Ārstnieciskās vannas
B14: 2.2.2.2. Ārstnieciskā roku/kāju vanna
A15: Laikposms | B15: 2025.gadā un turpmāk
A17: Izdevumu klasifikācijas kods | B17: Rādītājs (materiāla/izejvielas nosaukums, atlīdzība un citi izmaksu veidi) | D17: Izmaksu apjoms noteiktā laikposmā viena maksas pakalpojuma veida nodrošināšanai | E17: Izmaksu apjoms noteiktā laikposmā viena maksas pakalpojuma veida nodrošināšanai | F17: Izmaksu apjoms noteiktā laikposmā viena maksas pakalpojuma veida nodrošināšanai
A18: 1 | B18: 2 | D18: 3 | E18: 3 | F18: 3
B19: Tiešās izmaksas
A20: 1100 | B20: Atalgojums | D20: 5514.5 | E20: =D20/1.1/2230*500 -> 1124.0318 | F20: =ROUND(E20/500*220,2) -> 494.57
A21: 1200 | B21: Darba devēja valsts sociālās apdrošināšanas obligātās iemaksas, pabalsti un kompensācijas | D21: 1300.87 | E21: =D21/1.1/2230*500 -> 265.15899 | F21: =ROUND(E21/500*220,2) -> 116.67
A22: 2222 | B22: Izdevumi par ūdensapgādi un kanalizāciju | D22: 1049.39 | E22: =D22/1.1/2230*500 -> 213.89931 | F22: =ROUND(E22/500*220,2) -> 94.12
A23: 2223 | B23: Izdevumi par elektroenerģiju | D23: 596.29 | E23: =D23/1.1/2230*500 -> 121.54301 | F23: =ROUND(E23/500*220,2) -> 53.48
A24: 2243 | B24: Iekārtas, inventāra un aparatūras remonts, tehniskā apkalpošana | D24: 445.34 | E24: =D24/1.1/2230*500 -> 90.774562 | F24: =ROUND(E24/500*220,2) -> 39.94
A25: 2321 | B25: Kurināmais | D25: 122.25 | E25: =D25/1.1/2230*500 -> 24.918467 | F25: =ROUND(E25/500*220,2) -> 10.96
A26: 2341 | B26: Zāles, ķimikālijas, laboratorijas preces | D26: 1824.46 | E26: =D26/1.1/2230*500 -> 371.88341 | F26: =ROUND(E26/500*220,2) -> 163.63
A27: 2350 | B27: Iestāžu uzturēšanas materiāli un preces | D27: 677.92 | E27: =D27/1.1/2230*500 -> 138.18182 | F27: =ROUND(E27/500*220,2) -> 60.8
A28: 5220 | B28: Tehnoloģiskās iekārtas un mašīnas | D28: 391.34 | E28: =D28/1.1/2230*500 -> 79.767631 | F28: =ROUND(E28/500*220,2) -> 35.1
B29: Tiešās izmaksas kopā | D29: =SUM(D20:D28) -> 11922.36 | E29: =SUM(E20:E28) -> 2430.159 | F29: =SUM(F20:F28) -> 1069.27
B30: Netiešās izmaksas
A31: 1100 | B31: Atalgojums | C31: 0.45928 | D31: 2205.76 | E31: 442.24 | F31: =ROUND(E31/500*220,2) -> 194.59
A32: 1200 | B32: Darba devēja valsts sociālās apdrošināšanas obligātās iemaksas, pabalsti un kompensācijas | C32: 0.10834 | D32: 520.32 | E32: 104.32 | F32: =ROUND(E32/500*220,2) -> 45.9
A33: 2100 | B33: Mācību, darba un dienesta komandējumi, dienesta, darba braucieni | C33: 0.00156 | D33: 7.49 | E33: =D33/1.1/2230*500 -> 1.526702 | F33: =ROUND(E33/500*220,2) -> 0.67
A34: 2210 | B34: Izdevumi par sakaru pakalpojumiem | C34: 0.0082 | D34: 39.38 | E34: =D34/1.1/2230*500 -> 8.0269058 | F34: =ROUND(E34/500*220,2) -> 3.53
A35: 2222 | B35: Izdevumi par ūdensapgādi un kanalizāciju | C35: 0.00836 | D35: 40.15 | E35: =D35/1.1/2230*500 -> 8.1838565 | F35: =ROUND(E35/500*220,2) -> 3.6
A36: 2223 | B36: Izdevumi par elektroenerģiju | C36: 0.06697 | D36: 321.63 | E36: =D36/1.1/2230*500 -> 65.5585 | F36: =ROUND(E36/500*220,2) -> 28.85
A37: 2224 | B37: Izdevumi par atkritumu savākšanu, izvešanu no apdzīvotām vietām un teritorijām ārpus apdzīvotām vietām un atkritumu utilizāciju | C37: 0.00389 | D37: 18.68 | E37: =D37/1.1/2230*500 -> 3.8075826 | F37: =ROUND(E37/500*220,2) -> 1.68
A38: 2231 | B38: Izdevumi iestādes sabiedrisko aktivitāšu īstenošanai | C38: 0.00105 | D38: 5.04 | E38: =D38/1.1/2230*500 -> 1.0273135 | F38: =ROUND(E38/500*220,2) -> 0.45
A39: 2232 | B39: Izdevumi par profesionālās darbības pakalpojumiem | C39: 0.01469 | D39: 70.55 | E39: =D39/1.1/2230*500 -> 14.380351 | F39: =ROUND(E39/500*220,2) -> 6.33
A40: 2235 | B40: Izdevumi par saņemtajiem mācību pakalpojumiem | C40: 0.00156 | D40: 7.49 | E40: =D40/1.1/2230*500 -> 1.526702 | F40: =ROUND(E40/500*220,2) -> 0.67
A41: 2239 | B41: Pārējie neklasificētie pakalpojumi | C41: 0.00092 | D41: 4.42 | E41: =D41/1.1/2230*500 -> 0.90093763 | F41: =ROUND(E41/500*220,2) -> 0.4
A42: 2241 | B42: Ēku, būvju un telpu būvdarbi | C42: 0.00608 | D42: 29.2 | E42: =D42/1.1/2230*500 -> 5.9518956 | F42: =ROUND(E42/500*220,2) -> 2.62
A43: 2242 | B43: Transportlīdzekļu uzturēšana un remonts | C43: 0.00216 | D43: 10.37 | E43: =D43/1.1/2230*500 -> 2.1137383 | F43: =ROUND(E43/500*220,2) -> 0.93
A44: 2243 | B44: Iekārtas, inventāra un aparatūras remonts, tehniskā apkalpošana | C44: 0.01635 | D44: 78.52 | E44: =D44/1.1/2230*500 -> 16.004892 | F44: =ROUND(E44/500*220,2) -> 7.04
... A55: 2314 | B55: Izdevumi par precēm iestādes sabiedrisko aktivitāšu īstenošanai | C55: 0.00063 | D55: 3.03 | E55: =D55/1.1/2230*500 -> 0.61761109 | F55: =ROUND(E55/500*220,2) -> 0.27
A56: 2321 | B56: Kurināmais | C56: 0.07226 | D56: 347.04 | E56: 70.75 | F56: =ROUND(E56/500*220,2) -> 31.13
A57: 2322 | B57: Degviela | C57: 0.00226 | D57: 10.85 | E57: =D57/1.1/2230*500 -> 2.2115777 | F57: =ROUND(E57/500*220,2) -> 0.97
A58: 2350 | B58: Iestāžu uzturēšanas materiāli un preces | C58: 0.01777 | D58: 85.34 | E58: =D58/1.1/2230*500 -> 17.395026 | F58: =ROUND(E58/500*220,2) -> 7.65
A59: 2400 | B59: Izdevumi periodikas iegādei | C59: 0.00039 | D59: 1.87 | E59: =D59/1.1/2230*500 -> 0.38116592 | F59: =ROUND(E59/500*220,2) -> 0.17
A60: 2513 | B60: Budžeta iestāžu nekustamā īpašuma nodokļa maksājumi | C60: 0.00507 | D60: 24.35 | E60: =D60/1.1/2230*500 -> 4.9633102 | F60: =ROUND(E60/500*220,2) -> 2.18
A61: 2515 | B61: Budžeta iestāžu dabas resursu nodokļa maksājumi | C61: 0.0058 | D61: 27.86 | E61: =D61/1.1/2230*500 -> 5.6787607 | F61: =ROUND(E61/500*220,2) -> 2.5
A62: 2519 | B62: Pārējie budžeta iestāžu pārskaitītie nodokļi un nodevas | C62: 0.00058 | D62: 2.79 | E62: =D62/1.1/2230*500 -> 0.5686914 | F62: =ROUND(E62/500*220,2) -> 0.25
A63: 5238 | B63: Datortehnika, sakaru un cita biroja tehnika | C63: 0.00238 | D63: 11.43 | E63: =D63/1.1/2230*500 -> 2.3298002 | F63: =ROUND(E63/500*220,2) -> 1.03
A64: 5239 | B64: Pārējie iepriekš neklasificētie pamatlīdzekļi un ieguldījuma īpašumi | C64: 0.01128 | D64: 54.17 | E64: =D64/1.1/2230*500 -> 11.041582 | F64: =ROUND(E64/500*220,2) -> 4.86
A65: 5250 | B65: Kapitālais remonts un rekonstrukcija | C65: 0.02256 | D65: 107.35 | E65: =D65/1.1/2230*500 -> 21.88137 | F65: =ROUND(E65/500*220,2) -> 9.63
B66: Netiešās izmaksas kopā | C66: =SUM(C31:C65) -> 1 | D66: =SUM(D31:D65) -> 4802.64 | E66: =SUM(E31:E65) -> 969.84159 | F66: =SUM(F31:F65) -> 426.74
B67: Pakalpojumu izmaksas kopā | D67: =D29+D66 -> 16725 | E67: =E29+E66 -> 3400.0006 | F67: =F29+F66 -> 1496.01
A69: Maksas pakalpojuma vienību skaits noteiktā laikposmā (gab.) | D69: 2230 | E69: 500 | F69: 220
A70: Maksas pakalpojuma izcenojums (euro) | D70: =D67/D69 -> 7.5 | E70: =E67/E69 -> 6.8000012 | F70: =F67/F69 -> 6.8000455
A72: Prognozētais maksas pakalpojumu skaits gadā (gab.)*
A73: Prognozētie ieņēmumi gadā (euro)*
A75: Piezīme. *Ailes neaizpilda, ja izvēlētais laikposms ir viens gads.
A77: Aprēķinu sastādīja: SIVA Finanšu nodaļas finanšu ekonomiste E.Lipiņa

Sheet 2.3.2.4.
D1: SASKAŅOTS
D2: Sociālās integrācijas valsts aģentūras
D3: direktore I.Jurševska
D5: 2025. gada
A7: Maksas pakalpojuma izcenojuma aprēķins
A9: Sociālās integrācijas valsts aģentūra
A10: Publiskā pakalpojuma veids:
B11: 2. Ārstniecības pakalpojumi
B12: 2.3. Fizikālā terapija
B13: 2.3.2. Aparātprocedūras
B14: 2.3.2.4. FMS (funkcionālā magnētiskā stimulācija) ar manuālo aplikatoru, aktīva procedūra (ar speciālista darbu)
A15: Laikposms | B15: 2025.gadā un turpmāk
A16: Izdevumu klasifikācijas kods | B16: Rādītājs (materiāla/izejvielas nosaukums, atlīdzība un citi izmaksu veidi) | D16: Izmaksu apjoms noteiktā laikposmā viena maksas pakalpojuma veida nodrošināšanai
A17: 1 | B17: 2 | D17: 3
B18: Tiešās izmaksas
A19: 1100 | B19: Atalgojums | C19: =[1]FMS!$C$27 -> 5.0299401 | D19: 50.3
A20: 1200 | B20: Darba devēja valsts sociālās apdrošināšanas obligātās iemaksas, pabalsti un kompensācijas | C20: =C19*0.2359 -> 1.1865629 | D20: 11.87
A21: 2223 | B21: Izdevumi par elektroenerģiju | C21: =[1]FMS!$C$29 -> 0.17625 | D21: 1.76
A22: 2243 | B22: Iekārtas, inventāra un aparatūras remonts, tehniskā apkalpošana | C22: =0.44*0.2 -> 0.088 | D22: 0.88
A23: 2244 | B23: Nekustamā īpašuma uzturēšana | C23: =[1]FMS!$C$39-C22 -> 0.35210751 | D23: 3.52
A24: 2312 | B24: Inventārs | C24: =[1]FMS!$C$36 -> 0.0026267535 | D24: 0.03
A25: 2321 | B25: Kurināmais | C25: =[1]FMS!$C$30+0.02 -> 0.055714286 | D25: 0.56
A26: 2341 | B26: Zāles, ķimikālijas, laboratorijas preces | C26: =[1]FMS!$C$38 -> 0.2485 | D26: 2.49
A27: 5220 | B27: Tehnoloģiskās iekārtas un mašīnas | C27: =[1]FMS!$C$32+[1]FMS!$C$33+[1]FMS!$C$34+[1]FMS!$C$35 -> 1.0413645 | D27: 10.41
B28: Tiešās izmaksas kopā | D28: =SUM(D19:D27) -> 81.82
B29: Netiešās izmaksas
A30: 1100 | B30: Atalgojums | C30: 0.45928 | D30: 13.55
A31: 1200 | B31: Darba devēja valsts sociālās apdrošināšanas obligātās iemaksas, pabalsti un kompensācijas | C31: 0.10834 | D31: 3.2
A32: 2100 | B32: Mācību, darba un dienesta komandējumi, dienesta, darba braucieni | C32: 0.00156 | D32: 0.05
A33: 2210 | B33: Izdevumi par sakaru pakalpojumiem | C33: 0.0082 | D33: 0.24
A34: 2222 | B34: Izdevumi par ūdensapgādi un kanalizāciju | C34: 0.00836 | D34: 0.25
A35: 2223 | B35: Izdevumi par elektroenerģiju | C35: 0.06697 | D35: 1.98
A36: 2224 | B36: Izdevumi par atkritumu savākšanu, izvešanu no apdzīvotām vietām un teritorijām ārpus apdzīvotām vietām un atkritumu utilizāciju | C36: 0.00389 | D36: 0.11
A37: 2231 | B37: Izdevumi iestādes sabiedrisko aktivitāšu īstenošanai | C37: 0.00105 | D37: 0.03
A38: 2232 | B38: Izdevumi par profesionālās darbības pakalpojumiem | C38: 0.01469 | D38: 0.43
A39: 2235 | B39: Izdevumi par saņemtajiem mācību pakalpojumiem | C39: 0.00156 | D39: 0.05
A40: 2239 | B40: Pārējie neklasificētie pakalpojumi | C40: 0.00092 | D40: 0.03
A41: 2241 | B41: Ēku, būvju un telpu būvdarbi | C41: 0.00608 | D41: 0.18
... A64: 5250 | B64: Kapitālais remonts un rekonstrukcija | C64: 0.02256 | D64: 0.67
B65: Netiešās izmaksas kopā | C65: =SUM(C30:C64) -> 1 | D65: =SUM(D30:D64) -> 31.18
B66: Pakalpojumu izmaksas kopā | D66: =D28+D65 -> 113
A68: Maksas pakalpojuma vienību skaits noteiktā laikposmā (gab.) | D68: 10
A69: Maksas pakalpojuma izcenojums (euro) | D69: =D66/D68 -> 11.3
A71: Prognozētais maksas pakalpojumu skaits gadā (gab.)*
A72: Prognozētie ieņēmumi gadā (euro)*
A74: Piezīme. *Ailes neaizpilda, ja izvēlētais laikposms ir viens gads.
A76: Aprēķinu sastādīja: SIVA Finanšu nodaļas finanšu ekonomiste E.Lipiņa

Sheet 2.3.1.5.
D1: SASKAŅOTS
B2: Sociālās integrācijas valsts aģentūras
D3: direktore I.Jurševska
D5: 2025. gada jūnijs
A7: Maksas pakalpojuma izcenojuma aprēķins
A9: Sociālās integrācijas valsts aģentūra
A10: Publiskā pakalpojuma veids:
B11: 2. Ārstniecības pakalpojumi
B12: 2.3. Fizikālā terapija
B13: 2.3.1. Aparātprocedūras
B14: 2.3.1.5. FMS (funkcionālā magnētiskā stimulācija), magnētiskais krēsls ar vienu magnētu
A15: Laikposms | B15: 2025.gadā un turpmāk
A16: Izdevumu klasifikācijas kods | B16: Rādītājs (materiāla/izejvielas nosaukums, atlīdzība un citi izmaksu veidi) | D16: Izmaksu apjoms noteiktā laikposmā viena maksas pakalpojuma veida nodrošināšanai
A17: 1 | B17: 2 | D17: 3
B18: Tiešās izmaksas
A19: 1100 | B19: Atalgojums | C19: =[1]FMS!$C$48 -> 2.754491 | D19: 82.63
A20: 1200 | B20: Darba devēja valsts sociālās apdrošināšanas obligātās iemaksas, pabalsti un kompensācijas | C20: =[1]FMS!$C$49 -> 0.64978443 | D20: 19.49
A21: 2223 | B21: Izdevumi par elektroenerģiju | C21: =[1]FMS!$C$50 -> 0.1175 | D21: 3.53
A22: 2243 | B22: Iekārtas, inventāra un aparatūras remonts, tehniskā apkalpošana | C22: 0.088 | D22: 2.64
A23: 2244 | B23: Nekustamā īpašuma uzturēšana | C23: =[1]FMS!$C$60-C22 -> 0.35210751 | D23: 10.56
A24: 2312 | B24: Inventārs | C24: =[1]FMS!$C$58 -> 0.02 | D24: 0.6
A25: 2321 | B25: Kurināmais | C25: =[1]FMS!$C$51 -> 0.047619048 | D25: 1.43
A26: 2341 | B26: Zāles, ķimikālijas, laboratorijas preces | C26: =[1]FMS!$C$59 -> 0.2485 | D26: 7.46
A27: 5220 | B27: Tehnoloģiskās iekārtas un mašīnas | C27: =[1]FMS!$C$53+[1]FMS!$C$54 -> 1.9539018 | D27: 58.62
B28: Tiešās izmaksas kopā | D28: =SUM(D19:D27) -> 186.96
B29: Netiešās izmaksas
A30: 1100 | B30: Atalgojums | C30: 0.45928 | D30: 30.91
A31: 1200 | B31: Darba devēja valsts sociālās apdrošināšanas obligātās iemaksas, pabalsti un kompensācijas | C31: 0.10834 | D31: 7.29
A32: 2100 | B32: Mācību, darba un dienesta komandējumi, dienesta, darba braucieni | C32: 0.00156 | D32: 0.1
A33: 2210 | B33: Izdevumi par sakaru pakalpojumiem | C33: 0.0082 | D33: 0.55
A34: 2222 | B34: Izdevumi par ūdensapgādi un kanalizāciju | C34: 0.00836 | D34: 0.56
A35: 2223 | B35: Izdevumi par elektroenerģiju | C35: 0.06697 | D35: 4.51
A36: 2224 | B36: Izdevumi par atkritumu savākšanu, izvešanu no apdzīvotām vietām un teritorijām ārpus apdzīvotām vietām un atkritumu utilizāciju | C36: 0.00389 | D36: 0.26
A37: 2231 | B37: Izdevumi iestādes sabiedrisko aktivitāšu īstenošanai | C37: 0.00105 | D37: 0.07
A38: 2232 | B38: Izdevumi par profesionālās darbības pakalpojumiem | C38: 0.01469 | D38: 0.99
A39: 2235 | B39: Izdevumi par saņemtajiem mācību pakalpojumiem | C39: 0.00156 | D39: 0.1
A40: 2239 | B40: Pārējie neklasificētie pakalpojumi | C40: 0.00092 | D40: 0.06
A41: 2241 | B41: Ēku, būvju un telpu būvdarbi | C41: 0.00608 | D41: 0.41
... A64: 5250 | B64: Kapitālais remonts un rekonstrukcija | C64: 0.02256 | D64: 1.52
B65: Netiešās izmaksas kopā | C65: =SUM(C30:C64) -> 1 | D65: =SUM(D30:D64) -> 68.04
B66: Pakalpojumu izmaksas kopā | D66: =D28+D65 -> 255
A68: Maksas pakalpojuma vienību skaits noteiktā laikposmā (gab.) | D68: 30
A69: Maksas pakalpojuma izcenojums (euro) | D69: =D66/D68 -> 8.5
A71: Prognozētais maksas pakalpojumu skaits gadā (gab.)*
A72: Prognozētie ieņēmumi gadā (euro)*
A74: Piezīme. *Ailes neaizpilda, ja izvēlētais laikposms ir viens gads.
A76: Aprēķinu sastādīja: SIVA Finanšu nodaļas finanšu ekonomiste E.Lipiņa

Sheet 2.3.2.6.
D1: SASKAŅOTS
D2: Sociālās integrācijas valsts aģentūras
D3: direktore I.Jurševska
D5: 2025. gada
A7: Maksas pakalpojuma izcenojuma aprēķins
A9: Sociālās integrācijas valsts aģentūra
A10: Publiskā pakalpojuma veids:
B11: 2. Ārstniecības pakalpojumi
B12: 2.3. Fizikālā terapija
B13: 2.3.2. Aparātprocedūras
B14: 2.3.2.6. FMS (funkcionālā magnētiskā stimulācija), magnētiskais krēsls ar diviem magnētiem
A15: Laikposms | B15: 2025.gadā un turpmāk
A16: Izdevumu klasifikācijas kods | B16: Rādītājs (materiāla/izejvielas nosaukums, atlīdzība un citi izmaksu veidi) | C16: Izmaksu apjoms noteiktā laikposmā viena maksas pakalpojuma veida nodrošināšanai | D16: Izmaksu apjoms noteiktā laikposmā viena maksas pakalpojuma veida nodrošināšanai
A17: 1 | B17: 2 | C17: 3 | D17: 3
B18: Tiešās izmaksas
A19: 1100 | B19: Atalgojums | C19: =[1]FMS!$C$70 -> 2.754491 | D19: 55.09
A20: 1200 | B20: Darba devēja valsts sociālās apdrošināšanas obligātās iemaksas, pabalsti un kompensācijas | C20: =[1]FMS!$C$71 -> 0.64978443 | D20: 13
A21: 2222 | B21: Izdevumi par ūdensapgādi un kanalizāciju | D21: =C21*20 -> 0
A22: 2223 | B22: Izdevumi par elektroenerģiju | C22: =[1]FMS!$C$72 -> 0.235 | D22: 4.7
A23: 2243 | B23: Iekārtas, inventāra un aparatūras remonts, tehniskā apkalpošana | C23: 0.088 | D23: 1.76
A24: 2244 | B24: Nekustamā īpašuma uzturēšana | C24: =[1]FMS!$C$81-C23 -> 0.35210751 | D24: 7.04
A25: 2312 | B25: Inventārs | C25: =[1]FMS!$C$79 -> 0.02 | D25: 0.4
A26: 2321 | B26: Kurināmais | C26: =[1]FMS!$C$73 -> 0.047619048 | D26: 0.95
A27: 2341 | B27: Zāles, ķimikālijas, laboratorijas preces | C27: =[1]FMS!$C$80 -> 0.2485 | D27: 4.97
A28: 2350 | B28: Iestāžu uzturēšanas materiāli un preces | D28: =C28*20 -> 0
A29: 2361 | B29: Mīkstais inventārs | D29: =C29*20 -> 0
A30: 5220 | B30: Tehnoloģiskās iekārtas un mašīnas | C30: =[1]FMS!$C$75+[1]FMS!$C$76 -> 1.9539018 | D30: 39.08
B31: Tiešās izmaksas kopā | C31: =[1]FMS!$C$82 -> 6.3494038 | D31: =SUM(D19:D30) -> 126.99
B32: Netiešās izmaksas
A33: 1100 | B33: Atalgojums | C33: 0.45928 | D33: 21
A34: 1200 | B34: Darba devēja valsts sociālās apdrošināšanas obligātās iemaksas, pabalsti un kompensācijas | C34: 0.10834 | D34: 4.95
A35: 2100 | B35: Mācību, darba un dienesta komandējumi, dienesta, darba braucieni | C35: 0.00156 | D35: 0.07
A36: 2210 | B36: Izdevumi par sakaru pakalpojumiem | C36: 0.0082 | D36: 0.37
A37: 2222 | B37: Izdevumi par ūdensapgādi un kanalizāciju | C37: 0.00836 | D37: 0.38
A38: 2223 | B38: Izdevumi par elektroenerģiju | C38: 0.06697 | D38: 3.06
A39: 2224 | B39: Izdevumi par atkritumu savākšanu, izvešanu no apdzīvotām vietām un teritorijām ārpus apdzīvotām vietām un atkritumu utilizāciju | C39: 0.00389 | D39: 0.18
A40: 2231 | B40: Izdevumi iestādes sabiedrisko aktivitāšu īstenošanai | C40: 0.00105 | D40: 0.05
A41: 2232 | B41: Izdevumi par profesionālās darbības pakalpojumiem | C41: 0.01469 | D41: 0.67
A42: 2235 | B42: Izdevumi par saņemtajiem mācību pakalpojumiem | C42: 0.00156 | D42: 0.07
A43: 2239 | B43: Pārējie neklasificētie pakalpojumi | C43: 0.00092 | D43: 0.04
A44: 2241 | B44: Ēku, būvju un telpu būvdarbi | C44: 0.00608 | D44: 0.28
... A67: 5250 | B67: Kapitālais remonts un rekonstrukcija | C67: 0.02256 | D67: 1.02
B68: Netiešās izmaksas kopā | C68: =SUM(C33:C67) -> 1 | D68: =SUM(D33:D67) -> 47.01
B69: Pakalpojumu izmaksas kopā | D69: =D31+D68 -> 174
A71: Maksas pakalpojuma vienību skaits noteiktā laikposmā (gab.) | D71: 20
A72: Maksas pakalpojuma izcenojums (euro) | D72: =D69/D71 -> 8.7
A74: Prognozētais maksas pakalpojumu skaits gadā (gab.)*
A75: Prognozētie ieņēmumi gadā (euro)*
A77: Piezīme. *Ailes neaizpilda, ja izvēlētais laikposms ir viens gads.
A79: Aprēķinu sastādīja: SIVA Finanšu nodaļas finanšu ekonomiste E.Lipiņa

Sheet 2.4.7.
C1: SASKAŅOTS | D1: SASKAŅOTS
C2: Sociālās integrācijas valsts aģentūras | D2: Sociālās integrācijas valsts aģentūras
C3: direktore I.Jurševska | D3: direktore I.Jurševska
C5: 2025. gada | D5: 2025. gada jūnijs
A7: Maksas pakalpojuma izcenojuma aprēķins
A9: Sociālās integrācijas valsts aģentūra
A10: Publiskā pakalpojuma veids:
B11: 2. Ārstniecības pakalpojumi
B12: 2.4. Klasiskā masāža
B13: 2.4.7. Visa ķermeņa masāža (6 vienības)
A15: Laikposms | B15: 2025.gadā un turpmāk
A16: Izdevumu klasifikācijas kods | B16: Rādītājs (materiāla/izejvielas nosaukums, atlīdzība un citi izmaksu veidi) | C16: Izmaksu apjoms noteiktā laikposmā viena maksas pakalpojuma veida nodrošināšanai | D16: Izmaksu apjoms noteiktā laikposmā viena maksas pakalpojuma veida nodrošināšanai
A17: 1 | B17: 2 | C17: 3 | D17: 3
B18: Tiešās izmaksas
A19: 1100 | B19: Atalgojums | C19: 92.04 | D19: =C19/5*10 -> 184.08
A20: 1200 | B20: Darba devēja valsts sociālās apdrošināšanas obligātās iemaksas, pabalsti un kompensācijas | C20: 21.71 | D20: =C20/5*10 -> 43.42
A21: 2223 | B21: Izdevumi par elektroenerģiju | C21: 1.97 | D21: =C21/5*10 -> 3.94
A22: 2244 | B22: Nekustamā īpašuma uzturēšana | C22: 3.35 | D22: =C22/5*10 -> 6.7
A23: 2312 | B23: Inventārs | C23: 0.98 | D23: =C23/5*10 -> 1.96
A24: 2321 | B24: Kurināmais | C24: 1.84 | D24: =C24/5*10 -> 3.68
A25: 2341 | B25: Zāles, ķimikālijas, laboratorijas preces | C25: 7.08 | D25: =C25/5*10 -> 14.16
A26: 2350 | B26: Iestāžu uzturēšanas materiāli un preces | C26: 0.19 | D26: =C26/5*10 -> 0.38
A27: 5239 | B27: Pārējie iepriekš neklasificētie pamatlīdzekļi un ieguldījuma īpašumi | C27: 1.41 | D27: =C27/5*10 -> 2.82
B28: Tiešās izmaksas kopā | C28: =SUM(C19:C27) -> 130.57 | D28: =SUM(D19:D27) -> 261.14
B29: Netiešās izmaksas
A30: 1100 | B30: Atalgojums | C30: 22.65 | D30: =C30/5*10 -> 45.3
A31: 1200 | B31: Darba devēja valsts sociālās apdrošināšanas obligātās iemaksas, pabalsti un kompensācijas | C31: 5.34 | D31: =C31/5*10 -> 10.68
A32: 2100 | B32: Mācību, darba un dienesta komandējumi, dienesta, darba braucieni | C32: 0.07 | D32: =C32/5*10 -> 0.14
A33: 2210 | B33: Izdevumi par sakaru pakalpojumiem | C33: 0.37 | D33: =C33/5*10 -> 0.74
A34: 2222 | B34: Izdevumi par ūdensapgādi un kanalizāciju | C34: 0.48 | D34: =C34/5*10 -> 0.96
A35: 2223 | B35: Izdevumi par elektroenerģiju | C35: 4.01 | D35: =C35/5*10 -> 8.02
A36: 2224 | B36: Izdevumi par atkritumu savākšanu, izvešanu no apdzīvotām vietām un teritorijām ārpus apdzīvotām vietām un atkritumu utilizāciju | C36: 0.17 | D36: =C36/5*10 -> 0.34
A37: 2231 | B37: Izdevumi iestādes sabiedrisko aktivitāšu īstenošanai | C37: 0.05 | D37: =C37/5*10 -> 0.1
A38: 2232 | B38: Izdevumi par profesionālās darbības pakalpojumiem | C38: 0.66 | D38: =C38/5*10 -> 1.32
A39: 2235 | B39: Izdevumi par saņemtajiem mācību pakalpojumiem | C39: 0.07 | D39: =C39/5*10 -> 0.14
A40: 2239 | B40: Pārējie neklasificētie pakalpojumi | C40: 0.04 | D40: =C40/5*10 -> 0.08
A41: 2241 | B41: Ēku, būvju un telpu būvdarbi | C41: 0.27 | D41: =C41/5*10 -> 0.54
... A64: 5250 | B64: Kapitālais remonts un rekonstrukcija | C64: 0.89 | D64: =C64/5*10 -> 1.78
B65: Netiešās izmaksas kopā | C65: =SUM(C30:C64) -> 49.43 | D65: =SUM(D30:D64) -> 98.86
B66: Pakalpojumu izmaksas kopā | C66: =C28+C65 -> 180 | D66: =D28+D65 -> 360
A68: Maksas pakalpojuma vienību skaits noteiktā laikposmā (gab.) | C68: 5 | D68: 10
A69: Maksas pakalpojuma izcenojums (euro) | C69: =C66/C68 -> 36 | D69: =D66/D68 -> 36
A71: Prognozētais maksas pakalpojumu skaits gadā (gab.)*
A72: Prognozētie ieņēmumi gadā (euro)*
A74: Piezīme. *Ailes neaizpilda, ja izvēlētais laikposms ir viens gads.
A76: Aprēķinu sastādīja: SIVA Finanšu nodaļas vecākā finanšu ekonomiste Anita Ozoliņa

Sheet 3.2.2.
C1: SASKAŅOTS
C2: Sociālās integrācijas valsts aģentūras
C3: direktore I.Jurševska
C5: 2025.gada jūlijs
A6: Maksas pakalpojuma izcenojuma aprēķins
A8: Sociālās integrācijas valsts aģentūra
A9: Publiskā pakalpojuma veids:
B10: 3. Transportlīdzekļu pielāgošana Slokas iela 61, 2.korpuss, Jūrmala
B11: 3.2. Rokas bremze un akselerators transportlīdzeklim ar automātisko ātrumkārbu, stiprinājums pie grīdas (RBA-2) (personām ar satveršanas problēmām)
B12: 3.2.2. Rokas bremze un akselerators transportlīdzeklim ar automātisko ātrumkārbu, stiprinājums pie grīdas (RBA-2) (personām ar satveršanas problēmām) ar divzaru vai trīszaru palīgroktura izveidi un uzstādīšanu uz stūres rata
A13: Laikposms | B13: 2025.gadā un turpmāk
A15: Izdevumu klasifikācijas kods | B15: Rādītājs (materiāla/izejvielas nosaukums, atlīdzība un citi izmaksu veidi) | C15: Izmaksu apjoms noteiktā laikposmā viena maksas pakalpojuma veida nodrošināšanai
A16: 1 | B16: 2 | C16: 3
B17: Tiešās izmaksas
A18: 1100 | B18: Atalgojums | C18: 527.49
A19: 1200 | B19: Darba devēja valsts sociālās apdrošināšanas obligātās iemaksas, pabalsti un kompensācijas | C19: 124.43
A20: 2350 | B20: Iestāžu uzturēšanas materiāli un preces | C20: 118.2
A21: 2311 | B21: Biroja preces | C21: 0.25
A22: 2312 | B22: Inventārs | C22: =32.65+14.35 -> 47
A23: 2223 | B23: Izdevumi par elektroenerģiju | C23: 20.07
A24: 2222 | B24: Izdevumi par ūdensapgādi un kanalizāciju | C24: 1.37
A25: 5239 | B25: Pārējie iepriekš neklasificētie pamatlīdzekļi un ieguldījuma īpašumi | C25: 14.91
B26: Tiešās izmaksas kopā | C26: =SUM(C18:C25) -> 853.72
B27: Netiešās izmaksas
A28: 1100 | B28: Atalgojums | C28: 109.97
A29: 1200 | B29: Darba devēja valsts sociālās apdrošināšanas obligātās iemaksas, pabalsti un kompensācijas | C29: 25.94
A30: 2210 | B30: Pasta, telefona un citu sakaru pakalpojumi
A31: 2222 | B31: Izdevumi par ūdeni un kanalizāciju
A32: 2223 | B32: Izdevumi par elektroenerģiju
A33: 2230 | B33: Iestādes administratīvie izdevumi un ar iestādes darbības nodrošināšanu saistītie izdevumi
A34: 2242 | B34: Transportlīdzekļu uzturēšana un remonts | C34: =1.6+1.09 -> 2.69
A35: 2243 | B35: Iekārtas, inventāra un aparatūras remonts, tehniskā apkalpošana
A36: 2244 | B36: Nekustamā īpašuma uzturēšana | C36: 18.41
A37: 2247 | B37: Apdrošināšanas izdevumi
A38: 2251 | B38: Informācijas sistēmas uzturēšana
A39: 2261 | B39: Ēku, telpu īre un noma
A40: 2262 | B40: Transportlīdzekļu noma
A41: 2263 | B41: Zemes noma
A42: 2279 | B42: Pārējie iepriekš neklasificētie pakalpojumu veidi
A43: 2311 | B43: Biroja preces
A44: 2312 | B44: Inventārs
A45: 2321 | B45: Kurināmais | C45: 19.29
A46: 2322 | B46: Degviela
A47: 2350 | B47: Kārtējā remonta un iestāžu uzturēšanas materiāli
A48: 2361 | B48: Mīkstais inventārs
A49: 2400 | B49: Izdevumi periodikas iegādei
A50: 2512 | B50: Budžeta iestāžu pievienotās vērtības nodokļa maksājumi 21% | C50: 0
A51: 2513 | B51: Budžeta iestāžu nekustamā īpašuma nodokļa (t.sk. zemes nodokļa parāda) maksājumi budžetā
A52: 2515 | B52: Budžeta iestāžu dabas resursu nodokļa maksājumi
A53: 2519 | B53: Pārējie budžeta iestāžu pārskaitītie nodokļi un nodevas
A54: 5121 | B54: Datorprogrammas
A55: 5232 | B55: Saimniecības pamatlīdzekļi
B56: Netiešās izmaksas kopā | C56: =SUM(C28:C55) -> 176.3
B57: Pakalpojumu izmaksas kopā | C57: =C56+C26 -> 1030.02
A59: Maksas pakalpojuma vienību skaits noteiktā laikposmā (gab.) | C59: 1
A60: Maksas pakalpojuma izcenojums (euro) | C60: =C57/C59 -> 1030.02
A62: Prognozētais maksas pakalpojumu skaits gadā (gab.)*
A63: Prognozētie ieņēmumi gadā (euro)*
A65: Piezīme. *Ailes neaizpilda, ja izvēlētais laikposms ir viens gads.
A67: Aprēķinu sastādīja:SIVA Finanšu nodaļas finanšu ekonomiste E.Lipiņa

Sheet 3.5.2.
C1: SASKAŅOTS | D1: SASKAŅOTS
C2: Sociālās integrācijas valsts aģentūras | D2: Sociālās integrācijas valsts aģentūras
C3: direktore I.Jurševska | D3: direktora p.i. I.Misūna
D4: (amats) (vārds, uzvārds) (paraksts)
C5: 2025.gada jūlijs | D5: 2017.gada xxxxxxxxxx
A6: Maksas pakalpojuma izcenojuma aprēķins
A8: Sociālās integrācijas valsts aģentūra
A9: Publiskā pakalpojuma veids:
B10: 3. Transportlīdzekļu pielāgošana Slokas iela 61, 2.korpuss, Jūrmala
B11: 3.5. Rokas bremze un akselerators transportlīdzeklim ar mehānisko ātrumkārbu, stiprinājums pie grīdas (RBA-5) (personām ar satveršanas problēmām)
B12: 3.5.2. Rokas bremze un akselerators transportlīdzeklim ar mehānisko ātrumkārbu, stiprinājums pie grīdas (RBA-5) (personām ar satveršanas problēmām) ar divzaru vai trīszaru palīgroktura izveidi un uzstādīšanu uz stūres rata
A13: Laikposms | B13: 2025.gadā un turpmāk
A15: Izdevumu klasifikācijas kods | B15: Rādītājs (materiāla/izejvielas nosaukums, atlīdzība un citi izmaksu veidi) | C15: Izmaksu apjoms noteiktā laikposmā viena maksas pakalpojuma veida nodrošināšanai | D15: Izmaksu apjoms viena maksas pakalpojuma nodrošināšanai
A16: 1 | B16: 2 | C16: 3 | D16: 3
B17: Tiešās izmaksas
A18: 1100 | B18: Atalgojums | C18: 527.49 | D18: 405.21
A19: 1200 | B19: Darba devēja valsts sociālās apdrošināšanas obligātās iemaksas, pabalsti un kompensācijas | C19: 124.43 | D19: 95.59
A20: 2350 | B20: Iestāžu uzturēšanas materiāli un preces | C20: 117.27 | D20: 69.61
A21: 2311 | B21: Biroja preces | C21: 0.25 | D21: 0.25
A22: 2312 | B22: Inventārs | C22: 47 | D22: 3.3
A23: 2223 | B23: Izdevumi par elektroenerģiju | C23: 20.07 | D23: 16.47
A24: 2222 | B24: Izdevumi par ūdensapgādi un kanalizāciju | C24: 1.37 | D24: 0.94
A25: 5239 | B25: Pārējie iepriekš neklasificētie pamatlīdzekļi un ieguldījuma īpašumi | C25: 14.91 | D25: 1.65
B26: Tiešās izmaksas kopā | C26: =SUM(C18:C25) -> 852.79 | D26: =SUM(D18:D25) -> 593.02
B27: Netiešās izmaksas
A28: 1100 | B28: Atalgojums | C28: 109.97 | D28: 96.9
A29: 1200 | B29: Darba devēja valsts sociālās apdrošināšanas obligātās iemaksas, pabalsti un kompensācijas | C29: 25.94 | D29: 22.86
A30: 2210 | B30: Pasta, telefona un citu sakaru pakalpojumi
A31: 2222 | B31: Izdevumi par ūdeni un kanalizāciju
A32: 2223 | B32: Izdevumi par elektroenerģiju | D32: 16.47
A33: 2230 | B33: Iestādes administratīvie izdevumi un ar iestādes darbības nodrošināšanu saistītie izdevumi | D33: =C33/5 -> 0
A34: 2242 | B34: Transportlīdzekļu uzturēšana un remonts | C34: 2.69 | D34: 1
A35: 2243 | B35: Iekārtas, inventāra un aparatūras remonts, tehniskā apkalpošana | D35: =32.98-3.3-1.65 -> 28.03
A36: 2244 | B36: Nekustamā īpašuma uzturēšana | C36: 18.41 | D36: 34.51
A37: 2247 | B37: Apdrošināšanas izdevumi | D37: =C37/5 -> 0
A38: 2251 | B38: Informācijas sistēmas uzturēšana | D38: =C38/5 -> 0
A39: 2261 | B39: Ēku, telpu īre un noma | D39: =C39/5 -> 0
A40: 2262 | B40: Transportlīdzekļu noma | D40: =C40/5 -> 0
A41: 2263 | B41: Zemes noma | D41: =C41/5 -> 0
A42: 2279 | B42: Pārējie iepriekš neklasificētie pakalpojumu veidi | D42: =C42/5 -> 0
A43: 2311 | B43: Biroja preces | D43: =C43/5 -> 0
A44: 2312 | B44: Inventārs | D44: =C44/5 -> 0
A45: 2321 | B45: Kurināmais | C45: 19.29 | D45: 46.77
A46: 2322 | B46: Degviela | D46: =C46/5 -> 0
A47: 2350 | B47: Kārtējā remonta un iestāžu uzturēšanas materiāli | D47: =C47/5 -> 0
A48: 2361 | B48: Mīkstais inventārs | D48: =C48/5 -> 0
A49: 2400 | B49: Izdevumi periodikas iegādei | D49: =C49/5 -> 0
A50: 2512 | B50: Budžeta iestāžu pievienotās vērtības nodokļa maksājumi 21% | C50: 0 | D50: 176.53
A51: 2513 | B51: Budžeta iestāžu nekustamā īpašuma nodokļa (t.sk. zemes nodokļa parāda) maksājumi budžetā
A52: 2515 | B52: Budžeta iestāžu dabas resursu nodokļa maksājumi
A53: 2519 | B53: Pārējie budžeta iestāžu pārskaitītie nodokļi un nodevas
A54: 5121 | B54: Datorprogrammas
A55: 5232 | B55: Saimniecības pamatlīdzekļi
B56: Netiešās izmaksas kopā | C56: =SUM(C28:C55) -> 176.3 | D56: =SUM(D28:D55) -> 423.07
B57: Pakalpojumu izmaksas kopā | C57: =C56+C26 -> 1029.09 | D57: =D56+D26 -> 1016.09
A59: Maksas pakalpojuma vienību skaits noteiktā laikposmā (gab.) | C59: 1
A60: Maksas pakalpojuma izcenojums (euro) | C60: =C57/C59 -> 1029.09
A62: Prognozētais maksas pakalpojumu skaits gadā (gab.)*
A63: Prognozētie ieņēmumi gadā (euro)*
A65: Piezīme. *Ailes neaizpilda, ja izvēlētais laikposms ir viens gads.
A67: Aprēķinu sastādīja:SIVA Finanšu nodaļas finanšu ekonomiste E.Lipiņa

Sheet 3.11.2.
C1: SASKAŅOTS
C2: Sociālās integrācijas valsts aģentūras
C3: direktore I.Jurševska
C5: 2025.gada jūlijs
A6: Maksas pakalpojuma izcenojuma aprēķins
A8: Sociālās integrācijas valsts aģentūra
A9: Publiskā pakalpojuma veids:
B10: 3. Transportlīdzekļu pielāgošana Slokas iela 61, 2.korpuss, Jūrmala
B11: 3.11. Palīgroktura uzstādīšana uz stūres rata (PR)
B12: 3.11.2. Divzaru vai trīszaru palīgroktura izveide un uzstādīšana uz stūres rata
A13: Laikposms | B13: 2025.gadā un turpmāk
A15: Izdevumu klasifikācijas kods | B15: Rādītājs (materiāla/izejvielas nosaukums, atlīdzība un citi izmaksu veidi) | C15: Izmaksu apjoms noteiktā laikposmā viena maksas pakalpojuma veida nodrošināšanai
A16: 1 | B16: 2 | C16: 3
B17: Tiešās izmaksas
A18: 1100 | B18: Atalgojums | C18: 107.77
A19: 1200 | B19: Darba devēja valsts sociālās apdrošināšanas obligātās iemaksas, pabalsti un kompensācijas | C19: 25.43
A20: 2350 | B20: Iestāžu uzturēšanas materiāli un preces | C20: 54.21
A21: 2311 | B21: Biroja preces | C21: 0.25
A22: 2312 | B22: Inventārs | C22: =0 -> 0
A23: 2223 | B23: Izdevumi par elektroenerģiju | C23: 6.75
A24: 2222 | B24: Izdevumi par ūdensapgādi un kanalizāciju | C24: 0
A25: 5239 | B25: Pārējie iepriekš neklasificētie pamatlīdzekļi un ieguldījuma īpašumi | C25: 2.36
B26: Tiešās izmaksas kopā | C26: =SUM(C18:C25) -> 196.77
B27: Netiešās izmaksas
A28: 1100 | B28: Atalgojums | C28: 6.91
A29: 1200 | B29: Darba devēja valsts sociālās apdrošināšanas obligātās iemaksas, pabalsti un kompensācijas | C29: 1.63
A30: 2210 | B30: Pasta, telefona un citu sakaru pakalpojumi
A31: 2222 | B31: Izdevumi par ūdeni un kanalizāciju
A32: 2223 | B32: Izdevumi par elektroenerģiju
A33: 2230 | B33: Iestādes administratīvie izdevumi un ar iestādes darbības nodrošināšanu saistītie izdevumi
A34: 2242 | B34: Transportlīdzekļu uzturēšana un remonts | C34: 0.24
A35: 2243 | B35: Iekārtas, inventāra un aparatūras remonts, tehniskā apkalpošana
A36: 2244 | B36: Nekustamā īpašuma uzturēšana | C36: 4.03
A37: 2247 | B37: Apdrošināšanas izdevumi
A38: 2251 | B38: Informācijas sistēmas uzturēšana
A39: 2261 | B39: Ēku, telpu īre un noma
A40: 2262 | B40: Transportlīdzekļu noma
A41: 2263 | B41: Zemes noma
A42: 2279 | B42: Pārējie iepriekš neklasificētie pakalpojumu veidi
A43: 2311 | B43: Biroja preces
A44: 2312 | B44: Inventārs
A45: 2321 | B45: Kurināmais | C45: 8.08
A46: 2322 | B46: Degviela | C46: 0
A47: 2350 | B47: Kārtējā remonta un iestāžu uzturēšanas materiāli
A48: 2361 | B48: Mīkstais inventārs
A49: 2400 | B49: Izdevumi periodikas iegādei
A50: 2512 | B50: Budžeta iestāžu pievienotās vērtības nodokļa maksājumi 21% | C50: 0
A51: 2513 | B51: Budžeta iestāžu nekustamā īpašuma nodokļa (t.sk. zemes nodokļa parāda) maksājumi budžetā
A52: 2515 | B52: Budžeta iestāžu dabas resursu nodokļa maksājumi
A53: 2519 | B53: Pārējie budžeta iestāžu pārskaitītie nodokļi un nodevas
A56: 5239 | B56: Pārējie iepriekš neklasificētie pamatlīdzekļi un ieguldījuma īpašumi | C56: 0.15
B57: Netiešās izmaksas kopā | C57: =SUM(C28:C56) -> 21.04
B58: Pakalpojumu izmaksas kopā | C58: =C57+C26 -> 217.81
A60: Maksas pakalpojuma vienību skaits noteiktā laikposmā (gab.) | C60: 1
A61: Maksas pakalpojuma izcenojums (euro) | C61: =C58/C60 -> 217.81
A63: Prognozētais maksas pakalpojumu skaits gadā (gab.)*
A64: Prognozētie ieņēmumi gadā (euro)*
A66: Piezīme. *Ailes neaizpilda, ja izvēlētais laikposms ir viens gads.
A68: Aprēķinu sastādīja:SIVA Finanšu nodaļas finanšu ekonomiste E.Lipiņa

Sheet 4.4.1.
C1: SASKAŅOTS | E1: SASKAŅOTS | F1: SASKAŅOTS | G1: SASKAŅOTS
C2: Sociālās integrācijas valsts aģentūras | E2: Sociālās integrācijas valsts aģentūras | F2: Sociālās integrācijas valsts aģentūras | G2: Sociālās integrācijas valsts aģentūras
C3: direktore I.Jurševska | E3: direktore I.Jurševska | F3: direktore I.Jurševska | G3: direktore I.Jurševska
C5: 2017. gada .novembrī | E5: 2022. gada | F5: 2023. gada 29. martā | G5: 2025. gada jūnijs
A7: Maksas pakalpojuma izcenojuma aprēķins
A9: Sociālās integrācijas valsts aģentūra
A10: Publiskā pakalpojuma veids:
B11: 4. Viesu izmitināšana
B12: 4.4. Viesu izmitināšana - Dubultu prospekts 59, Jūrmala, 1. stāvs
B13: 4.4.1. Dubultu prospektā 59, Jūrmalā, četrvietīgs numurs
A14: Laikposms | B14: 2025.gadā un turpmāk
A15: Izdevumu klasifikācijas kods | B15: Rādītājs (materiāla/izejvielas nosaukums, atlīdzība un citi izmaksu veidi) | C15: Izmaksu apjoms noteiktā laikposmā viena maksas pakalpojuma veida nodrošināšanai | E15: Izmaksu apjoms noteiktā laikposmā viena maksas pakalpojuma veida nodrošināšanai | F15: Izmaksu apjoms noteiktā laikposmā viena maksas pakalpojuma veida nodrošināšanai | G15: Izmaksu apjoms noteiktā laikposmā viena maksas pakalpojuma veida nodrošināšanai
A16: 1 | B16: 2 | C16: 3 | E16: 3 | F16: 3 | G16: 3
B17: Tiešās izmaksas
A18: 1100 | B18: Atalgojums | C18: 3034.7 | E18: 1086.77 | F18: =E18/100*200 -> 2173.54 | G18: =F18/200*110 -> 1195.447
A19: 1200 | B19: Darba devēja valsts sociālās apdrošināšanas obligātās iemaksas, pabalsti un kompensācijas | C19: 715.87 | E19: 256.37 | F19: =E19/100*200 -> 512.74 | G19: =F19/200*110 -> 282.007
A20: 2210 | B20: Izdevumi par sakaru pakalpojumiem | C20: 153.78 | E20: 46.6 | F20: =E20/100*200 -> 93.2 | G20: =F20/200*110 -> 51.26
A21: 2222 | B21: Izdevumi par ūdensapgādi un kanalizāciju | C21: 2549.57 | E21: 772.65 | F21: =E21/100*200 -> 1545.3 | G21: =F21/200*110 -> 849.915
A22: 2223 | B22: Izdevumi par elektroenerģiju | C22: 1184.2 | E22: 1480.25 | F22: =E22/100*200 -> 2960.5 | G22: =F22/200*110 -> 1628.275
A23: 2243 | B23: Iekārtas, inventāra un aparatūras remonts, tehniskā apkalpošana | C23: 141.49 | E23: 42.88 | F23: =E23/100*200 -> 85.76 | G23: =F23/200*110 -> 47.168
A24: 2244 | B24: Nekustamā īpašuma uzturēšana | C24: 3095.49 | E24: =1183.4 -> 1183.4 | F24: =E24/100*200 -> 2366.8 | G24: =F24/200*110 -> 1301.74
A25: 2250 | B25: Informācijas tehnoloģiju pakalpojumi | C25: 0 | E25: =C25/330*200 -> 0 | G25: =F25/200*110 -> 0
A26: 2263 | B26: Zemes noma | C26: 1311.76 | E26: 552.53 | F26: =E26/100*200 -> 1105.06 | G26: 968.3
A27: 2311 | B27: Biroja preces | G27: =F27/200*110 -> 0
A28: 2312 | B28: Inventārs | C28: 391.92 | E28: 118.76 | F28: =E28/100*200 -> 237.52 | G28: =F28/200*110 -> 130.636
A29: 2321 | B29: Kurināmais | C29: 5398.86 | E29: 1363.22 | F29: =E29/100*200 -> 2726.44 | G29: =F29/200*110 -> 1499.542
A30: 2350 | B30: Iestāžu uzturēšanas materiāli un preces | C30: 327.51 | E30: 99.28 | F30: =E30/100*200 -> 198.56 | G30: =F30/200*110 -> 109.208
A31: 2361 | B31: Mīkstais inventārs | C31: 274.92 | E31: 83.39 | F31: =E31/100*200 -> 166.78 | G31: =F31/200*110 -> 91.729
A32: 2362 | B32: Virtuves inventārs, trauki un galda piederumi | G32: =F32/200*110 -> 0
A33: 2363 | B33: Ēdināšanas izdevumi | G33: =F33/200*110 -> 0
A34: 2513 | B34: Budžeta iestāžu nekustamā īpašuma nodokļa maksājumi | C34: 617.46 | E34: 187.11 | F34: =E34/100*200 -> 374.22 | G34: 474.93
A35: 2519 | B35: Pārējie budžeta iestāžu pārskaitītie nodokļi un nodevas | C35: 437.23 | E35: 132.49 | F35: =E35/100*200 -> 264.98 | G35: 71.08
A36: 5239 | B36: Pārējie iepriekš neklasificētie pamatlīdzekļi un ieguldījuma īpašumi | G36: 277.52
B37: Tiešās izmaksas kopā | C37: =SUM(C18:C35) -> 19634.76 | E37: =SUM(E18:E35) -> 7405.7 | F37: =SUM(F18:F35) -> 14811.4 | G37: 8978.78
B38: Netiešās izmaksas
A39: 1100 | B39: Atalgojums | C39: 2930.86 | E39: 1049.53 | F39: =E39/100*200 -> 2099.06 | G39: =F39/200*110 -> 1154.483
A40: 1200 | B40: Darba devēja valsts sociālās apdrošināšanas obligātās iemaksas, pabalsti un kompensācijas | C40: 691.39 | E40: 247.58 | F40: =E40/100*200 -> 495.16 | G40: =F40/200*110 -> 272.338
A41: 2100 | B41: Mācību, darba un dienesta komandējumi, dienesta, darba braucieni | G41: =F41/200*110 -> 0
A42: 2210 | B42: Izdevumi par sakaru pakalpojumiem | C42: 28.33 | E42: 8.58 | F42: =E42/100*200 -> 17.16 | G42: 0
A43: 2222 | B43: Izdevumi par ūdensapgādi un kanalizāciju | G43: =F43/200*110 -> 0
A44: 2223 | B44: Izdevumi par elektroenerģiju | G44: =9.44/2+0.08 -> 4.8
A45: 2224 | B45: Izdevumi par atkritumu savākšanu, izvešanu no apdzīvotām vietām un teritorijām ārpus apdzīvotām vietām un atkritumu utilizāciju | D45: 0.243 - 4vv | E45: 24.3 | F45: =E45/100*200 -> 48.6 | G45: =F45/200*110 -> 26.73
A46: 2231 | B46: Izdevumi iestādes sabiedrisko aktivitāšu īstenošanai | G46: =F46/200*110 -> 0
A47: 2235 | B47: Izdevumi par saņemtajiem mācību pakalpojumiem | G47: =F47/200*110 -> 0
A48: 2239 | B48: Pārējie neklasificētie pakalpojumi | C48: 35.14 | E48: 10.65 | F48: =E48/100*200 -> 21.3 | G48: =F48/200*110 -> 11.715
A49: 2241 | B49: Ēku, būvju un telpu būvdarbi | C49: 7.36 | E49: =2.23+175.87 -> 178.1 | F49: =E49/100*200 -> 356.2 | G49: =F49/200*110 -> 195.91
A50: 2242 | B50: Transportlīdzekļu uzturēšana un remonts | C50: 28.64 | E50: 8.68 | F50: =E50/100*200 -> 17.36 | G50: =F50/200*110 -> 9.548
A51: 2243 | B51: Iekārtas, inventāra un aparatūras remonts, tehniskā apkalpošana | C51: 28.09 | E51: =8.51+1.97 -> 10.48 | F51: =E51/100*200 -> 20.96 | G51: =F51/200*110 -> 11.528
A52: 2244 | B52: Nekustamā īpašuma uzturēšana | C52: 5.95 | E52: =2.47+18.79+0.25 -> 21.51 | F52: =E52/100*200 -> 43.02 | G52: =F52/200*110 -> 23.661
A53: 2247 | G53: =F53/200*110 -> 0
A54: 2249 | B54: Pārējie remontdarbu un iestāžu uzturēšanas pakalpojumi | C54: 7.51 | E54: =2.28 -> 2.28 | F54: =E54/100*200 -> 4.56 | G54: =F54/200*110 -> 2.508
A55: 2250 | B55: Informācijas tehnoloģiju pakalpojumi | C55: 64.95 | E55: =19.68+0.28 -> 19.96 | F55: =E55/100*200 -> 39.92 | G55: =F55/200*110 -> 21.956
A56: 2262 | B56: Transportlīdzekļu noma | C56: 68.32 | E56: 20.7 | F56: =E56/100*200 -> 41.4 | G56: =F56/200*110 -> 22.77
A57: 2263 | B57: Zemes noma | G57: =F57/200*110 -> 0
A58: 2264 | B58: Iekārtu un inventāra īre un noma | C58: 0.63 | E58: 0.2 | F58: =E58/100*200 -> 0.4 | G58: =F58/200*110 -> 0.22
A59: 2311 | B59: Biroja preces | C59: 37.33 | E59: 11.31 | F59: =E59/100*200 -> 22.62 | G59: =F59/200*110 -> 12.441
A60: 2312 | B60: Inventārs | C60: 8.45 | F60: =E60/100*200 -> 0 | G60: =F60/200*110 -> 0
A61: 2314 | B61: Izdevumi par precēm iestādes sabiedrisko aktivitāšu īstenošanai | G61: =F61/200*110 -> 0
A62: 2321 | B62: Kurināmais | G62: =9.44/2+0.09 -> 4.81
A63: 2322 | B63: Degviela | C63: 174.59 | E63: 63.49 | F63: =E63/100*200 -> 126.98 | G63: =F63/200*110 -> 69.839
A64: 2341 | B64: Zāles, ķimikālijas, laboratorijas preces | G64: =F64/200*110 -> 0
A65: 2350 | B65: Iestāžu uzturēšanas materiāli un preces | C65: 174.28 | E65: =52.81+0.28 -> 53.09 | F65: =E65/100*200 -> 106.18 | G65: =F65/200*110 -> 58.399
A66: 2513 | B66: Budžeta iestāžu nekustamā īpašuma nodokļa maksājumi | G66: =F66/200*110 -> 0
A67: 2515 | B67: Budžeta iestāžu dabas resursu nodokļa maksājumi | C67: 11.97 | E67: 3.63 | F67: =E67/100*200 -> 7.26 | G67: 28.21
A68: 2519 | B68: Pārējie budžeta iestāžu pārskaitītie nodokļi un nodevas | C68: 0.55 | E68: 0.17 | F68: =E68/100*200 -> 0.34 | G68: 0.19
A69: 5220 | B69: Tehnoloģiskās iekārtas un mašīnas | G69: =F69/200*110 -> 0
A70: 5238 | B70: Datortehnika, sakaru un cita biroja tehnika | C70: 480.39 | E70: 25.3 | F70: =E70/100*200 -> 50.6 | G70: =F70/200*110 -> 27.83
A71: 5239 | B71: Pārējie iepriekš neklasificētie pamatlīdzekļi un ieguldījuma īpašumi | C71: 84.36 | E71: 142.15 | F71: =E71/100*200 -> 284.3 | G71: =F71/200*110 -> 156.365
A72: 5250 | B72: Kapitālais remonts un rekonstrukcija | C72: 337.53 | E72: 106.61 | F72: =E72/100*200 -> 213.22 | G72: =F72/200*110 -> 117.271
B73: Netiešās izmaksas kopā | C73: =SUM(C39:C72) -> 5206.62 | E73: =SUM(E39:E72) -> 2008.3 | F73: =SUM(F39:F72) -> 4016.6 | G73: 2233.52
B74: Pakalpojumu izmaksas kopā | C74: =C73+C37 -> 24841.38 | E74: =E73+E37 -> 9414 | F74: =F73+F37 -> 18828 | G74: =G73+G37 -> 11212.3
A76: Maksas pakalpojuma vienību skaits noteiktā laikposmā | C76: 330 | E76: 100 | F76: 200 | G76: 110
A77: Maksas pakalpojuma izcenojums (euro) | C77: =C74/C76 -> 75.276909 | E77: =E74/E76 -> 94.14 | F77: =F74/F76 -> 94.14 | G77: =G74/G76 -> 101.93
A79: Prognozētais maksas pakalpojumu skaits gadā (gab.)*
A80: Prognozētie ieņēmumi gadā (euro)*
A82: Piezīme. *Ailes neaizpilda, ja izvēlētais laikposms ir viens gads.
A84: Aprēķinu sastādīja: SIVA Finanšu nodaļas finanšu ekonomiste E.Lipiņa

Sheet 4.4.2.
D1: SASKAŅOTS | E1: SASKAŅOTS
D2: Sociālās integrācijas valsts aģentūras | E2: Sociālās integrācijas valsts aģentūras
D3: direktore I.Jurševska | E3: direktore I.Jurševska
D5: 2023. gada 29. martā | E5: 2025. gada jūnijs
A7: Maksas pakalpojuma izcenojuma aprēķins
A9: Sociālās integrācijas valsts aģentūra
A10: Publiskā pakalpojuma veids:
B11: 4. Viesu izmitināšana
B12: 4.4. Viesu izmitināšana - Dubultu prospekts 59, Jūrmala, 1. stāvs
B13: 4.4.2. Dubultu prospektā 59, Jūrmalā, astoņvietīgs numurs
A14: Laikposms | B14: 2025.gadā un turpmāk
A15: Izdevumu klasifikācijas kods | B15: Rādītājs (materiāla/izejvielas nosaukums, atlīdzība un citi izmaksu veidi) | D15: Izmaksu apjoms noteiktā laikposmā viena maksas pakalpojuma veida nodrošināšanai | E15: Izmaksu apjoms noteiktā laikposmā viena maksas pakalpojuma veida nodrošināšanai
A16: 1 | B16: 2 | D16: 3 | E16: 3
B17: Tiešās izmaksas
A18: 1100 | B18: Atalgojums | D18: 315.42 | E18: 315.42
A19: 1200 | B19: Darba devēja valsts sociālās apdrošināšanas obligātās iemaksas, pabalsti un kompensācijas | D19: 74.41 | E19: 74.41
A20: 2210 | B20: Izdevumi par sakaru pakalpojumiem | D20: 15.55 | E20: 15.55
A21: 2222 | B21: Izdevumi par ūdensapgādi un kanalizāciju | D21: 355.42 | E21: 355.42
A22: 2223 | B22: Izdevumi par elektroenerģiju | D22: 816.03 | E22: 816.03
A23: 2243 | B23: Iekārtas, inventāra un aparatūras remonts, tehniskā apkalpošana | D23: 17.15 | E23: 17.15
A24: 2244 | B24: Nekustamā īpašuma uzturēšana | D24: 236.6 | E24: 236.6
A25: 2250 | B25: Informācijas tehnoloģiju pakalpojumi
A26: 2263 | B26: Zemes noma | D26: 127.08 | E26: ='4.4.1.'!G26/110/80*95*20 -> 209.06477
A27: 2311 | B27: Biroja preces
A28: 2312 | B28: Inventārs | D28: 54.63 | E28: 54.63
A29: 2321 | B29: Kurināmais | D29: 751.51 | E29: 751.51
A30: 2350 | B30: Iestāžu uzturēšanas materiāli un preces | D30: 45.67 | E30: 45.67
A31: 2361 | B31: Mīkstais inventārs | D31: 66.71 | E31: 66.71
A32: 2362 | B32: Virtuves inventārs, trauki un galda piederumi
A33: 2363 | B33: Ēdināšanas izdevumi
A34: 2513 | B34: Budžeta iestāžu nekustamā īpašuma nodokļa maksājumi | D34: 43.04 | E34: ='4.4.1.'!G34/110/80*95*20 -> 102.5417
A35: 2519 | B35: Pārējie budžeta iestāžu pārskaitītie nodokļi un nodevas | D35: 30.48 | E35: ='4.4.1.'!G35/110/80*95*20 -> 15.346818
A36: 5239 | B36: Pārējie iepriekš neklasificētie pamatlīdzekļi un ieguldījuma īpašumi | E36: 59.92
B37: Tiešās izmaksas kopā | D37: =SUM(D18:D35) -> 2949.7 | E37: =SUM(E18:E36) -> 3135.9733
B38: Netiešās izmaksas
A39: 1100 | B39: Atalgojums | C39: 0.50648 | D39: 345.76 | E39: 345.76
A40: 1200 | B40: Darba devēja valsts sociālās apdrošināšanas obligātās iemaksas, pabalsti un kompensācijas | C40: =C39*0.2359 -> 0.11947863 | D40: 81.56 | E40: 81.56
A41: 2100 | B41: Mācību, darba un dienesta komandējumi, dienesta, darba braucieni
A42: 2210 | B42: Izdevumi par sakaru pakalpojumiem | C42: 0.00468 | D42: 2.83 | E42: 0
A43: 2222 | B43: Izdevumi par ūdensapgādi un kanalizāciju
A44: 2223 | B44: Izdevumi par elektroenerģiju | E44: 1.42
A45: 2224 | B45: Izdevumi par atkritumu savākšanu, izvešanu no apdzīvotām vietām un teritorijām ārpus apdzīvotām vietām un atkritumu utilizāciju | C45: 0.243 | D45: 9.72 | E45: 9.72
A46: 2231 | B46: Izdevumi iestādes sabiedrisko aktivitāšu īstenošanai
A47: 2235 | B47: Izdevumi par saņemtajiem mācību pakalpojumiem
A48: 2239 | B48: Pārējie neklasificētie pakalpojumi | C48: 0.00581 | D48: 3.51 | E48: 3.51
A49: 2241 | B49: Ēku, būvju un telpu būvdarbi | C49: 0.09712 | D49: 58.67 | E49: 58.67
A50: 2242 | B50: Transportlīdzekļu uzturēšana un remonts | C50: 0.00473 | D50: 2.86 | E50: 2.86
A51: 2243 | B51: Iekārtas, inventāra un aparatūras remonts, tehniskā apkalpošana | C51: =0.00571+0.03045 -> 0.03616 | D51: 21.85 | E51: 21.85
A52: 2244 | B52: Nekustamā īpašuma uzturēšana | C52: 0.00135 | D52: =0.82+6.19 -> 7.01 | E52: =0.82+6.19 -> 7.01
A53: 2247
A54: 2249 | B54: Pārējie remontdarbu un iestāžu uzturēšanas pakalpojumi | C54: 0.00124 | D54: 0.75 | E54: 0.75
A55: 2250 | B55: Informācijas tehnoloģiju pakalpojumi | C55: 0.01088 | D55: 6.57 | E55: 6.57
A56: 2262 | B56: Transportlīdzekļu noma | C56: 0.01129 | D56: 6.82 | E56: 6.82
A57: 2263 | B57: Zemes noma
A58: 2264 | B58: Iekārtu un inventāra īre un noma | C58: 0.00011 | D58: 0.07 | E58: 0.07
A59: 2311 | B59: Biroja preces | C59: 0.00617 | D59: 3.72 | E59: 3.72
A60: 2312 | B60: Inventārs | C60: 0.01025 | D60: 0 | E60: 0
A61: 2314 | B61: Izdevumi par precēm iestādes sabiedrisko aktivitāšu īstenošanai
A62: 2321 | B62: Kurināmais | E62: =2.83/2+0.04 -> 1.455
A63: 2322 | B63: Degviela | C63: 0.0042 | D63: 3.67 | E63: 3.67
A64: 2341 | B64: Zāles, ķimikālijas, laboratorijas preces
A65: 2350 | B65: Iestāžu uzturēšanas materiāli un preces | C65: 0.02895 | D65: 17.44 | E65: 17.44
A66: 2513 | B66: Budžeta iestāžu nekustamā īpašuma nodokļa maksājumi
A67: 2515 | B67: Budžeta iestāžu dabas resursu nodokļa maksājumi | C67: 0.002 | D67: 1.21 | E67: ='4.4.1.'!G67/110/80*95*20 -> 6.0907955
A68: 2519 | B68: Pārējie budžeta iestāžu pārskaitītie nodokļi un nodevas | C68: 0.0001 | D68: 0.06 | E68: 0.06
A69: 5220 | B69: Tehnoloģiskās iekārtas un mašīnas
A70: 5238 | B70: Datortehnika, sakaru un cita biroja tehnika | C70: 0.0134 | D70: 8.1 | E70: 8.1
A71: 5239 | B71: Pārējie iepriekš neklasificētie pamatlīdzekļi un ieguldījuma īpašumi | C71: 0.0775 | D71: 46.82 | E71: 46.82
A72: 5250 | B72: Kapitālais remonts un rekonstrukcija | C72: 0.0581 | D72: 35.1 | E72: 35.1
B73: Netiešās izmaksas kopā | C73: =SUM(C39:C72) -> 1.2429986 | D73: =SUM(D39:D72) -> 664.1 | E73: =SUM(E39:E72) -> 669.0258
B74: Pakalpojumu izmaksas kopā | D74: =D37+D73 -> 3613.8 | E74: =E37+E73 -> 3804.9991
A76: Maksas pakalpojuma vienību skaits noteiktā laikposmā | D76: 20 | E76: 20
A77: Maksas pakalpojuma izcenojums (euro) | D77: =D74/D76 -> 180.69 | E77: =E74/E76 -> 190.24995
A79: Prognozētais maksas pakalpojumu skaits gadā (gab.)*
A80: Prognozētie ieņēmumi gadā (euro)*
A82: Piezīme. *Ailes neaizpilda, ja izvēlētais laikposms ir viens gads.
A84: Aprēķinu sastādīja: SIVA Finanšu nodaļas finanšu ekonomiste E.Lipiņa

Sheet 4.5.1.
C1: SASKAŅOTS | D1: SASKAŅOTS | E1: SASKAŅOTS | F1: SASKAŅOTS | G1: SASKAŅOTS
C2: Sociālās integrācijas valsts aģentūras | D2: Sociālās integrācijas valsts aģentūras | E2: Sociālās integrācijas valsts aģentūras | F2: Sociālās integrācijas valsts aģentūras | G2: Sociālās integrācijas valsts aģentūras
C3: direktore I.Jurševska | D3: direktore I.Jurševska | E3: direktore I.Jurševska | F3: direktore I.Jurševska | G3: direktore I.Jurševska
C5: 2017. gada .novembrī | D5: 2023. gada | E5: 2023. gada 29. martā | F5: 2025. gada | G5: 2025. gada jūnijs
A7: Maksas pakalpojuma izcenojuma aprēķins
A9: Sociālās integrācijas valsts aģentūra
A10: Publiskā pakalpojuma veids:
B11: 4. Viesu izmitināšana
B12: 4.5.. Viesu izmitināšana - Dubultu prospekts 59, Jūrmala, 2. stāvs
B13: 4.5.1. Dubultu prospektā 59, Jūrmalā, četrvietīgs numurs
A14: Laikposms | B14: ='4.4.2.'!B14 -> 2025.gadā un turpmāk
A15: Izdevumu klasifikācijas kods | B15: Rādītājs (materiāla/izejvielas nosaukums, atlīdzība un citi izmaksu veidi) | C15: Izmaksu apjoms noteiktā laikposmā viena maksas pakalpojuma veida nodrošināšanai | D15: Izmaksu apjoms noteiktā laikposmā viena maksas pakalpojuma veida nodrošināšanai | E15: Izmaksu apjoms noteiktā laikposmā viena maksas pakalpojuma veida nodrošināšanai | F15: Izmaksu apjoms noteiktā laikposmā viena maksas pakalpojuma veida nodrošināšanai | G15: Izmaksu apjoms noteiktā laikposmā viena maksas pakalpojuma veida nodrošināšanai
A16: 1 | B16: 2 | C16: 4 | D16: 3 | E16: 3 | F16: 3 | G16: 3
B17: Tiešās izmaksas
A18: 1100 | B18: Atalgojums | C18: 2493.25 | D18: 701.52 | E18: =D18/100*200 -> 1403.04 | F18: ='4.6.2.'!D18/20*150*1.186823 -> 1056.1538 | G18: 1056.15
A19: 1200 | B19: Darba devēja valsts sociālās apdrošināšanas obligātās iemaksas, pabalsti un kompensācijas | C19: 588.16 | D19: 165.49 | E19: =D19/100*200 -> 330.98 | F19: ='4.6.2.'!D19/20*150*1.186823 -> 249.17349 | G19: 249.15
A20: 2210 | B20: Izdevumi par sakaru pakalpojumiem | C20: 89.93 | D20: 22.48 | E20: =D20/100*200 -> 44.96 | F20: ='4.6.2.'!D20/20*150*1.186823 -> 59.578515 | G20: 59.58
A21: 2222 | B21: Izdevumi par ūdensapgādi un kanalizāciju | C21: 2866.3 | D21: 824.07 | E21: =D21/100*200 -> 1648.14 | F21: ='4.6.2.'!D21/20*150*1.186823 -> 1411.3106 | G21: 1411.31
A22: 2223 | B22: Izdevumi par elektroenerģiju | C22: 1839.08 | D22: 1064.29 | E22: =D22/100*200 -> 2128.58 | F22: ='4.6.2.'!D22/20*150*1.186823 -> 2013.6232 | G22: 2013.62
A23: 2243 | B23: Iekārtas, inventāra un aparatūras remonts, tehniskā apkalpošana | C23: 82.81 | D23: 20.7 | E23: =D23/100*200 -> 41.4 | F23: ='4.6.2.'!D23/20*150*1.186823 -> 76.37206 | G23: 76.37
A24: 2244 | B24: Nekustamā īpašuma uzturēšana | C24: 1810.72 | D24: =588.48 -> 588.48 | E24: =D24/100*200 -> 1176.96 | F24: ='4.6.2.'!D24/20*150*1.186823 -> 1210.0254 | G24: 1210.03
A25: 2250 | B25: Informācijas tehnoloģiju pakalpojumi | F25: ='4.6.2.'!D25/20*150*1.186823 -> 0 | G25: 0
A26: 2263 | B26: Zemes noma | C26: 767.31 | D26: 266.64 | E26: =D26/100*200 -> 533.28 | F26: ='4.6.2.'!D26/20*150*1.186823 -> 783.54594 | G26: 783.55
A27: 2311 | B27: Biroja preces | F27: ='4.6.2.'!D27/20*150*1.186823 -> 0 | G27: 0
A28: 2312 | B28: Inventārs | C28: 229.18 | D28: 57.3 | E28: =D28/100*200 -> 114.6 | F28: ='4.6.2.'!D28/20*150*1.186823 -> 171.13988 | G28: 171.14
A29: 2321 | B29: Kurināmais | C29: 4737.21 | D29: 1184.3 | E29: =D29/100*200 -> 2368.6 | F29: ='4.6.2.'!D29/20*150*1.186823 -> 1948.0513 | G29: 1948.05
A30: 2350 | B30: Iestāžu uzturēšanas materiāli un preces | C30: 191.52 | D30: 47.88 | E30: =D30/100*200 -> 95.76 | F30: ='4.6.2.'!D30/20*150*1.186823 -> 203.24344 | G30: 203.24
A31: 2361 | B31: Mīkstais inventārs | C31: 160.88 | D31: 51.96 | E31: =D31/100*200 -> 103.92 | F31: ='4.6.2.'!D31/20*150*1.186823 -> 171.43658 | G31: 171.44
A32: 2362 | B32: Virtuves inventārs, trauki un galda piederumi | F32: ='4.6.2.'!D32/20*150*1.186823 -> 0 | G32: 0
A33: 2363 | B33: Ēdināšanas izdevumi | F33: ='4.6.2.'!D33/20*150*1.186823 -> 0 | G33: 0
A34: 2513 | B34: Budžeta iestāžu nekustamā īpašuma nodokļa maksājumi | C34: 361.22 | D34: 90.31 | E34: =D34/100*200 -> 180.62 | F34: ='4.6.2.'!D34/20*150*1.186823 -> 384.31217 | G34: 384.31
A35: 2519 | B35: Pārējie budžeta iestāžu pārskaitītie nodokļi un nodevas | C35: 255.83 | D35: 63.96 | E35: =D35/100*200 -> 127.92 | F35: ='4.6.2.'!D35/20*150*1.186823 -> 57.517758 | G35: 57.52
A36: 5239 | B36: Pārējie iepriekš neklasificētie pamatlīdzekļi un ieguldījuma īpašumi | F36: ='4.6.2.'!D36/20*150*1.186823 -> 224.56849 | G36: 224.57
B37: Tiešās izmaksas kopā | C37: =SUM(C18:C35) -> 16473.4 | D37: =SUM(D18:D35) -> 5149.38 | E37: =SUM(E18:E35) -> 10298.76 | F37: =SUM(F18:F36) -> 10020.053 | G37: =SUM(G18:G36) -> 10020.03
B38: Netiešās izmaksas
A39: 1100 | B39: Atalgojums | C39: 2577.8 | D39: 725.3 | E39: =D39/100*200 -> 1450.6 | F39: ='4.6.2.'!D39/20*150*1.186823 -> 1315.6526 | G39: 1315.65
A40: 1200 | B40: Darba devēja valsts sociālās apdrošināšanas obligātās iemaksas, pabalsti un kompensācijas | C40: 608.1 | D40: 171.1 | E40: =D40/100*200 -> 342.2 | F40: ='4.6.2.'!D40/20*150*1.186823 -> 310.35421 | G40: 310.36
A41: 2100 | B41: Mācību, darba un dienesta komandējumi, dienesta, darba braucieni | F41: ='4.6.2.'!D41/20*150*1.186823 -> 0 | G41: 0
A42: 2210 | B42: Izdevumi par sakaru pakalpojumiem | C42: 76.93 | D42: 19.23 | E42: =D42/100*200 -> 38.46 | F42: 0 | G42: 0
A43: 2222 | B43: Izdevumi par ūdensapgādi un kanalizāciju | F43: ='4.6.2.'!D43/20*150*1.186823 -> 0 | G43: 0
A44: 2223 | B44: Izdevumi par elektroenerģiju | F44: =29.61/2 -> 14.805 | G44: 14.81
A45: 2224 | B45: Izdevumi par atkritumu savākšanu, izvešanu no apdzīvotām vietām un teritorijām ārpus apdzīvotām vietām un atkritumu utilizāciju | D45: 24.3 | E45: =D45/100*200 -> 48.6 | F45: ='4.6.2.'!D45/20*150*1.186823 -> 174.52232 | G45: 174.52
A46: 2231 | B46: Izdevumi iestādes sabiedrisko aktivitāšu īstenošanai | F46: ='4.6.2.'!D46/20*150*1.186823 -> 0 | G46: 0
A47: 2235 | B47: Izdevumi par saņemtajiem mācību pakalpojumiem | F47: ='4.6.2.'!D47/20*150*1.186823 -> 0 | G47: 0
A48: 2239 | B48: Pārējie neklasificētie pakalpojumi | F48: ='4.6.2.'!D48/20*150*1.186823 -> 11.927571 | G48: 11.93
A49: 2241 | B49: Ēku, būvju un telpu būvdarbi | C49: 6.45 | D49: 1.61 | E49: =D49/100*200 -> 3.22 | F49: ='4.6.2.'!D49/20*150*1.186823 -> 5.2220212 | G49: 5.22
A50: 2242 | B50: Transportlīdzekļu uzturēšana un remonts | C50: 25.23 | D50: 6.23 | E50: =D50/100*200 -> 12.46 | F50: ='4.6.2.'!D50/20*150*1.186823 -> 9.6132663 | G50: 9.61
A51: 2243 | B51: Iekārtas, inventāra un aparatūras remonts, tehniskā apkalpošana | C51: 24.76 | D51: 6.19 | E51: =D51/100*200 -> 12.38 | F51: ='4.6.2.'!D51/20*150*1.186823 -> 29.90794 | G51: 29.91
A52: 2244 | B52: Nekustamā īpašuma uzturēšana | C52: 5.12 | D52: =2.67+1.85+0.13 -> 4.65 | E52: =D52/100*200 -> 9.3 | F52: ='4.6.2.'!D52/20*150*1.186823 -> 38.868453 | G52: 38.87
A53: 2247 | F53: ='4.6.2.'!D53/20*150*1.186823 -> 0 | G53: 0
A54: 2249 | B54: Pārējie remontdarbu un iestāžu uzturēšanas pakalpojumi | C54: 7.3 | D54: 1.83 | E54: =D54/100*200 -> 3.66 | F54: ='4.6.2.'!D54/20*150*1.186823 -> 13.351759 | G54: 13.35
A55: 2250 | B55: Informācijas tehnoloģiju pakalpojumi | C55: 57.1 | D55: 14.28 | E55: =D55/100*200 -> 28.56 | F55: ='4.6.2.'!D55/20*150*1.186823 -> 37.503607 | G55: 37.5
A56: 2262 | B56: Transportlīdzekļu noma | C56: 60.05 | D56: 15 | E56: =D56/100*200 -> 30 | F56: ='4.6.2.'!D56/20*150*1.186823 -> 23.143048 | G56: 23.14
A57: 2263 | B57: Zemes noma | F57: ='4.6.2.'!D57/20*150*1.186823 -> 0 | G57: 0
A58: 2264 | B58: Iekārtu un inventāra īre un noma | C58: 0.47 | D58: 0.12 | E58: =D58/100*200 -> 0.24 | F58: ='4.6.2.'!D58/20*150*1.186823 -> 0.4747292 | G58: 0.47
A59: 2311 | B59: Biroja preces | C59: 32.92 | D59: 8.2 | E59: =D59/100*200 -> 16.4 | F59: ='4.6.2.'!D59/20*150*1.186823 -> 22.312272 | G59: 22.31
A60: 2312 | B60: Inventārs | C60: 7.4 | D60: 0 | E60: =D60/100*200 -> 0 | F60: ='4.6.2.'!D60/20*150*1.186823 -> 0 | G60: 0
A61: 2314 | B61: Izdevumi par precēm iestādes sabiedrisko aktivitāšu īstenošanai | F61: ='4.6.2.'!D61/20*150*1.186823 -> 0 | G61: 0
A62: 2321 | B62: Kurināmais | F62: =29.61/2 -> 14.805 | G62: 14.81
A63: 2322 | B63: Degviela | C63: 153.58 | D63: 45.97 | E63: =D63/100*200 -> 91.94 | F63: ='4.6.2.'!D63/20*150*1.186823 -> 64.800536 | G63: 64.8
A64: 2341 | B64: Zāles, ķimikālijas, laboratorijas preces | F64: ='4.6.2.'!D64/20*150*1.186823 -> 0 | G64: 0
A65: 2350 | B65: Iestāžu uzturēšanas materiāli un preces | C65: 153.29 | D65: 38.32 | E65: =D65/100*200 -> 76.64 | F65: ='4.6.2.'!D65/20*150*1.186823 -> 81.060011 | G65: 81.06
A66: 2513 | B66: Budžeta iestāžu nekustamā īpašuma nodokļa maksājumi | C66: 2579.14 | D66: 0 | E66: =D66/100*200 -> 0 | F66: ='4.6.2.'!D66/20*150*1.186823 -> 0 | G66: 0
A67: 2515 | B67: Budžeta iestāžu dabas resursu nodokļa maksājumi | C67: 10.53 | D67: 2.63 | E67: =D67/100*200 -> 5.26 | F67: ='4.6.2.'!D67/20*150*1.186823 -> 22.827461 | G67: 22.83
A68: 2519 | B68: Pārējie budžeta iestāžu pārskaitītie nodokļi un nodevas | C68: 0.47 | D68: 0.12 | E68: =D68/100*200 -> 0.24 | F68: ='4.6.2.'!D68/20*150*1.186823 -> 0.4747292 | G68: 0.47
A69: 5220 | B69: Tehnoloģiskās iekārtas un mašīnas | F69: ='4.6.2.'!D69/20*150*1.186823 -> 0 | G69: 0
A70: 5238 | B70: Datortehnika, sakaru un cita biroja tehnika | C70: 371.08 | D70: 18.75 | E70: =D70/100*200 -> 37.5 | F70: ='4.6.2.'!D70/20*150*1.186823 -> 38.631089 | G70: 38.63
A71: 5239 | B71: Pārējie iepriekš neklasificētie pamatlīdzekļi un ieguldījuma īpašumi | C71: 74.18 | D71: 92.77 | E71: =D71/100*200 -> 185.54 | F71: ='4.6.2.'!D71/20*150*1.186823 -> 90.376571 | G71: =90.38-0.37 -> 90.01
A72: 5250 | B72: Kapitālais remonts un rekonstrukcija | C72: 327.43 | D72: 81.02 | E72: =D72/100*200 -> 162.04 | F72: ='4.6.2.'!D72/20*150*1.186823 -> 67.708252 | G72: 67.71
B73: Netiešās izmaksas kopā | C73: =SUM(C39:C72) -> 7159.33 | D73: =SUM(D39:D72) -> 1277.62 | E73: =SUM(E39:E72) -> 2555.24 | F73: =SUM(F39:F72) -> 2388.3425 | G73: =SUM(G39:G72) -> 2387.97
B74: Pakalpojumu izmaksas kopā | C74: =C73+C37 -> 23632.73 | D74: =D73+D37 -> 6427 | E74: =E73+E37 -> 12854 | F74: =F73+F37 -> 12408.395 | G74: =G73+G37 -> 12408
A76: Maksas pakalpojuma vienību skaits noteiktā laikposmā | C76: 400 | D76: 100 | E76: 200 | F76: 150 | G76: 150
A77: Maksas pakalpojuma izcenojums (euro) | C77: =C74/C76 -> 59.081825 | D77: =D74/D76 -> 64.27 | E77: =E74/E76 -> 64.27 | F77: =F74/F76 -> 82.722634 | G77: =G74/G76 -> 82.72
A79: Prognozētais maksas pakalpojumu skaits gadā (gab.)*
A80: Prognozētie ieņēmumi gadā (euro)*
A82: Piezīme. *Ailes neaizpilda, ja izvēlētais laikposms ir viens gads.
A84: Aprēķinu sastādīja: SIVA Finanšu nodaļas finanšu ekonomiste E.Lipiņa

Sheet 4.5.2.
C1: SASKAŅOTS | D1: SASKAŅOTS | E1: SASKAŅOTS
C2: Sociālās integrācijas valsts aģentūras | D2: Sociālās integrācijas valsts aģentūras | E2: Sociālās integrācijas valsts aģentūras
C3: direktore I.Jurševska | D3: direktore I.Jurševska | E3: direktore I.Jurševska
C5: 2023. gada 29. martā | D5: 2025. gada | E5: 2025. gada jūnijs
A7: Maksas pakalpojuma izcenojuma aprēķins
A9: Sociālās integrācijas valsts aģentūra
A10: Publiskā pakalpojuma veids:
B11: 4. Viesu izmitināšana
B12: 4.5. Viesu izmitināšana - Dubultu prospekts 59, Jūrmala, 2. stāvs
B13: 4.5.2. Dubultu prospektā 59, Jūrmalā, sešvietīgs numurs
A14: Laikposms | B14: 2025.gadā un turpmāk
A15: Izdevumu klasifikācijas kods | B15: Rādītājs (materiāla/izejvielas nosaukums, atlīdzība un citi izmaksu veidi) | C15: Izmaksu apjoms noteiktā laikposmā viena maksas pakalpojuma veida nodrošināšanai | D15: Izmaksu apjoms noteiktā laikposmā viena maksas pakalpojuma veida nodrošināšanai | E15: Izmaksu apjoms noteiktā laikposmā viena maksas pakalpojuma veida nodrošināšanai
A16: 1 | B16: 2 | C16: 3 | D16: 3 | E16: 3
B17: Tiešās izmaksas
A18: 1100 | B18: Atalgojums | C18: 177.98 | D18: 177.98 | E18: 177.98
A19: 1200 | B19: Darba devēja valsts sociālās apdrošināšanas obligātās iemaksas, pabalsti un kompensācijas | C19: 41.99 | D19: 41.99 | E19: 41.99
A20: 2210 | B20: Izdevumi par sakaru pakalpojumiem | C20: 10.04 | D20: 10.04 | E20: 10.04
A21: 2222 | B21: Izdevumi par ūdensapgādi un kanalizāciju | C21: 285.53 | D21: 285.53 | E21: 285.53
A22: 2223 | B22: Izdevumi par elektroenerģiju | C22: 339.33 | D22: 339.33 | E22: 339.33
A23: 2243 | B23: Iekārtas, inventāra un aparatūras remonts, tehniskā apkalpošana | C23: 12.87 | D23: 12.87 | E23: 12.87
A24: 2244 | B24: Nekustamā īpašuma uzturēšana | C24: 203.91 | D24: 203.91 | E24: 203.91
A25: 2250 | B25: Informācijas tehnoloģiju pakalpojumi
A26: 2263 | B26: Zemes noma | C26: 61.59 | D26: ='[2]4.4.-.4.5.-4.6.'!$X$17*20 -> 154.04832 | E26: 154.05
A27: 2311 | B27: Biroja preces
A28: 2312 | B28: Inventārs | C28: 22.84 | D28: 22.84 | E28: 22.84
A29: 2321 | B29: Kurināmais | C29: 328.28 | D29: 328.28 | E29: 328.28
A30: 2350 | B30: Iestāžu uzturēšanas materiāli un preces | C30: 34.25 | D30: 34.25 | E30: 34.25
A31: 2361 | B31: Mīkstais inventārs | C31: =28.89+5.59 -> 34.48 | D31: =28.89+5.59 -> 34.48 | E31: 34.48
A32: 2362 | B32: Virtuves inventārs, trauki un galda piederumi
A33: 2363 | B33: Ēdināšanas izdevumi
A34: 2513 | B34: Budžeta iestāžu nekustamā īpašuma nodokļa maksājumi | C34: 20.86 | D34: ='[2]4.4.-.4.5.-4.6.'!$X$19*20 -> 75.556685 | E34: 75.56
A35: 2519 | B35: Pārējie budžeta iestāžu pārskaitītie nodokļi un nodevas | C35: 14.77 | D35: ='[2]4.4.-.4.5.-4.6.'!$X$18*20 -> 11.308221 | E35: 11.31
A36: 5239 | B36: Pārējie iepriekš neklasificētie pamatlīdzekļi un ieguldījuma īpašumi | D36: ='[2]4.4.-.4.5.-4.6.'!$X$23*20 -> 44.151377 | E36: 44.15
B37: Tiešās izmaksas kopā | C37: =SUM(C18:C35) -> 1588.72 | D37: =SUM(D18:D36) -> 1776.5646 | E37: =SUM(E18:E36) -> 1776.57
B38: Netiešās izmaksas
A39: 1100 | B39: Atalgojums | C39: 228.46 | D39: 228.46 | E39: 228.46
A40: 1200 | B40: Darba devēja valsts sociālās apdrošināšanas obligātās iemaksas, pabalsti un kompensācijas | C40: 53.89 | D40: 53.89 | E40: 53.89
A41: 2100 | B41: Mācību, darba un dienesta komandējumi, dienesta, darba braucieni
A42: 2210 | B42: Izdevumi par sakaru pakalpojumiem | C42: 6.65 | D42: 0 | E42: 0
A43: 2222 | B43: Izdevumi par ūdensapgādi un kanalizāciju
A44: 2223 | B44: Izdevumi par elektroenerģiju | D44: =6.65/2 -> 3.325 | E44: 3.33
A45: 2224 | B45: Izdevumi par atkritumu savākšanu, izvešanu no apdzīvotām vietām un teritorijām ārpus apdzīvotām vietām un atkritumu utilizāciju | C45: 29.41 | D45: 29.41 | E45: 29.41
A46: 2231 | B46: Izdevumi iestādes sabiedrisko aktivitāšu īstenošanai
A47: 2235 | B47: Izdevumi par saņemtajiem mācību pakalpojumiem
A48: 2239 | B48: Pārējie neklasificētie pakalpojumi | C48: 2.68 | D48: 2.68 | E48: 2.68
A49: 2241 | B49: Ēku, būvju un telpu būvdarbi | C49: 0.77 | D49: 0.77 | E49: 0.77
A50: 2242 | B50: Transportlīdzekļu uzturēšana un remonts | C50: 2.16 | D50: 2.16 | E50: 2.16
A51: 2243 | B51: Iekārtas, inventāra un aparatūras remonts, tehniskā apkalpošana | C51: =4.85+3.45 -> 8.3 | D51: =4.85+3.45 -> 8.3 | E51: 8.3
A52: 2244 | B52: Nekustamā īpašuma uzturēšana | C52: =3.16+3.79 -> 6.95 | D52: =3.16+3.79 -> 6.95 | E52: =3.16+3.79 -> 6.95
A53: 2247
A54: 2249 | B54: Pārējie remontdarbu un iestāžu uzturēšanas pakalpojumi | C54: 0.55 | D54: 0.55 | E54: 0.55
A55: 2250 | B55: Informācijas tehnoloģiju pakalpojumi | C55: =7.09+0.68 -> 7.77 | D55: =7.09+0.68 -> 7.77 | E55: 7.77
A56: 2262 | B56: Transportlīdzekļu noma | C56: 5.2 | D56: 5.2 | E56: 5.2
A57: 2263 | B57: Zemes noma
A58: 2264 | B58: Iekārtu un inventāra īre un noma | C58: 0.1 | D58: 0.1 | E58: 0.1
A59: 2311 | B59: Biroja preces | C59: 5.2 | D59: 5.2 | E59: 5.2
A60: 2312 | B60: Inventārs | C60: 0 | D60: 0 | E60: 0
A61: 2314 | B61: Izdevumi par precēm iestādes sabiedrisko aktivitāšu īstenošanai
A62: 2321 | B62: Kurināmais | D62: =6.65/2 -> 3.325 | E62: 3.33
A63: 2322 | B63: Degviela | C63: =17.47-0.55 -> 16.92 | D63: =17.47-0.55 -> 16.92 | E63: =17.47-0.55 -> 16.92
A64: 2341 | B64: Zāles, ķimikālijas, laboratorijas preces
A65: 2350 | B65: Iestāžu uzturēšanas materiāli un preces | C65: 18.21 | D65: 18.21 | E65: 18.21
A66: 2513 | B66: Budžeta iestāžu nekustamā īpašuma nodokļa maksājumi
A67: 2515 | B67: Budžeta iestāžu dabas resursu nodokļa maksājumi | C67: 1.25 | D67: ='[2]4.4.-.4.5.-4.6.'!$X$15*20 -> 4.4883816 | E67: 4.49
A68: 2519 | B68: Pārējie budžeta iestāžu pārskaitītie nodokļi un nodevas | C68: =0.08 -> 0.08 | D68: =0.08 -> 0.08 | E68: =0.08 -> 0.08
A69: 5220 | B69: Tehnoloģiskās iekārtas un mašīnas
A70: 5238 | B70: Datortehnika, sakaru un cita biroja tehnika | C70: 7.21 | D70: 7.21 | E70: 7.21
A71: 5239 | B71: Pārējie iepriekš neklasificētie pamatlīdzekļi un ieguldījuma īpašumi | C71: 20.25 | D71: 20.25 | E71: 20.15
A72: 5250 | B72: Kapitālais remonts un rekonstrukcija | C72: 15.27 | D72: 15.27 | E72: 15.27
B73: Netiešās izmaksas kopā | C73: =SUM(C39:C72) -> 437.28 | D73: =SUM(D39:D72) -> 440.51838 | E73: =SUM(E39:E72) -> 440.43
B74: Pakalpojumu izmaksas kopā | C74: =C37+C73 -> 2026 | D74: =D37+D73 -> 2217.083 | E74: =E37+E73 -> 2217
A76: Maksas pakalpojuma vienību skaits noteiktā laikposmā | C76: 20 | D76: 20 | E76: 20
A77: Maksas pakalpojuma izcenojums (euro) | C77: =C74/C76 -> 101.3 | D77: =D74/D76 -> 110.85415 | E77: =E74/E76 -> 110.85
A79: Prognozētais maksas pakalpojumu skaits gadā (gab.)*
A80: Prognozētie ieņēmumi gadā (euro)*
D81: =110.85*20 -> 2217
A82: Piezīme. *Ailes neaizpilda, ja izvēlētais laikposms ir viens gads.
A84: Aprēķinu sastādīja: SIVA Finanšu nodaļas finanšu ekonomiste E.Lipiņa

Sheet 4.6.1.
C1: SASKAŅOTS | D1: SASKAŅOTS | E1: SASKAŅOTS | F1: SASKAŅOTS | G1: SASKAŅOTS
C2: Sociālās integrācijas valsts aģentūras | D2: Sociālās integrācijas valsts aģentūras | E2: Sociālās integrācijas valsts aģentūras | F2: Sociālās integrācijas valsts aģentūras | G2: Sociālās integrācijas valsts aģentūras
C3: direktore I.Jurševska | D3: direktore I.Jurševska | E3: direktore I.Jurševska | F3: direktore I.Jurševska | G3: direktore I.Jurševska
C5: 2017. gada .novembrī | D5: 2023. gada | E5: 2023. gada 29. martā | F5: 2025. gada | G5: 2025. gada jūnijs
A7: Maksas pakalpojuma izcenojuma aprēķins
A9: Sociālās integrācijas valsts aģentūra
A10: Publiskā pakalpojuma veids:
B11: 4. Viesu izmitināšana
B12: 4.6 Viesu izmitināšana - Dubultu prospekts 59, Jūrmala, 3. stāvs
B13: 4.6.1. Dubultu prospektā 59, Jūrmalā, divvietīgs numurs
A14: Laikposms | B14: ='4.5.2.'!B14 -> 2025.gadā un turpmāk
A15: Izdevumu klasifikācijas kods | B15: Rādītājs (materiāla/izejvielas nosaukums, atlīdzība un citi izmaksu veidi) | C15: Izmaksu apjoms noteiktā laikposmā viena maksas pakalpojuma veida nodrošināšanai | D15: Izmaksu apjoms noteiktā laikposmā viena maksas pakalpojuma veida nodrošināšanai | E15: Izmaksu apjoms noteiktā laikposmā viena maksas pakalpojuma veida nodrošināšanai | F15: Izmaksu apjoms noteiktā laikposmā viena maksas pakalpojuma veida nodrošināšanai | G15: Izmaksu apjoms noteiktā laikposmā viena maksas pakalpojuma veida nodrošināšanai
A16: 1 | B16: 2 | C16: 3 | D16: 3 | E16: 3 | F16: 3 | G16: 3
B17: Tiešās izmaksas
A18: 1100 | B18: Atalgojums | C18: 1169.13 | D18: 614.04 | E18: =D18/140*200 -> 877.2 | F18: =E18/200*150 -> 657.9 | G18: 657.9
A19: 1200 | B19: Darba devēja valsts sociālās apdrošināšanas obligātās iemaksas, pabalsti un kompensācijas | C19: 275.8 | D19: 144.85 | E19: =D19/140*200 -> 206.92857 | F19: =E19/200*150 -> 155.19643 | G19: 155.2
A20: 2210 | B20: Izdevumi par sakaru pakalpojumiem | C20: 59.19 | D20: 27.62 | E20: =D20/140*200 -> 39.457143 | F20: =E20/200*150 -> 29.592857 | G20: 29.59
A21: 2222 | B21: Izdevumi par ūdensapgādi un kanalizāciju | C21: 1474.86 | D21: 688.27 | E21: =D21/140*200 -> 983.24286 | F21: =E21/200*150 -> 737.43214 | G21: 737.43
A22: 2223 | B22: Izdevumi par elektroenerģiju | C22: 989.66 | D22: 983.72 | E22: =D22/140*200 -> 1405.3143 | F22: =E22/200*150 -> 1053.9857 | G22: 1053.99
A23: 2243 | B23: Iekārtas, inventāra un aparatūras remonts, tehniskā apkalpošana | C23: 54.5 | D23: 25.43 | E23: =D23/140*200 -> 36.328571 | F23: =E23/200*150 -> 27.246429 | G23: 27.25
A24: 2244 | B24: Nekustamā īpašuma uzturēšana | C24: 1192.57 | D24: 723.49 | E24: =D24/140*200 -> 1033.5571 | F24: =E24/200*150 -> 775.16786 | G24: 775.17
A25: 2250 | B25: Informācijas tehnoloģiju pakalpojumi | C25: 0 | D25: =C25/300*200 -> 0 | E25: =D25/140*200 -> 0 | F25: =E25/200*150 -> 0 | G25: 0
A26: 2263 | B26: Zemes noma | C26: 505.33 | D26: 327.79 | E26: =D26/140*200 -> 468.27143 | F26: ='[2]4.4.-.4.5.-4.6.'!$Y$17*150 -> 495.15532 | G26: 495.16
A27: 2311 | B27: Biroja preces | F27: =E27/200*150 -> 0 | G27: 0
A28: 2312 | B28: Inventārs | C28: 150.97 | D28: 70.45 | E28: =D28/140*200 -> 100.64286 | F28: =E28/200*150 -> 75.482143 | G28: 75.48
A29: 2321 | B29: Kurināmais | C29: 2179.88 | D29: 1017.28 | E29: =D29/140*200 -> 1453.2571 | F29: =E29/200*150 -> 1089.9429 | G29: 1089.94
A30: 2350 | B30: Iestāžu uzturēšanas materiāli un preces | C30: 126.14 | D30: 58.87 | E30: =D30/140*200 -> 84.1 | F30: =E30/200*150 -> 63.075 | G30: 63.08
A31: 2361 | B31: Mīkstais inventārs | C31: 105.93 | D31: 49.43 | E31: =D31/140*200 -> 70.614286 | F31: =E31/200*150 -> 52.960714 | G31: 52.96
A32: 2362 | B32: Virtuves inventārs, trauki un galda piederumi | F32: =E32/200*150 -> 0 | G32: 0
A33: 2363 | B33: Ēdināšanas izdevumi | F33: =E33/200*150 -> 0 | G33: 0
A34: 2513 | B34: Budžeta iestāžu nekustamā īpašuma nodokļa maksājumi | C34: 237.9 | D34: 111.02 | E34: =D34/140*200 -> 158.6 | F34: ='[2]4.4.-.4.5.-4.6.'!$Y$19*150 -> 242.86077 | G34: 242.86
A35: 2519 | B35: Pārējie budžeta iestāžu pārskaitītie nodokļi un nodevas | C35: 168.47 | D35: 78.62 | E35: =D35/140*200 -> 112.31429 | F35: ='[2]4.4.-.4.5.-4.6.'!$Y$18*150 -> 36.347854 | G35: 36.35
A36: 5239 | B36: Pārējie iepriekš neklasificētie pamatlīdzekļi un ieguldījuma īpašumi | F36: ='[2]4.4.-.4.5.-4.6.'!$Y$23*150 -> 141.91514 | G36: 141.92
B37: Tiešās izmaksas kopā | C37: =SUM(C18:C35) -> 8690.33 | D37: =SUM(D18:D35) -> 4920.88 | E37: =SUM(E18:E35) -> 7029.8286 | F37: =SUM(F18:F36) -> 5634.2612 | G37: =SUM(G18:G36) -> 5634.28
B38: Netiešās izmaksas
A39: 1100 | B39: Atalgojums | C39: 1137.24 | D39: 660.49 | E39: =D39/140*200 -> 943.55714 | F39: =E39/200*150 -> 707.66786 | G39: 707.67
A40: 1200 | B40: Darba devēja valsts sociālās apdrošināšanas obligātās iemaksas, pabalsti un kompensācijas | C40: 268.28 | D40: 155.81 | E40: =D40/140*200 -> 222.58571 | F40: =E40/200*150 -> 166.93929 | G40: 166.94
A41: 2100 | B41: Mācību, darba un dienesta komandējumi, dienesta, darba braucieni | F41: =E41/200*150 -> 0 | G41: 0
A42: 2210 | B42: Izdevumi par sakaru pakalpojumiem | C42: 33.94 | D42: 17.52 | E42: =D42/140*200 -> 25.028571 | F42: 0 | G42: 0
A43: 2222 | B43: Izdevumi par ūdensapgādi un kanalizāciju | F43: =E43/200*150 -> 0 | G43: 0
A44: 2223 | B44: Izdevumi par elektroenerģiju | F44: =18.77/2 -> 9.385 | G44: 9.39
A45: 2224 | B45: Izdevumi par atkritumu savākšanu, izvešanu no apdzīvotām vietām un teritorijām ārpus apdzīvotām vietām un atkritumu utilizāciju | D45: 18.81 | E45: =D45/140*200 -> 26.871429 | F45: =E45/200*150 -> 20.153571 | G45: 20.15
A46: 2231 | B46: Izdevumi iestādes sabiedrisko aktivitāšu īstenošanai | F46: =E46/200*150 -> 0 | G46: 0
A47: 2235 | B47: Izdevumi par saņemtajiem mācību pakalpojumiem | F47: =E47/200*150 -> 0 | G47: 0
A48: 2239 | B48: Pārējie neklasificētie pakalpojumi | C48: 13.59 | D48: 7.01 | E48: =D48/140*200 -> 10.014286 | F48: =E48/200*150 -> 7.5107143 | G48: 7.51
A49: 2241 | B49: Ēku, būvju un telpu būvdarbi | C49: 2.85 | D49: 1.47 | E49: =D49/140*200 -> 2.1 | F49: =E49/200*150 -> 1.575 | G49: 1.58
A50: 2242 | B50: Transportlīdzekļu uzturēšana un remonts | C50: 11.1 | D50: 5.73 | E50: =D50/140*200 -> 8.1857143 | F50: =E50/200*150 -> 6.1392857 | G50: 6.14
A51: 2243 | B51: Iekārtas, inventāra un aparatūras remonts, tehniskā apkalpošana | C51: 10.88 | D51: 5.62 | E51: =D51/140*200 -> 8.0285714 | F51: =E51/200*150 -> 6.0214286 | G51: 6.02
A52: 2244 | B52: Nekustamā īpašuma uzturēšana | C52: 2.42 | D52: =1.63+1.07 -> 2.7 | E52: =D52/140*200 -> 3.8571429 | F52: =E52/200*150 -> 2.8928571 | G52: 2.89
A53: 2247 | F53: =E53/200*150 -> 0 | G53: 0
A54: 2249 | B54: Pārējie remontdarbu un iestāžu uzturēšanas pakalpojumi | C54: 223.6 | D54: 1.42 | E54: =D54/140*200 -> 2.0285714 | F54: =E54/200*150 -> 1.5214286 | G54: 1.52
A55: 2250 | B55: Informācijas tehnoloģiju pakalpojumi | C55: 25.18 | D55: 12.98 | E55: =D55/140*200 -> 18.542857 | F55: =E55/200*150 -> 13.907143 | G55: 13.91
A56: 2262 | B56: Transportlīdzekļu noma | C56: 26.54 | D56: 13.7 | E56: =D56/140*200 -> 19.571429 | F56: =E56/200*150 -> 14.678571 | G56: 14.68
A57: 2263 | B57: Zemes noma | F57: =E57/200*150 -> 0 | G57: 0
A58: 2264 | B58: Iekārtu un inventāra īre un noma | C58: 0.28 | D58: 0.14 | E58: =D58/140*200 -> 0.2 | F58: =E58/200*150 -> 0.15 | G58: 0.15
A59: 2311 | B59: Biroja preces | C59: 14.51 | D59: 7.49 | E59: =D59/140*200 -> 10.7 | F59: =E59/200*150 -> 8.025 | G59: 8.03
A60: 2312 | B60: Inventārs | C60: 3.27 | E60: =D60/140*200 -> 0 | F60: =E60/200*150 -> 0 | G60: 0
A61: 2314 | B61: Izdevumi par precēm iestādes sabiedrisko aktivitāšu īstenošanai | F61: =E61/200*150 -> 0 | G61: 0
A62: 2321 | B62: Kurināmais | F62: =18.77/2 -> 9.385 | G62: 9.39
A63: 2322 | B63: Degviela | C63: 67.73 | D63: 34.95 | E63: =D63/140*200 -> 49.928571 | F63: =E63/200*150 -> 37.446429 | G63: 37.45
A64: 2341 | B64: Zāles, ķimikālijas, laboratorijas preces | F64: =E64/200*150 -> 0 | G64: 0
A65: 2350 | B65: Iestāžu uzturēšanas materiāli un preces | C65: 67.66 | D65: 34.91 | E65: =D65/140*200 -> 49.871429 | F65: =E65/200*150 -> 37.403571 | G65: 37.4
A66: 2513 | B66: Budžeta iestāžu nekustamā īpašuma nodokļa maksājumi | C66: 1316.25 | D66: 0 | E66: =D66/140*200 -> 0 | F66: =E66/200*150 -> 0 | G66: 0
A67: 2515 | B67: Budžeta iestāžu dabas resursu nodokļa maksājumi | C67: 4.7 | D67: 2.42 | E67: =D67/140*200 -> 3.4571429 | F67: ='[2]4.4.-.4.5.-4.6.'!$Y$15*150 -> 14.426941 | G67: 14.43
A68: 2519 | B68: Pārējie budžeta iestāžu pārskaitītie nodokļi un nodevas | C68: 0.21 | D68: 0.11 | E68: =D68/140*200 -> 0.15714286 | F68: =E68/200*150 -> 0.11785714 | G68: 0.12
A69: 5220 | B69: Tehnoloģiskās iekārtas un mašīnas | F69: =E69/200*150 -> 0 | G69: 0
A70: 5238 | B70: Datortehnika, sakaru un cita biroja tehnika | C70: 166.87 | D70: 17.23 | E70: =D70/140*200 -> 24.614286 | F70: =E70/200*150 -> 18.460714 | G70: 18.46
A71: 5239 | B71: Pārējie iepriekš neklasificētie pamatlīdzekļi un ieguldījuma īpašumi | C71: 32.73 | D71: 85.92 | E71: =D71/140*200 -> 122.74286 | F71: =E71/200*150 -> 92.057143 | G71: =92.06-0.27 -> 91.79
A72: 5250 | B72: Kapitālais remonts un rekonstrukcija | C72: 130.98 | D72: 67.29 | E72: =D72/140*200 -> 96.128571 | F72: =E72/200*150 -> 72.096429 | G72: 72.1
B73: Netiešās izmaksas kopā | C73: =SUM(C39:C72) -> 3560.81 | D73: =SUM(D39:D72) -> 1153.72 | E73: =SUM(E39:E72) -> 1648.1714 | F73: =SUM(F39:F72) -> 1247.9612 | G73: =SUM(G39:G72) -> 1247.72
B74: Pakalpojumu izmaksas kopā | C74: =C73+C37 -> 12251.14 | D74: =D73+D37 -> 6074.6 | E74: =E73+E37 -> 8678 | F74: =F73+F37 -> 6882.2225 | G74: =G73+G37 -> 6882
A76: Maksas pakalpojuma vienību skaits noteiktā laikposmā | C76: 300 | D76: 140 | E76: 200 | F76: 150 | G76: 150
A77: Maksas pakalpojuma izcenojums (euro) | C77: =C74/C76 -> 40.837133 | D77: =D74/D76 -> 43.39 | E77: =E74/E76 -> 43.39 | F77: =F74/F76 -> 45.881483 | G77: =G74/G76 -> 45.88
A79: Prognozētais maksas pakalpojumu skaits gadā (gab.)*
A80: Prognozētie ieņēmumi gadā (euro)*
A82: Piezīme. *Ailes neaizpilda, ja izvēlētais laikposms ir viens gads.
A84: Aprēķinu sastādīja: SIVA Finanšu nodaļas finanšu ekonomiste E.Lipiņa

Sheet 4.6.2.
C1: SASKAŅOTS | D1: SASKAŅOTS | E1: SASKAŅOTS
C2: Sociālās integrācijas valsts aģentūras | D2: Sociālās integrācijas valsts aģentūras | E2: Sociālās integrācijas valsts aģentūras
C3: direktore I.Jurševska | D3: direktore I.Jurševska | E3: direktore I.Jurševska
C5: 2023. gada 29. martā | D5: 2025. gada | E5: 2025. gada jūnijs
A7: Maksas pakalpojuma izcenojuma aprēķins
A9: Sociālās integrācijas valsts aģentūra
A10: Publiskā pakalpojuma veids:
B11: 4. Viesu izmitināšana
B12: 4.6. Viesu izmitināšana - Dubultu prospekts 59, Jūrmala, 3. stāvs
B13: 4.6.2. Dubultu prospektā 59, Jūrmalā, trīsvietīgs numurs
A14: Laikposms | B14: 2025.gadā un turpmāk
A15: Izdevumu klasifikācijas kods | B15: Rādītājs (materiāla/izejvielas nosaukums, atlīdzība un citi izmaksu veidi) | C15: Izmaksu apjoms noteiktā laikposmā viena maksas pakalpojuma veida nodrošināšanai | D15: Izmaksu apjoms noteiktā laikposmā viena maksas pakalpojuma veida nodrošināšanai | E15: Izmaksu apjoms noteiktā laikposmā viena maksas pakalpojuma veida nodrošināšanai
A16: 1 | B16: 2 | C16: 3 | D16: 3 | E16: 3
B17: Tiešās izmaksas
A18: 1100 | B18: Atalgojums | C18: 177.98 | D18: =C18/30*20 -> 118.65333 | E18: 118.65
A19: 1200 | B19: Darba devēja valsts sociālās apdrošināšanas obligātās iemaksas, pabalsti un kompensācijas | C19: 41.99 | D19: =C19/30*20 -> 27.993333 | E19: 27.99
A20: 2210 | B20: Izdevumi par sakaru pakalpojumiem | C20: 10.04 | D20: =C20/30*20 -> 6.6933333 | E20: 6.69
A21: 2222 | B21: Izdevumi par ūdensapgādi un kanalizāciju | C21: 237.83 | D21: =C21/30*20 -> 158.55333 | E21: 158.55
A22: 2223 | B22: Izdevumi par elektroenerģiju | C22: 339.33 | D22: =C22/30*20 -> 226.22 | E22: 226.22
A23: 2243 | B23: Iekārtas, inventāra un aparatūras remonts, tehniskā apkalpošana | C23: 12.87 | D23: =C23/30*20 -> 8.58 | E23: 8.58
A24: 2244 | B24: Nekustamā īpašuma uzturēšana | C24: 203.91 | D24: =C24/30*20 -> 135.94 | E24: 135.94
A25: 2250 | B25: Informācijas tehnoloģiju pakalpojumi | D25: =C25/30*20 -> 0 | E25: 0
A26: 2263 | B26: Zemes noma | C26: 61.59 | D26: ='4.4.1.'!G26/80/110*40*20 -> 88.027273 | E26: 88.03
A27: 2311 | B27: Biroja preces | D27: =C27/30*20 -> 0 | E27: 0
A28: 2312 | B28: Inventārs | C28: 28.84 | D28: =C28/30*20 -> 19.226667 | E28: 19.23
A29: 2321 | B29: Kurināmais | C29: 328.28 | D29: =C29/30*20 -> 218.85333 | E29: 218.85
A30: 2350 | B30: Iestāžu uzturēšanas materiāli un preces | C30: 34.25 | D30: =C30/30*20 -> 22.833333 | E30: 22.83
A31: 2361 | B31: Mīkstais inventārs | C31: 28.89 | D31: =C31/30*20 -> 19.26 | E31: 19.26
