Workbook

Sheet Satursvec
M1: 5.pielikums
M2: Ministru kabineta noteikumu projekta "Grozījumi Ministru kabineta
M3: 2013.gada 24.septembra noteikumos Nr.1002 "Sociālās
M4: integrācijas valstas aģentūras sniegto maksas pakalpojumu cenrādis""
M5: sākotnējās ietekmes novērtējuma ziņojumam (anotācijai)
A13: Satura rādītājs
A15: 7.1. | B15: Viesu izmitināšana Dubultu prospektā 71, 2.korpusā, Jūrmalā (viena vieta vienvietīgā numurā)
A16: 4.1.1. | B16: Viesu izmitināšana Dubultu prospektā 71, 2.korpusā, Jūrmalā, viena vieta vienvietīgā numurā (ar brokastīm),
A17: 4.1.2. | B17: Viesu izmitināšana Dubultu prospektā 71, 2.korpusā, Jūrmalā, viena vieta vienvietīgā numurā (ar trīsreizēju ēdināšanu),
A18: 4.2.1. | B18: Viesu izmitināšana Dubultu prospektā 71, 2.korpusā, Jūrmalā viena vieta divvietīgā numurā(ar brokastīm)
A19: 4.2.2. | B19: Viesu izmitināšana Dubultu prospektā 71, 2.korpusā, Jūrmalā viena vieta divvietīgā numurā (ar trīsreizēju ēdināšanu)
A20: 4.2.3. | B20: Viesu izmitināšana pielāgotā numurā Dubultu prospektā 71, 2.korpusā, Jūrmalā, viena vieta divvietīgā pielāgotā numurā (ar brokastīm)
A21: 4.2.4. | B21: Viesu izmitināšana pielāgotā numurā Dubultu prospektā 71, 2.korpusā, Jūrmalā, viena vieta divvietīgā pielāgotā numurā (ar trīsreizēju ēdināšanu)
A22: 4.2.5. | B22: Piemaksa par uzturēšanos vienai personai divvietīgā numurā, Dubultu prospektā 71, 2.korpusā, Jūrmalā
A23: 4.3.1. | B23: Papildu vieta bērnam no 2 līdz 14 gadu vecumam Dubultu prospektā 71, 2 korpuss, Jūrmalā (ar brokastīm)
A24: 4.3.2. | B24: Papildu vieta bērnam no 2 līdz 14 gadu vecumam Dubultu prospektā 71, 2 korpuss, Jūrmalā (ar trīsreizēju ēdināšanu)
A25: 4.3.3. | B25: Papildu vieta vienai personai Dubultu prospektā 71, 2 korpuss, Jūrmalā (ar brokastīm)
A26: 4.3.4. | B26: Papildu vieta vienai personai Dubultu prospektā 71, 2 korpuss, Jūrmalā (ar trīsreizēju ēdināšanu)
... A39: 4.13. | B39: Viesu izmitināšana Slokas ielā 68, Jūrmalā

Sheet 4.1.1.
E1: SASKAŅOTS
E2: Sociālās integrācijas valsts aģentūras
E3: direktore I.Jurševska
E5: 2023. gada 29. martā
A7: Maksas pakalpojuma izcenojuma aprēķins
A9: Sociālās integrācijas valsts aģentūra
A10: Publiskā pakalpojuma veids:
B11: 4. Viesu izmitināšana
B12: 4.1. Viesu izmitināšana - Dubultu prospekts 71, 2.korpuss, Jūrmala (viena vieta vienvietīgā numurā)
B13: 4.1.1. Viesu izmitināšana - Dubultu prospekts 71, 2.korpuss, Jūrmala (viena vieta vienvietīgā numurā, ar brokastīm)
A14: Laikposms | B14: 2023.gadā un turpmāk
A15: Izdevumu klasifikācijas kods | B15: Rādītājs (materiāla/izejvielas nosaukums, atlīdzība un citi izmaksu veidi) | E15: Izmaksu apjoms noteiktā laikposmā viena maksas pakalpojuma veida nodrošināšanai
A16: 1 | B16: 2 | E16: 3
B17: Tiešās izmaksas
A18: 1100 | B18: Atalgojums | D18: 11.804 | E18: 266.77
A19: 1200 | B19: Darba devēja valsts sociālās apdrošināšanas obligātās iemaksas, pabalsti un kompensācijas | D19: =D18*0.2359 -> 2.7845636 | E19: 62.93
A20: 2210 | B20: Izdevumi par sakaru pakalpojumiem
A21: 2222 | B21: Izdevumi par ūdensapgādi un kanalizāciju | D21: 0.53 | E21: 10.6
A22: 2223 | B22: Izdevumi par elektroenerģiju | D22: 1.59 | E22: 31.8
A23: 2243 | B23: Iekārtas, inventāra un aparatūras remonts, tehniskā apkalpošana | D23: 0.07 | E23: 1.4
A24: 2244 | B24: Nekustamā īpašuma uzturēšana | D24: 1.89 | E24: 37.8
A25: 2250 | B25: Informācijas tehnoloģiju pakalpojumi | D25: 0.19 | E25: 3.8
A26: 2263 | B26: Zemes noma
A27: 2311 | B27: Biroja preces | D27: 2.47 | E27: 49.4
A28: 2312 | B28: Inventārs | D28: 0.8 | E28: 16
A29: 2321 | B29: Kurināmais | D29: 1.09 | E29: 21.8
A30: 2350 | B30: Iestāžu uzturēšanas materiāli un preces | D30: 0.36 | E30: 7.2
A31: 2361 | B31: Mīkstais inventārs | D31: 0.18 | E31: 3.6
A32: 2362 | B32: Virtuves inventārs, trauki un galda piederumi | D32: 0.02 | E32: 0.4
A33: 2363 | B33: Ēdināšanas izdevumi | D33: 3.87 | E33: 77.4
A34: 2513 | B34: Budžeta iestāžu nekustamā īpašuma nodokļa maksājumi
A35: 2519 | B35: Pārējie budžeta iestāžu pārskaitītie nodokļi un nodevas
A36: 5239 | B36: Pārējie iepriekš neklasificētie pamatlīdzekļi un ieguldījuma īpašumi | D36: 1.27 | E36: 25.4
B37: Tiešās izmaksas kopā | D37: =SUM(D18:D36) -> 28.918564 | E37: =SUM(E18:E36) -> 616.3
B38: Netiešās izmaksas
A39: 1100 | B39: Atalgojums | C39: 0.4855 | E39: 285.05
A40: 1200 | B40: Darba devēja valsts sociālās apdrošināšanas obligātās iemaksas, pabalsti un kompensācijas | C40: =C39*0.2359 -> 0.11452945 | E40: 67.24
A41: 2100 | B41: Mācību, darba un dienesta komandējumi, dienesta, darba braucieni | C41: 0.001166 | E41: 0.76
A42: 2210 | B42: Izdevumi par sakaru pakalpojumiem | C42: 0.0076 | E42: 4.95
A43: 2222 | B43: Izdevumi par ūdensapgādi un kanalizāciju | C43: =0.0095*1.15 -> 0.010925 | E43: 7.11
...

Sheet 4.1.2.
E1: SASKAŅOTS
E2: Sociālās integrācijas valsts aģentūras
E3: direktore I.Jurševska
E5: 2023. gada 29. martā
A7: Maksas pakalpojuma izcenojuma aprēķins
A9: Sociālās integrācijas valsts aģentūra
A10: Publiskā pakalpojuma veids:
B11: 4. Viesu izmitināšana
B12: 4.1. Viesu izmitināšana - Dubultu prospekts 71, 2.korpuss, Jūrmala (viena vieta vienvietīgā numurā)
B13: 4.1.2. Viesu izmitināšana - Dubultu prospekts 71, 2.korpuss, Jūrmala (viena vieta vienvietīgā numurā, ar trīsreizēju ēdināšanu)
A14: Laikposms | B14: 2023.gadā un turpmāk
A15: Izdevumu klasifikācijas kods | B15: Rādītājs (materiāla/izejvielas nosaukums, atlīdzība un citi izmaksu veidi) | E15: Izmaksu apjoms noteiktā laikposmā viena maksas pakalpojuma veida nodrošināšanai
A16: 1 | B16: 2 | E16: 3
B17: Tiešās izmaksas
A18: 1100 | B18: Atalgojums | D18: 15.694 | E18: 354.68
A19: 1200 | B19: Darba devēja valsts sociālās apdrošināšanas obligātās iemaksas, pabalsti un kompensācijas | D19: =D18*0.2359 -> 3.7022146 | E19: 83.67
A20: 2210 | B20: Izdevumi par sakaru pakalpojumiem
A21: 2222 | B21: Izdevumi par ūdensapgādi un kanalizāciju | D21: 0.6 | E21: 12
A22: 2223 | B22: Izdevumi par elektroenerģiju | D22: 1.66 | E22: 33.2
A23: 2243 | B23: Iekārtas, inventāra un aparatūras remonts, tehniskā apkalpošana | D23: 0.082990839 | E23: 1.66
A24: 2244 | B24: Nekustamā īpašuma uzturēšana | D24: 1.9878511 | E24: 39.77
A25: 2250 | B25: Informācijas tehnoloģiju pakalpojumi | D25: 0.19 | E25: 3.8
A26: 2263 | B26: Zemes noma
A27: 2311 | B27: Biroja preces | D27: 2.47 | E27: 49.4
A28: 2312 | B28: Inventārs | D28: 0.91939188 | E28: 18.41
A29: 2321 | B29: Kurināmais | D29: 1.1514594 | E29: 23.04
A30: 2350 | B30: Iestāžu uzturēšanas materiāli un preces | D30: 0.41019892 | E30: 8.21
A31: 2361 | B31: Mīkstais inventārs | D31: 0.18 | E31: 3.6
A32: 2362 | B32: Virtuves inventārs, trauki un galda piederumi | D32: 0.048496534 | E32: 0.97
A33: 2363 | B33: Ēdināšanas izdevumi | D33: 9.75 | E33: 195
A34: 2513 | B34: Budžeta iestāžu nekustamā īpašuma nodokļa maksājumi
A35: 2519 | B35: Pārējie budžeta iestāžu pārskaitītie nodokļi un nodevas
A36: 5239 | B36: Pārējie iepriekš neklasificētie pamatlīdzekļi un ieguldījuma īpašumi | D36: 1.3731894 | E36: 27.48
B37: Tiešās izmaksas kopā | D37: =SUM(D18:D36) -> 40.219793 | E37: =SUM(E18:E36) -> 854.89
B38: Netiešās izmaksas
A39: 1100 | B39: Atalgojums | C39: 0.4855 | E39: 314.44
A40: 1200 | B40: Darba devēja valsts sociālās apdrošināšanas obligātās iemaksas, pabalsti un kompensācijas | C40: =C39*0.2359 -> 0.11452945 | E40: 74.18
A41: 2100 | B41: Mācību, darba un dienesta komandējumi, dienesta, darba braucieni | C41: 0.001166 | E41: 0.85
A42: 2210 | B42: Izdevumi par sakaru pakalpojumiem | C42: 0.0076 | E42: 5.56
A43: 2222 | B43: Izdevumi par ūdensapgādi un kanalizāciju | C43: =0.0095*1.15 -> 0.010925 | E43: 8
...

Sheet 4.2.1.
E1: SASKAŅOTS | F1: SASKAŅOTS
F2: Sociālās integrācijas valsts aģentūras
E3: direktore I.Jurševska | F3: direktore I.Jurševska
E5: 2023. gada | F5: 2023. gada 29. martā
A7: Maksas pakalpojuma izcenojuma aprēķins
A9: Sociālās integrācijas valsts aģentūra
A10: Publiskā pakalpojuma veids:
B11: 4. Viesu izmitināšana
B12: 4.2. Viesu izmitināšana - Dubultu prospekts 71, 2.korpuss, Jūrmala (viena vieta divvietīgā numurā)
B13: 4.2.1. Viesu izmitināšana - Dubultu prospekts 71, 2.korpuss, Jūrmala (viena vieta divvietīgā numurā, ar brokastīm)
A14: Laikposms | B14: 2023.gadā un turpmāk
A15: Izdevumu klasifikācijas kods | B15: Rādītājs (materiāla/izejvielas nosaukums, atlīdzība un citi izmaksu veidi) | E15: Izmaksu apjoms noteiktā laikposmā viena maksas pakalpojuma veida nodrošināšanai | F15: Izmaksu apjoms noteiktā laikposmā viena maksas pakalpojuma veida nodrošināšanai
A16: 1 | B16: 2 | E16: 3 | F16: 3
B17: Tiešās izmaksas
A18: 1100 | B18: Atalgojums | D18: 9.6161298 | E18: 7606.05 | F18: =E18/700*500 -> 5432.8929
A19: 1200 | B19: Darba devēja valsts sociālās apdrošināšanas obligātās iemaksas, pabalsti un kompensācijas | D19: =D18*0.2359 -> 2.268445 | E19: 1794.27 | F19: =E19/700*500 -> 1281.6214
A20: 2210 | B20: Izdevumi par sakaru pakalpojumiem
A21: 2222 | B21: Izdevumi par ūdensapgādi un kanalizāciju | D21: 0.30567649 | E21: 213.95 | F21: =E21/700*500 -> 152.82143
A22: 2223 | B22: Izdevumi par elektroenerģiju | D22: 0.91225662 | E22: 638.5 | F22: =E22/700*500 -> 456.07143
A23: 2243 | B23: Iekārtas, inventāra un aparatūras remonts, tehniskā apkalpošana | D23: 0.046135796 | E23: 32.29 | F23: =E23/700*500 -> 23.064286
A24: 2244 | B24: Nekustamā īpašuma uzturēšana | D24: 1.1167998 | E24: 781.66 | F24: =E24/700*500 -> 558.32857
A25: 2250 | B25: Informācijas tehnoloģiju pakalpojumi | D25: 0.19 | E25: 133 | F25: =E25/700*500 -> 95
A26: 2263 | B26: Zemes noma
A27: 2311 | B27: Biroja preces | D27: 1.9879431 | E27: 1391.5 | F27: =E27/700*500 -> 993.92857
A28: 2312 | B28: Inventārs | D28: 0.57567649 | E28: 402.95 | F28: =E28/700*500 -> 287.82143
A29: 2321 | B29: Kurināmais | D29: 0.64135297 | E29: 448.89 | F29: =E29/700*500 -> 320.63571
A30: 2350 | B30: Iestāžu uzturēšanas materiāli un preces | D30: 0.2072691 | E30: 145.07 | F30: =E30/700*500 -> 103.62143
A31: 2361 | B31: Mīkstais inventārs | D31: 0.094088867 | E31: 65.85 | F31: =E31/700*500 -> 47.035714
A32: 2362 | B32: Virtuves inventārs, trauki un galda piederumi | D32: 0.02 | E32: 14 | F32: =E32/700*500 -> 10
A33: 2363 | B33: Ēdināšanas izdevumi | D33: 3.87 | E33: 2709 | F33: =E33/700*500 -> 1935
A34: 2513 | B34: Budžeta iestāžu nekustamā īpašuma nodokļa maksājumi
A35: 2519 | B35: Pārējie budžeta iestāžu pārskaitītie nodokļi un nodevas
A36: 5239 | B36: Pārējie iepriekš neklasificētie pamatlīdzekļi un ieguldījuma īpašumi | D36: 0.8595357 | E36: 601.62 | F36: =E36/700*500 -> 429.72857
B37: Tiešās izmaksas kopā | D37: =SUM(D18:D36) -> 22.71131 | E37: =SUM(E18:E36) -> 16978.6 | F37: =SUM(F18:F36) -> 12127.571
B38: Netiešās izmaksas
A39: 1100 | B39: Atalgojums | C39: 0.4855 | E39: 5790.12 | F39: =E39/700*500 -> 4135.8
A40: 1200 | B40: Darba devēja valsts sociālās apdrošināšanas obligātās iemaksas, pabalsti un kompensācijas | C40: =C39*0.2359 -> 0.11452945 | E40: 1365.89 | F40: =E40/700*500 -> 975.63571
A41: 2100 | B41: Mācību, darba un dienesta komandējumi, dienesta, darba braucieni | C41: 0.001166 | E41: 16.01 | F41: =E41/700*500 -> 11.435714
A42: 2210 | B42: Izdevumi par sakaru pakalpojumiem | C42: 0.0076 | E42: 104.38 | F42: =E42/700*500 -> 74.557143
A43: 2222 | B43: Izdevumi par ūdensapgādi un kanalizāciju | C43: =0.0095*1.15 -> 0.010925 | E43: 150.04 | F43: =E43/700*500 -> 107.17143
...

Sheet 4.2.2.
E1: SASKAŅOTS | F1: SASKAŅOTS
E2: Sociālās integrācijas valsts aģentūras | F2: Sociālās integrācijas valsts aģentūras
E3: direktore I.Jurševska | F3: direktore I.Jurševska
E6: 2023. gada | F6: 2023. gada 29. martā
A7: Maksas pakalpojuma izcenojuma aprēķins
A9: Sociālās integrācijas valsts aģentūra
A10: Publiskā pakalpojuma veids:
B11: 4. Viesu izmitināšana
B12: 4.2. Viesu izmitināšana - Dubultu prospekts 71, 2.korpuss, Jūrmala (viena vieta divvietīgā numurā)
B13: 4.2.2. Viesu izmitināšana - Dubultu prospekts 71, 2.korpuss, Jūrmala (viena vieta divvietīgā numurā, ar trīsreizēju ēdināsanu)
A14: Laikposms | B14: 2023.gadā un turpmāk
A15: Izdevumu klasifikācijas kods | B15: Rādītājs (materiāla/izejvielas nosaukums, atlīdzība un citi izmaksu veidi) | E15: Izmaksu apjoms noteiktā laikposmā viena maksas pakalpojuma veida nodrošināšanai | F15: Izmaksu apjoms noteiktā laikposmā viena maksas pakalpojuma veida nodrošināšanai
A16: 1 | B16: 2 | E16: 3 | F16: 3
B17: Tiešās izmaksas
A18: 1100 | B18: Atalgojums | D18: 13.50613 | E18: 13735.54 | F18: =E18/900*700 -> 10683.198
A19: 1200 | B19: Darba devēja valsts sociālās apdrošināšanas obligātās iemaksas, pabalsti un kompensācijas | D19: =D18*0.2359 -> 3.186096 | E19: 3240.21 | F19: =E19/900*700 -> 2520.1633
A20: 2210 | B20: Izdevumi par sakaru pakalpojumiem
A21: 2222 | B21: Izdevumi par ūdensapgādi un kanalizāciju | D21: 0.37567649 | E21: 338.07 | F21: =E21/900*700 -> 262.94333
A22: 2223 | B22: Izdevumi par elektroenerģiju | D22: 0.98225662 | E22: 883.92 | F22: =E22/900*700 -> 687.49333
A23: 2243 | B23: Iekārtas, inventāra un aparatūras remonts, tehniskā apkalpošana | D23: 0.059126636 | E23: 53.34 | F23: =E23/900*700 -> 41.486667
A24: 2244 | B24: Nekustamā īpašuma uzturēšana | D24: 1.2146509 | E24: 1093.72 | F24: =E24/900*700 -> 850.67111
A25: 2250 | B25: Informācijas tehnoloģiju pakalpojumi | D25: 0.19 | E25: 171 | F25: =E25/900*700 -> 133
A26: 2263 | B26: Zemes noma
A27: 2311 | B27: Biroja preces | D27: 1.9879431 | E27: 1789.07 | F27: =E27/900*700 -> 1391.4989
A28: 2312 | B28: Inventārs | D28: 0.69506837 | E28: 626.38 | F28: =E28/900*700 -> 487.18444
A29: 2321 | B29: Kurināmais | D29: 0.70281237 | E29: 632.86 | F29: =E29/900*700 -> 492.22444
A30: 2350 | B30: Iestāžu uzturēšanas materiāli un preces | D30: 0.25746801 | E30: 232.05 | F30: =E30/900*700 -> 180.48333
A31: 2361 | B31: Mīkstais inventārs | D31: 0.094088867 | E31: 84.67 | F31: =E31/900*700 -> 65.854444
A32: 2362 | B32: Virtuves inventārs, trauki un galda piederumi | D32: 0.048496534 | E32: 43.84 | F32: =E32/900*700 -> 34.097778
A33: 2363 | B33: Ēdināšanas izdevumi | D33: 9.75 | E33: =D33*900 -> 8775 | F33: =E33/900*700 -> 6825
A34: 2513 | B34: Budžeta iestāžu nekustamā īpašuma nodokļa maksājumi
A35: 2519 | B35: Pārējie budžeta iestāžu pārskaitītie nodokļi un nodevas
A36: 5239 | B36: Pārējie iepriekš neklasificētie pamatlīdzekļi un ieguldījuma īpašumi | D36: 0.96272507 | E36: 867.14 | F36: =E36/900*700 -> 674.44222
B37: Tiešās izmaksas kopā | D37: =SUM(D18:D36) -> 34.012539 | E37: =SUM(E18:E36) -> 32566.81 | F37: =SUM(F18:F36) -> 25329.741
B38: Netiešās izmaksas
A39: 1100 | B39: Atalgojums | C39: 0.4855 | E39: 8767.06 | F39: =E39/900*700 -> 6818.8244
A40: 1200 | B40: Darba devēja valsts sociālās apdrošināšanas obligātās iemaksas, pabalsti un kompensācijas | C40: =C39*0.2359 -> 0.11452945 | E40: 2068.15 | F40: =E40/900*700 -> 1608.5611
A41: 2100 | B41: Mācību, darba un dienesta komandējumi, dienesta, darba braucieni | C41: 0.001166 | E41: 24.85 | F41: =E41/900*700 -> 19.327778
A42: 2210 | B42: Izdevumi par sakaru pakalpojumiem | C42: 0.0076 | E42: 162 | F42: =E42/900*700 -> 126
A43: 2222 | B43: Izdevumi par ūdensapgādi un kanalizāciju | C43: =0.0095*1.15 -> 0.010925 | E43: 232.88 | F43: =E43/900*700 -> 181.12889
...

Sheet 4.2.3.
E1: SASKAŅOTS
E2: Sociālās integrācijas valsts aģentūras
E3: direktore I.Jurševska
E5: 2023. gada 29. martā
A7: Maksas pakalpojuma izcenojuma aprēķins
A9: Sociālās integrācijas valsts aģentūra
A10: Publiskā pakalpojuma veids:
B11: 4. Viesu izmitināšana
B12: 4.2. Viesu izmitināšana - Dubultu prospekts 71, 2.korpuss, Jūrmala (viena vieta divvietīgā numurā)
B13: 4.2.3. Viesu izmitināšana - Dubultu prospekts 71, 2.korpuss, Jūrmala (viena vieta divvietīgā pielāgotā numurā, ar brokastīm)
A14: Laikposms | B14: 2023.gadā un turpmāk
A15: Izdevumu klasifikācijas kods | B15: Rādītājs (materiāla/izejvielas nosaukums, atlīdzība un citi izmaksu veidi) | E15: Izmaksu apjoms noteiktā laikposmā viena maksas pakalpojuma veida nodrošināšanai
A16: 1 | B16: 2 | E16: 4
B17: Tiešās izmaksas
A18: 1100 | B18: Atalgojums | D18: 9.8060809 | E18: 221.63
A19: 1200 | B19: Darba devēja valsts sociālās apdrošināšanas obligātās iemaksas, pabalsti un kompensācijas | D19: =D18*0.2359 -> 2.3132545 | E19: 52.28
A20: 2210 | B20: Izdevumi par sakaru pakalpojumiem
A21: 2222 | B21: Izdevumi par ūdensapgādi un kanalizāciju | D21: 0.32515227 | E21: 6.5
A22: 2223 | B22: Izdevumi par elektroenerģiju | D22: 0.97109835 | E22: 19.43
A23: 2243 | B23: Iekārtas, inventāra un aparatūras remonts, tehniskā apkalpošana | D23: 0.048207688 | E23: 0.96
A24: 2244 | B24: Nekustamā īpašuma uzturēšana | D24: 1.1839291 | E24: 23.68
A25: 2250 | B25: Informācijas tehnoloģiju pakalpojumi | D25: 0.19 | E25: 3.8
A26: 2263 | B26: Zemes noma
A27: 2311 | B27: Biroja preces | D27: 2.0297953 | E27: 40.6
A28: 2312 | B28: Inventārs | D28: 0.59515227 | E28: 11.9
A29: 2321 | B29: Kurināmais | D29: 0.68030454 | E29: 13.61
A30: 2350 | B30: Iestāžu uzturēšanas materiāli un preces | D30: 0.22052921 | E30: 4.41
A31: 2361 | B31: Mīkstais inventārs | D31: 0.10154768 | E31: 2.03
A32: 2362 | B32: Virtuves inventārs, trauki un galda piederumi | D32: 0.02 | E32: 0.4
A33: 2363 | B33: Ēdināšanas izdevumi | D33: 3.87 | E33: =D33*20 -> 77.4
A34: 2513 | B34: Budžeta iestāžu nekustamā īpašuma nodokļa maksājumi
A35: 2519 | B35: Pārējie budžeta iestāžu pārskaitītie nodokļi un nodevas
A36: 5239 | B36: Pārējie iepriekš neklasificētie pamatlīdzekļi un ieguldījuma īpašumi | D36: 0.89517224 | E36: 17.91
B37: Tiešās izmaksas kopā | D37: =SUM(D18:D36) -> 23.250224 | E37: =SUM(E18:E36) -> 496.54
B38: Netiešās izmaksas
A39: 1100 | B39: Atalgojums | C39: 0.4855 | E39: 175.88
A40: 1200 | B40: Darba devēja valsts sociālās apdrošināšanas obligātās iemaksas, pabalsti un kompensācijas | C40: =C39*0.2359 -> 0.11452945 | E40: 41.49
A41: 2100 | B41: Mācību, darba un dienesta komandējumi, dienesta, darba braucieni | C41: 0.001166 | E41: 0.48
A42: 2210 | B42: Izdevumi par sakaru pakalpojumiem | C42: 0.0076 | E42: 3.15
A43: 2222 | B43: Izdevumi par ūdensapgādi un kanalizāciju | C43: =0.0095*1.15 -> 0.010925 | E43: 4.53
...

Sheet 4.2.4.
E1: SASKAŅOTS
E2: Sociālās integrācijas valsts aģentūras
E3: direktore I.Jurševska
E5: 2023. gada 29. martā
A6: Maksas pakalpojuma izcenojuma aprēķins
A8: Sociālās integrācijas valsts aģentūra
A9: Publiskā pakalpojuma veids:
B10: 4. Viesu izmitināšana
B11: 4.2. Viesu izmitināšana - Dubultu prospekts 71, 2.korpuss, Jūrmala (viena vieta divvietīgā numurā)
B12: 4.2.4. Viesu izmitināšana - Dubultu prospekts 71, 2.korpuss, Jūrmala (viena vieta divvietīgā pielāgotā numurā, ar trīsreizēju ēdināšanu)
A14: Laikposms | B14: 2023.gadā un turpmāk
A15: Izdevumu klasifikācijas kods | B15: Rādītājs (materiāla/izejvielas nosaukums, atlīdzība un citi izmaksu veidi) | E15: Izmaksu apjoms noteiktā laikposmā viena maksas pakalpojuma veida nodrošināšanai
A16: 1 | B16: 2 | E16: 3
B17: Tiešās izmaksas
A18: 1100 | B18: Atalgojums | D18: 13.696081 | E18: 309.54
A19: 1200 | B19: Darba devēja valsts sociālās apdrošināšanas obligātās iemaksas, pabalsti un kompensācijas | D19: =D18*0.2359 -> 3.2309055 | E19: 73.02
A20: 2210
A21: 2222 | B21: Izdevumi par ūdensapgādi un kanalizāciju | D21: 0.39515227 | E21: 7.9
A22: 2223 | B22: Izdevumi par elektroenerģiju | D22: 1.0410984 | E22: 20.83
A23: 2243 | B23: Iekārtas, inventāra un aparatūras remonts, tehniskā apkalpošana | D23: 0.061198528 | E23: 1.23
A24: 2244 | B24: Nekustamā īpašuma uzturēšana | D24: 1.2817802 | E24: 25.65
A25: 2250 | B25: Informācijas tehnoloģiju pakalpojumi | D25: 0.19 | E25: 3.8
A26: 2263 | B26: Zemes noma
A27: 2311 | B27: Biroja preces | D27: 2.0297953 | E27: 40.6
A28: 2312 | B28: Inventārs | D28: 0.71454415 | E28: 14.31
A29: 2321 | B29: Kurināmais | D29: 0.74176394 | E29: 14.85
A30: 2350 | B30: Iestāžu uzturēšanas materiāli un preces | D30: 0.27072812 | E30: 5.42
A31: 2361 | B31: Mīkstais inventārs | D31: 0.10154768 | E31: 2.03
A32: 2362 | B32: Virtuves inventārs, trauki un galda piederumi | D32: 0.048496534 | E32: 0.97
A33: 2363 | B33: Ēdināšanas izdevumi | D33: 9.75 | E33: =D33*20 -> 195
A34: 2513 | B34: Budžeta iestāžu nekustamā īpašuma nodokļa maksājumi
A35: 2519 | B35: Pārējie budžeta iestāžu pārskaitītie nodokļi un nodevas
A36: 5239 | B36: Pārējie iepriekš neklasificētie pamatlīdzekļi un ieguldījuma īpašumi | D36: 0.99836162 | E36: 19.99
B37: Tiešās izmaksas kopā | D37: =SUM(D18:D36) -> 34.551453 | E37: =SUM(E18:E36) -> 735.14
B38: Netiešās izmaksas
A39: 1100 | B39: Atalgojums | C39: 0.4855 | E39: 205.1
A40: 1200 | B40: Darba devēja valsts sociālās apdrošināšanas obligātās iemaksas, pabalsti un kompensācijas | C40: =C39*0.2359 -> 0.11452945 | E40: 48.38
A41: 2100 | B41: Mācību, darba un dienesta komandējumi, dienesta, darba braucieni | C41: 0.001166 | E41: 0.58
A42: 2210 | B42: Izdevumi par sakaru pakalpojumiem | C42: 0.0076 | E42: 3.77
A43: 2222 | B43: Izdevumi par ūdensapgādi un kanalizāciju | C43: =0.0095*1.15 -> 0.010925 | E43: 5.42
...

Sheet 4.2.5.
E1: SASKAŅOTS
E2: Sociālās integrācijas valsts aģentūras
E3: direktore I.Jurševska
E5: 2023. gada 29. martā
A7: Maksas pakalpojuma izcenojuma aprēķins
A9: Sociālās integrācijas valsts aģentūra
A10: Publiskā pakalpojuma veids:
B11: 4. Viesu izmitināšana
B12: 4.2. Viesu izmitināšana Dubultu prospektā 71, 2.korpusā, Jūrmalā (viena vieta divvietīgā numurā)
B13: 4.2.5. Piemaksa par uzturēšanos vienai personai divvietīgā numurā
A14: Laikposms | B14: ='4.2.4.'!B14 -> 2023.gadā un turpmāk
A15: Izdevumu klasifikācijas kods | B15: Rādītājs (materiāla/izejvielas nosaukums, atlīdzība un citi izmaksu veidi) | C15: 1 | E15: Izmaksu apjoms noteiktā laikposmā viena maksas pakalpojuma veida nodrošināšanai
A16: 1 | B16: 2 | E16: 3
B17: Tiešās izmaksas
A18: 1100 | B18: Atalgojums | C18: 2.1878702 | E18: 568.73
A19: 1200 | B19: Darba devēja valsts sociālās apdrošināšanas obligātās iemaksas, pabalsti un kompensācijas | C19: =C18*0.2359 -> 0.51611858 | E19: 134.16
A20: 2210 | B20: Izdevumi par sakaru pakalpojumiem
A21: 2222 | B21: Izdevumi par ūdensapgādi un kanalizāciju | C21: 0.22432351 | E21: 51.6
A22: 2223 | B22: Izdevumi par elektroenerģiju | C22: 0.67774338 | E22: 155.91
A23: 2243 | B23: Iekārtas, inventāra un aparatūras remonts, tehniskā apkalpošana | C23: 0.023864204 | E23: 5.49
A24: 2244 | B24: Nekustamā īpašuma uzturēšana | C24: 0.7732002 | E24: 177.87
A25: 2250 | B25: Informācijas tehnoloģiju pakalpojumi | C25: 0 | E25: 0
A26: 2263 | B26: Zemes noma
A27: 2311 | B27: Biroja preces | C27: 0.48205691 | E27: 110.89
A28: 2312 | B28: Inventārs | C28: 0.22432351 | E28: 51.6
A29: 2321 | B29: Kurināmais | C29: 0.44864703 | E29: 103.21
A30: 2350 | B30: Iestāžu uzturēšanas materiāli un preces | C30: 0.1527309 | E30: 35.13
A31: 2361 | B31: Mīkstais inventārs | C31: 0.085911133 | E31: 19.76
A32: 2362 | B32: Virtuves inventārs, trauki un galda piederumi
A33: 2363 | B33: Ēdināšanas izdevumi | C33: 0 | E33: 0
A34: 2513 | B34: Budžeta iestāžu nekustamā īpašuma nodokļa maksājumi
A35: 2519 | B35: Pārējie budžeta iestāžu pārskaitītie nodokļi un nodevas
A36: 5239 | B36: Pārējie iepriekš neklasificētie pamatlīdzekļi un ieguldījuma īpašumi | C36: 0.4104643 | E36: 94.42
B37: Tiešās izmaksas kopā | C37: =SUM(C18:C36) -> 6.2072539 | E37: =SUM(E18:E36) -> 1508.77
B38: Netiešās izmaksas
A39: 1100 | B39: Atalgojums | D39: 0.4855 | E39: 1376.11
A40: 1200 | B40: Darba devēja valsts sociālās apdrošināšanas obligātās iemaksas, pabalsti un kompensācijas | D40: =D39*0.2359 -> 0.11452945 | E40: 324.62
A41: 2100 | B41: Mācību, darba un dienesta komandējumi, dienesta, darba braucieni | D41: 0.001166 | E41: 3.46
A42: 2210 | B42: Izdevumi par sakaru pakalpojumiem | D42: 0.0076 | E42: 22.57
A43: 2222 | B43: Izdevumi par ūdensapgādi un kanalizāciju | D43: =0.0095*1.15 -> 0.010925 | E43: 32.44
...

Sheet 7.3.1._vec
E1: SASKAŅOTS
E2: Sociālās integrācijas valsts aģentūras
E3: direktore I.Jurševska
E5: 2021. gada 30. augustā
A7: Maksas pakalpojuma izcenojuma aprēķins
A9: Sociālās integrācijas valsts aģentūra
A10: Publiskā pakalpojuma veids:
B11: 7. Viesu izmitināšana
B12: 7.3. Viesu izmitināšana - Dubultu prospekts 71, 1.korpuss, Jūrmala (viena vieta vienvietīgā numurā)
B13: 7.3.1. Viesu izmitināšana - Dubultu prospekts 71, 1.korpuss, Jūrmala (viena vieta vienvietīgā numurā, ar brokastīm)
A14: Laikposms | B14: 2022.gadā un turpmāk
A15: Izdevumu klasifikācijas kods | B15: Rādītājs (materiāla/izejvielas nosaukums, atlīdzība un citi izmaksu veidi) | E15: Izmaksu apjoms noteiktā laikposmā viena maksas pakalpojuma veida nodrošināšanai
A16: 1 | B16: 2 | E16: 3
B17: Tiešās izmaksas
A18: 1100 | B18: Atalgojums | D18: =5.91/1.2359 -> 4.7819403 | E18: 717.29
A19: 1200 | B19: Darba devēja valsts sociālās apdrošināšanas obligātās iemaksas, pabalsti un kompensācijas | D19: =D18*0.2359 -> 1.1280597 | E19: 169.21
A20: 2210 | B20: Izdevumi par sakaru pakalpojumiem | D20: 0.08 | E20: =D20*150 -> 12
A21: 2222 | B21: Izdevumi par ūdensapgādi un kanalizāciju | D21: 1.88 | E21: =D21*150 -> 282
A22: 2223 | B22: Izdevumi par elektroenerģiju | D22: 1.92339 | E22: 288.51
A23: 2243 | B23: Iekārtas, inventāra un aparatūras remonts, tehniskā apkalpošana | D23: 0.04 | E23: =D23*150 -> 6
A24: 2244 | B24: Nekustamā īpašuma uzturēšana | D24: 2.95964 | E24: 443.95
A25: 2250 | B25: Informācijas tehnoloģiju pakalpojumi | D25: 0.16 | E25: =D25*150 -> 24
A26: 2311 | B26: Biroja preces | D26: 0.48 | E26: =D26*150 -> 72
A27: 2312 | B27: Inventārs | D27: 1.55 | E27: =D27*150 -> 232.5
A28: 2321 | B28: Kurināmais | D28: 2.504884 | E28: 375.73
A29: 2350 | B29: Iestāžu uzturēšanas materiāli un preces | D29: 0.28 | E29: =D29*150 -> 42
A30: 2361 | B30: Mīkstais inventārs | D30: 0.28 | E30: =D30*150 -> 42
A31: 2362 | B31: Virtuves inventārs, trauki un galda piederumi | D31: 0.12 | E31: =D31*150 -> 18
A32: 2363 | B32: Ēdināšanas izdevumi | D32: 3.58 | E32: =D32*150 -> 537
A33: 5239 | B33: Pārējie iepriekš neklasificētie pamatlīdzekļi un ieguldījuma īpašumi | D33: 0.82 | E33: =D33*150 -> 123
B34: Tiešās izmaksas kopā | D34: =SUM(D18:D33) -> 22.567914 | E34: =SUM(E18:E33) -> 3385.19
B35: Netiešās izmaksas
A36: 1100 | B36: Atalgojums | C36: =0.388+0.024 -> 0.412 | E36: 629.25
A37: 1200 | B37: Darba devēja valsts sociālās apdrošināšanas obligātās iemaksas, pabalsti un kompensācijas | C37: =C36*0.2359 -> 0.0971908 | E37: 148.44
A38: 2100 | B38: Mācību, darba un dienesta komandējumi, dienesta, darba braucieni | C38: 0.001166 | E38: 1.78
A39: 2210 | B39: Izdevumi par sakaru pakalpojumiem | C39: 0.0076 | E39: 11.61
A40: 2222 | B40: Izdevumi par ūdensapgādi un kanalizāciju | C40: 0.0095 | E40: 14.51
A41: 2223 | B41: Izdevumi par elektroenerģiju | C41: 0.01902 | E41: 29.05
A42: 2224 | B42: Izdevumi par atkritumu savākšanu, izvešanu no apdzīvotām vietām un teritorijām ārpus apdzīvotām vietām un atkritumu utilizāciju | C42: 0.00495 | E42: 7.56
A43: 2231 | B43: Izdevumi iestādes sabiedrisko aktivitāšu īstenošanai | C43: 0.00155 | E43: 2.37
...

Sheet 7.3.2.vec
E1: SASKAŅOTS
E2: Sociālās integrācijas valsts aģentūras
E3: direktore I.Jurševska
E5: 2021. gada 30. augustā
A7: Maksas pakalpojuma izcenojuma aprēķins
A9: Sociālās integrācijas valsts aģentūra
A10: Publiskā pakalpojuma veids:
B11: 7. Viesu izmitināšana
B12: 7.3. Viesu izmitināšana - Dubultu prospekts 71, 2.korpuss, Jūrmala (viena vieta vienvietīgā numurā)
B13: 7.3.2. Viesu izmitināšana - Dubultu prospekts 71, 1.korpuss, Jūrmala (viena vieta vienvietīgā numurā, ar trīsreizēju ēdināšanu)
A14: Laikposms | B14: 2022.gadā un turpmāk
A15: Izdevumu klasifikācijas kods | B15: Rādītājs (materiāla/izejvielas nosaukums, atlīdzība un citi izmaksu veidi) | E15: Izmaksu apjoms noteiktā laikposmā viena maksas pakalpojuma veida nodrošināšanai
A16: 1 | B16: 2 | E16: 3
B17: Tiešās izmaksas
A18: 1100 | B18: Atalgojums | D18: =7.12/1.2359 -> 5.7609839 | E18: 1440.25
A19: 1200 | B19: Darba devēja valsts sociālās apdrošināšanas obligātās iemaksas, pabalsti un kompensācijas | D19: =D18*0.2359 -> 1.3590161 | E19: 339.75
A20: 2210 | B20: Izdevumi par sakaru pakalpojumiem | D20: 0.08 | E20: =D20*250 -> 20
A21: 2222 | B21: Izdevumi par ūdensapgādi un kanalizāciju | D21: 1.9928 | E21: 498.2
A22: 2223 | B22: Izdevumi par elektroenerģiju | D22: 2.0387969 | E22: 509.7
A23: 2243 | B23: Iekārtas, inventāra un aparatūras remonts, tehniskā apkalpošana | D23: 0.06 | E23: 15
A24: 2244 | B24: Nekustamā īpašuma uzturēšana | D24: 3.1372185 | E24: 784.3
A25: 2250 | B25: Informācijas tehnoloģiju pakalpojumi | D25: 0.16 | E25: 40
A26: 2311 | B26: Biroja preces | D26: 0.48 | E26: =D26*250 -> 120
A27: 2312 | B27: Inventārs | D27: 1.63 | E27: =D27*250 -> 407.5
A28: 2321 | B28: Kurināmais | D28: 2.6551774 | E28: 663.79
A29: 2350 | B29: Iestāžu uzturēšanas materiāli un preces | D29: 0.33 | E29: =D29*250 -> 82.5
A30: 2361 | B30: Mīkstais inventārs | D30: 0.28 | E30: =D30*250 -> 70
A31: 2362 | B31: Virtuves inventārs, trauki un galda piederumi | D31: 0.18 | E31: =D31*250 -> 45
A32: 2363 | B32: Ēdināšanas izdevumi | D32: 8.12 | E32: =D32*250 -> 2030
A33: 5239 | B33: Pārējie iepriekš neklasificētie pamatlīdzekļi un ieguldījuma īpašumi | D33: 0.8692545 | E33: 217.31
B34: Tiešās izmaksas kopā | D34: =SUM(D18:D33) -> 29.133247 | E34: =SUM(E18:E33) -> 7283.3
B35: Netiešās izmaksas
A36: 1100 | B36: Atalgojums | C36: =0.388+0.024 -> 0.412 | E36: 1351.03
A37: 1200 | B37: Darba devēja valsts sociālās apdrošināšanas obligātās iemaksas, pabalsti un kompensācijas | C37: =C36*0.2359 -> 0.0971908 | E37: 318.71
A38: 2100 | B38: Mācību, darba un dienesta komandējumi, dienesta, darba braucieni | C38: 0.001166 | E38: 3.82
A39: 2210 | B39: Izdevumi par sakaru pakalpojumiem | C39: 0.0076 | E39: 24.92
A40: 2222 | B40: Izdevumi par ūdensapgādi un kanalizāciju | C40: 0.0095 | E40: 31.15
A41: 2223 | B41: Izdevumi par elektroenerģiju | C41: 0.01902 | E41: 62.37
A42: 2224 | B42: Izdevumi par atkritumu savākšanu, izvešanu no apdzīvotām vietām un teritorijām ārpus apdzīvotām vietām un atkritumu utilizāciju | C42: 0.00495 | E42: 16.23
A43: 2231 | B43: Izdevumi iestādes sabiedrisko aktivitāšu īstenošanai | C43: 0.00155 | E43: 5.08
...

Sheet 7.4.1.vec
E1: SASKAŅOTS
E2: Sociālās integrācijas valsts aģentūras
E3: direktore I.Jurševska
E5: 2021. gada 30. augustā
A7: Maksas pakalpojuma izcenojuma aprēķins
A9: Sociālās integrācijas valsts aģentūra
A10: Publiskā pakalpojuma veids:
B11: 7. Viesu izmitināšana
B12: 7.4. Viesu izmitināšana - Dubultu prospekts 71, 1.korpuss, Jūrmala (viena vieta divvietīgā numurā)
B13: 7.4.1. Viesu izmitināšana - Dubultu prospekts 71, 1.korpuss, Jūrmala (viena vieta divvietīgā numurā, ar brokastīm)
A14: Laikposms | B14: 2022.gadā un turpmāk
A15: Izdevumu klasifikācijas kods | B15: Rādītājs (materiāla/izejvielas nosaukums, atlīdzība un citi izmaksu veidi) | E15: Izmaksu apjoms noteiktā laikposmā viena maksas pakalpojuma veida nodrošināšanai
A16: 1 | B16: 2 | E16: 3
B17: Tiešās izmaksas
A18: 1100 | B18: Atalgojums | D18: =5.91/1.2359 -> 4.7819403 | E18: 4064.65
A19: 1200 | B19: Darba devēja valsts sociālās apdrošināšanas obligātās iemaksas, pabalsti un kompensācijas | D19: =D18*0.2359 -> 1.1280597 | E19: 958.85
A20: 2210 | B20: Izdevumi par sakaru pakalpojumiem | D20: 0.08 | E20: =D20*850 -> 68
A21: 2222 | B21: Izdevumi par ūdensapgādi un kanalizāciju | D21: 1.88 | E21: =D21*850 -> 1598
A22: 2223 | B22: Izdevumi par elektroenerģiju | D22: 1.1222 | E22: 953.87
A23: 2243 | B23: Iekārtas, inventāra un aparatūras remonts, tehniskā apkalpošana | D23: 0.04 | E23: =D23*850 -> 34
A24: 2244 | B24: Nekustamā īpašuma uzturēšana | D24: 1.7267969 | E24: 1467.78
A25: 2250 | B25: Informācijas tehnoloģiju pakalpojumi | D25: 0.16 | E25: =D25*850 -> 136
A26: 2311 | B26: Biroja preces | D26: 0.48 | E26: =D26*850 -> 408
A27: 2312 | B27: Inventārs | D27: 1.55 | E27: =D27*850 -> 1317.5
A28: 2321 | B28: Kurināmais | D28: 1.46147 | E28: 1242.25
A29: 2350 | B29: Iestāžu uzturēšanas materiāli un preces | D29: 0.28 | E29: =D29*850 -> 238
A30: 2361 | B30: Mīkstais inventārs | D30: 0.28 | E30: =D30*850 -> 238
A31: 2362 | B31: Virtuves inventārs, trauki un galda piederumi | D31: 0.12 | E31: =D31*850 -> 102
A32: 2363 | B32: Ēdināšanas izdevumi | D32: 3.58 | E32: =D32*850 -> 3043
A33: 5239 | B33: Pārējie iepriekš neklasificētie pamatlīdzekļi un ieguldījuma īpašumi | D33: 0.47846 | E33: 406.69
B34: Tiešās izmaksas kopā | D34: =SUM(D18:D33) -> 19.148927 | E34: =SUM(E18:E33) -> 16276.59
B35: Netiešās izmaksas
A36: 1100 | B36: Atalgojums | C36: =0.388+0.024 -> 0.412 | E36: 3761.52
A37: 1200 | B37: Darba devēja valsts sociālās apdrošināšanas obligātās iemaksas, pabalsti un kompensācijas | C37: =C36*0.2359 -> 0.0971908 | E37: 887.34
A38: 2100 | B38: Mācību, darba un dienesta komandējumi, dienesta, darba braucieni | C38: 0.001166 | E38: 10.65
A39: 2210 | B39: Izdevumi par sakaru pakalpojumiem | C39: 0.0076 | E39: 69.39
A40: 2222 | B40: Izdevumi par ūdensapgādi un kanalizāciju | C40: 0.0095 | E40: 86.73
A41: 2223 | B41: Izdevumi par elektroenerģiju | C41: 0.01902 | E41: 173.65
A42: 2224 | B42: Izdevumi par atkritumu savākšanu, izvešanu no apdzīvotām vietām un teritorijām ārpus apdzīvotām vietām un atkritumu utilizāciju | C42: 0.00495 | E42: 45.19
A43: 2231 | B43: Izdevumi iestādes sabiedrisko aktivitāšu īstenošanai | C43: 0.00155 | E43: 14.15
...

Sheet 7.4.2.vec
E1: SASKAŅOTS
E2: Sociālās integrācijas valsts aģentūras
E3: direktore I.Jurševska
E5: 2021. gada 30. augustā
A7: Maksas pakalpojuma izcenojuma aprēķins
A9: Sociālās integrācijas valsts aģentūra
A10: Publiskā pakalpojuma veids:
B11: 7. Viesu izmitināšana
B12: 7.4. Viesu izmitināšana - Dubultu prospekts 71, 2.korpuss, Jūrmala (viena vieta divvietīgā numurā)
B13: 7.4.2. Viesu izmitināšana - Dubultu prospekts 71, 1.korpuss, Jūrmala (viena vieta divvietīgā numurā, ar trīsreizēju ēdināšanu)
A14: Laikposms | B14: 2022.gadā un turpmāk
A15: Izdevumu klasifikācijas kods | B15: Rādītājs (materiāla/izejvielas nosaukums, atlīdzība un citi izmaksu veidi) | E15: Izmaksu apjoms noteiktā laikposmā viena maksas pakalpojuma veida nodrošināšanai
A16: 1 | B16: 2 | E16: 3
B17: Tiešās izmaksas
A18: 1100 | B18: Atalgojums | D18: =7.12/1.2359 -> 5.7609839 | E18: 5472.93
A19: 1200 | B19: Darba devēja valsts sociālās apdrošināšanas obligātās iemaksas, pabalsti un kompensācijas | D19: =D18*0.2359 -> 1.3590161 | E19: 1291.06
A20: 2210 | B20: Izdevumi par sakaru pakalpojumiem | D20: 0.08 | E20: =D20*950 -> 76
A21: 2222 | B21: Izdevumi par ūdensapgādi un kanalizāciju | D21: 1.9928 | E21: 1893.16
A22: 2223 | B22: Izdevumi par elektroenerģiju | D22: 1.18953 | E22: 1130.05
A23: 2243 | B23: Iekārtas, inventāra un aparatūras remonts, tehniskā apkalpošana | D23: 0.06 | E23: =D23*950 -> 57
A24: 2244 | B24: Nekustamā īpašuma uzturēšana | D24: 1.8304 | E24: 1738.88
A25: 2250 | B25: Informācijas tehnoloģiju pakalpojumi | D25: 0.16 | E25: =D25*950 -> 152
A26: 2311 | B26: Biroja preces | D26: 0.48 | E26: =D26*950 -> 456
A27: 2312 | B27: Inventārs | D27: 1.63 | E27: =D27*950 -> 1548.5
A28: 2321 | B28: Kurināmais | D28: 1.5491587 | E28: 1471.7
A29: 2350 | B29: Iestāžu uzturēšanas materiāli un preces | D29: 0.33 | E29: =D29*950 -> 313.5
A30: 2361 | B30: Mīkstais inventārs | D30: 0.28 | E30: =D30*950 -> 266
A31: 2362 | B31: Virtuves inventārs, trauki un galda piederumi | D31: 0.18 | E31: =D31*950 -> 171
A32: 2363 | B32: Ēdināšanas izdevumi | D32: 8.12 | E32: =D32*950 -> 7714
A33: 5239 | B33: Pārējie iepriekš neklasificētie pamatlīdzekļi un ieguldījuma īpašumi | D33: 0.507165 | E33: 481.81
B34: Tiešās izmaksas kopā | D34: =SUM(D18:D33) -> 25.509054 | E34: =SUM(E18:E33) -> 24233.59
B35: Netiešās izmaksas
A36: 1100 | B36: Atalgojums | C36: =0.388+0.024 -> 0.412 | E36: 5433
A37: 1200 | B37: Darba devēja valsts sociālās apdrošināšanas obligātās iemaksas, pabalsti un kompensācijas | C37: =C36*0.2359 -> 0.0971908 | E37: 1281.64
A38: 2100 | B38: Mācību, darba un dienesta komandējumi, dienesta, darba braucieni | C38: 0.001166 | E38: 15.38
A39: 2210 | B39: Izdevumi par sakaru pakalpojumiem | C39: 0.0076 | E39: 100.22
A40: 2222 | B40: Izdevumi par ūdensapgādi un kanalizāciju | C40: 0.0095 | E40: 125.28
A41: 2223 | B41: Izdevumi par elektroenerģiju | C41: 0.01902 | E41: 250.81
A42: 2224 | B42: Izdevumi par atkritumu savākšanu, izvešanu no apdzīvotām vietām un teritorijām ārpus apdzīvotām vietām un atkritumu utilizāciju | C42: 0.00495 | E42: 65.28
A43: 2231 | B43: Izdevumi iestādes sabiedrisko aktivitāšu īstenošanai | C43: 0.00155 | E43: 20.44
...

Sheet 7.4.3.
D1: SASKAŅOTS
D2: Sociālās integrācijas valsts aģentūras
D3: direktores p.i. G.Apele
D5: 2019. gada 15.martā
A7: Maksas pakalpojuma izcenojuma aprēķins
A9: Sociālās integrācijas valsts aģentūra
A10: Publiskā pakalpojuma veids:
B11: 7. Viesu izmitināšana
B12: 7.4. Viesu izmitināšana Dubultu prospektā 71, 1.korpusā Jūrmalā (viena vieta divvietīgā numurā)
B13: 7.4.3. Piemaksa par uzturēšanos vienai personai divvietīgā numurā
A14: Laikposms | B14: ='7.4.2.vec'!B14 -> 2022.gadā un turpmāk
A15: Izdevumu klasifikācijas kods | B15: Rādītājs (materiāla/izejvielas nosaukums, atlīdzība un citi izmaksu veidi) | C15: Izmaksu apjoms noteiktā laikposmā viena maksas pakalpojuma veida nodrošināšanai | D15: Izmaksu apjoms noteiktā laikposmā viena maksas pakalpojuma veida nodrošināšanai
A16: 1 | B16: 2 | D16: 3
B17: Tiešās izmaksas
A18: 1100 | B18: Atalgojums | C18: 31.18 | D18: =C18/30*340 -> 353.37333
A19: 1200 | B19: Darba devēja valsts sociālās apdrošināšanas obligātās iemaksas, sociāla rakstura pabalsti un kompensācijas | C19: 7.51 | D19: =C19/30*340 -> 85.113333
A20: 2210 | B20: Pasta, telefona un citu sakaru pakalpojumi | C20: 0 | D20: =C20/30*340 -> 0
A21: 2222 | B21: Izdevumi par ūdeni un kanalizāciju | C21: 22.55 | D21: =C21/30*340 -> 255.56667
A22: 2223 | B22: Izdevumi par elektroenerģiju | C22: 28.66 | D22: =C22/30*340 -> 324.81333
A23: 2230 | B23: Iestādes administratīvie izdevumi un ar iestādes darbības nodrošināšanu saistītie izdevumi | C23: 0 | D23: =C23/30*340 -> 0
A24: 2243 | B24: Iekārtas, inventāra un aparatūras remonts, tehniskā apkalpošana | C24: 0.44 | D24: =C24/30*340 -> 4.9866667
A25: 2244 | B25: Ēku, būvju un telpu uzturēšana | C25: 32.12 | D25: 934.21
A26: 2249 | B26: Pārējie remonta darbu un iestāžu uzturēšanas pakalpojumi | C26: 0 | D26: =C26/30*340 -> 0
A27: 2251 | B27: Informācijas sistēmas uzturēšana | C27: 0 | D27: =C27/30*340 -> 0
A28: 2263 | B28: Zemes noma | C28: 8.57 | D28: =C28/30*340 -> 97.126667
A29: 2264 | B29: Iekārtu un inventāra īre un noma | C29: 0 | D29: =C29/30*340 -> 0
A30: 2279 | B30: Pārējie iepriekš neklasificētie pakalpojumu veidi | C30: 5.21 | D30: =C30/30*340 -> 59.046667
A31: 2321 | B31: Kurināmais | C31: 34.65 | D31: =C31/30*340 -> 392.7
A32: 2341 | B32: Zāles, ķimikālijas, laboratorijas preces | C32: 0 | D32: =C32/30*340 -> 0
A33: 2350 | B33: Kārtējā remonta un iestāžu uzturēšanas materiāli | C33: 0 | D33: =C33/30*340 -> 0
A34: 2362 | B34: Virtuves inventārs, trauki un galda piederumi | C34: 0 | D34: =C34/30*340 -> 0
A35: 2363 | B35: Ēdināšanas izdevumi | C35: 0 | D35: =C35/30*340 -> 0
A36: 2513 | B36: Budžeta iestāžu nekustamā īpašuma nodokļa (t.sk. zemes nodokļa parāda) maksājumi budžetā | C36: 1.21 | D36: =C36/30*340 -> 13.713333
A37: 2519 | B37: Pārējie budžeta iestāžu pārskaitītie nodokļi un nodevas | C37: 0.63 | D37: =C37/30*340 -> 7.14
A38: 5232 | B38: Saimniecības pamatlīdzekļi
B39: Tiešās izmaksas kopā | C39: =SUM(C18:C38) -> 172.73 | D39: =SUM(D18:D38) -> 2527.79
B40: Netiešās izmaksas
A41: 1100 | B41: Atalgojums | C41: 56.1 | D41: =C41/30*340 -> 635.8
A42: 1200 | B42: Darba devēja valsts sociālās apdrošināšanas obligātās iemaksas, sociāla rakstura pabalsti un kompensācijas | C42: 13.51 | D42: =C42/30*340 -> 153.11333
A43: 2100 | B43: Mācību, darba un dienesta komandējumi, dienesta, darba braucieni | C43: 0 | D43: =C43/30*340 -> 0
...

Sheet 4.3.1.
E1: SASKAŅOTS
E2: Sociālās integrācijas valsts aģentūras
E3: direktore I.Jurševska
E5: 2023. gada 29. martā
A7: Maksas pakalpojuma izcenojuma aprēķins
A9: Sociālās integrācijas valsts aģentūra
A10: Publiskā pakalpojuma veids:
B11: 4. Viesu izmitināšana
B12: 4.3. Viesu izmitināšana Dubultu prospektā 71, Jūrmalā, papildus vieta
B13: 4.3.1. Papildu vieta bērnam no 2 līdz 14 gadu vecumam Dubultu prospektā 71, 2 korpuss, Jūrmalā (ar brokastīm)
A14: Laikposms | B14: 2023.gadā un turpmāk
A15: Izdevumu klasifikācijas kods | B15: Rādītājs (materiāla/izejvielas nosaukums, atlīdzība un citi izmaksu veidi) | E15: Izmaksu apjoms noteiktā laikposmā viena maksas pakalpojuma veida nodrošināšanai
A16: 1 | B16: 2 | E16: 3
B17: Tiešās izmaksas
A18: 1100 | B18: Atalgojums | C18: 5.3220007 | E18: 180.07
A19: 1200 | B19: Darba devēja valsts sociālās apdrošināšanas obligātās iemaksas, pabalsti un kompensācijas | C19: =C18*0.2359 -> 1.25546 | E19: 42.48
A20: 2210 | B20: Izdevumi par sakaru pakalpojumiem
A21: 2222 | B21: Izdevumi par ūdensapgādi un kanalizāciju | C21: 0.1774443 | E21: 5.2
A22: 2223 | B22: Izdevumi par elektroenerģiju | C22: 0.52153524 | E22: 15.26
A23: 2243 | B23: Iekārtas, inventāra un aparatūras remonts, tehniskā apkalpošana | C23: 0.024067273 | E23: 0.71
A24: 2244 | B24: Nekustamā īpašuma uzturēšana | C24: 0.63560965 | E24: 18.63
A25: 2250 | B25: Informācijas tehnoloģiju pakalpojumi | C25: 0.095 | E25: 2.85
A26: 2263 | B26: Zemes noma
A27: 2311 | B27: Biroja preces | C27: 1.0355716 | E27: 30.79
A28: 2312 | B28: Inventārs | C28: 0.31664822 | E28: 9.38
A29: 2321 | B29: Kurināmais | C29: 0.3668872 | E29: 10.75
A30: 2350 | B30: Iestāžu uzturēšanas materiāli un preces | C30: 0.12125717 | E30: 3.55
A31: 2361 | B31: Mīkstais inventārs | C31: 0.054458313 | E31: 1.58
A32: 2362 | B32: Virtuves inventārs, trauki un galda piederumi | C32: 0.013141747 | E32: 0.4
A33: 2363 | B33: Ēdināšanas izdevumi | C33: 2.09 | E33: 62.7
A34: 2513 | B34: Budžeta iestāžu nekustamā īpašuma nodokļa maksājumi
A35: 2519 | B35: Pārējie budžeta iestāžu pārskaitītie nodokļi un nodevas
A36: 5239 | B36: Pārējie iepriekš neklasificētie pamatlīdzekļi un ieguldījuma īpašumi | C36: 0.47254079 | E36: 13.94
B37: Tiešās izmaksas kopā | C37: =SUM(C18:C36) -> 12.501622 | E37: =SUM(E18:E36) -> 398.29
B38: Netiešās izmaksas
A39: 1100 | B39: Atalgojums | D39: 0.4855 | E39: 137.26
A40: 1200 | B40: Darba devēja valsts sociālās apdrošināšanas obligātās iemaksas, pabalsti un kompensācijas | D40: =D39*0.2359 -> 0.11452945 | E40: 32.38
A41: 2100 | B41: Mācību, darba un dienesta komandējumi, dienesta, darba braucieni | D41: 0.001166 | E41: 0.36
A42: 2210 | B42: Izdevumi par sakaru pakalpojumiem | D42: 0.0076 | E42: 2.33
A43: 2222 | B43: Izdevumi par ūdensapgādi un kanalizāciju | D43: =0.0095*1.15 -> 0.010925 | E43: 3.35
...

Sheet 4.3.2.
E1: SASKAŅOTS
E2: Sociālās integrācijas valsts aģentūras
E3: direktore I.Jurševska
E5: 2023. gada 29. martā
A7: Maksas pakalpojuma izcenojuma aprēķins
A9: Sociālās integrācijas valsts aģentūra
A10: Publiskā pakalpojuma veids:
B11: 4. Viesu izmitināšana
B12: 4.3. Viesu izmitināšana Dubultu prospektā 71, Jūrmalā, papildus vieta
B13: 4.3.2. Papildu vieta bērnam no 2 līdz 14 gadu vecumam Dubultu prospektā 71, 2 korpuss, Jūrmalā (ar trīsreizēju ēdināšanu)
A14: Laikposms | B14: 2023.gadā un turpmāk
A15: Izdevumu klasifikācijas kods | B15: Rādītājs (materiāla/izejvielas nosaukums, atlīdzība un citi izmaksu veidi) | E15: Izmaksu apjoms noteiktā laikposmā viena maksas pakalpojuma veida nodrošināšanai
A16: 1 | B16: 2 | E16: 3
B17: Tiešās izmaksas
A18: 1100 | B18: Atalgojums | C18: 7.8366013 | E18: 266.81
A19: 1200 | B19: Darba devēja valsts sociālās apdrošināšanas obligātās iemaksas, pabalsti un kompensācijas | C19: =C18*0.2359 -> 1.8486542 | E19: 62.94
A20: 2210 | B20: Izdevumi par sakaru pakalpojumiem
A21: 2222 | B21: Izdevumi par ūdensapgādi un kanalizāciju | C21: 0.22548084 | E21: 6.65
A22: 2223 | B22: Izdevumi par elektroenerģiju | C22: 0.56503637 | E22: 16.57
A23: 2243 | B23: Iekārtas, inventāra un aparatūras remonts, tehniskā apkalpošana | C23: 0.03625094 | E23: 1.08
A24: 2244 | B24: Nekustamā īpašuma uzturēšana | C24: 0.69759783 | E24: 20.49
A25: 2250 | B25: Informācijas tehnoloģiju pakalpojumi | C25: 0.095 | E25: 2.85
A26: 2263 | B26: Zemes noma
A27: 2311 | B27: Biroja preces | C27: 1.0355716 | E27: 30.79
A28: 2312 | B28: Inventārs | C28: 0.39767064 | E28: 11.82
A29: 2321 | B29: Kurināmais | C29: 0.40435662 | E29: 11.88
A30: 2350 | B30: Iestāžu uzturēšanas materiāli un preces | C30: 0.15456804 | E30: 4.56
A31: 2361 | B31: Mīkstais inventārs | C31: 0.054458313 | E31: 1.58
A32: 2362 | B32: Virtuves inventārs, trauki un galda piederumi | C32: 0.031051737 | E32: 0.94
A33: 2363 | B33: Ēdināšanas izdevumi | C33: 5.36 | E33: =5.36*30 -> 160.8
A34: 2513 | B34: Budžeta iestāžu nekustamā īpašuma nodokļa maksājumi
A35: 2519 | B35: Pārējie budžeta iestāžu pārskaitītie nodokļi un nodevas
A36: 5239 | B36: Pārējie iepriekš neklasificētie pamatlīdzekļi un ieguldījuma īpašumi | C36: 0.54388651 | E36: 16.09
B37: Tiešās izmaksas kopā | C37: =SUM(C18:C36) -> 19.286185 | E37: =SUM(E18:E36) -> 615.85
B38: Netiešās izmaksas
A39: 1100 | B39: Atalgojums | D39: 0.4855 | E39: 148.57
A40: 1200 | B40: Darba devēja valsts sociālās apdrošināšanas obligātās iemaksas, pabalsti un kompensācijas | D40: =D39*0.2359 -> 0.11452945 | E40: 35.05
A41: 2100 | B41: Mācību, darba un dienesta komandējumi, dienesta, darba braucieni | D41: 0.001166 | E41: 0.41
A42: 2210 | B42: Izdevumi par sakaru pakalpojumiem | D42: 0.0076 | E42: 2.67
A43: 2222 | B43: Izdevumi par ūdensapgādi un kanalizāciju | D43: =0.0095*1.15 -> 0.010925 | E43: 3.83
...

Sheet 7.5.3.vec
C1: SASKAŅOTS
C2: Sociālās integrācijas valsts aģentūras
C3: direktores p.i. G.Apele
C5: 2019. gada 15.martā
A7: Maksas pakalpojuma izcenojuma aprēķins
A9: Sociālās integrācijas valsts aģentūra
A10: Publiskā pakalpojuma veids:
B11: 7. Viesu izmitināšana
B12: 7.5. Viesu izmitināšana Dubultu prospektā 71, Jūrmalā, papildus vieta
B13: 7.5.3. Papildu vieta bērnam no 2 līdz 14 gadu vecumam Dubultu prospektā 71, 1 korpuss, Jūrmalā (ar brokastīm)
A14: Laikposms | B14: ='4.3.2.'!B14 -> 2023.gadā un turpmāk
A15: Izdevumu klasifikācijas kods | B15: Rādītājs (materiāla/izejvielas nosaukums, atlīdzība un citi izmaksu veidi) | C15: Izmaksu apjoms noteiktā laikposmā viena maksas pakalpojuma veida nodrošināšanai
A16: 1 | B16: 2 | C16: 3
B17: Tiešās izmaksas
A18: 1100 | B18: Atalgojums | C18: 52.66
A19: 1200 | B19: Darba devēja valsts sociālās apdrošināšanas obligātās iemaksas, sociāla rakstura pabalsti un kompensācijas | C19: 12.69
A20: 2219 | B20: Pārējie sakaru pakalpojumi | C20: 0.97
A21: 2222 | B21: Izdevumi par ūdeni un kanalizāciju | C21: 29.19
A22: 2223 | B22: Izdevumi par elektroenerģiju | C22: 32.92
A23: 2243 | B23: Iekārtas, inventāra un aparatūras remonts, tehniskā apkalpošana | C23: 0.45
A24: 2244 | B24: Ēku, būvju un telpu uzturēšana | C24: 50.57
A25: 2249 | B25: Pārējie remontdarbu un iestāžu uzturēšanas pakalpojumi | C25: 0
A26: 2263 | B26: Zemes noma | C26: 9.22
A27: 2264 | B27: Iekārtu un inventāra īre un noma | C27: 0.06
A28: 2279 | B28: Pārējie iepriekš neklasificētie pakalpojumu veidi | C28: 5.06
A29: 2321 | B29: Kurināmais | C29: 45.16
... A32: 2519 | B32: Pārējie budžeta iestāžu pārskaitītie nodokļi un nodevas | C32: 0.65
B33: Tiešās izmaksas kopā | C33: =SUM(C18:C32) -> 294.77
B34: Netiešās izmaksas
A35: 1100 | B35: Atalgojums | C35: 57.79
A36: 1200 | B36: Darba devēja valsts sociālās apdrošināšanas obligātās iemaksas, sociāla rakstura pabalsti un kompensācijas | C36: 13.92
A37: 2219 | B37: Pārējie sakaru pakalpojumi | C37: 1.56
A38: 2234 | B38: Normatīvajos aktos noteiktie darba devēja veselības izdevumi darba ņēmējiem | C38: 0.13
A39: 2239 | B39: Pārējie iestādes administratīvie izdevumi un ar iestādes darbības nodrošināšanu saistītie pakalpojumi | C39: 0.65
A40: 2241 | B40: Ēku, būvju un telpu remonts | C40: 0.13
A41: 2242 | B41: Transportlīdzekļu uzturēšana un remonts | C41: 0
A42: 2243 | B42: Iekārtas, inventāra un aparatūras remonts, tehniskā apkalpošana | C42: 0.52
A43: 2244 | B43: Ēku, būvju un telpu uzturēšana | C43: 8.76
A44: 2247 | B44: Apdrošināšanas izdevumi | C44: 0.2
A45: 2251 | B45: Informācijas sistēmas uzturēšana | C45: 7.1
...

Sheet 7.5.4.
C1: SASKAŅOTS
C2: Sociālās integrācijas valsts aģentūras
C3: direktores p.i. G.Apele
C5: 2019. gada 15.martā
A7: Maksas pakalpojuma izcenojuma aprēķins
A9: Sociālās integrācijas valsts aģentūra
A10: Publiskā pakalpojuma veids:
B11: 7. Viesu izmitināšana
B12: 7.5. Viesu izmitināšana Dubultu prospektā 71, Jūrmalā, papildus vieta
B13: 7.5.4. Papildu vieta bērnam no 2 līdz 14 gadu vecumam Dubultu prospektā 71, 1 korpuss, Jūrmalā (ar trīsreizēju ēdināšanu)
A14: Laikposms | B14: ='7.5.3.vec'!B14 -> 2023.gadā un turpmāk
A15: Izdevumu klasifikācijas kods | B15: Rādītājs (materiāla/izejvielas nosaukums, atlīdzība un citi izmaksu veidi) | C15: Izmaksu apjoms noteiktā laikposmā viena maksas pakalpojuma veida nodrošināšanai
A16: 1 | B16: 2 | C16: 3
B17: Tiešās izmaksas
A18: 1100 | B18: Atalgojums | C18: 63.2
A19: 1200 | B19: Darba devēja valsts sociālās apdrošināšanas obligātās iemaksas, sociāla rakstura pabalsti un kompensācijas | C19: 15.23
A20: 2219 | B20: Pārējie sakaru pakalpojumi | C20: 1.16
A21: 2222 | B21: Izdevumi par ūdeni un kanalizāciju | C21: 35.03
A22: 2223 | B22: Izdevumi par elektroenerģiju | C22: 39.51
A23: 2243 | B23: Iekārtas, inventāra un aparatūras remonts, tehniskā apkalpošana | C23: 0.54
A24: 2244 | B24: Ēku, būvju un telpu uzturēšana | C24: 63
A25: 2249 | B25: Pārējie remontdarbu un iestāžu uzturēšanas pakalpojumi | C25: 0
A26: 2263 | B26: Zemes noma | C26: 11.06
A27: 2264 | B27: Iekārtu un inventāra īre un noma | C27: 0.07
A28: 2279 | B28: Pārējie iepriekš neklasificētie pakalpojumu veidi | C28: 6.07
A29: 2321 | B29: Kurināmais | C29: 54.19
... A32: 2519 | B32: Pārējie budžeta iestāžu pārskaitītie nodokļi un nodevas | C32: 0.78
B33: Tiešās izmaksas kopā | C33: =SUM(C18:C32) -> 408.84
B34: Netiešās izmaksas
A35: 1100 | B35: Atalgojums | C35: 63.57
A36: 1200 | B36: Darba devēja valsts sociālās apdrošināšanas obligātās iemaksas, sociāla rakstura pabalsti un kompensācijas | C36: 15.31
A37: 2219 | B37: Pārējie sakaru pakalpojumi | C37: 1.87
A38: 2234 | B38: Normatīvajos aktos noteiktie darba devēja veselības izdevumi darba ņēmējiem | C38: 0.16
A39: 2239 | B39: Pārējie iestādes administratīvie izdevumi un ar iestādes darbības nodrošināšanu saistītie pakalpojumi | C39: 0.78
A40: 2241 | B40: Ēku, būvju un telpu remonts | C40: 0.16
A41: 2242 | B41: Transportlīdzekļu uzturēšana un remonts | C41: 0
A42: 2243 | B42: Iekārtas, inventāra un aparatūras remonts, tehniskā apkalpošana | C42: 1.02
A43: 2244 | B43: Ēku, būvju un telpu uzturēšana | C43: 25.25
A44: 2247 | B44: Apdrošināšanas izdevumi | C44: 0.24
A45: 2251 | B45: Informācijas sistēmas uzturēšana | C45: 8.52
...

Sheet 4.3.3.
E1: SASKAŅOTS
E2: Sociālās integrācijas valsts aģentūras
E3: direktore I.Jurševska
E5: 2023. gada 29. martā
A7: Maksas pakalpojuma izcenojuma aprēķins
A9: Sociālās integrācijas valsts aģentūra
A10: Publiskā pakalpojuma veids:
B11: 4. Viesu izmitināšana
B12: 4.3. Viesu izmitināšana Dubultu prospektā 71, Jūrmalā, papildus vieta
B13: 4.3.3. Papildu vieta vienai personai Dubultu prospektā 71, 2. korp., Jūrmalā (ar brokastīm)
A14: Laikposms | B14: 2023.gadā un turpmāk
A15: Izdevumu klasifikācijas kods | B15: Rādītājs (materiāla/izejvielas nosaukums, atlīdzība un citi izmaksu veidi) | E15: Izmaksu apjoms noteiktā laikposmā viena maksas pakalpojuma veida nodrošināšanai
A16: 1 | B16: 2 | E16: 3
B17: Tiešās izmaksas
A18: 1100 | B18: Atalgojums | C18: 8.6068717 | E18: 282.63
A19: 1200 | B19: Darba devēja valsts sociālās apdrošināšanas obligātās iemaksas, pabalsti un kompensācijas | C19: =C18*0.2359 -> 2.030361 | E19: 66.67
A20: 2210 | B20: Izdevumi par sakaru pakalpojumiem
A21: 2222 | B21: Izdevumi par ūdensapgādi un kanalizāciju | C21: 0.2021967 | E21: 5.94
A22: 2223 | B22: Izdevumi par elektroenerģiju | C22: 0.59961558 | E22: 17.6
A23: 2243 | B23: Iekārtas, inventāra un aparatūras remonts, tehniskā apkalpošana | C23: 0.035127309 | E23: 1.04
A24: 2244 | B24: Nekustamā īpašuma uzturēšana | C24: 0.76012481 | E24: 22.35
A25: 2250 | B25: Informācijas tehnoloģiju pakalpojumi | C25: 0.19 | E25: 5.7
A26: 2263 | B26: Zemes noma
A27: 2311 | B27: Biroja preces | C27: 1.7655716 | E27: 52.69
A28: 2312 | B28: Inventārs | C28: 0.4721967 | E28: 14.04
A29: 2321 | B29: Kurināmais | C29: 0.43439341 | E29: 12.77
A30: 2350 | B30: Iestāžu uzturēšanas materiāli un preces | C30: 0.13681478 | E30: 4.02
A31: 2361 | B31: Mīkstais inventārs | C31: 0.054458313 | E31: 1.58
A32: 2362 | B32: Virtuves inventārs, trauki un galda piederumi | C32: 0.02 | E32: 0.6
A33: 2363 | B33: Ēdināšanas izdevumi | C33: 3.87 | E33: 116.1
A34: 2513 | B34: Budžeta iestāžu nekustamā īpašuma nodokļa maksājumi
A35: 2519 | B35: Pārējie budžeta iestāžu pārskaitītie nodokļi un nodevas
A36: 5239 | B36: Pārējie iepriekš neklasificētie pamatlīdzekļi un ieguldījuma īpašumi | C36: 0.67018972 | E36: 19.87
B37: Tiešās izmaksas kopā | C37: =SUM(C18:C36) -> 19.847922 | E37: =SUM(E18:E36) -> 623.6
B38: Netiešās izmaksas
A39: 1100 | B39: Atalgojums | D39: 0.4855 | E39: 178.43
A40: 1200 | B40: Darba devēja valsts sociālās apdrošināšanas obligātās iemaksas, pabalsti un kompensācijas | D40: =D39*0.2359 -> 0.11452945 | E40: 42.09
A41: 2100 | B41: Mācību, darba un dienesta komandējumi, dienesta, darba braucieni | D41: 0.001166 | E41: 0.47
A42: 2210 | B42: Izdevumi par sakaru pakalpojumiem | D42: 0.0076 | E42: 3.06
A43: 2222 | B43: Izdevumi par ūdensapgādi un kanalizāciju | D43: =0.0095*1.15 -> 0.010925 | E43: 4.4
...

Sheet 7.5.7.
C1: SASKAŅOTS
C2: Sociālās integrācijas valsts aģentūras
C3: direktores p.i. G.Apele
C5: 2019. gada 15.martā
A7: Maksas pakalpojuma izcenojuma aprēķins
A9: Sociālās integrācijas valsts aģentūra
A10: Publiskā pakalpojuma veids:
B11: 7. Viesu izmitināšana
B12: 7.5. Viesu izmitināšana Dubultu prospektā 71, Jūrmalā, papildus vieta
B13: 7.5.7. Papildu vieta vienai personai Dubultu prospektā 71, 1 korpuss, Jūrmalā (ar brokastīm)
A14: Laikposms | B14: ='4.3.4.'!B14 -> 2023.gadā un turpmāk
A15: Izdevumu klasifikācijas kods | B15: Rādītājs (materiāla/izejvielas nosaukums, atlīdzība un citi izmaksu veidi) | C15: Izmaksu apjoms noteiktā laikposmā viena maksas pakalpojuma veida nodrošināšanai
A16: 1 | B16: 2 | C16: 3
B17: Tiešās izmaksas
A18: 1100 | B18: Atalgojums | C18: 63.2
A19: 1200 | B19: Darba devēja valsts sociālās apdrošināšanas obligātās iemaksas, sociāla rakstura pabalsti un kompensācijas | C19: 15.22
A20: 2219 | B20: Pārējie sakaru pakalpojumi | C20: 0.97
A21: 2222 | B21: Izdevumi par ūdeni un kanalizāciju | C21: 38.02
A22: 2223 | B22: Izdevumi par elektroenerģiju | C22: 43.62
A23: 2243 | B23: Iekārtas, inventāra un aparatūras remonts, tehniskā apkalpošana | C23: 0.52
A24: 2244 | B24: Ēku, būvju un telpu uzturēšana | C24: 51.36
A25: 2249 | B25: Pārējie remontdarbu un iestāžu uzturēšanas pakalpojumi | C25: 0
A26: 2263 | B26: Zemes noma | C26: 10.14
A27: 2264 | B27: Iekārtu un inventāra īre un noma | C27: 0.06
A28: 2279 | B28: Pārējie iepriekš neklasificētie pakalpojumu veidi | C28: 5.06
A29: 2321 | B29: Kurināmais | C29: 54.19
... A32: 2519 | B32: Pārējie budžeta iestāžu pārskaitītie nodokļi un nodevas | C32: 0.65
B33: Tiešās izmaksas kopā | C33: =SUM(C18:C32) -> 391.58
B34: Netiešās izmaksas
A35: 1100 | B35: Atalgojums | C35: 63.57
A36: 1200 | B36: Darba devēja valsts sociālās apdrošināšanas obligātās iemaksas, sociāla rakstura pabalsti un kompensācijas | C36: 15.31
A37: 2219 | B37: Pārējie sakaru pakalpojumi | C37: 1.56
A38: 2234 | B38: Normatīvajos aktos noteiktie darba devēja veselības izdevumi darba ņēmējiem | C38: 0.13
A39: 2239 | B39: Pārējie iestādes administratīvie izdevumi un ar iestādes darbības nodrošināšanu saistītie pakalpojumi | C39: 0.65
A40: 2241 | B40: Ēku, būvju un telpu remonts | C40: 0.14
A41: 2242 | B41: Transportlīdzekļu uzturēšana un remonts | C41: 0
A42: 2243 | B42: Iekārtas, inventāra un aparatūras remonts, tehniskā apkalpošana | C42: 0.63
A43: 2244 | B43: Ēku, būvju un telpu uzturēšana | C43: 25.39
A44: 2247 | B44: Apdrošināšanas izdevumi | C44: 0.2
A45: 2251 | B45: Informācijas sistēmas uzturēšana | C45: 7.81
...

Sheet 7.5.8.
C1: SASKAŅOTS | D1: SASKAŅOTS
C2: Sociālās integrācijas valsts aģentūras | D2: Sociālās integrācijas valsts aģentūras
C3: direktore I.Jurševska | D3: direktores p.i. G.Apele
C5: 2017. gada .novembrī | D5: 2019. gada 15.martā
A7: Maksas pakalpojuma izcenojuma aprēķins
A9: Sociālās integrācijas valsts aģentūra
A10: Publiskā pakalpojuma veids:
B11: 7. Viesu izmitināšana
B12: 7.5. Viesu izmitināšana Dubultu prospektā 71, Jūrmalā, papildus vieta
B13: 7.5.8. Papildu vieta vienai personai Dubultu prospektā 71, 1 korpuss, Jūrmalā (ar trīsreizēju ēdināšanu)
A14: Laikposms | B14: ='7.5.7.'!B14 -> 2023.gadā un turpmāk
A15: Izdevumu klasifikācijas kods | B15: Rādītājs (materiāla/izejvielas nosaukums, atlīdzība un citi izmaksu veidi) | C15: Izmaksu apjoms noteiktā laikposmā viena maksas pakalpojuma veida nodrošināšanai | D15: Izmaksu apjoms noteiktā laikposmā viena maksas pakalpojuma veida nodrošināšanai
A16: 1 | B16: 2 | C16: 3 | D16: 3
B17: Tiešās izmaksas
A18: 1100 | B18: Atalgojums | C18: 76.15 | D18: 126.39
A19: 1200 | B19: Darba devēja valsts sociālās apdrošināšanas obligātās iemaksas, sociāla rakstura pabalsti un kompensācijas | C19: 17.95 | D19: 30.45
A20: 2219 | B20: Pārējie sakaru pakalpojumi | C20: 1.16 | D20: =C20/30*50 -> 1.9333333
A21: 2222 | B21: Izdevumi par ūdeni un kanalizāciju | C21: 48.62 | D21: =C21/30*50 -> 81.033333
A22: 2223 | B22: Izdevumi par elektroenerģiju | C22: 52.87 | D22: =C22/30*50 -> 88.116667
A23: 2243 | B23: Iekārtas, inventāra un aparatūras remonts, tehniskā apkalpošana | C23: 0.62 | D23: =C23/30*50 -> 1.0333333
A24: 2244 | B24: Ēku, būvju un telpu uzturēšana | C24: 69.25 | D24: =C24/30*50 -> 115.41667
A25: 2249 | B25: Pārējie remontdarbu un iestāžu uzturēšanas pakalpojumi | C25: 0 | D25: =C25/30*50 -> 0
A26: 2263 | B26: Zemes noma | C26: 12.17 | D26: =C26/30*50 -> 20.283333
A27: 2264 | B27: Iekārtu un inventāra īre un noma | C27: 0.07 | D27: =C27/30*50 -> 0.11666667
A28: 2279 | B28: Pārējie iepriekš neklasificētie pakalpojumu veidi | C28: 6.07 | D28: =C28/30*50 -> 10.116667
A29: 2321 | B29: Kurināmais | C29: 73.25 | D29: =C29/30*50 -> 122.08333
A30: 2363 | B30: Ēdināšanas izdevumi | C30: 221.4 | D30: 406
A31: 2513 | B31: Budžeta iestāžu nekustamā īpašuma nodokļa (t.sk. zemes nodokļa parāda) maksājumi budžetā | C31: 1.4 | D31: =C31/30*50 -> 2.3333333
A32: 2519 | B32: Pārējie budžeta iestāžu pārskaitītie nodokļi un nodevas | C32: 0.78 | D32: =C32/30*50 -> 1.3
B33: Tiešās izmaksas kopā | C33: =SUM(C18:C32) -> 581.76 | D33: =SUM(D18:D32) -> 1006.6067
B34: Netiešās izmaksas
A35: 1100 | B35: Atalgojums | C35: 76.58 | D35: 127.13
A36: 1200 | B36: Darba devēja valsts sociālās apdrošināšanas obligātās iemaksas, sociāla rakstura pabalsti un kompensācijas | C36: 18.07 | D36: 30.62
A37: 2219 | B37: Pārējie sakaru pakalpojumi | C37: 1.87 | D37: =C37/30*50 -> 3.1166667
A38: 2234 | B38: Normatīvajos aktos noteiktie darba devēja veselības izdevumi darba ņēmējiem | C38: 0.16 | D38: =C38/30*50 -> 0.26666667
A39: 2239 | B39: Pārējie iestādes administratīvie izdevumi un ar iestādes darbības nodrošināšanu saistītie pakalpojumi | C39: 0.78 | D39: =C39/30*50 -> 1.3
A40: 2241 | B40: Ēku, būvju un telpu remonts | C40: 0.17 | D40: 0.32
A41: 2242 | B41: Transportlīdzekļu uzturēšana un remonts | C41: 0 | D41: =C41/30*50 -> 0
A42: 2243 | B42: Iekārtas, inventāra un aparatūras remonts, tehniskā apkalpošana | C42: 0.76 | D42: 1.33
A43: 2244 | B43: Ēku, būvju un telpu uzturēšana | C43: 0.18 | D43: 74.3
...

Sheet 4.3.4.
E1: SASKAŅOTS
E2: Sociālās integrācijas valsts aģentūras
E3: direktore I.Jurševska
E5: 2023. gada 29. martā
A7: Maksas pakalpojuma izcenojuma aprēķins
A9: Sociālās integrācijas valsts aģentūra
A10: Publiskā pakalpojuma veids:
B11: 4. Viesu izmitināšana
B12: 4.3. Viesu izmitināšana Dubultu prospektā 71, Jūrmalā, papildus vieta
B13: 4.3.4. Papildu vieta vienai personai Dubultu prospektā 71, 2. korp., Jūrmalā (ar ar trīsreizēju ēdināšanu)
A14: Laikposms | B14: 2023.gadā un turpmāk
