Workbook

Sheet Kopsavilkums
B1: Pielikums Nr.1 Ministru kabineta noteikumu projekts “Grozījumi Ministru kabineta 2014. gada 11. marta noteikumos Nr. 134 "Noteikumi par vienoto veselības nozares elektronisko informācijas sistēmu"” sākotnējās ietekmes novērtējuma ziņojumam (anotācijai)
A3: Izdevumu pozīcija | B3: 2023.gads | C3: 2024.gadā un turpmāk ik gadu | D3: 2025.gadā un turpmāk ik gadu
A4: Vēža pacienta kartes papildināšana un uzturēšana 2024 gadam un turpmāk | B4: ='Vēža pacienta karte'!G6 -> 600000 | C4: ='Vēža pacienta karte'!H6 -> 200000 | D4: ='Vēža pacienta karte'!H6 -> 200000
A5: Laboratoriju portāla izstrāde/ pielāgošana | B5: =laboratorija!H6 -> 998249.6 | C5: - | D5: -
A6: Laboratorijas portāla uzturēšana | B6: =laboratorija!H15 -> 24971 | C6: =laboratorija!I15 -> 94863.996 | D6: =laboratorija!I15 -> 94863.996
A7: ONKO populācijas reģistrs I kārtas uzturēšana | B7: =ONKO_uzturesana!H7 -> 30787 | C7: =ONKO_uzturesana!I7 -> 105512.04 | D7: =ONKO_uzturesana!I6 -> 105512.04
A8: DigiVes infrastruktūras uzturēšana | B8: 299703 | C8: 299703 | D8: =DigiVes_uzturēšana!F17 -> 299703.11
A9: Atzinuma tehniskā palīglīdzekļa saņemšanai pilnveidošana | B9: - | C9: =Papild_finans_TPL!H6+Papild_finans_TPL!H15 -> 12484.048 | D9: =Papild_finans_TPL!I17 -> 3688.0961
A10: Ekspertu pakalpojumi | B10: - | C10: ='Papildus finansējums'!H6 -> 497600 | D10: ='Papildus finansējums'!H6 -> 497600
A11: KOPĀ: | B11: =SUM(B4:B10) -> 1953710.6 | C11: =SUM(C4:C10) -> 1210163.1 | D11: =SUM(D4:D10) -> 1201367.2

Sheet Vēža pacienta karte
G1: Pielikums Nr.2 Ministru kabineta noteikumu projekts “Grozījumi Ministru kabineta 2014. gada 11. marta noteikumos Nr. 134 "Noteikumi par vienoto veselības nozares elektronisko informācijas sistēmu"” sākotnējās ietekmes novērtējuma ziņojumam (anotācijai)
B2: Vēža pacienta kartes papildināšana un uzturēšana
A3: Nr.p.k. | B3: Nosaukums | C3: Precizēts apraksts | D3: Vienību skaits | E3: Vienību nosaukums | F3: Vienības cena, euro | G3: Papildu nepieciešamais finansējums 2023.gadam, euro | H3: Papildu nepieciešamais finansējums 2024.gadam un turpmāk ik gadu, euro
A4: 1 | B4: Uzturēšanas izmaksas | C4: Vēža pacienta kartes papildināšana un uzturēšana 2024 gadam un turpmāk | D4: 2500 | E4: cilvēkstundas | F4: 80 | G4: - | H4: =ROUND((D4*F4),0) -> 200000
A5: 2 | B5: Izmaiņu/ pielāgojumu veikšanas izmaksas | C5: Vēsturisko karšu labošana, Kontroles pie datu ievades/ iesūtīšanas, Veco klasifikatoru pārņemšana, datu konvertācija, Robežgadījumu apstrāde, Vēsturisko datu attēlošana Vēža pacienta kartē, kā arī papildinājumu izstrāde Vēža pacienta kartē | D5: 7500 | E5: cilvēkstundas | F5: 80 | G5: =D5*F5 -> 600000 | H5: -
A6: Kopā: | G6: =ROUND(SUM(G4:G5),0) -> 600000 | H6: =ROUND(SUM(H4:H5),0) -> 200000
B7: t.sk., pa EKK :
A8: EKK 2000 | G8: =ROUND(SUM(G4),0) -> 0 | H8: =H4 -> 200000
A9: EKK 5000 | G9: =ROUND(G5,0) -> 600000 | H9: 0
B10: Budžeta apakšorogrammas 45.01.00 "Veselības aprūpes finansējuma administrēšana un ekonomiskā novērtēšana" ietvaros - prioritārais pasākums “Veselības aprūpes pakalpojumu onkoloģijas jomā uzlabošana” nodrošinot veselības aprūpes pakalpojumu saņēmēju datubāzes darbības nepārtrauktību (MK 13.01.2023. sēdes prot. Nr.2 1.§ 2. punkts).
B11: Reģistrs ir valsts informācijas sistēma, kas satur datus par pacientiem, kuri slimo ar noteiktām slimībām.

Sheet laboratorija
G1: Pielikums Nr.3 Ministru kabineta noteikumu projekts “Grozījumi Ministru kabineta 2014. gada 11. marta noteikumos Nr. 134 "Noteikumi par vienoto veselības nozares elektronisko informācijas sistēmu"” sākotnējās ietekmes novērtējuma ziņojumam (anotācijai)
A2: Laboratoriju portāla izstrāde/ pielāgošana
A3: Nr.p.k. | B3: Nosaukums | C3: Precizēts apraksts | D3: Vienību skaits | E3: Vienību nosaukums | F3: Vienības cena | G3: EKK | H3: Papildu nepieciešamais finansējums 2023.gadam EUR
A4: 1 | B4: Pielāgošanas/ izstrādes izmaksas | C4: Portāla izveide, vai esošo portālu papildināšana ar ierspēju apskatīt laboratoriju informāciju, kā arī šo datu centralizēta apstrāde un saņemšana no laboratorijām | D4: 12478.12 | E4: Cilvēkstunda | F4: 80 | G4: 5000 | H4: =D4*F4 -> 998249.6
A5: Kopā bez PVN: | H5: =SUM(H4:H4) -> 998249.6
B6: Kopā ar PVN: | H6: =SUM(H5:H5) -> 998249.6
C7: t.sk., pa EKK
A8: EKK 5000 | H8: =SUM(H6) -> 998249.6
A11: Laboratorijas portāla I kārtas uzturēšana
A12: Nr.p.k. | B12: Nosaukums | C12: Precizēts apraksts | D12: Vienību skaits | E12: Vienību nosaukums | F12: Vienības cena | G12: EKK | H12: Papildu nepieciešamais finansējums 2023.gadam, EUR | I12: Papildu nepieciešamais finansējums 2024.gadam un turpmāk ik gadu, EUR
A13: 1 | B13: Uzturēšanas izmaksas | C13: Laboratorijas sistēma/moduļa I kārtas uzturēšanas nodrošināšanai 2023 gada trijiem mēnešiem | D13: =24971/F13 -> 3.1587537 | E13: Mēneša uzturēšanas izmaksas | F13: 7905.333 | G13: 2000 | H13: =D13*F13 -> 24971 | I13: -
A14: 2 | B14: Uzturēšanas izmaksas | C14: Laboratorijas sistēma/moduļa uzturēšanas nodrošināšanai 2024 gada un turpmākajiem gadiem | D14: 12 | E14: Mēneša uzturēšanas izmaksas | F14: 7905.333 | G14: 2000 | H14: - | I14: =(D14*F14) -> 94863.996
A15: Kopā: | H15: =SUM(H13:H13) -> 24971 | I15: =I14 -> 94863.996
C16: t.sk., pa EKK
A17: EKK 2000 | H17: =ROUND((H13),0) -> 24971 | I17: =I15 -> 94863.996
A19: Palielināti izdevumi, lai nodrošinātu laboratorijas izmeklējumu sistēmas izstrādi un citu informācijas un komunikācijas sistēmu attīstību un nepārtrauktas darbības nodrošināšanu un uzturēšanu, pārdalot finansējumu no apakšprogrammas 33.18.00 “Plānveida stacionāro veselības aprūpes pakalpojumu nodrošināšana” (MK 11.10.2022. sēdes prot. Nr.52 5.§ 75. punkts)

Sheet ONKO_uzturesana
G1: Pielikums Nr.4 Ministru kabineta noteikumu projekts “Grozījumi Ministru kabineta 2014. gada 11. marta noteikumos Nr. 134 "Noteikumi par vienoto veselības nozares elektronisko informācijas sistēmu"” sākotnējās ietekmes novērtējuma ziņojumam (anotācijai)
A3: ONKO populācijas reģistrs I kārtas uzturēšana
A4: Nr.p.k. | B4: Nosaukums | C4: Precizēts apraksts | D4: Vienību skaits | E4: Vienību nosaukums | F4: Vienības cena | G4: EKK | H4: Papildu nepieciešamais finansējums 2023.gadam, EUR | I4: Papildu nepieciešamais finansējums 2024.gadamun turpmāk ik gadu, EUR
A5: 1 | B5: Uzturēšanas izmaksas | C5: ONKO populācijas reģistrs I kārtas uzturēšana | D5: =30787/F5 -> 3.5014393 | E5: Mēneša uzturēšanas izmaksas | F5: 8792.67 | G5: 2000 | H5: =D5*F5 -> 30787 | I5: -
A6: 2 | B6: Uzturēšanas izmaksas | C6: Vēža pacienta kartes uzturēšanas nodrošināšana 2024 gadam un turpmāk Atbilstoši līgumam ar uzturētāju un tehniskajai specifikācija uzturēšanas pakalpojumā ietilpst: Uzturēšanas pakalpojums. Pakalpojuma sniegšanas ietvaros Izpildītājs nodrošina stabilu IS darbību. Kopējā (gan plānotā, gan neplānotā) IS pieejamība kalendārā mēneša laikā nedrīkst būt zemāka kā P-24 prasībā noteiktā. Uzturēšanas pakalpojums ir jānodrošina uz Pasūtītāja infrastruktūras. Uzturēšanas pakalpojums ietver: • Pasūtītāja produkcijas un ne produkcijas (testa un citi) IS uzraudzības nodrošināšana 24 stundas diennaktī, 7 dienas nedēļā; • Konstatēto incidentu novēršana un Pasūtītāja IS darbības atjaunošana saskaņā ar P-4 prasības nosacījumiem; • Regulāra IS rezerves kopiju veidošana un atjaunošana no rezerves kopijām, rezerves kopiju testēšana un testēšanas procesa dokumentēšana; • IS jauno versiju instalēšana testa un produkcijas vidē; • Darbības problēmu izpēti un novēršanu; • Kļūdu labošanu; • Konsultācijas; • Izmaiņu pieprasījumu novērtēšanu un realizāciju; • Izstrādāto izmaiņu pieprasījumu uzturēšanu • Uzturēšanas pakalpojuma ietvaros Izpildītājam ir jānodrošina, ka gadījumā, ja tiek izdots Lietojumprogrammas darbības nodrošināšanā izmantotās standartprogrammatūras (trešās puses programmatūra) jauninājums, Izpildītājs pēc Pasūtītāja pieprasījuma sniedz atzinumu par jauninājuma 32 ietekmi uz lietojumprogrammas programmatūru un gadījumā, ja, lai nodrošinātu jauninājuma uzstādīšanu, nepieciešami pielāgojumi Lietojumprogrammā, sniedz izvērtējumu par šādu darbu darbietilpību. • Lietotāju tehniskais atbalsts. Izpildītājam jānodrošina gala lietotāju tehniskais atbalsts un konsultācijas | D6: 12 | E6: Mēneša uzturēšanas izmaksas | F6: 8792.67 | G6: 2000 | H6: - | I6: =(D6*F6) -> 105512.04
A7: Kopā: | C7: KOPĀ: | H7: =SUM(H5:H5) -> 30787 | I7: =SUM(I5:I6) -> 105512.04
B8: t.sk., pa EKK
A9: EKK 2000 | H9: =H5 -> 30787 | I9: =SUM(I5:I6) -> 105512.04
A11: Palielināti izdevumi, lai nodrošinātu laboratorijas izmeklējumu sistēmas izstrādi un citu informācijas un komunikācijas sistēmu attīstību un nepārtrauktas darbības nodrošināšanu un uzturēšanu, pārdalot finansējumu no apakšprogrammas 33.18.00 “Plānveida stacionāro veselības aprūpes pakalpojumu nodrošināšana” (MK 11.10.2022. sēdes prot. Nr.52 5.§ 75. punkts)

Sheet DigiVes_uzturēšana
D1: Pielikums Nr.5 Ministru kabineta noteikumu projekts “Grozījumi Ministru kabineta 2014. gada 11. marta noteikumos Nr. 134 "Noteikumi par vienoto veselības nozares elektronisko informācijas sistēmu"” sākotnējās ietekmes novērtējuma ziņojumam (anotācijai)
A2: DigiVes infrastruktūras uzturēšana
A3: VESPC pakalpojums | B3: Mērvienība | C3: Cena par vienību, bez PVN | D3: Daudzums | E3: Ikmēneša abonēšanas maksa, bez PVN | F3: Ikmēneša abonēšanas maksa, ar PVN
A4: Virtuālo serveru jaudu pakalpojums, kodoli | B4: vCPU, gab | C4: 2.39 | D4: 1536 | E4: =C4*D4 -> 3671.04 | F4: =E4*1.21 -> 4441.9584
A5: Virtuālo serveru jaudu pakalpojums, operatīvā atmiņa | B5: RAM, 1GB | C5: 0.43 | D5: 8000 | E5: =C5*D5 -> 3440 | F5: =E5*1.21 -> 4162.4
A6: Virtuālo serveru jaudu pakalpojums, diska vieta | B6: SSD, 1TB | C6: 25.16 | D6: 250 | E6: =C6*D6 -> 6290 | F6: =E6*1.21 -> 7610.9
D7: Kopā: | E7: =SUM(E4:E6) -> 13401.04 | F7: =E7*1.21 -> 16215.258
A9: Rezerves kopēšana : | B9: Mārvienība | C9: Cena par vienību, bez PVN | D9: Daudzums | E9: Cena EUR kopā mēnesī, bez PVN | F9: Cena EUR kopā mēnesī, ar PVN
A10: Datubāzes/aplikācijas rezerves kopēšanas aģents | B10: gab | C10: 50 | D10: 10 | E10: =D10*C10 -> 500 | F10: =E10*1.21 -> 605
A11: Oprētājsistēmas/Failsistēmas rezerves kopēšanas aģents | B11: gab | C11: 30 | D11: 15 | E11: =D11*C11 -> 450 | F11: =E11*1.21 -> 544.5
A12: Virtuālā servera rezerves kopēšana aģents | B12: gab | C12: 10 | D12: 20 | E12: =D12*C12 -> 200 | F12: =E12*1.21 -> 242
A13: Datu glabātuve | B13: 1TB | C13: 20 | D13: 250 | E13: =D13*C13 -> 5000 | F13: =E13*1.21 -> 6050
A14: Kiberdrošības pakalpojuma “Vairogs+” abonēšana | B14: 1 | C14: 1089.67 | D14: 1 | E14: =D14*C14 -> 1089.67 | F14: =E14*1.21 -> 1318.5007
D15: Kopā: | E15: =SUM(E10:E14) -> 7239.67 | F15: =E15*1.21 -> 8760.0007
D16: Viss kopā EUR bez PVN mēnesī: | E16: =E7+E15 -> 20640.71 | F16: =E16*1.21 -> 24975.259
D17: 2023 gadā un turpmāk ik gadu: | F17: =F16*12 -> 299703.11
A19: Palielināti izdevumi, lai nodrošinātu laboratorijas izmeklējumu sistēmas izstrādi un citu informācijas un komunikācijas sistēmu attīstību un nepārtrauktas darbības nodrošināšanu un uzturēšanu, pārdalot finansējumu no apakšprogrammas 33.18.00 “Plānveida stacionāro veselības aprūpes pakalpojumu nodrošināšana” (MK 11.10.2022. sēdes prot. Nr.52 5.§ 75. punkts)

Sheet Papildus finansējums
E1: Pielikums Nr.6 Ministru kabineta noteikumu projekts “Grozījumi Ministru kabineta 2014. gada 11. marta noteikumos Nr. 134 "Noteikumi par vienoto veselības nozares elektronisko informācijas sistēmu"” sākotnējās ietekmes novērtējuma ziņojumam (anotācijai)
A3: Papildus nepieciešamais finansējums Laboratorisko izmeklējumu pārvaldības moduļa un Vēža pacienta kartes darbības nodrošināšanai
A4: Nr.p.k. | B4: Nosaukums | C4: Precizēts apraksts | D4: Vienību skaits | E4: Vienību nosaukums | F4: Vienības cena | G4: EKK | H4: Papildu nepieciešamais finansējums 2024.gadamun turpmāk ik gadu, EUR
A5: 1 | B5: Ekspertu pakalpojumi | C5: Ekspertiem jānodrošina sekojošais: 1.1. koordinēt un uzraudzīt pacientu pamatdatu un laboratorisko izmeklējumu datu elektronisko apmaiņu ar ārstniecības iestāžu un laboratoriju informācijas sistēmām (turpmāk – IS); 1.2. nodrošināt savietojamību ar ārstniecības iestāžu un laboratoriju IS; 1.3. nodrošināt izmaiņu vadību un sadarbību ar ārstniecības iestāžu un laboratoriju IS izstrādātājiem un ārstniecības iestāžu pilnvarotajām personām par plānotajām un ieviestajām izmaiņām un risinājumu funkcionalitātēm; 1.4. nodrošināt un organizēt medicīnas laboratoriju novērojumu identificēšanas nosaukumu un kodu klasifikatoru (turpmāk – LOINC klasifikators) karšu izmaiņu realizāciju un atjaunošanu saskaņā ar HL7 FHIR standartu; 1.5. vadīt un veikt problēmu risināšanu, kas saistīta ar datu apmaiņas nodrošināšanu; 1.6. vadīt uzturēšanu, papildināšanu un izmaiņu veikšanu; 1.7. sniegt lietotājiem pirmā līmeņa konsultatīvo un tehnisko atbalstu; 1.8. pārraudzīt jaunu integrācijas risinājumu pieslēgšanu, nodrošinot testēšanu un pakalpojuma juridisko atšķirību salāgošanu; 1.9 koordinēt starpresoru jautājumu risināšanu, kas attiecas uz nepieciešamo klasifikatoru un klasifikāciju uzturēšanu; 1.10. koordinēt ārstniecības iestāžu/laboratoriju IS izstrādātāju atbalstu integrāciju nodrošināšanai; 1.11 koordinēt LOINC klasifikatoru standartizēšanu un kartēšanas rezultātu saskaņošanu; 1.12 nodrošināt IS un IKT infrastruktūras pārraudzību, administrēšanu un darbību. | D5: =6220 -> 6220 | E5: Stundas | F5: 80 | G5: 2000 | H5: =D5*F5 -> 497600
A6: Kopā: | C6: KOPĀ: | H6: =SUM(H5:H5) -> 497600
B7: t.sk., pa EKK
A8: EKK 2000 | H8: =SUM(H5:H5) -> 497600

Sheet Papild_finans_TPL
G1: Pielikums Nr.7 Ministru kabineta noteikumu projekts “Grozījumi Ministru kabineta 2014. gada 11. marta noteikumos Nr. 134 "Noteikumi par vienoto veselības nozares elektronisko informācijas sistēmu"” sākotnējās ietekmes novērtējuma ziņojumam (anotācijai)
A2: Papildu nepieciešamais finansējums atzinuma tehniskā palīglīdzekļa saņemšanas pilnveidošanai
A3: Nr.p.k. | B3: Nosaukums | C3: Precizēts apraksts | D3: Vienību skaits | E3: Vienību nosaukums | F3: Vienības cena | G3: EKK | H3: Papildu nepieciešamais finansējums 2024.gadam EUR
A4: 1 | B4: Pielāgošanas/ izstrādes izmaksas | C4: Atzinuma tehniskā palīglīdzekļa saņemšanai pilnveidošana - papildināšana ar diviem laukiem: izskatīšanas steidzamība un steidzamības iemesls. Novērtējumā iekļauts: izmaiņu izstrāde e-veselības sistēmā, t.sk., portālā un atbalsts ĀI IS integrācijām, risinājuma dokumentēšana | D4: 133 | E4: Cilvēkstunda | F4: 80 | G4: 5000 | H4: =D4*F4 -> 10640
A5: Kopā bez PVN: | H5: =SUM(H4:H4) -> 10640
B6: Kopā ar PVN: | H6: =SUM(H5:H5) -> 10640
C7: t.sk., pa EKK
A8: EKK 5000 | H8: =SUM(H6) -> 10640
A11: Papildu nepieciešamais finansējums atzinuma tehniskā palīglīdzekļa saņemšanas uzturēšanai
A12: Nr.p.k. | B12: Nosaukums | C12: Precizēts apraksts | D12: Vienību skaits | E12: Vienību nosaukums | F12: Vienības cena | G12: EKK | H12: Papildu nepieciešamais finansējums 2024.gadam, EUR | I12: Papildu nepieciešamais finansējums 2025.gadam un turpmāk ik gadu, EUR
A13: 1 | B13: Uzturēšanas izmaksas | C13: Atzinuma tehniskā palīglīdzekļa uzturēšanas nodrošināšanai 2024 gada sešiem mēnešiem | D13: 6 | E13: Mēneša uzturēšanas izmaksas | F13: 307.34134 | G13: 2000 | H13: =D13*F13 -> 1844.048 | I13: -
A14: 2 | B14: Uzturēšanas izmaksas | C14: Atzinuma tehniskā palīglīdzekļa uzturēšanas nodrošināšanai 2025 gada un turpmākajiem gadiem | D14: 12 | E14: Mēneša uzturēšanas izmaksas | F14: 307.34134 | G14: 2000 | H14: - | I14: =(D14*F14) -> 3688.0961
A15: Kopā: | H15: =SUM(H13:H13) -> 1844.048 | I15: =I14 -> 3688.0961
C16: t.sk., pa EKK
A17: EKK 2000 | H17: =ROUND((H13),0) -> 1844 | I17: =I15 -> 3688.0961
