Workbook
Name Recover: [1]Macro1!$A$99
Name Rikojums2222: [2]Macro1!$A$106
Name TableName: "Dummy"

Sheet KOPĀ
G1: Pielikums Nr.1 Ministru kabineta rīkojuma "Par finanšu līdzekļu piešķiršanu no valsts budžeta programmas "Finansējums veselības jomas pasākumiem Covid-19 infekcijas izplatības ierobežošanai"" projekta sākotnējās ietekmes novērtējuma ziņojumam (anotācijai)
A2: Vakcīnu ievade:
B3: KOPĀ | C3: Euro, EKK 3000 | D3: Euro, EKK 7460 | E3: Sadalījums pa apakšprogrammām
A4: Vakcinācija: | B4: =SUM(B5:B13) -> 225198 | C4: =SUM(C5:C13) -> 223303 | D4: =SUM(D5:D13) -> 1895
A5: Veiktais darbs 2022.gada aprīlī par Covid-19 vakcinācijas saistītām manipulācijām (SAVA) | B5: =C5+D5 -> 62636 | C5: =Vakc_SAVA_aprilis!I4 -> 62499 | D5: =Vakc_SAVA_aprilis!J4 -> 137 | E5: 33.16.00 "Pārējo ambulatoro veselības aprūpes pakalpojumu nodrošināšana"
A6: Veiktais darbs 2022.gada aprīlī par Covid-19 vakcinācijas saistītām manipulācijām ģimenes ārstiem (PVA) | B6: =C6+D6 -> 33885 | C6: =Vakc_PVA_aprilis!I4 -> 33129 | D6: =Vakc_PVA_aprilis!J4 -> 756 | E6: 33.16.00 "Pārējo ambulatoro veselības aprūpes pakalpojumu nodrošināšana"
A7: Veiktais darbs 2022.gada aprīlī par Covid-19 manipulācijām stacionāros no 2021.gada novembra līdz 2022.gada martam pacientiem, kuri izrakstīti no stacionāra 2022.gada aprīlī | B7: =C7+D7 -> 63 | C7: =Vakc_stac_aprilis!J21 -> 63 | E7: 33.18.00 "Plānveida stacionāro veselības aprūpes pakalpojumu nodrošināšana"
A8: Veiktais darbs 2022.gada maijā par Covid-19 vakcinācijas saistītām manipulācijām (SAVA) | B8: =C8+D8 -> 40332 | C8: =Vakc_SAVA_maijs!J4 -> 39817 | D8: =Vakc_SAVA_maijs!K4 -> 515 | E8: 33.16.00 "Pārējo ambulatoro veselības aprūpes pakalpojumu nodrošināšana"
A9: Veiktais darbs 2022.gada maijā par Covid-19 vakcinācijas saistītām manipulācijām ģimenes ārstiem (PVA) | B9: =C9+D9 -> 22679 | C9: =Vakc_PVA_maijs!I4 -> 22569 | D9: =Vakc_PVA_maijs!J4 -> 110 | E9: 33.16.00 "Pārējo ambulatoro veselības aprūpes pakalpojumu nodrošināšana"
A10: Veiktais darbs 2022.gada maijā par Covid-19 manipulācijām stacionāros no 2022.gada janvāra līdz 2022.gada maijam pacientiem, kuri izrakstīti no stacionāra 2022.gada maijā | B10: =C10+D10 -> 14 | C10: =Vakc_stac_maijs!H11 -> 14 | E10: 33.18.00 "Plānveida stacionāro veselības aprūpes pakalpojumu nodrošināšana"
A11: Veiktais darbs 2022.gada jūnijā par Covid-19 vakcinācijas saistītām manipulācijām (SAVA) | B11: =C11+D11 -> 53352 | C11: =Vakc_SAVA_junijs!I4 -> 53124 | D11: =Vakc_SAVA_junijs!J4 -> 228 | E11: 33.16.00 "Pārējo ambulatoro veselības aprūpes pakalpojumu nodrošināšana"
A12: Veiktais darbs 2022.gada jūnijā par Covid-19 vakcinācijas saistītām manipulācijām ģimenes ārstiem (PVA) | B12: =C12+D12 -> 12147 | C12: =Vakc_PVA_junijs!I4 -> 11998 | D12: =Vakc_PVA_junijs!J4 -> 149 | E12: 33.16.00 "Pārējo ambulatoro veselības aprūpes pakalpojumu nodrošināšana"
A13: Veiktais darbs 2022.gada jūnijā par Covid-19 manipulācijām stacionāros 2021.gada decembra līdz 2022.gada maijam pacientiem, kuri izrakstīti no stacionāra 2022.gada jūnijā | B13: =C13+D13 -> 90 | C13: =Vakc_stac_junijs!J17 -> 90 | E13: 33.18.00 "Plānveida stacionāro veselības aprūpes pakalpojumu nodrošināšana"
A16: Saņemtie rēķini par vakcīnu uzglabāšanas, loģistikas nodrošināšanu un šļirču un injekcijas šķīdumu iegādi:
A17: Ražotājs | B17: Pasākums | C17: Rēķina datums | D17: Rēķins | E17: Cena, euro | F17: Apmaksājamā summa, euro | G17: Euro, EKK 3000 | H17: Sadalījums pa apakšprogrammām
A18: A S Recipe Plus | B18: vakcīnu loģistika | C18: 3.05.2022. | D18: RCP22232428 | E18: skat., rēķinu | F18: 597.54
A19: A S Recipe Plus | B19: vakcīnu loģistika | C19: 08.06.2022. | D19: RCP22302388 | E19: skat., rēķinu | F19: 623.52
A20: A S Recipe Plus | B20: vakcīnu loģistika | C20: 01.07.2022. | D20: RCP22344843 | E20: skat., rēķinu | F20: 389.7
A21: A S Recipe Plus | B21: vakcīnu loģistika | C21: 03.05.2022. | D21: RCP22232429 | E21: skat., rēķinu | F21: 1484.63
A22: A S Recipe Plus | B22: vakcīnu loģistika | C22: 08.06.2022. | D22: RCP22302390 | E22: skat., rēķinu | F22: 1776.88
A23: A S Recipe Plus | B23: vakcīnu loģistika | C23: 01.07.2022. | D23: RCP22344844 | E23: skat., rēķinu | F23: 806.61
A24: SIA "Magnum Medical" | B24: vakcīnu loģistika | C24: 03.05.2022. | D24: 14753 | E24: skat., rēķinu | F24: 1786.4
A25: SIA "Magnum Medical" | B25: vakcīnu loģistika | C25: 03.06.2022. | D25: 14944 | E25: skat., rēķinu | F25: 1754.5
A26: SIA "Magnum Medical" | B26: vakcīnu loģistika | C26: 04.07.2022. | D26: 15148 | E26: skat., rēķinu | F26: 733.7
A27: SIA "Magnum Medical" | B27: vakcīnu uzglabāšana | C27: 03.05.2022. | D27: 14754 | E27: skat., rēķinu | F27: 29890.22
A28: SIA "Magnum Medical" | B28: vakcīnu uzglabāšana | C28: 03.06.2022. | D28: 14945 | E28: skat., rēķinu | F28: 29890.22
A29: SIA "Magnum Medical" | B29: vakcīnu uzglabāšana | C29: 04.07.2022. | D29: 15149 | E29: skat., rēķinu | F29: 29890.22
A30: Uzglabāšana / loģistika kopā : | F30: =SUM(F18:F29) -> 99624.14
A31: AS "Recipe Plus" | B31: šļirces | C31: 13.07.2022. | D31: RCP22366221 | E31: skat., rēķinu | F31: 25000
A32: Šļirces un injekciju šķīdumi kopā : | F32: =F31 -> 25000
A33: Kopā, euro: | F33: =ROUNDUP(F30+F32,0) -> 124625 | G33: =F33 -> 124625 | H33: 33.04.00 “Centralizēta medikamentu un materiālu iegāde”
E38: Pavisam kopā, euro | F38: =B4+F33 -> 349823

Sheet Vakc_SAVA_aprilis
G1: Pielikums Nr.2 Ministru kabineta rīkojuma "Par finanšu līdzekļu piešķiršanu no valsts budžeta programmas "Finansējums veselības jomas pasākumiem Covid-19 infekcijas izplatības ierobežošanai"" projekta sākotnējās ietekmes novērtējuma ziņojumam (anotācijai)
A2: Veiktais darbs 2022.gada aprīlī par COVID-19 vakcinācijas saistītām manipulācijām SAVA programmās
A3: NVD TN | B3: Ārstniecības iestādes kods | C3: Ārstniecības iestādes nosaukums | D3: Manipulācijas kods | E3: Manipulācijas nosaukums | F3: Manipulāciju tarifs, euro | G3: Manipulāciju skaits kopā | H3: Pakalpojumu summa kopā, euro | I3: EKK 3000 | J3: EKK 7460
A4: Kopā: | G4: =SUM(G5:G330) -> 28574 | H4: =I4+J4 -> 62636 | I4: =ROUNDUP(SUM(I5:I330),0) -> 62499 | J4: =ROUNDUP(SUM(J5:J330),0) -> 137
A5: NVD Kurzemes nodaļa | B5: 170024101 | C5: VECLIEPĀJAS PRIMĀRĀS VESELĪBAS APRŪPES CENTRS, Pašvaldības Sabiedrība ar ierobežotu atbildību | D5: 01018 | E5: Ārsta konsultācija pirms vakcinācijas. Nenorāda kopā ar manipulāciju 01061, 60443 un 60444 | F5: 3.54 | G5: 36 | H5: =F5*G5 -> 127.44 | I5: =H5 -> 127.44
A6: NVD Kurzemes nodaļa | B6: 170065204 | C6: L. ATIĶES DOKTORĀTS, SIA | D6: 01018 | E6: Ārsta konsultācija pirms vakcinācijas. Nenorāda kopā ar manipulāciju 01061, 60443 un 60444 | F6: 3.54 | G6: 106 | H6: =F6*G6 -> 375.24 | I6: =H6 -> 375.24
A7: NVD Kurzemes nodaļa | B7: 270020302 | C7: Ziemeļkurzemes reģionālā slimnīca, SIA | D7: 01018 | E7: Ārsta konsultācija pirms vakcinācijas. Nenorāda kopā ar manipulāciju 01061, 60443 un 60444 | F7: 3.54 | G7: 22 | H7: =F7*G7 -> 77.88 | I7: =H7 -> 77.88
A8: NVD Kurzemes nodaļa | B8: 620200038 | C8: Kuldīgas slimnīca, Sabiedrība ar ierobežotu atbildību | D8: 01018 | E8: Ārsta konsultācija pirms vakcinācijas. Nenorāda kopā ar manipulāciju 01061, 60443 un 60444 | F8: 3.54 | G8: 28 | H8: =F8*G8 -> 99.12 | I8: =H8 -> 99.12
A9: NVD Kurzemes nodaļa | B9: 880200016 | C9: TALSU VESELĪBAS CENTRS, SIA | D9: 01018 | E9: Ārsta konsultācija pirms vakcinācijas. Nenorāda kopā ar manipulāciju 01061, 60443 un 60444 | F9: 3.54 | G9: 30 | H9: =F9*G9 -> 106.2 | I9: =H9 -> 106.2
A10: NVD Latgales nodaļa | B10: 050012101 | C10: Daugavpils psihoneiroloģiskā slimnīca, Valsts sabiedrība ar ierobežotu atbildību | D10: 01018 | E10: Ārsta konsultācija pirms vakcinācijas. Nenorāda kopā ar manipulāciju 01061, 60443 un 60444 | F10: 3.54 | G10: 13 | H10: =F10*G10 -> 46.02 | I10: =H10 -> 46.02
A11: NVD Latgales nodaļa | B11: 050020401 | C11: Daugavpils reģionālā slimnīca, Sabiedrība ar ierobežotu atbildību | D11: 01018 | E11: Ārsta konsultācija pirms vakcinācijas. Nenorāda kopā ar manipulāciju 01061, 60443 un 60444 | F11: 3.54 | G11: 94 | H11: =F11*G11 -> 332.76 | I11: =H11 -> 332.76
A12: NVD Latgales nodaļa | B12: 680200030 | C12: Ludzas medicīnas centrs, Sabiedrība ar ierobežotu atbildību | D12: 01018 | E12: Ārsta konsultācija pirms vakcinācijas. Nenorāda kopā ar manipulāciju 01061, 60443 un 60444 | F12: 3.54 | G12: 28 | H12: =F12*G12 -> 99.12 | I12: =H12 -> 99.12
A13: NVD Rīgas nodaļa | B13: 001000043 | C13: Apotheka, SIA | D13: 01018 | E13: Ārsta konsultācija pirms vakcinācijas. Nenorāda kopā ar manipulāciju 01061, 60443 un 60444 | F13: 3.54 | G13: 1 | H13: =F13*G13 -> 3.54 | I13: =H13 -> 3.54
A14: NVD Rīgas nodaļa | B14: 010000171 | C14: I. Paturskas ģimenes veselības centrs, Sabiedrība ar ierobežotu atbildību | D14: 01018 | E14: Ārsta konsultācija pirms vakcinācijas. Nenorāda kopā ar manipulāciju 01061, 60443 un 60444 | F14: 3.54 | G14: 29 | H14: =F14*G14 -> 102.66 | I14: =H14 -> 102.66
A15: NVD Rīgas nodaļa | B15: 010000234 | C15: Rīgas Austrumu klīniskā universitātes slimnīca, SIA | D15: 01018 | E15: Ārsta konsultācija pirms vakcinācijas. Nenorāda kopā ar manipulāciju 01061, 60443 un 60444 | F15: 3.54 | G15: 164 | H15: =F15*G15 -> 580.56 | I15: =H15 -> 580.56
A16: NVD Rīgas nodaļa | B16: 010001411 | C16: ĀRSTNIECĪBAS REHABILITĀCIJAS CENTRS VALEO, Sabiedrība ar ierobežotu atbildību | D16: 01018 | E16: Ārsta konsultācija pirms vakcinācijas. Nenorāda kopā ar manipulāciju 01061, 60443 un 60444 | F16: 3.54 | G16: 18 | H16: =F16*G16 -> 63.72 | I16: =H16 -> 63.72
... A58: NVD Rīgas nodaļa | B58: 801200001 | C58: Salaspils veselības centrs, Sabiedrība ar ierobežotu atbildību | D58: 01019 | E58: Ārsta palīga vai vecmātes konsultācija pirms vakcinācijas | F58: 1.97 | G58: 119 | H58: =F58*G58 -> 234.43 | I58: =H58 -> 234.43
A59: NVD Rīgas nodaļa | B59: 801400002 | C59: Saulkrastu veselības un sociālās aprūpes centrs, Pašvaldības aģentūra | D59: 01019 | E59: Ārsta palīga vai vecmātes konsultācija pirms vakcinācijas | F59: 1.97 | G59: 18 | H59: =F59*G59 -> 35.46 | J59: =H59 -> 35.46
A60: NVD Rīgas nodaļa | B60: 804400029 | C60: Minute Clinic, SIA | D60: 01019 | E60: Ārsta palīga vai vecmātes konsultācija pirms vakcinācijas | F60: 1.97 | G60: 6 | H60: =F60*G60 -> 11.82 | I60: =H60 -> 11.82
A61: NVD Vidzemes nodaļa | B61: 250000092 | C61: Vidzemes slimnīca, Sabiedrība ar ierobežotu atbildību | D61: 01019 | E61: Ārsta palīga vai vecmātes konsultācija pirms vakcinācijas | F61: 1.97 | G61: 49 | H61: =F61*G61 -> 96.53 | I61: =H61 -> 96.53
A62: NVD Vidzemes nodaļa | B62: 700200041 | C62: Madonas slimnīca, Madonas novada pašvaldības SIA | D62: 01019 | E62: Ārsta palīga vai vecmātes konsultācija pirms vakcinācijas | F62: 1.97 | G62: 29 | H62: =F62*G62 -> 57.13 | I62: =H62 -> 57.13
A63: NVD Zemgales nodaļa | B63: 110000048 | C63: Jēkabpils reģionālā slimnīca, Sabiedrība ar ierobežotu atbildību | D63: 01019 | E63: Ārsta palīga vai vecmātes konsultācija pirms vakcinācijas | F63: 1.97 | G63: 108 | H63: =F63*G63 -> 212.76 | I63: =H63 -> 212.76
A64: NVD Rīgas nodaļa | B64: 010054114 | C64: DZELZCEĻA VESELĪBAS CENTRS, Sabiedrība ar ierobežotu atbildību | D64: 03048 | E64: Piemaksa manipulācijai 01018 vai 03095 par ārsta darbu Covid-19 vakcinācijas kabinetā brīvdienās un svētku dienās | F64: 3.27 | G64: 60 | H64: =F64*G64 -> 196.2 | I64: =H64 -> 196.2
A65: NVD Rīgas nodaļa | B65: 010064120 | C65: Veselības centru apvienība, AS | D65: 03048 | E65: Piemaksa manipulācijai 01018 vai 03095 par ārsta darbu Covid-19 vakcinācijas kabinetā brīvdienās un svētku dienās | F65: 3.27 | G65: 128 | H65: =F65*G65 -> 418.56 | I65: =H65 -> 418.56
A66: NVD Rīgas nodaļa | B66: 804400029 | C66: Minute Clinic, SIA | D66: 03048 | E66: Piemaksa manipulācijai 01018 vai 03095 par ārsta darbu Covid-19 vakcinācijas kabinetā brīvdienās un svētku dienās | F66: 3.27 | G66: 3 | H66: =F66*G66 -> 9.81 | I66: =H66 -> 9.81
A67: NVD Vidzemes nodaļa | B67: 500200052 | C67: Balvu un Gulbenes slimnīcu apvienība, Sabiedrība ar ierobežotu atbildību | D67: 03048 | E67: Piemaksa manipulācijai 01018 vai 03095 par ārsta darbu Covid-19 vakcinācijas kabinetā brīvdienās un svētku dienās | F67: 3.27 | G67: 1 | H67: =F67*G67 -> 3.27 | I67: =H67 -> 3.27
A68: NVD Rīgas nodaļa | B68: 010054114 | C68: DZELZCEĻA VESELĪBAS CENTRS, Sabiedrība ar ierobežotu atbildību | D68: 03049 | E68: Piemaksa manipulācijām 03081 un 01019 vai 03096 par māsas, ārsta palīga darbu Covid-19 vakcinācijas kabinetā brīvdienās un svētku dienās | F68: 1.96 | G68: 60 | H68: =F68*G68 -> 117.6 | I68: =H68 -> 117.6
A69: NVD Rīgas nodaļa | B69: 010064111 | C69: Dziedniecība, Sabiedrība ar ierobežotu atbildību | D69: 03049 | E69: Piemaksa manipulācijām 03081 un 01019 vai 03096 par māsas, ārsta palīga darbu Covid-19 vakcinācijas kabinetā brīvdienās un svētku dienās | F69: 1.96 | G69: 1 | H69: =F69*G69 -> 1.96 | I69: =H69 -> 1.96
A70: NVD Rīgas nodaļa | B70: 010064114 | C70: VESELĪBAS CENTRS 4, Sabiedrība ar ierobežotu atbildību | D70: 03049 | E70: Piemaksa manipulācijām 03081 un 01019 vai 03096 par māsas, ārsta palīga darbu Covid-19 vakcinācijas kabinetā brīvdienās un svētku dienās | F70: 1.96 | G70: 116 | H70: =F70*G70 -> 227.36 | I70: =H70 -> 227.36
A71: NVD Rīgas nodaļa | B71: 010064120 | C71: Veselības centru apvienība, AS | D71: 03049 | E71: Piemaksa manipulācijām 03081 un 01019 vai 03096 par māsas, ārsta palīga darbu Covid-19 vakcinācijas kabinetā brīvdienās un svētku dienās | F71: 1.96 | G71: 130 | H71: =F71*G71 -> 254.8 | I71: =H71 -> 254.8
... A112: NVD Rīgas nodaļa | B112: 801200001 | C112: Salaspils veselības centrs, Sabiedrība ar ierobežotu atbildību | D112: 03081 | E112: Vakcīnas ievadīšana ādā, zemādā un muskulī | F112: 1.1 | G112: 119 | H112: =F112*G112 -> 130.9 | I112: =H112 -> 130.9
A113: NVD Rīgas nodaļa | B113: 801400002 | C113: Saulkrastu veselības un sociālās aprūpes centrs, Pašvaldības aģentūra | D113: 03081 | E113: Vakcīnas ievadīšana ādā, zemādā un muskulī | F113: 1.1 | G113: 18 | H113: =F113*G113 -> 19.8 | J113: =H113 -> 19.8
A114: NVD Rīgas nodaļa | B114: 801600003 | C114: Siguldas slimnīca, SIA | D114: 03081 | E114: Vakcīnas ievadīšana ādā, zemādā un muskulī | F114: 1.1 | G114: 21 | H114: =F114*G114 -> 23.1 | I114: =H114 -> 23.1
A115: NVD Rīgas nodaļa | B115: 804400029 | C115: Minute Clinic, SIA | D115: 03081 | E115: Vakcīnas ievadīšana ādā, zemādā un muskulī | F115: 1.1 | G115: 6 | H115: =F115*G115 -> 6.6 | I115: =H115 -> 6.6
A116: NVD Vidzemes nodaļa | B116: 250000087 | C116: VALMIERAS VESELĪBAS CENTRS, SIA | D116: 03081 | E116: Vakcīnas ievadīšana ādā, zemādā un muskulī | F116: 1.1 | G116: 67 | H116: =F116*G116 -> 73.7 | I116: =H116 -> 73.7
A117: NVD Vidzemes nodaļa | B117: 250000092 | C117: Vidzemes slimnīca, Sabiedrība ar ierobežotu atbildību | D117: 03081 | E117: Vakcīnas ievadīšana ādā, zemādā un muskulī | F117: 1.1 | G117: 49 | H117: =F117*G117 -> 53.9 | I117: =H117 -> 53.9
A118: NVD Vidzemes nodaļa | B118: 421200001 | C118: Rehabilitācijas centrs "Līgatne", SIA | D118: 03081 | E118: Vakcīnas ievadīšana ādā, zemādā un muskulī | F118: 1.1 | G118: 5 | H118: =F118*G118 -> 5.5 | I118: =H118 -> 5.5
A119: NVD Vidzemes nodaļa | B119: 500200052 | C119: Balvu un Gulbenes slimnīcu apvienība, Sabiedrība ar ierobežotu atbildību | D119: 03081 | E119: Vakcīnas ievadīšana ādā, zemādā un muskulī | F119: 1.1 | G119: 18 | H119: =F119*G119 -> 19.8 | I119: =H119 -> 19.8
A120: NVD Vidzemes nodaļa | B120: 660200027 | C120: Limbažu slimnīca, Sabiedrība ar ierobežotu atbildību | D120: 03081 | E120: Vakcīnas ievadīšana ādā, zemādā un muskulī | F120: 1.1 | G120: 13 | H120: =F120*G120 -> 14.3 | I120: =H120 -> 14.3
A121: NVD Vidzemes nodaļa | B121: 700200041 | C121: Madonas slimnīca, Madonas novada pašvaldības SIA | D121: 03081 | E121: Vakcīnas ievadīšana ādā, zemādā un muskulī | F121: 1.1 | G121: 29 | H121: =F121*G121 -> 31.9 | I121: =H121 -> 31.9
A122: NVD Zemgales nodaļa | B122: 090000026 | C122: Zemgales veselības centrs, Sabiedrība ar ierobežotu atbildību | D122: 03081 | E122: Vakcīnas ievadīšana ādā, zemādā un muskulī | F122: 1.1 | G122: 132 | H122: =F122*G122 -> 145.2 | I122: =H122 -> 145.2
A123: NVD Zemgales nodaļa | B123: 090024001 | C123: Medicīnas sabiedrība "Optima 1", Sabiedrība ar ierobežotu atbildību | D123: 03081 | E123: Vakcīnas ievadīšana ādā, zemādā un muskulī | F123: 1.1 | G123: 72 | H123: =F123*G123 -> 79.2 | I123: =H123 -> 79.2
A124: NVD Zemgales nodaļa | B124: 090024101 | C124: Jelgavas poliklīnika, SIA | D124: 03081 | E124: Vakcīnas ievadīšana ādā, zemādā un muskulī | F124: 1.1 | G124: 55 | H124: =F124*G124 -> 60.5 | I124: =H124 -> 60.5
A125: NVD Zemgales nodaļa | B125: 110000048 | C125: Jēkabpils reģionālā slimnīca, Sabiedrība ar ierobežotu atbildību | D125: 03081 | E125: Vakcīnas ievadīšana ādā, zemādā un muskulī | F125: 1.1 | G125: 108 | H125: =F125*G125 -> 118.8 | I125: =H125 -> 118.8
... A165: NVD Rīgas nodaļa | B165: 801200001 | C165: Salaspils veselības centrs, Sabiedrība ar ierobežotu atbildību | D165: 03083 | E165: Piemaksa manipulācijai 03081 par pacienta Covid-19 vakcinēšanu | F165: 2.05 | G165: 119 | H165: =F165*G165 -> 243.95 | I165: =H165 -> 243.95
A166: NVD Rīgas nodaļa | B166: 801400002 | C166: Saulkrastu veselības un sociālās aprūpes centrs, Pašvaldības aģentūra | D166: 03083 | E166: Piemaksa manipulācijai 03081 par pacienta Covid-19 vakcinēšanu | F166: 2.05 | G166: 18 | H166: =F166*G166 -> 36.9 | J166: =H166 -> 36.9
A167: NVD Rīgas nodaļa | B167: 801600003 | C167: Siguldas slimnīca, SIA | D167: 03083 | E167: Piemaksa manipulācijai 03081 par pacienta Covid-19 vakcinēšanu | F167: 2.05 | G167: 21 | H167: =F167*G167 -> 43.05 | I167: =H167 -> 43.05
A168: NVD Rīgas nodaļa | B168: 804400029 | C168: Minute Clinic, SIA | D168: 03083 | E168: Piemaksa manipulācijai 03081 par pacienta Covid-19 vakcinēšanu | F168: 2.05 | G168: 6 | H168: =F168*G168 -> 12.3 | I168: =H168 -> 12.3
A169: NVD Vidzemes nodaļa | B169: 250000087 | C169: VALMIERAS VESELĪBAS CENTRS, SIA | D169: 03083 | E169: Piemaksa manipulācijai 03081 par pacienta Covid-19 vakcinēšanu | F169: 2.05 | G169: 67 | H169: =F169*G169 -> 137.35 | I169: =H169 -> 137.35
A170: NVD Vidzemes nodaļa | B170: 250000092 | C170: Vidzemes slimnīca, Sabiedrība ar ierobežotu atbildību | D170: 03083 | E170: Piemaksa manipulācijai 03081 par pacienta Covid-19 vakcinēšanu | F170: 2.05 | G170: 49 | H170: =F170*G170 -> 100.45 | I170: =H170 -> 100.45
A171: NVD Vidzemes nodaļa | B171: 421200001 | C171: Rehabilitācijas centrs "Līgatne", SIA | D171: 03083 | E171: Piemaksa manipulācijai 03081 par pacienta Covid-19 vakcinēšanu | F171: 2.05 | G171: 5 | H171: =F171*G171 -> 10.25 | I171: =H171 -> 10.25
A172: NVD Vidzemes nodaļa | B172: 500200052 | C172: Balvu un Gulbenes slimnīcu apvienība, Sabiedrība ar ierobežotu atbildību | D172: 03083 | E172: Piemaksa manipulācijai 03081 par pacienta Covid-19 vakcinēšanu | F172: 2.05 | G172: 18 | H172: =F172*G172 -> 36.9 | I172: =H172 -> 36.9
A173: NVD Vidzemes nodaļa | B173: 660200027 | C173: Limbažu slimnīca, Sabiedrība ar ierobežotu atbildību | D173: 03083 | E173: Piemaksa manipulācijai 03081 par pacienta Covid-19 vakcinēšanu | F173: 2.05 | G173: 13 | H173: =F173*G173 -> 26.65 | I173: =H173 -> 26.65
A174: NVD Vidzemes nodaļa | B174: 700200041 | C174: Madonas slimnīca, Madonas novada pašvaldības SIA | D174: 03083 | E174: Piemaksa manipulācijai 03081 par pacienta Covid-19 vakcinēšanu | F174: 2.05 | G174: 29 | H174: =F174*G174 -> 59.45 | I174: =H174 -> 59.45
A175: NVD Zemgales nodaļa | B175: 090000026 | C175: Zemgales veselības centrs, Sabiedrība ar ierobežotu atbildību | D175: 03083 | E175: Piemaksa manipulācijai 03081 par pacienta Covid-19 vakcinēšanu | F175: 2.05 | G175: 132 | H175: =F175*G175 -> 270.6 | I175: =H175 -> 270.6
A176: NVD Zemgales nodaļa | B176: 090024001 | C176: Medicīnas sabiedrība "Optima 1", Sabiedrība ar ierobežotu atbildību | D176: 03083 | E176: Piemaksa manipulācijai 03081 par pacienta Covid-19 vakcinēšanu | F176: 2.05 | G176: 72 | H176: =F176*G176 -> 147.6 | I176: =H176 -> 147.6
A177: NVD Zemgales nodaļa | B177: 090024101 | C177: Jelgavas poliklīnika, SIA | D177: 03083 | E177: Piemaksa manipulācijai 03081 par pacienta Covid-19 vakcinēšanu | F177: 2.05 | G177: 55 | H177: =F177*G177 -> 112.75 | I177: =H177 -> 112.75
A178: NVD Zemgales nodaļa | B178: 110000048 | C178: Jēkabpils reģionālā slimnīca, Sabiedrība ar ierobežotu atbildību | D178: 03083 | E178: Piemaksa manipulācijai 03081 par pacienta Covid-19 vakcinēšanu | F178: 2.05 | G178: 108 | H178: =F178*G178 -> 221.4 | I178: =H178 -> 221.4
... A239: NVD Rīgas nodaļa | B239: 801200001 | C239: Salaspils veselības centrs, Sabiedrība ar ierobežotu atbildību | D239: 03099 | E239: Piemaksa manipulācijai 01019 par ārstniecības personu darbu Covid-19 vakcinācijas kabinetā | F239: 1.06 | G239: 119 | H239: =F239*G239 -> 126.14 | I239: =H239 -> 126.14
A240: NVD Rīgas nodaļa | B240: 801400002 | C240: Saulkrastu veselības un sociālās aprūpes centrs, Pašvaldības aģentūra | D240: 03099 | E240: Piemaksa manipulācijai 01019 par ārstniecības personu darbu Covid-19 vakcinācijas kabinetā | F240: 1.06 | G240: 18 | H240: =F240*G240 -> 19.08 | J240: =H240 -> 19.08
A241: NVD Rīgas nodaļa | B241: 804400029 | C241: Minute Clinic, SIA | D241: 03099 | E241: Piemaksa manipulācijai 01019 par ārstniecības personu darbu Covid-19 vakcinācijas kabinetā | F241: 1.06 | G241: 6 | H241: =F241*G241 -> 6.36 | I241: =H241 -> 6.36
A242: NVD Vidzemes nodaļa | B242: 250000092 | C242: Vidzemes slimnīca, Sabiedrība ar ierobežotu atbildību | D242: 03099 | E242: Piemaksa manipulācijai 01019 par ārstniecības personu darbu Covid-19 vakcinācijas kabinetā | F242: 1.06 | G242: 49 | H242: =F242*G242 -> 51.94 | I242: =H242 -> 51.94
A243: NVD Vidzemes nodaļa | B243: 700200041 | C243: Madonas slimnīca, Madonas novada pašvaldības SIA | D243: 03099 | E243: Piemaksa manipulācijai 01019 par ārstniecības personu darbu Covid-19 vakcinācijas kabinetā | F243: 1.06 | G243: 29 | H243: =F243*G243 -> 30.74 | I243: =H243 -> 30.74
A244: NVD Zemgales nodaļa | B244: 110000048 | C244: Jēkabpils reģionālā slimnīca, Sabiedrība ar ierobežotu atbildību | D244: 03099 | E244: Piemaksa manipulācijai 01019 par ārstniecības personu darbu Covid-19 vakcinācijas kabinetā | F244: 1.06 | G244: 108 | H244: =F244*G244 -> 114.48 | I244: =H244 -> 114.48
A245: NVD Kurzemes nodaļa | B245: 170065204 | C245: L. ATIĶES DOKTORĀTS, SIA | D245: 03118 | E245: Vakcinācija pret Covid-19 bērniem līdz 11 gadu vecumam (ieskaitot) | F245: 13.15 | G245: 3 | H245: =F245*G245 -> 39.45 | I245: =H245 -> 39.45
A246: NVD Kurzemes nodaļa | B246: 620200038 | C246: Kuldīgas slimnīca, Sabiedrība ar ierobežotu atbildību | D246: 03118 | E246: Vakcinācija pret Covid-19 bērniem līdz 11 gadu vecumam (ieskaitot) | F246: 13.15 | G246: 4 | H246: =F246*G246 -> 52.6 | I246: =H246 -> 52.6
A247: NVD Kurzemes nodaļa | B247: 880200016 | C247: TALSU VESELĪBAS CENTRS, SIA | D247: 03118 | E247: Vakcinācija pret Covid-19 bērniem līdz 11 gadu vecumam (ieskaitot) | F247: 13.15 | G247: 1 | H247: =F247*G247 -> 13.15 | I247: =H247 -> 13.15
A248: NVD Latgales nodaļa | B248: 760200002 | C248: Preiļu slimnīca, Sabiedrība ar ierobežotu atbildību | D248: 03118 | E248: Vakcinācija pret Covid-19 bērniem līdz 11 gadu vecumam (ieskaitot) | F248: 13.15 | G248: 4 | H248: =F248*G248 -> 52.6 | I248: =H248 -> 52.6
A249: NVD Rīgas nodaļa | B249: 010001411 | C249: ĀRSTNIECĪBAS REHABILITĀCIJAS CENTRS VALEO, Sabiedrība ar ierobežotu atbildību | D249: 03118 | E249: Vakcinācija pret Covid-19 bērniem līdz 11 gadu vecumam (ieskaitot) | F249: 13.15 | G249: 3 | H249: =F249*G249 -> 39.45 | I249: =H249 -> 39.45
A250: NVD Rīgas nodaļa | B250: 010011804 | C250: Bērnu klīniskā universitātes slimnīca, Valsts sabiedrība ar ierobežotu atbildību | D250: 03118 | E250: Vakcinācija pret Covid-19 bērniem līdz 11 gadu vecumam (ieskaitot) | F250: 13.15 | G250: 86 | H250: =F250*G250 -> 1130.9 | I250: =H250 -> 1130.9
A251: NVD Rīgas nodaļa | B251: 010020301 | C251: Rīgas 1. slimnīca, SIA | D251: 03118 | E251: Vakcinācija pret Covid-19 bērniem līdz 11 gadu vecumam (ieskaitot) | F251: 13.15 | G251: 13 | H251: =F251*G251 -> 170.95 | I251: =H251 -> 170.95
A252: NVD Rīgas nodaļa | B252: 010021301 | C252: Rīgas Dzemdību nams, SIA | D252: 03118 | E252: Vakcinācija pret Covid-19 bērniem līdz 11 gadu vecumam (ieskaitot) | F252: 13.15 | G252: 46 | H252: =F252*G252 -> 604.9 | I252: =H252 -> 604.9
... A295: NVD Rīgas nodaļa | B295: 801200001 | C295: Salaspils veselības centrs, Sabiedrība ar ierobežotu atbildību | D295: 60049 | E295: Individuālie aizsardzības līdzekļi Covid-19 vai gripas vakcinēšanai | F295: 1.39 | G295: 119 | H295: =F295*G295 -> 165.41 | I295: =H295 -> 165.41
A296: NVD Rīgas nodaļa | B296: 801400002 | C296: Saulkrastu veselības un sociālās aprūpes centrs, Pašvaldības aģentūra | D296: 60049 | E296: Individuālie aizsardzības līdzekļi Covid-19 vai gripas vakcinēšanai | F296: 1.39 | G296: 18 | H296: =F296*G296 -> 25.02 | J296: =H296 -> 25.02
A297: NVD Rīgas nodaļa | B297: 804400029 | C297: Minute Clinic, SIA | D297: 60049 | E297: Individuālie aizsardzības līdzekļi Covid-19 vai gripas vakcinēšanai | F297: 1.39 | G297: 6 | H297: =F297*G297 -> 8.34 | I297: =H297 -> 8.34
A298: NVD Vidzemes nodaļa | B298: 250000087 | C298: VALMIERAS VESELĪBAS CENTRS, SIA | D298: 60049 | E298: Individuālie aizsardzības līdzekļi Covid-19 vai gripas vakcinēšanai | F298: 1.39 | G298: 78 | H298: =F298*G298 -> 108.42 | I298: =H298 -> 108.42
A299: NVD Vidzemes nodaļa | B299: 250000092 | C299: Vidzemes slimnīca, Sabiedrība ar ierobežotu atbildību | D299: 60049 | E299: Individuālie aizsardzības līdzekļi Covid-19 vai gripas vakcinēšanai | F299: 1.39 | G299: 53 | H299: =F299*G299 -> 73.67 | I299: =H299 -> 73.67
A300: NVD Vidzemes nodaļa | B300: 421200001 | C300: Rehabilitācijas centrs "Līgatne", SIA | D300: 60049 | E300: Individuālie aizsardzības līdzekļi Covid-19 vai gripas vakcinēšanai | F300: 1.39 | G300: 5 | H300: =F300*G300 -> 6.95 | I300: =H300 -> 6.95
A301: NVD Vidzemes nodaļa | B301: 500200052 | C301: Balvu un Gulbenes slimnīcu apvienība, Sabiedrība ar ierobežotu atbildību | D301: 60049 | E301: Individuālie aizsardzības līdzekļi Covid-19 vai gripas vakcinēšanai | F301: 1.39 | G301: 16 | H301: =F301*G301 -> 22.24 | I301: =H301 -> 22.24
A302: NVD Vidzemes nodaļa | B302: 700200041 | C302: Madonas slimnīca, Madonas novada pašvaldības SIA | D302: 60049 | E302: Individuālie aizsardzības līdzekļi Covid-19 vai gripas vakcinēšanai | F302: 1.39 | G302: 30 | H302: =F302*G302 -> 41.7 | I302: =H302 -> 41.7
A303: NVD Zemgales nodaļa | B303: 090000026 | C303: Zemgales veselības centrs, Sabiedrība ar ierobežotu atbildību | D303: 60049 | E303: Individuālie aizsardzības līdzekļi Covid-19 vai gripas vakcinēšanai | F303: 1.39 | G303: 132 | H303: =F303*G303 -> 183.48 | I303: =H303 -> 183.48
A304: NVD Zemgales nodaļa | B304: 090024001 | C304: Medicīnas sabiedrība "Optima 1", Sabiedrība ar ierobežotu atbildību | D304: 60049 | E304: Individuālie aizsardzības līdzekļi Covid-19 vai gripas vakcinēšanai | F304: 1.39 | G304: 72 | H304: =F304*G304 -> 100.08 | I304: =H304 -> 100.08
A305: NVD Zemgales nodaļa | B305: 090024101 | C305: Jelgavas poliklīnika, SIA | D305: 60049 | E305: Individuālie aizsardzības līdzekļi Covid-19 vai gripas vakcinēšanai | F305: 1.39 | G305: 54 | H305: =F305*G305 -> 75.06 | I305: =H305 -> 75.06
A306: NVD Zemgales nodaļa | B306: 110000048 | C306: Jēkabpils reģionālā slimnīca, Sabiedrība ar ierobežotu atbildību | D306: 60049 | E306: Individuālie aizsardzības līdzekļi Covid-19 vai gripas vakcinēšanai | F306: 1.39 | G306: 108 | H306: =F306*G306 -> 150.12 | I306: =H306 -> 150.12
A307: NVD Zemgales nodaļa | B307: 320200001 | C307: Aizkraukles slimnīca, Sabiedrība ar ierobežotu atbildību | D307: 60049 | E307: Individuālie aizsardzības līdzekļi Covid-19 vai gripas vakcinēšanai | F307: 1.39 | G307: 39 | H307: =F307*G307 -> 54.21 | I307: =H307 -> 54.21
A308: NVD Zemgales nodaļa | B308: 400200024 | C308: Bauskas slimnīca, SIA | D308: 60049 | E308: Individuālie aizsardzības līdzekļi Covid-19 vai gripas vakcinēšanai | F308: 1.39 | G308: 31 | H308: =F308*G308 -> 43.09 | I308: =H308 -> 43.09
... A330: NVD Rīgas nodaļa | B330: 010000234 | C330: Rīgas Austrumu klīniskā universitātes slimnīca, SIA | D330: 01101 | E330: Ārstu konsīlijs (3 speciālisti) pacientam, kuram ir nepieciešams izvērtēt Covid-19 vakcināciju. Vienam pacientam vienu reizi norāda konsīlija vadītājs. Konsīlija rezultāts - vakcinācija ir atliekama | F330: 58.85 | G330: 9 | H330: =F330*G330 -> 529.65 | I330: =H330 -> 529.65
A331: *manipulācijas tarifam 60049 “Individuālie aizsardzības līdzekļi Covid-19 vai gripas vakcinēšanai” paredzētais finansējums attiecināms uz individuālajiem aizsardzības līdzekļiem Covid-19 vakcinēšanai

Sheet Vakc_PVA_aprilis
G1: Pielikums Nr.3 Ministru kabineta rīkojuma "Par finanšu līdzekļu piešķiršanu no valsts budžeta programmas "Finansējums veselības jomas pasākumiem Covid-19 infekcijas izplatības ierobežošanai"" projekta sākotnējās ietekmes novērtējuma ziņojumam (anotācijai)
A2: Veiktais darbs 2022.gada aprīlī par COVID-19 vakcinācijas saistītām manipulācijām ģimenes ārstiem: (Diagnoze - U11 Nepieciešamība veikt imunizāciju pret Covid-19, U11.9 Nepieciešamība imunizēt pret Covid-19, bez precizējuma)
A3: NVD TN | B3: Ārstniecības iestādes kods | C3: Ārstniecības iestādes nosaukums | D3: Manipulācijas kods | E3: Manipulācijas nosaukums | F3: Manipilāciju tarifs, euro | G3: Manipulāciju skaits kopā | H3: Pakalpojumu summa kopā, euro | I3: EKK 3000 | J3: EKK 7460
A4: Kopā: | G4: =SUM(G5:G986) -> 8656 | H4: =I4+J4 -> 33885 | I4: =ROUNDUP(SUM(I5:I986),0) -> 33129 | J4: =ROUNDUP(SUM(J5:J986),0) -> 756
A5: NVD Kurzemes nodaļa | B5: 027000001 | C5: Dr.Katerynas prakse, SIA | D5: 01018 | E5: Ārsta konsultācija pirms vakcinācijas. Nenorāda kopā ar manipulāciju 01061, 60443 un 60444 | F5: 3.54 | G5: 4 | H5: =F5*G5 -> 14.16 | I5: =H5 -> 14.16
A6: NVD Kurzemes nodaļa | B6: 170000116 | C6: Rutkovska Diana - ģimenes ārsta prakse | D6: 01018 | E6: Ārsta konsultācija pirms vakcinācijas. Nenorāda kopā ar manipulāciju 01061, 60443 un 60444 | F6: 3.54 | G6: 3 | H6: =F6*G6 -> 10.62 | I6: =H6 -> 10.62
A7: NVD Kurzemes nodaļa | B7: 170000190 | C7: Liepājas ģimenes veselības centrs, SIA | D7: 01018 | E7: Ārsta konsultācija pirms vakcinācijas. Nenorāda kopā ar manipulāciju 01061, 60443 un 60444 | F7: 3.54 | G7: 8 | H7: =F7*G7 -> 28.32 | I7: =H7 -> 28.32
A8: NVD Kurzemes nodaļa | B8: 170075405 | C8: Celma Violeta - ģimenes ārsta prakse | D8: 01018 | E8: Ārsta konsultācija pirms vakcinācijas. Nenorāda kopā ar manipulāciju 01061, 60443 un 60444 | F8: 3.54 | G8: 2 | H8: =F8*G8 -> 7.08 | I8: =H8 -> 7.08
A9: NVD Kurzemes nodaļa | B9: 170075443 | C9: Jēkule Linda - ģimenes ārsta prakse | D9: 01018 | E9: Ārsta konsultācija pirms vakcinācijas. Nenorāda kopā ar manipulāciju 01061, 60443 un 60444 | F9: 3.54 | G9: 4 | H9: =F9*G9 -> 14.16 | I9: =H9 -> 14.16
A10: NVD Kurzemes nodaļa | B10: 270000015 | C10: Ivanova Alla - ģimenes ārsta prakse | D10: 01018 | E10: Ārsta konsultācija pirms vakcinācijas. Nenorāda kopā ar manipulāciju 01061, 60443 un 60444 | F10: 3.54 | G10: 1 | H10: =F10*G10 -> 3.54 | I10: =H10 -> 3.54
A11: NVD Kurzemes nodaļa | B11: 270000016 | C11: Sendže Gaļina - ģimenes ārsta prakse | D11: 01018 | E11: Ārsta konsultācija pirms vakcinācijas. Nenorāda kopā ar manipulāciju 01061, 60443 un 60444 | F11: 3.54 | G11: 1 | H11: =F11*G11 -> 3.54 | I11: =H11 -> 3.54
A12: NVD Kurzemes nodaļa | B12: 270000032 | C12: Grospiņš Andis - ģimenes ārsta un arodveselības un arodslimību ārsta prakse | D12: 01018 | E12: Ārsta konsultācija pirms vakcinācijas. Nenorāda kopā ar manipulāciju 01061, 60443 un 60444 | F12: 3.54 | G12: 9 | H12: =F12*G12 -> 31.86 | I12: =H12 -> 31.86
A13: NVD Kurzemes nodaļa | B13: 270075401 | C13: Zviedrīte Lelde - ģimenes ārsta prakse | D13: 01018 | E13: Ārsta konsultācija pirms vakcinācijas. Nenorāda kopā ar manipulāciju 01061, 60443 un 60444 | F13: 3.54 | G13: 1 | H13: =F13*G13 -> 3.54 | I13: =H13 -> 3.54
A14: NVD Kurzemes nodaļa | B14: 270075405 | C14: Inas Zemtures ģimenes ārsta-pediatra prakse, SIA | D14: 01018 | E14: Ārsta konsultācija pirms vakcinācijas. Nenorāda kopā ar manipulāciju 01061, 60443 un 60444 | F14: 3.54 | G14: 3 | H14: =F14*G14 -> 10.62 | I14: =H14 -> 10.62
A15: NVD Kurzemes nodaļa | B15: 620200025 | C15: Cakule Gita - ģimenes ārsta prakse | D15: 01018 | E15: Ārsta konsultācija pirms vakcinācijas. Nenorāda kopā ar manipulāciju 01061, 60443 un 60444 | F15: 3.54 | G15: 1 | H15: =F15*G15 -> 3.54 | I15: =H15 -> 3.54
A16: NVD Kurzemes nodaļa | B16: 624275402 | C16: Būmeistere Lija - ģimenes ārsta prakse | D16: 01018 | E16: Ārsta konsultācija pirms vakcinācijas. Nenorāda kopā ar manipulāciju 01061, 60443 un 60444 | F16: 3.54 | G16: 1 | H16: =F16*G16 -> 3.54 | I16: =H16 -> 3.54
... A52: NVD Rīgas nodaļa | B52: 010000021 | C52: Harmonija Plus, SIA | D52: 01018 | E52: Ārsta konsultācija pirms vakcinācijas. Nenorāda kopā ar manipulāciju 01061, 60443 un 60444 | F52: 3.54 | G52: 1 | H52: =F52*G52 -> 3.54 | I52: =H52 -> 3.54
A53: NVD Rīgas nodaļa | B53: 010000061 | C53: Rīgas patversme | D53: 01018 | E53: Ārsta konsultācija pirms vakcinācijas. Nenorāda kopā ar manipulāciju 01061, 60443 un 60444 | F53: 3.54 | G53: 71 | H53: =F53*G53 -> 251.34 | J53: =H53 -> 251.34
A54: NVD Rīgas nodaļa | B54: 010000243 | C54: Zitmane Zane - ģimenes ārsta prakse | D54: 01018 | E54: Ārsta konsultācija pirms vakcinācijas. Nenorāda kopā ar manipulāciju 01061, 60443 un 60444 | F54: 3.54 | G54: 3 | H54: =F54*G54 -> 10.62 | I54: =H54 -> 10.62
A55: NVD Rīgas nodaļa | B55: 010000327 | C55: Geletko Tatjana - ģimenes ārsta prakse | D55: 01018 | E55: Ārsta konsultācija pirms vakcinācijas. Nenorāda kopā ar manipulāciju 01061, 60443 un 60444 | F55: 3.54 | G55: 3 | H55: =F55*G55 -> 10.62 | I55: =H55 -> 10.62
A56: NVD Rīgas nodaļa | B56: 010000346 | C56: Kaļinkina Iļmira - ģimenes ārsta prakse | D56: 01018 | E56: Ārsta konsultācija pirms vakcinācijas. Nenorāda kopā ar manipulāciju 01061, 60443 un 60444 | F56: 3.54 | G56: 5 | H56: =F56*G56 -> 17.7 | I56: =H56 -> 17.7
A57: NVD Rīgas nodaļa | B57: 010000347 | C57: Bubenko Ludmila - ģimenes ārsta prakse | D57: 01018 | E57: Ārsta konsultācija pirms vakcinācijas. Nenorāda kopā ar manipulāciju 01061, 60443 un 60444 | F57: 3.54 | G57: 1 | H57: =F57*G57 -> 3.54 | I57: =H57 -> 3.54
A58: NVD Rīgas nodaļa | B58: 010000361 | C58: Dakteres Spēlītes ārsta prakse, Sabiedrība ar ierobežotu atbildību | D58: 01018 | E58: Ārsta konsultācija pirms vakcinācijas. Nenorāda kopā ar manipulāciju 01061, 60443 un 60444 | F58: 3.54 | G58: 4 | H58: =F58*G58 -> 14.16 | I58: =H58 -> 14.16
A59: NVD Rīgas nodaļa | B59: 010000364 | C59: Pogodina Jeļena - ģimenes ārsta un internista prakse | D59: 01018 | E59: Ārsta konsultācija pirms vakcinācijas. Nenorāda kopā ar manipulāciju 01061, 60443 un 60444 | F59: 3.54 | G59: 2 | H59: =F59*G59 -> 7.08 | I59: =H59 -> 7.08
A60: NVD Rīgas nodaļa | B60: 010000427 | C60: MENTAMED, Sabiedrība ar ierobežotu atbildību | D60: 01018 | E60: Ārsta konsultācija pirms vakcinācijas. Nenorāda kopā ar manipulāciju 01061, 60443 un 60444 | F60: 3.54 | G60: 1 | H60: =F60*G60 -> 3.54 | I60: =H60 -> 3.54
A61: NVD Rīgas nodaļa | B61: 010000455 | C61: Freimane Liene - ģimenes ārsta prakse | D61: 01018 | E61: Ārsta konsultācija pirms vakcinācijas. Nenorāda kopā ar manipulāciju 01061, 60443 un 60444 | F61: 3.54 | G61: 7 | H61: =F61*G61 -> 24.78 | I61: =H61 -> 24.78
A62: NVD Rīgas nodaļa | B62: 010001210 | C62: Hedvigas Kronbergas ģimenes ārsta prakse, SIA | D62: 01018 | E62: Ārsta konsultācija pirms vakcinācijas. Nenorāda kopā ar manipulāciju 01061, 60443 un 60444 | F62: 3.54 | G62: 2 | H62: =F62*G62 -> 7.08 | I62: =H62 -> 7.08
A63: NVD Rīgas nodaļa | B63: 010001317 | C63: Sergejeva Iveta - ģimenes ārsta prakse | D63: 01018 | E63: Ārsta konsultācija pirms vakcinācijas. Nenorāda kopā ar manipulāciju 01061, 60443 un 60444 | F63: 3.54 | G63: 3 | H63: =F63*G63 -> 10.62 | I63: =H63 -> 10.62
A64: NVD Rīgas nodaļa | B64: 010001496 | C64: Centrālais doktorāts, Sabiedrība ar ierobežotu atbildību | D64: 01018 | E64: Ārsta konsultācija pirms vakcinācijas. Nenorāda kopā ar manipulāciju 01061, 60443 un 60444 | F64: 3.54 | G64: 8 | H64: =F64*G64 -> 28.32 | I64: =H64 -> 28.32
A65: NVD Rīgas nodaļa | B65: 010001499 | C65: Ponne Inguna - ģimenes ārsta prakse | D65: 01018 | E65: Ārsta konsultācija pirms vakcinācijas. Nenorāda kopā ar manipulāciju 01061, 60443 un 60444 | F65: 3.54 | G65: 3 | H65: =F65*G65 -> 10.62 | I65: =H65 -> 10.62
... A111: NVD Rīgas nodaļa | B111: 808400004 | C111: K.BIRZNIECES-BĒRZIŅAS ĢIMENES ĀRSTA PRAKSE, Sabiedrība ar ierobežotu atbildību | D111: 01018 | E111: Ārsta konsultācija pirms vakcinācijas. Nenorāda kopā ar manipulāciju 01061, 60443 un 60444 | F111: 3.54 | G111: 4 | H111: =F111*G111 -> 14.16 | I111: =H111 -> 14.16
A112: NVD Rīgas nodaļa | B112: 809635210 | C112: Ropažu novada pašvaldības aģentūra "Stopiņu ambulance" | D112: 01018 | E112: Ārsta konsultācija pirms vakcinācijas. Nenorāda kopā ar manipulāciju 01061, 60443 un 60444 | F112: 3.54 | G112: 1 | H112: =F112*G112 -> 3.54 | J112: =H112 -> 3.54
A113: NVD Vidzemes nodaļa | B113: 026000004 | C113: Jaunpiebalgas doktorāts, SIA | D113: 01018 | E113: Ārsta konsultācija pirms vakcinācijas. Nenorāda kopā ar manipulāciju 01061, 60443 un 60444 | F113: 3.54 | G113: 1 | H113: =F113*G113 -> 3.54 | I113: =H113 -> 3.54
A114: NVD Vidzemes nodaļa | B114: 250000104 | C114: Kravale Jolanta - ģimenes ārsta prakse | D114: 01018 | E114: Ārsta konsultācija pirms vakcinācijas. Nenorāda kopā ar manipulāciju 01061, 60443 un 60444 | F114: 3.54 | G114: 2 | H114: =F114*G114 -> 7.08 | I114: =H114 -> 7.08
A115: NVD Vidzemes nodaļa | B115: 250000108 | C115: Bērziņa Inga - ģimenes ārsta prakse | D115: 01018 | E115: Ārsta konsultācija pirms vakcinācijas. Nenorāda kopā ar manipulāciju 01061, 60443 un 60444 | F115: 3.54 | G115: 4 | H115: =F115*G115 -> 14.16 | I115: =H115 -> 14.16
A116: NVD Vidzemes nodaļa | B116: 250000159 | C116: Grunte Inga - ģimenes ārsta prakse | D116: 01018 | E116: Ārsta konsultācija pirms vakcinācijas. Nenorāda kopā ar manipulāciju 01061, 60443 un 60444 | F116: 3.54 | G116: 3 | H116: =F116*G116 -> 10.62 | I116: =H116 -> 10.62
A117: NVD Vidzemes nodaļa | B117: 360200003 | C117: Anitas Muižnieces ārsta prakse, SIA | D117: 01018 | E117: Ārsta konsultācija pirms vakcinācijas. Nenorāda kopā ar manipulāciju 01061, 60443 un 60444 | F117: 3.54 | G117: 7 | H117: =F117*G117 -> 24.78 | I117: =H117 -> 24.78
A118: NVD Vidzemes nodaļa | B118: 360200010 | C118: Šnikvalde Anita - ģimenes ārsta un pediatra prakse | D118: 01018 | E118: Ārsta konsultācija pirms vakcinācijas. Nenorāda kopā ar manipulāciju 01061, 60443 un 60444 | F118: 3.54 | G118: 7 | H118: =F118*G118 -> 24.78 | I118: =H118 -> 24.78
A119: NVD Vidzemes nodaļa | B119: 360200012 | C119: Prindule Arita - ģimenes ārsta prakse | D119: 01018 | E119: Ārsta konsultācija pirms vakcinācijas. Nenorāda kopā ar manipulāciju 01061, 60443 un 60444 | F119: 3.54 | G119: 8 | H119: =F119*G119 -> 28.32 | I119: =H119 -> 28.32
A120: NVD Vidzemes nodaļa | B120: 360800001 | C120: Apes ārsta prakse, Sabiedrība ar ierobežotu atbildību | D120: 01018 | E120: Ārsta konsultācija pirms vakcinācijas. Nenorāda kopā ar manipulāciju 01061, 60443 un 60444 | F120: 3.54 | G120: 7 | H120: =F120*G120 -> 24.78 | I120: =H120 -> 24.78
A121: NVD Vidzemes nodaļa | B121: 380200001 | C121: LĪGAS KOZLOVSKAS ĢIMENES ĀRSTA PRAKSE, Balvu pilsētas Līgas Kozlovskas individuālais uzņēmums | D121: 01018 | E121: Ārsta konsultācija pirms vakcinācijas. Nenorāda kopā ar manipulāciju 01061, 60443 un 60444 | F121: 3.54 | G121: 6 | H121: =F121*G121 -> 21.24 | I121: =H121 -> 21.24
A122: NVD Vidzemes nodaļa | B122: 380200003 | C122: Zuša Ilga - ģimenes ārsta prakse | D122: 01018 | E122: Ārsta konsultācija pirms vakcinācijas. Nenorāda kopā ar manipulāciju 01061, 60443 un 60444 | F122: 3.54 | G122: 3 | H122: =F122*G122 -> 10.62 | I122: =H122 -> 10.62
A123: NVD Vidzemes nodaļa | B123: 380200008 | C123: Baranovska Ārija - ģimenes ārsta prakse | D123: 01018 | E123: Ārsta konsultācija pirms vakcinācijas. Nenorāda kopā ar manipulāciju 01061, 60443 un 60444 | F123: 3.54 | G123: 3 | H123: =F123*G123 -> 10.62 | I123: =H123 -> 10.62
A124: NVD Vidzemes nodaļa | B124: 380200021 | C124: Ivanova Dace - ģimenes ārsta un pediatra prakse | D124: 01018 | E124: Ārsta konsultācija pirms vakcinācijas. Nenorāda kopā ar manipulāciju 01061, 60443 un 60444 | F124: 3.54 | G124: 1 | H124: =F124*G124 -> 3.54 | I124: =H124 -> 3.54
... A183: NVD Latgales nodaļa | B183: 600200035 | C183: Pogumirskis Jāzeps - ģimenes ārsta un neirologa prakse | D183: 01019 | E183: Ārsta palīga vai vecmātes konsultācija pirms vakcinācijas | F183: 1.97 | G183: 4 | H183: =F183*G183 -> 7.88 | I183: =H183 -> 7.88
A184: NVD Latgales nodaļa | B184: 780200015 | C184: STOĻEROVAS PAGASTA FELDŠERU-VECMĀŠU PUNKTS, RĒZEKNES NOVADA PAŠVALDĪBAS STOĻEROVAS PAGASTA PĀRVALDE | D184: 01019 | E184: Ārsta palīga vai vecmātes konsultācija pirms vakcinācijas | F184: 1.97 | G184: 9 | H184: =F184*G184 -> 17.73 | J184: =H184 -> 17.73
A185: NVD Rīgas nodaļa | B185: 010065801 | C185: PALĪDZĪBAS DIENESTS, Sabiedrība ar ierobežotu atbildību | D185: 01019 | E185: Ārsta palīga vai vecmātes konsultācija pirms vakcinācijas | F185: 1.97 | G185: 14 | H185: =F185*G185 -> 27.58 | I185: =H185 -> 27.58
A186: NVD Rīgas nodaļa | B186: 801600074 | C186: Veide Artūrs - ģimenes ārsta un arodveselības un arodslimību ārsta prakse | D186: 01019 | E186: Ārsta palīga vai vecmātes konsultācija pirms vakcinācijas | F186: 1.97 | G186: 2 | H186: =F186*G186 -> 3.94 | I186: =H186 -> 3.94
A187: NVD Vidzemes nodaļa | B187: 010001522 | C187: Salvum TD aprūpe un izglītība, SIA | D187: 01019 | E187: Ārsta palīga vai vecmātes konsultācija pirms vakcinācijas | F187: 1.97 | G187: 89 | H187: =F187*G187 -> 175.33 | I187: =H187 -> 175.33
A188: NVD Vidzemes nodaļa | B188: 360200053 | C188: BEJAS FELDŠERU VECMĀŠU PUNKTS, ALŪKSNES NOVADA PAŠVALDĪBA | D188: 01019 | E188: Ārsta palīga vai vecmātes konsultācija pirms vakcinācijas | F188: 1.97 | G188: 1 | H188: =F188*G188 -> 1.97 | J188: =H188 -> 1.97
A189: NVD Vidzemes nodaļa | B189: 360200056 | C189: MĀRKALNES FELDŠERU PUNKTS, ALŪKSNES NOVADA PAŠVALDĪBA | D189: 01019 | E189: Ārsta palīga vai vecmātes konsultācija pirms vakcinācijas | F189: 1.97 | G189: 1 | H189: =F189*G189 -> 1.97 | J189: =H189 -> 1.97
A190: NVD Vidzemes nodaļa | B190: 381600016 | C190: A.Stubailovas ģimenes ārsta prakse, SIA | D190: 01019 | E190: Ārsta palīga vai vecmātes konsultācija pirms vakcinācijas | F190: 1.97 | G190: 1 | H190: =F190*G190 -> 1.97 | I190: =H190 -> 1.97
A191: NVD Vidzemes nodaļa | B191: 705500008 | C191: Braķe Aina - ģimenes ārsta prakse | D191: 01019 | E191: Ārsta palīga vai vecmātes konsultācija pirms vakcinācijas | F191: 1.97 | G191: 1 | H191: =F191*G191 -> 1.97 | I191: =H191 -> 1.97
A192: NVD Zemgales nodaļa | B192: 406435102 | C192: Iecavas veselības centrs, Pašvaldības aģentūra | D192: 01019 | E192: Ārsta palīga vai vecmātes konsultācija pirms vakcinācijas | F192: 1.97 | G192: 3 | H192: =F192*G192 -> 5.91 | J192: =H192 -> 5.91
A193: NVD Zemgales nodaļa | B193: 560200001 | C193: Bērziņa Baiba - ģimenes ārsta prakse | D193: 01019 | E193: Ārsta palīga vai vecmātes konsultācija pirms vakcinācijas | F193: 1.97 | G193: 1 | H193: =F193*G193 -> 1.97 | I193: =H193 -> 1.97
A194: NVD Zemgales nodaļa | B194: 741400004 | C194: Matisone Inese - ģimenes ārsta prakse | D194: 01019 | E194: Ārsta palīga vai vecmātes konsultācija pirms vakcinācijas | F194: 1.97 | G194: 4 | H194: =F194*G194 -> 7.88 | I194: =H194 -> 7.88
A195: NVD Rīgas nodaļa | B195: 010000364 | C195: Pogodina Jeļena - ģimenes ārsta un internista prakse | D195: 03048 | E195: Piemaksa manipulācijai 01018 vai 03095 par ārsta darbu Covid-19 vakcinācijas kabinetā brīvdienās un svētku dienās | F195: 3.27 | G195: 2 | H195: =F195*G195 -> 6.54 | I195: =H195 -> 6.54
A196: NVD Rīgas nodaļa | B196: 801200001 | C196: Salaspils veselības centrs, Sabiedrība ar ierobežotu atbildību | D196: 03048 | E196: Piemaksa manipulācijai 01018 vai 03095 par ārsta darbu Covid-19 vakcinācijas kabinetā brīvdienās un svētku dienās | F196: 3.27 | G196: 10 | H196: =F196*G196 -> 32.7 | I196: =H196 -> 32.7
A197: NVD Rīgas nodaļa | B197: 808400004 | C197: K.BIRZNIECES-BĒRZIŅAS ĢIMENES ĀRSTA PRAKSE, Sabiedrība ar ierobežotu atbildību | D197: 03048 | E197: Piemaksa manipulācijai 01018 vai 03095 par ārsta darbu Covid-19 vakcinācijas kabinetā brīvdienās un svētku dienās | F197: 3.27 | G197: 4 | H197: =F197*G197 -> 13.08 | I197: =H197 -> 13.08
A198: NVD Vidzemes nodaļa | B198: 380200001 | C198: LĪGAS KOZLOVSKAS ĢIMENES ĀRSTA PRAKSE, Balvu pilsētas Līgas Kozlovskas individuālais uzņēmums | D198: 03048 | E198: Piemaksa manipulācijai 01018 vai 03095 par ārsta darbu Covid-19 vakcinācijas kabinetā brīvdienās un svētku dienās | F198: 3.27 | G198: 6 | H198: =F198*G198 -> 19.62 | I198: =H198 -> 19.62
A199: NVD Zemgales nodaļa | B199: 740200018 | C199: Ausmas Balodes ģimenes ārsta doktorāts, Sabiedrība ar ierobežotu atbildību | D199: 03048 | E199: Piemaksa manipulācijai 01018 vai 03095 par ārsta darbu Covid-19 vakcinācijas kabinetā brīvdienās un svētku dienās | F199: 3.27 | G199: 5 | H199: =F199*G199 -> 16.35 | I199: =H199 -> 16.35
A200: NVD Rīgas nodaļa | B200: 010065801 | C200: PALĪDZĪBAS DIENESTS, Sabiedrība ar ierobežotu atbildību | D200: 03049 | E200: Piemaksa manipulācijām 03081 un 01019 vai 03096 par māsas, ārsta palīga darbu Covid-19 vakcinācijas kabinetā brīvdienās un svētku dienās | F200: 1.96 | G200: 7 | H200: =F200*G200 -> 13.72 | I200: =H200 -> 13.72
A201: NVD Vidzemes nodaļa | B201: 010001522 | C201: Salvum TD aprūpe un izglītība, SIA | D201: 03049 | E201: Piemaksa manipulācijām 03081 un 01019 vai 03096 par māsas, ārsta palīga darbu Covid-19 vakcinācijas kabinetā brīvdienās un svētku dienās | F201: 1.96 | G201: 56 | H201: =F201*G201 -> 109.76 | I201: =H201 -> 109.76
A202: NVD Vidzemes nodaļa | B202: 380200001 | C202: LĪGAS KOZLOVSKAS ĢIMENES ĀRSTA PRAKSE, Balvu pilsētas Līgas Kozlovskas individuālais uzņēmums | D202: 03049 | E202: Piemaksa manipulācijām 03081 un 01019 vai 03096 par māsas, ārsta palīga darbu Covid-19 vakcinācijas kabinetā brīvdienās un svētku dienās | F202: 1.96 | G202: 6 | H202: =F202*G202 -> 11.76 | I202: =H202 -> 11.76
A203: NVD Zemgales nodaļa | B203: 740200018 | C203: Ausmas Balodes ģimenes ārsta doktorāts, Sabiedrība ar ierobežotu atbildību | D203: 03049 | E203: Piemaksa manipulācijām 03081 un 01019 vai 03096 par māsas, ārsta palīga darbu Covid-19 vakcinācijas kabinetā brīvdienās un svētku dienās | F203: 1.96 | G203: 5 | H203: =F203*G203 -> 9.8 | I203: =H203 -> 9.8
A204: NVD Kurzemes nodaļa | B204: 027000001 | C204: Dr.Katerynas prakse, SIA | D204: 03081 | E204: Vakcīnas ievadīšana ādā, zemādā un muskulī | F204: 1.1 | G204: 4 | H204: =F204*G204 -> 4.4 | I204: =H204 -> 4.4
... A253: NVD Latgales nodaļa | B253: 780200014 | C253: RUŽINAS DOKTORĀTS, Sabiedrība ar ierobežotu atbildību | D253: 03081 | E253: Vakcīnas ievadīšana ādā, zemādā un muskulī | F253: 1.1 | G253: 8 | H253: =F253*G253 -> 8.8 | I253: =H253 -> 8.8
A254: NVD Latgales nodaļa | B254: 780200015 | C254: STOĻEROVAS PAGASTA FELDŠERU-VECMĀŠU PUNKTS, RĒZEKNES NOVADA PAŠVALDĪBAS STOĻEROVAS PAGASTA PĀRVALDE | D254: 03081 | E254: Vakcīnas ievadīšana ādā, zemādā un muskulī | F254: 1.1 | G254: 9 | H254: =F254*G254 -> 9.9 | J254: =H254 -> 9.9
A255: NVD Rīgas nodaļa | B255: 010000021 | C255: Harmonija Plus, SIA | D255: 03081 | E255: Vakcīnas ievadīšana ādā, zemādā un muskulī | F255: 1.1 | G255: 1 | H255: =F255*G255 -> 1.1 | I255: =H255 -> 1.1
A256: NVD Rīgas nodaļa | B256: 010000061 | C256: Rīgas patversme | D256: 03081 | E256: Vakcīnas ievadīšana ādā, zemādā un muskulī | F256: 1.1 | G256: 70 | H256: =F256*G256 -> 77 | J256: =H256 -> 77
A257: NVD Rīgas nodaļa | B257: 010000243 | C257: Zitmane Zane - ģimenes ārsta prakse | D257: 03081 | E257: Vakcīnas ievadīšana ādā, zemādā un muskulī | F257: 1.1 | G257: 3 | H257: =F257*G257 -> 3.3 | I257: =H257 -> 3.3
A258: NVD Rīgas nodaļa | B258: 010000327 | C258: Geletko Tatjana - ģimenes ārsta prakse | D258: 03081 | E258: Vakcīnas ievadīšana ādā, zemādā un muskulī | F258: 1.1 | G258: 3 | H258: =F258*G258 -> 3.3 | I258: =H258 -> 3.3
A259: NVD Rīgas nodaļa | B259: 010000346 | C259: Kaļinkina Iļmira - ģimenes ārsta prakse | D259: 03081 | E259: Vakcīnas ievadīšana ādā, zemādā un muskulī | F259: 1.1 | G259: 12 | H259: =F259*G259 -> 13.2 | I259: =H259 -> 13.2
A260: NVD Rīgas nodaļa | B260: 010000347 | C260: Bubenko Ludmila - ģimenes ārsta prakse | D260: 03081 | E260: Vakcīnas ievadīšana ādā, zemādā un muskulī | F260: 1.1 | G260: 1 | H260: =F260*G260 -> 1.1 | I260: =H260 -> 1.1
A261: NVD Rīgas nodaļa | B261: 010000364 | C261: Pogodina Jeļena - ģimenes ārsta un internista prakse | D261: 03081 | E261: Vakcīnas ievadīšana ādā, zemādā un muskulī | F261: 1.1 | G261: 2 | H261: =F261*G261 -> 2.2 | I261: =H261 -> 2.2
A262: NVD Rīgas nodaļa | B262: 010000427 | C262: MENTAMED, Sabiedrība ar ierobežotu atbildību | D262: 03081 | E262: Vakcīnas ievadīšana ādā, zemādā un muskulī | F262: 1.1 | G262: 1 | H262: =F262*G262 -> 1.1 | I262: =H262 -> 1.1
A263: NVD Rīgas nodaļa | B263: 010000455 | C263: Freimane Liene - ģimenes ārsta prakse | D263: 03081 | E263: Vakcīnas ievadīšana ādā, zemādā un muskulī | F263: 1.1 | G263: 7 | H263: =F263*G263 -> 7.7 | I263: =H263 -> 7.7
A264: NVD Rīgas nodaļa | B264: 010001210 | C264: Hedvigas Kronbergas ģimenes ārsta prakse, SIA | D264: 03081 | E264: Vakcīnas ievadīšana ādā, zemādā un muskulī | F264: 1.1 | G264: 2 | H264: =F264*G264 -> 2.2 | I264: =H264 -> 2.2
A265: NVD Rīgas nodaļa | B265: 010001317 | C265: Sergejeva Iveta - ģimenes ārsta prakse | D265: 03081 | E265: Vakcīnas ievadīšana ādā, zemādā un muskulī | F265: 1.1 | G265: 3 | H265: =F265*G265 -> 3.3 | I265: =H265 -> 3.3
A266: NVD Rīgas nodaļa | B266: 010001496 | C266: Centrālais doktorāts, Sabiedrība ar ierobežotu atbildību | D266: 03081 | E266: Vakcīnas ievadīšana ādā, zemādā un muskulī | F266: 1.1 | G266: 8 | H266: =F266*G266 -> 8.8 | I266: =H266 -> 8.8
A267: NVD Rīgas nodaļa | B267: 010001499 | C267: Ponne Inguna - ģimenes ārsta prakse | D267: 03081 | E267: Vakcīnas ievadīšana ādā, zemādā un muskulī | F267: 1.1 | G267: 3 | H267: =F267*G267 -> 3.3 | I267: =H267 -> 3.3
A268: NVD Rīgas nodaļa | B268: 010001527 | C268: Karlsone Aija - ģimenes ārsta prakse | D268: 03081 | E268: Vakcīnas ievadīšana ādā, zemādā un muskulī | F268: 1.1 | G268: 3 | H268: =F268*G268 -> 3.3 | I268: =H268 -> 3.3
... A315: NVD Rīgas nodaļa | B315: 808400004 | C315: K.BIRZNIECES-BĒRZIŅAS ĢIMENES ĀRSTA PRAKSE, Sabiedrība ar ierobežotu atbildību | D315: 03081 | E315: Vakcīnas ievadīšana ādā, zemādā un muskulī | F315: 1.1 | G315: 4 | H315: =F315*G315 -> 4.4 | I315: =H315 -> 4.4
A316: NVD Rīgas nodaļa | B316: 809635210 | C316: Ropažu novada pašvaldības aģentūra "Stopiņu ambulance" | D316: 03081 | E316: Vakcīnas ievadīšana ādā, zemādā un muskulī | F316: 1.1 | G316: 1 | H316: =F316*G316 -> 1.1 | J316: =H316 -> 1.1
A317: NVD Vidzemes nodaļa | B317: 010001522 | C317: Salvum TD aprūpe un izglītība, SIA | D317: 03081 | E317: Vakcīnas ievadīšana ādā, zemādā un muskulī | F317: 1.1 | G317: 89 | H317: =F317*G317 -> 97.9 | I317: =H317 -> 97.9
A318: NVD Vidzemes nodaļa | B318: 026000004 | C318: Jaunpiebalgas doktorāts, SIA | D318: 03081 | E318: Vakcīnas ievadīšana ādā, zemādā un muskulī | F318: 1.1 | G318: 1 | H318: =F318*G318 -> 1.1 | I318: =H318 -> 1.1
A319: NVD Vidzemes nodaļa | B319: 250000104 | C319: Kravale Jolanta - ģimenes ārsta prakse | D319: 03081 | E319: Vakcīnas ievadīšana ādā, zemādā un muskulī | F319: 1.1 | G319: 2 | H319: =F319*G319 -> 2.2 | I319: =H319 -> 2.2
A320: NVD Vidzemes nodaļa | B320: 250000108 | C320: Bērziņa Inga - ģimenes ārsta prakse | D320: 03081 | E320: Vakcīnas ievadīšana ādā, zemādā un muskulī | F320: 1.1 | G320: 4 | H320: =F320*G320 -> 4.4 | I320: =H320 -> 4.4
A321: NVD Vidzemes nodaļa | B321: 250000159 | C321: Grunte Inga - ģimenes ārsta prakse | D321: 03081 | E321: Vakcīnas ievadīšana ādā, zemādā un muskulī | F321: 1.1 | G321: 3 | H321: =F321*G321 -> 3.3 | I321: =H321 -> 3.3
A322: NVD Vidzemes nodaļa | B322: 360200003 | C322: Anitas Muižnieces ārsta prakse, SIA | D322: 03081 | E322: Vakcīnas ievadīšana ādā, zemādā un muskulī | F322: 1.1 | G322: 7 | H322: =F322*G322 -> 7.7 | I322: =H322 -> 7.7
A323: NVD Vidzemes nodaļa | B323: 360200010 | C323: Šnikvalde Anita - ģimenes ārsta un pediatra prakse | D323: 03081 | E323: Vakcīnas ievadīšana ādā, zemādā un muskulī | F323: 1.1 | G323: 7 | H323: =F323*G323 -> 7.7 | I323: =H323 -> 7.7
A324: NVD Vidzemes nodaļa | B324: 360200012 | C324: Prindule Arita - ģimenes ārsta prakse | D324: 03081 | E324: Vakcīnas ievadīšana ādā, zemādā un muskulī | F324: 1.1 | G324: 8 | H324: =F324*G324 -> 8.8 | I324: =H324 -> 8.8
A325: NVD Vidzemes nodaļa | B325: 360200053 | C325: BEJAS FELDŠERU VECMĀŠU PUNKTS, ALŪKSNES NOVADA PAŠVALDĪBA | D325: 03081 | E325: Vakcīnas ievadīšana ādā, zemādā un muskulī | F325: 1.1 | G325: 1 | H325: =F325*G325 -> 1.1 | J325: =H325 -> 1.1
A326: NVD Vidzemes nodaļa | B326: 360200056 | C326: MĀRKALNES FELDŠERU PUNKTS, ALŪKSNES NOVADA PAŠVALDĪBA | D326: 03081 | E326: Vakcīnas ievadīšana ādā, zemādā un muskulī | F326: 1.1 | G326: 1 | H326: =F326*G326 -> 1.1 | J326: =H326 -> 1.1
A327: NVD Vidzemes nodaļa | B327: 360800001 | C327: Apes ārsta prakse, Sabiedrība ar ierobežotu atbildību | D327: 03081 | E327: Vakcīnas ievadīšana ādā, zemādā un muskulī | F327: 1.1 | G327: 7 | H327: =F327*G327 -> 7.7 | I327: =H327 -> 7.7
A328: NVD Vidzemes nodaļa | B328: 380200001 | C328: LĪGAS KOZLOVSKAS ĢIMENES ĀRSTA PRAKSE, Balvu pilsētas Līgas Kozlovskas individuālais uzņēmums | D328: 03081 | E328: Vakcīnas ievadīšana ādā, zemādā un muskulī | F328: 1.1 | G328: 6 | H328: =F328*G328 -> 6.6 | I328: =H328 -> 6.6
A329: NVD Vidzemes nodaļa | B329: 380200003 | C329: Zuša Ilga - ģimenes ārsta prakse | D329: 03081 | E329: Vakcīnas ievadīšana ādā, zemādā un muskulī | F329: 1.1 | G329: 3 | H329: =F329*G329 -> 3.3 | I329: =H329 -> 3.3
A330: NVD Vidzemes nodaļa | B330: 380200008 | C330: Baranovska Ārija - ģimenes ārsta prakse | D330: 03081 | E330: Vakcīnas ievadīšana ādā, zemādā un muskulī | F330: 1.1 | G330: 4 | H330: =F330*G330 -> 4.4 | I330: =H330 -> 4.4
A331: NVD Vidzemes nodaļa | B331: 380200021 | C331: Ivanova Dace - ģimenes ārsta un pediatra prakse | D331: 03081 | E331: Vakcīnas ievadīšana ādā, zemādā un muskulī | F331: 1.1 | G331: 1 | H331: =F331*G331 -> 1.1 | I331: =H331 -> 1.1
A332: NVD Vidzemes nodaļa | B332: 381600002 | C332: Muraškina Ruta - ģimenes ārsta prakse | D332: 03081 | E332: Vakcīnas ievadīšana ādā, zemādā un muskulī | F332: 1.1 | G332: 1 | H332: =F332*G332 -> 1.1 | I332: =H332 -> 1.1
...

Sheet Vakc_stac_aprilis
G1: Pielikums Nr.4 Ministru kabineta rīkojuma "Par finanšu līdzekļu piešķiršanu no valsts budžeta programmas "Finansējums veselības jomas pasākumiem Covid-19 infekcijas izplatības ierobežošanai"" projekta sākotnējās ietekmes novērtējuma ziņojumam (anotācijai)
A2: Piemaksa par Covid-19 vakcināciju stacionāros no 2021.gada novembra līdz 2022.gada martam pacientiem, kuri izrakstīti no stacionāra 2022.gada aprīlī *
A3: Ārstniecības iestādes nosaukums | B3: Manipulācijas kods | C3: Manupulācijas nosaukums | D3: Tarifs, euro | E3: Manipulāciju skaits | J3: Summa, euro
E4: Novembris, 2021 | F4: Decembris, 2021 | G4: Janvāris, 2022 | H4: Februāris, 2022 | I4: Marts, 2022
A5: Paula Stradiņa klīniskā universitātes slimnīca | B5: 03081 | C5: Vakcīnas ievadīšana ādā, zemādā un muskulī | D5: 1.04 | F5: 1 | J5: =ROUND(D5*E5+D5*F5+D5*G5+D5*H5+D5*I5,2) -> 1.04
A6: Paula Stradiņa klīniskā universitātes slimnīca | B6: 03081 | C6: Vakcīnas ievadīšana ādā, zemādā un muskulī | D6: 1.1 | G6: 10 | J6: =ROUND(D6*E6+D6*F6+D6*G6+D6*H6+D6*I6,2) -> 11
A7: Paula Stradiņa klīniskā universitātes slimnīca | B7: 03083 | C7: Piemaksa manipulācijai 03081 par pacienta Covid-19 vakcinēšanu | D7: 1.96 | F7: 1 | J7: =ROUND(D7*E7+D7*F7+D7*G7+D7*H7+D7*I7,2) -> 1.96
A8: Paula Stradiņa klīniskā universitātes slimnīca | B8: 03083 | C8: Piemaksa manipulācijai 03081 par pacienta Covid-19 vakcinēšanu | D8: 2.05 | G8: 10 | J8: =ROUND(D8*E8+D8*F8+D8*G8+D8*H8+D8*I8,2) -> 20.5
A9: Paula Stradiņa klīniskā universitātes slimnīca | B9: 03098 | C9: Piemaksa manipulācijai 01018 par ārstniecības personu darbu Covid-19 vakcinācijas kabinetā | D9: 1.3 | F9: 1 | J9: =ROUND(D9*E9+D9*F9+D9*G9+D9*H9+D9*I9,2) -> 1.3
A10: Paula Stradiņa klīniskā universitātes slimnīca | B10: 03098 | C10: Piemaksa manipulācijai 01018 par ārstniecības personu darbu Covid-19 vakcinācijas kabinetā | D10: 1.36 | G10: 10 | J10: =ROUND(D10*E10+D10*F10+D10*G10+D10*H10+D10*I10,2) -> 13.6
A11: Rīgas Austrumu klīniskā universitātes slimnīca | B11: 03081 | C11: Vakcīnas ievadīšana ādā, zemādā un muskulī | D11: 1.04 | E11: 1 | J11: =ROUND(D11*E11+D11*F11+D11*G11+D11*H11+D11*I11,2) -> 1.04
A12: Rīgas Austrumu klīniskā universitātes slimnīca | B12: 03081 | C12: Vakcīnas ievadīšana ādā, zemādā un muskulī | D12: 1.1 | G12: 1 | J12: =ROUND(D12*E12+D12*F12+D12*G12+D12*H12+D12*I12,2) -> 1.1
A13: Rīgas Austrumu klīniskā universitātes slimnīca | B13: 03083 | C13: Piemaksa manipulācijai 03081 par pacienta Covid-19 vakcinēšanu | D13: 1.96 | E13: 1 | J13: =ROUND(D13*E13+D13*F13+D13*G13+D13*H13+D13*I13,2) -> 1.96
A14: Rīgas Austrumu klīniskā universitātes slimnīca | B14: 03083 | C14: Piemaksa manipulācijai 03081 par pacienta Covid-19 vakcinēšanu | D14: 2.05 | G14: 1 | J14: =ROUND(D14*E14+D14*F14+D14*G14+D14*H14+D14*I14,2) -> 2.05
A15: Rīgas Austrumu klīniskā universitātes slimnīca | B15: 03098 | C15: Piemaksa manipulācijai 01018 par ārstniecības personu darbu Covid-19 vakcinācijas kabinetā | D15: 1.3 | E15: 1 | J15: =ROUND(D15*E15+D15*F15+D15*G15+D15*H15+D15*I15,2) -> 1.3
A16: Rīgas Austrumu klīniskā universitātes slimnīca | B16: 03098 | C16: Piemaksa manipulācijai 01018 par ārstniecības personu darbu Covid-19 vakcinācijas kabinetā | D16: 1.36 | G16: 1 | J16: =ROUND(D16*E16+D16*F16+D16*G16+D16*H16+D16*I16,2) -> 1.36
A17: Vaivari, nacionālais rehabilitācijas centrs | B17: 03081 | C17: Vakcīnas ievadīšana ādā, zemādā un muskulī | D17: 1.1 | H17: 1 | J17: =ROUND(D17*E17+D17*F17+D17*G17+D17*H17+D17*I17,2) -> 1.1
A18: Vaivari, nacionālais rehabilitācijas centrs | B18: 03083 | C18: Piemaksa manipulācijai 03081 par pacienta Covid-19 vakcinēšanu | D18: 2.05 | H18: 1 | J18: =ROUND(D18*E18+D18*F18+D18*G18+D18*H18+D18*I18,2) -> 2.05
A19: Vaivari, nacionālais rehabilitācijas centrs | B19: 03098 | C19: Piemaksa manipulācijai 01018 par ārstniecības personu darbu Covid-19 vakcinācijas kabinetā | D19: 1.36 | H19: 1 | J19: =ROUND(D19*E19+D19*F19+D19*G19+D19*H19+D19*I19,2) -> 1.36
A20: Kopā: | J20: =SUM(J5:J19) -> 62.72
J21: =ROUNDUP(J20,0) -> 63
A22: * Manipulāciju skaits tiek iegūts tikai, kad pacients tiek izrakstīts un karte ievadīta Vadības informācijas sistēmā (atbilstoši līgumam par stacionārās veselības aprūpes pakalpojumu sniegšanu un apmaksu starp Nacionālo Veselības Dienestu (turpmāk Dienests) un ārstniecības iestādi 3. pielikumam, Informācijas apmaiņas kārtība, Dienests apmaksā kartes, kas ievadītas ne vēlāk kā 60 dienas pēc izrakstīšanās datuma). Ārstniecības iestāde kartes var labot līdz nākošā kalendārā gada 8. janvārim. Lai iegūtu precīzu apmaksājamo manipulāciju skaitu, Dienests salīdzina iepriekšējos mēnešos veikto manipulāciju skaitu un apmaksā starpību starp veikto manipulāciju skaitu un jau samaksāto manipulāciju skaitu atbilstoši manipulāciju tarifiem. Ņemot vērā, to ka pacients tika izrakstīts aprīļa mēnesī, līdz ar to karte par pacientu tiek ievadīta Vadības informācijas sistēmā arī aprīļa mēnesī.

Sheet Vakc_SAVA_maijs
H1: Pielikums Nr.5 Ministru kabineta rīkojuma "Par finanšu līdzekļu piešķiršanu no valsts budžeta programmas "Finansējums veselības jomas pasākumiem Covid-19 infekcijas izplatības ierobežošanai"" projekta sākotnējās ietekmes novērtējuma ziņojumam (anotācijai)
A2: Veiktais darbs 2022.gada maijā par COVID-19 vakcinācijas saistītām manipulācijām SAVA programmās
A3: NVD TN | B3: Ārstniecības iestādes kods | C3: Ārstniecības iestādes nosaukums | D3: Manipulācijas kods | E3: Manipulācijas nosaukums | F3: Manipulāciju tarifs, euro | G3: Manipulāciju skaits kopā | H3: Pakalpojumu summa kopā, euro | I3: Manipulāciju skaits kopā | J3: EKK 3000 | K3: EKK 7460
A4: Kopā: | G4: =SUM(G5:G288) -> 19410 | H4: =J4+K4 -> 40332 | I4: =SUM(I5:I288) -> 19410 | J4: =ROUNDUP(SUM(J5:J288),0) -> 39817 | K4: =ROUNDUP(SUM(K5:K288),0) -> 515
A5: NVD Kurzemes nodaļa | B5: 170024101 | C5: VECLIEPĀJAS PRIMĀRĀS VESELĪBAS APRŪPES CENTRS, Pašvaldības Sabiedrība ar ierobežotu atbildību | D5: 01018 | E5: Ārsta konsultācija pirms vakcinācijas. Nenorāda kopā ar manipulāciju 01061, 60443 un 60444 | F5: 3.54 | G5: 30 | H5: =F5*G5 -> 106.2 | I5: 30 | J5: =H5 -> 106.2
A6: NVD Kurzemes nodaļa | B6: 170065204 | C6: L. ATIĶES DOKTORĀTS, SIA | D6: 01018 | E6: Ārsta konsultācija pirms vakcinācijas. Nenorāda kopā ar manipulāciju 01061, 60443 un 60444 | F6: 3.54 | G6: 75 | H6: =F6*G6 -> 265.5 | I6: 75 | J6: =H6 -> 265.5
A7: NVD Kurzemes nodaļa | B7: 270020302 | C7: Ziemeļkurzemes reģionālā slimnīca, SIA | D7: 01018 | E7: Ārsta konsultācija pirms vakcinācijas. Nenorāda kopā ar manipulāciju 01061, 60443 un 60444 | F7: 3.54 | G7: 4 | H7: =F7*G7 -> 14.16 | I7: 4 | J7: =H7 -> 14.16
A8: NVD Kurzemes nodaļa | B8: 620200038 | C8: Kuldīgas slimnīca, Sabiedrība ar ierobežotu atbildību | D8: 01018 | E8: Ārsta konsultācija pirms vakcinācijas. Nenorāda kopā ar manipulāciju 01061, 60443 un 60444 | F8: 3.54 | G8: 15 | H8: =F8*G8 -> 53.1 | I8: 15 | J8: =H8 -> 53.1
A9: NVD Kurzemes nodaļa | B9: 880200016 | C9: TALSU VESELĪBAS CENTRS, SIA | D9: 01018 | E9: Ārsta konsultācija pirms vakcinācijas. Nenorāda kopā ar manipulāciju 01061, 60443 un 60444 | F9: 3.54 | G9: 21 | H9: =F9*G9 -> 74.34 | I9: 21 | J9: =H9 -> 74.34
A10: NVD Latgales nodaļa | B10: 050012101 | C10: Daugavpils psihoneiroloģiskā slimnīca, Valsts sabiedrība ar ierobežotu atbildību | D10: 01018 | E10: Ārsta konsultācija pirms vakcinācijas. Nenorāda kopā ar manipulāciju 01061, 60443 un 60444 | F10: 3.54 | G10: 17 | H10: =F10*G10 -> 60.18 | I10: 17 | J10: =H10 -> 60.18
A11: NVD Latgales nodaļa | B11: 050020401 | C11: Daugavpils reģionālā slimnīca, Sabiedrība ar ierobežotu atbildību | D11: 01018 | E11: Ārsta konsultācija pirms vakcinācijas. Nenorāda kopā ar manipulāciju 01061, 60443 un 60444 | F11: 3.54 | G11: 63 | H11: =F11*G11 -> 223.02 | I11: 63 | J11: =H11 -> 223.02
A12: NVD Latgales nodaļa | B12: 680200030 | C12: Ludzas medicīnas centrs, Sabiedrība ar ierobežotu atbildību | D12: 01018 | E12: Ārsta konsultācija pirms vakcinācijas. Nenorāda kopā ar manipulāciju 01061, 60443 un 60444 | F12: 3.54 | G12: 24 | H12: =F12*G12 -> 84.96 | I12: 24 | J12: =H12 -> 84.96
A13: NVD Rīgas nodaļa | B13: 001000043 | C13: Apotheka, SIA | D13: 01018 | E13: Ārsta konsultācija pirms vakcinācijas. Nenorāda kopā ar manipulāciju 01061, 60443 un 60444 | F13: 3.54 | G13: 8 | H13: =F13*G13 -> 28.32 | I13: 8 | J13: =H13 -> 28.32
A14: NVD Rīgas nodaļa | B14: 010000171 | C14: I. Paturskas ģimenes veselības centrs, Sabiedrība ar ierobežotu atbildību | D14: 01018 | E14: Ārsta konsultācija pirms vakcinācijas. Nenorāda kopā ar manipulāciju 01061, 60443 un 60444 | F14: 3.54 | G14: 20 | H14: =F14*G14 -> 70.8 | I14: 20 | J14: =H14 -> 70.8
A15: NVD Rīgas nodaļa | B15: 010000234 | C15: Rīgas Austrumu klīniskā universitātes slimnīca, SIA | D15: 01018 | E15: Ārsta konsultācija pirms vakcinācijas. Nenorāda kopā ar manipulāciju 01061, 60443 un 60444 | F15: 3.54 | G15: 45 | H15: =F15*G15 -> 159.3 | I15: 45 | J15: =H15 -> 159.3
A16: NVD Rīgas nodaļa | B16: 010001411 | C16: ĀRSTNIECĪBAS REHABILITĀCIJAS CENTRS VALEO, Sabiedrība ar ierobežotu atbildību | D16: 01018 | E16: Ārsta konsultācija pirms vakcinācijas. Nenorāda kopā ar manipulāciju 01061, 60443 un 60444 | F16: 3.54 | G16: 15 | H16: =F16*G16 -> 53.1 | I16: 15 | J16: =H16 -> 53.1
... A52: NVD Rīgas nodaļa | B52: 801200001 | C52: Salaspils veselības centrs, Sabiedrība ar ierobežotu atbildību | D52: 01019 | E52: Ārsta palīga vai vecmātes konsultācija pirms vakcinācijas | F52: 1.97 | G52: 66 | H52: =F52*G52 -> 130.02 | I52: 66 | J52: =H52 -> 130.02
A53: NVD Rīgas nodaļa | B53: 801400002 | C53: Saulkrastu veselības un sociālās aprūpes centrs, Pašvaldības aģentūra | D53: 01019 | E53: Ārsta palīga vai vecmātes konsultācija pirms vakcinācijas | F53: 1.97 | G53: 68 | H53: =F53*G53 -> 133.96 | I53: 68 | K53: =H53 -> 133.96
A54: NVD Vidzemes nodaļa | B54: 250000092 | C54: Vidzemes slimnīca, Sabiedrība ar ierobežotu atbildību | D54: 01019 | E54: Ārsta palīga vai vecmātes konsultācija pirms vakcinācijas | F54: 1.97 | G54: 8 | H54: =F54*G54 -> 15.76 | I54: 8 | J54: =H54 -> 15.76
A55: NVD Vidzemes nodaļa | B55: 700200041 | C55: Madonas slimnīca, Madonas novada pašvaldības SIA | D55: 01019 | E55: Ārsta palīga vai vecmātes konsultācija pirms vakcinācijas | F55: 1.97 | G55: 19 | H55: =F55*G55 -> 37.43 | I55: 19 | J55: =H55 -> 37.43
A56: NVD Zemgales nodaļa | B56: 110000048 | C56: Jēkabpils reģionālā slimnīca, Sabiedrība ar ierobežotu atbildību | D56: 01019 | E56: Ārsta palīga vai vecmātes konsultācija pirms vakcinācijas | F56: 1.97 | G56: 71 | H56: =F56*G56 -> 139.87 | I56: 71 | J56: =H56 -> 139.87
A57: NVD Rīgas nodaļa | B57: 010054114 | C57: DZELZCEĻA VESELĪBAS CENTRS, Sabiedrība ar ierobežotu atbildību | D57: 03048 | E57: Piemaksa manipulācijai 01018 vai 03095 par ārsta darbu Covid-19 vakcinācijas kabinetā brīvdienās un svētku dienās | F57: 3.27 | G57: 42 | H57: =F57*G57 -> 137.34 | I57: 42 | J57: =H57 -> 137.34
A58: NVD Rīgas nodaļa | B58: 010064120 | C58: Veselības centru apvienība, AS | D58: 03048 | E58: Piemaksa manipulācijai 01018 vai 03095 par ārsta darbu Covid-19 vakcinācijas kabinetā brīvdienās un svētku dienās | F58: 3.27 | G58: 103 | H58: =F58*G58 -> 336.81 | I58: 103 | J58: =H58 -> 336.81
A59: NVD Rīgas nodaļa | B59: 010054114 | C59: DZELZCEĻA VESELĪBAS CENTRS, Sabiedrība ar ierobežotu atbildību | D59: 03049 | E59: Piemaksa manipulācijām 03081 un 01019 vai 03096 par māsas, ārsta palīga darbu Covid-19 vakcinācijas kabinetā brīvdienās un svētku dienās | F59: 1.96 | G59: 42 | H59: =F59*G59 -> 82.32 | I59: 42 | J59: =H59 -> 82.32
A60: NVD Rīgas nodaļa | B60: 010064114 | C60: VESELĪBAS CENTRS 4, Sabiedrība ar ierobežotu atbildību | D60: 03049 | E60: Piemaksa manipulācijām 03081 un 01019 vai 03096 par māsas, ārsta palīga darbu Covid-19 vakcinācijas kabinetā brīvdienās un svētku dienās | F60: 1.96 | G60: 3 | H60: =F60*G60 -> 5.88 | I60: 3 | J60: =H60 -> 5.88
A61: NVD Rīgas nodaļa | B61: 010064120 | C61: Veselības centru apvienība, AS | D61: 03049 | E61: Piemaksa manipulācijām 03081 un 01019 vai 03096 par māsas, ārsta palīga darbu Covid-19 vakcinācijas kabinetā brīvdienās un svētku dienās | F61: 1.96 | G61: 99 | H61: =F61*G61 -> 194.04 | I61: 99 | J61: =H61 -> 194.04
A62: NVD Rīgas nodaļa | B62: 801200001 | C62: Salaspils veselības centrs, Sabiedrība ar ierobežotu atbildību | D62: 03049 | E62: Piemaksa manipulācijām 03081 un 01019 vai 03096 par māsas, ārsta palīga darbu Covid-19 vakcinācijas kabinetā brīvdienās un svētku dienās | F62: 1.96 | G62: 6 | H62: =F62*G62 -> 11.76 | I62: 6 | J62: =H62 -> 11.76
A63: NVD Kurzemes nodaļa | B63: 170024101 | C63: VECLIEPĀJAS PRIMĀRĀS VESELĪBAS APRŪPES CENTRS, Pašvaldības Sabiedrība ar ierobežotu atbildību | D63: 03081 | E63: Vakcīnas ievadīšana ādā, zemādā un muskulī | F63: 1.1 | G63: 30 | H63: =F63*G63 -> 33 | I63: 30 | J63: =H63 -> 33
A64: NVD Kurzemes nodaļa | B64: 170065204 | C64: L. ATIĶES DOKTORĀTS, SIA | D64: 03081 | E64: Vakcīnas ievadīšana ādā, zemādā un muskulī | F64: 1.1 | G64: 75 | H64: =F64*G64 -> 82.5 | I64: 75 | J64: =H64 -> 82.5
A65: NVD Kurzemes nodaļa | B65: 270020302 | C65: Ziemeļkurzemes reģionālā slimnīca, SIA | D65: 03081 | E65: Vakcīnas ievadīšana ādā, zemādā un muskulī | F65: 1.1 | G65: 4 | H65: =F65*G65 -> 4.4 | I65: 4 | J65: =H65 -> 4.4
... A98: NVD Rīgas nodaļa | B98: 801200001 | C98: Salaspils veselības centrs, Sabiedrība ar ierobežotu atbildību | D98: 03081 | E98: Vakcīnas ievadīšana ādā, zemādā un muskulī | F98: 1.1 | G98: 66 | H98: =F98*G98 -> 72.6 | I98: 66 | J98: =H98 -> 72.6
A99: NVD Rīgas nodaļa | B99: 801400002 | C99: Saulkrastu veselības un sociālās aprūpes centrs, Pašvaldības aģentūra | D99: 03081 | E99: Vakcīnas ievadīšana ādā, zemādā un muskulī | F99: 1.1 | G99: 68 | H99: =F99*G99 -> 74.8 | I99: 68 | K99: =H99 -> 74.8
A100: NVD Rīgas nodaļa | B100: 801600003 | C100: Siguldas slimnīca, SIA | D100: 03081 | E100: Vakcīnas ievadīšana ādā, zemādā un muskulī | F100: 1.1 | G100: 11 | H100: =F100*G100 -> 12.1 | I100: 11 | J100: =H100 -> 12.1
A101: NVD Vidzemes nodaļa | B101: 250000087 | C101: VALMIERAS VESELĪBAS CENTRS, SIA | D101: 03081 | E101: Vakcīnas ievadīšana ādā, zemādā un muskulī | F101: 1.1 | G101: 44 | H101: =F101*G101 -> 48.4 | I101: 44 | J101: =H101 -> 48.4
A102: NVD Vidzemes nodaļa | B102: 250000092 | C102: Vidzemes slimnīca, Sabiedrība ar ierobežotu atbildību | D102: 03081 | E102: Vakcīnas ievadīšana ādā, zemādā un muskulī | F102: 1.1 | G102: 8 | H102: =F102*G102 -> 8.8 | I102: 8 | J102: =H102 -> 8.8
A103: NVD Vidzemes nodaļa | B103: 500200052 | C103: Balvu un Gulbenes slimnīcu apvienība, Sabiedrība ar ierobežotu atbildību | D103: 03081 | E103: Vakcīnas ievadīšana ādā, zemādā un muskulī | F103: 1.1 | G103: 22 | H103: =F103*G103 -> 24.2 | I103: 22 | J103: =H103 -> 24.2
A104: NVD Vidzemes nodaļa | B104: 660200027 | C104: Limbažu slimnīca, Sabiedrība ar ierobežotu atbildību | D104: 03081 | E104: Vakcīnas ievadīšana ādā, zemādā un muskulī | F104: 1.1 | G104: 3 | H104: =F104*G104 -> 3.3 | I104: 3 | J104: =H104 -> 3.3
A105: NVD Vidzemes nodaļa | B105: 700200041 | C105: Madonas slimnīca, Madonas novada pašvaldības SIA | D105: 03081 | E105: Vakcīnas ievadīšana ādā, zemādā un muskulī | F105: 1.1 | G105: 19 | H105: =F105*G105 -> 20.9 | I105: 19 | J105: =H105 -> 20.9
A106: NVD Zemgales nodaļa | B106: 090000026 | C106: Zemgales veselības centrs, Sabiedrība ar ierobežotu atbildību | D106: 03081 | E106: Vakcīnas ievadīšana ādā, zemādā un muskulī | F106: 1.1 | G106: 64 | H106: =F106*G106 -> 70.4 | I106: 64 | J106: =H106 -> 70.4
A107: NVD Zemgales nodaļa | B107: 090024001 | C107: Medicīnas sabiedrība "Optima 1", Sabiedrība ar ierobežotu atbildību | D107: 03081 | E107: Vakcīnas ievadīšana ādā, zemādā un muskulī | F107: 1.1 | G107: 47 | H107: =F107*G107 -> 51.7 | I107: 47 | J107: =H107 -> 51.7
A108: NVD Zemgales nodaļa | B108: 110000048 | C108: Jēkabpils reģionālā slimnīca, Sabiedrība ar ierobežotu atbildību | D108: 03081 | E108: Vakcīnas ievadīšana ādā, zemādā un muskulī | F108: 1.1 | G108: 71 | H108: =F108*G108 -> 78.1 | I108: 71 | J108: =H108 -> 78.1
A109: NVD Zemgales nodaļa | B109: 320200001 | C109: Aizkraukles slimnīca, Sabiedrība ar ierobežotu atbildību | D109: 03081 | E109: Vakcīnas ievadīšana ādā, zemādā un muskulī | F109: 1.1 | G109: 23 | H109: =F109*G109 -> 25.3 | I109: 23 | J109: =H109 -> 25.3
A110: NVD Zemgales nodaļa | B110: 400200024 | C110: Bauskas slimnīca, SIA | D110: 03081 | E110: Vakcīnas ievadīšana ādā, zemādā un muskulī | F110: 1.1 | G110: 17 | H110: =F110*G110 -> 18.7 | I110: 17 | J110: =H110 -> 18.7
A111: NVD Zemgales nodaļa | B111: 460200036 | C111: Dobeles un apkārtnes slimnīca, SIA | D111: 03081 | E111: Vakcīnas ievadīšana ādā, zemādā un muskulī | F111: 1.1 | G111: 29 | H111: =F111*G111 -> 31.9 | I111: 29 | J111: =H111 -> 31.9
... A146: NVD Rīgas nodaļa | B146: 801200001 | C146: Salaspils veselības centrs, Sabiedrība ar ierobežotu atbildību | D146: 03083 | E146: Piemaksa manipulācijai 03081 par pacienta Covid-19 vakcinēšanu | F146: 2.05 | G146: 66 | H146: =F146*G146 -> 135.3 | I146: 66 | J146: =H146 -> 135.3
A147: NVD Rīgas nodaļa | B147: 801400002 | C147: Saulkrastu veselības un sociālās aprūpes centrs, Pašvaldības aģentūra | D147: 03083 | E147: Piemaksa manipulācijai 03081 par pacienta Covid-19 vakcinēšanu | F147: 2.05 | G147: 68 | H147: =F147*G147 -> 139.4 | I147: 68 | K147: =H147 -> 139.4
A148: NVD Rīgas nodaļa | B148: 801600003 | C148: Siguldas slimnīca, SIA | D148: 03083 | E148: Piemaksa manipulācijai 03081 par pacienta Covid-19 vakcinēšanu | F148: 2.05 | G148: 11 | H148: =F148*G148 -> 22.55 | I148: 11 | J148: =H148 -> 22.55
A149: NVD Rīgas nodaļa | B149: 804435102 | C149: Ādažu slimnīca, Pašvaldības sabiedrība ar ierobežotu atbildību | D149: 03083 | E149: Piemaksa manipulācijai 03081 par pacienta Covid-19 vakcinēšanu | F149: 2.05 | G149: 1 | H149: =F149*G149 -> 2.05 | I149: 1 | J149: =H149 -> 2.05
A150: NVD Vidzemes nodaļa | B150: 250000087 | C150: VALMIERAS VESELĪBAS CENTRS, SIA | D150: 03083 | E150: Piemaksa manipulācijai 03081 par pacienta Covid-19 vakcinēšanu | F150: 2.05 | G150: 44 | H150: =F150*G150 -> 90.2 | I150: 44 | J150: =H150 -> 90.2
A151: NVD Vidzemes nodaļa | B151: 250000092 | C151: Vidzemes slimnīca, Sabiedrība ar ierobežotu atbildību | D151: 03083 | E151: Piemaksa manipulācijai 03081 par pacienta Covid-19 vakcinēšanu | F151: 2.05 | G151: 8 | H151: =F151*G151 -> 16.4 | I151: 8 | J151: =H151 -> 16.4
A152: NVD Vidzemes nodaļa | B152: 500200052 | C152: Balvu un Gulbenes slimnīcu apvienība, Sabiedrība ar ierobežotu atbildību | D152: 03083 | E152: Piemaksa manipulācijai 03081 par pacienta Covid-19 vakcinēšanu | F152: 2.05 | G152: 22 | H152: =F152*G152 -> 45.1 | I152: 22 | J152: =H152 -> 45.1
A153: NVD Vidzemes nodaļa | B153: 660200027 | C153: Limbažu slimnīca, Sabiedrība ar ierobežotu atbildību | D153: 03083 | E153: Piemaksa manipulācijai 03081 par pacienta Covid-19 vakcinēšanu | F153: 2.05 | G153: 3 | H153: =F153*G153 -> 6.15 | I153: 3 | J153: =H153 -> 6.15
A154: NVD Vidzemes nodaļa | B154: 700200041 | C154: Madonas slimnīca, Madonas novada pašvaldības SIA | D154: 03083 | E154: Piemaksa manipulācijai 03081 par pacienta Covid-19 vakcinēšanu | F154: 2.05 | G154: 19 | H154: =F154*G154 -> 38.95 | I154: 19 | J154: =H154 -> 38.95
A155: NVD Zemgales nodaļa | B155: 090000026 | C155: Zemgales veselības centrs, Sabiedrība ar ierobežotu atbildību | D155: 03083 | E155: Piemaksa manipulācijai 03081 par pacienta Covid-19 vakcinēšanu | F155: 2.05 | G155: 64 | H155: =F155*G155 -> 131.2 | I155: 64 | J155: =H155 -> 131.2
A156: NVD Zemgales nodaļa | B156: 090024001 | C156: Medicīnas sabiedrība "Optima 1", Sabiedrība ar ierobežotu atbildību | D156: 03083 | E156: Piemaksa manipulācijai 03081 par pacienta Covid-19 vakcinēšanu | F156: 2.05 | G156: 47 | H156: =F156*G156 -> 96.35 | I156: 47 | J156: =H156 -> 96.35
A157: NVD Zemgales nodaļa | B157: 110000048 | C157: Jēkabpils reģionālā slimnīca, Sabiedrība ar ierobežotu atbildību | D157: 03083 | E157: Piemaksa manipulācijai 03081 par pacienta Covid-19 vakcinēšanu | F157: 2.05 | G157: 71 | H157: =F157*G157 -> 145.55 | I157: 71 | J157: =H157 -> 145.55
A158: NVD Zemgales nodaļa | B158: 320200001 | C158: Aizkraukles slimnīca, Sabiedrība ar ierobežotu atbildību | D158: 03083 | E158: Piemaksa manipulācijai 03081 par pacienta Covid-19 vakcinēšanu | F158: 2.05 | G158: 23 | H158: =F158*G158 -> 47.15 | I158: 23 | J158: =H158 -> 47.15
A159: NVD Zemgales nodaļa | B159: 400200024 | C159: Bauskas slimnīca, SIA | D159: 03083 | E159: Piemaksa manipulācijai 03081 par pacienta Covid-19 vakcinēšanu | F159: 2.05 | G159: 17 | H159: =F159*G159 -> 34.85 | I159: 17 | J159: =H159 -> 34.85
... A212: NVD Rīgas nodaļa | B212: 801200001 | C212: Salaspils veselības centrs, Sabiedrība ar ierobežotu atbildību | D212: 03099 | E212: Piemaksa manipulācijai 01019 par ārstniecības personu darbu Covid-19 vakcinācijas kabinetā | F212: 1.06 | G212: 66 | H212: =F212*G212 -> 69.96 | I212: 66 | J212: =H212 -> 69.96
A213: NVD Rīgas nodaļa | B213: 801400002 | C213: Saulkrastu veselības un sociālās aprūpes centrs, Pašvaldības aģentūra | D213: 03099 | E213: Piemaksa manipulācijai 01019 par ārstniecības personu darbu Covid-19 vakcinācijas kabinetā | F213: 1.06 | G213: 68 | H213: =F213*G213 -> 72.08 | I213: 68 | K213: =H213 -> 72.08
A214: NVD Vidzemes nodaļa | B214: 250000092 | C214: Vidzemes slimnīca, Sabiedrība ar ierobežotu atbildību | D214: 03099 | E214: Piemaksa manipulācijai 01019 par ārstniecības personu darbu Covid-19 vakcinācijas kabinetā | F214: 1.06 | G214: 8 | H214: =F214*G214 -> 8.48 | I214: 8 | J214: =H214 -> 8.48
A215: NVD Vidzemes nodaļa | B215: 700200041 | C215: Madonas slimnīca, Madonas novada pašvaldības SIA | D215: 03099 | E215: Piemaksa manipulācijai 01019 par ārstniecības personu darbu Covid-19 vakcinācijas kabinetā | F215: 1.06 | G215: 19 | H215: =F215*G215 -> 20.14 | I215: 19 | J215: =H215 -> 20.14
A216: NVD Zemgales nodaļa | B216: 110000048 | C216: Jēkabpils reģionālā slimnīca, Sabiedrība ar ierobežotu atbildību | D216: 03099 | E216: Piemaksa manipulācijai 01019 par ārstniecības personu darbu Covid-19 vakcinācijas kabinetā | F216: 1.06 | G216: 71 | H216: =F216*G216 -> 75.26 | I216: 71 | J216: =H216 -> 75.26
A217: NVD Kurzemes nodaļa | B217: 170065204 | C217: L. ATIĶES DOKTORĀTS, SIA | D217: 03118 | E217: Vakcinācija pret Covid-19 bērniem līdz 11 gadu vecumam (ieskaitot) | F217: 13.15 | G217: 2 | H217: =F217*G217 -> 26.3 | I217: 2 | J217: =H217 -> 26.3
A218: NVD Kurzemes nodaļa | B218: 620200038 | C218: Kuldīgas slimnīca, Sabiedrība ar ierobežotu atbildību | D218: 03118 | E218: Vakcinācija pret Covid-19 bērniem līdz 11 gadu vecumam (ieskaitot) | F218: 13.15 | G218: 2 | H218: =F218*G218 -> 26.3 | I218: 2 | J218: =H218 -> 26.3
A219: NVD Kurzemes nodaļa | B219: 840200047 | C219: Saldus medicīnas centrs, Sabiedrība ar ierobežotu atbildību | D219: 03118 | E219: Vakcinācija pret Covid-19 bērniem līdz 11 gadu vecumam (ieskaitot) | F219: 13.15 | G219: 1 | H219: =F219*G219 -> 13.15 | I219: 1 | J219: =H219 -> 13.15
A220: NVD Kurzemes nodaļa | B220: 880200016 | C220: TALSU VESELĪBAS CENTRS, SIA | D220: 03118 | E220: Vakcinācija pret Covid-19 bērniem līdz 11 gadu vecumam (ieskaitot) | F220: 13.15 | G220: 1 | H220: =F220*G220 -> 13.15 | I220: 1 | J220: =H220 -> 13.15
A221: NVD Rīgas nodaļa | B221: 010011804 | C221: Bērnu klīniskā universitātes slimnīca, Valsts sabiedrība ar ierobežotu atbildību | D221: 03118 | E221: Vakcinācija pret Covid-19 bērniem līdz 11 gadu vecumam (ieskaitot) | F221: 13.15 | G221: 50 | H221: =F221*G221 -> 657.5 | I221: 50 | J221: =H221 -> 657.5
A222: NVD Rīgas nodaļa | B222: 010020301 | C222: Rīgas 1. slimnīca, SIA | D222: 03118 | E222: Vakcinācija pret Covid-19 bērniem līdz 11 gadu vecumam (ieskaitot) | F222: 13.15 | G222: 4 | H222: =F222*G222 -> 52.6 | I222: 4 | J222: =H222 -> 52.6
A223: NVD Rīgas nodaļa | B223: 010021301 | C223: Rīgas Dzemdību nams, SIA | D223: 03118 | E223: Vakcinācija pret Covid-19 bērniem līdz 11 gadu vecumam (ieskaitot) | F223: 13.15 | G223: 16 | H223: =F223*G223 -> 210.4 | I223: 16 | J223: =H223 -> 210.4
A224: NVD Rīgas nodaļa | B224: 010064120 | C224: Veselības centru apvienība, AS | D224: 03118 | E224: Vakcinācija pret Covid-19 bērniem līdz 11 gadu vecumam (ieskaitot) | F224: 13.15 | G224: 43 | H224: =F224*G224 -> 565.45 | I224: 43 | J224: =H224 -> 565.45
A225: NVD Vidzemes nodaļa | B225: 250000092 | C225: Vidzemes slimnīca, Sabiedrība ar ierobežotu atbildību | D225: 03118 | E225: Vakcinācija pret Covid-19 bērniem līdz 11 gadu vecumam (ieskaitot) | F225: 13.15 | G225: 1 | H225: =F225*G225 -> 13.15 | I225: 1 | J225: =H225 -> 13.15
... A262: NVD Rīgas nodaļa | B262: 801200001 | C262: Salaspils veselības centrs, Sabiedrība ar ierobežotu atbildību | D262: 60049 | E262: Individuālie aizsardzības līdzekļi Covid-19 vai gripas vakcinēšanai | F262: 1.39 | G262: 66 | H262: =F262*G262 -> 91.74 | I262: 66 | J262: =H262 -> 91.74
A263: NVD Rīgas nodaļa | B263: 801400002 | C263: Saulkrastu veselības un sociālās aprūpes centrs, Pašvaldības aģentūra | D263: 60049 | E263: Individuālie aizsardzības līdzekļi Covid-19 vai gripas vakcinēšanai | F263: 1.39 | G263: 68 | H263: =F263*G263 -> 94.52 | I263: 68 | K263: =H263 -> 94.52
A264: NVD Vidzemes nodaļa | B264: 250000087 | C264: VALMIERAS VESELĪBAS CENTRS, SIA | D264: 60049 | E264: Individuālie aizsardzības līdzekļi Covid-19 vai gripas vakcinēšanai | F264: 1.39 | G264: 44 | H264: =F264*G264 -> 61.16 | I264: 44 | J264: =H264 -> 61.16
A265: NVD Vidzemes nodaļa | B265: 250000092 | C265: Vidzemes slimnīca, Sabiedrība ar ierobežotu atbildību | D265: 60049 | E265: Individuālie aizsardzības līdzekļi Covid-19 vai gripas vakcinēšanai | F265: 1.39 | G265: 9 | H265: =F265*G265 -> 12.51 | I265: 9 | J265: =H265 -> 12.51
A266: NVD Vidzemes nodaļa | B266: 500200052 | C266: Balvu un Gulbenes slimnīcu apvienība, Sabiedrība ar ierobežotu atbildību | D266: 60049 | E266: Individuālie aizsardzības līdzekļi Covid-19 vai gripas vakcinēšanai | F266: 1.39 | G266: 5 | H266: =F266*G266 -> 6.95 | I266: 5 | J266: =H266 -> 6.95
A267: NVD Vidzemes nodaļa | B267: 700200041 | C267: Madonas slimnīca, Madonas novada pašvaldības SIA | D267: 60049 | E267: Individuālie aizsardzības līdzekļi Covid-19 vai gripas vakcinēšanai | F267: 1.39 | G267: 19 | H267: =F267*G267 -> 26.41 | I267: 19 | J267: =H267 -> 26.41
A268: NVD Zemgales nodaļa | B268: 090000026 | C268: Zemgales veselības centrs, Sabiedrība ar ierobežotu atbildību | D268: 60049 | E268: Individuālie aizsardzības līdzekļi Covid-19 vai gripas vakcinēšanai | F268: 1.39 | G268: 61 | H268: =F268*G268 -> 84.79 | I268: 61 | J268: =H268 -> 84.79
A269: NVD Zemgales nodaļa | B269: 090024001 | C269: Medicīnas sabiedrība "Optima 1", Sabiedrība ar ierobežotu atbildību | D269: 60049 | E269: Individuālie aizsardzības līdzekļi Covid-19 vai gripas vakcinēšanai | F269: 1.39 | G269: 47 | H269: =F269*G269 -> 65.33 | I269: 47 | J269: =H269 -> 65.33
A270: NVD Zemgales nodaļa | B270: 110000048 | C270: Jēkabpils reģionālā slimnīca, Sabiedrība ar ierobežotu atbildību | D270: 60049 | E270: Individuālie aizsardzības līdzekļi Covid-19 vai gripas vakcinēšanai | F270: 1.39 | G270: 73 | H270: =F270*G270 -> 101.47 | I270: 73 | J270: =H270 -> 101.47
A271: NVD Zemgales nodaļa | B271: 320200001 | C271: Aizkraukles slimnīca, Sabiedrība ar ierobežotu atbildību | D271: 60049 | E271: Individuālie aizsardzības līdzekļi Covid-19 vai gripas vakcinēšanai | F271: 1.39 | G271: 23 | H271: =F271*G271 -> 31.97 | I271: 23 | J271: =H271 -> 31.97
A272: NVD Zemgales nodaļa | B272: 400200024 | C272: Bauskas slimnīca, SIA | D272: 60049 | E272: Individuālie aizsardzības līdzekļi Covid-19 vai gripas vakcinēšanai | F272: 1.39 | G272: 14 | H272: =F272*G272 -> 19.46 | I272: 14 | J272: =H272 -> 19.46
A273: NVD Zemgales nodaļa | B273: 460200036 | C273: Dobeles un apkārtnes slimnīca, SIA | D273: 60049 | E273: Individuālie aizsardzības līdzekļi Covid-19 vai gripas vakcinēšanai | F273: 1.39 | G273: 29 | H273: =F273*G273 -> 40.31 | I273: 29 | J273: =H273 -> 40.31
A274: NVD Kurzemes nodaļa | B274: 170065204 | C274: L. ATIĶES DOKTORĀTS, SIA | D274: 60059 | E274: Ārstniecības personas izbraukums COVID-19 vakcinēšanas nodrošināšanai pacienta dzīvesvietā | F274: 26.13 | G274: 2 | H274: =F274*G274 -> 52.26 | I274: 2 | J274: =H274 -> 52.26
A275: NVD Kurzemes nodaļa | B275: 270020302 | C275: Ziemeļkurzemes reģionālā slimnīca, SIA | D275: 60059 | E275: Ārstniecības personas izbraukums COVID-19 vakcinēšanas nodrošināšanai pacienta dzīvesvietā | F275: 26.13 | G275: 1 | H275: =F275*G275 -> 26.13 | I275: 1 | J275: =H275 -> 26.13
... A288: NVD Rīgas nodaļa | B288: 010011803 | C288: Paula Stradiņa klīniskā universitātes slimnīca, Valsts sabiedrība ar ierobežotu atbildību | D288: 01099 | E288: Ārstu konsīlijs (3 speciālisti) pacientam, kuram ir nepieciešams izvērtēt Covid-19 vakcināciju. Vienam pacientam vienu reizi norāda konsīlija vadītājs. Konsīlija rezultāts - vakcinācija nav kontrindicēta | F288: 58.85 | G288: 1 | H288: =F288*G288 -> 58.85 | I288: 1 | J288: =H288 -> 58.85
A289: *manipulācijas tarifam 60049 “Individuālie aizsardzības līdzekļi Covid-19 vai gripas vakcinēšanai” paredzētais finansējums attiecināms uz individuālajiem aizsardzības līdzekļiem Covid-19 vakcinēšanai

Sheet Vakc_PVA_maijs
G1: Pielikums Nr.6 Ministru kabineta rīkojuma "Par finanšu līdzekļu piešķiršanu no valsts budžeta programmas "Finansējums veselības jomas pasākumiem Covid-19 infekcijas izplatības ierobežošanai"" projekta sākotnējās ietekmes novērtējuma ziņojumam (anotācijai)
A2: Veiktais darbs 2022.gada maijā par COVID-19 vakcinācijas saistītām manipulācijām ģimenes ārstiem: (Diagnoze - U11 Nepieciešamība veikt imunizāciju pret Covid-19, U11.9 Nepieciešamība imunizēt pret Covid-19, bez precizējuma)
A3: NVD TN | B3: Ārstniecības iestādes kods | C3: Ārstniecības iestādes nosaukums | D3: Manipulācijas kods | E3: Manipulācijas nosaukums | F3: Manipilāciju tarifs, euro | G3: Manipulāciju skaits kopā | H3: Pakalpojumu summa kopā, euro | I3: EKK 3000 | J3: EKK 7460
A4: Kopā: | G4: =SUM(G5:G638) -> 7127 | H4: =I4+J4 -> 22679 | I4: =ROUNDUP(SUM(I5:I638),0) -> 22569 | J4: =ROUNDUP(SUM(J5:J638),0) -> 110
A5: NVD Kurzemes nodaļa | B5: 170000116 | C5: Rutkovska Diana - ģimenes ārsta prakse | D5: 01018 | E5: Ārsta konsultācija pirms vakcinācijas. Nenorāda kopā ar manipulāciju 01061, 60443 un 60444 | F5: 3.54 | G5: 3 | H5: =F5*G5 -> 10.62 | I5: =H5 -> 10.62
A6: NVD Kurzemes nodaļa | B6: 170000190 | C6: Liepājas ģimenes veselības centrs, SIA | D6: 01018 | E6: Ārsta konsultācija pirms vakcinācijas. Nenorāda kopā ar manipulāciju 01061, 60443 un 60444 | F6: 3.54 | G6: 1 | H6: =F6*G6 -> 3.54 | I6: =H6 -> 3.54
A7: NVD Kurzemes nodaļa | B7: 270000032 | C7: Grospiņš Andis - ģimenes ārsta un arodveselības un arodslimību ārsta prakse | D7: 01018 | E7: Ārsta konsultācija pirms vakcinācijas. Nenorāda kopā ar manipulāciju 01061, 60443 un 60444 | F7: 3.54 | G7: 10 | H7: =F7*G7 -> 35.4 | I7: =H7 -> 35.4
A8: NVD Kurzemes nodaļa | B8: 270064101 | C8: Kronoss, Sabiedrība ar ierobežotu atbildību | D8: 01018 | E8: Ārsta konsultācija pirms vakcinācijas. Nenorāda kopā ar manipulāciju 01061, 60443 un 60444 | F8: 3.54 | G8: 1 | H8: =F8*G8 -> 3.54 | I8: =H8 -> 3.54
A9: NVD Kurzemes nodaļa | B9: 270075401 | C9: Zviedrīte Lelde - ģimenes ārsta prakse | D9: 01018 | E9: Ārsta konsultācija pirms vakcinācijas. Nenorāda kopā ar manipulāciju 01061, 60443 un 60444 | F9: 3.54 | G9: 4 | H9: =F9*G9 -> 14.16 | I9: =H9 -> 14.16
A10: NVD Kurzemes nodaļa | B10: 624275402 | C10: Būmeistere Lija - ģimenes ārsta prakse | D10: 01018 | E10: Ārsta konsultācija pirms vakcinācijas. Nenorāda kopā ar manipulāciju 01061, 60443 un 60444 | F10: 3.54 | G10: 2 | H10: =F10*G10 -> 7.08 | I10: =H10 -> 7.08
A11: NVD Kurzemes nodaļa | B11: 640600006 | C11: DAKTERIS IMANTS, SIA | D11: 01018 | E11: Ārsta konsultācija pirms vakcinācijas. Nenorāda kopā ar manipulāciju 01061, 60443 un 60444 | F11: 3.54 | G11: 4 | H11: =F11*G11 -> 14.16 | I11: =H11 -> 14.16
A12: NVD Kurzemes nodaļa | B12: 641000002 | C12: Vidaja Ilga - ģimenes ārsta prakse | D12: 01018 | E12: Ārsta konsultācija pirms vakcinācijas. Nenorāda kopā ar manipulāciju 01061, 60443 un 60444 | F12: 3.54 | G12: 8 | H12: =F12*G12 -> 28.32 | I12: =H12 -> 28.32
A13: NVD Kurzemes nodaļa | B13: 641400002 | C13: Kalniņa Agrita - ģimenes ārsta prakse | D13: 01018 | E13: Ārsta konsultācija pirms vakcinācijas. Nenorāda kopā ar manipulāciju 01061, 60443 un 60444 | F13: 3.54 | G13: 6 | H13: =F13*G13 -> 21.24 | I13: =H13 -> 21.24
A14: NVD Kurzemes nodaļa | B14: 641600005 | C14: Leimane Daiga - ģimenes ārsta un kardiologa prakse | D14: 01018 | E14: Ārsta konsultācija pirms vakcinācijas. Nenorāda kopā ar manipulāciju 01061, 60443 un 60444 | F14: 3.54 | G14: 1 | H14: =F14*G14 -> 3.54 | I14: =H14 -> 3.54
A15: NVD Kurzemes nodaļa | B15: 880200063 | C15: Lunde Dzintra -ģimenes ārsta prakse | D15: 01018 | E15: Ārsta konsultācija pirms vakcinācijas. Nenorāda kopā ar manipulāciju 01061, 60443 un 60444 | F15: 3.54 | G15: 1 | H15: =F15*G15 -> 3.54 | I15: =H15 -> 3.54
A16: NVD Kurzemes nodaļa | B16: 880200069 | C16: Sporāne Evija - ģimenes ārsta prakse | D16: 01018 | E16: Ārsta konsultācija pirms vakcinācijas. Nenorāda kopā ar manipulāciju 01061, 60443 un 60444 | F16: 3.54 | G16: 2 | H16: =F16*G16 -> 7.08 | I16: =H16 -> 7.08
... A63: NVD Rīgas nodaļa | B63: 807600007 | C63: Bērziņa Valda - ģimenes ārsta prakse | D63: 01018 | E63: Ārsta konsultācija pirms vakcinācijas. Nenorāda kopā ar manipulāciju 01061, 60443 un 60444 | F63: 3.54 | G63: 3 | H63: =F63*G63 -> 10.62 | I63: =H63 -> 10.62
A64: NVD Rīgas nodaļa | B64: 809635210 | C64: Ropažu novada pašvaldības aģentūra "Stopiņu ambulance" | D64: 01018 | E64: Ārsta konsultācija pirms vakcinācijas. Nenorāda kopā ar manipulāciju 01061, 60443 un 60444 | F64: 3.54 | G64: 5 | H64: =F64*G64 -> 17.7 | J64: =H64 -> 17.7
A65: NVD Vidzemes nodaļa | B65: 250000104 | C65: Kravale Jolanta - ģimenes ārsta prakse | D65: 01018 | E65: Ārsta konsultācija pirms vakcinācijas. Nenorāda kopā ar manipulāciju 01061, 60443 un 60444 | F65: 3.54 | G65: 3 | H65: =F65*G65 -> 10.62 | I65: =H65 -> 10.62
A66: NVD Vidzemes nodaļa | B66: 250000108 | C66: Bērziņa Inga - ģimenes ārsta prakse | D66: 01018 | E66: Ārsta konsultācija pirms vakcinācijas. Nenorāda kopā ar manipulāciju 01061, 60443 un 60444 | F66: 3.54 | G66: 3 | H66: =F66*G66 -> 10.62 | I66: =H66 -> 10.62
A67: NVD Vidzemes nodaļa | B67: 360800001 | C67: Apes ārsta prakse, Sabiedrība ar ierobežotu atbildību | D67: 01018 | E67: Ārsta konsultācija pirms vakcinācijas. Nenorāda kopā ar manipulāciju 01061, 60443 un 60444 | F67: 3.54 | G67: 3 | H67: =F67*G67 -> 10.62 | I67: =H67 -> 10.62
A68: NVD Vidzemes nodaļa | B68: 380200008 | C68: Baranovska Ārija - ģimenes ārsta prakse | D68: 01018 | E68: Ārsta konsultācija pirms vakcinācijas. Nenorāda kopā ar manipulāciju 01061, 60443 un 60444 | F68: 3.54 | G68: 5 | H68: =F68*G68 -> 17.7 | I68: =H68 -> 17.7
A69: NVD Vidzemes nodaļa | B69: 420200010 | C69: Maijas Liepiņas ģimenes ārsta prakse, SIA | D69: 01018 | E69: Ārsta konsultācija pirms vakcinācijas. Nenorāda kopā ar manipulāciju 01061, 60443 un 60444 | F69: 3.54 | G69: 11 | H69: =F69*G69 -> 38.94 | I69: =H69 -> 38.94
A70: NVD Vidzemes nodaļa | B70: 420200084 | C70: Ķēdis Toms - ģimenes ārsta prakse | D70: 01018 | E70: Ārsta konsultācija pirms vakcinācijas. Nenorāda kopā ar manipulāciju 01061, 60443 un 60444 | F70: 3.54 | G70: 2 | H70: =F70*G70 -> 7.08 | I70: =H70 -> 7.08
A71: NVD Vidzemes nodaļa | B71: 421200002 | C71: Dinas Puhartes doktorāts, SIA | D71: 01018 | E71: Ārsta konsultācija pirms vakcinācijas. Nenorāda kopā ar manipulāciju 01061, 60443 un 60444 | F71: 3.54 | G71: 12 | H71: =F71*G71 -> 42.48 | I71: =H71 -> 42.48
A72: NVD Vidzemes nodaļa | B72: 424700007 | C72: Vasiļevskis Uldis - ģimenes ārsta prakse | D72: 01018 | E72: Ārsta konsultācija pirms vakcinācijas. Nenorāda kopā ar manipulāciju 01061, 60443 un 60444 | F72: 3.54 | G72: 3 | H72: =F72*G72 -> 10.62 | I72: =H72 -> 10.62
A73: NVD Vidzemes nodaļa | B73: 427300007 | C73: Meinerte Gundega - ģimenes ārsta prakse | D73: 01018 | E73: Ārsta konsultācija pirms vakcinācijas. Nenorāda kopā ar manipulāciju 01061, 60443 un 60444 | F73: 3.54 | G73: 22 | H73: =F73*G73 -> 77.88 | I73: =H73 -> 77.88
A74: NVD Vidzemes nodaļa | B74: 500200022 | C74: STĀMERIENAS DOKTORĀTS, Gulbenes rajona Stāmerienas pagasta J.Seļicka ārstu prakses individuālais uzņēmums | D74: 01018 | E74: Ārsta konsultācija pirms vakcinācijas. Nenorāda kopā ar manipulāciju 01061, 60443 un 60444 | F74: 3.54 | G74: 6 | H74: =F74*G74 -> 21.24 | I74: =H74 -> 21.24
A75: NVD Vidzemes nodaļa | B75: 500200028 | C75: Luika Marita - ģimenes ārsta prakse | D75: 01018 | E75: Ārsta konsultācija pirms vakcinācijas. Nenorāda kopā ar manipulāciju 01061, 60443 un 60444 | F75: 3.54 | G75: 1 | H75: =F75*G75 -> 3.54 | I75: =H75 -> 3.54
A76: NVD Vidzemes nodaļa | B76: 500200029 | C76: Luguzis Egīls - ģimenes ārsta prakse | D76: 01018 | E76: Ārsta konsultācija pirms vakcinācijas. Nenorāda kopā ar manipulāciju 01061, 60443 un 60444 | F76: 3.54 | G76: 6 | H76: =F76*G76 -> 21.24 | I76: =H76 -> 21.24
... A108: NVD Zemgales nodaļa | B108: 741400023 | C108: Tīcmane Gunta - ģimenes ārsta prakse | D108: 01018 | E108: Ārsta konsultācija pirms vakcinācijas. Nenorāda kopā ar manipulāciju 01061, 60443 un 60444 | F108: 3.54 | G108: 1 | H108: =F108*G108 -> 3.54 | I108: =H108 -> 3.54
A109: NVD Kurzemes nodaļa | B109: 027000002 | C109: Dienvidkurzemes novada Veselības aprūpes centrs | D109: 01019 | E109: Ārsta palīga vai vecmātes konsultācija pirms vakcinācijas | F109: 1.97 | G109: 2 | H109: =F109*G109 -> 3.94 | J109: =H109 -> 3.94
A110: NVD Kurzemes nodaļa | B110: 885100006 | C110: Liepa Ingrīda - ģimenes ārsta prakse | D110: 01019 | E110: Ārsta palīga vai vecmātes konsultācija pirms vakcinācijas | F110: 1.97 | G110: 1 | H110: =F110*G110 -> 1.97 | I110: =H110 -> 1.97
A111: NVD Latgales nodaļa | B111: 440800008 | C111: Bogdanovičs Artūrs - ģimenes ārsta un internista prakse | D111: 01019 | E111: Ārsta palīga vai vecmātes konsultācija pirms vakcinācijas | F111: 1.97 | G111: 1 | H111: =F111*G111 -> 1.97 | I111: =H111 -> 1.97
A112: NVD Rīgas nodaļa | B112: 010065801 | C112: PALĪDZĪBAS DIENESTS, Sabiedrība ar ierobežotu atbildību | D112: 01019 | E112: Ārsta palīga vai vecmātes konsultācija pirms vakcinācijas | F112: 1.97 | G112: 1 | H112: =F112*G112 -> 1.97 | I112: =H112 -> 1.97
A113: NVD Rīgas nodaļa | B113: 130024102 | C113: Kauguru veselības centrs, Pašvaldības sabiedrība ar ierobežotu atbildību | D113: 01019 | E113: Ārsta palīga vai vecmātes konsultācija pirms vakcinācijas | F113: 1.97 | G113: 172 | H113: =F113*G113 -> 338.84 | I113: =H113 -> 338.84
A114: NVD Rīgas nodaļa | B114: 804900005 | C114: Ārstu privātprakse "SVĪRE PLUS", Sabiedrība ar ierobežotu atbildību | D114: 01019 | E114: Ārsta palīga vai vecmātes konsultācija pirms vakcinācijas | F114: 1.97 | G114: 1 | H114: =F114*G114 -> 1.97 | I114: =H114 -> 1.97
A115: NVD Vidzemes nodaļa | B115: 010001522 | C115: Salvum TD aprūpe un izglītība, SIA | D115: 01019 | E115: Ārsta palīga vai vecmātes konsultācija pirms vakcinācijas | F115: 1.97 | G115: 94 | H115: =F115*G115 -> 185.18 | I115: =H115 -> 185.18
A116: NVD Vidzemes nodaļa | B116: 360200049 | C116: ALSVIĶU PAGASTA ALSVIĶU FELDŠERU-VECMĀŠU PUNKTS, ALŪKSNES NOVADA PAŠVALDĪBA | D116: 01019 | E116: Ārsta palīga vai vecmātes konsultācija pirms vakcinācijas | F116: 1.97 | G116: 1 | H116: =F116*G116 -> 1.97 | J116: =H116 -> 1.97
A117: NVD Vidzemes nodaļa | B117: 360200056 | C117: MĀRKALNES FELDŠERU PUNKTS, ALŪKSNES NOVADA PAŠVALDĪBA | D117: 01019 | E117: Ārsta palīga vai vecmātes konsultācija pirms vakcinācijas | F117: 1.97 | G117: 3 | H117: =F117*G117 -> 5.91 | J117: =H117 -> 5.91
A118: NVD Vidzemes nodaļa | B118: 420200011 | C118: Rogoza Natālija - ģimenes ārsta prakse | D118: 01019 | E118: Ārsta palīga vai vecmātes konsultācija pirms vakcinācijas | F118: 1.97 | G118: 1 | H118: =F118*G118 -> 1.97 | I118: =H118 -> 1.97
A119: NVD Vidzemes nodaļa | B119: 421200002 | C119: Dinas Puhartes doktorāts, SIA | D119: 01019 | E119: Ārsta palīga vai vecmātes konsultācija pirms vakcinācijas | F119: 1.97 | G119: 1 | H119: =F119*G119 -> 1.97 | I119: =H119 -> 1.97
A120: NVD Zemgales nodaļa | B120: 468900007 | C120: Veselības centrs "Džūkste", SIA | D120: 01019 | E120: Ārsta palīga vai vecmātes konsultācija pirms vakcinācijas | F120: 1.97 | G120: 1 | H120: =F120*G120 -> 1.97 | I120: =H120 -> 1.97
A121: NVD Rīgas nodaļa | B121: 010064120 | C121: Veselības centru apvienība, AS | D121: 03048 | E121: Piemaksa manipulācijai 01018 vai 03095 par ārsta darbu Covid-19 vakcinācijas kabinetā brīvdienās un svētku dienās | F121: 3.27 | G121: 1 | H121: =F121*G121 -> 3.27 | I121: =H121 -> 3.27
A122: NVD Zemgales nodaļa | B122: 740200018 | C122: Ausmas Balodes ģimenes ārsta doktorāts, Sabiedrība ar ierobežotu atbildību | D122: 03048 | E122: Piemaksa manipulācijai 01018 vai 03095 par ārsta darbu Covid-19 vakcinācijas kabinetā brīvdienās un svētku dienās | F122: 3.27 | G122: 3 | H122: =F122*G122 -> 9.81 | I122: =H122 -> 9.81
A123: NVD Rīgas nodaļa | B123: 010064120 | C123: Veselības centru apvienība, AS | D123: 03049 | E123: Piemaksa manipulācijām 03081 un 01019 vai 03096 par māsas, ārsta palīga darbu Covid-19 vakcinācijas kabinetā brīvdienās un svētku dienās | F123: 1.96 | G123: 1 | H123: =F123*G123 -> 1.96 | I123: =H123 -> 1.96
A124: NVD Vidzemes nodaļa | B124: 010001522 | C124: Salvum TD aprūpe un izglītība, SIA | D124: 03049 | E124: Piemaksa manipulācijām 03081 un 01019 vai 03096 par māsas, ārsta palīga darbu Covid-19 vakcinācijas kabinetā brīvdienās un svētku dienās | F124: 1.96 | G124: 20 | H124: =F124*G124 -> 39.2 | I124: =H124 -> 39.2
A125: NVD Zemgales nodaļa | B125: 740200018 | C125: Ausmas Balodes ģimenes ārsta doktorāts, Sabiedrība ar ierobežotu atbildību | D125: 03049 | E125: Piemaksa manipulācijām 03081 un 01019 vai 03096 par māsas, ārsta palīga darbu Covid-19 vakcinācijas kabinetā brīvdienās un svētku dienās | F125: 1.96 | G125: 3 | H125: =F125*G125 -> 5.88 | I125: =H125 -> 5.88
A126: NVD Kurzemes nodaļa | B126: 027000002 | C126: Dienvidkurzemes novada Veselības aprūpes centrs | D126: 03081 | E126: Vakcīnas ievadīšana ādā, zemādā un muskulī | F126: 1.1 | G126: 2 | H126: =F126*G126 -> 2.2 | J126: =H126 -> 2.2
A127: NVD Kurzemes nodaļa | B127: 170000116 | C127: Rutkovska Diana - ģimenes ārsta prakse | D127: 03081 | E127: Vakcīnas ievadīšana ādā, zemādā un muskulī | F127: 1.1 | G127: 3 | H127: =F127*G127 -> 3.3 | I127: =H127 -> 3.3
A128: NVD Kurzemes nodaļa | B128: 170000190 | C128: Liepājas ģimenes veselības centrs, SIA | D128: 03081 | E128: Vakcīnas ievadīšana ādā, zemādā un muskulī | F128: 1.1 | G128: 2 | H128: =F128*G128 -> 2.2 | I128: =H128 -> 2.2
A129: NVD Kurzemes nodaļa | B129: 270000032 | C129: Grospiņš Andis - ģimenes ārsta un arodveselības un arodslimību ārsta prakse | D129: 03081 | E129: Vakcīnas ievadīšana ādā, zemādā un muskulī | F129: 1.1 | G129: 10 | H129: =F129*G129 -> 11 | I129: =H129 -> 11
A130: NVD Kurzemes nodaļa | B130: 270064101 | C130: Kronoss, Sabiedrība ar ierobežotu atbildību | D130: 03081 | E130: Vakcīnas ievadīšana ādā, zemādā un muskulī | F130: 1.1 | G130: 1 | H130: =F130*G130 -> 1.1 | I130: =H130 -> 1.1
A131: NVD Kurzemes nodaļa | B131: 270075401 | C131: Zviedrīte Lelde - ģimenes ārsta prakse | D131: 03081 | E131: Vakcīnas ievadīšana ādā, zemādā un muskulī | F131: 1.1 | G131: 4 | H131: =F131*G131 -> 4.4 | I131: =H131 -> 4.4
A132: NVD Kurzemes nodaļa | B132: 624275402 | C132: Būmeistere Lija - ģimenes ārsta prakse | D132: 03081 | E132: Vakcīnas ievadīšana ādā, zemādā un muskulī | F132: 1.1 | G132: 2 | H132: =F132*G132 -> 2.2 | I132: =H132 -> 2.2
A133: NVD Kurzemes nodaļa | B133: 640600006 | C133: DAKTERIS IMANTS, SIA | D133: 03081 | E133: Vakcīnas ievadīšana ādā, zemādā un muskulī | F133: 1.1 | G133: 4 | H133: =F133*G133 -> 4.4 | I133: =H133 -> 4.4
A134: NVD Kurzemes nodaļa | B134: 641000002 | C134: Vidaja Ilga - ģimenes ārsta prakse | D134: 03081 | E134: Vakcīnas ievadīšana ādā, zemādā un muskulī | F134: 1.1 | G134: 8 | H134: =F134*G134 -> 8.8 | I134: =H134 -> 8.8
A135: NVD Kurzemes nodaļa | B135: 641400002 | C135: Kalniņa Agrita - ģimenes ārsta prakse | D135: 03081 | E135: Vakcīnas ievadīšana ādā, zemādā un muskulī | F135: 1.1 | G135: 6 | H135: =F135*G135 -> 6.6 | I135: =H135 -> 6.6
A136: NVD Kurzemes nodaļa | B136: 641600005 | C136: Leimane Daiga - ģimenes ārsta un kardiologa prakse | D136: 03081 | E136: Vakcīnas ievadīšana ādā, zemādā un muskulī | F136: 1.1 | G136: 1 | H136: =F136*G136 -> 1.1 | I136: =H136 -> 1.1
A137: NVD Kurzemes nodaļa | B137: 880200063 | C137: Lunde Dzintra -ģimenes ārsta prakse | D137: 03081 | E137: Vakcīnas ievadīšana ādā, zemādā un muskulī | F137: 1.1 | G137: 1 | H137: =F137*G137 -> 1.1 | I137: =H137 -> 1.1
A138: NVD Kurzemes nodaļa | B138: 880200069 | C138: Sporāne Evija - ģimenes ārsta prakse | D138: 03081 | E138: Vakcīnas ievadīšana ādā, zemādā un muskulī | F138: 1.1 | G138: 2 | H138: =F138*G138 -> 2.2 | I138: =H138 -> 2.2
... A189: NVD Rīgas nodaļa | B189: 807600007 | C189: Bērziņa Valda - ģimenes ārsta prakse | D189: 03081 | E189: Vakcīnas ievadīšana ādā, zemādā un muskulī | F189: 1.1 | G189: 3 | H189: =F189*G189 -> 3.3 | I189: =H189 -> 3.3
A190: NVD Rīgas nodaļa | B190: 809635210 | C190: Ropažu novada pašvaldības aģentūra "Stopiņu ambulance" | D190: 03081 | E190: Vakcīnas ievadīšana ādā, zemādā un muskulī | F190: 1.1 | G190: 5 | H190: =F190*G190 -> 5.5 | J190: =H190 -> 5.5
A191: NVD Vidzemes nodaļa | B191: 010001522 | C191: Salvum TD aprūpe un izglītība, SIA | D191: 03081 | E191: Vakcīnas ievadīšana ādā, zemādā un muskulī | F191: 1.1 | G191: 94 | H191: =F191*G191 -> 103.4 | I191: =H191 -> 103.4
A192: NVD Vidzemes nodaļa | B192: 250000104 | C192: Kravale Jolanta - ģimenes ārsta prakse | D192: 03081 | E192: Vakcīnas ievadīšana ādā, zemādā un muskulī | F192: 1.1 | G192: 3 | H192: =F192*G192 -> 3.3 | I192: =H192 -> 3.3
A193: NVD Vidzemes nodaļa | B193: 250000108 | C193: Bērziņa Inga - ģimenes ārsta prakse | D193: 03081 | E193: Vakcīnas ievadīšana ādā, zemādā un muskulī | F193: 1.1 | G193: 3 | H193: =F193*G193 -> 3.3 | I193: =H193 -> 3.3
A194: NVD Vidzemes nodaļa | B194: 360200049 | C194: ALSVIĶU PAGASTA ALSVIĶU FELDŠERU-VECMĀŠU PUNKTS, ALŪKSNES NOVADA PAŠVALDĪBA | D194: 03081 | E194: Vakcīnas ievadīšana ādā, zemādā un muskulī | F194: 1.1 | G194: 1 | H194: =F194*G194 -> 1.1 | J194: =H194 -> 1.1
A195: NVD Vidzemes nodaļa | B195: 360200056 | C195: MĀRKALNES FELDŠERU PUNKTS, ALŪKSNES NOVADA PAŠVALDĪBA | D195: 03081 | E195: Vakcīnas ievadīšana ādā, zemādā un muskulī | F195: 1.1 | G195: 3 | H195: =F195*G195 -> 3.3 | J195: =H195 -> 3.3
A196: NVD Vidzemes nodaļa | B196: 360800001 | C196: Apes ārsta prakse, Sabiedrība ar ierobežotu atbildību | D196: 03081 | E196: Vakcīnas ievadīšana ādā, zemādā un muskulī | F196: 1.1 | G196: 3 | H196: =F196*G196 -> 3.3 | I196: =H196 -> 3.3
A197: NVD Vidzemes nodaļa | B197: 380200008 | C197: Baranovska Ārija - ģimenes ārsta prakse | D197: 03081 | E197: Vakcīnas ievadīšana ādā, zemādā un muskulī | F197: 1.1 | G197: 5 | H197: =F197*G197 -> 5.5 | I197: =H197 -> 5.5
A198: NVD Vidzemes nodaļa | B198: 420200010 | C198: Maijas Liepiņas ģimenes ārsta prakse, SIA | D198: 03081 | E198: Vakcīnas ievadīšana ādā, zemādā un muskulī | F198: 1.1 | G198: 11 | H198: =F198*G198 -> 12.1 | I198: =H198 -> 12.1
A199: NVD Vidzemes nodaļa | B199: 420200011 | C199: Rogoza Natālija - ģimenes ārsta prakse | D199: 03081 | E199: Vakcīnas ievadīšana ādā, zemādā un muskulī | F199: 1.1 | G199: 1 | H199: =F199*G199 -> 1.1 | I199: =H199 -> 1.1
A200: NVD Vidzemes nodaļa | B200: 420200084 | C200: Ķēdis Toms - ģimenes ārsta prakse | D200: 03081 | E200: Vakcīnas ievadīšana ādā, zemādā un muskulī | F200: 1.1 | G200: 2 | H200: =F200*G200 -> 2.2 | I200: =H200 -> 2.2
A201: NVD Vidzemes nodaļa | B201: 421200002 | C201: Dinas Puhartes doktorāts, SIA | D201: 03081 | E201: Vakcīnas ievadīšana ādā, zemādā un muskulī | F201: 1.1 | G201: 13 | H201: =F201*G201 -> 14.3 | I201: =H201 -> 14.3
A202: NVD Vidzemes nodaļa | B202: 424700007 | C202: Vasiļevskis Uldis - ģimenes ārsta prakse | D202: 03081 | E202: Vakcīnas ievadīšana ādā, zemādā un muskulī | F202: 1.1 | G202: 3 | H202: =F202*G202 -> 3.3 | I202: =H202 -> 3.3
A203: NVD Vidzemes nodaļa | B203: 427300007 | C203: Meinerte Gundega - ģimenes ārsta prakse | D203: 03081 | E203: Vakcīnas ievadīšana ādā, zemādā un muskulī | F203: 1.1 | G203: 22 | H203: =F203*G203 -> 24.2 | I203: =H203 -> 24.2
A204: NVD Vidzemes nodaļa | B204: 500200022 | C204: STĀMERIENAS DOKTORĀTS, Gulbenes rajona Stāmerienas pagasta J.Seļicka ārstu prakses individuālais uzņēmums | D204: 03081 | E204: Vakcīnas ievadīšana ādā, zemādā un muskulī | F204: 1.1 | G204: 6 | H204: =F204*G204 -> 6.6 | I204: =H204 -> 6.6
A205: NVD Vidzemes nodaļa | B205: 500200028 | C205: Luika Marita - ģimenes ārsta prakse | D205: 03081 | E205: Vakcīnas ievadīšana ādā, zemādā un muskulī | F205: 1.1 | G205: 1 | H205: =F205*G205 -> 1.1 | I205: =H205 -> 1.1
A206: NVD Vidzemes nodaļa | B206: 500200029 | C206: Luguzis Egīls - ģimenes ārsta prakse | D206: 03081 | E206: Vakcīnas ievadīšana ādā, zemādā un muskulī | F206: 1.1 | G206: 6 | H206: =F206*G206 -> 6.6 | I206: =H206 -> 6.6
A207: NVD Vidzemes nodaļa | B207: 500200046 | C207: JAUNGULBENES DOKTORĀTS, Gulbenes rajona Jaungulbenes pagasta L.Vebruāles ārstu prakses individuālais uzņēmums | D207: 03081 | E207: Vakcīnas ievadīšana ādā, zemādā un muskulī | F207: 1.1 | G207: 9 | H207: =F207*G207 -> 9.9 | I207: =H207 -> 9.9
... A238: NVD Zemgales nodaļa | B238: 741400023 | C238: Tīcmane Gunta - ģimenes ārsta prakse | D238: 03081 | E238: Vakcīnas ievadīšana ādā, zemādā un muskulī | F238: 1.1 | G238: 1 | H238: =F238*G238 -> 1.1 | I238: =H238 -> 1.1
A239: NVD Kurzemes nodaļa | B239: 027000002 | C239: Dienvidkurzemes novada Veselības aprūpes centrs | D239: 03083 | E239: Piemaksa manipulācijai 03081 par pacienta Covid-19 vakcinēšanu | F239: 2.05 | G239: 2 | H239: =F239*G239 -> 4.1 | J239: =H239 -> 4.1
A240: NVD Kurzemes nodaļa | B240: 170000116 | C240: Rutkovska Diana - ģimenes ārsta prakse | D240: 03083 | E240: Piemaksa manipulācijai 03081 par pacienta Covid-19 vakcinēšanu | F240: 2.05 | G240: 3 | H240: =F240*G240 -> 6.15 | I240: =H240 -> 6.15
A241: NVD Kurzemes nodaļa | B241: 170000190 | C241: Liepājas ģimenes veselības centrs, SIA | D241: 03083 | E241: Piemaksa manipulācijai 03081 par pacienta Covid-19 vakcinēšanu | F241: 2.05 | G241: 1 | H241: =F241*G241 -> 2.05 | I241: =H241 -> 2.05
A242: NVD Kurzemes nodaļa | B242: 270000032 | C242: Grospiņš Andis - ģimenes ārsta un arodveselības un arodslimību ārsta prakse | D242: 03083 | E242: Piemaksa manipulācijai 03081 par pacienta Covid-19 vakcinēšanu | F242: 2.05 | G242: 10 | H242: =F242*G242 -> 20.5 | I242: =H242 -> 20.5
A243: NVD Kurzemes nodaļa | B243: 270064101 | C243: Kronoss, Sabiedrība ar ierobežotu atbildību | D243: 03083 | E243: Piemaksa manipulācijai 03081 par pacienta Covid-19 vakcinēšanu | F243: 2.05 | G243: 1 | H243: =F243*G243 -> 2.05 | I243: =H243 -> 2.05
A244: NVD Kurzemes nodaļa | B244: 270075401 | C244: Zviedrīte Lelde - ģimenes ārsta prakse | D244: 03083 | E244: Piemaksa manipulācijai 03081 par pacienta Covid-19 vakcinēšanu | F244: 2.05 | G244: 4 | H244: =F244*G244 -> 8.2 | I244: =H244 -> 8.2
A245: NVD Kurzemes nodaļa | B245: 624275402 | C245: Būmeistere Lija - ģimenes ārsta prakse | D245: 03083 | E245: Piemaksa manipulācijai 03081 par pacienta Covid-19 vakcinēšanu | F245: 2.05 | G245: 2 | H245: =F245*G245 -> 4.1 | I245: =H245 -> 4.1
A246: NVD Kurzemes nodaļa | B246: 640600006 | C246: DAKTERIS IMANTS, SIA | D246: 03083 | E246: Piemaksa manipulācijai 03081 par pacienta Covid-19 vakcinēšanu | F246: 2.05 | G246: 4 | H246: =F246*G246 -> 8.2 | I246: =H246 -> 8.2
A247: NVD Kurzemes nodaļa | B247: 641000002 | C247: Vidaja Ilga - ģimenes ārsta prakse | D247: 03083 | E247: Piemaksa manipulācijai 03081 par pacienta Covid-19 vakcinēšanu | F247: 2.05 | G247: 8 | H247: =F247*G247 -> 16.4 | I247: =H247 -> 16.4
A248: NVD Kurzemes nodaļa | B248: 641400002 | C248: Kalniņa Agrita - ģimenes ārsta prakse | D248: 03083 | E248: Piemaksa manipulācijai 03081 par pacienta Covid-19 vakcinēšanu | F248: 2.05 | G248: 6 | H248: =F248*G248 -> 12.3 | I248: =H248 -> 12.3
A249: NVD Kurzemes nodaļa | B249: 641600005 | C249: Leimane Daiga - ģimenes ārsta un kardiologa prakse | D249: 03083 | E249: Piemaksa manipulācijai 03081 par pacienta Covid-19 vakcinēšanu | F249: 2.05 | G249: 1 | H249: =F249*G249 -> 2.05 | I249: =H249 -> 2.05
A250: NVD Kurzemes nodaļa | B250: 880200063 | C250: Lunde Dzintra -ģimenes ārsta prakse | D250: 03083 | E250: Piemaksa manipulācijai 03081 par pacienta Covid-19 vakcinēšanu | F250: 2.05 | G250: 1 | H250: =F250*G250 -> 2.05 | I250: =H250 -> 2.05
A251: NVD Kurzemes nodaļa | B251: 880200069 | C251: Sporāne Evija - ģimenes ārsta prakse | D251: 03083 | E251: Piemaksa manipulācijai 03081 par pacienta Covid-19 vakcinēšanu | F251: 2.05 | G251: 2 | H251: =F251*G251 -> 4.1 | I251: =H251 -> 4.1
... A300: NVD Rīgas nodaļa | B300: 807600007 | C300: Bērziņa Valda - ģimenes ārsta prakse | D300: 03083 | E300: Piemaksa manipulācijai 03081 par pacienta Covid-19 vakcinēšanu | F300: 2.05 | G300: 3 | H300: =F300*G300 -> 6.15 | I300: =H300 -> 6.15
A301: NVD Rīgas nodaļa | B301: 809635210 | C301: Ropažu novada pašvaldības aģentūra "Stopiņu ambulance" | D301: 03083 | E301: Piemaksa manipulācijai 03081 par pacienta Covid-19 vakcinēšanu | F301: 2.05 | G301: 5 | H301: =F301*G301 -> 10.25 | J301: =H301 -> 10.25
A302: NVD Vidzemes nodaļa | B302: 010001522 | C302: Salvum TD aprūpe un izglītība, SIA | D302: 03083 | E302: Piemaksa manipulācijai 03081 par pacienta Covid-19 vakcinēšanu | F302: 2.05 | G302: 94 | H302: =F302*G302 -> 192.7 | I302: =H302 -> 192.7
A303: NVD Vidzemes nodaļa | B303: 250000104 | C303: Kravale Jolanta - ģimenes ārsta prakse | D303: 03083 | E303: Piemaksa manipulācijai 03081 par pacienta Covid-19 vakcinēšanu | F303: 2.05 | G303: 3 | H303: =F303*G303 -> 6.15 | I303: =H303 -> 6.15
A304: NVD Vidzemes nodaļa | B304: 250000108 | C304: Bērziņa Inga - ģimenes ārsta prakse | D304: 03083 | E304: Piemaksa manipulācijai 03081 par pacienta Covid-19 vakcinēšanu | F304: 2.05 | G304: 3 | H304: =F304*G304 -> 6.15 | I304: =H304 -> 6.15
A305: NVD Vidzemes nodaļa | B305: 360200049 | C305: ALSVIĶU PAGASTA ALSVIĶU FELDŠERU-VECMĀŠU PUNKTS, ALŪKSNES NOVADA PAŠVALDĪBA | D305: 03083 | E305: Piemaksa manipulācijai 03081 par pacienta Covid-19 vakcinēšanu | F305: 2.05 | G305: 1 | H305: =F305*G305 -> 2.05 | J305: =H305 -> 2.05
...

Sheet Vakc_stac_maijs
F1: Pielikums Nr.7 Ministru kabineta rīkojuma "Par finanšu līdzekļu piešķiršanu no valsts budžeta programmas "Finansējums veselības jomas pasākumiem Covid-19 infekcijas izplatības ierobežošanai"" projekta sākotnējās ietekmes novērtējuma ziņojumam (anotācijai)
A2: Piemaksa par Covid-19 vakcināciju stacionāros no 2022.gada janvāra līdz 2022.gada maijam pacientiem, kuri izrakstīti no stacionāra 2022.gada maijā *
A3: Ārstniecības iestādes nosaukums | B3: Manipulācijas kods | C3: Manupulācijas nosaukums | D3: Tarifs, euro | E3: Janvāris, 2022 | F3: Aprīlis, 2022 | G3: Maijs, 2022 | H3: Summa, euro
A4: Daugavpils psihoneiroloģiskā slimnīca | B4: 03081 | C4: Vakcīnas ievadīšana ādā, zemādā un muskulī | D4: 1.1 | F4: 1 | G4: 1 | H4: =ROUND(D4*E4+D4*F4+D4*G4,2) -> 2.2
A5: Daugavpils psihoneiroloģiskā slimnīca | B5: 03083 | C5: Piemaksa manipulācijai 03081 par pacienta Covid-19 vakcinēšanu | D5: 2.05 | F5: 1 | G5: 1 | H5: =ROUND(D5*E5+D5*F5+D5*G5,2) -> 4.1
A6: Daugavpils psihoneiroloģiskā slimnīca | B6: 03098 | C6: Piemaksa manipulācijai 01018 par ārstniecības personu darbu Covid-19 vakcinācijas kabinetā | D6: 1.36 | F6: 1 | G6: 1 | H6: =ROUND(D6*E6+D6*F6+D6*G6,2) -> 2.72
A7: Paula Stradiņa klīniskā universitātes slimnīca | B7: 03081 | C7: Vakcīnas ievadīšana ādā, zemādā un muskulī | D7: 1.1 | E7: 1 | H7: =ROUND(D7*E7+D7*F7+D7*G7,2) -> 1.1
A8: Paula Stradiņa klīniskā universitātes slimnīca | B8: 03083 | C8: Piemaksa manipulācijai 03081 par pacienta Covid-19 vakcinēšanu | D8: 2.05 | E8: 1 | H8: =ROUND(D8*E8+D8*F8+D8*G8,2) -> 2.05
A9: Paula Stradiņa klīniskā universitātes slimnīca | B9: 03098 | C9: Piemaksa manipulācijai 01018 par ārstniecības personu darbu Covid-19 vakcinācijas kabinetā | D9: 1.36 | E9: 1 | H9: =ROUND(D9*E9+D9*F9+D9*G9,2) -> 1.36
A10: Kopā: | H10: =SUM(H4:H9) -> 13.53
H11: =ROUNDUP(H10,0) -> 14
A13: * Manipulāciju skaits tiek iegūts tikai, kad pacients tiek izrakstīts un karte ievadīta Vadības informācijas sistēmā (atbilstoši līgumam par stacionārās veselības aprūpes pakalpojumu sniegšanu un apmaksu starp Nacionālo Veselības Dienestu (turpmāk Dienests) un ārstniecības iestādi 3. pielikumam, Informācijas apmaiņas kārtība, Dienests apmaksā kartes, kas ievadītas ne vēlāk kā 60 dienas pēc izrakstīšanās datuma). Ārstniecības iestāde kartes var labot līdz nākošā kalendārā gada 8. janvārim. Lai iegūtu precīzu apmaksājamo manipulāciju skaitu, Dienests salīdzina iepriekšējos mēnešos veikto manipulāciju skaitu un apmaksā starpību starp veikto manipulāciju skaitu un jau samaksāto manipulāciju skaitu atbilstoši manipulāciju tarifiem. Ņemot vērā, to ka pacients tika izrakstīts maija mēnesī, līdz ar to karte par pacientu tiek ievadīta Vadības informācijas sistēmā arī maija mēnesī.

Sheet Vakc_SAVA_junijs
G1: Pielikums Nr.8 Ministru kabineta rīkojuma "Par finanšu līdzekļu piešķiršanu no valsts budžeta programmas "Finansējums veselības jomas pasākumiem Covid-19 infekcijas izplatības ierobežošanai"" projekta sākotnējās ietekmes novērtējuma ziņojumam (anotācijai)
A2: Veiktais darbs 2022.gada jūnijā par COVID-19 vakcinācijas saistītām manipulācijām SAVA programmās
A3: NVD TN | B3: Ārstniecības iestādes kods | C3: Ārstniecības iestādes nosaukums | D3: Manipulācijas kods | E3: Manipulācijas nosaukums | F3: Manipulāciju tarifs, euro | G3: Manipulāciju skaits kopā | H3: Pakalpojumu summa kopā, euro | I3: EKK 3000 | J3: EKK 7460
A4: Kopā: | G4: 15825 | H4: =I4+J4 -> 53352 | I4: =ROUNDUP(SUM(I5:I266),0) -> 53124 | J4: =ROUNDUP(SUM(J5:J266),0) -> 228
A5: NVD Kurzemes nodaļa | B5: 170024101 | C5: VECLIEPĀJAS PRIMĀRĀS VESELĪBAS APRŪPES CENTRS, Pašvaldības Sabiedrība ar ierobežotu atbildību | D5: 01018 | E5: Ārsta konsultācija pirms vakcinācijas. Nenorāda kopā ar manipulāciju 01061, 60443 un 60444 | F5: 3.54 | G5: 11 | H5: =F5*G5 -> 38.94 | I5: =H5 -> 38.94
A6: NVD Kurzemes nodaļa | B6: 170065204 | C6: L. ATIĶES DOKTORĀTS, SIA | D6: 01018 | E6: Ārsta konsultācija pirms vakcinācijas. Nenorāda kopā ar manipulāciju 01061, 60443 un 60444 | F6: 3.54 | G6: 49 | H6: =F6*G6 -> 173.46 | I6: =H6 -> 173.46
A7: NVD Kurzemes nodaļa | B7: 270020302 | C7: Ziemeļkurzemes reģionālā slimnīca, SIA | D7: 01018 | E7: Ārsta konsultācija pirms vakcinācijas. Nenorāda kopā ar manipulāciju 01061, 60443 un 60444 | F7: 3.54 | G7: 11 | H7: =F7*G7 -> 38.94 | I7: =H7 -> 38.94
A8: NVD Kurzemes nodaļa | B8: 620200038 | C8: Kuldīgas slimnīca, Sabiedrība ar ierobežotu atbildību | D8: 01018 | E8: Ārsta konsultācija pirms vakcinācijas. Nenorāda kopā ar manipulāciju 01061, 60443 un 60444 | F8: 3.54 | G8: 12 | H8: =F8*G8 -> 42.48 | I8: =H8 -> 42.48
A9: NVD Kurzemes nodaļa | B9: 880200016 | C9: TALSU VESELĪBAS CENTRS, SIA | D9: 01018 | E9: Ārsta konsultācija pirms vakcinācijas. Nenorāda kopā ar manipulāciju 01061, 60443 un 60444 | F9: 3.54 | G9: 21 | H9: =F9*G9 -> 74.34 | I9: =H9 -> 74.34
A10: NVD Latgales nodaļa | B10: 050012101 | C10: Daugavpils psihoneiroloģiskā slimnīca, Valsts sabiedrība ar ierobežotu atbildību | D10: 01018 | E10: Ārsta konsultācija pirms vakcinācijas. Nenorāda kopā ar manipulāciju 01061, 60443 un 60444 | F10: 3.54 | G10: 9 | H10: =F10*G10 -> 31.86 | I10: =H10 -> 31.86
A11: NVD Latgales nodaļa | B11: 050020401 | C11: Daugavpils reģionālā slimnīca, Sabiedrība ar ierobežotu atbildību | D11: 01018 | E11: Ārsta konsultācija pirms vakcinācijas. Nenorāda kopā ar manipulāciju 01061, 60443 un 60444 | F11: 3.54 | G11: 30 | H11: =F11*G11 -> 106.2 | I11: =H11 -> 106.2
A12: NVD Latgales nodaļa | B12: 680200030 | C12: Ludzas medicīnas centrs, Sabiedrība ar ierobežotu atbildību | D12: 01018 | E12: Ārsta konsultācija pirms vakcinācijas. Nenorāda kopā ar manipulāciju 01061, 60443 un 60444 | F12: 3.54 | G12: 11 | H12: =F12*G12 -> 38.94 | I12: =H12 -> 38.94
A13: NVD Rīgas nodaļa | B13: 001000043 | C13: Apotheka, SIA | D13: 01018 | E13: Ārsta konsultācija pirms vakcinācijas. Nenorāda kopā ar manipulāciju 01061, 60443 un 60444 | F13: 3.54 | G13: 5 | H13: =F13*G13 -> 17.7 | I13: =H13 -> 17.7
A14: NVD Rīgas nodaļa | B14: 010000171 | C14: I. Paturskas ģimenes veselības centrs, Sabiedrība ar ierobežotu atbildību | D14: 01018 | E14: Ārsta konsultācija pirms vakcinācijas. Nenorāda kopā ar manipulāciju 01061, 60443 un 60444 | F14: 3.54 | G14: 12 | H14: =F14*G14 -> 42.48 | I14: =H14 -> 42.48
A15: NVD Rīgas nodaļa | B15: 010000234 | C15: Rīgas Austrumu klīniskā universitātes slimnīca, SIA | D15: 01018 | E15: Ārsta konsultācija pirms vakcinācijas. Nenorāda kopā ar manipulāciju 01061, 60443 un 60444 | F15: 3.54 | G15: 37 | H15: =F15*G15 -> 130.98 | I15: =H15 -> 130.98
A16: NVD Rīgas nodaļa | B16: 010000898 | C16: MED PROF, Sabiedrība ar ierobežotu atbildību | D16: 01018 | E16: Ārsta konsultācija pirms vakcinācijas. Nenorāda kopā ar manipulāciju 01061, 60443 un 60444 | F16: 3.54 | G16: 2 | H16: =F16*G16 -> 7.08 | I16: =H16 -> 7.08
... A49: NVD Rīgas nodaļa | B49: 010064114 | C49: VESELĪBAS CENTRS 4, Sabiedrība ar ierobežotu atbildību | D49: 01019 | E49: Ārsta palīga vai vecmātes konsultācija pirms vakcinācijas | F49: 1.97 | G49: 189 | H49: =F49*G49 -> 372.33 | I49: =H49 -> 372.33
A50: NVD Rīgas nodaļa | B50: 801400002 | C50: Saulkrastu veselības un sociālās aprūpes centrs, Pašvaldības aģentūra | D50: 01019 | E50: Ārsta palīga vai vecmātes konsultācija pirms vakcinācijas | F50: 1.97 | G50: 30 | H50: =F50*G50 -> 59.1 | J50: =H50 -> 59.1
A51: NVD Vidzemes nodaļa | B51: 250000092 | C51: Vidzemes slimnīca, Sabiedrība ar ierobežotu atbildību | D51: 01019 | E51: Ārsta palīga vai vecmātes konsultācija pirms vakcinācijas | F51: 1.97 | G51: 16 | H51: =F51*G51 -> 31.52 | I51: =H51 -> 31.52
A52: NVD Vidzemes nodaļa | B52: 700200041 | C52: Madonas slimnīca, Madonas novada pašvaldības SIA | D52: 01019 | E52: Ārsta palīga vai vecmātes konsultācija pirms vakcinācijas | F52: 1.97 | G52: 17 | H52: =F52*G52 -> 33.49 | I52: =H52 -> 33.49
A53: NVD Zemgales nodaļa | B53: 110000048 | C53: Jēkabpils reģionālā slimnīca, Sabiedrība ar ierobežotu atbildību | D53: 01019 | E53: Ārsta palīga vai vecmātes konsultācija pirms vakcinācijas | F53: 1.97 | G53: 48 | H53: =F53*G53 -> 94.56 | I53: =H53 -> 94.56
A54: NVD Rīgas nodaļa | B54: 010054114 | C54: DZELZCEĻA VESELĪBAS CENTRS, Sabiedrība ar ierobežotu atbildību | D54: 03048 | E54: Piemaksa manipulācijai 01018 vai 03095 par ārsta darbu Covid-19 vakcinācijas kabinetā brīvdienās un svētku dienās | F54: 3.27 | G54: 53 | H54: =F54*G54 -> 173.31 | I54: =H54 -> 173.31
A55: NVD Rīgas nodaļa | B55: 010064120 | C55: Veselības centru apvienība, AS | D55: 03048 | E55: Piemaksa manipulācijai 01018 vai 03095 par ārsta darbu Covid-19 vakcinācijas kabinetā brīvdienās un svētku dienās | F55: 3.27 | G55: 52 | H55: =F55*G55 -> 170.04 | I55: =H55 -> 170.04
A56: NVD Rīgas nodaļa | B56: 010054114 | C56: DZELZCEĻA VESELĪBAS CENTRS, Sabiedrība ar ierobežotu atbildību | D56: 03049 | E56: Piemaksa manipulācijām 03081 un 01019 vai 03096 par māsas, ārsta palīga darbu Covid-19 vakcinācijas kabinetā brīvdienās un svētku dienās | F56: 1.96 | G56: 53 | H56: =F56*G56 -> 103.88 | I56: =H56 -> 103.88
A57: NVD Rīgas nodaļa | B57: 010064120 | C57: Veselības centru apvienība, AS | D57: 03049 | E57: Piemaksa manipulācijām 03081 un 01019 vai 03096 par māsas, ārsta palīga darbu Covid-19 vakcinācijas kabinetā brīvdienās un svētku dienās | F57: 1.96 | G57: 52 | H57: =F57*G57 -> 101.92 | I57: =H57 -> 101.92
A58: NVD Kurzemes nodaļa | B58: 170024101 | C58: VECLIEPĀJAS PRIMĀRĀS VESELĪBAS APRŪPES CENTRS, Pašvaldības Sabiedrība ar ierobežotu atbildību | D58: 03081 | E58: Vakcīnas ievadīšana ādā, zemādā un muskulī | F58: 1.1 | G58: 11 | H58: =F58*G58 -> 12.1 | I58: =H58 -> 12.1
A59: NVD Kurzemes nodaļa | B59: 170065204 | C59: L. ATIĶES DOKTORĀTS, SIA | D59: 03081 | E59: Vakcīnas ievadīšana ādā, zemādā un muskulī | F59: 1.1 | G59: 49 | H59: =F59*G59 -> 53.9 | I59: =H59 -> 53.9
A60: NVD Kurzemes nodaļa | B60: 270020302 | C60: Ziemeļkurzemes reģionālā slimnīca, SIA | D60: 03081 | E60: Vakcīnas ievadīšana ādā, zemādā un muskulī | F60: 1.1 | G60: 11 | H60: =F60*G60 -> 12.1 | I60: =H60 -> 12.1
A61: NVD Kurzemes nodaļa | B61: 620200038 | C61: Kuldīgas slimnīca, Sabiedrība ar ierobežotu atbildību | D61: 03081 | E61: Vakcīnas ievadīšana ādā, zemādā un muskulī | F61: 1.1 | G61: 12 | H61: =F61*G61 -> 13.2 | I61: =H61 -> 13.2
A62: NVD Kurzemes nodaļa | B62: 840200047 | C62: Saldus medicīnas centrs, Sabiedrība ar ierobežotu atbildību | D62: 03081 | E62: Vakcīnas ievadīšana ādā, zemādā un muskulī | F62: 1.1 | G62: 2 | H62: =F62*G62 -> 2.2 | I62: =H62 -> 2.2
... A93: NVD Rīgas nodaļa | B93: 801000013 | C93: OlainMed, Sabiedrība ar ierobežotu atbildību | D93: 03081 | E93: Vakcīnas ievadīšana ādā, zemādā un muskulī | F93: 1.1 | G93: 20 | H93: =F93*G93 -> 22 | I93: =H93 -> 22
A94: NVD Rīgas nodaļa | B94: 801400002 | C94: Saulkrastu veselības un sociālās aprūpes centrs, Pašvaldības aģentūra | D94: 03081 | E94: Vakcīnas ievadīšana ādā, zemādā un muskulī | F94: 1.1 | G94: 30 | H94: =F94*G94 -> 33 | J94: =H94 -> 33
A95: NVD Vidzemes nodaļa | B95: 250000087 | C95: VALMIERAS VESELĪBAS CENTRS, SIA | D95: 03081 | E95: Vakcīnas ievadīšana ādā, zemādā un muskulī | F95: 1.1 | G95: 24 | H95: =F95*G95 -> 26.4 | I95: =H95 -> 26.4
A96: NVD Vidzemes nodaļa | B96: 250000092 | C96: Vidzemes slimnīca, Sabiedrība ar ierobežotu atbildību | D96: 03081 | E96: Vakcīnas ievadīšana ādā, zemādā un muskulī | F96: 1.1 | G96: 16 | H96: =F96*G96 -> 17.6 | I96: =H96 -> 17.6
A97: NVD Vidzemes nodaļa | B97: 500200052 | C97: Balvu un Gulbenes slimnīcu apvienība, Sabiedrība ar ierobežotu atbildību | D97: 03081 | E97: Vakcīnas ievadīšana ādā, zemādā un muskulī | F97: 1.1 | G97: 16 | H97: =F97*G97 -> 17.6 | I97: =H97 -> 17.6
A98: NVD Vidzemes nodaļa | B98: 660200027 | C98: Limbažu slimnīca, Sabiedrība ar ierobežotu atbildību | D98: 03081 | E98: Vakcīnas ievadīšana ādā, zemādā un muskulī | F98: 1.1 | G98: 10 | H98: =F98*G98 -> 11 | I98: =H98 -> 11
A99: NVD Vidzemes nodaļa | B99: 700200041 | C99: Madonas slimnīca, Madonas novada pašvaldības SIA | D99: 03081 | E99: Vakcīnas ievadīšana ādā, zemādā un muskulī | F99: 1.1 | G99: 17 | H99: =F99*G99 -> 18.7 | I99: =H99 -> 18.7
A100: NVD Zemgales nodaļa | B100: 090000026 | C100: Zemgales veselības centrs, Sabiedrība ar ierobežotu atbildību | D100: 03081 | E100: Vakcīnas ievadīšana ādā, zemādā un muskulī | F100: 1.1 | G100: 33 | H100: =F100*G100 -> 36.3 | I100: =H100 -> 36.3
A101: NVD Zemgales nodaļa | B101: 090024001 | C101: Medicīnas sabiedrība "Optima 1", Sabiedrība ar ierobežotu atbildību | D101: 03081 | E101: Vakcīnas ievadīšana ādā, zemādā un muskulī | F101: 1.1 | G101: 31 | H101: =F101*G101 -> 34.1 | I101: =H101 -> 34.1
A102: NVD Zemgales nodaļa | B102: 110000048 | C102: Jēkabpils reģionālā slimnīca, Sabiedrība ar ierobežotu atbildību | D102: 03081 | E102: Vakcīnas ievadīšana ādā, zemādā un muskulī | F102: 1.1 | G102: 51 | H102: =F102*G102 -> 56.1 | I102: =H102 -> 56.1
A103: NVD Zemgales nodaļa | B103: 400200024 | C103: Bauskas slimnīca, SIA | D103: 03081 | E103: Vakcīnas ievadīšana ādā, zemādā un muskulī | F103: 1.1 | G103: 10 | H103: =F103*G103 -> 11 | I103: =H103 -> 11
A104: NVD Zemgales nodaļa | B104: 460200036 | C104: Dobeles un apkārtnes slimnīca, SIA | D104: 03081 | E104: Vakcīnas ievadīšana ādā, zemādā un muskulī | F104: 1.1 | G104: 15 | H104: =F104*G104 -> 16.5 | I104: =H104 -> 16.5
A105: NVD Kurzemes nodaļa | B105: 170024101 | C105: VECLIEPĀJAS PRIMĀRĀS VESELĪBAS APRŪPES CENTRS, Pašvaldības Sabiedrība ar ierobežotu atbildību | D105: 03083 | E105: Piemaksa manipulācijai 03081 par pacienta Covid-19 vakcinēšanu | F105: 2.05 | G105: 11 | H105: =F105*G105 -> 22.55 | I105: =H105 -> 22.55
A106: NVD Kurzemes nodaļa | B106: 170065204 | C106: L. ATIĶES DOKTORĀTS, SIA | D106: 03083 | E106: Piemaksa manipulācijai 03081 par pacienta Covid-19 vakcinēšanu | F106: 2.05 | G106: 49 | H106: =F106*G106 -> 100.45 | I106: =H106 -> 100.45
... A139: NVD Rīgas nodaļa | B139: 801000013 | C139: OlainMed, Sabiedrība ar ierobežotu atbildību | D139: 03083 | E139: Piemaksa manipulācijai 03081 par pacienta Covid-19 vakcinēšanu | F139: 2.05 | G139: 20 | H139: =F139*G139 -> 41 | I139: =H139 -> 41
A140: NVD Rīgas nodaļa | B140: 801400002 | C140: Saulkrastu veselības un sociālās aprūpes centrs, Pašvaldības aģentūra | D140: 03083 | E140: Piemaksa manipulācijai 03081 par pacienta Covid-19 vakcinēšanu | F140: 2.05 | G140: 30 | H140: =F140*G140 -> 61.5 | J140: =H140 -> 61.5
A141: NVD Vidzemes nodaļa | B141: 250000087 | C141: VALMIERAS VESELĪBAS CENTRS, SIA | D141: 03083 | E141: Piemaksa manipulācijai 03081 par pacienta Covid-19 vakcinēšanu | F141: 2.05 | G141: 24 | H141: =F141*G141 -> 49.2 | I141: =H141 -> 49.2
A142: NVD Vidzemes nodaļa | B142: 250000092 | C142: Vidzemes slimnīca, Sabiedrība ar ierobežotu atbildību | D142: 03083 | E142: Piemaksa manipulācijai 03081 par pacienta Covid-19 vakcinēšanu | F142: 2.05 | G142: 16 | H142: =F142*G142 -> 32.8 | I142: =H142 -> 32.8
A143: NVD Vidzemes nodaļa | B143: 500200052 | C143: Balvu un Gulbenes slimnīcu apvienība, Sabiedrība ar ierobežotu atbildību | D143: 03083 | E143: Piemaksa manipulācijai 03081 par pacienta Covid-19 vakcinēšanu | F143: 2.05 | G143: 16 | H143: =F143*G143 -> 32.8 | I143: =H143 -> 32.8
A144: NVD Vidzemes nodaļa | B144: 660200027 | C144: Limbažu slimnīca, Sabiedrība ar ierobežotu atbildību | D144: 03083 | E144: Piemaksa manipulācijai 03081 par pacienta Covid-19 vakcinēšanu | F144: 2.05 | G144: 10 | H144: =F144*G144 -> 20.5 | I144: =H144 -> 20.5
A145: NVD Vidzemes nodaļa | B145: 700200041 | C145: Madonas slimnīca, Madonas novada pašvaldības SIA | D145: 03083 | E145: Piemaksa manipulācijai 03081 par pacienta Covid-19 vakcinēšanu | F145: 2.05 | G145: 17 | H145: =F145*G145 -> 34.85 | I145: =H145 -> 34.85
A146: NVD Zemgales nodaļa | B146: 090000026 | C146: Zemgales veselības centrs, Sabiedrība ar ierobežotu atbildību | D146: 03083 | E146: Piemaksa manipulācijai 03081 par pacienta Covid-19 vakcinēšanu | F146: 2.05 | G146: 33 | H146: =F146*G146 -> 67.65 | I146: =H146 -> 67.65
A147: NVD Zemgales nodaļa | B147: 090024001 | C147: Medicīnas sabiedrība "Optima 1", Sabiedrība ar ierobežotu atbildību | D147: 03083 | E147: Piemaksa manipulācijai 03081 par pacienta Covid-19 vakcinēšanu | F147: 2.05 | G147: 31 | H147: =F147*G147 -> 63.55 | I147: =H147 -> 63.55
A148: NVD Zemgales nodaļa | B148: 110000048 | C148: Jēkabpils reģionālā slimnīca, Sabiedrība ar ierobežotu atbildību | D148: 03083 | E148: Piemaksa manipulācijai 03081 par pacienta Covid-19 vakcinēšanu | F148: 2.05 | G148: 49 | H148: =F148*G148 -> 100.45 | I148: =H148 -> 100.45
A149: NVD Zemgales nodaļa | B149: 400200024 | C149: Bauskas slimnīca, SIA | D149: 03083 | E149: Piemaksa manipulācijai 03081 par pacienta Covid-19 vakcinēšanu | F149: 2.05 | G149: 10 | H149: =F149*G149 -> 20.5 | I149: =H149 -> 20.5
A150: NVD Zemgales nodaļa | B150: 460200036 | C150: Dobeles un apkārtnes slimnīca, SIA | D150: 03083 | E150: Piemaksa manipulācijai 03081 par pacienta Covid-19 vakcinēšanu | F150: 2.05 | G150: 15 | H150: =F150*G150 -> 30.75 | I150: =H150 -> 30.75
A151: NVD Kurzemes nodaļa | B151: 270020302 | C151: Ziemeļkurzemes reģionālā slimnīca, SIA | D151: 03095 | E151: Covid-19 vakcinācija masveida vakcinācijas centrā vai tirdzniecības centrā, ja pirmsvakcinācijas konsultāciju nodrošina ārsts | F151: 10.62 | G151: 46 | H151: =F151*G151 -> 488.52 | I151: =H151 -> 488.52
A152: NVD Zemgales nodaļa | B152: 110000048 | C152: Jēkabpils reģionālā slimnīca, Sabiedrība ar ierobežotu atbildību | D152: 03095 | E152: Covid-19 vakcinācija masveida vakcinācijas centrā vai tirdzniecības centrā, ja pirmsvakcinācijas konsultāciju nodrošina ārsts | F152: 10.62 | G152: 2 | H152: =F152*G152 -> 21.24 | I152: =H152 -> 21.24
... A199: NVD Rīgas nodaļa | B199: 010064114 | C199: VESELĪBAS CENTRS 4, Sabiedrība ar ierobežotu atbildību | D199: 03099 | E199: Piemaksa manipulācijai 01019 par ārstniecības personu darbu Covid-19 vakcinācijas kabinetā | F199: 1.06 | G199: 189 | H199: =F199*G199 -> 200.34 | I199: =H199 -> 200.34
A200: NVD Rīgas nodaļa | B200: 801400002 | C200: Saulkrastu veselības un sociālās aprūpes centrs, Pašvaldības aģentūra | D200: 03099 | E200: Piemaksa manipulācijai 01019 par ārstniecības personu darbu Covid-19 vakcinācijas kabinetā | F200: 1.06 | G200: 30 | H200: =F200*G200 -> 31.8 | J200: =H200 -> 31.8
A201: NVD Vidzemes nodaļa | B201: 250000092 | C201: Vidzemes slimnīca, Sabiedrība ar ierobežotu atbildību | D201: 03099 | E201: Piemaksa manipulācijai 01019 par ārstniecības personu darbu Covid-19 vakcinācijas kabinetā | F201: 1.06 | G201: 16 | H201: =F201*G201 -> 16.96 | I201: =H201 -> 16.96
A202: NVD Vidzemes nodaļa | B202: 700200041 | C202: Madonas slimnīca, Madonas novada pašvaldības SIA | D202: 03099 | E202: Piemaksa manipulācijai 01019 par ārstniecības personu darbu Covid-19 vakcinācijas kabinetā | F202: 1.06 | G202: 17 | H202: =F202*G202 -> 18.02 | I202: =H202 -> 18.02
A203: NVD Zemgales nodaļa | B203: 110000048 | C203: Jēkabpils reģionālā slimnīca, Sabiedrība ar ierobežotu atbildību | D203: 03099 | E203: Piemaksa manipulācijai 01019 par ārstniecības personu darbu Covid-19 vakcinācijas kabinetā | F203: 1.06 | G203: 48 | H203: =F203*G203 -> 50.88 | I203: =H203 -> 50.88
A204: NVD Kurzemes nodaļa | B204: 620200038 | C204: Kuldīgas slimnīca, Sabiedrība ar ierobežotu atbildību | D204: 03118 | E204: Vakcinācija pret Covid-19 bērniem līdz 11 gadu vecumam (ieskaitot) | F204: 13.15 | G204: 1 | H204: =F204*G204 -> 13.15 | I204: =H204 -> 13.15
A205: NVD Rīgas nodaļa | B205: 010011804 | C205: Bērnu klīniskā universitātes slimnīca, Valsts sabiedrība ar ierobežotu atbildību | D205: 03118 | E205: Vakcinācija pret Covid-19 bērniem līdz 11 gadu vecumam (ieskaitot) | F205: 13.15 | G205: 791 | H205: =F205*G205 -> 10401.65 | I205: =H205 -> 10401.65
A206: NVD Rīgas nodaļa | B206: 010020301 | C206: Rīgas 1. slimnīca, SIA | D206: 03118 | E206: Vakcinācija pret Covid-19 bērniem līdz 11 gadu vecumam (ieskaitot) | F206: 13.15 | G206: 6 | H206: =F206*G206 -> 78.9 | I206: =H206 -> 78.9
A207: NVD Rīgas nodaļa | B207: 010021301 | C207: Rīgas Dzemdību nams, SIA | D207: 03118 | E207: Vakcinācija pret Covid-19 bērniem līdz 11 gadu vecumam (ieskaitot) | F207: 13.15 | G207: 40 | H207: =F207*G207 -> 526 | I207: =H207 -> 526
A208: NVD Rīgas nodaļa | B208: 010064120 | C208: Veselības centru apvienība, AS | D208: 03118 | E208: Vakcinācija pret Covid-19 bērniem līdz 11 gadu vecumam (ieskaitot) | F208: 13.15 | G208: 23 | H208: =F208*G208 -> 302.45 | I208: =H208 -> 302.45
A209: NVD Vidzemes nodaļa | B209: 500200052 | C209: Balvu un Gulbenes slimnīcu apvienība, Sabiedrība ar ierobežotu atbildību | D209: 03118 | E209: Vakcinācija pret Covid-19 bērniem līdz 11 gadu vecumam (ieskaitot) | F209: 13.15 | G209: 1 | H209: =F209*G209 -> 13.15 | I209: =H209 -> 13.15
A210: NVD Zemgales nodaļa | B210: 110000048 | C210: Jēkabpils reģionālā slimnīca, Sabiedrība ar ierobežotu atbildību | D210: 03118 | E210: Vakcinācija pret Covid-19 bērniem līdz 11 gadu vecumam (ieskaitot) | F210: 13.15 | G210: 1 | H210: =F210*G210 -> 13.15 | I210: =H210 -> 13.15
A211: NVD Kurzemes nodaļa | B211: 170024101 | C211: VECLIEPĀJAS PRIMĀRĀS VESELĪBAS APRŪPES CENTRS, Pašvaldības Sabiedrība ar ierobežotu atbildību | D211: 60049 | E211: Individuālie aizsardzības līdzekļi Covid-19 vai gripas vakcinēšanai | F211: 1.39 | G211: 11 | H211: =F211*G211 -> 15.29 | I211: =H211 -> 15.29
A212: NVD Kurzemes nodaļa | B212: 170065204 | C212: L. ATIĶES DOKTORĀTS, SIA | D212: 60049 | E212: Individuālie aizsardzības līdzekļi Covid-19 vai gripas vakcinēšanai | F212: 1.39 | G212: 49 | H212: =F212*G212 -> 68.11 | I212: =H212 -> 68.11
... A244: NVD Rīgas nodaļa | B244: 801000013 | C244: OlainMed, Sabiedrība ar ierobežotu atbildību | D244: 60049 | E244: Individuālie aizsardzības līdzekļi Covid-19 vai gripas vakcinēšanai | F244: 1.39 | G244: 20 | H244: =F244*G244 -> 27.8 | I244: =H244 -> 27.8
A245: NVD Rīgas nodaļa | B245: 801400002 | C245: Saulkrastu veselības un sociālās aprūpes centrs, Pašvaldības aģentūra | D245: 60049 | E245: Individuālie aizsardzības līdzekļi Covid-19 vai gripas vakcinēšanai | F245: 1.39 | G245: 30 | H245: =F245*G245 -> 41.7 | J245: =H245 -> 41.7
A246: NVD Vidzemes nodaļa | B246: 250000087 | C246: VALMIERAS VESELĪBAS CENTRS, SIA | D246: 60049 | E246: Individuālie aizsardzības līdzekļi Covid-19 vai gripas vakcinēšanai | F246: 1.39 | G246: 24 | H246: =F246*G246 -> 33.36 | I246: =H246 -> 33.36
A247: NVD Vidzemes nodaļa | B247: 250000092 | C247: Vidzemes slimnīca, Sabiedrība ar ierobežotu atbildību | D247: 60049 | E247: Individuālie aizsardzības līdzekļi Covid-19 vai gripas vakcinēšanai | F247: 1.39 | G247: 16 | H247: =F247*G247 -> 22.24 | I247: =H247 -> 22.24
A248: NVD Vidzemes nodaļa | B248: 500200052 | C248: Balvu un Gulbenes slimnīcu apvienība, Sabiedrība ar ierobežotu atbildību | D248: 60049 | E248: Individuālie aizsardzības līdzekļi Covid-19 vai gripas vakcinēšanai | F248: 1.39 | G248: 7 | H248: =F248*G248 -> 9.73 | I248: =H248 -> 9.73
A249: NVD Vidzemes nodaļa | B249: 700200041 | C249: Madonas slimnīca, Madonas novada pašvaldības SIA | D249: 60049 | E249: Individuālie aizsardzības līdzekļi Covid-19 vai gripas vakcinēšanai | F249: 1.39 | G249: 17 | H249: =F249*G249 -> 23.63 | I249: =H249 -> 23.63
A250: NVD Zemgales nodaļa | B250: 090000026 | C250: Zemgales veselības centrs, Sabiedrība ar ierobežotu atbildību | D250: 60049 | E250: Individuālie aizsardzības līdzekļi Covid-19 vai gripas vakcinēšanai | F250: 1.39 | G250: 33 | H250: =F250*G250 -> 45.87 | I250: =H250 -> 45.87
A251: NVD Zemgales nodaļa | B251: 090024001 | C251: Medicīnas sabiedrība "Optima 1", Sabiedrība ar ierobežotu atbildību | D251: 60049 | E251: Individuālie aizsardzības līdzekļi Covid-19 vai gripas vakcinēšanai | F251: 1.39 | G251: 31 | H251: =F251*G251 -> 43.09 | I251: =H251 -> 43.09
A252: NVD Zemgales nodaļa | B252: 110000048 | C252: Jēkabpils reģionālā slimnīca, Sabiedrība ar ierobežotu atbildību | D252: 60049 | E252: Individuālie aizsardzības līdzekļi Covid-19 vai gripas vakcinēšanai | F252: 1.39 | G252: 51 | H252: =F252*G252 -> 70.89 | I252: =H252 -> 70.89
A253: NVD Zemgales nodaļa | B253: 400200024 | C253: Bauskas slimnīca, SIA | D253: 60049 | E253: Individuālie aizsardzības līdzekļi Covid-19 vai gripas vakcinēšanai | F253: 1.39 | G253: 9 | H253: =F253*G253 -> 12.51 | I253: =H253 -> 12.51
A254: NVD Zemgales nodaļa | B254: 460200036 | C254: Dobeles un apkārtnes slimnīca, SIA | D254: 60049 | E254: Individuālie aizsardzības līdzekļi Covid-19 vai gripas vakcinēšanai | F254: 1.39 | G254: 14 | H254: =F254*G254 -> 19.46 | I254: =H254 -> 19.46
A255: NVD Kurzemes nodaļa | B255: 170065204 | C255: L. ATIĶES DOKTORĀTS, SIA | D255: 60059 | E255: Ārstniecības personas izbraukums COVID-19 vakcinēšanas nodrošināšanai pacienta dzīvesvietā | F255: 26.13 | G255: 3 | H255: =F255*G255 -> 78.39 | I255: =H255 -> 78.39
A256: NVD Rīgas nodaļa | B256: 010064111 | C256: Dziedniecība, Sabiedrība ar ierobežotu atbildību | D256: 60059 | E256: Ārstniecības personas izbraukums COVID-19 vakcinēšanas nodrošināšanai pacienta dzīvesvietā | F256: 26.13 | G256: 563 | H256: =F256*G256 -> 14711.19 | I256: =H256 -> 14711.19
A257: NVD Rīgas nodaļa | B257: 010064114 | C257: VESELĪBAS CENTRS 4, Sabiedrība ar ierobežotu atbildību | D257: 60059 | E257: Ārstniecības personas izbraukums COVID-19 vakcinēšanas nodrošināšanai pacienta dzīvesvietā | F257: 26.13 | G257: 8 | H257: =F257*G257 -> 209.04 | I257: =H257 -> 209.04
... A266: NVD Zemgales nodaļa | B266: 110000048 | C266: Jēkabpils reģionālā slimnīca, Sabiedrība ar ierobežotu atbildību | D266: 60170 | E266: Ceļa izdevumi brigādei pie pacientiem Covid-19 vakcinēšanai kolektīvos vai sociālās aprūpes centros, vai plānotos izbraukumos attālumā līdz 50km vienā virzienā (turp-atpakaļ ne vairāk kā 100km) | F266: 2.61 | G266: 1 | H266: =F266*G266 -> 2.61 | I266: =H266 -> 2.61
A267: *manipulācijas tarifam 60049 “Individuālie aizsardzības līdzekļi Covid-19 vai gripas vakcinēšanai” paredzētais finansējums attiecināms uz individuālajiem aizsardzības līdzekļiem Covid-19 vakcinēšanai

Sheet Vakc_PVA_junijs
G1: Pielikums Nr.9 Ministru kabineta rīkojuma "Par finanšu līdzekļu piešķiršanu no valsts budžeta programmas "Finansējums veselības jomas pasākumiem Covid-19 infekcijas izplatības ierobežošanai"" projekta sākotnējās ietekmes novērtējuma ziņojumam (anotācijai)
A2: Veiktais darbs 2022.gada jūnijā par COVID-19 vakcinācijas saistītām manipulācijām ģimenes ārstiem: (Diagnoze - U11 Nepieciešamība veikt imunizāciju pret Covid-19, U11.9 Nepieciešamība imunizēt pret Covid-19, bez precizējuma)
A3: NVD TN | B3: Ārstniecības iestādes kods | C3: Ārstniecības iestādes nosaukums | D3: Manipulācijas kods | E3: Manipulācijas nosaukums | F3: Manipilāciju tarifs, euro | G3: Manipulāciju skaits kopā | H3: Pakalpojumu summa kopā, euro | I3: EKK 3000 | J3: EKK 7460
A4: Kopā: | G4: =SUM(G5:G393) -> 4358 | H4: =I4+J4 -> 12147 | I4: =ROUNDUP(SUM(I5:I393),0) -> 11998 | J4: =ROUNDUP(SUM(J5:J393),0) -> 149
A5: NVD Kurzemes nodaļa | B5: 170000190 | C5: Liepājas ģimenes veselības centrs, SIA | D5: 01018 | E5: Ārsta konsultācija pirms vakcinācijas. Nenorāda kopā ar manipulāciju 01061, 60443 un 60444 | F5: 3.54 | G5: 3 | H5: =F5*G5 -> 10.62 | I5: =H5 -> 10.62
A6: NVD Kurzemes nodaļa | B6: 270000032 | C6: Grospiņš Andis - ģimenes ārsta un arodveselības un arodslimību ārsta prakse | D6: 01018 | E6: Ārsta konsultācija pirms vakcinācijas. Nenorāda kopā ar manipulāciju 01061, 60443 un 60444 | F6: 3.54 | G6: 9 | H6: =F6*G6 -> 31.86 | I6: =H6 -> 31.86
A7: NVD Kurzemes nodaļa | B7: 640600022 | C7: Capļina Violeta - ģimenes ārstu prakse | D7: 01018 | E7: Ārsta konsultācija pirms vakcinācijas. Nenorāda kopā ar manipulāciju 01061, 60443 un 60444 | F7: 3.54 | G7: 10 | H7: =F7*G7 -> 35.4 | I7: =H7 -> 35.4
A8: NVD Kurzemes nodaļa | B8: 840200075 | C8: Bīlāne Līga - ģimenes ārsta prakse | D8: 01018 | E8: Ārsta konsultācija pirms vakcinācijas. Nenorāda kopā ar manipulāciju 01061, 60443 un 60444 | F8: 3.54 | G8: 2 | H8: =F8*G8 -> 7.08 | I8: =H8 -> 7.08
A9: NVD Kurzemes nodaļa | B9: 880200063 | C9: Lunde Dzintra -ģimenes ārsta prakse | D9: 01018 | E9: Ārsta konsultācija pirms vakcinācijas. Nenorāda kopā ar manipulāciju 01061, 60443 un 60444 | F9: 3.54 | G9: 1 | H9: =F9*G9 -> 3.54 | I9: =H9 -> 3.54
A10: NVD Kurzemes nodaļa | B10: 887600003 | C10: Lormane Annemarija -ģimenes ārsta prakse | D10: 01018 | E10: Ārsta konsultācija pirms vakcinācijas. Nenorāda kopā ar manipulāciju 01061, 60443 un 60444 | F10: 3.54 | G10: 1 | H10: =F10*G10 -> 3.54 | I10: =H10 -> 3.54
A11: NVD Kurzemes nodaļa | B11: 900200010 | C11: Bētiņa Lilita - ģimenes ārsta un arodveselības un arodslimību ārsta prakse | D11: 01018 | E11: Ārsta konsultācija pirms vakcinācijas. Nenorāda kopā ar manipulāciju 01061, 60443 un 60444 | F11: 3.54 | G11: 1 | H11: =F11*G11 -> 3.54 | I11: =H11 -> 3.54
A12: NVD Latgales nodaļa | B12: 050075419 | C12: Kramiča Tatjana - ģimenes ārsta prakse | D12: 01018 | E12: Ārsta konsultācija pirms vakcinācijas. Nenorāda kopā ar manipulāciju 01061, 60443 un 60444 | F12: 3.54 | G12: 1 | H12: =F12*G12 -> 3.54 | I12: =H12 -> 3.54
A13: NVD Latgales nodaļa | B13: 210000055 | C13: Rogaļs Viktors - ģimenes ārsta un osteorefleksoterapeita prakse | D13: 01018 | E13: Ārsta konsultācija pirms vakcinācijas. Nenorāda kopā ar manipulāciju 01061, 60443 un 60444 | F13: 3.54 | G13: 9 | H13: =F13*G13 -> 31.86 | I13: =H13 -> 31.86
A14: NVD Latgales nodaļa | B14: 210075413 | C14: Novožilova Jeļena - ģimenes ārsta un arodveselības un arodslimību ārsta prakse | D14: 01018 | E14: Ārsta konsultācija pirms vakcinācijas. Nenorāda kopā ar manipulāciju 01061, 60443 un 60444 | F14: 3.54 | G14: 1 | H14: =F14*G14 -> 3.54 | I14: =H14 -> 3.54
A15: NVD Latgales nodaļa | B15: 600200015 | C15: Sidorova Nataša - ģimenes ārsta un arodveselības un arodslimību ārsta prakse | D15: 01018 | E15: Ārsta konsultācija pirms vakcinācijas. Nenorāda kopā ar manipulāciju 01061, 60443 un 60444 | F15: 3.54 | G15: 5 | H15: =F15*G15 -> 17.7 | I15: =H15 -> 17.7
A16: NVD Latgales nodaļa | B16: 601000021 | C16: OLGAS GOLUBES ĢIMENES ĀRSTA PRAKSE, Sabiedrība ar ierobežotu atbildību | D16: 01018 | E16: Ārsta konsultācija pirms vakcinācijas. Nenorāda kopā ar manipulāciju 01061, 60443 un 60444 | F16: 3.54 | G16: 12 | H16: =F16*G16 -> 42.48 | I16: =H16 -> 42.48
A17: NVD Latgales nodaļa | B17: 780200014 | C17: RUŽINAS DOKTORĀTS, Sabiedrība ar ierobežotu atbildību | D17: 01018 | E17: Ārsta konsultācija pirms vakcinācijas. Nenorāda kopā ar manipulāciju 01061, 60443 un 60444 | F17: 3.54 | G17: 6 | H17: =F17*G17 -> 21.24 | I17: =H17 -> 21.24
A18: NVD Rīgas nodaļa | B18: 010000061 | C18: Rīgas patversme | D18: 01018 | E18: Ārsta konsultācija pirms vakcinācijas. Nenorāda kopā ar manipulāciju 01061, 60443 un 60444 | F18: 3.54 | G18: 6 | H18: =F18*G18 -> 21.24 | J18: =H18 -> 21.24
A19: NVD Rīgas nodaļa | B19: 010000327 | C19: Geletko Tatjana - ģimenes ārsta prakse | D19: 01018 | E19: Ārsta konsultācija pirms vakcinācijas. Nenorāda kopā ar manipulāciju 01061, 60443 un 60444 | F19: 3.54 | G19: 6 | H19: =F19*G19 -> 21.24 | I19: =H19 -> 21.24
A20: NVD Rīgas nodaļa | B20: 010000455 | C20: Freimane Liene - ģimenes ārsta prakse | D20: 01018 | E20: Ārsta konsultācija pirms vakcinācijas. Nenorāda kopā ar manipulāciju 01061, 60443 un 60444 | F20: 3.54 | G20: 1 | H20: =F20*G20 -> 3.54 | I20: =H20 -> 3.54
A21: NVD Rīgas nodaļa | B21: 010001120 | C21: Kulišovs Ignatijs - ģimenes ārsta prakse | D21: 01018 | E21: Ārsta konsultācija pirms vakcinācijas. Nenorāda kopā ar manipulāciju 01061, 60443 un 60444 | F21: 3.54 | G21: 11 | H21: =F21*G21 -> 38.94 | I21: =H21 -> 38.94
A22: NVD Rīgas nodaļa | B22: 010001210 | C22: Hedvigas Kronbergas ģimenes ārsta prakse, SIA | D22: 01018 | E22: Ārsta konsultācija pirms vakcinācijas. Nenorāda kopā ar manipulāciju 01061, 60443 un 60444 | F22: 3.54 | G22: 1 | H22: =F22*G22 -> 3.54 | I22: =H22 -> 3.54
A23: NVD Rīgas nodaļa | B23: 010001434 | C23: Katedra, Sabiedrība ar ierobežotu atbildību | D23: 01018 | E23: Ārsta konsultācija pirms vakcinācijas. Nenorāda kopā ar manipulāciju 01061, 60443 un 60444 | F23: 3.54 | G23: 4 | H23: =F23*G23 -> 14.16 | I23: =H23 -> 14.16
A24: NVD Rīgas nodaļa | B24: 010001485 | C24: J.Gulbes ģimenes ārsta prakse, Sabiedrība ar ierobežotu atbildību | D24: 01018 | E24: Ārsta konsultācija pirms vakcinācijas. Nenorāda kopā ar manipulāciju 01061, 60443 un 60444 | F24: 3.54 | G24: 9 | H24: =F24*G24 -> 31.86 | I24: =H24 -> 31.86
A25: NVD Rīgas nodaļa | B25: 010001498 | C25: Draška Rita - ģimenes ārsta prakse | D25: 01018 | E25: Ārsta konsultācija pirms vakcinācijas. Nenorāda kopā ar manipulāciju 01061, 60443 un 60444 | F25: 3.54 | G25: 1 | H25: =F25*G25 -> 3.54 | I25: =H25 -> 3.54
A26: NVD Rīgas nodaļa | B26: 010001499 | C26: Ponne Inguna - ģimenes ārsta prakse | D26: 01018 | E26: Ārsta konsultācija pirms vakcinācijas. Nenorāda kopā ar manipulāciju 01061, 60443 un 60444 | F26: 3.54 | G26: 1 | H26: =F26*G26 -> 3.54 | I26: =H26 -> 3.54
A27: NVD Rīgas nodaļa | B27: 010001527 | C27: Karlsone Aija - ģimenes ārsta prakse | D27: 01018 | E27: Ārsta konsultācija pirms vakcinācijas. Nenorāda kopā ar manipulāciju 01061, 60443 un 60444 | F27: 3.54 | G27: 1 | H27: =F27*G27 -> 3.54 | I27: =H27 -> 3.54
A28: NVD Rīgas nodaļa | B28: 010001535 | C28: Rīgas veselības centrs, SIA | D28: 01018 | E28: Ārsta konsultācija pirms vakcinācijas. Nenorāda kopā ar manipulāciju 01061, 60443 un 60444 | F28: 3.54 | G28: 66 | H28: =F28*G28 -> 233.64 | I28: =H28 -> 233.64
A29: NVD Rīgas nodaļa | B29: 010001769 | C29: LIDIJAS LAGANOVSKAS ĢIMENES ĀRSTA PRAKSE, SIA | D29: 01018 | E29: Ārsta konsultācija pirms vakcinācijas. Nenorāda kopā ar manipulāciju 01061, 60443 un 60444 | F29: 3.54 | G29: 6 | H29: =F29*G29 -> 21.24 | I29: =H29 -> 21.24
A30: NVD Rīgas nodaļa | B30: 010001933 | C30: Dr.Aļonas prakse, Sabiedrība ar ierobežotu atbildību | D30: 01018 | E30: Ārsta konsultācija pirms vakcinācijas. Nenorāda kopā ar manipulāciju 01061, 60443 un 60444 | F30: 3.54 | G30: 3 | H30: =F30*G30 -> 10.62 | I30: =H30 -> 10.62
... A48: NVD Rīgas nodaļa | B48: 809600006 | C48: Ivetas Vīksnes ģimenes ārsta prakse, Sabiedrība ar ierobežotu atbildību | D48: 01018 | E48: Ārsta konsultācija pirms vakcinācijas. Nenorāda kopā ar manipulāciju 01061, 60443 un 60444 | F48: 3.54 | G48: 2 | H48: =F48*G48 -> 7.08 | I48: =H48 -> 7.08
A49: NVD Rīgas nodaļa | B49: 809635210 | C49: Ropažu novada pašvaldības aģentūra "Stopiņu ambulance" | D49: 01018 | E49: Ārsta konsultācija pirms vakcinācijas. Nenorāda kopā ar manipulāciju 01061, 60443 un 60444 | F49: 3.54 | G49: 10 | H49: =F49*G49 -> 35.4 | J49: =H49 -> 35.4
A50: NVD Vidzemes nodaļa | B50: 360200010 | C50: Šnikvalde Anita - ģimenes ārsta un pediatra prakse | D50: 01018 | E50: Ārsta konsultācija pirms vakcinācijas. Nenorāda kopā ar manipulāciju 01061, 60443 un 60444 | F50: 3.54 | G50: 1 | H50: =F50*G50 -> 3.54 | I50: =H50 -> 3.54
A51: NVD Vidzemes nodaļa | B51: 360800001 | C51: Apes ārsta prakse, Sabiedrība ar ierobežotu atbildību | D51: 01018 | E51: Ārsta konsultācija pirms vakcinācijas. Nenorāda kopā ar manipulāciju 01061, 60443 un 60444 | F51: 3.54 | G51: 2 | H51: =F51*G51 -> 7.08 | I51: =H51 -> 7.08
A52: NVD Vidzemes nodaļa | B52: 380200008 | C52: Baranovska Ārija - ģimenes ārsta prakse | D52: 01018 | E52: Ārsta konsultācija pirms vakcinācijas. Nenorāda kopā ar manipulāciju 01061, 60443 un 60444 | F52: 3.54 | G52: 6 | H52: =F52*G52 -> 21.24 | I52: =H52 -> 21.24
A53: NVD Vidzemes nodaļa | B53: 420200010 | C53: Maijas Liepiņas ģimenes ārsta prakse, SIA | D53: 01018 | E53: Ārsta konsultācija pirms vakcinācijas. Nenorāda kopā ar manipulāciju 01061, 60443 un 60444 | F53: 3.54 | G53: 2 | H53: =F53*G53 -> 7.08 | I53: =H53 -> 7.08
A54: NVD Vidzemes nodaļa | B54: 420200011 | C54: Rogoza Natālija - ģimenes ārsta prakse | D54: 01018 | E54: Ārsta konsultācija pirms vakcinācijas. Nenorāda kopā ar manipulāciju 01061, 60443 un 60444 | F54: 3.54 | G54: 2 | H54: =F54*G54 -> 7.08 | I54: =H54 -> 7.08
A55: NVD Vidzemes nodaļa | B55: 420200084 | C55: Ķēdis Toms - ģimenes ārsta prakse | D55: 01018 | E55: Ārsta konsultācija pirms vakcinācijas. Nenorāda kopā ar manipulāciju 01061, 60443 un 60444 | F55: 3.54 | G55: 10 | H55: =F55*G55 -> 35.4 | I55: =H55 -> 35.4
A56: NVD Vidzemes nodaļa | B56: 424700007 | C56: Vasiļevskis Uldis - ģimenes ārsta prakse | D56: 01018 | E56: Ārsta konsultācija pirms vakcinācijas. Nenorāda kopā ar manipulāciju 01061, 60443 un 60444 | F56: 3.54 | G56: 5 | H56: =F56*G56 -> 17.7 | I56: =H56 -> 17.7
A57: NVD Vidzemes nodaļa | B57: 427300007 | C57: Meinerte Gundega - ģimenes ārsta prakse | D57: 01018 | E57: Ārsta konsultācija pirms vakcinācijas. Nenorāda kopā ar manipulāciju 01061, 60443 un 60444 | F57: 3.54 | G57: 1 | H57: =F57*G57 -> 3.54 | I57: =H57 -> 3.54
A58: NVD Vidzemes nodaļa | B58: 500200022 | C58: STĀMERIENAS DOKTORĀTS, Gulbenes rajona Stāmerienas pagasta J.Seļicka ārstu prakses individuālais uzņēmums | D58: 01018 | E58: Ārsta konsultācija pirms vakcinācijas. Nenorāda kopā ar manipulāciju 01061, 60443 un 60444 | F58: 3.54 | G58: 6 | H58: =F58*G58 -> 21.24 | I58: =H58 -> 21.24
A59: NVD Vidzemes nodaļa | B59: 500200046 | C59: JAUNGULBENES DOKTORĀTS, Gulbenes rajona Jaungulbenes pagasta L.Vebruāles ārstu prakses individuālais uzņēmums | D59: 01018 | E59: Ārsta konsultācija pirms vakcinācijas. Nenorāda kopā ar manipulāciju 01061, 60443 un 60444 | F59: 3.54 | G59: 5 | H59: =F59*G59 -> 17.7 | I59: =H59 -> 17.7
A60: NVD Vidzemes nodaļa | B60: 660200045 | C60: Skultes doktorāts, SIA | D60: 01018 | E60: Ārsta konsultācija pirms vakcinācijas. Nenorāda kopā ar manipulāciju 01061, 60443 un 60444 | F60: 3.54 | G60: 1 | H60: =F60*G60 -> 3.54 | I60: =H60 -> 3.54
A61: NVD Vidzemes nodaļa | B61: 661400004 | C61: Salacgrīvas novada ģimenes ārstes Ilonas Balodes doktorāts | D61: 01018 | E61: Ārsta konsultācija pirms vakcinācijas. Nenorāda kopā ar manipulāciju 01061, 60443 un 60444 | F61: 3.54 | G61: 2 | H61: =F61*G61 -> 7.08 | I61: =H61 -> 7.08
... A81: NVD Vidzemes nodaļa | B81: 010001522 | C81: Salvum TD aprūpe un izglītība, SIA | D81: 01019 | E81: Ārsta palīga vai vecmātes konsultācija pirms vakcinācijas | F81: 1.97 | G81: 58 | H81: =F81*G81 -> 114.26 | I81: =H81 -> 114.26
A82: NVD Vidzemes nodaļa | B82: 360200053 | C82: BEJAS FELDŠERU VECMĀŠU PUNKTS, ALŪKSNES NOVADA PAŠVALDĪBA | D82: 01019 | E82: Ārsta palīga vai vecmātes konsultācija pirms vakcinācijas | F82: 1.97 | G82: 1 | H82: =F82*G82 -> 1.97 | J82: =H82 -> 1.97
A83: NVD Vidzemes nodaļa | B83: 420200011 | C83: Rogoza Natālija - ģimenes ārsta prakse | D83: 01019 | E83: Ārsta palīga vai vecmātes konsultācija pirms vakcinācijas | F83: 1.97 | G83: 1 | H83: =F83*G83 -> 1.97 | I83: =H83 -> 1.97
A84: NVD Zemgales nodaļa | B84: 468900007 | C84: Veselības centrs "Džūkste", SIA | D84: 01019 | E84: Ārsta palīga vai vecmātes konsultācija pirms vakcinācijas | F84: 1.97 | G84: 4 | H84: =F84*G84 -> 7.88 | I84: =H84 -> 7.88
A85: NVD Rīgas nodaļa | B85: 801200001 | C85: Salaspils veselības centrs, Sabiedrība ar ierobežotu atbildību | D85: 03048 | E85: Piemaksa manipulācijai 01018 vai 03095 par ārsta darbu Covid-19 vakcinācijas kabinetā brīvdienās un svētku dienās | F85: 3.27 | G85: 6 | H85: =F85*G85 -> 19.62 | I85: =H85 -> 19.62
A86: NVD Vidzemes nodaļa | B86: 010001522 | C86: Salvum TD aprūpe un izglītība, SIA | D86: 03049 | E86: Piemaksa manipulācijām 03081 un 01019 vai 03096 par māsas, ārsta palīga darbu Covid-19 vakcinācijas kabinetā brīvdienās un svētku dienās | F86: 1.96 | G86: 21 | H86: =F86*G86 -> 41.16 | I86: =H86 -> 41.16
A87: NVD Kurzemes nodaļa | B87: 170000190 | C87: Liepājas ģimenes veselības centrs, SIA | D87: 03081 | E87: Vakcīnas ievadīšana ādā, zemādā un muskulī | F87: 1.1 | G87: 4 | H87: =F87*G87 -> 4.4 | I87: =H87 -> 4.4
A88: NVD Kurzemes nodaļa | B88: 270000032 | C88: Grospiņš Andis - ģimenes ārsta un arodveselības un arodslimību ārsta prakse | D88: 03081 | E88: Vakcīnas ievadīšana ādā, zemādā un muskulī | F88: 1.1 | G88: 9 | H88: =F88*G88 -> 9.9 | I88: =H88 -> 9.9
A89: NVD Kurzemes nodaļa | B89: 640600022 | C89: Capļina Violeta - ģimenes ārstu prakse | D89: 03081 | E89: Vakcīnas ievadīšana ādā, zemādā un muskulī | F89: 1.1 | G89: 9 | H89: =F89*G89 -> 9.9 | I89: =H89 -> 9.9
A90: NVD Kurzemes nodaļa | B90: 840200075 | C90: Bīlāne Līga - ģimenes ārsta prakse | D90: 03081 | E90: Vakcīnas ievadīšana ādā, zemādā un muskulī | F90: 1.1 | G90: 2 | H90: =F90*G90 -> 2.2 | I90: =H90 -> 2.2
A91: NVD Kurzemes nodaļa | B91: 880200063 | C91: Lunde Dzintra -ģimenes ārsta prakse | D91: 03081 | E91: Vakcīnas ievadīšana ādā, zemādā un muskulī | F91: 1.1 | G91: 1 | H91: =F91*G91 -> 1.1 | I91: =H91 -> 1.1
A92: NVD Kurzemes nodaļa | B92: 887600003 | C92: Lormane Annemarija -ģimenes ārsta prakse | D92: 03081 | E92: Vakcīnas ievadīšana ādā, zemādā un muskulī | F92: 1.1 | G92: 1 | H92: =F92*G92 -> 1.1 | I92: =H92 -> 1.1
A93: NVD Kurzemes nodaļa | B93: 900200010 | C93: Bētiņa Lilita - ģimenes ārsta un arodveselības un arodslimību ārsta prakse | D93: 03081 | E93: Vakcīnas ievadīšana ādā, zemādā un muskulī | F93: 1.1 | G93: 1 | H93: =F93*G93 -> 1.1 | I93: =H93 -> 1.1
A94: NVD Latgales nodaļa | B94: 050000139 | C94: Latgales medicīnas centrs, Sabiedrība ar ierobežotu atbildību | D94: 03081 | E94: Vakcīnas ievadīšana ādā, zemādā un muskulī | F94: 1.1 | G94: 169 | H94: =F94*G94 -> 185.9 | I94: =H94 -> 185.9
... A101: NVD Latgales nodaļa | B101: 780200014 | C101: RUŽINAS DOKTORĀTS, Sabiedrība ar ierobežotu atbildību | D101: 03081 | E101: Vakcīnas ievadīšana ādā, zemādā un muskulī | F101: 1.1 | G101: 6 | H101: =F101*G101 -> 6.6 | I101: =H101 -> 6.6
A102: NVD Latgales nodaļa | B102: 780200025 | C102: Kantinieku feldšeru-vecmāšu punkts, Rēzeknes novada pašvaldības iestāde "Dricānu pagastu apvienība" | D102: 03081 | E102: Vakcīnas ievadīšana ādā, zemādā un muskulī | F102: 1.1 | G102: 1 | H102: =F102*G102 -> 1.1 | J102: =H102 -> 1.1
A103: NVD Rīgas nodaļa | B103: 010000061 | C103: Rīgas patversme | D103: 03081 | E103: Vakcīnas ievadīšana ādā, zemādā un muskulī | F103: 1.1 | G103: 6 | H103: =F103*G103 -> 6.6 | J103: =H103 -> 6.6
A104: NVD Rīgas nodaļa | B104: 010000327 | C104: Geletko Tatjana - ģimenes ārsta prakse | D104: 03081 | E104: Vakcīnas ievadīšana ādā, zemādā un muskulī | F104: 1.1 | G104: 6 | H104: =F104*G104 -> 6.6 | I104: =H104 -> 6.6
A105: NVD Rīgas nodaļa | B105: 010000455 | C105: Freimane Liene - ģimenes ārsta prakse | D105: 03081 | E105: Vakcīnas ievadīšana ādā, zemādā un muskulī | F105: 1.1 | G105: 1 | H105: =F105*G105 -> 1.1 | I105: =H105 -> 1.1
A106: NVD Rīgas nodaļa | B106: 010001120 | C106: Kulišovs Ignatijs - ģimenes ārsta prakse | D106: 03081 | E106: Vakcīnas ievadīšana ādā, zemādā un muskulī | F106: 1.1 | G106: 16 | H106: =F106*G106 -> 17.6 | I106: =H106 -> 17.6
A107: NVD Rīgas nodaļa | B107: 010001210 | C107: Hedvigas Kronbergas ģimenes ārsta prakse, SIA | D107: 03081 | E107: Vakcīnas ievadīšana ādā, zemādā un muskulī | F107: 1.1 | G107: 1 | H107: =F107*G107 -> 1.1 | I107: =H107 -> 1.1
A108: NVD Rīgas nodaļa | B108: 010001434 | C108: Katedra, Sabiedrība ar ierobežotu atbildību | D108: 03081 | E108: Vakcīnas ievadīšana ādā, zemādā un muskulī | F108: 1.1 | G108: 4 | H108: =F108*G108 -> 4.4 | I108: =H108 -> 4.4
A109: NVD Rīgas nodaļa | B109: 010001485 | C109: J.Gulbes ģimenes ārsta prakse, Sabiedrība ar ierobežotu atbildību | D109: 03081 | E109: Vakcīnas ievadīšana ādā, zemādā un muskulī | F109: 1.1 | G109: 9 | H109: =F109*G109 -> 9.9 | I109: =H109 -> 9.9
A110: NVD Rīgas nodaļa | B110: 010001498 | C110: Draška Rita - ģimenes ārsta prakse | D110: 03081 | E110: Vakcīnas ievadīšana ādā, zemādā un muskulī | F110: 1.1 | G110: 1 | H110: =F110*G110 -> 1.1 | I110: =H110 -> 1.1
A111: NVD Rīgas nodaļa | B111: 010001499 | C111: Ponne Inguna - ģimenes ārsta prakse | D111: 03081 | E111: Vakcīnas ievadīšana ādā, zemādā un muskulī | F111: 1.1 | G111: 1 | H111: =F111*G111 -> 1.1 | I111: =H111 -> 1.1
A112: NVD Rīgas nodaļa | B112: 010001527 | C112: Karlsone Aija - ģimenes ārsta prakse | D112: 03081 | E112: Vakcīnas ievadīšana ādā, zemādā un muskulī | F112: 1.1 | G112: 1 | H112: =F112*G112 -> 1.1 | I112: =H112 -> 1.1
A113: NVD Rīgas nodaļa | B113: 010001535 | C113: Rīgas veselības centrs, SIA | D113: 03081 | E113: Vakcīnas ievadīšana ādā, zemādā un muskulī | F113: 1.1 | G113: 68 | H113: =F113*G113 -> 74.8 | I113: =H113 -> 74.8
A114: NVD Rīgas nodaļa | B114: 010001769 | C114: LIDIJAS LAGANOVSKAS ĢIMENES ĀRSTA PRAKSE, SIA | D114: 03081 | E114: Vakcīnas ievadīšana ādā, zemādā un muskulī | F114: 1.1 | G114: 6 | H114: =F114*G114 -> 6.6 | I114: =H114 -> 6.6
A115: NVD Rīgas nodaļa | B115: 010001933 | C115: Dr.Aļonas prakse, Sabiedrība ar ierobežotu atbildību | D115: 03081 | E115: Vakcīnas ievadīšana ādā, zemādā un muskulī | F115: 1.1 | G115: 3 | H115: =F115*G115 -> 3.3 | I115: =H115 -> 3.3
... A134: NVD Rīgas nodaļa | B134: 809600006 | C134: Ivetas Vīksnes ģimenes ārsta prakse, Sabiedrība ar ierobežotu atbildību | D134: 03081 | E134: Vakcīnas ievadīšana ādā, zemādā un muskulī | F134: 1.1 | G134: 2 | H134: =F134*G134 -> 2.2 | I134: =H134 -> 2.2
A135: NVD Rīgas nodaļa | B135: 809635210 | C135: Ropažu novada pašvaldības aģentūra "Stopiņu ambulance" | D135: 03081 | E135: Vakcīnas ievadīšana ādā, zemādā un muskulī | F135: 1.1 | G135: 10 | H135: =F135*G135 -> 11 | J135: =H135 -> 11
A136: NVD Vidzemes nodaļa | B136: 010001522 | C136: Salvum TD aprūpe un izglītība, SIA | D136: 03081 | E136: Vakcīnas ievadīšana ādā, zemādā un muskulī | F136: 1.1 | G136: 58 | H136: =F136*G136 -> 63.8 | I136: =H136 -> 63.8
A137: NVD Vidzemes nodaļa | B137: 360200010 | C137: Šnikvalde Anita - ģimenes ārsta un pediatra prakse | D137: 03081 | E137: Vakcīnas ievadīšana ādā, zemādā un muskulī | F137: 1.1 | G137: 1 | H137: =F137*G137 -> 1.1 | I137: =H137 -> 1.1
A138: NVD Vidzemes nodaļa | B138: 360200053 | C138: BEJAS FELDŠERU VECMĀŠU PUNKTS, ALŪKSNES NOVADA PAŠVALDĪBA | D138: 03081 | E138: Vakcīnas ievadīšana ādā, zemādā un muskulī | F138: 1.1 | G138: 1 | H138: =F138*G138 -> 1.1 | J138: =H138 -> 1.1
A139: NVD Vidzemes nodaļa | B139: 360800001 | C139: Apes ārsta prakse, Sabiedrība ar ierobežotu atbildību | D139: 03081 | E139: Vakcīnas ievadīšana ādā, zemādā un muskulī | F139: 1.1 | G139: 2 | H139: =F139*G139 -> 2.2 | I139: =H139 -> 2.2
A140: NVD Vidzemes nodaļa | B140: 380200008 | C140: Baranovska Ārija - ģimenes ārsta prakse | D140: 03081 | E140: Vakcīnas ievadīšana ādā, zemādā un muskulī | F140: 1.1 | G140: 6 | H140: =F140*G140 -> 6.6 | I140: =H140 -> 6.6
A141: NVD Vidzemes nodaļa | B141: 420200010 | C141: Maijas Liepiņas ģimenes ārsta prakse, SIA | D141: 03081 | E141: Vakcīnas ievadīšana ādā, zemādā un muskulī | F141: 1.1 | G141: 2 | H141: =F141*G141 -> 2.2 | I141: =H141 -> 2.2
A142: NVD Vidzemes nodaļa | B142: 420200011 | C142: Rogoza Natālija - ģimenes ārsta prakse | D142: 03081 | E142: Vakcīnas ievadīšana ādā, zemādā un muskulī | F142: 1.1 | G142: 3 | H142: =F142*G142 -> 3.3 | I142: =H142 -> 3.3
A143: NVD Vidzemes nodaļa | B143: 420200084 | C143: Ķēdis Toms - ģimenes ārsta prakse | D143: 03081 | E143: Vakcīnas ievadīšana ādā, zemādā un muskulī | F143: 1.1 | G143: 10 | H143: =F143*G143 -> 11 | I143: =H143 -> 11
A144: NVD Vidzemes nodaļa | B144: 424700007 | C144: Vasiļevskis Uldis - ģimenes ārsta prakse | D144: 03081 | E144: Vakcīnas ievadīšana ādā, zemādā un muskulī | F144: 1.1 | G144: 5 | H144: =F144*G144 -> 5.5 | I144: =H144 -> 5.5
A145: NVD Vidzemes nodaļa | B145: 427300007 | C145: Meinerte Gundega - ģimenes ārsta prakse | D145: 03081 | E145: Vakcīnas ievadīšana ādā, zemādā un muskulī | F145: 1.1 | G145: 1 | H145: =F145*G145 -> 1.1 | I145: =H145 -> 1.1
A146: NVD Vidzemes nodaļa | B146: 500200022 | C146: STĀMERIENAS DOKTORĀTS, Gulbenes rajona Stāmerienas pagasta J.Seļicka ārstu prakses individuālais uzņēmums | D146: 03081 | E146: Vakcīnas ievadīšana ādā, zemādā un muskulī | F146: 1.1 | G146: 6 | H146: =F146*G146 -> 6.6 | I146: =H146 -> 6.6
A147: NVD Vidzemes nodaļa | B147: 500200046 | C147: JAUNGULBENES DOKTORĀTS, Gulbenes rajona Jaungulbenes pagasta L.Vebruāles ārstu prakses individuālais uzņēmums | D147: 03081 | E147: Vakcīnas ievadīšana ādā, zemādā un muskulī | F147: 1.1 | G147: 4 | H147: =F147*G147 -> 4.4 | I147: =H147 -> 4.4
A148: NVD Vidzemes nodaļa | B148: 660200045 | C148: Skultes doktorāts, SIA | D148: 03081 | E148: Vakcīnas ievadīšana ādā, zemādā un muskulī | F148: 1.1 | G148: 1 | H148: =F148*G148 -> 1.1 | I148: =H148 -> 1.1
A149: NVD Vidzemes nodaļa | B149: 661400004 | C149: Salacgrīvas novada ģimenes ārstes Ilonas Balodes doktorāts | D149: 03081 | E149: Vakcīnas ievadīšana ādā, zemādā un muskulī | F149: 1.1 | G149: 2 | H149: =F149*G149 -> 2.2 | I149: =H149 -> 2.2
A150: NVD Vidzemes nodaļa | B150: 941600014 | C150: M. Kļaviņas ĢĀP, SIA | D150: 03081 | E150: Vakcīnas ievadīšana ādā, zemādā un muskulī | F150: 1.1 | G150: 3 | H150: =F150*G150 -> 3.3 | I150: =H150 -> 3.3
... A180: NVD Latgales nodaļa | B180: 780200014 | C180: RUŽINAS DOKTORĀTS, Sabiedrība ar ierobežotu atbildību | D180: 03083 | E180: Piemaksa manipulācijai 03081 par pacienta Covid-19 vakcinēšanu | F180: 2.05 | G180: 6 | H180: =F180*G180 -> 12.3 | I180: =H180 -> 12.3
A181: NVD Rīgas nodaļa | B181: 010000061 | C181: Rīgas patversme | D181: 03083 | E181: Piemaksa manipulācijai 03081 par pacienta Covid-19 vakcinēšanu | F181: 2.05 | G181: 6 | H181: =F181*G181 -> 12.3 | J181: =H181 -> 12.3
A182: NVD Rīgas nodaļa | B182: 010000327 | C182: Geletko Tatjana - ģimenes ārsta prakse | D182: 03083 | E182: Piemaksa manipulācijai 03081 par pacienta Covid-19 vakcinēšanu | F182: 2.05 | G182: 6 | H182: =F182*G182 -> 12.3 | I182: =H182 -> 12.3
A183: NVD Rīgas nodaļa | B183: 010000455 | C183: Freimane Liene - ģimenes ārsta prakse | D183: 03083 | E183: Piemaksa manipulācijai 03081 par pacienta Covid-19 vakcinēšanu | F183: 2.05 | G183: 1 | H183: =F183*G183 -> 2.05 | I183: =H183 -> 2.05
A184: NVD Rīgas nodaļa | B184: 010001120 | C184: Kulišovs Ignatijs - ģimenes ārsta prakse | D184: 03083 | E184: Piemaksa manipulācijai 03081 par pacienta Covid-19 vakcinēšanu | F184: 2.05 | G184: 11 | H184: =F184*G184 -> 22.55 | I184: =H184 -> 22.55
A185: NVD Rīgas nodaļa | B185: 010001210 | C185: Hedvigas Kronbergas ģimenes ārsta prakse, SIA | D185: 03083 | E185: Piemaksa manipulācijai 03081 par pacienta Covid-19 vakcinēšanu | F185: 2.05 | G185: 1 | H185: =F185*G185 -> 2.05 | I185: =H185 -> 2.05
A186: NVD Rīgas nodaļa | B186: 010001434 | C186: Katedra, Sabiedrība ar ierobežotu atbildību | D186: 03083 | E186: Piemaksa manipulācijai 03081 par pacienta Covid-19 vakcinēšanu | F186: 2.05 | G186: 4 | H186: =F186*G186 -> 8.2 | I186: =H186 -> 8.2
A187: NVD Rīgas nodaļa | B187: 010001485 | C187: J.Gulbes ģimenes ārsta prakse, Sabiedrība ar ierobežotu atbildību | D187: 03083 | E187: Piemaksa manipulācijai 03081 par pacienta Covid-19 vakcinēšanu | F187: 2.05 | G187: 9 | H187: =F187*G187 -> 18.45 | I187: =H187 -> 18.45
A188: NVD Rīgas nodaļa | B188: 010001498 | C188: Draška Rita - ģimenes ārsta prakse | D188: 03083 | E188: Piemaksa manipulācijai 03081 par pacienta Covid-19 vakcinēšanu | F188: 2.05 | G188: 1 | H188: =F188*G188 -> 2.05 | I188: =H188 -> 2.05
A189: NVD Rīgas nodaļa | B189: 010001499 | C189: Ponne Inguna - ģimenes ārsta prakse | D189: 03083 | E189: Piemaksa manipulācijai 03081 par pacienta Covid-19 vakcinēšanu | F189: 2.05 | G189: 1 | H189: =F189*G189 -> 2.05 | I189: =H189 -> 2.05
...

Sheet Vakc_stac_junijs
G1: Pielikums Nr.10 Ministru kabineta rīkojuma "Par finanšu līdzekļu piešķiršanu no valsts budžeta programmas "Finansējums veselības jomas pasākumiem Covid-19 infekcijas izplatības ierobežošanai"" projekta sākotnējās ietekmes novērtējuma ziņojumam (anotācijai)
A2: Piemaksa par Covid-19 vakcināciju stacionāros no 2021.gada decembra līdz 2022.gada maijam pacientiem, kuri izrakstīti no stacionāra 2022.gada jūnijā*
A3: Ārstniecības iestādes nosaukums | B3: Manipulācijas kods | C3: Manupulācijas nosaukums | D3: Tarifs, euro | E3: Decembris, 2021 | F3: Janvāris, 2022 | G3: Februāris, 2022 | H3: Marts, 2022 | I3: Maijs, 2022 | J3: Summa, euro
A4: Daugavpils psihoneiroloģiskā slimnīca | B4: 03081 | C4: Vakcīnas ievadīšana ādā, zemādā un muskulī | D4: 1.1 | F4: 1 | G4: 1 | I4: 1 | J4: =ROUND(D4*E4+D4*F4+D4*G4+D4*H4+D4*I4,2) -> 3.3
A5: Daugavpils psihoneiroloģiskā slimnīca | B5: 03083 | C5: Piemaksa manipulācijai 03081 par pacienta Covid-19 vakcinēšanu | D5: 2.05 | F5: 1 | G5: 1 | I5: 1 | J5: =ROUND(D5*E5+D5*F5+D5*G5+D5*H5+D5*I5,2) -> 6.15
A6: Daugavpils psihoneiroloģiskā slimnīca | B6: 03098 | C6: Piemaksa manipulācijai 01018 par ārstniecības personu darbu Covid-19 vakcinācijas kabinetā | D6: 1.36 | F6: 1 | G6: 1 | I6: 1 | J6: =ROUND(D6*E6+D6*F6+D6*G6+D6*H6+D6*I6,2) -> 4.08
A7: Paula Stradiņa klīniskā universitātes slimnīca | B7: 03081 | C7: Vakcīnas ievadīšana ādā, zemādā un muskulī | D7: 1.04 | E7: 1 | J7: =ROUND(D7*E7+D7*F7+D7*G7+D7*H7+D7*I7,2) -> 1.04
A8: Paula Stradiņa klīniskā universitātes slimnīca | B8: 03081 | C8: Vakcīnas ievadīšana ādā, zemādā un muskulī | D8: 1.1 | F8: 6 | G8: 3 | H8: 2 | J8: =ROUND(D8*E8+D8*F8+D8*G8+D8*H8+D8*I8,2) -> 12.1
A9: Paula Stradiņa klīniskā universitātes slimnīca | B9: 03083 | C9: Piemaksa manipulācijai 03081 par pacienta Covid-19 vakcinēšanu | D9: 1.96 | E9: 1 | J9: =ROUND(D9*E9+D9*F9+D9*G9+D9*H9+D9*I9,2) -> 1.96
A10: Paula Stradiņa klīniskā universitātes slimnīca | B10: 03083 | C10: Piemaksa manipulācijai 03081 par pacienta Covid-19 vakcinēšanu | D10: 2.05 | F10: 6 | G10: 3 | H10: 2 | J10: =ROUND(D10*E10+D10*F10+D10*G10+D10*H10+D10*I10,2) -> 22.55
A11: Paula Stradiņa klīniskā universitātes slimnīca | B11: 03098 | C11: Piemaksa manipulācijai 01018 par ārstniecības personu darbu Covid-19 vakcinācijas kabinetā | D11: 1.3 | E11: 1 | J11: =ROUND(D11*E11+D11*F11+D11*G11+D11*H11+D11*I11,2) -> 1.3
A12: Paula Stradiņa klīniskā universitātes slimnīca | B12: 03098 | C12: Piemaksa manipulācijai 01018 par ārstniecības personu darbu Covid-19 vakcinācijas kabinetā | D12: 1.36 | F12: 6 | G12: 3 | H12: 2 | J12: =ROUND(D12*E12+D12*F12+D12*G12+D12*H12+D12*I12,2) -> 14.96
A13: Rīgas Austrumu klīniskā universitātes slimnīca | B13: 03081 | C13: Vakcīnas ievadīšana ādā, zemādā un muskulī | D13: 1.1 | F13: 1 | G13: 4 | J13: =ROUND(D13*E13+D13*F13+D13*G13+D13*H13+D13*I13,2) -> 5.5
A14: Rīgas Austrumu klīniskā universitātes slimnīca | B14: 03083 | C14: Piemaksa manipulācijai 03081 par pacienta Covid-19 vakcinēšanu | D14: 2.05 | F14: 1 | G14: 4 | J14: =ROUND(D14*E14+D14*F14+D14*G14+D14*H14+D14*I14,2) -> 10.25
A15: Rīgas Austrumu klīniskā universitātes slimnīca | B15: 03098 | C15: Piemaksa manipulācijai 01018 par ārstniecības personu darbu Covid-19 vakcinācijas kabinetā | D15: 1.36 | F15: 1 | G15: 4 | J15: =ROUND(D15*E15+D15*F15+D15*G15+D15*H15+D15*I15,2) -> 6.8
A16: Kopā: | J16: =SUM(J4:J15) -> 89.99
J17: =ROUNDUP(J16,0) -> 90
A18: * Manipulāciju skaits tiek iegūts tikai, kad pacients tiek izrakstīts un karte ievadīta Vadības informācijas sistēmā (atbilstoši līgumam par stacionārās veselības aprūpes pakalpojumu sniegšanu un apmaksu starp Nacionālo Veselības Dienestu (turpmāk Dienests) un ārstniecības iestādi 3. pielikumam, Informācijas apmaiņas kārtība, Dienests apmaksā kartes, kas ievadītas ne vēlāk kā 60 dienas pēc izrakstīšanās datuma). Ārstniecības iestāde kartes var labot līdz nākošā kalendārā gada 8. janvārim. Lai iegūtu precīzu apmaksājamo manipulāciju skaitu, Dienests salīdzina iepriekšējos mēnešos veikto manipulāciju skaitu un apmaksā starpību starp veikto manipulāciju skaitu un jau samaksāto manipulāciju skaitu atbilstoši manipulāciju tarifiem. Ņemot vērā, to ka pacients tika izrakstīts jūnija mēnesī, līdz ar to karte par pacientu tiek ievadīta Vadības informācijas sistēmā arī jūnija mēnesī.
