Workbook
Name Recover: [1]Macro1!$A$99
Name Rikojums2222: [2]Macro1!$A$106
Name TableName: "Dummy"

Sheet KOPĀ
G1: Pielikums Nr.1 Ministru kabineta rīkojuma "Par finanšu līdzekļu piešķiršanu no valsts budžeta programmas "Finansējums veselības jomas pasākumiem Covid-19 infekcijas izplatības ierobežošanai"" projekta sākotnējās ietekmes novērtējuma ziņojumam (anotācijai)
A2: Vakcīnu ievade:
B3: KOPĀ | C3: Euro, EKK 3000 | D3: Euro, EKK 7460 | E3: Sadalījums pa apakšprogrammām
A4: Vakcinācija: | B4: =SUM(B5:B13) -> 225198 | C4: =SUM(C5:C13) -> 223303 | D4: =SUM(D5:D13) -> 1895
A5: Veiktais darbs 2022.gada aprīlī par Covid-19 vakcinācijas saistītām manipulācijām (SAVA) | B5: =C5+D5 -> 62636 | C5: =Vakc_SAVA_aprilis!I4 -> 62499 | D5: =Vakc_SAVA_aprilis!J4 -> 137 | E5: 33.16.00 "Pārējo ambulatoro veselības aprūpes pakalpojumu nodrošināšana"
A6: Veiktais darbs 2022.gada aprīlī par Covid-19 vakcinācijas saistītām manipulācijām ģimenes ārstiem (PVA) | B6: =C6+D6 -> 33885 | C6: =Vakc_PVA_aprilis!I4 -> 33129 | D6: =Vakc_PVA_aprilis!J4 -> 756 | E6: 33.16.00 "Pārējo ambulatoro veselības aprūpes pakalpojumu nodrošināšana"
A7: Veiktais darbs 2022.gada aprīlī par Covid-19 manipulācijām stacionāros no 2021.gada novembra līdz 2022.gada martam pacientiem, kuri izrakstīti no stacionāra 2022.gada aprīlī | B7: =C7+D7 -> 63 | C7: =Vakc_stac_aprilis!J21 -> 63 | E7: 33.18.00 "Plānveida stacionāro veselības aprūpes pakalpojumu nodrošināšana"
A8: Veiktais darbs 2022.gada maijā par Covid-19 vakcinācijas saistītām manipulācijām (SAVA) | B8: =C8+D8 -> 40332 | C8: =Vakc_SAVA_maijs!J4 -> 39817 | D8: =Vakc_SAVA_maijs!K4 -> 515 | E8: 33.16.00 "Pārējo ambulatoro veselības aprūpes pakalpojumu nodrošināšana"
A9: Veiktais darbs 2022.gada maijā par Covid-19 vakcinācijas saistītām manipulācijām ģimenes ārstiem (PVA) | B9: =C9+D9 -> 22679 | C9: =Vakc_PVA_maijs!I4 -> 22569 | D9: =Vakc_PVA_maijs!J4 -> 110 | E9: 33.16.00 "Pārējo ambulatoro veselības aprūpes pakalpojumu nodrošināšana"
A10: Veiktais darbs 2022.gada maijā par Covid-19 manipulācijām stacionāros no 2022.gada janvāra līdz 2022.gada maijam pacientiem, kuri izrakstīti no stacionāra 2022.gada maijā | B10: =C10+D10 -> 14 | C10: =Vakc_stac_maijs!H11 -> 14 | E10: 33.18.00 "Plānveida stacionāro veselības aprūpes pakalpojumu nodrošināšana"
A11: Veiktais darbs 2022.gada jūnijā par Covid-19 vakcinācijas saistītām manipulācijām (SAVA) | B11: =C11+D11 -> 53352 | C11: =Vakc_SAVA_junijs!I4 -> 53124 | D11: =Vakc_SAVA_junijs!J4 -> 228 | E11: 33.16.00 "Pārējo ambulatoro veselības aprūpes pakalpojumu nodrošināšana"
A12: Veiktais darbs 2022.gada jūnijā par Covid-19 vakcinācijas saistītām manipulācijām ģimenes ārstiem (PVA) | B12: =C12+D12 -> 12147 | C12: =Vakc_PVA_junijs!I4 -> 11998 | D12: =Vakc_PVA_junijs!J4 -> 149 | E12: 33.16.00 "Pārējo ambulatoro veselības aprūpes pakalpojumu nodrošināšana"
A13: Veiktais darbs 2022.gada jūnijā par Covid-19 manipulācijām stacionāros 2021.gada decembra līdz 2022.gada maijam pacientiem, kuri izrakstīti no stacionāra 2022.gada jūnijā | B13: =C13+D13 -> 90 | C13: =Vakc_stac_junijs!J17 -> 90 | E13: 33.18.00 "Plānveida stacionāro veselības aprūpes pakalpojumu nodrošināšana"
A16: Saņemtie rēķini par vakcīnu uzglabāšanas, loģistikas nodrošināšanu un šļirču un injekcijas šķīdumu iegādi:
A17: Ražotājs | B17: Pasākums | C17: Rēķina datums | D17: Rēķins | E17: Cena, euro | F17: Apmaksājamā summa, euro | G17: Euro, EKK 3000 | H17: Sadalījums pa apakšprogrammām
A18: A S Recipe Plus | B18: vakcīnu loģistika | C18: 3.05.2022. | D18: RCP22232428 | E18: skat., rēķinu | F18: 597.54
A19: A S Recipe Plus | B19: vakcīnu loģistika | C19: 08.06.2022. | D19: RCP22302388 | E19: skat., rēķinu | F19: 623.52
A20: A S Recipe Plus | B20: vakcīnu loģistika | C20: 01.07.2022. | D20: RCP22344843 | E20: skat., rēķinu | F20: 389.7
A21: A S Recipe Plus | B21: vakcīnu loģistika | C21: 03.05.2022. | D21: RCP22232429 | E21: skat., rēķinu | F21: 1484.63
A22: A S Recipe Plus | B22: vakcīnu loģistika | C22: 08.06.2022. | D22: RCP22302390 | E22: skat., rēķinu | F22: 1776.88
A23: A S Recipe Plus | B23: vakcīnu loģistika | C23: 01.07.2022. | D23: RCP22344844 | E23: skat., rēķinu | F23: 806.61
A24: SIA "Magnum Medical" | B24: vakcīnu loģistika | C24: 03.05.2022. | D24: 14753 | E24: skat., rēķinu | F24: 1786.4
A25: SIA "Magnum Medical" | B25: vakcīnu loģistika | C25: 03.06.2022. | D25: 14944 | E25: skat., rēķinu | F25: 1754.5
A26: SIA "Magnum Medical" | B26: vakcīnu loģistika | C26: 04.07.2022. | D26: 15148 | E26: skat., rēķinu | F26: 733.7
A27: SIA "Magnum Medical" | B27: vakcīnu uzglabāšana | C27: 03.05.2022. | D27: 14754 | E27: skat., rēķinu | F27: 29890.22
A28: SIA "Magnum Medical" | B28: vakcīnu uzglabāšana | C28: 03.06.2022. | D28: 14945 | E28: skat., rēķinu | F28: 29890.22
A29: SIA "Magnum Medical" | B29: vakcīnu uzglabāšana | C29: 04.07.2022. | D29: 15149 | E29: skat., rēķinu | F29: 29890.22
A30: Uzglabāšana / loģistika kopā : | F30: =SUM(F18:F29) -> 99624.14
A31: AS "Recipe Plus" | B31: šļirces | C31: 13.07.2022. | D31: RCP22366221 | E31: skat., rēķinu | F31: 25000
A32: Šļirces un injekciju šķīdumi kopā : | F32: =F31 -> 25000
A33: Kopā, euro: | F33: =ROUNDUP(F30+F32,0) -> 124625 | G33: =F33 -> 124625 | H33: 33.04.00 “Centralizēta medikamentu un materiālu iegāde”
E38: Pavisam kopā, euro | F38: =B4+F33 -> 349823

Sheet Vakc_SAVA_aprilis
G1: Pielikums Nr.2 Ministru kabineta rīkojuma "Par finanšu līdzekļu piešķiršanu no valsts budžeta programmas "Finansējums veselības jomas pasākumiem Covid-19 infekcijas izplatības ierobežošanai"" projekta sākotnējās ietekmes novērtējuma ziņojumam (anotācijai)
A2: Veiktais darbs 2022.gada aprīlī par COVID-19 vakcinācijas saistītām manipulācijām SAVA programmās
A3: NVD TN | B3: Ārstniecības iestādes kods | C3: Ārstniecības iestādes nosaukums | D3: Manipulācijas kods | E3: Manipulācijas nosaukums | F3: Manipulāciju tarifs, euro | G3: Manipulāciju skaits kopā | H3: Pakalpojumu summa kopā, euro | I3: EKK 3000 | J3: EKK 7460
A4: Kopā: | G4: =SUM(G5:G330) -> 28574 | H4: =I4+J4 -> 62636 | I4: =ROUNDUP(SUM(I5:I330),0) -> 62499 | J4: =ROUNDUP(SUM(J5:J330),0) -> 137
A5: NVD Kurzemes nodaļa | B5: 170024101 | C5: VECLIEPĀJAS PRIMĀRĀS VESELĪBAS APRŪPES CENTRS, Pašvaldības Sabiedrība ar ierobežotu atbildību | D5: 01018 | E5: Ārsta konsultācija pirms vakcinācijas. Nenorāda kopā ar manipulāciju 01061, 60443 un 60444 | F5: 3.54 | G5: 36 | H5: =F5*G5 -> 127.44 | I5: =H5 -> 127.44
A6: NVD Kurzemes nodaļa | B6: 170065204 | C6: L. ATIĶES DOKTORĀTS, SIA | D6: 01018 | E6: Ārsta konsultācija pirms vakcinācijas. Nenorāda kopā ar manipulāciju 01061, 60443 un 60444 | F6: 3.54 | G6: 106 | H6: =F6*G6 -> 375.24 | I6: =H6 -> 375.24
A7: NVD Kurzemes nodaļa | B7: 270020302 | C7: Ziemeļkurzemes reģionālā slimnīca, SIA | D7: 01018 | E7: Ārsta konsultācija pirms vakcinācijas. Nenorāda kopā ar manipulāciju 01061, 60443 un 60444 | F7: 3.54 | G7: 22 | H7: =F7*G7 -> 77.88 | I7: =H7 -> 77.88
A8: NVD Kurzemes nodaļa | B8: 620200038 | C8: Kuldīgas slimnīca, Sabiedrība ar ierobežotu atbildību | D8: 01018 | E8: Ārsta konsultācija pirms vakcinācijas. Nenorāda kopā ar manipulāciju 01061, 60443 un 60444 | F8: 3.54 | G8: 28 | H8: =F8*G8 -> 99.12 | I8: =H8 -> 99.12
A9: NVD Kurzemes nodaļa | B9: 880200016 | C9: TALSU VESELĪBAS CENTRS, SIA | D9: 01018 | E9: Ārsta konsultācija pirms vakcinācijas. Nenorāda kopā ar manipulāciju 01061, 60443 un 60444 | F9: 3.54 | G9: 30 | H9: =F9*G9 -> 106.2 | I9: =H9 -> 106.2
A10: NVD Latgales nodaļa | B10: 050012101 | C10: Daugavpils psihoneiroloģiskā slimnīca, Valsts sabiedrība ar ierobežotu atbildību | D10: 01018 | E10: Ārsta konsultācija pirms vakcinācijas. Nenorāda kopā ar manipulāciju 01061, 60443 un 60444 | F10: 3.54 | G10: 13 | H10: =F10*G10 -> 46.02 | I10: =H10 -> 46.02
A11: NVD Latgales nodaļa | B11: 050020401 | C11: Daugavpils reģionālā slimnīca, Sabiedrība ar ierobežotu atbildību | D11: 01018 | E11: Ārsta konsultācija pirms vakcinācijas. Nenorāda kopā ar manipulāciju 01061, 60443 un 60444 | F11: 3.54 | G11: 94 | H11: =F11*G11 -> 332.76 | I11: =H11 -> 332.76
A12: NVD Latgales nodaļa | B12: 680200030 | C12: Ludzas medicīnas centrs, Sabiedrība ar ierobežotu atbildību | D12: 01018 | E12: Ārsta konsultācija pirms vakcinācijas. Nenorāda kopā ar manipulāciju 01061, 60443 un 60444 | F12: 3.54 | G12: 28 | H12: =F12*G12 -> 99.12 | I12: =H12 -> 99.12
A13: NVD Rīgas nodaļa | B13: 001000043 | C13: Apotheka, SIA | D13: 01018 | E13: Ārsta konsultācija pirms vakcinācijas. Nenorāda kopā ar manipulāciju 01061, 60443 un 60444 | F13: 3.54 | G13: 1 | H13: =F13*G13 -> 3.54 | I13: =H13 -> 3.54
A14: NVD Rīgas nodaļa | B14: 010000171 | C14: I. Paturskas ģimenes veselības centrs, Sabiedrība ar ierobežotu atbildību | D14: 01018 | E14: Ārsta konsultācija pirms vakcinācijas. Nenorāda kopā ar manipulāciju 01061, 60443 un 60444 | F14: 3.54 | G14: 29 | H14: =F14*G14 -> 102.66 | I14: =H14 -> 102.66
A15: NVD Rīgas nodaļa | B15: 010000234 | C15: Rīgas Austrumu klīniskā universitātes slimnīca, SIA | D15: 01018 | E15: Ārsta konsultācija pirms vakcinācijas. Nenorāda kopā ar manipulāciju 01061, 60443 un 60444 | F15: 3.54 | G15: 164 | H15: =F15*G15 -> 580.56 | I15: =H15 -> 580.56
A16: NVD Rīgas nodaļa | B16: 010001411 | C16: ĀRSTNIECĪBAS REHABILITĀCIJAS CENTRS VALEO, Sabiedrība ar ierobežotu atbildību | D16: 01018 | E16: Ārsta konsultācija pirms vakcinācijas. Nenorāda kopā ar manipulāciju 01061, 60443 un 60444 | F16: 3.54 | G16: 18 | H16: =F16*G16 -> 63.72 | I16: =H16 -> 63.72
... A58: NVD Rīgas nodaļa | B58: 801200001 | C58: Salaspils veselības centrs, Sabiedrība ar ierobežotu atbildību | D58: 01019 | E58: Ārsta palīga vai vecmātes konsultācija pirms vakcinācijas | F58: 1.97 | G58: 119 | H58: =F58*G58 -> 234.43 | I58: =H58 -> 234.43
A59: NVD Rīgas nodaļa | B59: 801400002 | C59: Saulkrastu veselības un sociālās aprūpes centrs, Pašvaldības aģentūra | D59: 01019 | E59: Ārsta palīga vai vecmātes konsultācija pirms vakcinācijas | F59: 1.97 | G59: 18 | H59: =F59*G59 -> 35.46 | J59: =H59 -> 35.46
A60: NVD Rīgas nodaļa | B60: 804400029 | C60: Minute Clinic, SIA | D60: 01019 | E60: Ārsta palīga vai vecmātes konsultācija pirms vakcinācijas | F60: 1.97 | G60: 6 | H60: =F60*G60 -> 11.82 | I60: =H60 -> 11.82
A61: NVD Vidzemes nodaļa | B61: 250000092 | C61: Vidzemes slimnīca, Sabiedrība ar ierobežotu atbildību | D61: 01019 | E61: Ārsta palīga vai vecmātes konsultācija pirms vakcinācijas | F61: 1.97 | G61: 49 | H61: =F61*G61 -> 96.53 | I61: =H61 -> 96.53
A62: NVD Vidzemes nodaļa | B62: 700200041 | C62: Madonas slimnīca, Madonas novada pašvaldības SIA | D62: 01019 | E62: Ārsta palīga vai vecmātes konsultācija pirms vakcinācijas | F62: 1.97 | G62: 29 | H62: =F62*G62 -> 57.13 | I62: =H62 -> 57.13
A63: NVD Zemgales nodaļa | B63: 110000048 | C63: Jēkabpils reģionālā slimnīca, Sabiedrība ar ierobežotu atbildību | D63: 01019 | E63: Ārsta palīga vai vecmātes konsultācija pirms vakcinācijas | F63: 1.97 | G63: 108 | H63: =F63*G63 -> 212.76 | I63: =H63 -> 212.76
A64: NVD Rīgas nodaļa | B64: 010054114 | C64: DZELZCEĻA VESELĪBAS CENTRS, Sabiedrība ar ierobežotu atbildību | D64: 03048 | E64: Piemaksa manipulācijai 01018 vai 03095 par ārsta darbu Covid-19 vakcinācijas kabinetā brīvdienās un svētku dienās | F64: 3.27 | G64: 60 | H64: =F64*G64 -> 196.2 | I64: =H64 -> 196.2
A65: NVD Rīgas nodaļa | B65: 010064120 | C65: Veselības centru apvienība, AS | D65: 03048 | E65: Piemaksa manipulācijai 01018 vai 03095 par ārsta darbu Covid-19 vakcinācijas kabinetā brīvdienās un svētku dienās | F65: 3.27 | G65: 128 | H65: =F65*G65 -> 418.56 | I65: =H65 -> 418.56
A66: NVD Rīgas nodaļa | B66: 804400029 | C66: Minute Clinic, SIA | D66: 03048 | E66: Piemaksa manipulācijai 01018 vai 03095 par ārsta darbu Covid-19 vakcinācijas kabinetā brīvdienās un svētku dienās | F66: 3.27 | G66: 3 | H66: =F66*G66 -> 9.81 | I66: =H66 -> 9.81
A67: NVD Vidzemes nodaļa | B67: 500200052 | C67: Balvu un Gulbenes slimnīcu apvienība, Sabiedrība ar ierobežotu atbildību | D67: 03048 | E67: Piemaksa manipulācijai 01018 vai 03095 par ārsta darbu Covid-19 vakcinācijas kabinetā brīvdienās un svētku dienās | F67: 3.27 | G67: 1 | H67: =F67*G67 -> 3.27 | I67: =H67 -> 3.27
A68: NVD Rīgas nodaļa | B68: 010054114 | C68: DZELZCEĻA VESELĪBAS CENTRS, Sabiedrība ar ierobežotu atbildību | D68: 03049 | E68: Piemaksa manipulācijām 03081 un 01019 vai 03096 par māsas, ārsta palīga darbu Covid-19 vakcinācijas kabinetā brīvdienās un svētku dienās | F68: 1.96 | G68: 60 | H68: =F68*G68 -> 117.6 | I68: =H68 -> 117.6
A69: NVD Rīgas nodaļa | B69: 010064111 | C69: Dziedniecība, Sabiedrība ar ierobežotu atbildību | D69: 03049 | E69: Piemaksa manipulācijām 03081 un 01019 vai 03096 par māsas, ārsta palīga darbu Covid-19 vakcinācijas kabinetā brīvdienās un svētku dienās | F69: 1.96 | G69: 1 | H69: =F69*G69 -> 1.96 | I69: =H69 -> 1.96
A70: NVD Rīgas nodaļa | B70: 010064114 | C70: VESELĪBAS CENTRS 4, Sabiedrība ar ierobežotu atbildību | D70: 03049 | E70: Piemaksa manipulācijām 03081 un 01019 vai 03096 par māsas, ārsta palīga darbu Covid-19 vakcinācijas kabinetā brīvdienās un svētku dienās | F70: 1.96 | G70: 116 | H70: =F70*G70 -> 227.36 | I70: =H70 -> 227.36
A71: NVD Rīgas nodaļa | B71: 010064120 | C71: Veselības centru apvienība, AS | D71: 03049 | E71: Piemaksa manipulācijām 03081 un 01019 vai 03096 par māsas, ārsta palīga darbu Covid-19 vakcinācijas kabinetā brīvdienās un svētku dienās | F71: 1.96 | G71: 130 | H71: =F71*G71 -> 254.8 | I71: =H71 -> 254.8
... A112: NVD Rīgas nodaļa | B112: 801200001 | C112: Salaspils veselības centrs, Sabiedrība ar ierobežotu atbildību | D112: 03081 | E112: Vakcīnas ievadīšana ādā, zemādā un muskulī | F112: 1.1 | G112: 119 | H112: =F112*G112 -> 130.9 | I112: =H112 -> 130.9
A113: NVD Rīgas nodaļa | B113: 801400002 | C113: Saulkrastu veselības un sociālās aprūpes centrs, Pašvaldības aģentūra | D113: 03081 | E113: Vakcīnas ievadīšana ādā, zemādā un muskulī | F113: 1.1 | G113: 18 | H113: =F113*G113 -> 19.8 | J113: =H113 -> 19.8
A114: NVD Rīgas nodaļa | B114: 801600003 | C114: Siguldas slimnīca, SIA | D114: 03081 | E114: Vakcīnas ievadīšana ādā, zemādā un muskulī | F114: 1.1 | G114: 21 | H114: =F114*G114 -> 23.1 | I114: =H114 -> 23.1
A115: NVD Rīgas nodaļa | B115: 804400029 | C115: Minute Clinic, SIA | D115: 03081 | E115: Vakcīnas ievadīšana ādā, zemādā un muskulī | F115: 1.1 | G115: 6 | H115: =F115*G115 -> 6.6 | I115: =H115 -> 6.6
A116: NVD Vidzemes nodaļa | B116: 250000087 | C116: VALMIERAS VESELĪBAS CENTRS, SIA | D116: 03081 | E116: Vakcīnas ievadīšana ādā, zemādā un muskulī | F116: 1.1 | G116: 67 | H116: =F116*G116 -> 73.7 | I116: =H116 -> 73.7
A117: NVD Vidzemes nodaļa | B117: 250000092 | C117: Vidzemes slimnīca, Sabiedrība ar ierobežotu atbildību | D117: 03081 | E117: Vakcīnas ievadīšana ādā, zemādā un muskulī | F117: 1.1 | G117: 49 | H117: =F117*G117 -> 53.9 | I117: =H117 -> 53.9
A118: NVD Vidzemes nodaļa | B118: 421200001 | C118: Rehabilitācijas centrs "Līgatne", SIA | D118: 03081 | E118: Vakcīnas ievadīšana ādā, zemādā un muskulī | F118: 1.1 | G118: 5 | H118: =F118*G118 -> 5.5 | I118: =H118 -> 5.5
A119: NVD Vidzemes nodaļa | B119: 500200052 | C119: Balvu un Gulbenes slimnīcu apvienība, Sabiedrība ar ierobežotu atbildību | D119: 03081 | E119: Vakcīnas ievadīšana ādā, zemādā un muskulī | F119: 1.1 | G119: 18 | H119: =F119*G119 -> 19.8 | I119: =H119 -> 19.8
A120: NVD Vidzemes nodaļa | B120: 660200027 | C120: Limbažu slimnīca, Sabiedrība ar ierobežotu atbildību | D120: 03081 | E120: Vakcīnas ievadīšana ādā, zemādā un muskulī | F120: 1.1 | G120: 13 | H120: =F120*G120 -> 14.3 | I120: =H120 -> 14.3
A121: NVD Vidzemes nodaļa | B121: 700200041 | C121: Madonas slimnīca, Madonas novada pašvaldības SIA | D121: 03081 | E121: Vakcīnas ievadīšana ādā, zemādā un muskulī | F121: 1.1 | G121: 29 | H121: =F121*G121 -> 31.9 | I121: =H121 -> 31.9
...

Sheet Vakc_PVA_aprilis
G1: Pielikums Nr.3 Ministru kabineta rīkojuma "Par finanšu līdzekļu piešķiršanu no valsts budžeta programmas "Finansējums veselības jomas pasākumiem Covid-19 infekcijas izplatības ierobežošanai"" projekta sākotnējās ietekmes novērtējuma ziņojumam (anotācijai)
A2: Veiktais darbs 2022.gada aprīlī par COVID-19 vakcinācijas saistītām manipulācijām ģimenes ārstiem: (Diagnoze - U11 Nepieciešamība veikt imunizāciju pret Covid-19, U11.9 Nepieciešamība imunizēt pret Covid-19, bez precizējuma)
A3: NVD TN | B3: Ārstniecības iestādes kods | C3: Ārstniecības iestādes nosaukums | D3: Manipulācijas kods | E3: Manipulācijas nosaukums | F3: Manipilāciju tarifs, euro | G3: Manipulāciju skaits kopā | H3: Pakalpojumu summa kopā, euro | I3: EKK 3000 | J3: EKK 7460
A4: Kopā: | G4: =SUM(G5:G986) -> 8656 | H4: =I4+J4 -> 33885 | I4: =ROUNDUP(SUM(I5:I986),0) -> 33129 | J4: =ROUNDUP(SUM(J5:J986),0) -> 756
A5: NVD Kurzemes nodaļa | B5: 027000001 | C5: Dr.Katerynas prakse, SIA | D5: 01018 | E5: Ārsta konsultācija pirms vakcinācijas. Nenorāda kopā ar manipulāciju 01061, 60443 un 60444 | F5: 3.54 | G5: 4 | H5: =F5*G5 -> 14.16 | I5: =H5 -> 14.16
A6: NVD Kurzemes nodaļa | B6: 170000116 | C6: Rutkovska Diana - ģimenes ārsta prakse | D6: 01018 | E6: Ārsta konsultācija pirms vakcinācijas. Nenorāda kopā ar manipulāciju 01061, 60443 un 60444 | F6: 3.54 | G6: 3 | H6: =F6*G6 -> 10.62 | I6: =H6 -> 10.62
A7: NVD Kurzemes nodaļa | B7: 170000190 | C7: Liepājas ģimenes veselības centrs, SIA | D7: 01018 | E7: Ārsta konsultācija pirms vakcinācijas. Nenorāda kopā ar manipulāciju 01061, 60443 un 60444 | F7: 3.54 | G7: 8 | H7: =F7*G7 -> 28.32 | I7: =H7 -> 28.32
A8: NVD Kurzemes nodaļa | B8: 170075405 | C8: Celma Violeta - ģimenes ārsta prakse | D8: 01018 | E8: Ārsta konsultācija pirms vakcinācijas. Nenorāda kopā ar manipulāciju 01061, 60443 un 60444 | F8: 3.54 | G8: 2 | H8: =F8*G8 -> 7.08 | I8: =H8 -> 7.08
A9: NVD Kurzemes nodaļa | B9: 170075443 | C9: Jēkule Linda - ģimenes ārsta prakse | D9: 01018 | E9: Ārsta konsultācija pirms vakcinācijas. Nenorāda kopā ar manipulāciju 01061, 60443 un 60444 | F9: 3.54 | G9: 4 | H9: =F9*G9 -> 14.16 | I9: =H9 -> 14.16
A10: NVD Kurzemes nodaļa | B10: 270000015 | C10: Ivanova Alla - ģimenes ārsta prakse | D10: 01018 | E10: Ārsta konsultācija pirms vakcinācijas. Nenorāda kopā ar manipulāciju 01061, 60443 un 60444 | F10: 3.54 | G10: 1 | H10: =F10*G10 -> 3.54 | I10: =H10 -> 3.54
A11: NVD Kurzemes nodaļa | B11: 270000016 | C11: Sendže Gaļina - ģimenes ārsta prakse | D11: 01018 | E11: Ārsta konsultācija pirms vakcinācijas. Nenorāda kopā ar manipulāciju 01061, 60443 un 60444 | F11: 3.54 | G11: 1 | H11: =F11*G11 -> 3.54 | I11: =H11 -> 3.54
A12: NVD Kurzemes nodaļa | B12: 270000032 | C12: Grospiņš Andis - ģimenes ārsta un arodveselības un arodslimību ārsta prakse | D12: 01018 | E12: Ārsta konsultācija pirms vakcinācijas. Nenorāda kopā ar manipulāciju 01061, 60443 un 60444 | F12: 3.54 | G12: 9 | H12: =F12*G12 -> 31.86 | I12: =H12 -> 31.86
A13: NVD Kurzemes nodaļa | B13: 270075401 | C13: Zviedrīte Lelde - ģimenes ārsta prakse | D13: 01018 | E13: Ārsta konsultācija pirms vakcinācijas. Nenorāda kopā ar manipulāciju 01061, 60443 un 60444 | F13: 3.54 | G13: 1 | H13: =F13*G13 -> 3.54 | I13: =H13 -> 3.54
A14: NVD Kurzemes nodaļa | B14: 270075405 | C14: Inas Zemtures ģimenes ārsta-pediatra prakse, SIA | D14: 01018 | E14: Ārsta konsultācija pirms vakcinācijas. Nenorāda kopā ar manipulāciju 01061, 60443 un 60444 | F14: 3.54 | G14: 3 | H14: =F14*G14 -> 10.62 | I14: =H14 -> 10.62
A15: NVD Kurzemes nodaļa | B15: 620200025 | C15: Cakule Gita - ģimenes ārsta prakse | D15: 01018 | E15: Ārsta konsultācija pirms vakcinācijas. Nenorāda kopā ar manipulāciju 01061, 60443 un 60444 | F15: 3.54 | G15: 1 | H15: =F15*G15 -> 3.54 | I15: =H15 -> 3.54
A16: NVD Kurzemes nodaļa | B16: 624275402 | C16: Būmeistere Lija - ģimenes ārsta prakse | D16: 01018 | E16: Ārsta konsultācija pirms vakcinācijas. Nenorāda kopā ar manipulāciju 01061, 60443 un 60444 | F16: 3.54 | G16: 1 | H16: =F16*G16 -> 3.54 | I16: =H16 -> 3.54
... A52: NVD Rīgas nodaļa | B52: 010000021 | C52: Harmonija Plus, SIA | D52: 01018 | E52: Ārsta konsultācija pirms vakcinācijas. Nenorāda kopā ar manipulāciju 01061, 60443 un 60444 | F52: 3.54 | G52: 1 | H52: =F52*G52 -> 3.54 | I52: =H52 -> 3.54
A53: NVD Rīgas nodaļa | B53: 010000061 | C53: Rīgas patversme | D53: 01018 | E53: Ārsta konsultācija pirms vakcinācijas. Nenorāda kopā ar manipulāciju 01061, 60443 un 60444 | F53: 3.54 | G53: 71 | H53: =F53*G53 -> 251.34 | J53: =H53 -> 251.34
A54: NVD Rīgas nodaļa | B54: 010000243 | C54: Zitmane Zane - ģimenes ārsta prakse | D54: 01018 | E54: Ārsta konsultācija pirms vakcinācijas. Nenorāda kopā ar manipulāciju 01061, 60443 un 60444 | F54: 3.54 | G54: 3 | H54: =F54*G54 -> 10.62 | I54: =H54 -> 10.62
A55: NVD Rīgas nodaļa | B55: 010000327 | C55: Geletko Tatjana - ģimenes ārsta prakse | D55: 01018 | E55: Ārsta konsultācija pirms vakcinācijas. Nenorāda kopā ar manipulāciju 01061, 60443 un 60444 | F55: 3.54 | G55: 3 | H55: =F55*G55 -> 10.62 | I55: =H55 -> 10.62
A56: NVD Rīgas nodaļa | B56: 010000346 | C56: Kaļinkina Iļmira - ģimenes ārsta prakse | D56: 01018 | E56: Ārsta konsultācija pirms vakcinācijas. Nenorāda kopā ar manipulāciju 01061, 60443 un 60444 | F56: 3.54 | G56: 5 | H56: =F56*G56 -> 17.7 | I56: =H56 -> 17.7
A57: NVD Rīgas nodaļa | B57: 010000347 | C57: Bubenko Ludmila - ģimenes ārsta prakse | D57: 01018 | E57: Ārsta konsultācija pirms vakcinācijas. Nenorāda kopā ar manipulāciju 01061, 60443 un 60444 | F57: 3.54 | G57: 1 | H57: =F57*G57 -> 3.54 | I57: =H57 -> 3.54
A58: NVD Rīgas nodaļa | B58: 010000361 | C58: Dakteres Spēlītes ārsta prakse, Sabiedrība ar ierobežotu atbildību | D58: 01018 | E58: Ārsta konsultācija pirms vakcinācijas. Nenorāda kopā ar manipulāciju 01061, 60443 un 60444 | F58: 3.54 | G58: 4 | H58: =F58*G58 -> 14.16 | I58: =H58 -> 14.16
A59: NVD Rīgas nodaļa | B59: 010000364 | C59: Pogodina Jeļena - ģimenes ārsta un internista prakse | D59: 01018 | E59: Ārsta konsultācija pirms vakcinācijas. Nenorāda kopā ar manipulāciju 01061, 60443 un 60444 | F59: 3.54 | G59: 2 | H59: =F59*G59 -> 7.08 | I59: =H59 -> 7.08
A60: NVD Rīgas nodaļa | B60: 010000427 | C60: MENTAMED, Sabiedrība ar ierobežotu atbildību | D60: 01018 | E60: Ārsta konsultācija pirms vakcinācijas. Nenorāda kopā ar manipulāciju 01061, 60443 un 60444 | F60: 3.54 | G60: 1 | H60: =F60*G60 -> 3.54 | I60: =H60 -> 3.54
A61: NVD Rīgas nodaļa | B61: 010000455 | C61: Freimane Liene - ģimenes ārsta prakse | D61: 01018 | E61: Ārsta konsultācija pirms vakcinācijas. Nenorāda kopā ar manipulāciju 01061, 60443 un 60444 | F61: 3.54 | G61: 7 | H61: =F61*G61 -> 24.78 | I61: =H61 -> 24.78
A62: NVD Rīgas nodaļa | B62: 010001210 | C62: Hedvigas Kronbergas ģimenes ārsta prakse, SIA | D62: 01018 | E62: Ārsta konsultācija pirms vakcinācijas. Nenorāda kopā ar manipulāciju 01061, 60443 un 60444 | F62: 3.54 | G62: 2 | H62: =F62*G62 -> 7.08 | I62: =H62 -> 7.08
A63: NVD Rīgas nodaļa | B63: 010001317 | C63: Sergejeva Iveta - ģimenes ārsta prakse | D63: 01018 | E63: Ārsta konsultācija pirms vakcinācijas. Nenorāda kopā ar manipulāciju 01061, 60443 un 60444 | F63: 3.54 | G63: 3 | H63: =F63*G63 -> 10.62 | I63: =H63 -> 10.62
A64: NVD Rīgas nodaļa | B64: 010001496 | C64: Centrālais doktorāts, Sabiedrība ar ierobežotu atbildību | D64: 01018 | E64: Ārsta konsultācija pirms vakcinācijas. Nenorāda kopā ar manipulāciju 01061, 60443 un 60444 | F64: 3.54 | G64: 8 | H64: =F64*G64 -> 28.32 | I64: =H64 -> 28.32
A65: NVD Rīgas nodaļa | B65: 010001499 | C65: Ponne Inguna - ģimenes ārsta prakse | D65: 01018 | E65: Ārsta konsultācija pirms vakcinācijas. Nenorāda kopā ar manipulāciju 01061, 60443 un 60444 | F65: 3.54 | G65: 3 | H65: =F65*G65 -> 10.62 | I65: =H65 -> 10.62
... A111: NVD Rīgas nodaļa | B111: 808400004 | C111: K.BIRZNIECES-BĒRZIŅAS ĢIMENES ĀRSTA PRAKSE, Sabiedrība ar ierobežotu atbildību | D111: 01018 | E111: Ārsta konsultācija pirms vakcinācijas. Nenorāda kopā ar manipulāciju 01061, 60443 un 60444 | F111: 3.54 | G111: 4 | H111: =F111*G111 -> 14.16 | I111: =H111 -> 14.16
A112: NVD Rīgas nodaļa | B112: 809635210 | C112: Ropažu novada pašvaldības aģentūra "Stopiņu ambulance" | D112: 01018 | E112: Ārsta konsultācija pirms vakcinācijas. Nenorāda kopā ar manipulāciju 01061, 60443 un 60444 | F112: 3.54 | G112: 1 | H112: =F112*G112 -> 3.54 | J112: =H112 -> 3.54
A113: NVD Vidzemes nodaļa | B113: 026000004 | C113: Jaunpiebalgas doktorāts, SIA | D113: 01018 | E113: Ārsta konsultācija pirms vakcinācijas. Nenorāda kopā ar manipulāciju 01061, 60443 un 60444 | F113: 3.54 | G113: 1 | H113: =F113*G113 -> 3.54 | I113: =H113 -> 3.54
A114: NVD Vidzemes nodaļa | B114: 250000104 | C114: Kravale Jolanta - ģimenes ārsta prakse | D114: 01018 | E114: Ārsta konsultācija pirms vakcinācijas. Nenorāda kopā ar manipulāciju 01061, 60443 un 60444 | F114: 3.54 | G114: 2 | H114: =F114*G114 -> 7.08 | I114: =H114 -> 7.08
A115: NVD Vidzemes nodaļa | B115: 250000108 | C115: Bērziņa Inga - ģimenes ārsta prakse | D115: 01018 | E115: Ārsta konsultācija pirms vakcinācijas. Nenorāda kopā ar manipulāciju 01061, 60443 un 60444 | F115: 3.54 | G115: 4 | H115: =F115*G115 -> 14.16 | I115: =H115 -> 14.16
A116: NVD Vidzemes nodaļa | B116: 250000159 | C116: Grunte Inga - ģimenes ārsta prakse | D116: 01018 | E116: Ārsta konsultācija pirms vakcinācijas. Nenorāda kopā ar manipulāciju 01061, 60443 un 60444 | F116: 3.54 | G116: 3 | H116: =F116*G116 -> 10.62 | I116: =H116 -> 10.62
A117: NVD Vidzemes nodaļa | B117: 360200003 | C117: Anitas Muižnieces ārsta prakse, SIA | D117: 01018 | E117: Ārsta konsultācija pirms vakcinācijas. Nenorāda kopā ar manipulāciju 01061, 60443 un 60444 | F117: 3.54 | G117: 7 | H117: =F117*G117 -> 24.78 | I117: =H117 -> 24.78
A118: NVD Vidzemes nodaļa | B118: 360200010 | C118: Šnikvalde Anita - ģimenes ārsta un pediatra prakse | D118: 01018 | E118: Ārsta konsultācija pirms vakcinācijas. Nenorāda kopā ar manipulāciju 01061, 60443 un 60444 | F118: 3.54 | G118: 7 | H118: =F118*G118 -> 24.78 | I118: =H118 -> 24.78
A119: NVD Vidzemes nodaļa | B119: 360200012 | C119: Prindule Arita - ģimenes ārsta prakse | D119: 01018 | E119: Ārsta konsultācija pirms vakcinācijas. Nenorāda kopā ar manipulāciju 01061, 60443 un 60444 | F119: 3.54 | G119: 8 | H119: =F119*G119 -> 28.32 | I119: =H119 -> 28.32
A120: NVD Vidzemes nodaļa | B120: 360800001 | C120: Apes ārsta prakse, Sabiedrība ar ierobežotu atbildību | D120: 01018 | E120: Ārsta konsultācija pirms vakcinācijas. Nenorāda kopā ar manipulāciju 01061, 60443 un 60444 | F120: 3.54 | G120: 7 | H120: =F120*G120 -> 24.78 | I120: =H120 -> 24.78
...

Sheet Vakc_stac_aprilis
G1: Pielikums Nr.4 Ministru kabineta rīkojuma "Par finanšu līdzekļu piešķiršanu no valsts budžeta programmas "Finansējums veselības jomas pasākumiem Covid-19 infekcijas izplatības ierobežošanai"" projekta sākotnējās ietekmes novērtējuma ziņojumam (anotācijai)
A2: Piemaksa par Covid-19 vakcināciju stacionāros no 2021.gada novembra līdz 2022.gada martam pacientiem, kuri izrakstīti no stacionāra 2022.gada aprīlī *
A3: Ārstniecības iestādes nosaukums | B3: Manipulācijas kods | C3: Manupulācijas nosaukums | D3: Tarifs, euro | E3: Manipulāciju skaits | J3: Summa, euro
E4: Novembris, 2021 | F4: Decembris, 2021 | G4: Janvāris, 2022 | H4: Februāris, 2022 | I4: Marts, 2022
A5: Paula Stradiņa klīniskā universitātes slimnīca | B5: 03081 | C5: Vakcīnas ievadīšana ādā, zemādā un muskulī | D5: 1.04 | F5: 1 | J5: =ROUND(D5*E5+D5*F5+D5*G5+D5*H5+D5*I5,2) -> 1.04
A6: Paula Stradiņa klīniskā universitātes slimnīca | B6: 03081 | C6: Vakcīnas ievadīšana ādā, zemādā un muskulī | D6: 1.1 | G6: 10 | J6: =ROUND(D6*E6+D6*F6+D6*G6+D6*H6+D6*I6,2) -> 11
A7: Paula Stradiņa klīniskā universitātes slimnīca | B7: 03083 | C7: Piemaksa manipulācijai 03081 par pacienta Covid-19 vakcinēšanu | D7: 1.96 | F7: 1 | J7: =ROUND(D7*E7+D7*F7+D7*G7+D7*H7+D7*I7,2) -> 1.96
A8: Paula Stradiņa klīniskā universitātes slimnīca | B8: 03083 | C8: Piemaksa manipulācijai 03081 par pacienta Covid-19 vakcinēšanu | D8: 2.05 | G8: 10 | J8: =ROUND(D8*E8+D8*F8+D8*G8+D8*H8+D8*I8,2) -> 20.5
A9: Paula Stradiņa klīniskā universitātes slimnīca | B9: 03098 | C9: Piemaksa manipulācijai 01018 par ārstniecības personu darbu Covid-19 vakcinācijas kabinetā | D9: 1.3 | F9: 1 | J9: =ROUND(D9*E9+D9*F9+D9*G9+D9*H9+D9*I9,2) -> 1.3
A10: Paula Stradiņa klīniskā universitātes slimnīca | B10: 03098 | C10: Piemaksa manipulācijai 01018 par ārstniecības personu darbu Covid-19 vakcinācijas kabinetā | D10: 1.36 | G10: 10 | J10: =ROUND(D10*E10+D10*F10+D10*G10+D10*H10+D10*I10,2) -> 13.6
A11: Rīgas Austrumu klīniskā universitātes slimnīca | B11: 03081 | C11: Vakcīnas ievadīšana ādā, zemādā un muskulī | D11: 1.04 | E11: 1 | J11: =ROUND(D11*E11+D11*F11+D11*G11+D11*H11+D11*I11,2) -> 1.04
A12: Rīgas Austrumu klīniskā universitātes slimnīca | B12: 03081 | C12: Vakcīnas ievadīšana ādā, zemādā un muskulī | D12: 1.1 | G12: 1 | J12: =ROUND(D12*E12+D12*F12+D12*G12+D12*H12+D12*I12,2) -> 1.1
A13: Rīgas Austrumu klīniskā universitātes slimnīca | B13: 03083 | C13: Piemaksa manipulācijai 03081 par pacienta Covid-19 vakcinēšanu | D13: 1.96 | E13: 1 | J13: =ROUND(D13*E13+D13*F13+D13*G13+D13*H13+D13*I13,2) -> 1.96
A14: Rīgas Austrumu klīniskā universitātes slimnīca | B14: 03083 | C14: Piemaksa manipulācijai 03081 par pacienta Covid-19 vakcinēšanu | D14: 2.05 | G14: 1 | J14: =ROUND(D14*E14+D14*F14+D14*G14+D14*H14+D14*I14,2) -> 2.05
A15: Rīgas Austrumu klīniskā universitātes slimnīca | B15: 03098 | C15: Piemaksa manipulācijai 01018 par ārstniecības personu darbu Covid-19 vakcinācijas kabinetā | D15: 1.3 | E15: 1 | J15: =ROUND(D15*E15+D15*F15+D15*G15+D15*H15+D15*I15,2) -> 1.3
A16: Rīgas Austrumu klīniskā universitātes slimnīca | B16: 03098 | C16: Piemaksa manipulācijai 01018 par ārstniecības personu darbu Covid-19 vakcinācijas kabinetā | D16: 1.36 | G16: 1 | J16: =ROUND(D16*E16+D16*F16+D16*G16+D16*H16+D16*I16,2) -> 1.36
A17: Vaivari, nacionālais rehabilitācijas centrs | B17: 03081 | C17: Vakcīnas ievadīšana ādā, zemādā un muskulī | D17: 1.1 | H17: 1 | J17: =ROUND(D17*E17+D17*F17+D17*G17+D17*H17+D17*I17,2) -> 1.1
A18: Vaivari, nacionālais rehabilitācijas centrs | B18: 03083 | C18: Piemaksa manipulācijai 03081 par pacienta Covid-19 vakcinēšanu | D18: 2.05 | H18: 1 | J18: =ROUND(D18*E18+D18*F18+D18*G18+D18*H18+D18*I18,2) -> 2.05
A19: Vaivari, nacionālais rehabilitācijas centrs | B19: 03098 | C19: Piemaksa manipulācijai 01018 par ārstniecības personu darbu Covid-19 vakcinācijas kabinetā | D19: 1.36 | H19: 1 | J19: =ROUND(D19*E19+D19*F19+D19*G19+D19*H19+D19*I19,2) -> 1.36
A20: Kopā: | J20: =SUM(J5:J19) -> 62.72
J21: =ROUNDUP(J20,0) -> 63
A22: * Manipulāciju skaits tiek iegūts tikai, kad pacients tiek izrakstīts un karte ievadīta Vadības informācijas sistēmā (atbilstoši līgumam par stacionārās veselības aprūpes pakalpojumu sniegšanu un apmaksu starp Nacionālo Veselības Dienestu (turpmāk Dienests) un ārstniecības iestādi 3. pielikumam, Informācijas apmaiņas kārtība, Dienests apmaksā kartes, kas ievadītas ne vēlāk kā 60 dienas pēc izrakstīšanās datuma). Ārstniecības iestāde kartes var labot līdz nākošā kalendārā gada 8. janvārim. Lai iegūtu precīzu apmaksājamo manipulāciju skaitu, Dienests salīdzina iepriekšējos mēnešos veikto manipulāciju skaitu un apmaksā starpību starp veikto manipulāciju skaitu un jau samaksāto manipulāciju skaitu atbilstoši manipulāciju tarifiem. Ņemot vērā, to ka pacients tika izrakstīts aprīļa mēnesī, līdz ar to karte par pacientu tiek ievadīta Vadības informācijas sistēmā arī aprīļa mēnesī.

Sheet Vakc_SAVA_maijs
H1: Pielikums Nr.5 Ministru kabineta rīkojuma "Par finanšu līdzekļu piešķiršanu no valsts budžeta programmas "Finansējums veselības jomas pasākumiem Covid-19 infekcijas izplatības ierobežošanai"" projekta sākotnējās ietekmes novērtējuma ziņojumam (anotācijai)
A2: Veiktais darbs 2022.gada maijā par COVID-19 vakcinācijas saistītām manipulācijām SAVA programmās
A3: NVD TN | B3: Ārstniecības iestādes kods | C3: Ārstniecības iestādes nosaukums | D3: Manipulācijas kods | E3: Manipulācijas nosaukums | F3: Manipulāciju tarifs, euro | G3: Manipulāciju skaits kopā | H3: Pakalpojumu summa kopā, euro | I3: Manipulāciju skaits kopā | J3: EKK 3000 | K3: EKK 7460
A4: Kopā: | G4: =SUM(G5:G288) -> 19410 | H4: =J4+K4 -> 40332 | I4: =SUM(I5:I288) -> 19410 | J4: =ROUNDUP(SUM(J5:J288),0) -> 39817 | K4: =ROUNDUP(SUM(K5:K288),0) -> 515
A5: NVD Kurzemes nodaļa | B5: 170024101 | C5: VECLIEPĀJAS PRIMĀRĀS VESELĪBAS APRŪPES CENTRS, Pašvaldības Sabiedrība ar ierobežotu atbildību | D5: 01018 | E5: Ārsta konsultācija pirms vakcinācijas. Nenorāda kopā ar manipulāciju 01061, 60443 un 60444 | F5: 3.54 | G5: 30 | H5: =F5*G5 -> 106.2 | I5: 30 | J5: =H5 -> 106.2
A6: NVD Kurzemes nodaļa | B6: 170065204 | C6: L. ATIĶES DOKTORĀTS, SIA | D6: 01018 | E6: Ārsta konsultācija pirms vakcinācijas. Nenorāda kopā ar manipulāciju 01061, 60443 un 60444 | F6: 3.54 | G6: 75 | H6: =F6*G6 -> 265.5 | I6: 75 | J6: =H6 -> 265.5
A7: NVD Kurzemes nodaļa | B7: 270020302 | C7: Ziemeļkurzemes reģionālā slimnīca, SIA | D7: 01018 | E7: Ārsta konsultācija pirms vakcinācijas. Nenorāda kopā ar manipulāciju 01061, 60443 un 60444 | F7: 3.54 | G7: 4 | H7: =F7*G7 -> 14.16 | I7: 4 | J7: =H7 -> 14.16
A8: NVD Kurzemes nodaļa | B8: 620200038 | C8: Kuldīgas slimnīca, Sabiedrība ar ierobežotu atbildību | D8: 01018 | E8: Ārsta konsultācija pirms vakcinācijas. Nenorāda kopā ar manipulāciju 01061, 60443 un 60444 | F8: 3.54 | G8: 15 | H8: =F8*G8 -> 53.1 | I8: 15 | J8: =H8 -> 53.1
A9: NVD Kurzemes nodaļa | B9: 880200016 | C9: TALSU VESELĪBAS CENTRS, SIA | D9: 01018 | E9: Ārsta konsultācija pirms vakcinācijas. Nenorāda kopā ar manipulāciju 01061, 60443 un 60444 | F9: 3.54 | G9: 21 | H9: =F9*G9 -> 74.34 | I9: 21 | J9: =H9 -> 74.34
A10: NVD Latgales nodaļa | B10: 050012101 | C10: Daugavpils psihoneiroloģiskā slimnīca, Valsts sabiedrība ar ierobežotu atbildību | D10: 01018 | E10: Ārsta konsultācija pirms vakcinācijas. Nenorāda kopā ar manipulāciju 01061, 60443 un 60444 | F10: 3.54 | G10: 17 | H10: =F10*G10 -> 60.18 | I10: 17 | J10: =H10 -> 60.18
A11: NVD Latgales nodaļa | B11: 050020401 | C11: Daugavpils reģionālā slimnīca, Sabiedrība ar ierobežotu atbildību | D11: 01018 | E11: Ārsta konsultācija pirms vakcinācijas. Nenorāda kopā ar manipulāciju 01061, 60443 un 60444 | F11: 3.54 | G11: 63 | H11: =F11*G11 -> 223.02 | I11: 63 | J11: =H11 -> 223.02
A12: NVD Latgales nodaļa | B12: 680200030 | C12: Ludzas medicīnas centrs, Sabiedrība ar ierobežotu atbildību | D12: 01018 | E12: Ārsta konsultācija pirms vakcinācijas. Nenorāda kopā ar manipulāciju 01061, 60443 un 60444 | F12: 3.54 | G12: 24 | H12: =F12*G12 -> 84.96 | I12: 24 | J12: =H12 -> 84.96
A13: NVD Rīgas nodaļa | B13: 001000043 | C13: Apotheka, SIA | D13: 01018 | E13: Ārsta konsultācija pirms vakcinācijas. Nenorāda kopā ar manipulāciju 01061, 60443 un 60444 | F13: 3.54 | G13: 8 | H13: =F13*G13 -> 28.32 | I13: 8 | J13: =H13 -> 28.32
A14: NVD Rīgas nodaļa | B14: 010000171 | C14: I. Paturskas ģimenes veselības centrs, Sabiedrība ar ierobežotu atbildību | D14: 01018 | E14: Ārsta konsultācija pirms vakcinācijas. Nenorāda kopā ar manipulāciju 01061, 60443 un 60444 | F14: 3.54 | G14: 20 | H14: =F14*G14 -> 70.8 | I14: 20 | J14: =H14 -> 70.8
A15: NVD Rīgas nodaļa | B15: 010000234 | C15: Rīgas Austrumu klīniskā universitātes slimnīca, SIA | D15: 01018 | E15: Ārsta konsultācija pirms vakcinācijas. Nenorāda kopā ar manipulāciju 01061, 60443 un 60444 | F15: 3.54 | G15: 45 | H15: =F15*G15 -> 159.3 | I15: 45 | J15: =H15 -> 159.3
A16: NVD Rīgas nodaļa | B16: 010001411 | C16: ĀRSTNIECĪBAS REHABILITĀCIJAS CENTRS VALEO, Sabiedrība ar ierobežotu atbildību | D16: 01018 | E16: Ārsta konsultācija pirms vakcinācijas. Nenorāda kopā ar manipulāciju 01061, 60443 un 60444 | F16: 3.54 | G16: 15 | H16: =F16*G16 -> 53.1 | I16: 15 | J16: =H16 -> 53.1
... A52: NVD Rīgas nodaļa | B52: 801200001 | C52: Salaspils veselības centrs, Sabiedrība ar ierobežotu atbildību | D52: 01019 | E52: Ārsta palīga vai vecmātes konsultācija pirms vakcinācijas | F52: 1.97 | G52: 66 | H52: =F52*G52 -> 130.02 | I52: 66 | J52: =H52 -> 130.02
A53: NVD Rīgas nodaļa | B53: 801400002 | C53: Saulkrastu veselības un sociālās aprūpes centrs, Pašvaldības aģentūra | D53: 01019 | E53: Ārsta palīga vai vecmātes konsultācija pirms vakcinācijas | F53: 1.97 | G53: 68 | H53: =F53*G53 -> 133.96 | I53: 68 | K53: =H53 -> 133.96
A54: NVD Vidzemes nodaļa | B54: 250000092 | C54: Vidzemes slimnīca, Sabiedrība ar ierobežotu atbildību | D54: 01019 | E54: Ārsta palīga vai vecmātes konsultācija pirms vakcinācijas | F54: 1.97 | G54: 8 | H54: =F54*G54 -> 15.76 | I54: 8 | J54: =H54 -> 15.76
A55: NVD Vidzemes nodaļa | B55: 700200041 | C55: Madonas slimnīca, Madonas novada pašvaldības SIA | D55: 01019 | E55: Ārsta palīga vai vecmātes konsultācija pirms vakcinācijas | F55: 1.97 | G55: 19 | H55: =F55*G55 -> 37.43 | I55: 19 | J55: =H55 -> 37.43
A56: NVD Zemgales nodaļa | B56: 110000048 | C56: Jēkabpils reģionālā slimnīca, Sabiedrība ar ierobežotu atbildību | D56: 01019 | E56: Ārsta palīga vai vecmātes konsultācija pirms vakcinācijas | F56: 1.97 | G56: 71 | H56: =F56*G56 -> 139.87 | I56: 71 | J56: =H56 -> 139.87
A57: NVD Rīgas nodaļa | B57: 010054114 | C57: DZELZCEĻA VESELĪBAS CENTRS, Sabiedrība ar ierobežotu atbildību | D57: 03048 | E57: Piemaksa manipulācijai 01018 vai 03095 par ārsta darbu Covid-19 vakcinācijas kabinetā brīvdienās un svētku dienās | F57: 3.27 | G57: 42 | H57: =F57*G57 -> 137.34 | I57: 42 | J57: =H57 -> 137.34
A58: NVD Rīgas nodaļa | B58: 010064120 | C58: Veselības centru apvienība, AS | D58: 03048 | E58: Piemaksa manipulācijai 01018 vai 03095 par ārsta darbu Covid-19 vakcinācijas kabinetā brīvdienās un svētku dienās | F58: 3.27 | G58: 103 | H58: =F58*G58 -> 336.81 | I58: 103 | J58: =H58 -> 336.81
A59: NVD Rīgas nodaļa | B59: 010054114 | C59: DZELZCEĻA VESELĪBAS CENTRS, Sabiedrība ar ierobežotu atbildību | D59: 03049 | E59: Piemaksa manipulācijām 03081 un 01019 vai 03096 par māsas, ārsta palīga darbu Covid-19 vakcinācijas kabinetā brīvdienās un svētku dienās | F59: 1.96 | G59: 42 | H59: =F59*G59 -> 82.32 | I59: 42 | J59: =H59 -> 82.32
A60: NVD Rīgas nodaļa | B60: 010064114 | C60: VESELĪBAS CENTRS 4, Sabiedrība ar ierobežotu atbildību | D60: 03049 | E60: Piemaksa manipulācijām 03081 un 01019 vai 03096 par māsas, ārsta palīga darbu Covid-19 vakcinācijas kabinetā brīvdienās un svētku dienās | F60: 1.96 | G60: 3 | H60: =F60*G60 -> 5.88 | I60: 3 | J60: =H60 -> 5.88
A61: NVD Rīgas nodaļa | B61: 010064120 | C61: Veselības centru apvienība, AS | D61: 03049 | E61: Piemaksa manipulācijām 03081 un 01019 vai 03096 par māsas, ārsta palīga darbu Covid-19 vakcinācijas kabinetā brīvdienās un svētku dienās | F61: 1.96 | G61: 99 | H61: =F61*G61 -> 194.04 | I61: 99 | J61: =H61 -> 194.04
A62: NVD Rīgas nodaļa | B62: 801200001 | C62: Salaspils veselības centrs, Sabiedrība ar ierobežotu atbildību | D62: 03049 | E62: Piemaksa manipulācijām 03081 un 01019 vai 03096 par māsas, ārsta palīga darbu Covid-19 vakcinācijas kabinetā brīvdienās un svētku dienās | F62: 1.96 | G62: 6 | H62: =F62*G62 -> 11.76 | I62: 6 | J62: =H62 -> 11.76
A63: NVD Kurzemes nodaļa | B63: 170024101 | C63: VECLIEPĀJAS PRIMĀRĀS VESELĪBAS APRŪPES CENTRS, Pašvaldības Sabiedrība ar ierobežotu atbildību | D63: 03081 | E63: Vakcīnas ievadīšana ādā, zemādā un muskulī | F63: 1.1 | G63: 30 | H63: =F63*G63 -> 33 | I63: 30 | J63: =H63 -> 33
A64: NVD Kurzemes nodaļa | B64: 170065204 | C64: L. ATIĶES DOKTORĀTS, SIA | D64: 03081 | E64: Vakcīnas ievadīšana ādā, zemādā un muskulī | F64: 1.1 | G64: 75 | H64: =F64*G64 -> 82.5 | I64: 75 | J64: =H64 -> 82.5
A65: NVD Kurzemes nodaļa | B65: 270020302 | C65: Ziemeļkurzemes reģionālā slimnīca, SIA | D65: 03081 | E65: Vakcīnas ievadīšana ādā, zemādā un muskulī | F65: 1.1 | G65: 4 | H65: =F65*G65 -> 4.4 | I65: 4 | J65: =H65 -> 4.4
... A98: NVD Rīgas nodaļa | B98: 801200001 | C98: Salaspils veselības centrs, Sabiedrība ar ierobežotu atbildību | D98: 03081 | E98: Vakcīnas ievadīšana ādā, zemādā un muskulī | F98: 1.1 | G98: 66 | H98: =F98*G98 -> 72.6 | I98: 66 | J98: =H98 -> 72.6
A99: NVD Rīgas nodaļa | B99: 801400002 | C99: Saulkrastu veselības un sociālās aprūpes centrs, Pašvaldības aģentūra | D99: 03081 | E99: Vakcīnas ievadīšana ādā, zemādā un muskulī | F99: 1.1 | G99: 68 | H99: =F99*G99 -> 74.8 | I99: 68 | K99: =H99 -> 74.8
A100: NVD Rīgas nodaļa | B100: 801600003 | C100: Siguldas slimnīca, SIA | D100: 03081 | E100: Vakcīnas ievadīšana ādā, zemādā un muskulī | F100: 1.1 | G100: 11 | H100: =F100*G100 -> 12.1 | I100: 11 | J100: =H100 -> 12.1
A101: NVD Vidzemes nodaļa | B101: 250000087 | C101: VALMIERAS VESELĪBAS CENTRS, SIA | D101: 03081 | E101: Vakcīnas ievadīšana ādā, zemādā un muskulī | F101: 1.1 | G101: 44 | H101: =F101*G101 -> 48.4 | I101: 44 | J101: =H101 -> 48.4
A102: NVD Vidzemes nodaļa | B102: 250000092 | C102: Vidzemes slimnīca, Sabiedrība ar ierobežotu atbildību | D102: 03081 | E102: Vakcīnas ievadīšana ādā, zemādā un muskulī | F102: 1.1 | G102: 8 | H102: =F102*G102 -> 8.8 | I102: 8 | J102: =H102 -> 8.8
A103: NVD Vidzemes nodaļa | B103: 500200052 | C103: Balvu un Gulbenes slimnīcu apvienība, Sabiedrība ar ierobežotu atbildību | D103: 03081 | E103: Vakcīnas ievadīšana ādā, zemādā un muskulī | F103: 1.1 | G103: 22 | H103: =F103*G103 -> 24.2 | I103: 22 | J103: =H103 -> 24.2
A104: NVD Vidzemes nodaļa | B104: 660200027 | C104: Limbažu slimnīca, Sabiedrība ar ierobežotu atbildību | D104: 03081 | E104: Vakcīnas ievadīšana ādā, zemādā un muskulī | F104: 1.1 | G104: 3 | H104: =F104*G104 -> 3.3 | I104: 3 | J104: =H104 -> 3.3
A105: NVD Vidzemes nodaļa | B105: 700200041 | C105: Madonas slimnīca, Madonas novada pašvaldības SIA | D105: 03081 | E105: Vakcīnas ievadīšana ādā, zemādā un muskulī | F105: 1.1 | G105: 19 | H105: =F105*G105 -> 20.9 | I105: 19 | J105: =H105 -> 20.9
A106: NVD Zemgales nodaļa | B106: 090000026 | C106: Zemgales veselības centrs, Sabiedrība ar ierobežotu atbildību | D106: 03081 | E106: Vakcīnas ievadīšana ādā, zemādā un muskulī | F106: 1.1 | G106: 64 | H106: =F106*G106 -> 70.4 | I106: 64 | J106: =H106 -> 70.4
A107: NVD Zemgales nodaļa | B107: 090024001 | C107: Medicīnas sabiedrība "Optima 1", Sabiedrība ar ierobežotu atbildību | D107: 03081 | E107: Vakcīnas ievadīšana ādā, zemādā un muskulī | F107: 1.1 | G107: 47 | H107: =F107*G107 -> 51.7 | I107: 47 | J107: =H107 -> 51.7
...

Sheet Vakc_PVA_maijs
G1: Pielikums Nr.6 Ministru kabineta rīkojuma "Par finanšu līdzekļu piešķiršanu no valsts budžeta programmas "Finansējums veselības jomas pasākumiem Covid-19 infekcijas izplatības ierobežošanai"" projekta sākotnējās ietekmes novērtējuma ziņojumam (anotācijai)
A2: Veiktais darbs 2022.gada maijā par COVID-19 vakcinācijas saistītām manipulācijām ģimenes ārstiem: (Diagnoze - U11 Nepieciešamība veikt imunizāciju pret Covid-19, U11.9 Nepieciešamība imunizēt pret Covid-19, bez precizējuma)
A3: NVD TN | B3: Ārstniecības iestādes kods | C3: Ārstniecības iestādes nosaukums | D3: Manipulācijas kods | E3: Manipulācijas nosaukums | F3: Manipilāciju tarifs, euro | G3: Manipulāciju skaits kopā | H3: Pakalpojumu summa kopā, euro | I3: EKK 3000 | J3: EKK 7460
A4: Kopā: | G4: =SUM(G5:G638) -> 7127 | H4: =I4+J4 -> 22679 | I4: =ROUNDUP(SUM(I5:I638),0) -> 22569 | J4: =ROUNDUP(SUM(J5:J638),0) -> 110
A5: NVD Kurzemes nodaļa | B5: 170000116 | C5: Rutkovska Diana - ģimenes ārsta prakse | D5: 01018 | E5: Ārsta konsultācija pirms vakcinācijas. Nenorāda kopā ar manipulāciju 01061, 60443 un 60444 | F5: 3.54 | G5: 3 | H5: =F5*G5 -> 10.62 | I5: =H5 -> 10.62
A6: NVD Kurzemes nodaļa | B6: 170000190 | C6: Liepājas ģimenes veselības centrs, SIA | D6: 01018 | E6: Ārsta konsultācija pirms vakcinācijas. Nenorāda kopā ar manipulāciju 01061, 60443 un 60444 | F6: 3.54 | G6: 1 | H6: =F6*G6 -> 3.54 | I6: =H6 -> 3.54
A7: NVD Kurzemes nodaļa | B7: 270000032 | C7: Grospiņš Andis - ģimenes ārsta un arodveselības un arodslimību ārsta prakse | D7: 01018 | E7: Ārsta konsultācija pirms vakcinācijas. Nenorāda kopā ar manipulāciju 01061, 60443 un 60444 | F7: 3.54 | G7: 10 | H7: =F7*G7 -> 35.4 | I7: =H7 -> 35.4
A8: NVD Kurzemes nodaļa | B8: 270064101 | C8: Kronoss, Sabiedrība ar ierobežotu atbildību | D8: 01018 | E8: Ārsta konsultācija pirms vakcinācijas. Nenorāda kopā ar manipulāciju 01061, 60443 un 60444 | F8: 3.54 | G8: 1 | H8: =F8*G8 -> 3.54 | I8: =H8 -> 3.54
A9: NVD Kurzemes nodaļa | B9: 270075401 | C9: Zviedrīte Lelde - ģimenes ārsta prakse | D9: 01018 | E9: Ārsta konsultācija pirms vakcinācijas. Nenorāda kopā ar manipulāciju 01061, 60443 un 60444 | F9: 3.54 | G9: 4 | H9: =F9*G9 -> 14.16 | I9: =H9 -> 14.16
A10: NVD Kurzemes nodaļa | B10: 624275402 | C10: Būmeistere Lija - ģimenes ārsta prakse | D10: 01018 | E10: Ārsta konsultācija pirms vakcinācijas. Nenorāda kopā ar manipulāciju 01061, 60443 un 60444 | F10: 3.54 | G10: 2 | H10: =F10*G10 -> 7.08 | I10: =H10 -> 7.08
A11: NVD Kurzemes nodaļa | B11: 640600006 | C11: DAKTERIS IMANTS, SIA | D11: 01018 | E11: Ārsta konsultācija pirms vakcinācijas. Nenorāda kopā ar manipulāciju 01061, 60443 un 60444 | F11: 3.54 | G11: 4 | H11: =F11*G11 -> 14.16 | I11: =H11 -> 14.16
A12: NVD Kurzemes nodaļa | B12: 641000002 | C12: Vidaja Ilga - ģimenes ārsta prakse | D12: 01018 | E12: Ārsta konsultācija pirms vakcinācijas. Nenorāda kopā ar manipulāciju 01061, 60443 un 60444 | F12: 3.54 | G12: 8 | H12: =F12*G12 -> 28.32 | I12: =H12 -> 28.32
A13: NVD Kurzemes nodaļa | B13: 641400002 | C13: Kalniņa Agrita - ģimenes ārsta prakse | D13: 01018 | E13: Ārsta konsultācija pirms vakcinācijas. Nenorāda kopā ar manipulāciju 01061, 60443 un 60444 | F13: 3.54 | G13: 6 | H13: =F13*G13 -> 21.24 | I13: =H13 -> 21.24
A14: NVD Kurzemes nodaļa | B14: 641600005 | C14: Leimane Daiga - ģimenes ārsta un kardiologa prakse | D14: 01018 | E14: Ārsta konsultācija pirms vakcinācijas. Nenorāda kopā ar manipulāciju 01061, 60443 un 60444 | F14: 3.54 | G14: 1 | H14: =F14*G14 -> 3.54 | I14: =H14 -> 3.54
A15: NVD Kurzemes nodaļa | B15: 880200063 | C15: Lunde Dzintra -ģimenes ārsta prakse | D15: 01018 | E15: Ārsta konsultācija pirms vakcinācijas. Nenorāda kopā ar manipulāciju 01061, 60443 un 60444 | F15: 3.54 | G15: 1 | H15: =F15*G15 -> 3.54 | I15: =H15 -> 3.54
A16: NVD Kurzemes nodaļa | B16: 880200069 | C16: Sporāne Evija - ģimenes ārsta prakse | D16: 01018 | E16: Ārsta konsultācija pirms vakcinācijas. Nenorāda kopā ar manipulāciju 01061, 60443 un 60444 | F16: 3.54 | G16: 2 | H16: =F16*G16 -> 7.08 | I16: =H16 -> 7.08
... A63: NVD Rīgas nodaļa | B63: 807600007 | C63: Bērziņa Valda - ģimenes ārsta prakse | D63: 01018 | E63: Ārsta konsultācija pirms vakcinācijas. Nenorāda kopā ar manipulāciju 01061, 60443 un 60444 | F63: 3.54 | G63: 3 | H63: =F63*G63 -> 10.62 | I63: =H63 -> 10.62
A64: NVD Rīgas nodaļa | B64: 809635210 | C64: Ropažu novada pašvaldības aģentūra "Stopiņu ambulance" | D64: 01018 | E64: Ārsta konsultācija pirms vakcinācijas. Nenorāda kopā ar manipulāciju 01061, 60443 un 60444 | F64: 3.54 | G64: 5 | H64: =F64*G64 -> 17.7 | J64: =H64 -> 17.7
A65: NVD Vidzemes nodaļa | B65: 250000104 | C65: Kravale Jolanta - ģimenes ārsta prakse | D65: 01018 | E65: Ārsta konsultācija pirms vakcinācijas. Nenorāda kopā ar manipulāciju 01061, 60443 un 60444 | F65: 3.54 | G65: 3 | H65: =F65*G65 -> 10.62 | I65: =H65 -> 10.62
A66: NVD Vidzemes nodaļa | B66: 250000108 | C66: Bērziņa Inga - ģimenes ārsta prakse | D66: 01018 | E66: Ārsta konsultācija pirms vakcinācijas. Nenorāda kopā ar manipulāciju 01061, 60443 un 60444 | F66: 3.54 | G66: 3 | H66: =F66*G66 -> 10.62 | I66: =H66 -> 10.62
A67: NVD Vidzemes nodaļa | B67: 360800001 | C67: Apes ārsta prakse, Sabiedrība ar ierobežotu atbildību | D67: 01018 | E67: Ārsta konsultācija pirms vakcinācijas. Nenorāda kopā ar manipulāciju 01061, 60443 un 60444 | F67: 3.54 | G67: 3 | H67: =F67*G67 -> 10.62 | I67: =H67 -> 10.62
A68: NVD Vidzemes nodaļa | B68: 380200008 | C68: Baranovska Ārija - ģimenes ārsta prakse | D68: 01018 | E68: Ārsta konsultācija pirms vakcinācijas. Nenorāda kopā ar manipulāciju 01061, 60443 un 60444 | F68: 3.54 | G68: 5 | H68: =F68*G68 -> 17.7 | I68: =H68 -> 17.7
A69: NVD Vidzemes nodaļa | B69: 420200010 | C69: Maijas Liepiņas ģimenes ārsta prakse, SIA | D69: 01018 | E69: Ārsta konsultācija pirms vakcinācijas. Nenorāda kopā ar manipulāciju 01061, 60443 un 60444 | F69: 3.54 | G69: 11 | H69: =F69*G69 -> 38.94 | I69: =H69 -> 38.94
A70: NVD Vidzemes nodaļa | B70: 420200084 | C70: Ķēdis Toms - ģimenes ārsta prakse | D70: 01018 | E70: Ārsta konsultācija pirms vakcinācijas. Nenorāda kopā ar manipulāciju 01061, 60443 un 60444 | F70: 3.54 | G70: 2 | H70: =F70*G70 -> 7.08 | I70: =H70 -> 7.08
A71: NVD Vidzemes nodaļa | B71: 421200002 | C71: Dinas Puhartes doktorāts, SIA | D71: 01018 | E71: Ārsta konsultācija pirms vakcinācijas. Nenorāda kopā ar manipulāciju 01061, 60443 un 60444 | F71: 3.54 | G71: 12 | H71: =F71*G71 -> 42.48 | I71: =H71 -> 42.48
A72: NVD Vidzemes nodaļa | B72: 424700007 | C72: Vasiļevskis Uldis - ģimenes ārsta prakse | D72: 01018 | E72: Ārsta konsultācija pirms vakcinācijas. Nenorāda kopā ar manipulāciju 01061, 60443 un 60444 | F72: 3.54 | G72: 3 | H72: =F72*G72 -> 10.62 | I72: =H72 -> 10.62
A73: NVD Vidzemes nodaļa | B73: 427300007 | C73: Meinerte Gundega - ģimenes ārsta prakse | D73: 01018 | E73: Ārsta konsultācija pirms vakcinācijas. Nenorāda kopā ar manipulāciju 01061, 60443 un 60444 | F73: 3.54 | G73: 22 | H73: =F73*G73 -> 77.88 | I73: =H73 -> 77.88
A74: NVD Vidzemes nodaļa | B74: 500200022 | C74: STĀMERIENAS DOKTORĀTS, Gulbenes rajona Stāmerienas pagasta J.Seļicka ārstu prakses individuālais uzņēmums | D74: 01018 | E74: Ārsta konsultācija pirms vakcinācijas. Nenorāda kopā ar manipulāciju 01061, 60443 un 60444 | F74: 3.54 | G74: 6 | H74: =F74*G74 -> 21.24 | I74: =H74 -> 21.24
A75: NVD Vidzemes nodaļa | B75: 500200028 | C75: Luika Marita - ģimenes ārsta prakse | D75: 01018 | E75: Ārsta konsultācija pirms vakcinācijas. Nenorāda kopā ar manipulāciju 01061, 60443 un 60444 | F75: 3.54 | G75: 1 | H75: =F75*G75 -> 3.54 | I75: =H75 -> 3.54
A76: NVD Vidzemes nodaļa | B76: 500200029 | C76: Luguzis Egīls - ģimenes ārsta prakse | D76: 01018 | E76: Ārsta konsultācija pirms vakcinācijas. Nenorāda kopā ar manipulāciju 01061, 60443 un 60444 | F76: 3.54 | G76: 6 | H76: =F76*G76 -> 21.24 | I76: =H76 -> 21.24
... A108: NVD Zemgales nodaļa | B108: 741400023 | C108: Tīcmane Gunta - ģimenes ārsta prakse | D108: 01018 | E108: Ārsta konsultācija pirms vakcinācijas. Nenorāda kopā ar manipulāciju 01061, 60443 un 60444 | F108: 3.54 | G108: 1 | H108: =F108*G108 -> 3.54 | I108: =H108 -> 3.54
A109: NVD Kurzemes nodaļa | B109: 027000002 | C109: Dienvidkurzemes novada Veselības aprūpes centrs | D109: 01019 | E109: Ārsta palīga vai vecmātes konsultācija pirms vakcinācijas | F109: 1.97 | G109: 2 | H109: =F109*G109 -> 3.94 | J109: =H109 -> 3.94
A110: NVD Kurzemes nodaļa | B110: 885100006 | C110: Liepa Ingrīda - ģimenes ārsta prakse | D110: 01019 | E110: Ārsta palīga vai vecmātes konsultācija pirms vakcinācijas | F110: 1.97 | G110: 1 | H110: =F110*G110 -> 1.97 | I110: =H110 -> 1.97
A111: NVD Latgales nodaļa | B111: 440800008 | C111: Bogdanovičs Artūrs - ģimenes ārsta un internista prakse | D111: 01019 | E111: Ārsta palīga vai vecmātes konsultācija pirms vakcinācijas | F111: 1.97 | G111: 1 | H111: =F111*G111 -> 1.97 | I111: =H111 -> 1.97
A112: NVD Rīgas nodaļa | B112: 010065801 | C112: PALĪDZĪBAS DIENESTS, Sabiedrība ar ierobežotu atbildību | D112: 01019 | E112: Ārsta palīga vai vecmātes konsultācija pirms vakcinācijas | F112: 1.97 | G112: 1 | H112: =F112*G112 -> 1.97 | I112: =H112 -> 1.97
A113: NVD Rīgas nodaļa | B113: 130024102 | C113: Kauguru veselības centrs, Pašvaldības sabiedrība ar ierobežotu atbildību | D113: 01019 | E113: Ārsta palīga vai vecmātes konsultācija pirms vakcinācijas | F113: 1.97 | G113: 172 | H113: =F113*G113 -> 338.84 | I113: =H113 -> 338.84
A114: NVD Rīgas nodaļa | B114: 804900005 | C114: Ārstu privātprakse "SVĪRE PLUS", Sabiedrība ar ierobežotu atbildību | D114: 01019 | E114: Ārsta palīga vai vecmātes konsultācija pirms vakcinācijas | F114: 1.97 | G114: 1 | H114: =F114*G114 -> 1.97 | I114: =H114 -> 1.97
A115: NVD Vidzemes nodaļa | B115: 010001522 | C115: Salvum TD aprūpe un izglītība, SIA | D115: 01019 | E115: Ārsta palīga vai vecmātes konsultācija pirms vakcinācijas | F115: 1.97 | G115: 94 | H115: =F115*G115 -> 185.18 | I115: =H115 -> 185.18
A116: NVD Vidzemes nodaļa | B116: 360200049 | C116: ALSVIĶU PAGASTA ALSVIĶU FELDŠERU-VECMĀŠU PUNKTS, ALŪKSNES NOVADA PAŠVALDĪBA | D116: 01019 | E116: Ārsta palīga vai vecmātes konsultācija pirms vakcinācijas | F116: 1.97 | G116: 1 | H116: =F116*G116 -> 1.97 | J116: =H116 -> 1.97
A117: NVD Vidzemes nodaļa | B117: 360200056 | C117: MĀRKALNES FELDŠERU PUNKTS, ALŪKSNES NOVADA PAŠVALDĪBA | D117: 01019 | E117: Ārsta palīga vai vecmātes konsultācija pirms vakcinācijas | F117: 1.97 | G117: 3 | H117: =F117*G117 -> 5.91 | J117: =H117 -> 5.91
...

Sheet Vakc_stac_maijs
F1: Pielikums Nr.7 Ministru kabineta rīkojuma "Par finanšu līdzekļu piešķiršanu no valsts budžeta programmas "Finansējums veselības jomas pasākumiem Covid-19 infekcijas izplatības ierobežošanai"" projekta sākotnējās ietekmes novērtējuma ziņojumam (anotācijai)
A2: Piemaksa par Covid-19 vakcināciju stacionāros no 2022.gada janvāra līdz 2022.gada maijam pacientiem, kuri izrakstīti no stacionāra 2022.gada maijā *
A3: Ārstniecības iestādes nosaukums | B3: Manipulācijas kods | C3: Manupulācijas nosaukums | D3: Tarifs, euro | E3: Janvāris, 2022 | F3: Aprīlis, 2022 | G3: Maijs, 2022 | H3: Summa, euro
A4: Daugavpils psihoneiroloģiskā slimnīca | B4: 03081 | C4: Vakcīnas ievadīšana ādā, zemādā un muskulī | D4: 1.1 | F4: 1 | G4: 1 | H4: =ROUND(D4*E4+D4*F4+D4*G4,2) -> 2.2
A5: Daugavpils psihoneiroloģiskā slimnīca | B5: 03083 | C5: Piemaksa manipulācijai 03081 par pacienta Covid-19 vakcinēšanu | D5: 2.05 | F5: 1 | G5: 1 | H5: =ROUND(D5*E5+D5*F5+D5*G5,2) -> 4.1
A6: Daugavpils psihoneiroloģiskā slimnīca | B6: 03098 | C6: Piemaksa manipulācijai 01018 par ārstniecības personu darbu Covid-19 vakcinācijas kabinetā | D6: 1.36 | F6: 1 | G6: 1 | H6: =ROUND(D6*E6+D6*F6+D6*G6,2) -> 2.72
A7: Paula Stradiņa klīniskā universitātes slimnīca | B7: 03081 | C7: Vakcīnas ievadīšana ādā, zemādā un muskulī | D7: 1.1 | E7: 1 | H7: =ROUND(D7*E7+D7*F7+D7*G7,2) -> 1.1
A8: Paula Stradiņa klīniskā universitātes slimnīca | B8: 03083 | C8: Piemaksa manipulācijai 03081 par pacienta Covid-19 vakcinēšanu | D8: 2.05 | E8: 1 | H8: =ROUND(D8*E8+D8*F8+D8*G8,2) -> 2.05
A9: Paula Stradiņa klīniskā universitātes slimnīca | B9: 03098 | C9: Piemaksa manipulācijai 01018 par ārstniecības personu darbu Covid-19 vakcinācijas kabinetā | D9: 1.36 | E9: 1 | H9: =ROUND(D9*E9+D9*F9+D9*G9,2) -> 1.36
A10: Kopā: | H10: =SUM(H4:H9) -> 13.53
H11: =ROUNDUP(H10,0) -> 14
A13: * Manipulāciju skaits tiek iegūts tikai, kad pacients tiek izrakstīts un karte ievadīta Vadības informācijas sistēmā (atbilstoši līgumam par stacionārās veselības aprūpes pakalpojumu sniegšanu un apmaksu starp Nacionālo Veselības Dienestu (turpmāk Dienests) un ārstniecības iestādi 3. pielikumam, Informācijas apmaiņas kārtība, Dienests apmaksā kartes, kas ievadītas ne vēlāk kā 60 dienas pēc izrakstīšanās datuma). Ārstniecības iestāde kartes var labot līdz nākošā kalendārā gada 8. janvārim. Lai iegūtu precīzu apmaksājamo manipulāciju skaitu, Dienests salīdzina iepriekšējos mēnešos veikto manipulāciju skaitu un apmaksā starpību starp veikto manipulāciju skaitu un jau samaksāto manipulāciju skaitu atbilstoši manipulāciju tarifiem. Ņemot vērā, to ka pacients tika izrakstīts maija mēnesī, līdz ar to karte par pacientu tiek ievadīta Vadības informācijas sistēmā arī maija mēnesī.

Sheet Vakc_SAVA_junijs
G1: Pielikums Nr.8 Ministru kabineta rīkojuma "Par finanšu līdzekļu piešķiršanu no valsts budžeta programmas "Finansējums veselības jomas pasākumiem Covid-19 infekcijas izplatības ierobežošanai"" projekta sākotnējās ietekmes novērtējuma ziņojumam (anotācijai)
A2: Veiktais darbs 2022.gada jūnijā par COVID-19 vakcinācijas saistītām manipulācijām SAVA programmās
A3: NVD TN | B3: Ārstniecības iestādes kods | C3: Ārstniecības iestādes nosaukums | D3: Manipulācijas kods | E3: Manipulācijas nosaukums | F3: Manipulāciju tarifs, euro | G3: Manipulāciju skaits kopā | H3: Pakalpojumu summa kopā, euro | I3: EKK 3000 | J3: EKK 7460
A4: Kopā: | G4: 15825 | H4: =I4+J4 -> 53352 | I4: =ROUNDUP(SUM(I5:I266),0) -> 53124 | J4: =ROUNDUP(SUM(J5:J266),0) -> 228
A5: NVD Kurzemes nodaļa | B5: 170024101 | C5: VECLIEPĀJAS PRIMĀRĀS VESELĪBAS APRŪPES CENTRS, Pašvaldības Sabiedrība ar ierobežotu atbildību | D5: 01018 | E5: Ārsta konsultācija pirms vakcinācijas. Nenorāda kopā ar manipulāciju 01061, 60443 un 60444 | F5: 3.54 | G5: 11 | H5: =F5*G5 -> 38.94 | I5: =H5 -> 38.94
A6: NVD Kurzemes nodaļa | B6: 170065204 | C6: L. ATIĶES DOKTORĀTS, SIA | D6: 01018 | E6: Ārsta konsultācija pirms vakcinācijas. Nenorāda kopā ar manipulāciju 01061, 60443 un 60444 | F6: 3.54 | G6: 49 | H6: =F6*G6 -> 173.46 | I6: =H6 -> 173.46
A7: NVD Kurzemes nodaļa | B7: 270020302 | C7: Ziemeļkurzemes reģionālā slimnīca, SIA | D7: 01018 | E7: Ārsta konsultācija pirms vakcinācijas. Nenorāda kopā ar manipulāciju 01061, 60443 un 60444 | F7: 3.54 | G7: 11 | H7: =F7*G7 -> 38.94 | I7: =H7 -> 38.94
A8: NVD Kurzemes nodaļa | B8: 620200038 | C8: Kuldīgas slimnīca, Sabiedrība ar ierobežotu atbildību | D8: 01018 | E8: Ārsta konsultācija pirms vakcinācijas. Nenorāda kopā ar manipulāciju 01061, 60443 un 60444 | F8: 3.54 | G8: 12 | H8: =F8*G8 -> 42.48 | I8: =H8 -> 42.48
A9: NVD Kurzemes nodaļa | B9: 880200016 | C9: TALSU VESELĪBAS CENTRS, SIA | D9: 01018 | E9: Ārsta konsultācija pirms vakcinācijas. Nenorāda kopā ar manipulāciju 01061, 60443 un 60444 | F9: 3.54 | G9: 21 | H9: =F9*G9 -> 74.34 | I9: =H9 -> 74.34
A10: NVD Latgales nodaļa | B10: 050012101 | C10: Daugavpils psihoneiroloģiskā slimnīca, Valsts sabiedrība ar ierobežotu atbildību | D10: 01018 | E10: Ārsta konsultācija pirms vakcinācijas. Nenorāda kopā ar manipulāciju 01061, 60443 un 60444 | F10: 3.54 | G10: 9 | H10: =F10*G10 -> 31.86 | I10: =H10 -> 31.86
A11: NVD Latgales nodaļa | B11: 050020401 | C11: Daugavpils reģionālā slimnīca, Sabiedrība ar ierobežotu atbildību | D11: 01018 | E11: Ārsta konsultācija pirms vakcinācijas. Nenorāda kopā ar manipulāciju 01061, 60443 un 60444 | F11: 3.54 | G11: 30 | H11: =F11*G11 -> 106.2 | I11: =H11 -> 106.2
A12: NVD Latgales nodaļa | B12: 680200030 | C12: Ludzas medicīnas centrs, Sabiedrība ar ierobežotu atbildību | D12: 01018 | E12: Ārsta konsultācija pirms vakcinācijas. Nenorāda kopā ar manipulāciju 01061, 60443 un 60444 | F12: 3.54 | G12: 11 | H12: =F12*G12 -> 38.94 | I12: =H12 -> 38.94
A13: NVD Rīgas nodaļa | B13: 001000043 | C13: Apotheka, SIA | D13: 01018 | E13: Ārsta konsultācija pirms vakcinācijas. Nenorāda kopā ar manipulāciju 01061, 60443 un 60444 | F13: 3.54 | G13: 5 | H13: =F13*G13 -> 17.7 | I13: =H13 -> 17.7
A14: NVD Rīgas nodaļa | B14: 010000171 | C14: I. Paturskas ģimenes veselības centrs, Sabiedrība ar ierobežotu atbildību | D14: 01018 | E14: Ārsta konsultācija pirms vakcinācijas. Nenorāda kopā ar manipulāciju 01061, 60443 un 60444 | F14: 3.54 | G14: 12 | H14: =F14*G14 -> 42.48 | I14: =H14 -> 42.48
A15: NVD Rīgas nodaļa | B15: 010000234 | C15: Rīgas Austrumu klīniskā universitātes slimnīca, SIA | D15: 01018 | E15: Ārsta konsultācija pirms vakcinācijas. Nenorāda kopā ar manipulāciju 01061, 60443 un 60444 | F15: 3.54 | G15: 37 | H15: =F15*G15 -> 130.98 | I15: =H15 -> 130.98
A16: NVD Rīgas nodaļa | B16: 010000898 | C16: MED PROF, Sabiedrība ar ierobežotu atbildību | D16: 01018 | E16: Ārsta konsultācija pirms vakcinācijas. Nenorāda kopā ar manipulāciju 01061, 60443 un 60444 | F16: 3.54 | G16: 2 | H16: =F16*G16 -> 7.08 | I16: =H16 -> 7.08
... A49: NVD Rīgas nodaļa | B49: 010064114 | C49: VESELĪBAS CENTRS 4, Sabiedrība ar ierobežotu atbildību | D49: 01019 | E49: Ārsta palīga vai vecmātes konsultācija pirms vakcinācijas | F49: 1.97 | G49: 189 | H49: =F49*G49 -> 372.33 | I49: =H49 -> 372.33
A50: NVD Rīgas nodaļa | B50: 801400002 | C50: Saulkrastu veselības un sociālās aprūpes centrs, Pašvaldības aģentūra | D50: 01019 | E50: Ārsta palīga vai vecmātes konsultācija pirms vakcinācijas | F50: 1.97 | G50: 30 | H50: =F50*G50 -> 59.1 | J50: =H50 -> 59.1
