Workbook

Sheet kopsavilkums
N1: 1.pielikums
N2: Ministru kabineta rīkojuma projekta
N3: “Par finanšu līdzekļu piešķiršanu no valsts budžeta programmas
N4: “Līdzekļi neparedzētiem gadījumiem”” sākotnējās ietekmes novērtējuma ziņojumam (anotācijai)
A7: Kopsavilkums par papildu nepieciešamo finansējumu Iekšlietu ministrijas padotības iestādēm saistībā ar situāciju uz Latvijas Republikas - Baltkrievijas Republikas valsts robežas - valsts robežas nelikumīgās šķērsošanas gadījumu skaita straujo pieaugumu 2023.gada 1.janvāris līdz 30.aprīlis
N8: 1.tabula
A9: Iekšlietu ministrijas padotības iestāžu faktiskie izdevumi un papildu nepieciešmais finansējums
B11: Faktiskie izdevumi 2023. janvāris-aprīlis | G11: Piešķirts budžetā PP* | J11: Papildu nepieciešams par 2023.janvāris-aprīlis, atskaitot piešķirto PP
A12: Iestāde | B12: Atlīdzība EKK1000 | C12: Preces un pakalpojumi EKK2000, bez EKK2271 | D12: Izdevumi, kas saistīti ar operatīvo darbību EKK2271 | E12: Sociālie pabalsti EKK6000 | F12: Kopā | G12: Atlīdzība EKK1000 | H12: Izdevumi, kas saistīti ar operatīvo darbību EKK2271 | I12: Kopā | J12: Atlīdzība EKK1000 | K12: Preces un pakalpojumi EKK2000, bez EKK2271 | L12: Izdevumi, kas saistīti ar operatīvo darbību EKK2271 | M12: Sociālie pabalsti EKK6000 | N12: Kopā
A13: Valsts policija | B13: ='3.tabula_VP kopā'!G7 -> 1510205 | C13: ='3.tabula_VP kopā'!G10-'3.tabula_VP kopā'!G11 -> 95733 | D13: ='3.tabula_VP kopā'!G11 -> 64683 | F13: =SUM(B13:E13) -> 1670621 | G13: 623377 | H13: 6517 | I13: =G13+H13 -> 629894 | J13: =IF(B13-G13<0,0,B13-G13) -> 886828 | K13: =C13 -> 95733 | L13: =D13-H13 -> 58166 | M13: =E13 -> 0 | N13: =SUM(J13:M13) -> 1040727
A14: Valsts robežsardze | B14: ='4.tabula_VRS kopā'!G6 -> 234054 | F14: =SUM(B14:E14) -> 234054 | G14: 31261 | I14: =G14+H14 -> 31261 | J14: =IF(B14-G14<0,0,B14-G14) -> 202793 | K14: =IF(C14-H14<0,0,C14-H14) -> 0 | L14: =D14-H14 -> 0 | M14: =E14 -> 0 | N14: =SUM(J14:M14) -> 202793
A15: Valsts robežsardzes koledža | B15: ='5.tabula_VRK kopā '!F6 -> 554 | F15: =SUM(B15:E15) -> 554 | I15: =G15+H15 -> 0 | J15: =IF(B15-G15<0,0,B15-G15) -> 554 | K15: =IF(C15-H15<0,0,C15-H15) -> 0 | L15: =D15-H15 -> 0 | M15: =E15 -> 0 | N15: =SUM(J15:M15) -> 554
A16: Pilsonības un migrācijas lietu pārvalde | B16: ='6.tabula_PMLP kopā'!G6 -> 108941 | E16: ='6.tabula_PMLP kopā'!G9 -> 36500 | F16: =SUM(B16:E16) -> 145441 | G16: 13226 | I16: =G16+H16 -> 13226 | J16: =IF(B16-G16<0,0,B16-G16) -> 95715 | K16: =IF(C16-H16<0,0,C16-H16) -> 0 | L16: =D16-H16 -> 0 | M16: =E16 -> 36500 | N16: =SUM(J16:M16) -> 132215
A17: Valsts drošības dienests | D17: ='7.tabula_VDD kopā'!D7 -> 33344 | F17: =SUM(B17:E17) -> 33344 | H17: 8012 | I17: =G17+H17 -> 8012 | J17: =IF(B17-G17<0,0,B17-G17) -> 0 | K17: =IF(C17-H17<0,0,C17-H17) -> 0 | L17: =D17-H17 -> 25332 | M17: =E17 -> 0 | N17: =SUM(J17:M17) -> 25332
A18: KOPĀ | B18: =SUM(B13:B17) -> 1853754 | C18: =SUM(C13:C17) -> 95733 | D18: =SUM(D13:D17) -> 98027 | E18: =SUM(E13:E17) -> 36500 | F18: =SUM(F13:F17) -> 2084014 | G18: =SUM(G13:G17) -> 667864 | H18: =SUM(H13:H17) -> 14529 | I18: =SUM(I13:I17) -> 682393 | ... N18: =SUM(N13:N17) -> 1401621
A20: * 2023.-2025. gada prioritārajam pasākumam “Atlīdzības nodrošināšana amatpersonām (darbiniekiem) saistībā ar situāciju uz Latvijas Republikas - Krievijas Federācijas un Baltkrievijas Republikas valsts robežas” piešķirtais finansējums
E22: 2.tabula
A23: Iekšlietu ministrijas padotības iestādēm papildu nepieciešmais finansējums
A25: Iestāde | B25: Atlīdzība EKK1000 | C25: Preces un pakalpojumi EKK2000* | D25: Sociālie pabalsti EKK6000 | E25: Kopā
A26: I. Izdevumi saistībā ar rīkojuma Nr. 518 izpildei nepieciešamo pasākumu īstenošanu
A27: Valsts policija | B27: ='3.tabula_VP kopā'!I14 -> 818630 | C27: ='3.tabula_VP kopā'!I20 -> 150093 | E27: =SUM(B27:D27) -> 968723
A28: Valsts robežsardze | B28: ='4.tabula_VRS kopā'!I11 -> 184795 | E28: =SUM(B28:D28) -> 184795
A29: Valsts robežsardzes koledža | B29: ='5.tabula_VRK kopā '!F11 -> 511 | E29: =SUM(B29:D29) -> 511
A30: Pilsonības un migrācijas lietu pārvalde | B30: ='6.tabula_PMLP kopā'!I12 -> 87337 | D30: ='6.tabula_PMLP kopā'!I17 -> 36500 | E30: =SUM(B30:D30) -> 123837
A31: Valsts drošības dienests | C31: ='7.tabula_VDD kopā'!F7 -> 25332 | E31: =SUM(B31:D31) -> 25332
A32: KOPĀ | B32: =SUM(B27:B31) -> 1091273 | C32: =SUM(C27:C31) -> 175425 | D32: =SUM(D27:D31) -> 36500 | E32: =SUM(E27:E31) -> 1303198
A33: II. Vidējās izpeļņas pieauguma kompensēšanai*
A34: Valsts policija | B34: ='3.tabula_VP kopā'!I32 -> 68198 | C34: ='3.tabula_VP kopā'!I36 -> 3806 | E34: =SUM(B34:D34) -> 72004
A35: Valsts robežsardze | B35: ='4.tabula_VRS kopā'!I18 -> 17998 | E35: =SUM(B35:D35) -> 17998
A36: Valsts robežsardzes koledža | B36: ='5.tabula_VRK kopā '!F17 -> 43 | E36: =SUM(B36:D36) -> 43
A37: Pilsonības un migrācijas lietu pārvalde | B37: ='6.tabula_PMLP kopā'!I21 -> 8378 | E37: =SUM(B37:D37) -> 8378
A38: KOPĀ | B38: =SUM(B34:B37) -> 94617 | E38: =SUM(E34:E37) -> 98423
A39: III. Izdevumi saistībā ar rīkojuma Nr. 518 izpildei nepieciešamo pasākumu īstenošanu un vidējās izpeļņas pieauguma kompensēšanai
A40: Valsts policija | B40: =B27+B34 -> 886828 | C40: =C27+C34 -> 153899 | E40: =E27+E34 -> 1040727
A41: Valsts robežsardze | B41: =B28+B35 -> 202793 | E41: =E28+E35 -> 202793
A42: Valsts robežsardzes koledža | B42: =B29+B36 -> 554 | E42: =E29+E36 -> 554
A43: Pilsonības un migrācijas lietu pārvalde | B43: =B30+B37 -> 95715 | D43: =D30+D37 -> 36500 | E43: =E30+E37 -> 132215
A44: Valsts drošības dienests | C44: =C31 -> 25332 | E44: =E31 -> 25332
A45: KOPĀ | B45: =SUM(B40:B44) -> 1185890 | C45: =SUM(C40:C44) -> 179231 | D45: =SUM(D40:D44) -> 36500 | E45: =SUM(E40:E44) -> 1401621
A47: pārbaude | B47: =B32+B38 -> 1185890 | C47: =C32+C38 -> 175425 | E47: =D32+D38 -> 36500
A49: *tai skaitā EKK 2271 Izdevumi, kas saistīti ar operatīvo darbību (informācija klasificēta).

Sheet 3.tabula_VP kopā
I1: 1.pielikuma 3.tabula
A3: Valsts policijai papildu nepieciešmais finansējums saistībā ar situāciju uz Latvijas Republikas - Baltkrievijas Republikas valsts robežas no 2023. gada 1. janvāra līdz 30. aprīlim
A5: Kods | B5: Koda nosaukums | C5: 2023.gada janvāris | D5: 2023.gada februāris | E5: 2023.gada marts | F5: 2023.gada aprīlis | G5: Kopā 2023.gada janvāris-aprīlis | H5: Piešķirts finansējums PP "Atlīdzības nodrošināšana amatpersonām (darbiniekiem) saistībā ar situāciju uz Latvijas Republikas - Krievijas Federācijas un Baltkrievijas Republikas valsts robežas", euro | I5: Papildus nepieciešamais finansējums, euro
A6: Izdevumi kopā ar vidējās izpeļņas pieauguma kompensēšanu | C6: =C7+C10 -> 98083 | D6: =D7+D10 -> 78133 | E6: =E7+E10 -> 91319 | F6: =F7+F10 -> 1403086 | G6: =G7+G10 -> 1670621 | H6: =H7+H10 -> 629894 | I6: =I7+I10 -> 1040727
A7: 1000 | B7: Atlīdzība | C7: =ROUNDUP(C8+C9,0) -> 69031 | D7: =ROUND(D8+D9,0) -> 54376 | E7: =ROUND(E8+E9,0) -> 57449 | F7: =ROUND(F8+F9,0) -> 1329349 | G7: =ROUND(G8+G9,0) -> 1510205 | H7: =ROUNDUP(H8+H9,0) -> 623377 | I7: =ROUND(I8+I9,2) -> 886827.98
A8: 1100 | B8: Atalgojums | C8: =C33+C15 -> 55856.36 | D8: =D33+D15 -> 43998.52 | E8: =E33+E15 -> 46484.04 | F8: =F33+F15 -> 1075647.5 | G8: =G33+G15 -> 1221986.4 | H8: =H33+H15 -> 504394 | I8: =I33+I15 -> 717592.43
A9: 1210 | B9: Darba devēja valsts sociālās apdrošināšanas obligātās iemaksas | C9: =C35+C19 -> 13174.08 | D9: =D35+D19 -> 10377.08 | E9: =E35+E19 -> 10965.03 | F9: =F35+F19 -> 253701.73 | G9: =G35+G19 -> 288218.16 | H9: =H35+H19 -> 118982.61 | I9: =I35+I19 -> 169235.55
A10: 2000 | B10: Preces un pakalpojumi | C10: =C36+C20 -> 29052 | D10: =D36+D20 -> 23757 | E10: =E36+E20 -> 33870 | F10: =F36+F20 -> 73737 | G10: =G36+G20 -> 160416 | H10: =H36+H20 -> 6517 | I10: =I36+I20 -> 153899
A11: 2271 | B11: Izdevumi, kas saistīti ar operatīvo darbību | C11: =C23+C37 -> 5111 | D11: =D23+D37 -> 5797 | E11: =E23+E37 -> 6220 | F11: =F23+F37 -> 47555 | G11: =G23+G37 -> 64683 | H11: =H23+H37 -> 6517 | I11: =I23+I37 -> 58166
A13: 1) Izdevumi saistībā ar rīkojuma Nr. 518 izpildei nepieciešamo pasākumu īstenošanu | C13: =C14+C20 -> 92537 | D13: =D14+D20 -> 73505 | E13: =E14+E20 -> 86597 | F13: =F14+F20 -> 1297360 | G13: =G14+G20 -> 1549999 | H13: =H14+H20 -> 581276 | I13: =I14+I20 -> 968723
A14: 1000 | B14: Atlīdzība | C14: =ROUNDUP(C15+C19,0) -> 63723 | D14: =ROUNDUP(D15+D19,0) -> 50194 | E14: =ROUNDUP(E15+E19,0) -> 53031 | F14: =ROUND(F15+F19,0) -> 1227125 | G14: =ROUNDUP(G15+G19,0) -> 1394073 | H14: =ROUNDUP(H15+H19,0) -> 575443 | I14: =ROUND(I15+I19,0) -> 818630
A15: 1100 | B15: Atalgojums | C15: =SUM(C16:C18) -> 51561.3 | D15: =SUM(D16:D18) -> 40614.52 | E15: =SUM(E16:E18) -> 42909.66 | F15: =SUM(F16:F18) -> 992935.51 | G15: =SUM(G16:G18) -> 1128021 | H15: =SUM(H16:H18) -> 465609 | I15: =SUM(I16:I18) -> 662411.99
A16: 1141 | B16: Piemaksa par nakts darbu | C16: 21618.26 | D16: 16687.55 | E16: 18348.77 | F16: 18410.18 | G16: =SUM(C16:F16) -> 75064.76 | H16: 74204 | I16: =G16-H16 -> 860.76
A17: 1142 | B17: Samaksa par virsstundu darbu un darbu svētku dienās | C17: 4594.14 | D17: 3109.89 | F17: =12946.05+938943.12 -> 951889.17 | G17: =SUM(C17:F17) -> 959593.2 | H17: 305157 | I17: =G17-H17 -> 654436.2
A18: 1145 | B18: Piemaksa par darbu īpašos apstākļos, speciālās piemaksas | C18: 25348.9 | D18: 20817.08 | E18: 24560.89 | F18: 22636.16 | G18: =SUM(C18:F18) -> 93363.03 | H18: 86248 | I18: =G18-H18 -> 7115.03
A19: 1210 | B19: Darba devēja valsts sociālās apdrošināšanas obligātās iemaksas | C19: 12161.08 | D19: 9579.08 | E19: 10121.03 | F19: 234189.97 | G19: =SUM(C19:F19) -> 266051.16 | H19: 109833.61 | I19: =G19-H19 -> 156217.55
A20: 2000 | B20: Preces un pakalpojumi | C20: =ROUNDUP(SUM(C21:C29),0) -> 28814 | D20: =ROUNDDOWN(SUM(D21:D29),0) -> 23311 | E20: =ROUNDUP(SUM(E21:E29),0) -> 33566 | F20: =ROUND(SUM(F21:F29),0) -> 70235 | G20: =ROUNDUP(SUM(G21:G29),0) -> 155926 | H20: =ROUNDUP(SUM(H21:H29),0) -> 5833 | I20: =ROUND(SUM(I21:I29),0) -> 150093
A21: 2111 | B21: Dienas nauda | C21: 613.6 | D21: 566.4 | E21: 1551.2 | F21: 1476.8 | G21: =SUM(C21:F21) -> 4208 | I21: =G21-H21 -> 4208
A22: 2112 | B22: Pārējie komandējumu un darba braucienu izdevumi | C22: 2730 | D22: =(12*12*15)+(3*13*15) -> 2745 | E22: =(13*28*15) -> 5460 | F22: =(13*27*15)+(4*12*15) -> 5985 | G22: =SUM(C22:F22) -> 16920 | I22: =G22-H22 -> 16920
A23: 2271 | B23: Izdevumi, kas saistīti ar operatīvo darbību | C23: 4873 | D23: 5351 | E23: 5916 | F23: 44053 | G23: =SUM(C23:F23) -> 60193 | H23: 5833 | I23: =G23-H23 -> 54360
A24: 2312 | B24: Inventārs | C24: =1016.4+333.96 -> 1350.36 | E24: =7*111.32 -> 779.24 | G24: =SUM(C24:F24) -> 2129.6 | I24: =G24-H24 -> 2129.6
A25: 2322 | B25: Degviela | C25: =ROUND((76*1341.55*1.564*8.84)/100,2)+0.04 -> 14096.48 | D25: =ROUNDUP((78*1029.38*1.543*8.33)/100,2)+0.03 -> 10320.07 | E25: =ROUNDUP((102*901.78*1.466*8.39)/100,2)+0.05 -> 11313.55 | F25: 9835.94 | G25: =SUM(C25:F25) -> 45566.04 | I25: =G25-H25 -> 45566.04
A26: 2350 | B26: Kārtējā remonta un iestāžu uzturēšanas materiāli | C26: 51.46 | D26: =51.46+49.13+26.75+25.7 -> 153.04 | E26: =(4*13.495)+(100*2.7723)+(100*0.3146)+(100*0.3025) -> 392.92 | F26: =(50*2.7704) -> 138.52 | G26: =SUM(C26:F26) -> 735.94 | I26: =G26-H26 -> 735.94
A27: 2363 | B27: Ēdināšanas izdevumi | C27: 3948 | D27: =726+984+976+1342 -> 4028 | E27: =(236*6)+(243*8)+(242*8)+(123*22) -> 8002 | F27: =1620+2128+2160+2838 -> 8746 | G27: =SUM(C27:F27) -> 24724 | I27: =G27-H27 -> 24724
A28: 2389 | B28: Pārējie specifiskas lietošanas materiāli un inventārs | C28: 996 | G28: =SUM(C28:F28) -> 996 | I28: =G28-H28 -> 996
A29: 2390 | B29: Pārējās preces | C29: 155 | D29: 147.62 | E29: =(204*0.7381) -> 150.5724 | G29: =SUM(C29:F29) -> 453.1924 | I29: =G29-H29 -> 453.1924
A31: 2) Vidējās izpeļņas pieauguma kompensēšanai | C31: =C32+C36 -> 5546.06 | D31: =D32+D36 -> 4628 | E31: =E32+E36 -> 4722.38 | F31: =F32+F36 -> 105725.76 | G31: =G32+G36 -> 120622 | H31: =H32+H36 -> 48618 | I31: =I32+I36 -> 72004
A32: 1000 | B32: Atlīdzība | C32: =C33+C35 -> 5308.06 | D32: =D33+D35 -> 4182 | E32: =E33+E35 -> 4418.38 | F32: =F33+F35 -> 102223.76 | G32: =ROUND(G33+G35,0) -> 116132 | H32: =ROUNDUP(H33+H35,0) -> 47934 | I32: =ROUND(I33+I35,0) -> 68198
A33: 1100 | B33: Atalgojums | C33: =C34 -> 4295.06 | D33: =D34 -> 3384 | E33: =E34 -> 3574.38 | F33: =F34 -> 82712 | G33: =ROUND(SUM(G34:G34),2) -> 93965.44 | H33: =ROUND(SUM(H34:H34),2) -> 38785 | I33: =ROUND(SUM(I34:I34),2) -> 55180.44
A34: 1116 | B34: Mēnešalga amatpersonām ar speciālajām dienesta pakāpēm | C34: =ROUNDUP((C17+C18+C16)*8.33%,2) -> 4295.06 | D34: =ROUNDUP((D17+D18+D16)*8.33%,0) -> 3384 | E34: =ROUNDUP((E17+E18+E16)*8.33%,2) -> 3574.38 | F34: =ROUND((F17+F18+F16)*8.33%,0) -> 82712 | G34: =ROUND(SUM(C34:F34),2) -> 93965.44 | H34: 38785 | I34: =G34-H34 -> 55180.44
A35: 1210 | B35: Darba devēja valsts sociālās apdrošināšanas obligātās iemaksas | C35: =ROUNDDOWN(C34*0.2359,0) -> 1013 | D35: =ROUNDDOWN(D34*0.2359,0) -> 798 | E35: =ROUNDUP(E34*0.2359,0) -> 844 | F35: =ROUND(F34*0.2359,2) -> 19511.76 | G35: =ROUNDUP(SUM(C35:F35),0) -> 22167 | H35: 9149 | I35: =G35-H35 -> 13018
A36: 2000 | B36: Preces un pakalpojumi | C36: =ROUNDUP(SUM(C37:C37),2) -> 238 | D36: =ROUNDUP(SUM(D37:D37),2) -> 446 | E36: =ROUNDUP(SUM(E37:E37),2) -> 304 | F36: =ROUND(SUM(F37:F37),2) -> 3502 | G36: =ROUNDUP(SUM(G37:G37),0) -> 4490 | H36: =ROUNDUP(SUM(H37:H37),0) -> 684 | I36: =ROUND(SUM(I37:I37),2) -> 3806
A37: 2271 | B37: Izdevumi, kas saistīti ar operatīvo darbību | C37: 238 | D37: 446 | E37: 304 | F37: 3502 | G37: =SUM(C37:F37) -> 4490 | H37: 684 | I37: =G37-H37 -> 3806

Sheet 4.tabula_VRS kopā
I1: 1.pielikuma 4.tabula
A2: Valsts robežsardzei papildu nepieciešamais finansējums saistībā ar situāciju uz Latvijas Republikas - Baltkrievijas Republikas valsts robežas no 2023. gada 1. janvāra līdz 30. aprīlim
A4: Kods | B4: Koda nosaukums | C4: 2023.gada janvāris | D4: 2023.gada februāris | E4: 2023.gada marts | F4: 2023.gada aprīlis | G4: Kopā 2023.gada janvāris-aprīlis | H4: Piešķirts finansējums PP "Atlīdzības nodrošināšana amatpersonām (darbiniekiem) saistībā ar situāciju uz Latvijas Republikas - Krievijas Federācijas un Baltkrievijas Republikas valsts robežas", euro | I4: Papildus nepieciešamais finansējums , euro
A5: Izdevumi kopā ar vidējās izpeļņas pieauguma kompensēšanu | C5: =C10+C17 -> 58356.24 | D5: =D10+D17 -> 52025.03 | E5: =E10+E17 -> 65275.12 | F5: =F10+F17 -> 58396.62 | G5: =G10+G17 -> 234054 | H5: =H10+H17 -> 31261 | I5: =I10+I17 -> 202793
A6: 1000 | B6: Atlīdzība | C6: =ROUND(C7+C8,2) -> 58356.24 | D6: =ROUND(D7+D8,2) -> 52025.03 | E6: =ROUND(E7+E8,2) -> 65275.12 | F6: =ROUND(F7+F8,2) -> 58396.62 | G6: =ROUNDUP(G7+G8,0) -> 234054 | H6: =ROUND(H7+H8,2) -> 31261 | I6: =ROUNDUP(I7+I8,0) -> 202793
A7: 1100 | B7: Atalgojums | C7: =C12+C19 -> 47217.58 | D7: =D12+D19 -> 42094.74 | E7: =E12+E19 -> 52815.88 | F7: =F12+F19 -> 47250.27 | G7: =G12+G19 -> 189378.47 | H7: =H12+H19 -> 25294 | I7: =I12+I19 -> 164084.47
A8: 1210 | B8: Darba devēja valsts sociālās apdrošināšanas obligātās iemaksas | C8: =C15+C20 -> 11138.66 | D8: =D15+D20 -> 9930.29 | E8: =E15+E20 -> 12459.24 | F8: =F15+F20 -> 11146.35 | G8: =G15+G20 -> 44674.54 | H8: =H15+H20 -> 5967 | I8: =I15+I20 -> 38707.54
A10: 1) Izdevumi saistībā ar rīkojuma Nr. 518 izpildei nepieciešamo pasākumu īstenošanu | C10: =C11 -> 53868.96 | D10: =D11 -> 48024.59 | E10: =E11 -> 60255.81 | F10: =F11 -> 53906.24 | G10: =G11 -> 216056 | H10: =H11 -> 31261 | I10: =I11 -> 184795
A11: 1000 | B11: Atlīdzība | C11: =ROUND(C12+C15,2) -> 53868.96 | D11: =ROUND(D12+D15,2) -> 48024.59 | E11: =ROUND(E12+E15,2) -> 60255.81 | F11: =ROUND(F12+F15,2) -> 53906.24 | G11: =ROUNDUP(G12+G15,0) -> 216056 | H11: =ROUND(H12+H15,2) -> 31261 | I11: =ROUNDUP(I12+I15,0) -> 184795
A12: 1100 | B12: Atalgojums | C12: =SUM(C13:C14) -> 43586.8 | D12: =SUM(D13:D14) -> 38857.88 | E12: =SUM(E13:E14) -> 48754.62 | F12: =SUM(F13:F14) -> 43616.98 | G12: =SUM(G13:G14) -> 174816.28 | H12: =SUM(H13:H14) -> 25294 | I12: =SUM(I13:I14) -> 149522.28
A13: 1145 | B13: Piemaksa par darbu īpašos apstākļos, speciālās piemaksas | C13: 38833.26 | D13: 35841.48 | E13: 45027.58 | F13: 39936.92 | G13: =SUM(C13:F13) -> 159639.24 | H13: 24860.43 | I13: =G13-H13 -> 134778.81
A14: 1149 | B14: Citas normatīvajos aktos noteiktās piemaksas, kas nav iepriekš klasificētas | C14: 4753.54 | D14: 3016.4 | E14: 3727.04 | F14: 3680.06 | G14: =SUM(C14:F14) -> 15177.04 | H14: 433.57 | I14: =G14-H14 -> 14743.47
A15: 1210 | B15: Darba devēja valsts sociālās apdrošināšanas obligātās iemaksas | C15: 10282.16 | D15: 9166.71 | E15: 11501.19 | F15: 10289.26 | G15: =SUM(C15:F15) -> 41239.32 | H15: 5967 | I15: =G15-H15 -> 35272.32
A17: 2) Vidējās izpeļņas pieauguma kompensēšanai | C17: =C18 -> 4487.28 | D17: =D18 -> 4000.44 | E17: =E18 -> 5019.31 | F17: =F18 -> 4490.38 | G17: =G18 -> 17998 | I17: =I18 -> 17998
A18: 1000 | B18: Atlīdzība | C18: =ROUND(C19+C20,2) -> 4487.28 | D18: =ROUND(D19+D20,2) -> 4000.44 | E18: =ROUND(E19+E20,2) -> 5019.31 | F18: =ROUND(F19+F20,2) -> 4490.38 | G18: =ROUNDUP(G19+G20,0) -> 17998 | I18: =ROUNDUP(I19+I20,0) -> 17998
A19: 1100 | B19: Atalgojums | C19: =ROUND(C12*0.0833,2) -> 3630.78 | D19: =ROUND(D12*0.0833,2) -> 3236.86 | E19: =ROUND(E12*0.0833,2) -> 4061.26 | F19: =ROUND(F12*0.0833,2) -> 3633.29 | G19: =SUM(C19:F19) -> 14562.19 | I19: =G19-H19 -> 14562.19
A20: 1210 | B20: Darba devēja valsts sociālās apdrošināšanas obligātās iemaksas | C20: =ROUND(C19*0.2359,2) -> 856.5 | D20: =ROUND(D19*0.2359,2) -> 763.58 | E20: =ROUND(E19*0.2359,2) -> 958.05 | F20: =ROUND(F19*0.2359,2) -> 857.09 | G20: =SUM(C20:F20) -> 3435.22 | I20: =G20-H20 -> 3435.22

Sheet 5.tabula_VRK kopā 
F1: 1.pielikuma 5.tabula
A2: Valsts robežsardzes koledžai papildu nepieciešamais finansējums saistībā ar situāciju uz Latvijas Republikas - Baltkrievijas Republikas valsts robežas no 2023. gada 1. janvāra līdz 30. aprīlim
A4: Kods | B4: Koda nosaukums | C4: 2023.gada janvāris | D4: 2023.gada februāris | E4: 2023.gada aprīlis | F4: Kopā 2023.gada janvāris-aprīlis -papildu nepieciešamais finansējums , euro
A5: Izdevumi kopā ar vidējās izpeļņas pieauguma kompensēšanu | C5: =C10+C16 -> 362.44 | D5: =D10+D16 -> 189.56 | E5: =E10+E16 -> 1.48 | F5: =F10+F16 -> 554
A6: 1000 | B6: Atlīdzība | C6: =ROUND(C7+C8,2) -> 362.44 | D6: =ROUND(D7+D8,2) -> 189.56 | E6: =ROUND(E7+E8,2) -> 1.48 | F6: =ROUNDUP(F7+F8,0) -> 554
A7: 1100 | B7: Atalgojums | C7: =C12+C18 -> 293.27 | D7: =D12+D18 -> 153.38 | E7: =E12+E18 -> 1.2 | F7: =F12+F18 -> 447.85
A8: 1210 | B8: Darba devēja valsts sociālās apdrošināšanas obligātās iemaksas | C8: =C14+C19 -> 69.17 | D8: =D14+D19 -> 36.18 | E8: =E14+E19 -> 0.28 | F8: =F14+F19 -> 105.63
A10: 1) Izdevumi saistībā ar rīkojuma Nr. 518 izpildei nepieciešamo pasākumu īstenošanu | C10: =C11 -> 334.57 | D10: =D11 -> 174.99 | E10: =E11 -> 1.37 | F10: =F11 -> 511
A11: 1000 | B11: Atlīdzība | C11: =ROUND(C12+C14,2) -> 334.57 | D11: =ROUND(D12+D14,2) -> 174.99 | E11: =ROUND(E12+E14,2) -> 1.37 | F11: =ROUNDUP(F12+F14,0) -> 511
A12: 1100 | B12: Atalgojums | C12: =SUM(C13:C13) -> 270.72 | D12: =SUM(D13:D13) -> 141.59 | E12: =SUM(E13:E13) -> 1.11 | F12: =SUM(F13:F13) -> 413.42
A13: 1145 | B13: Piemaksa par darbu īpašos apstākļos, speciālās piemaksas | C13: 270.72 | D13: 141.59 | E13: 1.11 | F13: =SUM(C13:E13) -> 413.42
A14: 1210 | B14: Darba devēja valsts sociālās apdrošināšanas obligātās iemaksas | C14: 63.85 | D14: 33.4 | E14: 0.26 | F14: =SUM(C14:E14) -> 97.51
A16: 2) Vidējās izpeļņas pieauguma kompensēšanai | C16: =C17 -> 27.87 | D16: =D17 -> 14.57 | E16: =E17 -> 0.11 | F16: =F17 -> 43
A17: 1000 | B17: Atlīdzība | C17: =ROUND(C18+C19,2) -> 27.87 | D17: =ROUND(D18+D19,2) -> 14.57 | E17: =ROUND(E18+E19,2) -> 0.11 | F17: =ROUNDUP(F18+F19,0) -> 43
A18: 1100 | B18: Atalgojums | C18: =ROUND(C12*0.0833,2) -> 22.55 | D18: =ROUND(D12*0.0833,2) -> 11.79 | E18: =ROUND(E12*0.0833,2) -> 0.09 | F18: =SUM(C18:E18) -> 34.43
A19: 1210 | B19: Darba devēja valsts sociālās apdrošināšanas obligātās iemaksas | C19: =ROUND(C18*0.2359,2) -> 5.32 | D19: =ROUND(D18*0.2359,2) -> 2.78 | E19: =ROUND(E18*0.2359,2) -> 0.02 | F19: =SUM(C19:E19) -> 8.12

Sheet 6.tabula_PMLP kopā
I1: 1.pielikuma 6.tabula
A2: Pilsonības un migrācijas lietu pārvaldei papildu nepieciešamais finansējums, nodrošinot patvēruma procedūras efektīvu norisi, būtiski pieaugot patvēruma meklētāju skaitam saistībā ar situāciju uz Latvijas Republikas - Baltkrievijas Republikas valsts robežas, par laika periodu no 2023. gada 1.janvāra līdz 30.aprīlim
A4: Kods | B4: Koda nosaukums | C4: 2023.gada janvāris | D4: 2023.gada februāris | E4: 2023.gada marts | F4: 2023.gada aprīlis | G4: Kopā 2023.gada janvāris-aprīlis | H4: Piešķirts finansējums PP "Atlīdzības nodrošināšana amatpersonām (darbiniekiem) saistībā ar situāciju uz Latvijas Republikas - Krievijas Federācijas un Baltkrievijas Republikas valsts robežas", euro | I4: Papildus nepieciešamais finansējums, euro
A5: Izdevumi kopā ar vidējās izpeļņas pieauguma kompensēšanu | C5: =C11+C20 -> 39494.51 | D5: =D11+D20 -> 34666.93 | E5: =E11+E20 -> 32745.02 | F5: =F11+F20 -> 38534.24 | G5: =G11+G20 -> 145441 | H5: =H11+H20 -> 13226 | I5: =I11+I20 -> 132215
A6: 1000 | B6: Atlīdzība | C6: =ROUND(C7+C8,2) -> 29494.51 | D6: =ROUND(D7+D8,2) -> 25166.93 | E6: =ROUND(E7+E8,2) -> 24245.02 | F6: =ROUND(F7+F8,2) -> 30034.24 | G6: =ROUNDUP(G7+G8,0) -> 108941 | H6: =ROUND(H7+H8,2) -> 13226 | I6: =ROUNDUP(I7+I8,0) -> 95715
A7: 1100 | B7: Atalgojums | C7: =C13+C22 -> 23869.02 | D7: =D13+D22 -> 20363.94 | E7: =E13+E22 -> 19617.3 | F7: =F13+F22 -> 24306.89 | G7: =G13+G22 -> 88157.15 | H7: =H13+H22 -> 10701.52 | I7: =I13+I22 -> 77455.63
A8: 1210 | B8: Darba devēja valsts sociālās apdrošināšanas obligātās iemaksas | C8: =C16+C23 -> 5625.49 | D8: =D16+D23 -> 4802.99 | E8: =E16+E23 -> 4627.72 | F8: =F16+F23 -> 5727.35 | G8: =G16+G23 -> 20783.55 | H8: =H16+H23 -> 2524.48 | I8: =I16+I23 -> 18259.07
A9: 6000 | B9: Sociālie pabalsti | C9: =C17 -> 10000 | D9: =D17 -> 9500 | E9: =E17 -> 8500 | F9: =F17 -> 8500 | G9: =G17 -> 36500 | I9: =I17 -> 36500
A11: 1) Izdevumi saistībā ar rīkojuma Nr. 518 izpildei nepieciešamo pasākumu īstenošanu | C11: =C12+C17 -> 37226.14 | D11: =D12+D17 -> 32731.66 | E11: =E12+E17 -> 30880.7 | F11: =F12+F17 -> 36224.26 | G11: =G12+G17 -> 137063 | H11: =H12+H17 -> 13226 | I11: =I12+I17 -> 123837
A12: 1000 | B12: Atlīdzība | C12: =ROUND(C13+C16,2) -> 27226.14 | D12: =ROUND(D13+D16,2) -> 23231.66 | E12: =ROUND(E13+E16,2) -> 22380.7 | F12: =ROUND(F13+F16,2) -> 27724.26 | G12: =ROUNDUP(G13+G16,0) -> 100563 | H12: =ROUND(H13+H16,2) -> 13226 | I12: =ROUNDUP(I13+I16,0) -> 87337
A13: 1100 | B13: Atalgojums | C13: =SUM(C14:C15) -> 22033.62 | D13: =SUM(D14:D15) -> 18798.06 | E13: =SUM(E14:E15) -> 18108.83 | F13: =SUM(F14:F15) -> 22437.82 | G13: =SUM(G14:G15) -> 81378.33 | H13: =SUM(H14:H15) -> 10701.52 | I13: =SUM(I14:I15) -> 70676.81
A14: 1142 | B14: Samaksa par virsstundu darbu un darbu svētku dienās | C14: 12983.49 | D14: 11010.35 | E14: 10868.63 | F14: 14561.15 | G14: =SUM(C14:F14) -> 49423.62 | H14: 10701.52 | I14: =G14-H14 -> 38722.1
A15: 1149 | B15: Citas normatīvajos aktos noteiktās piemaksas, kas nav iepriekš klasificētas | C15: 9050.13 | D15: 7787.71 | E15: 7240.2 | F15: 7876.67 | G15: =SUM(C15:F15) -> 31954.71 | I15: =G15-H15 -> 31954.71
A16: 1210 | B16: Darba devēja valsts sociālās apdrošināšanas obligātās iemaksas | C16: 5192.52 | D16: 4433.6 | E16: 4271.87 | F16: 5286.44 | G16: =SUM(C16:F16) -> 19184.43 | H16: 2524.48 | I16: =G16-H16 -> 16659.95
A17: 6000 | B17: Sociālie pabalsti | C17: =C18 -> 10000 | D17: =D18 -> 9500 | E17: =E18 -> 8500 | F17: =F18 -> 8500 | G17: =G18 -> 36500 | I17: =I18 -> 36500
A18: 6239 | B18: Pārējie valsts pabalsti un kompensācijas | C18: 10000 | D18: 9500 | E18: 8500 | F18: 8500 | G18: =SUM(C18:F18) -> 36500 | I18: =G18-H18 -> 36500
A20: 2) Vidējās izpeļņas pieauguma kompensēšanai | C20: =C21 -> 2268.37 | D20: =D21 -> 1935.27 | E20: =E21 -> 1864.32 | F20: =F21 -> 2309.98 | G20: =G21 -> 8378 | I20: =I21 -> 8378
A21: 1000 | B21: Atlīdzība | C21: =ROUND(C22+C23,2) -> 2268.37 | D21: =ROUND(D22+D23,2) -> 1935.27 | E21: =ROUND(E22+E23,2) -> 1864.32 | F21: =ROUND(F22+F23,2) -> 2309.98 | G21: =ROUNDUP(G22+G23,0) -> 8378 | I21: =ROUNDUP(I22+I23,0) -> 8378
A22: 1100 | B22: Atalgojums | C22: =ROUND(C13*0.0833,2) -> 1835.4 | D22: =ROUND(D13*0.0833,2) -> 1565.88 | E22: =ROUND(E13*0.0833,2) -> 1508.47 | F22: =ROUND(F13*0.0833,2) -> 1869.07 | G22: =SUM(C22:F22) -> 6778.82 | I22: =G22-H22 -> 6778.82
A23: 1210 | B23: Darba devēja valsts sociālās apdrošināšanas obligātās iemaksas | C23: =ROUND(C22*0.2359,2) -> 432.97 | D23: =ROUND(D22*0.2359,2) -> 369.39 | E23: =ROUND(E22*0.2359,2) -> 355.85 | F23: =ROUND(F22*0.2359,2) -> 440.91 | G23: =SUM(C23:F23) -> 1599.12 | I23: =G23-H23 -> 1599.12

Sheet 7.tabula_VDD kopā
F1: 1.pielikuma 7.tabula
A3: Valsts drošības dienestam papildu nepieciešamais finansējums saistībā ar situāciju uz Latvijas Republikas - Baltkrievijas Republikas valsts robežas no 2023. gada 1. janvāra līdz 30. aprīlim
A5: Kods | B5: Koda nosaukums | C5: Detalizēts izdevumu aprēķins | D5: Izdevumi, euro | E5: Piešķirts finansējums PP "Atlīdzības nodrošināšana amatpersonām (darbiniekiem) saistībā ar situāciju uz Latvijas Republikas - Krievijas Federācijas un Baltkrievijas Republikas valsts robežas", euro | F5: Papildus nepieciešamais finansējums, euro
A6: Izdevumi saistībā ar rīkojuma Nr. 518 izpildei nepieciešamo pasākumu īstenošanu | D6: =D7 -> 33344 | E6: =E7 -> 8012 | F6: =F7 -> 25332
A7: 2000 | B7: Preces un pakalpojumi | D7: =D8 -> 33344 | E7: =E8 -> 8012 | F7: =F8 -> 25332
A8: 2271 | B8: Izdevumi, kas saistīti ar operatīvo darbību | C8: Informācija klasificēta. Aprēķins par laika periodu no 2023.gada 1. janvāri līdz 30. aprīlim (janvāris 224 euro+ februāris 224 euro+ marts 3688,43 euro+ aprīlis 15 611,75 euro = 33 343,04 euro) . | D8: 33344 | E8: 8012 | F8: =D8-E8 -> 25332
