Workbook

Sheet VP apr
D1: 2.pielikums
D2: Ministru kabineta rīkojuma projekta “Par apropriācijas pārdali no budžeta resora
D3: “74. Gadskārtējā valsts budžeta izpildes procesā pārdalāmais finansējums”
D4: programmas 22.00.00 “Valsts ārējās robežas drošības pasākumu nodrošināšana””
D5: sākotnējās ietekmes novērtējuma ziņojumam (anotācijai)
A7: Valsts policijas izdevumi
A8: Kopasavilkums
A10: Kods | B10: Koda nosaukums | C10: Detalizēts izdevumu aprēķins | D10: Izdevumi, euro
A11: Izdevumi kopā ar vidējās izpeļņas pieauguma kompensēšanu | D11: =D12+D15 -> 442710
A12: 1000 | B12: Atlīdzība | C12: × | D12: =D18+D33 -> 432653
A13: 1100 | B13: Atalgojums | C13: × | D13: =D34+D19 -> 350125.04
A14: 1210 | B14: Darba devēja valsts sociālās apdrošināšanas obligātās iemaksas | C14: × | D14: =D36+D26 -> 82527.99
A15: 2000 | B15: Preces un pakalpojumi | C15: × | D15: =D27 -> 10057
A17: 1) Izdevumi saistībā ar rīkojuma Nr. 184 un rīkojuma Nr. 514 izpildei nepieciešamo pasākumu īstenošanu | D17: =D18+D27 -> 409436
A18: 1000 | B18: Atlīdzība | C18: × | D18: =ROUNDUP(D19+D26,0) -> 399379
A19: 1100 | B19: Atalgojums | C19: × | D19: =SUM(D20:D25) -> 323202.04
A20: 1141 | B20: Piemaksa par nakts darbu | C20: Detalizēts aprēķins par laika periodu no 2024. gada 1. aprīļa līdz 30. aprīlim 1.tabulā. Iesaistītas 223 personas, kopējais iesaistes laiks 3 276 stundas. | D20: ='1.tabula'!G6 -> 15226.45
A21: 1142 | B21: Samaksa par virsstundu darbu un darbu svētku dienās | C21: 1) Samaksa par virsstundu darbu Detalizēts aprēķins par laika periodu no 2024. gada 1. janvāra līdz 10. februārim saistībā ar rīkojuma Nr. 514 izpildei nepieciešamo pasākumu īstenošanu 2.1. tabulā. Iesaistītas 59 personas, kopējais iesaistes laiks 828.50 stundas. | D21: =' 2.1.tabula'!G6 -> 14702.19
C22: 2) Samaksa par virsstundu darbu Detalizēts aprēķins par laika periodu no 2024. gada 13. marta līdz 30. aprīlim saistībā ar rīkojuma Nr. 184 izpildei nepieciešamo pasākumu īstenošanu 2.2. tabulā. Iesaistītas 407 personas, kopējais iesaistes laiks 14 808,75 stundas. | D22: =' 2.2.tabula'!G6 -> 271284.63
C23: 3) Piemaksa par darbu svētku dienu (01.04) Detalizēts aprēķins par laika periodu no no 2024. gada 1. aprīļa līdz 30. aprīlim 3.tabulā. Iesaistītas 25 personas, kopējais iesaistes laiks 256,50 stundas. | D23: ='3.tabula'!G6 -> 2492.14
A24: 1145 | B24: Piemaksa par darbu īpašos apstākļos, speciālās piemaksas | C24: Detalizēts aprēķins par laika periodu no 2024. gada 1. aprīļa līdz 30. aprīlim 4.tabulā. Iesaistītas 385 personas, kopējais iesaistes laiks 9 803 stundas. | D24: ='4.tabula'!H7 -> 19496.63
A25: 1146 | B25: Piemaksa par personisko darba ieguldījumu un darba kvalitāti
A26: 1210 | B26: Darba devēja valsts sociālās apdrošināšanas obligātās iemaksas | C26: 23,59% no aprēķinātā atalgojuma * izņemot 4 personas, kurām tiek piemērota nodokļu likme 21,94% (izdienas pensionārs) | D26: ='1.tabula'!H6+' 2.1.tabula'!H6+' 2.2.tabula'!H6+'3.tabula'!H6+'4.tabula'!I7 -> 76176.92
A27: 2000 | B27: Preces un pakalpojumi | C27: × | D27: =ROUNDUP(SUM(D28:D30),0) -> 10057
A28: 2322 | B28: Degviela | C28: Detalizēts aprēķins par laika periodu no 2024. gada 1. aprīļa līdz 30. aprīlim 5.tabulā. Pasākuma nodrošināšanai tika iesaistīti 65 transportlīdzekļi; Vidēji viena transportlīdzekļa nobraukums 1329,57 km; Vidējā degvielas cena 1,523 euro/l; Vidējais degvielas patēriņš 7,22 l/km uz 100 km. 65 t-ldz. x 1329,57 km x 1,523 euro/l x 7,22 l/km ÷ 100 km = 9 503,51 euro | D28: ='5.tabula'!F6 -> 9503.51
A29: 2350 | B29: Kārtējā remonta un iestāžu uzturēšanas materiāli | C29: Tualetes papīrs 72 gab. x 1,0866 euro = 78,23 euro Atkritumu maisi 4 iepak. x 2,537 euro = 10,15 euro Šķidrās ziepes 5 L / 3 gab. x 8,385 euro = 25,16 euro Veļas mazg. līdzeklis 6 gab. x 10,29 euro = 61,74 euro | D29: =(72*1.0866)+(2.537*4)+(8.385*3)+(10.29*6) -> 175.2782
A30: 2390 | B30: Pārējās preces | C30: Dzeramais ūdens 5 L / 400 gab. x 0,9438 euro = 377,52 euro | D30: =0.9438*400 -> 377.52
A32: 2) Vidējās izpeļņas pieauguma kompensēšanai | D32: =D33 -> 33274
A33: 1000 | B33: Atlīdzība | C33: × | D33: =ROUND(D34+D36,0) -> 33274
A34: 1100 | B34: Atalgojums | C34: × | D34: =ROUNDUP(D35,0) -> 26923
A35: 1116 | B35: Mēnešalga amatpersonām ar speciālajām dienesta pakāpēm | C35: 323 202,04 euro × 8,33% = 26 922,73 euro. | D35: =ROUND(D19*8.33%,2) -> 26922.73
A36: 1210 | B36: Darba devēja valsts sociālās apdrošināšanas obligātās iemaksas | C36: 23,59% no aprēķinātā atalgojuma | D36: =ROUND(D35*0.2359,2) -> 6351.07

Sheet 1.tabula
I1: 1.tabula
A2: Valsts policija
A3: Piemaksa par nakts darbu amatpersonām ar speciālajām dienesta pakāpēm, kuras laika periodā no 2024. gada 1. aprīļa līdz 30. aprīlim tika iesaistītas atbalsta sniegšanā Valsts robežsardzei Latvijas Republikas-Baltkrievijas Republikas valsts robežas robežuzraudzības nodrošināšanā
E4: 166.92
A5: Nr. p.k. | B5: Struktūrvienība | C5: Amats | D5: Mēnešalga amatpersonām ar speciālajām pakāpēm | E5: Stundas likme | F5: Stundu skaits | G5: Piemaksa par nakts darbu | H5: DD VSAOI | I5: Atlīdzība
A6: kopā | F6: =SUM(F7:F229) -> 3276 | G6: =SUM(G7:G229) -> 15226.45 | H6: =SUM(H7:H229) -> 3587.54 | I6: =SUM(I7:I229) -> 18813.99
A7: 1 | B7: VP LATGALES RP ZIEMEĻLATGALES IECIRKNIS | C7: iecirkņa priekšnieka vietnieks, Reaģēšanas nodaļas priekšnieks | D7: 2305 | E7: =ROUND(D7/$E$4,3) -> 13.809 | F7: 8 | G7: 55.24 | H7: =ROUND(G7*0.2359,2) -> 13.03 | I7: =G7+H7 -> 68.27
A8: =A7+1 -> 2 | B8: VP LATGALES RP ZIEMEĻLATGALES IECIRKŅA IZMEKLĒŠANAS NODAĻAS 2.GRUPA | C8: inspektors | D8: 1553 | E8: =ROUND(D8/$E$4,3) -> 9.304 | F8: 16 | G8: 74.43 | H8: =ROUND(G8*0.2359,2) -> 17.56 | I8: =G8+H8 -> 91.99
A9: =A8+1 -> 3 | B9: VP LATGALES RP DIENVIDLATGALES IECIRKŅA REAĢĒŠANAS NODAĻAS 3.GRUPA | C9: vecākais inspektors | D9: 1495 | E9: =ROUND(D9/$E$4,3) -> 8.956 | F9: 16 | G9: 71.65 | H9: =ROUND(G9*0.2359,2) -> 16.9 | I9: =G9+H9 -> 88.55
A10: =A9+1 -> 4 | B10: VP LATGALES RP DIENVIDLATGALES IECIRKŅA REAĢĒŠANAS NODAĻAS 7.GRUPA | C10: inspektors | D10: 1425 | E10: =ROUND(D10/$E$4,3) -> 8.537 | F10: 8 | G10: 34.15 | H10: =ROUND(G10*0.2359,2)-0.01 -> 8.05 | I10: =G10+H10 -> 42.2
A11: =A10+1 -> 5 | B11: VP LATGALES RP DIENVIDLATGALES IECIRKŅA REAĢĒŠANAS NODAĻAS 7.GRUPA | C11: jaunākais inspektors | D11: 1242 | E11: =ROUND(D11/$E$4,3) -> 7.441 | F11: 16 | G11: 59.53 | H11: =ROUND(G11*0.2359,2) -> 14.04 | I11: =G11+H11 -> 73.57
A12: =A11+1 -> 6 | B12: VP LATGALES RP DIENVIDLATGALES IECIRKŅA IZMEKLĒŠANAS NODAĻAS 5.GRUPA | C12: inspektors | D12: 1553 | E12: =ROUND(D12/$E$4,3) -> 9.304 | F12: 8 | G12: 37.22 | H12: =ROUND(G12*0.2359,2) -> 8.78 | I12: =G12+H12 -> 46
A13: =A12+1 -> 7 | B13: VP LATGALES RP DIENVIDLATGALES IECIRKŅA REAĢĒŠANAS NODAĻAS 1.GRUPA | C13: inspektors | D13: 1425 | E13: =ROUND(D13/$E$4,3) -> 8.537 | F13: 8 | G13: 34.15 | H13: =ROUND(G13*0.2359,2) -> 8.06 | I13: =G13+H13 -> 42.21
A14: =A13+1 -> 8 | B14: VP LATGALES RP ZIEMEĻLATGALES IECIRKŅA PREVENCIJAS GRUPA | C14: vecākais inspektors | D14: 1523 | E14: =ROUND(D14/$E$4,3) -> 9.124 | F14: 8 | G14: 36.5 | H14: =ROUND(G14*0.2359,2) -> 8.61 | I14: =G14+H14 -> 45.11
A15: =A14+1 -> 9 | B15: VP LATGALES RP KĀRTPB ATĻAUJU SISTĒMAS GRUPA | C15: inspektors | D15: 1297 | E15: =ROUND(D15/$E$4,3) -> 7.77 | F15: 24 | G15: 93.24 | H15: =ROUND(G15*0.2359,2) -> 22 | I15: =G15+H15 -> 115.24
A16: =A15+1 -> 10 | B16: VP LATGALES RP ZIEMEĻLATGALES IECIRKŅA REAĢĒŠANAS NODAĻAS 10.GRUPA | C16: galvenais inspektors | D16: 1680 | E16: =ROUND(D16/$E$4,3) -> 10.065 | F16: 2 | G16: 10.07 | H16: =ROUND(G16*0.2359,2) -> 2.38 | I16: =G16+H16 -> 12.45
A17: =A16+1 -> 11 | B17: VP LATGALES RP ZIEMEĻLATGALES IECIRKŅA REAĢĒŠANAS NODAĻAS 7.GRUPA | C17: vecākais inspektors | D17: 1495 | E17: =ROUND(D17/$E$4,3) -> 8.956 | F17: 8 | G17: 35.82 | H17: =ROUND(G17*0.2359,2)-0.01 -> 8.44 | I17: =G17+H17 -> 44.26
A18: =A17+1 -> 12 | B18: VP LATGALES RP DIENVIDLATGALES IECIRKŅA REAĢĒŠANAS NODAĻAS 6.GRUPA | C18: jaunākais inspektors | D18: 1242 | E18: =ROUND(D18/$E$4,3) -> 7.441 | F18: 16 | G18: 59.53 | H18: =ROUND(G18*0.2359,2) -> 14.04 | I18: =G18+H18 -> 73.57
A19: =A18+1 -> 13 | B19: VP LATGALES RP ZIEMEĻLATGALES IECIRKŅA IZMEKLĒŠANAS NODAĻAS 2.GRUPA | C19: galvenais inspektors | D19: 2040 | E19: =ROUND(D19/$E$4,3) -> 12.221 | F19: 8 | G19: 48.88 | H19: =ROUND(G19*0.2359,2) -> 11.53 | I19: =G19+H19 -> 60.41
A20: =A19+1 -> 14 | B20: VP LATGALES RP DIENVIDLATGALES IECIRKŅA IZMEKLĒŠANAS NODAĻAS 2.GRUPA | C20: galvenais inspektors | D20: 1821 | E20: =ROUND(D20/$E$4,3) -> 10.909 | F20: 8 | G20: 43.64 | H20: =ROUND(G20*0.2359,2) -> 10.29 | I20: =G20+H20 -> 53.93
A21: =A20+1 -> 15 | B21: VP LATGALES RP DIENVIDLATGALES IECIRKŅA IZMEKLĒŠANAS NODAĻAS 6.GRUPA | C21: vecākais inspektors | D21: 1503 | E21: =ROUND(D21/$E$4,3) -> 9.004 | F21: 8 | G21: 36.02 | H21: =ROUND(G21*0.2359,2) -> 8.5 | I21: =G21+H21 -> 44.52
A22: =A21+1 -> 16 | B22: VP LATGALES RP ZIEMEĻLATGALES IECIRKŅA IZMEKLĒŠANAS NODAĻAS 4.GRUPA | C22: inspektors | D22: 1851 | E22: =ROUND(D22/$E$4,3) -> 11.089 | F22: 16 | G22: 88.71 | H22: =ROUND(G22*0.2359,2)-0.01 -> 20.92 | I22: =G22+H22 -> 109.63
A23: =A22+1 -> 17 | B23: VP LATGALES RP ZIEMEĻLATGALES IECIRKŅA IZMEKLĒŠANAS NODAĻAS 3.GRUPA | C23: inspektors | D23: 1561 | E23: =ROUND(D23/$E$4,3) -> 9.352 | F23: 16 | G23: 74.82 | H23: =ROUND(G23*0.2359,2) -> 17.65 | I23: =G23+H23 -> 92.47
A24: =A23+1 -> 18 | B24: VP LATGALES REĢIONA PĀRVALDES DISCIPLINĀRĀS UZRAUDZĪBAS GRUPA | C24: galvenais inspektors | D24: 1692 | E24: =ROUND(D24/$E$4,3) -> 10.137 | F24: 24 | G24: 121.64 | H24: =ROUND(G24*0.2359,2)-0.01 -> 28.68 | I24: =G24+H24 -> 150.32
A25: =A24+1 -> 19 | B25: VP LATGALES RP KĀRTPB RESURSU UN KRĪZES VADĪBAS NODAĻA | C25: nodaļas priekšnieks | D25: 1898 | E25: =ROUND(D25/$E$4,3) -> 11.371 | F25: 22 | G25: 125.08 | H25: =ROUND(G25*0.2359,2)-0.01 -> 29.5 | I25: =G25+H25 -> 154.58
A26: =A25+1 -> 20 | B26: VP LATGALES RP KĀRTPB ATĻAUJU SISTĒMAS GRUPA | C26: inspektors | D26: 1277 | E26: =ROUND(D26/$E$4,3) -> 7.65 | F26: 16 | G26: 61.2 | H26: =ROUND(G26*0.2359,2) -> 14.44 | I26: =G26+H26 -> 75.64
A27: =A26+1 -> 21 | B27: VP LATGALES RP ZIEMEĻLATGALES IECIRKŅA IZMEKLĒŠANAS NODAĻAS 5.GRUPA | C27: vecākais inspektors | D27: 1640 | E27: =ROUND(D27/$E$4,3) -> 9.825 | F27: 16 | G27: 78.6 | H27: =ROUND(G27*0.2359,2) -> 18.54 | I27: =G27+H27 -> 97.14
A28: =A27+1 -> 22 | B28: VP LATGALES RP DIENVIDLATGALES IECIRKŅA IZMEKLĒŠANAS NODAĻAS 8.GRUPA | C28: inspektors | D28: 1445 | E28: =ROUND(D28/$E$4,3) -> 8.657 | F28: 8 | G28: 34.63 | H28: =ROUND(G28*0.2359,2) -> 8.17 | I28: =G28+H28 -> 42.8
A29: =A28+1 -> 23 | B29: VP LATGALES RP KRIMPB ORGANIZĒTĀS NOZIEDZĪBAS SMAGO UN SĒRIJVEIDA NOZIEGUMU APKAROŠANAS NODAĻA | C29: vecākais inspektors | D29: 1672 | E29: =ROUND(D29/$E$4,3) -> 10.017 | F29: 8 | G29: 40.07 | H29: =ROUND(G29*0.2359,2) -> 9.45 | I29: =G29+H29 -> 49.52
A30: =A29+1 -> 24 | B30: VP LATGALES RP ZIEMEĻLATGALES IECIRKŅA REAĢĒŠANAS NODAĻAS 6.GRUPA | C30: galvenais inspektors | D30: 1744 | E30: =ROUND(D30/$E$4,3) -> 10.448 | F30: 16 | G30: 83.58 | H30: =ROUND(G30*0.2359,2) -> 19.72 | I30: =G30+H30 -> 103.3
A31: =A30+1 -> 25 | B31: VP LATGALES RP DIENVIDLATGALES IECIRKŅA IZMEKLĒŠANAS NODAĻAS 6.GRUPA | C31: inspektors | D31: 1445 | E31: =ROUND(D31/$E$4,3) -> 8.657 | F31: 6 | G31: 25.97 | H31: =ROUND(G31*0.2359,2) -> 6.13 | I31: =G31+H31 -> 32.1
A32: =A31+1 -> 26 | B32: VP LATGALES RP ZIEMEĻLATGALES IECIRKŅA IZMEKLĒŠANAS NODAĻAS 6.GRUPA | C32: inspektors | D32: 1581 | E32: =ROUND(D32/$E$4,3) -> 9.472 | F32: 8 | G32: 37.89 | H32: =ROUND(G32*0.2359,2) -> 8.94 | I32: =G32+H32 -> 46.83
A33: =A32+1 -> 27 | B33: VP LATGALES RP KRIMPB EKONOMISKO NOZIEGUMU APKAROŠANAS NODAĻA | C33: vecākais inspektors | D33: 1652 | E33: =ROUND(D33/$E$4,3) -> 9.897 | F33: 8 | G33: 39.59 | H33: =ROUND(G33*0.2359,2) -> 9.34 | I33: =G33+H33 -> 48.93
A34: =A33+1 -> 28 | B34: VP LATGALES RP KĀRTPB RESURSU UN KRĪZES VADĪBAS NODAĻA | C34: nodaļas priekšnieka vietnieks | D34: 1706 | E34: =ROUND(D34/$E$4,3) -> 10.22 | F34: 16 | G34: 81.76 | H34: =ROUND(G34*0.2359,2) -> 19.29 | I34: =G34+H34 -> 101.05
A35: =A34+1 -> 29 | B35: VP LATGALES RP KĀRTPB PREVENCIJAS GRUPA | C35: galvenais inspektors | D35: 2043 | E35: =ROUND(D35/$E$4,3) -> 12.239 | F35: 16 | G35: 97.91 | H35: =ROUND(G35*0.2359,2) -> 23.1 | I35: =G35+H35 -> 121.01
A36: =A35+1 -> 30 | B36: VP LATGALES RP DIENVIDLATGALES IECIRKŅA REAĢĒŠANAS NODAĻAS 10.GRUPA | C36: vecākais inspektors | D36: 1475 | E36: =ROUND(D36/$E$4,3) -> 8.837 | F36: 16 | G36: 70.7 | H36: =ROUND(G36*0.2359,2)-0.01 -> 16.67 | I36: =G36+H36 -> 87.37
A37: =A36+1 -> 31 | B37: VP LATGALES RP DIENVIDLATGALES IECIRKŅA IZMEKLĒŠANAS NODAĻAS 9.GRUPA | C37: vecākais inspektors | D37: 1523 | E37: =ROUND(D37/$E$4,3) -> 9.124 | F37: 16 | G37: 72.99 | H37: =ROUND(G37*0.2359,2) -> 17.22 | I37: =G37+H37 -> 90.21
A38: =A37+1 -> 32 | B38: VP LATGALES RP DIENVIDLATGALES IECIRKŅA REAĢĒŠANAS NODAĻAS 10.GRUPA | C38: inspektors | D38: 1472 | E38: =ROUND(D38/$E$4,3) -> 8.819 | F38: 8 | G38: 35.28 | H38: =ROUND(G38*0.2359,2) -> 8.32 | I38: =G38+H38 -> 43.6
A39: =A38+1 -> 33 | B39: VP LATGALES RP ZIEMEĻLATGALES IECIRKNIS | C39: iecirkņa priekšnieka vietnieks, Izmeklēšanas nodaļas priekšnieks | D39: 2264 | E39: =ROUND(D39/$E$4,3) -> 13.563 | F39: 8 | G39: 54.25 | H39: =ROUND(G39*0.2359,2) -> 12.8 | I39: =G39+H39 -> 67.05
A40: =A39+1 -> 34 | B40: VP LATGALES RP DIENVIDLATGALES IECIRKŅA REAĢĒŠANAS NODAĻAS 1.GRUPA | C40: vecākais inspektors | D40: 1495 | E40: =ROUND(D40/$E$4,3) -> 8.956 | F40: 16 | G40: 71.65 | H40: =ROUND(G40*0.2359,2) -> 16.9 | I40: =G40+H40 -> 88.55
A41: =A40+1 -> 35 | B41: VP GKĀRTPP RKVP SPECIĀLO UZDEVUMU BATALJONA 4.ROTA (LATGALES REĢIONA) | C41: jaunākais inspektors | D41: 1450 | E41: =ROUND(D41/$E$4,3) -> 8.687 | F41: 56 | G41: 243.24 | H41: =ROUND(G41*0.2359,2) -> 57.38 | I41: =G41+H41 -> 300.62
A42: =A41+1 -> 36 | B42: VP LATGALES RP ZIEMEĻLATGALES IECIRKŅA IZMEKLĒŠANAS NODAĻAS 9.GRUPA | C42: galvenais inspektors | D42: 1640 | E42: =ROUND(D42/$E$4,3) -> 9.825 | F42: 8 | G42: 39.3 | H42: =ROUND(G42*0.2359,2) -> 9.27 | I42: =G42+H42 -> 48.57
A43: =A42+1 -> 37 | B43: VP GKĀRTPP RKVP SPECIĀLO UZDEVUMU BATALJONA 4.ROTA (LATGALES REĢIONA) | C43: rotas komandieris | D43: 2146 | E43: =ROUND(D43/$E$4,3) -> 12.856 | F43: 56 | G43: 359.97 | H43: =ROUND(G43*0.2359,2) -> 84.92 | I43: =G43+H43 -> 444.89
A44: =A43+1 -> 38 | B44: VP LATGALES RP ZIEMEĻLATGALES IECIRKŅA IZMEKLĒŠANAS NODAĻAS 1.GRUPA | C44: inspektors | D44: 1823 | E44: =ROUND(D44/$E$4,3) -> 10.921 | F44: 8 | G44: 43.68 | H44: =ROUND(G44*0.2359,2) -> 10.3 | I44: =G44+H44 -> 53.98
A45: =A44+1 -> 39 | B45: VP LATGALES RP ZIEMEĻLATGALES IECIRKŅA IZMEKLĒŠANAS NODAĻAS 1.GRUPA | C45: inspektors | D45: 1581 | E45: =ROUND(D45/$E$4,3) -> 9.472 | F45: 16 | G45: 75.78 | H45: =ROUND(G45*0.2359,2)-0.01 -> 17.87 | I45: =G45+H45 -> 93.65
A46: =A45+1 -> 40 | B46: VP LATGALES RP ZIEMEĻLATGALES IECIRKŅA REAĢĒŠANAS NODAĻAS 7.GRUPA | C46: vecākais inspektors | D46: 1495 | E46: =ROUND(D46/$E$4,3) -> 8.956 | F46: 8 | G46: 35.82 | H46: =ROUND(G46*0.2359,2) -> 8.45 | I46: =G46+H46 -> 44.27
A47: =A46+1 -> 41 | B47: VP LATGALES RP DIENVIDLATGALES IECIRKŅA IZMEKLĒŠANAS NODAĻAS 8.GRUPA | C47: vecākais inspektors | D47: 1495 | E47: =ROUND(D47/$E$4,3) -> 8.956 | F47: 8 | G47: 35.82 | H47: =ROUND(G47*0.2359,2) -> 8.45 | I47: =G47+H47 -> 44.27
A48: =A47+1 -> 42 | B48: VP LATGALES RP DIENVIDLATGALES IECIRKŅA REAĢĒŠANAS NODAĻAS 9.GRUPA | C48: vecākais inspektors | D48: 1523 | E48: =ROUND(D48/$E$4,3) -> 9.124 | F48: 8 | G48: 36.5 | H48: =ROUND(G48*0.2359,2) -> 8.61 | I48: =G48+H48 -> 45.11
A49: =A48+1 -> 43 | B49: VP LATGALES RP DIENVIDLATGALES IECIRKŅA REAĢĒŠANAS NODAĻAS 5.GRUPA | C49: vecākais inspektors | D49: 1495 | E49: =ROUND(D49/$E$4,3) -> 8.956 | F49: 8 | G49: 35.82 | H49: =ROUND(G49*0.2359,2) -> 8.45 | I49: =G49+H49 -> 44.27
A50: =A49+1 -> 44 | B50: VP LATGALES RP ZIEMEĻLATGALES IECIRKŅA REAĢĒŠANAS NODAĻAS 2.GRUPA | C50: galvenais inspektors | D50: 1882 | E50: =ROUND(D50/$E$4,3) -> 11.275 | F50: 8 | G50: 45.1 | H50: =ROUND(G50*0.2359,2) -> 10.64 | I50: =G50+H50 -> 55.74
A51: =A50+1 -> 45 | B51: VP LATGALES RP DIENVIDLATGALES IECIRKŅA IZMEKLĒŠANAS NODAĻAS 9.GRUPA | C51: galvenais inspektors | D51: 1671 | E51: =ROUND(D51/$E$4,3) -> 10.011 | F51: 8 | G51: 40.04 | H51: =ROUND(G51*0.2359,2) -> 9.45 | I51: =G51+H51 -> 49.49
A52: =A51+1 -> 46 | B52: VP LATGALES RP ZIEMEĻLATGALES IECIRKŅA REAĢĒŠANAS NODAĻAS 4.GRUPA | C52: jaunākais inspektors | D52: 1222 | E52: =ROUND(D52/$E$4,3) -> 7.321 | F52: 8 | G52: 29.28 | H52: =ROUND(G52*0.2359,2) -> 6.91 | I52: =G52+H52 -> 36.19
A53: =A52+1 -> 47 | B53: VP LATGALES RP KĀRTPB ATĻAUJU SISTĒMAS GRUPA | C53: inspektors | D53: 1547 | E53: =ROUND(D53/$E$4,3) -> 9.268 | F53: 8 | G53: 37.07 | H53: =ROUND(G53*0.2359,2) -> 8.74 | I53: =G53+H53 -> 45.81
A54: =A53+1 -> 48 | B54: VP LATGALES RP DIENVIDLATGALES IECIRKŅA REAĢĒŠANAS NODAĻAS 10.GRUPA | C54: inspektors | D54: 1472 | E54: =ROUND(D54/$E$4,3) -> 8.819 | F54: 8 | G54: 35.28 | H54: =ROUND(G54*0.2359,2) -> 8.32 | I54: =G54+H54 -> 43.6
A55: =A54+1 -> 49 | B55: VP LATGALES RP ZIEMEĻLATGALES IECIRKŅA IZMEKLĒŠANAS NODAĻAS 3.GRUPA | C55: galvenais inspektors | D55: 2165 | E55: =ROUND(D55/$E$4,3) -> 12.97 | F55: 8 | G55: 51.88 | H55: =ROUND(G55*0.2359,2)-0.01 -> 12.23 | I55: =G55+H55 -> 64.11
A56: =A55+1 -> 50 | B56: VP LATGALES RP KĀRTPB RESURSU UN KRĪZES VADĪBAS NODAĻA | C56: operatīvais dežurants | D56: 1656 | E56: =ROUND(D56/$E$4,3) -> 9.921 | F56: 8 | G56: 39.68 | H56: =ROUND(G56*0.2359,2) -> 9.36 | I56: =G56+H56 -> 49.04
A57: =A56+1 -> 51 | B57: VP LATGALES RP ZIEMEĻLATGALES IECIRKŅA IZMEKLĒŠANAS NODAĻAS 5.GRUPA | C57: vecākais inspektors | D57: 1591 | E57: =ROUND(D57/$E$4,3) -> 9.532 | F57: 8 | G57: 38.13 | H57: =ROUND(G57*0.2359,2) -> 8.99 | I57: =G57+H57 -> 47.12
A58: =A57+1 -> 52 | B58: VP LATGALES REĢIONA PĀRVALDES VADĪBA | C58: reģiona pārvaldes priekšnieka vietnieks, kārtības policijas biroja priekšnieks | D58: 2653 | E58: =ROUND(D58/$E$4,3) -> 15.894 | F58: 6 | G58: 47.68 | H58: =ROUND(G58*0.2359,2) -> 11.25 | I58: =G58+H58 -> 58.93
A59: =A58+1 -> 53 | B59: VP LATGALES RP DIENVIDLATGALES IECIRKŅA IZMEKLĒŠANAS NODAĻAS 2.GRUPA | C59: inspektors | D59: 1581 | E59: =ROUND(D59/$E$4,3) -> 9.472 | F59: 32 | G59: 151.55 | H59: =ROUND(G59*0.2359,2)-0.01 -> 35.74 | I59: =G59+H59 -> 187.29
A60: =A59+1 -> 54 | B60: VP LATGALES RP ZIEMEĻLATGALES IECIRKŅA IZMEKLĒŠANAS NODAĻAS 2.GRUPA | C60: vecākais inspektors | D60: 1640 | E60: =ROUND(D60/$E$4,3) -> 9.825 | F60: 8 | G60: 39.3 | H60: =ROUND(G60*0.2359,2) -> 9.27 | I60: =G60+H60 -> 48.57
A61: =A60+1 -> 55 | B61: VP LATGALES RP DIENVIDLATGALES IECIRKŅA IZMEKLĒŠANAS NODAĻAS 7.GRUPA | C61: inspektors | D61: 1472 | E61: =ROUND(D61/$E$4,3) -> 8.819 | F61: 8 | G61: 35.28 | H61: =ROUND(G61*0.2359,2) -> 8.32 | I61: =G61+H61 -> 43.6
A62: =A61+1 -> 56 | B62: VP LATGALES RP ZIEMEĻLATGALES IECIRKŅA IZMEKLĒŠANAS NODAĻAS 1.GRUPA | C62: inspektors | D62: 1581 | E62: =ROUND(D62/$E$4,3) -> 9.472 | F62: 16 | G62: 75.78 | H62: =ROUND(G62*0.2359,2) -> 17.88 | I62: =G62+H62 -> 93.66
A63: =A62+1 -> 57 | B63: VP LATGALES RP ZIEMEĻLATGALES IECIRKŅA IZMEKLĒŠANAS NODAĻAS 3.GRUPA | C63: vecākais inspektors | D63: 1640 | E63: =ROUND(D63/$E$4,3) -> 9.825 | F63: 8 | G63: 39.3 | H63: =ROUND(G63*0.2359,2) -> 9.27 | I63: =G63+H63 -> 48.57
A64: =A63+1 -> 58 | B64: VP LATGALES RP ZIEMEĻLATGALES IECIRKŅA PREVENCIJAS GRUPA | C64: inspektors | D64: 1472 | E64: =ROUND(D64/$E$4,3) -> 8.819 | F64: 8 | G64: 35.28 | H64: =ROUND(G64*0.2359,2) -> 8.32 | I64: =G64+H64 -> 43.6
A65: =A64+1 -> 59 | B65: VP LATGALES RP ZIEMEĻLATGALES IECIRKŅA REAĢĒŠANAS NODAĻAS 9.GRUPA | C65: inspektors | D65: 1425 | E65: =ROUND(D65/$E$4,3) -> 8.537 | F65: 8 | G65: 34.15 | H65: =ROUND(G65*0.2359,2) -> 8.06 | I65: =G65+H65 -> 42.21
A66: =A65+1 -> 60 | B66: VP LATGALES RP DIENVIDLATGALES IECIRKŅA PREVENCIJAS GRUPA | C66: inspektors | D66: 1452 | E66: =ROUND(D66/$E$4,3) -> 8.699 | F66: 8 | G66: 34.8 | H66: =ROUND(G66*0.2359,2) -> 8.21 | I66: =G66+H66 -> 43.01
A67: =A66+1 -> 61 | B67: VP LATGALES RP DIENVIDLATGALES IECIRKŅA IZMEKLĒŠANAS NODAĻAS 5.GRUPA | C67: galvenais inspektors | D67: 1861 | E67: =ROUND(D67/$E$4,3) -> 11.149 | F67: 16 | G67: 89.19 | H67: =ROUND(G67*0.2359,2) -> 21.04 | I67: =G67+H67 -> 110.23
A68: =A67+1 -> 62 | B68: VP LATGALES RP ZIEMEĻLATGALES IECIRKŅA IZMEKLĒŠANAS NODAĻAS 1.GRUPA | C68: vecākais inspektors | D68: 1881 | E68: =ROUND(D68/$E$4,3) -> 11.269 | F68: 8 | G68: 45.08 | H68: =ROUND(G68*0.2359,2) -> 10.63 | I68: =G68+H68 -> 55.71
A69: =A68+1 -> 63 | B69: VP LATGALES RP DIENVIDLATGALES IECIRKŅA REAĢĒŠANAS NODAĻAS 10.GRUPA | C69: vecākais inspektors | D69: 1475 | E69: =ROUND(D69/$E$4,3) -> 8.837 | F69: 16 | G69: 70.7 | H69: =ROUND(G69*0.2359,2)-0.01 -> 16.67 | I69: =G69+H69 -> 87.37
A70: =A69+1 -> 64 | B70: VP LATGALES RP ZIEMEĻLATGALES IECIRKŅA IZMEKLĒŠANAS NODAĻAS 1.GRUPA | C70: vecākais inspektors | D70: 1640 | E70: =ROUND(D70/$E$4,3) -> 9.825 | F70: 18 | G70: 88.43 | H70: =ROUND(G70*0.2359,2) -> 20.86 | I70: =G70+H70 -> 109.29
A71: =A70+1 -> 65 | B71: VP LATGALES RP KĀRTPB ATĻAUJU SISTĒMAS GRUPA | C71: vecākais inspektors | D71: 1610 | E71: =ROUND(D71/$E$4,3) -> 9.645 | F71: 8 | G71: 38.58 | H71: =ROUND(G71*0.2359,2) -> 9.1 | I71: =G71+H71 -> 47.68
A72: =A71+1 -> 66 | B72: VP LATGALES RP ZIEMEĻLATGALES IECIRKŅA IZMEKLĒŠANAS NODAĻAS 1.GRUPA | C72: inspektors | D72: 1581 | E72: =ROUND(D72/$E$4,3) -> 9.472 | F72: 16 | G72: 75.78 | H72: =ROUND(G72*0.2359,2) -> 17.88 | I72: =G72+H72 -> 93.66
A73: =A72+1 -> 67 | B73: VP LATGALES RP DIENVIDLATGALES IECIRKŅA REAĢĒŠANAS NODAĻAS 8.GRUPA | C73: inspektors | D73: 1425 | E73: =ROUND(D73/$E$4,3) -> 8.537 | F73: 16 | G73: 68.3 | H73: =ROUND(G73*0.2359,2)-0.01 -> 16.1 | I73: =G73+H73 -> 84.4
A74: =A73+1 -> 68 | B74: VP LATGALES RP ZIEMEĻLATGALES IECIRKŅA REAĢĒŠANAS NODAĻAS 8.GRUPA | C74: inspektors | D74: 1445 | E74: =ROUND(D74/$E$4,3) -> 8.657 | F74: 8 | G74: 34.63 | H74: =ROUND(G74*0.2359,2) -> 8.17 | I74: =G74+H74 -> 42.8
A75: =A74+1 -> 69 | B75: VP GKĀRTPP RKVP SPECIĀLO UZDEVUMU BATALJONA 5.ROTA (VIDZEMES REĢIONA) | C75: rotas komandiera vietnieks | D75: 1981 | E75: =ROUND(D75/$E$4,3) -> 11.868 | F75: 24 | G75: 142.42 | H75: =ROUND(G75*0.2359,2) -> 33.6 | I75: =G75+H75 -> 176.02
A76: =A75+1 -> 70 | B76: VP LATGALES RP DIENVIDLATGALES IECIRKNIS | C76: iecirkņa priekšnieka vietnieks, Izmeklēšanas nodaļas priekšnieks | D76: 2305 | E76: =ROUND(D76/$E$4,3) -> 13.809 | F76: 16 | G76: 110.47 | H76: =ROUND(G76*0.2359,2) -> 26.06 | I76: =G76+H76 -> 136.53
A77: =A76+1 -> 71 | B77: VP LATGALES RP ZIEMEĻLATGALES IECIRKŅA IZMEKLĒŠANAS NODAĻAS 7.GRUPA | C77: inspektors | D77: 1472 | E77: =ROUND(D77/$E$4,3) -> 8.819 | F77: 24 | G77: 105.83 | H77: =ROUND(G77*0.2359,2) -> 24.97 | I77: =G77+H77 -> 130.8
A78: =A77+1 -> 72 | B78: VP LATGALES RP ZIEMEĻLATGALES IECIRKŅA IZMEKLĒŠANAS NODAĻAS 2.GRUPA | C78: inspektors | D78: 1553 | E78: =ROUND(D78/$E$4,3) -> 9.304 | F78: 8 | G78: 37.22 | H78: =ROUND(G78*0.2359,2) -> 8.78 | I78: =G78+H78 -> 46
A79: =A78+1 -> 73 | B79: VP LATGALES RP ZIEMEĻLATGALES IECIRKŅA IZMEKLĒŠANAS NODAĻAS 1.GRUPA | C79: inspektors | D79: 1581 | E79: =ROUND(D79/$E$4,3) -> 9.472 | F79: 8 | G79: 37.89 | H79: =ROUND(G79*0.2359,2) -> 8.94 | I79: =G79+H79 -> 46.83
A80: =A79+1 -> 74 | B80: VP LATGALES RP ZIEMEĻLATGALES IECIRKŅA REAĢĒŠANAS NODAĻAS 7.GRUPA | C80: inspektors | D80: 1472 | E80: =ROUND(D80/$E$4,3) -> 8.819 | F80: 8 | G80: 35.28 | H80: =ROUND(G80*0.2359,2) -> 8.32 | I80: =G80+H80 -> 43.6
A81: =A80+1 -> 75 | B81: VP LATGALES RP KĀRTPB SŪDZĪBU IZSKATĪŠANAS GRUPA | C81: vecākais inspektors | D81: 1630 | E81: =ROUND(D81/$E$4,3) -> 9.765 | F81: 24 | G81: 117.18 | H81: =ROUND(G81*0.2359,2) -> 27.64 | I81: =G81+H81 -> 144.82
A82: =A81+1 -> 76 | B82: VP LATGALES RP DIENVIDLATGALES IECIRKNIS | C82: iecirkņa priekšnieka vietnieks, Reaģēšanas nodaļas priekšnieks | D82: 2244 | E82: =ROUND(D82/$E$4,3) -> 13.444 | F82: 18 | G82: 121 | H82: =ROUND(G82*0.2359,2) -> 28.54 | I82: =G82+H82 -> 149.54
A83: =A82+1 -> 77 | B83: VP LATGALES RP DIENVIDLATGALES IECIRKŅA REAĢĒŠANAS NODAĻAS 6.GRUPA | C83: galvenais inspektors | D83: 1692 | E83: =ROUND(D83/$E$4,3) -> 10.137 | F83: 16 | G83: 81.1 | H83: =ROUND(G83*0.2359,2) -> 19.13 | I83: =G83+H83 -> 100.23
A84: =A83+1 -> 78 | B84: VP LATGALES RP DIENVIDLATGALES IECIRKŅA REAĢĒŠANAS NODAĻAS 6.GRUPA | C84: jaunākais inspektors | D84: 1242 | E84: =ROUND(D84/$E$4,3) -> 7.441 | F84: 8 | G84: 29.76 | H84: =ROUND(G84*0.2359,2)-0.01 -> 7.01 | I84: =G84+H84 -> 36.77
A85: =A84+1 -> 79 | B85: VP LATGALES RP KĀRTPB SŪDZĪBU IZSKATĪŠANAS GRUPA | C85: galvenais inspektors | D85: 1738 | E85: =ROUND(D85/$E$4,3) -> 10.412 | F85: 24 | G85: 124.94 | H85: =ROUND(G85*0.2359,2) -> 29.47 | I85: =G85+H85 -> 154.41
A86: =A85+1 -> 80 | B86: VP LATGALES RP DIENVIDLATGALES IECIRKŅA REAĢĒŠANAS NODAĻAS 10.GRUPA | C86: galvenais inspektors | D86: 1838 | E86: =ROUND(D86/$E$4,3) -> 11.011 | F86: 24 | G86: 132.13 | H86: =ROUND(G86*0.2359,2)-0.01 -> 31.16 | I86: =G86+H86 -> 163.29
A87: =A86+1 -> 81 | B87: VP LATGALES RP DIENVIDLATGALES IECIRKŅA REAĢĒŠANAS NODAĻAS 7.GRUPA | C87: jaunākais inspektors | D87: 1242 | E87: =ROUND(D87/$E$4,3) -> 7.441 | F87: 8 | G87: 29.76 | H87: =ROUND(G87*0.2359,2)-0.01 -> 7.01 | I87: =G87+H87 -> 36.77
A88: =A87+1 -> 82 | B88: VP LATGALES RP ZIEMEĻLATGALES IECIRKŅA IZMEKLĒŠANAS NODAĻAS 5.GRUPA | C88: inspektors | D88: 1581 | E88: =ROUND(D88/$E$4,3) -> 9.472 | F88: 8 | G88: 37.89 | H88: =ROUND(G88*0.2359,2) -> 8.94 | I88: =G88+H88 -> 46.83
A89: =A88+1 -> 83 | B89: VP LATGALES RP DIENVIDLATGALES IECIRKŅA REAĢĒŠANAS NODAĻAS 7.GRUPA | C89: jaunākais inspektors | D89: 1242 | E89: =ROUND(D89/$E$4,3) -> 7.441 | F89: 8 | G89: 29.76 | H89: =ROUND(G89*0.2359,2)-0.01 -> 7.01 | I89: =G89+H89 -> 36.77
A90: =A89+1 -> 84 | B90: VP LATGALES RP DIENVIDLATGALES IECIRKŅA IZMEKLĒŠANAS NODAĻAS 5.GRUPA | C90: vecākais inspektors | D90: 1620 | E90: =ROUND(D90/$E$4,3) -> 9.705 | F90: 8 | G90: 38.82 | H90: =ROUND(G90*0.2359,2)-0.01 -> 9.15 | I90: =G90+H90 -> 47.97
A91: =A90+1 -> 85 | B91: VP LATGALES RP DIENVIDLATGALES IECIRKŅA PREVENCIJAS GRUPA | C91: vecākais inspektors | D91: 1475 | E91: =ROUND(D91/$E$4,3) -> 8.837 | F91: 8 | G91: 35.35 | H91: =ROUND(G91*0.2359,2) -> 8.34 | I91: =G91+H91 -> 43.69
A92: =A91+1 -> 86 | B92: VP LATGALES RP KĀRTPB ATĻAUJU SISTĒMAS GRUPA | C92: galvenais inspektors | D92: 1559 | E92: =ROUND(D92/$E$4,3) -> 9.34 | F92: 26 | G92: 121.42 | H92: =ROUND(G92*0.2359,2) -> 28.64 | I92: =G92+H92 -> 150.06
A93: =A92+1 -> 87 | B93: VP LATGALES RP ZIEMEĻLATGALES IECIRKŅA REAĢĒŠANAS NODAĻAS 4.GRUPA | C93: vecākais inspektors | D93: 1531 | E93: =ROUND(D93/$E$4,3) -> 9.172 | F93: 8 | G93: 36.69 | H93: =ROUND(G93*0.2359,2) -> 8.66 | I93: =G93+H93 -> 45.35
A94: =A93+1 -> 88 | B94: VP LATGALES RP ZIEMEĻLATGALES IECIRKNIS | C94: iecirkņa priekšnieks | D94: 2483 | E94: =ROUND(D94/$E$4,3) -> 14.875 | F94: 22 | G94: 163.63 | H94: =ROUND(G94*0.2359,2)-0.01 -> 38.59 | I94: =G94+H94 -> 202.22
A95: =A94+1 -> 89 | B95: VP LATGALES RP ZIEMEĻLATGALES IECIRKŅA IZMEKLĒŠANAS NODAĻAS 8.GRUPA | C95: vecākais inspektors | D95: 1503 | E95: =ROUND(D95/$E$4,3) -> 9.004 | F95: 26 | G95: 117.05 | H95: =ROUND(G95*0.2359,2) -> 27.61 | I95: =G95+H95 -> 144.66
A96: =A95+1 -> 90 | B96: VP LATGALES RP ZIEMEĻLATGALES IECIRKŅA REAĢĒŠANAS NODAĻAS 8.GRUPA | C96: vecākais inspektors | D96: 1475 | E96: =ROUND(D96/$E$4,3) -> 8.837 | F96: 16 | G96: 70.7 | H96: =ROUND(G96*0.2359,2)-0.01 -> 16.67 | I96: =G96+H96 -> 87.37
A97: =A96+1 -> 91 | B97: VP LATGALES RP KĀRTPB PREVENCIJAS GRUPA | C97: vecākais inspektors | D97: 1475 | E97: =ROUND(D97/$E$4,3) -> 8.837 | F97: 24 | G97: 106.04 | H97: =ROUND(G97*0.2359,2) -> 25.01 | I97: =G97+H97 -> 131.05
A98: =A97+1 -> 92 | B98: VP LATGALES RP ZIEMEĻLATGALES IECIRKŅA IZMEKLĒŠANAS NODAĻAS 1.GRUPA | C98: galvenais inspektors | D98: 1861 | E98: =ROUND(D98/$E$4,3) -> 11.149 | F98: 8 | G98: 44.6 | H98: =ROUND(G98*0.2359,2) -> 10.52 | I98: =G98+H98 -> 55.12
A99: =A98+1 -> 93 | B99: VP LATGALES RP ZIEMEĻLATGALES IECIRKŅA PREVENCIJAS GRUPA | C99: vecākais inspektors | D99: 1523 | E99: =ROUND(D99/$E$4,3) -> 9.124 | F99: 8 | G99: 36.5 | H99: =ROUND(G99*0.2359,2) -> 8.61 | I99: =G99+H99 -> 45.11
A100: =A99+1 -> 94 | B100: VP LATGALES RP DIENVIDLATGALES IECIRKŅA IZMEKLĒŠANAS NODAĻAS 7.GRUPA | C100: inspektors | D100: 1445 | E100: =ROUND(D100/$E$4,3) -> 8.657 | F100: 8 | G100: 34.63 | H100: =ROUND(G100*0.2359,2)-0.01 -> 8.16 | I100: =G100+H100 -> 42.79
...

Sheet  2.1.tabula
I1: 2.1. tabula
A2: Valsts policija
A3: Detalizēts aprēķins samaksai par virsstundu darbu amatpersonām ar speciālo dienesta pakāpi, sniedzot atbalstu Valsts robežsardzei Latvijas Republikas-Baltkrievijas Republikas valsts robežas nelikumīgas šķērsošanas nodrošināšanā, par laika periodu no 2024. gada 1. janvāra līdz 10. februārim saistībā ar rīkojuma Nr. 514 izpildei nepieciešamo pasākumu īstenošanu
E4: 166.92
A5: Nr. p.k. | B5: Struktūrvienība | C5: Amats | D5: Mēnešalga amatpersonām ar speciālajām pakāpēm | E5: Stundas likme | F5: Stundu skaits | G5: Samaksa par virsstundu darbu | H5: DD VSAOI | I5: Atlīdzība
A6: kopā | F6: =SUM(F7:F65) -> 828.5 | G6: =SUM(G7:G65) -> 14702.19 | H6: =SUM(H7:H65) -> 3468.26 | I6: =SUM(I7:I65) -> 18170.45
A7: 1 | B7: VP LATGALES RP ZIEMEĻLATGALES IECIRKŅA IZMEKLĒŠANAS NODAĻAS 2.GRUPA | C7: inspektors | D7: 1553 | E7: =ROUND(D7/$E$4,3) -> 9.304 | F7: 16.5 | G7: 307.03 | H7: =ROUND(G7*0.2359,2) -> 72.43 | I7: =G7+H7 -> 379.46
A8: 2 | B8: VP LATGALES RP ZIEMEĻLATGALES IECIRKŅA REAĢĒŠANAS NODAĻAS 9.GRUPA | C8: inspektors | D8: 1425 | E8: =ROUND(D8/$E$4,3) -> 8.537 | F8: 15 | G8: 256.11 | H8: =ROUND(G8*0.2359,2) -> 60.42 | I8: =G8+H8 -> 316.53
A9: 3 | B9: VP LATGALES RP DIENVIDLATGALES IECIRKŅA REAĢĒŠANAS NODAĻAS 10.GRUPA | C9: vecākais inspektors | D9: 1495 | E9: =ROUND(D9/$E$4,3) -> 8.956 | F9: 13 | G9: 232.86 | H9: =ROUND(G9*0.2359,2) -> 54.93 | I9: =G9+H9 -> 287.79
A10: 4 | B10: VP LATGALES RP DIENVIDLATGALES IECIRKŅA REAĢĒŠANAS NODAĻAS 6.GRUPA | C10: jaunākais inspektors | D10: 1242 | E10: =ROUND(D10/$E$4,3) -> 7.441 | F10: 14 | G10: 208.35 | H10: =ROUND(G10*0.2359,2) -> 49.15 | I10: =G10+H10 -> 257.5
A11: 5 | B11: VP LATGALES RP DIENVIDLATGALES IECIRKŅA REAĢĒŠANAS NODAĻAS 2.GRUPA | C11: vecākais inspektors | D11: 1523 | E11: =ROUND(D11/$E$4,3) -> 9.124 | F11: 13 | G11: 237.22 | H11: =ROUND(G11*0.2359,2) -> 55.96 | I11: =G11+H11 -> 293.18
A12: 6 | B12: VP LATGALES RP DIENVIDLATGALES IECIRKŅA IZMEKLĒŠANAS NODAĻAS 6.GRUPA | C12: galvenais inspektors | D12: 1640 | E12: =ROUND(D12/$E$4,3) -> 9.825 | F12: 13 | G12: 255.45 | H12: =ROUND(G12*0.2359,2) -> 60.26 | I12: =G12+H12 -> 315.71
A13: 7 | B13: VP LATGALES RP ZIEMEĻLATGALES IECIRKŅA IZMEKLĒŠANAS NODAĻAS 3.GRUPA | C13: inspektors | D13: 1561 | E13: =ROUND(D13/$E$4,3) -> 9.352 | F13: 14 | G13: 261.86 | H13: =ROUND(G13*0.2359,2) -> 61.77 | I13: =G13+H13 -> 323.63
A14: 8 | B14: VP LATGALES RP ZIEMEĻLATGALES IECIRKŅA REAĢĒŠANAS NODAĻAS 5.GRUPA | C14: inspektors | D14: 1445 | E14: =ROUND(D14/$E$4,3) -> 8.657 | F14: 14.5 | G14: 251.05 | H14: =ROUND(G14*0.2359,2) -> 59.22 | I14: =G14+H14 -> 310.27
A15: 9 | B15: VP LATGALES RP KĀRTPB RESURSU UN KRĪZES VADĪBAS NODAĻA | C15: nodaļas priekšnieka vietnieks | D15: 1706 | E15: =ROUND(D15/$E$4,3) -> 10.22 | F15: 14 | G15: 286.16 | H15: =ROUND(G15*0.2359,2) -> 67.51 | I15: =G15+H15 -> 353.67
A16: 10 | B16: VP LATGALES RP KĀRTPB PREVENCIJAS GRUPA | C16: galvenais inspektors | D16: 2043 | E16: =ROUND(D16/$E$4,3) -> 12.239 | F16: 14 | G16: 342.69 | H16: =ROUND(G16*0.2359,2) -> 80.84 | I16: =G16+H16 -> 423.53
A17: 11 | B17: VP LATGALES RP DIENVIDLATGALES IECIRKŅA REAĢĒŠANAS NODAĻAS 10.GRUPA | C17: vecākais inspektors | D17: 1475 | E17: =ROUND(D17/$E$4,3) -> 8.837 | F17: 13 | G17: 229.76 | H17: =ROUND(G17*0.2359,2) -> 54.2 | I17: =G17+H17 -> 283.96
A18: 12 | B18: VP LATGALES RP DIENVIDLATGALES IECIRKŅA REAĢĒŠANAS NODAĻAS 1.GRUPA | C18: vecākais inspektors | D18: 1495 | E18: =ROUND(D18/$E$4,3) -> 8.956 | F18: 13 | G18: 232.86 | H18: =ROUND(G18*0.2359,2) -> 54.93 | I18: =G18+H18 -> 287.79
... A65: 59 | B65: VP LATGALES RP ZIEMEĻLATGALES IECIRKŅA REAĢĒŠANAS NODAĻAS 8.GRUPA | C65: inspektors | D65: 1365 | E65: =ROUND(D65/$E$4,3) -> 8.178 | F65: 17 | G65: 278.05 | H65: =ROUND(G65*0.2359,2) -> 65.59 | I65: =G65+H65 -> 343.64

Sheet  2.2.tabula
I1: 2.2. tabula
A2: Valsts policija
A3: Detalizēts aprēķins samaksai par virsstundu darbu amatpersonām ar speciālo dienesta pakāpi, sniedzot atbalstu Valsts robežsardzei Latvijas Republikas-Baltkrievijas Republikas valsts robežas nelikumīgas šķērsošanas nodrošināšanā, par laika periodu no 2024. gada 13. marta līdz 30. aprīlim saistībā ar rīkojuma Nr. 184 izpildei nepieciešamo pasākumu īstenošanu
E4: 166.92
A5: Nr. p.k. | B5: Struktūrvienība | C5: Amats | D5: Mēnešalga amatpersonām ar speciālajām pakāpēm | E5: Stundas likme | F5: Stundu skaits | G5: Samaksa par virsstundu darbu | H5: DD VSAOI | I5: Atlīdzība
A6: kopā | F6: =SUM(F7:F413) -> 14808.75 | G6: =SUM(G7:G413) -> 271284.63 | H6: =SUM(H7:H413) -> 63944.46 | I6: =SUM(I7:I413) -> 335229.09
A7: 1 | B7: VP LATGALES RP ZIEMEĻLATGALES IECIRKNIS | C7: iecirkņa priekšnieka vietnieks, Reaģēšanas nodaļas priekšnieks | D7: 2305 | E7: =ROUND(D7/$E$4,3) -> 13.809 | F7: 25 | G7: 690.45 | H7: =ROUND(G7*0.2359,2) -> 162.88 | I7: =G7+H7 -> 853.33
A8: 2 | B8: VP LATGALES RP DIENVIDLATGALES IECIRKŅA REAĢĒŠANAS NODAĻAS 3.GRUPA | C8: vecākais inspektors | D8: 1495 | E8: =ROUND(D8/$E$4,3) -> 8.956 | F8: 26 | G8: 465.71 | H8: =ROUND(G8*0.2359,2) -> 109.86 | I8: =G8+H8 -> 575.57
A9: 3 | B9: VP LATGALES RP ZIEMEĻLATGALES IECIRKŅA IZMEKLĒŠANAS NODAĻAS 5.GRUPA | C9: galvenais inspektors | D9: 1895 | E9: =ROUND(D9/$E$4,3) -> 11.353 | F9: 27.5 | G9: 624.42 | H9: =ROUND(G9*0.2359,2) -> 147.3 | I9: =G9+H9 -> 771.72
A10: 4 | B10: VP LATGALES RP DIENVIDLATGALES IECIRKŅA REAĢĒŠANAS NODAĻAS 7.GRUPA | C10: inspektors | D10: 1425 | E10: =ROUND(D10/$E$4,3) -> 8.537 | F10: 61.5 | G10: 1050.05 | H10: =ROUND(G10*0.2359,2) -> 247.71 | I10: =G10+H10 -> 1297.76
A11: 5 | B11: VP LATGALES RP DIENVIDLATGALES IECIRKŅA REAĢĒŠANAS NODAĻAS 7.GRUPA | C11: jaunākais inspektors | D11: 1242 | E11: =ROUND(D11/$E$4,3) -> 7.441 | F11: 46 | G11: 684.57 | H11: =ROUND(G11*0.2359,2) -> 161.49 | I11: =G11+H11 -> 846.06
A12: 6 | B12: VP LATGALES RP DIENVIDLATGALES IECIRKŅA IZMEKLĒŠANAS NODAĻAS 5.GRUPA | C12: inspektors | D12: 1553 | E12: =ROUND(D12/$E$4,3) -> 9.304 | F12: 26.5 | G12: 493.11 | H12: =ROUND(G12*0.2359,2) -> 116.32 | I12: =G12+H12 -> 609.43
A13: 7 | B13: VP LATGALES RP DIENVIDLATGALES IECIRKŅA REAĢĒŠANAS NODAĻAS 1.GRUPA | C13: inspektors | D13: 1425 | E13: =ROUND(D13/$E$4,3) -> 8.537 | F13: 39 | G13: 665.89 | H13: =ROUND(G13*0.2359,2) -> 157.08 | I13: =G13+H13 -> 822.97
A14: 8 | B14: VP LATGALES RP ZIEMEĻLATGALES IECIRKŅA PREVENCIJAS GRUPA | C14: vecākais inspektors | D14: 1523 | E14: =ROUND(D14/$E$4,3) -> 9.124 | F14: 42.5 | G14: 775.54 | H14: =ROUND(G14*0.2359,2) -> 182.95 | I14: =G14+H14 -> 958.49
A15: 9 | B15: VP LATGALES RP DIENVIDLATGALES IECIRKŅA REAĢĒŠANAS NODAĻAS 4.GRUPA | C15: vecākais inspektors | D15: 1523 | E15: =ROUND(D15/$E$4,3) -> 9.124 | F15: 10 | G15: 182.48 | H15: =ROUND(G15*0.2359,2) -> 43.05 | I15: =G15+H15 -> 225.53
A16: 10 | B16: VP LATGALES RP DIENVIDLATGALES IECIRKŅA PREVENCIJAS GRUPA | C16: inspektors | D16: 1445 | E16: =ROUND(D16/$E$4,3) -> 8.657 | F16: 19 | G16: 328.97 | H16: =ROUND(G16*0.2359,2) -> 77.6 | I16: =G16+H16 -> 406.57
A17: 11 | B17: VP LATGALES RP KĀRTPB ATĻAUJU SISTĒMAS GRUPA | C17: inspektors | D17: 1297 | E17: =ROUND(D17/$E$4,3) -> 7.77 | F17: 39 | G17: 606.06 | H17: =ROUND(G17*0.2359,2) -> 142.97 | I17: =G17+H17 -> 749.03
A18: 12 | B18: VP LATGALES RP KRIMPB KRIMINĀLIZLŪKOŠANAS INFORMĀCIJAS ANALĪZES GRUPA | C18: vecākais inspektors | D18: 1672 | E18: =ROUND(D18/$E$4,3) -> 10.017 | F18: 42 | G18: 841.43 | H18: =ROUND(G18*0.2359,2) -> 198.49 | I18: =G18+H18 -> 1039.92
... A75: 69 | B75: VP LATGALES RP DIENVIDLATGALES IECIRKŅA IZMEKLĒŠANAS NODAĻAS 6.GRUPA | C75: inspektors | D75: 1452 | E75: =ROUND(D75/$E$4,3) -> 8.699 | F75: 12.5 | G75: 217.48 | H75: =ROUND(G75*0.2359,2) -> 51.3 | I75: =G75+H75 -> 268.78
A76: 70 | B76: VP LATGALES RP DIENVIDLATGALES IECIRKŅA REAĢĒŠANAS NODAĻAS 4.GRUPA | C76: vecākais inspektors | D76: 1765 | E76: =ROUND(D76/$E$4,3) -> 10.574 | F76: 41 | G76: 867.07 | H76: =ROUND(G76*0.2194,2) -> 190.24 | I76: =G76+H76 -> 1057.31 | J76: ***
A77: 71 | B77: VP LATGALES RP ZIEMEĻLATGALES IECIRKŅA REAĢĒŠANAS NODAĻAS 2.GRUPA | C77: galvenais inspektors | D77: 1882 | E77: =ROUND(D77/$E$4,3) -> 11.275 | F77: 56 | G77: 1262.8 | H77: =ROUND(G77*0.2359,2) -> 297.89 | I77: =G77+H77 -> 1560.69
A78: 72 | B78: VP LATGALES RP DIENVIDLATGALES IECIRKŅA PREVENCIJAS GRUPA | C78: vecākais inspektors | D78: 1503 | E78: =ROUND(D78/$E$4,3) -> 9.004 | F78: 28 | G78: 504.22 | H78: =ROUND(G78*0.2359,2) -> 118.95 | I78: =G78+H78 -> 623.17
A79: 73 | B79: VP LATGALES RP DIENVIDLATGALES IECIRKŅA IZMEKLĒŠANAS NODAĻAS 9.GRUPA | C79: galvenais inspektors | D79: 1671 | E79: =ROUND(D79/$E$4,3) -> 10.011 | F79: 38 | G79: 760.84 | H79: =ROUND(G79*0.2359,2) -> 179.48 | I79: =G79+H79 -> 940.32
A80: 74 | B80: VP LATGALES RP ZIEMEĻLATGALES IECIRKŅA REAĢĒŠANAS NODAĻAS 4.GRUPA | C80: jaunākais inspektors | D80: 1222 | E80: =ROUND(D80/$E$4,3) -> 7.321 | F80: 28 | G80: 409.98 | H80: =ROUND(G80*0.2359,2) -> 96.71 | I80: =G80+H80 -> 506.69
A81: 75 | B81: VP LATGALES RP ZIEMEĻLATGALES IECIRKŅA REAĢĒŠANAS NODAĻAS 10.GRUPA | C81: inspektors | D81: 1425 | E81: =ROUND(D81/$E$4,3) -> 8.537 | F81: 35 | G81: 597.59 | H81: =ROUND(G81*0.2359,2) -> 140.97 | I81: =G81+H81 -> 738.56
A82: 76 | B82: VP LATGALES RP KĀRTPB ATĻAUJU SISTĒMAS GRUPA | C82: inspektors | D82: 1547 | E82: =ROUND(D82/$E$4,3) -> 9.268 | F82: 30 | G82: 556.08 | H82: =ROUND(G82*0.2359,2) -> 131.18 | I82: =G82+H82 -> 687.26
A83: 77 | B83: VP LATGALES RP ZIEMEĻLATGALES IECIRKŅA REAĢĒŠANAS NODAĻAS 4.GRUPA | C83: inspektors | D83: 1405 | E83: =ROUND(D83/$E$4,3) -> 8.417 | F83: 28 | G83: 471.35 | H83: =ROUND(G83*0.2359,2) -> 111.19 | I83: =G83+H83 -> 582.54
A84: 78 | B84: VP LATGALES RP DIENVIDLATGALES IECIRKŅA REAĢĒŠANAS NODAĻAS 10.GRUPA | C84: inspektors | D84: 1472 | E84: =ROUND(D84/$E$4,3) -> 8.819 | F84: 54.5 | G84: 961.27 | H84: =ROUND(G84*0.2359,2) -> 226.76 | I84: =G84+H84 -> 1188.03
A85: 79 | B85: VP LATGALES RP ZIEMEĻLATGALES IECIRKŅA IZMEKLĒŠANAS NODAĻAS 3.GRUPA | C85: galvenais inspektors | D85: 2165 | E85: =ROUND(D85/$E$4,3) -> 12.97 | F85: 24 | G85: 622.56 | H85: =ROUND(G85*0.2359,2) -> 146.86 | I85: =G85+H85 -> 769.42
A86: 80 | B86: VP LATGALES RP DIENVIDLATGALES IECIRKŅA IZMEKLĒŠANAS NODAĻAS 1.GRUPA | C86: inspektors | D86: 1561 | E86: =ROUND(D86/$E$4,3) -> 9.352 | F86: 29 | G86: 542.42 | H86: =ROUND(G86*0.2359,2) -> 127.96 | I86: =G86+H86 -> 670.38
A87: 81 | B87: VP LATGALES RP KĀRTPB RESURSU UN KRĪZES VADĪBAS NODAĻA | C87: operatīvais dežurants | D87: 1656 | E87: =ROUND(D87/$E$4,3) -> 9.921 | F87: 84 | G87: 1666.73 | H87: =ROUND(G87*0.2359,2) -> 393.18 | I87: =G87+H87 -> 2059.91
A88: 82 | B88: VP LATGALES RP ZIEMEĻLATGALES IECIRKŅA PREVENCIJAS GRUPA | C88: inspektors | D88: 1472 | E88: =ROUND(D88/$E$4,3) -> 8.819 | F88: 17.5 | G88: 308.67 | H88: =ROUND(G88*0.2359,2) -> 72.82 | I88: =G88+H88 -> 381.49
... A155: 149 | B155: VP LATGALES RP ZIEMEĻLATGALES IECIRKŅA IZMEKLĒŠANAS NODAĻAS 1.GRUPA | C155: galvenais inspektors | D155: 1861 | E155: =ROUND(D155/$E$4,3) -> 11.149 | F155: 36 | G155: 802.73 | H155: =ROUND(G155*0.2359,2) -> 189.36 | I155: =G155+H155 -> 992.09
A156: 150 | B156: VP LATGALES RP DIENVIDLATGALES IECIRKŅA IZMEKLĒŠANAS NODAĻAS 4.GRUPA | C156: vecākais inspektors | D156: 1910 | E156: =ROUND(D156/$E$4,3) -> 11.443 | F156: 28 | G156: 640.81 | H156: =ROUND(G156*0.2194,2)+0.01 -> 140.6 | I156: =G156+H156 -> 781.41 | J156: ***
A157: 151 | B157: VP LATGALES RP DIENVIDLATGALES IECIRKŅA IZMEKLĒŠANAS NODAĻAS 7.GRUPA | C157: vecākais inspektors | D157: 1475 | E157: =ROUND(D157/$E$4,3) -> 8.837 | F157: 41 | G157: 724.63 | H157: =ROUND(G157*0.2359,2) -> 170.94 | I157: =G157+H157 -> 895.57
A158: 152 | B158: VP LATGALES RP ZIEMEĻLATGALES IECIRKŅA PREVENCIJAS GRUPA | C158: vecākais inspektors | D158: 1523 | E158: =ROUND(D158/$E$4,3) -> 9.124 | F158: 45.5 | G158: 830.28 | H158: =ROUND(G158*0.2359,2) -> 195.86 | I158: =G158+H158 -> 1026.14
A159: 153 | B159: VP LATGALES RP DIENVIDLATGALES IECIRKŅA IZMEKLĒŠANAS NODAĻAS 7.GRUPA | C159: inspektors | D159: 1445 | E159: =ROUND(D159/$E$4,3) -> 8.657 | F159: 25.5 | G159: 441.51 | H159: =ROUND(G159*0.2359,2) -> 104.15 | I159: =G159+H159 -> 545.66
A160: 154 | B160: VP LATGALES RP KRIMPB EKONOMISKO NOZIEGUMU APKAROŠANAS NODAĻA | C160: vecākais inspektors | D160: 1672 | E160: =ROUND(D160/$E$4,3) -> 10.017 | F160: 28 | G160: 560.95 | H160: =ROUND(G160*0.2359,2) -> 132.33 | I160: =G160+H160 -> 693.28
A161: 155 | B161: VP LATGALES RP ZIEMEĻLATGALES IECIRKŅA REAĢĒŠANAS NODAĻAS 7.GRUPA | C161: inspektors | D161: 1445 | E161: =ROUND(D161/$E$4,3) -> 8.657 | F161: 45 | G161: 779.13 | H161: =ROUND(G161*0.2359,2) -> 183.8 | I161: =G161+H161 -> 962.93
A162: 156 | B162: VP LATGALES RP DIENVIDLATGALES IECIRKŅA PREVENCIJAS GRUPA | C162: galvenais inspektors | D162: 1651 | E162: =ROUND(D162/$E$4,3) -> 9.891 | F162: 20 | G162: 395.64 | H162: =ROUND(G162*0.2359,2) -> 93.33 | I162: =G162+H162 -> 488.97
A163: 157 | B163: VP LATGALES RP DIENVIDLATGALES IECIRKŅA IZMEKLĒŠANAS NODAĻAS 2.GRUPA | C163: inspektors | D163: 1581 | E163: =ROUND(D163/$E$4,3) -> 9.472 | F163: 26.5 | G163: 502.02 | H163: =ROUND(G163*0.2359,2) -> 118.43 | I163: =G163+H163 -> 620.45
A164: 158 | B164: VP LATGALES RP ZIEMEĻLATGALES IECIRKŅA IZMEKLĒŠANAS NODAĻAS 6.GRUPA | C164: vecākais inspektors | D164: 1640 | E164: =ROUND(D164/$E$4,3) -> 9.825 | F164: 42.5 | G164: 835.13 | H164: =ROUND(G164*0.2359,2) -> 197.01 | I164: =G164+H164 -> 1032.14
A165: 159 | B165: VP LATGALES RP ZIEMEĻLATGALES IECIRKŅA PREVENCIJAS GRUPA | C165: galvenais inspektors | D165: 1671 | E165: =ROUND(D165/$E$4,3) -> 10.011 | F165: 51 | G165: 1021.12 | H165: =ROUND(G165*0.2359,2) -> 240.88 | I165: =G165+H165 -> 1262
A166: 160 | B166: VP LATGALES RP ZIEMEĻLATGALES IECIRKŅA REAĢĒŠANAS NODAĻAS 6.GRUPA | C166: jaunākais inspektors | D166: 1512 | E166: =ROUND(D166/$E$4,3) -> 9.058 | F166: 42 | G166: 760.87 | H166: =ROUND(G166*0.2359,2) -> 179.49 | I166: =G166+H166 -> 940.36
A167: 161 | B167: VP LATGALES RP DIENVIDLATGALES IECIRKŅA IZMEKLĒŠANAS NODAĻAS 6.GRUPA | C167: vecākais inspektors | D167: 1523 | E167: =ROUND(D167/$E$4,3) -> 9.124 | F167: 56.5 | G167: 1031.01 | H167: =ROUND(G167*0.2359,2) -> 243.22 | I167: =G167+H167 -> 1274.23
A168: 162 | B168: VP LATGALES RP DIENVIDLATGALES IECIRKŅA IZMEKLĒŠANAS NODAĻAS 2.GRUPA | C168: vecākais inspektors | D168: 1640 | E168: =ROUND(D168/$E$4,3) -> 9.825 | F168: 29 | G168: 569.85 | H168: =ROUND(G168*0.2359,2) -> 134.43 | I168: =G168+H168 -> 704.28
... A312: 306 | B312: VP LATGALES RP ZIEMEĻLATGALES IECIRKŅA IZMEKLĒŠANAS NODAĻAS 3.GRUPA | C312: inspektors | D312: 1521 | E312: =ROUND(D312/$E$4,3) -> 9.112 | F312: 24 | G312: 437.38 | H312: =ROUND(G312*0.2359,2) -> 103.18 | I312: =G312+H312 -> 540.56
A313: 307 | B313: VP GKĀRTPP RKVP SPECIĀLO UZDEVUMU BATALJONA 4.ROTA (LATGALES REĢIONA) | C313: jaunākais inspektors | D313: 1470 | E313: =ROUND(D313/$E$4,3) -> 8.807 | F313: 92 | G313: 1620.49 | H313: =ROUND(G313*0.2194,2) -> 355.54 | I313: =G313+H313 -> 1976.03 | J313: ***
A314: 308 | B314: VP LATGALES RP ZIEMEĻLATGALES IECIRKŅA REAĢĒŠANAS NODAĻAS 2.GRUPA | C314: inspektors | D314: 1385 | E314: =ROUND(D314/$E$4,3) -> 8.297 | F314: 28 | G314: 464.63 | H314: =ROUND(G314*0.2359,2) -> 109.61 | I314: =G314+H314 -> 574.24
A315: 309 | B315: VP LATGALES RP DIENVIDLATGALES IECIRKŅA REAĢĒŠANAS NODAĻAS 2.GRUPA | C315: inspektors | D315: 1385 | E315: =ROUND(D315/$E$4,3) -> 8.297 | F315: 13 | G315: 215.72 | H315: =ROUND(G315*0.2359,2) -> 50.89 | I315: =G315+H315 -> 266.61
A316: 310 | B316: VP LATGALES RP ZIEMEĻLATGALES IECIRKŅA IZMEKLĒŠANAS NODAĻAS 7.GRUPA | C316: inspektors | D316: 1385 | E316: =ROUND(D316/$E$4,3) -> 8.297 | F316: 60 | G316: 995.64 | H316: =ROUND(G316*0.2359,2) -> 234.87 | I316: =G316+H316 -> 1230.51
A317: 311 | B317: VP LATGALES RP DIENVIDLATGALES IECIRKŅA REAĢĒŠANAS NODAĻAS 3.GRUPA | C317: inspektors | D317: 1385 | E317: =ROUND(D317/$E$4,3) -> 8.297 | F317: 39 | G317: 647.17 | H317: =ROUND(G317*0.2359,2) -> 152.67 | I317: =G317+H317 -> 799.84
A318: 312 | B318: VP LATGALES RP ZIEMEĻLATGALES IECIRKŅA IZMEKLĒŠANAS NODAĻAS 1.GRUPA | C318: inspektors | D318: 1493 | E318: =ROUND(D318/$E$4,3) -> 8.944 | F318: 29 | G318: 518.75 | H318: =ROUND(G318*0.2359,2) -> 122.37 | I318: =G318+H318 -> 641.12
A319: 313 | B319: VP GKĀRTPP RKVP SPECIĀLO UZDEVUMU BATALJONA 5.ROTA (VIDZEMES REĢIONA) | C319: jaunākais inspektors | D319: 1410 | E319: =ROUND(D319/$E$4,3) -> 8.447 | F319: 40 | G319: 675.76 | H319: =ROUND(G319*0.2359,2) -> 159.41 | I319: =G319+H319 -> 835.17
A320: 314 | B320: VP LATGALES RP DIENVIDLATGALES IECIRKŅA IZMEKLĒŠANAS NODAĻAS 9.GRUPA | C320: inspektors | D320: 1385 | E320: =ROUND(D320/$E$4,3) -> 8.297 | F320: 27.5 | G320: 456.34 | H320: =ROUND(G320*0.2359,2) -> 107.65 | I320: =G320+H320 -> 563.99
A321: 315 | B321: VP LATGALES RP DIENVIDLATGALES IECIRKŅA IZMEKLĒŠANAS NODAĻAS 7.GRUPA | C321: inspektors | D321: 1385 | E321: =ROUND(D321/$E$4,3) -> 8.297 | F321: 25.5 | G321: 423.15 | H321: =ROUND(G321*0.2359,2) -> 99.82 | I321: =G321+H321 -> 522.97
A322: 316 | B322: VP LATGALES RP ZIEMEĻLATGALES IECIRKŅA REAĢĒŠANAS NODAĻAS 8.GRUPA | C322: inspektors | D322: 1385 | E322: =ROUND(D322/$E$4,3) -> 8.297 | F322: 55 | G322: 912.67 | H322: =ROUND(G322*0.2359,2) -> 215.3 | I322: =G322+H322 -> 1127.97
A323: 317 | B323: VP LATGALES RP DIENVIDLATGALES IECIRKŅA REAĢĒŠANAS NODAĻAS 3.GRUPA | C323: inspektors | D323: 1405 | E323: =ROUND(D323/$E$4,3) -> 8.417 | F323: 26 | G323: 437.68 | H323: =ROUND(G323*0.2359,2) -> 103.25 | I323: =G323+H323 -> 540.93
A324: 318 | B324: VP LATGALES RP ZIEMEĻLATGALES IECIRKŅA REAĢĒŠANAS NODAĻAS 6.GRUPA | C324: inspektors | D324: 1412 | E324: =ROUND(D324/$E$4,3) -> 8.459 | F324: 14 | G324: 236.85 | H324: =ROUND(G324*0.2359,2) -> 55.87 | I324: =G324+H324 -> 292.72
A325: 319 | B325: VP LATGALES RP DIENVIDLATGALES IECIRKŅA IZMEKLĒŠANAS NODAĻAS 6.GRUPA | C325: inspektors | D325: 1385 | E325: =ROUND(D325/$E$4,3) -> 8.297 | F325: 13.5 | G325: 224.02 | H325: =ROUND(G325*0.2359,2) -> 52.85 | I325: =G325+H325 -> 276.87
... A413: 407 | B413: VP LATGALES RP ZIEMEĻLATGALES IECIRKŅA REAĢĒŠANAS NODAĻAS 8.GRUPA | C413: inspektors | D413: 1365 | E413: =ROUND(D413/$E$4,3) -> 8.178 | F413: 27.5 | G413: 449.79 | H413: =ROUND(G413*0.2359,2) -> 106.11 | I413: =G413+H413 -> 555.9
B415: *** - izdienas pensionārs

Sheet 3.tabula
I1: 3.tabula
A2: Valsts policija
A3: Detalizēts aprēķins piemaksai par darbu svētku dienās amatpersonām ar speciālo dienesta pakāpi, sniedzot atbalstu Valsts robežsardzei Latvijas Republikas-Baltkrievijas Republikas valsts robežas nelikumīgas šķērsošanas nodrošināšanā, par laika periodu no 2024. gada 1. aprīļa līdz 30. aprīlim (par 01.04.)
E4: 166.92
A5: Nr. p.k. | B5: Struktūrvienība | C5: Amats | D5: Mēnešalga amatpersonām ar speciālajām pakāpēm | E5: Stundas likme | F5: Stundu skaits | G5: Piemaksa par darbu svētku dienās | H5: DD VSAOI | I5: Atlīdzība
A6: kopā | F6: =SUM(F7:F31) -> 256.5 | G6: =SUM(G7:G31) -> 2492.14 | H6: =SUM(H7:H31) -> 585.63 | I6: =SUM(I7:I31) -> 3077.77
A7: 1 | B7: VP LATGALES RP KĀRTPB RESURSU UN KRĪZES VADĪBAS NODAĻA | C7: nodaļas priekšnieks | D7: 1898 | E7: 11.371 | F7: 9 | G7: 102.34 | H7: =ROUND(G7*0.2359,2) -> 24.14 | I7: =G7+H7 -> 126.48
A8: 2 | B8: VP LATGALES RP DIENVIDLATGALES IECIRKŅA IZMEKLĒŠANAS NODAĻAS 6.GRUPA | C8: inspektors | D8: 1445 | E8: 8.657 | F8: 9.5 | G8: 82.24 | H8: =ROUND(G8*0.2359,2) -> 19.4 | I8: =G8+H8 -> 101.64
A9: 3 | B9: VP LATGALES RP DIENVIDLATGALES IECIRKŅA REAĢĒŠANAS NODAĻAS 10.GRUPA | C9: vecākais inspektors | D9: 1475 | E9: 8.837 | F9: 5 | G9: 44.19 | H9: =ROUND(G9*0.2359,2) -> 10.42 | I9: =G9+H9 -> 54.61
A10: 4 | B10: VP LATGALES RP DIENVIDLATGALES IECIRKŅA REAĢĒŠANAS NODAĻAS 4.GRUPA | C10: vecākais inspektors | D10: 1765 | E10: 10.574 | F10: 13 | G10: 137.46 | H10: =ROUND(G10*0.2194,2)-0.01 -> 30.15 | I10: =G10+H10 -> 167.61 | J10: ***
A11: 5 | B11: VP LATGALES RP ZIEMEĻLATGALES IECIRKŅA IZMEKLĒŠANAS NODAĻAS 5.GRUPA | C11: vecākais inspektors | D11: 1591 | E11: 9.532 | F11: 16.5 | G11: 157.28 | H11: =ROUND(G11*0.2359,2) -> 37.1 | I11: =G11+H11 -> 194.38
A12: 6 | B12: VP LATGALES RP ZIEMEĻLATGALES IECIRKŅA PREVENCIJAS GRUPA | C12: inspektors | D12: 1472 | E12: 8.819 | F12: 16.5 | G12: 145.51 | H12: =ROUND(G12*0.2359,2) -> 34.33 | I12: =G12+H12 -> 179.84
A13: 7 | B13: VP LATGALES RP KRIMPB EKONOMISKO NOZIEGUMU APKAROŠANAS NODAĻA | C13: galvenais inspektors | D13: 1791 | E13: 10.73 | F13: 14 | G13: 150.22 | H13: =ROUND(G13*0.2359,2) -> 35.44 | I13: =G13+H13 -> 185.66
A14: 8 | B14: VP LATGALES RP KĀRTPB ATĻAUJU SISTĒMAS GRUPA | C14: galvenais inspektors | D14: 1559 | E14: 9.34 | F14: 5 | G14: 46.7 | H14: =ROUND(G14*0.2359,2) -> 11.02 | I14: =G14+H14 -> 57.72
A15: 9 | B15: VP LATGALES RP ZIEMEĻLATGALES IECIRKNIS | C15: iecirkņa priekšnieks | D15: 2483 | E15: 14.875 | F15: 10.5 | G15: 156.19 | H15: =ROUND(G15*0.2359,2) -> 36.85 | I15: =G15+H15 -> 193.04
A16: 10 | B16: VP LATGALES RP ZIEMEĻLATGALES IECIRKŅA REAĢĒŠANAS NODAĻAS 8.GRUPA | C16: vecākais inspektors | D16: 1475 | E16: 8.837 | F16: 16.5 | G16: 145.81 | H16: =ROUND(G16*0.2359,2) -> 34.4 | I16: =G16+H16 -> 180.21
A17: 11 | B17: VP LATGALES RP ZIEMEĻLATGALES IECIRKŅA IZMEKLĒŠANAS NODAĻAS 3.GRUPA | C17: vecākais inspektors | D17: 1640 | E17: 9.825 | F17: 10 | G17: 98.25 | H17: =ROUND(G17*0.2359,2) -> 23.18 | I17: =G17+H17 -> 121.43
A18: 12 | B18: VP LATGALES RP DIENVIDLATGALES IECIRKŅA REAĢĒŠANAS NODAĻAS 3.GRUPA | C18: inspektors | D18: 1425 | E18: 8.537 | F18: 4.5 | G18: 38.42 | H18: =ROUND(G18*0.2359,2) -> 9.06 | I18: =G18+H18 -> 47.48
A19: 13 | B19: VP LATGALES RP KĀRTĪBAS POLICIJAS BIROJS (LRP KĀRTPB) | C19: biroja priekšnieka vietnieks | D19: 2318 | E19: 13.887 | F19: 9 | G19: 124.98 | H19: =ROUND(G19*0.2359,2) -> 29.48 | I19: =G19+H19 -> 154.46
A20: 14 | B20: VP LATGALES RP DIENVIDLATGALES IECIRKŅA REAĢĒŠANAS NODAĻAS 10.GRUPA | C20: vecākais inspektors | D20: 1475 | E20: 8.837 | F20: 13 | G20: 114.88 | H20: =ROUND(G20*0.2359,2) -> 27.1 | I20: =G20+H20 -> 141.98
A21: 15 | B21: VP LATGALES RP DIENVIDLATGALES IECIRKŅA REAĢĒŠANAS NODAĻAS 4.GRUPA | C21: inspektors | D21: 1445 | E21: 8.657 | F21: 5 | G21: 43.29 | H21: =ROUND(G21*0.2359,2) -> 10.21 | I21: =G21+H21 -> 53.5
A22: 16 | B22: VP LATGALES RP ZIEMEĻLATGALES IECIRKŅA IZMEKLĒŠANAS NODAĻAS 3.GRUPA | C22: inspektors | D22: 1831 | E22: 10.969 | F22: 10 | G22: 109.69 | H22: =ROUND(G22*0.2359,2) -> 25.88 | I22: =G22+H22 -> 135.57
... A31: 25 | B31: VP LATGALES RP DIENVIDLATGALES IECIRKŅA IZMEKLĒŠANAS NODAĻAS 4.GRUPA | C31: inspektors | D31: 1501 | E31: 8.992 | F31: 8 | G31: 71.94 | H31: =ROUND(G31*0.2359,2) -> 16.97 | I31: =G31+H31 -> 88.91
B33: *** - izdienas pensionārs

Sheet 4.tabula
J1: 4.tabula
A2: Valsts policija
A3: Piemaksa par darbu īpašos apstākļos amatpersonām ar speciālajām dienesta pakāpēm, kuras laika periodā no 2024. gada 1. aprīļa līdz 30. aprīlim tika iesaistītas atbalsta sniegšanā Valsts robežsardzei Latvijas Republikas-Baltkrievijas Republikas valsts robežas robežuzraudzības nodrošināšanā
F4: 166.92
A5: Nr. p.k. | B5: Struktūrvienība | C5: Amats | D5: Mēnešalga amatpersonām ar speciālajām pakāpēm | E5: Piemaksas apmērs % | F5: Stundas likme | G5: Stundu skaits | H5: Piemaksa par darbu īpašos apstākļos | I5: DD VSAOI | J5: Atlīdzība
A7: kopā | G7: =SUM(G8:G392) -> 9803 | H7: =SUM(H8:H392) -> 19496.63 | I7: =SUM(I8:I392) -> 4591.03 | J7: =SUM(J8:J392) -> 24087.66
A8: 1 | B8: VP LATGALES RP ZIEMEĻLATGALES IECIRKNIS | C8: iecirkņa priekšnieka vietnieks, Reaģēšanas nodaļas priekšnieks | D8: 2305 | E8: 20% | F8: =ROUND(D8/$F$4,3) -> 13.809 | G8: 12 | H8: 33.14 | I8: =ROUND(H8*23.59%,2)+0.01 -> 7.83 | J8: =H8+I8 -> 40.97
A9: 2 | B9: VP LATGALES RP ZIEMEĻLATGALES IECIRKŅA IZMEKLĒŠANAS NODAĻAS 2.GRUPA | C9: inspektors | D9: 1553 | E9: 20% | F9: =ROUND(D9/$F$4,3) -> 9.304 | G9: 48 | H9: 89.32 | I9: =ROUND(H9*23.59%,2) -> 21.07 | J9: =H9+I9 -> 110.39
A10: 3 | B10: VP LATGALES RP DIENVIDLATGALES IECIRKŅA REAĢĒŠANAS NODAĻAS 3.GRUPA | C10: vecākais inspektors | D10: 1495 | E10: 20% | F10: =ROUND(D10/$F$4,3) -> 8.956 | G10: 24 | H10: 42.99 | I10: =ROUND(H10*23.59%,2) -> 10.14 | J10: =H10+I10 -> 53.13
A11: 4 | B11: VP LATGALES RP DIENVIDLATGALES IECIRKŅA REAĢĒŠANAS NODAĻAS 7.GRUPA | C11: inspektors | D11: 1425 | E11: 20% | F11: =ROUND(D11/$F$4,3) -> 8.537 | G11: 38.5 | H11: 65.73 | I11: =ROUND(H11*23.59%,2) -> 15.51 | J11: =H11+I11 -> 81.24
A12: 5 | B12: VP LATGALES RP DIENVIDLATGALES IECIRKŅA REAĢĒŠANAS NODAĻAS 7.GRUPA | C12: jaunākais inspektors | D12: 1242 | E12: 20% | F12: =ROUND(D12/$F$4,3) -> 7.441 | G12: 25.5 | H12: 37.95 | I12: =ROUND(H12*23.59%,2) -> 8.95 | J12: =H12+I12 -> 46.9
A13: 6 | B13: VP LATGALES RP DIENVIDLATGALES IECIRKŅA IZMEKLĒŠANAS NODAĻAS 5.GRUPA | C13: inspektors | D13: 1553 | E13: 20% | F13: =ROUND(D13/$F$4,3) -> 9.304 | G13: 12 | H13: 22.33 | I13: =ROUND(H13*23.59%,2) -> 5.27 | J13: =H13+I13 -> 27.6
A14: 7 | B14: VP LATGALES RP DIENVIDLATGALES IECIRKŅA REAĢĒŠANAS NODAĻAS 1.GRUPA | C14: inspektors | D14: 1425 | E14: 20% | F14: =ROUND(D14/$F$4,3) -> 8.537 | G14: 24 | H14: 40.98 | I14: =ROUND(H14*23.59%,2) -> 9.67 | J14: =H14+I14 -> 50.65
A15: 8 | B15: VP LATGALES RP ZIEMEĻLATGALES IECIRKŅA PREVENCIJAS GRUPA | C15: vecākais inspektors | D15: 1523 | E15: 20% | F15: =ROUND(D15/$F$4,3) -> 9.124 | G15: 24 | H15: 43.8 | I15: =ROUND(H15*23.59%,2) -> 10.33 | J15: =H15+I15 -> 54.13
A16: 9 | B16: VP LATGALES RP DIENVIDLATGALES IECIRKŅA REAĢĒŠANAS NODAĻAS 4.GRUPA | C16: vecākais inspektors | D16: 1523 | E16: 20% | F16: =ROUND(D16/$F$4,3) -> 9.124 | G16: 12 | H16: 21.9 | I16: =ROUND(H16*23.59%,2) -> 5.17 | J16: =H16+I16 -> 27.07
A17: 10 | B17: VP LATGALES RP ZIEMEĻLATGALES IECIRKŅA REAĢĒŠANAS NODAĻAS 9.GRUPA | C17: inspektors | D17: 1425 | E17: 20% | F17: =ROUND(D17/$F$4,3) -> 8.537 | G17: 12 | H17: 20.49 | I17: =ROUND(H17*23.59%,2) -> 4.83 | J17: =H17+I17 -> 25.32
A18: 11 | B18: VP LATGALES RP DIENVIDLATGALES IECIRKŅA PREVENCIJAS GRUPA | C18: inspektors | D18: 1445 | E18: 20% | F18: =ROUND(D18/$F$4,3) -> 8.657 | G18: 15 | H18: 25.97 | I18: =ROUND(H18*23.59%,2) -> 6.13 | J18: =H18+I18 -> 32.1
A19: 12 | B19: VP LATGALES RP KĀRTPB ATĻAUJU SISTĒMAS GRUPA | C19: inspektors | D19: 1297 | E19: 20% | F19: =ROUND(D19/$F$4,3) -> 7.77 | G19: 36 | H19: 55.94 | I19: =ROUND(H19*23.59%,2) -> 13.2 | J19: =H19+I19 -> 69.14
A20: 13 | B20: VP LATGALES RP KRIMPB KRIMINĀLIZLŪKOŠANAS INFORMĀCIJAS ANALĪZES GRUPA | C20: vecākais inspektors | D20: 1672 | E20: 20% | F20: =ROUND(D20/$F$4,3) -> 10.017 | G20: 12 | H20: 24.04 | I20: =ROUND(H20*23.59%,2) -> 5.67 | J20: =H20+I20 -> 29.71
... A28: 21 | B28: VP LATGALES RP DIENVIDLATGALES IECIRKŅA IZMEKLĒŠANAS NODAĻAS 1.GRUPA | C28: galvenais inspektors | D28: 1875 | E28: 20% | F28: =ROUND(D28/$F$4,3) -> 11.233 | G28: 13 | H28: 29.21 | I28: =ROUND(H28*23.59%,2) -> 6.89 | J28: =H28+I28 -> 36.1
A29: 22 | B29: VP LATGALES RP DIENVIDLATGALES IECIRKŅA IZMEKLĒŠANAS NODAĻAS 6.GRUPA | C29: galvenais inspektors | D29: 1640 | E29: 20% | F29: =ROUND(D29/$F$4,3) -> 9.825 | G29: 24 | H29: 47.16 | I29: =ROUND(H29*23.59%,2)-0.01 -> 11.12 | J29: =H29+I29 -> 58.28
A30: 23 | B30: VP LATGALES RP DIENVIDLATGALES IECIRKŅA IZMEKLĒŠANAS NODAĻAS 6.GRUPA | C30: vecākais inspektors | D30: 1503 | E30: 20% | F30: =ROUND(D30/$F$4,3) -> 9.004 | G30: 12 | H30: 21.61 | I30: =ROUND(H30*23.59%,2) -> 5.1 | J30: =H30+I30 -> 26.71
A31: 24 | B31: VP LATGALES RP ZIEMEĻLATGALES IECIRKŅA IZMEKLĒŠANAS NODAĻAS 4.GRUPA | C31: inspektors | D31: 1851 | E31: 20% | F31: =ROUND(D31/$F$4,3) -> 11.089 | G31: 36 | H31: 79.84 | I31: =ROUND(H31*23.59%,2) -> 18.83 | J31: =H31+I31 -> 98.67
A32: 25 | B32: VP LATGALES RP ZIEMEĻLATGALES IECIRKŅA REAĢĒŠANAS NODAĻAS 3.GRUPA | C32: inspektors | D32: 1504 | E32: 20% | F32: =ROUND(D32/$F$4,3) -> 9.01 | G32: 24 | H32: 43.25 | I32: =ROUND(H32*23.59%,2) -> 10.2 | J32: =H32+I32 -> 53.45
A33: 26 | B33: VP LATGALES RP ZIEMEĻLATGALES IECIRKŅA IZMEKLĒŠANAS NODAĻAS 3.GRUPA | C33: inspektors | D33: 1561 | E33: 20% | F33: =ROUND(D33/$F$4,3) -> 9.352 | G33: 24 | H33: 44.89 | I33: =ROUND(H33*23.59%,2) -> 10.59 | J33: =H33+I33 -> 55.48
A34: 27 | B34: VP LATGALES REĢIONA PĀRVALDES DISCIPLINĀRĀS UZRAUDZĪBAS GRUPA | C34: galvenais inspektors | D34: 1692 | E34: 20% | F34: =ROUND(D34/$F$4,3) -> 10.137 | G34: 36 | H34: 72.99 | I34: =ROUND(H34*23.59%,2) -> 17.22 | J34: =H34+I34 -> 90.21
A35: 28 | B35: VP LATGALES RP KĀRTPB RESURSU UN KRĪZES VADĪBAS NODAĻA | C35: nodaļas priekšnieks | D35: 1898 | E35: 20% | F35: =ROUND(D35/$F$4,3) -> 11.371 | G35: 32 | H35: 72.77 | I35: =ROUND(H35*23.59%,2) -> 17.17 | J35: =H35+I35 -> 89.94
A36: 29 | B36: VP LATGALES RP KĀRTPB ATĻAUJU SISTĒMAS GRUPA | C36: inspektors | D36: 1277 | E36: 20% | F36: =ROUND(D36/$F$4,3) -> 7.65 | G36: 23 | H36: 35.19 | I36: =ROUND(H36*23.59%,2) -> 8.3 | J36: =H36+I36 -> 43.49
A37: 30 | B37: VP LATGALES RP ZIEMEĻLATGALES IECIRKŅA IZMEKLĒŠANAS NODAĻAS 5.GRUPA | C37: vecākais inspektors | D37: 1640 | E37: 20% | F37: =ROUND(D37/$F$4,3) -> 9.825 | G37: 48 | H37: 94.32 | I37: =ROUND(H37*23.59%,2) -> 22.25 | J37: =H37+I37 -> 116.57
A38: 31 | B38: VP LATGALES RP ZIEMEĻLATGALES IECIRKŅA REAĢĒŠANAS NODAĻAS 9.GRUPA | C38: inspektors | D38: 1445 | E38: 20% | F38: =ROUND(D38/$F$4,3) -> 8.657 | G38: 12 | H38: 20.78 | I38: =ROUND(H38*23.59%,2) -> 4.9 | J38: =H38+I38 -> 25.68
A39: 32 | B39: VP LATGALES RP DIENVIDLATGALES IECIRKŅA IZMEKLĒŠANAS NODAĻAS 8.GRUPA | C39: inspektors | D39: 1445 | E39: 20% | F39: =ROUND(D39/$F$4,3) -> 8.657 | G39: 12 | H39: 20.78 | I39: =ROUND(H39*23.59%,2) -> 4.9 | J39: =H39+I39 -> 25.68
A40: 33 | B40: VP LATGALES RP DIENVIDLATGALES IECIRKŅA REAĢĒŠANAS NODAĻAS 10.GRUPA | C40: inspektors | D40: 1445 | E40: 20% | F40: =ROUND(D40/$F$4,3) -> 8.657 | G40: 12 | H40: 20.78 | I40: =ROUND(H40*23.59%,2) -> 4.9 | J40: =H40+I40 -> 25.68
A41: 34 | B41: VP LATGALES RP KRIMPB ORGANIZĒTĀS NOZIEDZĪBAS SMAGO UN SĒRIJVEIDA NOZIEGUMU APKAROŠANAS NODAĻA | C41: vecākais inspektors | D41: 1672 | E41: 20% | F41: =ROUND(D41/$F$4,3) -> 10.017 | G41: 12 | H41: 24.04 | I41: =ROUND(H41*23.59%,2) -> 5.67 | J41: =H41+I41 -> 29.71
... A43: 36 | B43: VP LATGALES RP ZIEMEĻLATGALES IECIRKŅA REAĢĒŠANAS NODAĻAS 5.GRUPA | C43: inspektors | D43: 1445 | E43: 20% | F43: =ROUND(D43/$F$4,3) -> 8.657 | G43: 24 | H43: 41.55 | I43: =ROUND(H43*23.59%,2) -> 9.8 | J43: =H43+I43 -> 51.35
A44: 37 | B44: VP LATGALES RP ZIEMEĻLATGALES IECIRKŅA REAĢĒŠANAS NODAĻAS 6.GRUPA | C44: galvenais inspektors | D44: 1744 | E44: 20% | F44: =ROUND(D44/$F$4,3) -> 10.448 | G44: 36 | H44: 75.23 | I44: =ROUND(H44*23.59%,2)+0.01 -> 17.76 | J44: =H44+I44 -> 92.99
A45: 38 | B45: VP LATGALES RP DIENVIDLATGALES IECIRKŅA IZMEKLĒŠANAS NODAĻAS 6.GRUPA | C45: inspektors | D45: 1445 | E45: 20% | F45: =ROUND(D45/$F$4,3) -> 8.657 | G45: 8 | H45: 13.85 | I45: =ROUND(H45*23.59%,2) -> 3.27 | J45: =H45+I45 -> 17.12
A46: 39 | B46: VP LATGALES RP ZIEMEĻLATGALES IECIRKŅA IZMEKLĒŠANAS NODAĻAS 6.GRUPA | C46: inspektors | D46: 1581 | E46: 20% | F46: =ROUND(D46/$F$4,3) -> 9.472 | G46: 24 | H46: 45.47 | I46: =ROUND(H46*23.59%,2)+0.01 -> 10.74 | J46: =H46+I46 -> 56.21
A47: 40 | B47: VP LATGALES RP KRIMPB EKONOMISKO NOZIEGUMU APKAROŠANAS NODAĻA | C47: vecākais inspektors | D47: 1652 | E47: 20% | F47: =ROUND(D47/$F$4,3) -> 9.897 | G47: 24 | H47: 47.51 | I47: =ROUND(H47*23.59%,2) -> 11.21 | J47: =H47+I47 -> 58.72
A48: 41 | B48: VP LATGALES RP KĀRTPB RESURSU UN KRĪZES VADĪBAS NODAĻA | C48: nodaļas priekšnieka vietnieks | D48: 1706 | E48: 20% | F48: =ROUND(D48/$F$4,3) -> 10.22 | G48: 24 | H48: 49.06 | I48: =ROUND(H48*23.59%,2) -> 11.57 | J48: =H48+I48 -> 60.63
A49: 42 | B49: VP LATGALES RP KĀRTPB PREVENCIJAS GRUPA | C49: galvenais inspektors | D49: 2043 | E49: 20% | F49: =ROUND(D49/$F$4,3) -> 12.239 | G49: 24 | H49: 58.75 | I49: =ROUND(H49*23.59%,2)-0.01 -> 13.85 | J49: =H49+I49 -> 72.6
A50: 43 | B50: VP LATGALES RP DIENVIDLATGALES IECIRKŅA PREVENCIJAS GRUPA | C50: vecākais inspektors | D50: 1495 | E50: 20% | F50: =ROUND(D50/$F$4,3) -> 8.956 | G50: 15 | H50: 26.87 | I50: =ROUND(H50*23.59%,2) -> 6.34 | J50: =H50+I50 -> 33.21
A51: 44 | B51: VP LATGALES RP DIENVIDLATGALES IECIRKŅA IZMEKLĒŠANAS NODAĻAS 1.GRUPA | C51: inspektors | D51: 1561 | E51: 20% | F51: =ROUND(D51/$F$4,3) -> 9.352 | G51: 13 | H51: 24.32 | I51: =ROUND(H51*23.59%,2) -> 5.74 | J51: =H51+I51 -> 30.06
A52: 45 | B52: VP LATGALES RP DIENVIDLATGALES IECIRKŅA REAĢĒŠANAS NODAĻAS 10.GRUPA | C52: vecākais inspektors | D52: 1475 | E52: 20% | F52: =ROUND(D52/$F$4,3) -> 8.837 | G52: 24 | H52: 42.42 | I52: =ROUND(H52*23.59%,2)+0.01 -> 10.02 | J52: =H52+I52 -> 52.44
A53: 46 | B53: VP LATGALES RP DIENVIDLATGALES IECIRKŅA IZMEKLĒŠANAS NODAĻAS 9.GRUPA | C53: vecākais inspektors | D53: 1523 | E53: 20% | F53: =ROUND(D53/$F$4,3) -> 9.124 | G53: 24 | H53: 43.8 | I53: =ROUND(H53*23.59%,2) -> 10.33 | J53: =H53+I53 -> 54.13
A54: 47 | B54: VP LATGALES RP DIENVIDLATGALES IECIRKŅA REAĢĒŠANAS NODAĻAS 10.GRUPA | C54: inspektors | D54: 1472 | E54: 20% | F54: =ROUND(D54/$F$4,3) -> 8.819 | G54: 24 | H54: 42.33 | I54: =ROUND(H54*23.59%,2) -> 9.99 | J54: =H54+I54 -> 52.32
A55: 48 | B55: VP LATGALES RP DIENVIDLATGALES IECIRKŅA IZMEKLĒŠANAS NODAĻAS 8.GRUPA | C55: vecākais inspektors | D55: 1475 | E55: 20% | F55: =ROUND(D55/$F$4,3) -> 8.837 | G55: 12 | H55: 21.21 | I55: =ROUND(H55*23.59%,2) -> 5 | J55: =H55+I55 -> 26.21
A56: 49 | B56: VP LATGALES RP ZIEMEĻLATGALES IECIRKŅA REAĢĒŠANAS NODAĻAS 1.GRUPA | C56: vecākais inspektors | D56: 1495 | E56: 20% | F56: =ROUND(D56/$F$4,3) -> 8.956 | G56: 14 | H56: 25.08 | I56: =ROUND(H56*23.59%,2)+0.01 -> 5.93 | J56: =H56+I56 -> 31.01
A57: 50 | B57: VP LATGALES RP DIENVIDLATGALES IECIRKŅA REAĢĒŠANAS NODAĻAS 10.GRUPA | C57: inspektors | D57: 1445 | E57: 20% | F57: =ROUND(D57/$F$4,3) -> 8.657 | G57: 24 | H57: 41.55 | I57: =ROUND(H57*23.59%,2) -> 9.8 | J57: =H57+I57 -> 51.35
A58: 51 | B58: VP LATGALES RP ZIEMEĻLATGALES IECIRKNIS | C58: iecirkņa priekšnieka vietnieks, Izmeklēšanas nodaļas priekšnieks | D58: 2264 | E58: 20% | F58: =ROUND(D58/$F$4,3) -> 13.563 | G58: 24 | H58: 65.1 | I58: =ROUND(H58*23.59%,2) -> 15.36 | J58: =H58+I58 -> 80.46
A59: 52 | B59: VP LATGALES RP ZIEMEĻLATGALES IECIRKŅA REAĢĒŠANAS NODAĻAS 1.GRUPA | C59: galvenais inspektors | D59: 1744 | E59: 20% | F59: =ROUND(D59/$F$4,3) -> 10.448 | G59: 14 | H59: 29.25 | I59: =ROUND(H59*23.59%,2) -> 6.9 | J59: =H59+I59 -> 36.15
A60: 53 | B60: VP LATGALES RP DIENVIDLATGALES IECIRKŅA REAĢĒŠANAS NODAĻAS 1.GRUPA | C60: vecākais inspektors | D60: 1495 | E60: 20% | F60: =ROUND(D60/$F$4,3) -> 8.956 | G60: 24 | H60: 42.99 | I60: =ROUND(H60*23.59%,2) -> 10.14 | J60: =H60+I60 -> 53.13
A61: 54 | B61: VP LATGALES RP ZIEMEĻLATGALES IECIRKŅA REAĢĒŠANAS NODAĻAS 5.GRUPA | C61: vecākais inspektors | D61: 1523 | E61: 20% | F61: =ROUND(D61/$F$4,3) -> 9.124 | G61: 12 | H61: 21.9 | I61: =ROUND(H61*23.59%,2) -> 5.17 | J61: =H61+I61 -> 27.07
A62: 55 | B62: VP LATGALES RP ZIEMEĻLATGALES IECIRKŅA REAĢĒŠANAS NODAĻAS 1.GRUPA | C62: vecākais inspektors | D62: 1475 | E62: 20% | F62: =ROUND(D62/$F$4,3) -> 8.837 | G62: 28 | H62: 49.49 | I62: =ROUND(H62*23.59%,2) -> 11.67 | J62: =H62+I62 -> 61.16
A63: 56 | B63: VP LATGALES RP DIENVIDLATGALES IECIRKŅA REAĢĒŠANAS NODAĻAS 3.GRUPA | C63: vecākais inspektors | D63: 1495 | E63: 20% | F63: =ROUND(D63/$F$4,3) -> 8.956 | G63: 24 | H63: 42.99 | I63: =ROUND(H63*23.59%,2) -> 10.14 | J63: =H63+I63 -> 53.13
A64: 57 | B64: VP GKĀRTPP RKVP SPECIĀLO UZDEVUMU BATALJONA 4.ROTA (LATGALES REĢIONA) | C64: jaunākais inspektors | D64: 1450 | E64: 50% | F64: =ROUND(D64/$F$4,3) -> 8.687 | G64: 36 | H64: 156.37 | I64: =ROUND(H64*23.59%,2) -> 36.89 | J64: =H64+I64 -> 193.26
A65: 58 | B65: VP GKĀRTPP RKVP SPECIĀLO UZDEVUMU BATALJONA 4.ROTA (LATGALES REĢIONA) | C65: jaunākais inspektors | D65: 1450 | E65: 20% | F65: =ROUND(D65/$F$4,3) -> 8.687 | G65: 132 | H65: 229.34 | I65: =ROUND(H65*23.59%,2) -> 54.1 | J65: =H65+I65 -> 283.44
A66: 59 | B66: VP LATGALES RP ZIEMEĻLATGALES IECIRKŅA IZMEKLĒŠANAS NODAĻAS 9.GRUPA | C66: galvenais inspektors | D66: 1640 | E66: 20% | F66: =ROUND(D66/$F$4,3) -> 9.825 | G66: 12 | H66: 23.58 | I66: =ROUND(H66*23.59%,2) -> 5.56 | J66: =H66+I66 -> 29.14
A67: 60 | B67: VP LATGALES RP KRIMPB RĒZEKNES REĢIONĀLĀ NODAĻA | C67: vecākais inspektors | D67: 1692 | E67: 20% | F67: =ROUND(D67/$F$4,3) -> 10.137 | G67: 12 | H67: 24.33 | I67: =ROUND(H67*23.59%,2) -> 5.74 | J67: =H67+I67 -> 30.07
A68: 61 | B68: VP LATGALES RP ZIEMEĻLATGALES IECIRKŅA REAĢĒŠANAS NODAĻAS 6.GRUPA | C68: vecākais inspektors | D68: 1523 | E68: 20% | F68: =ROUND(D68/$F$4,3) -> 9.124 | G68: 12 | H68: 21.9 | I68: =ROUND(H68*23.59%,2) -> 5.17 | J68: =H68+I68 -> 27.07
... A79: 72 | B79: VP LATGALES RP KĀRTPB RESURSU UN KRĪZES VADĪBAS NODAĻA | C79: jaunākais inspektors | D79: 1226 | E79: 20% | F79: =ROUND(D79/$F$4,3) -> 7.345 | G79: 48 | H79: 70.51 | I79: =ROUND(H79*23.59%,2) -> 16.63 | J79: =H79+I79 -> 87.14
A80: 73 | B80: VP LATGALES RP DIENVIDLATGALES IECIRKŅA REAĢĒŠANAS NODAĻAS 9.GRUPA | C80: vecākais inspektors | D80: 1523 | E80: 20% | F80: =ROUND(D80/$F$4,3) -> 9.124 | G80: 12 | H80: 21.9 | I80: =ROUND(H80*23.59%,2)+0.01 -> 5.18 | J80: =H80+I80 -> 27.08
A81: 74 | B81: VP LATGALES RP DIENVIDLATGALES IECIRKŅA REAĢĒŠANAS NODAĻAS 5.GRUPA | C81: vecākais inspektors | D81: 1495 | E81: 20% | F81: =ROUND(D81/$F$4,3) -> 8.956 | G81: 12 | H81: 21.49 | I81: =ROUND(H81*23.59%,2) -> 5.07 | J81: =H81+I81 -> 26.56
A82: 75 | B82: VP LATGALES RP KRIMPB EKONOMISKO NOZIEGUMU APKAROŠANAS NODAĻA | C82: vecākais inspektors | D82: 1672 | E82: 20% | F82: =ROUND(D82/$F$4,3) -> 10.017 | G82: 12 | H82: 24.04 | I82: =ROUND(H82*23.59%,2) -> 5.67 | J82: =H82+I82 -> 29.71
A83: 76 | B83: VP LATGALES RP DIENVIDLATGALES IECIRKŅA REAĢĒŠANAS NODAĻAS 4.GRUPA | C83: vecākais inspektors | D83: 1765 | E83: 20% | F83: =ROUND(D83/$F$4,3) -> 10.574 | G83: 25 | H83: 52.87 | I83: =ROUND(H83*21.94%,2) -> 11.6 | J83: =H83+I83 -> 64.47 | K83: ***
A84: 77 | B84: VP LATGALES RP ZIEMEĻLATGALES IECIRKŅA REAĢĒŠANAS NODAĻAS 2.GRUPA | C84: galvenais inspektors | D84: 1882 | E84: 20% | F84: =ROUND(D84/$F$4,3) -> 11.275 | G84: 24 | H84: 54.12 | I84: =ROUND(H84*23.59%,2)-0.01 -> 12.76 | J84: =H84+I84 -> 66.88
A85: 78 | B85: VP LATGALES RP DIENVIDLATGALES IECIRKŅA PREVENCIJAS GRUPA | C85: vecākais inspektors | D85: 1503 | E85: 20% | F85: =ROUND(D85/$F$4,3) -> 9.004 | G85: 15 | H85: 27.01 | I85: =ROUND(H85*23.59%,2) -> 6.37 | J85: =H85+I85 -> 33.38
A86: 79 | B86: VP LATGALES RP DIENVIDLATGALES IECIRKŅA IZMEKLĒŠANAS NODAĻAS 9.GRUPA | C86: galvenais inspektors | D86: 1671 | E86: 20% | F86: =ROUND(D86/$F$4,3) -> 10.011 | G86: 12 | H86: 24.03 | I86: =ROUND(H86*23.59%,2) -> 5.67 | J86: =H86+I86 -> 29.7
A87: 80 | B87: VP LATGALES RP ZIEMEĻLATGALES IECIRKŅA REAĢĒŠANAS NODAĻAS 4.GRUPA | C87: jaunākais inspektors | D87: 1222 | E87: 20% | F87: =ROUND(D87/$F$4,3) -> 7.321 | G87: 12 | H87: 17.57 | I87: =ROUND(H87*23.59%,2) -> 4.14 | J87: =H87+I87 -> 21.71
A88: 81 | B88: VP LATGALES RP ZIEMEĻLATGALES IECIRKŅA REAĢĒŠANAS NODAĻAS 10.GRUPA | C88: inspektors | D88: 1425 | E88: 20% | F88: =ROUND(D88/$F$4,3) -> 8.537 | G88: 24 | H88: 40.98 | I88: =ROUND(H88*23.59%,2) -> 9.67 | J88: =H88+I88 -> 50.65
A89: 82 | B89: VP LATGALES RP KĀRTPB ATĻAUJU SISTĒMAS GRUPA | C89: inspektors | D89: 1547 | E89: 20% | F89: =ROUND(D89/$F$4,3) -> 9.268 | G89: 12 | H89: 22.24 | I89: =ROUND(H89*23.59%,2) -> 5.25 | J89: =H89+I89 -> 27.49
A90: 83 | B90: VP LATGALES RP ZIEMEĻLATGALES IECIRKŅA REAĢĒŠANAS NODAĻAS 4.GRUPA | C90: inspektors | D90: 1405 | E90: 20% | F90: =ROUND(D90/$F$4,3) -> 8.417 | G90: 12 | H90: 20.2 | I90: =ROUND(H90*23.59%,2) -> 4.77 | J90: =H90+I90 -> 24.97
A91: 84 | B91: VP LATGALES RP DIENVIDLATGALES IECIRKŅA REAĢĒŠANAS NODAĻAS 10.GRUPA | C91: inspektors | D91: 1472 | E91: 20% | F91: =ROUND(D91/$F$4,3) -> 8.819 | G91: 36 | H91: 63.5 | I91: =ROUND(H91*23.59%,2) -> 14.98 | J91: =H91+I91 -> 78.48
A92: 85 | B92: VP LATGALES RP ZIEMEĻLATGALES IECIRKŅA IZMEKLĒŠANAS NODAĻAS 3.GRUPA | C92: galvenais inspektors | D92: 2165 | E92: 20% | F92: =ROUND(D92/$F$4,3) -> 12.97 | G92: 12 | H92: 31.13 | I92: =ROUND(H92*23.59%,2) -> 7.34 | J92: =H92+I92 -> 38.47
A93: 86 | B93: VP LATGALES RP KĀRTPB RESURSU UN KRĪZES VADĪBAS NODAĻA | C93: operatīvais dežurants | D93: 1656 | E93: 20% | F93: =ROUND(D93/$F$4,3) -> 9.921 | G93: 48 | H93: 95.24 | I93: =ROUND(H93*23.59%,2) -> 22.47 | J93: =H93+I93 -> 117.71
A94: 87 | B94: VP LATGALES RP KRIMPB RĒZEKNES REĢIONĀLĀ NODAĻA | C94: vecākais inspektors | D94: 1722 | E94: 20% | F94: =ROUND(D94/$F$4,3) -> 10.316 | G94: 12 | H94: 24.76 | I94: =ROUND(H94*23.59%,2) -> 5.84 | J94: =H94+I94 -> 30.6
A95: 88 | B95: VP LATGALES RP KRIMPB RĒZEKNES REĢIONĀLĀ NODAĻA | C95: vecākais inspektors | D95: 1722 | E95: 20% | F95: =ROUND(D95/$F$4,3) -> 10.316 | G95: 12 | H95: 24.76 | I95: =ROUND(H95*23.59%,2) -> 5.84 | J95: =H95+I95 -> 30.6
A96: 89 | B96: VP LATGALES RP ZIEMEĻLATGALES IECIRKŅA REAĢĒŠANAS NODAĻAS 3.GRUPA | C96: inspektors | D96: 1425 | E96: 20% | F96: =ROUND(D96/$F$4,3) -> 8.537 | G96: 12 | H96: 20.49 | I96: =ROUND(H96*23.59%,2)-0.01 -> 4.82 | J96: =H96+I96 -> 25.31
A97: 90 | B97: VP LATGALES RP ZIEMEĻLATGALES IECIRKŅA IZMEKLĒŠANAS NODAĻAS 5.GRUPA | C97: vecākais inspektors | D97: 1591 | E97: 20% | F97: =ROUND(D97/$F$4,3) -> 9.532 | G97: 24 | H97: 45.75 | I97: =ROUND(H97*23.59%,2)+0.01 -> 10.8 | J97: =H97+I97 -> 56.55
A98: 91 | B98: VP LATGALES RP DIENVIDLATGALES IECIRKŅA REAĢĒŠANAS NODAĻAS 1.GRUPA | C98: galvenais inspektors | D98: 1680 | E98: 20% | F98: =ROUND(D98/$F$4,3) -> 10.065 | G98: 24 | H98: 48.31 | I98: =ROUND(H98*23.59%,2) -> 11.4 | J98: =H98+I98 -> 59.71
A99: 92 | B99: VP LATGALES RP DIENVIDLATGALES IECIRKŅA IZMEKLĒŠANAS NODAĻAS 2.GRUPA | C99: inspektors | D99: 1581 | E99: 20% | F99: =ROUND(D99/$F$4,3) -> 9.472 | G99: 12 | H99: 22.73 | I99: =ROUND(H99*23.59%,2) -> 5.36 | J99: =H99+I99 -> 28.09
A100: 93 | B100: VP LATGALES RP ZIEMEĻLATGALES IECIRKŅA REAĢĒŠANAS NODAĻAS 9.GRUPA | C100: inspektors | D100: 1425 | E100: 20% | F100: =ROUND(D100/$F$4,3) -> 8.537 | G100: 24 | H100: 40.98 | I100: =ROUND(H100*23.59%,2) -> 9.67 | J100: =H100+I100 -> 50.65
A101: 94 | B101: VP LATGALES RP ZIEMEĻLATGALES IECIRKŅA IZMEKLĒŠANAS NODAĻAS 2.GRUPA | C101: vecākais inspektors | D101: 1640 | E101: 20% | F101: =ROUND(D101/$F$4,3) -> 9.825 | G101: 12 | H101: 23.58 | I101: =ROUND(H101*23.59%,2) -> 5.56 | J101: =H101+I101 -> 29.14
A102: 95 | B102: VP LATGALES RP DIENVIDLATGALES IECIRKŅA IZMEKLĒŠANAS NODAĻAS 7.GRUPA | C102: inspektors | D102: 1472 | E102: 20% | F102: =ROUND(D102/$F$4,3) -> 8.819 | G102: 12 | H102: 21.17 | I102: =ROUND(H102*23.59%,2) -> 4.99 | J102: =H102+I102 -> 26.16
A103: 96 | B103: VP LATGALES RP ZIEMEĻLATGALES IECIRKŅA IZMEKLĒŠANAS NODAĻAS 1.GRUPA | C103: inspektors | D103: 1581 | E103: 20% | F103: =ROUND(D103/$F$4,3) -> 9.472 | G103: 24 | H103: 45.47 | I103: =ROUND(H103*23.59%,2) -> 10.73 | J103: =H103+I103 -> 56.2
A104: 97 | B104: VP LATGALES RP ZIEMEĻLATGALES IECIRKŅA IZMEKLĒŠANAS NODAĻAS 3.GRUPA | C104: vecākais inspektors | D104: 1640 | E104: 20% | F104: =ROUND(D104/$F$4,3) -> 9.825 | G104: 12 | H104: 23.58 | I104: =ROUND(H104*23.59%,2) -> 5.56 | J104: =H104+I104 -> 29.14
A105: 98 | B105: VP LATGALES RP ZIEMEĻLATGALES IECIRKŅA PREVENCIJAS GRUPA | C105: inspektors | D105: 1472 | E105: 20% | F105: =ROUND(D105/$F$4,3) -> 8.819 | G105: 24 | H105: 42.33 | I105: =ROUND(H105*23.59%,2) -> 9.99 | J105: =H105+I105 -> 52.32
A106: 99 | B106: VP LATGALES RP ZIEMEĻLATGALES IECIRKŅA REAĢĒŠANAS NODAĻAS 1.GRUPA | C106: inspektors | D106: 1425 | E106: 20% | F106: =ROUND(D106/$F$4,3) -> 8.537 | G106: 14 | H106: 23.9 | I106: =ROUND(H106*23.59%,2) -> 5.64 | J106: =H106+I106 -> 29.54
A107: 100 | B107: VP LATGALES RP KRIMPB RĒZEKNES REĢIONĀLĀ NODAĻA | C107: vecākais inspektors | D107: 1722 | E107: 20% | F107: =ROUND(D107/$F$4,3) -> 10.316 | G107: 12 | H107: 24.76 | I107: =ROUND(H107*23.59%,2) -> 5.84 | J107: =H107+I107 -> 30.6
A108: 101 | B108: VP LATGALES RP DIENVIDLATGALES IECIRKŅA IZMEKLĒŠANAS NODAĻAS 3.GRUPA | C108: vecākais inspektors | D108: 1591 | E108: 20% | F108: =ROUND(D108/$F$4,3) -> 9.532 | G108: 24 | H108: 45.75 | I108: =ROUND(H108*23.59%,2)+0.01 -> 10.8 | J108: =H108+I108 -> 56.55
A109: 102 | B109: VP LATGALES RP KRIMPB EKONOMISKO NOZIEGUMU APKAROŠANAS NODAĻA | C109: galvenais inspektors | D109: 1791 | E109: 20% | F109: =ROUND(D109/$F$4,3) -> 10.73 | G109: 12 | H109: 25.75 | I109: =ROUND(H109*23.59%,2)-0.01 -> 6.06 | J109: =H109+I109 -> 31.81
A110: 103 | B110: VP LATGALES RP KĀRTPB RESURSU UN KRĪZES VADĪBAS NODAĻA | C110: jaunākais inspektors | D110: 1206 | E110: 20% | F110: =ROUND(D110/$F$4,3) -> 7.225 | G110: 12 | H110: 17.34 | I110: =ROUND(H110*23.59%,2) -> 4.09 | J110: =H110+I110 -> 21.43
A111: 104 | B111: VP LATGALES RP ZIEMEĻLATGALES IECIRKŅA REAĢĒŠANAS NODAĻAS 2.GRUPA | C111: jaunākais inspektors | D111: 1268 | E111: 20% | F111: =ROUND(D111/$F$4,3) -> 7.596 | G111: 12 | H111: 18.23 | I111: =ROUND(H111*23.59%,2) -> 4.3 | J111: =H111+I111 -> 22.53
A112: 105 | B112: VP LATGALES RP ZIEMEĻLATGALES IECIRKŅA REAĢĒŠANAS NODAĻAS 9.GRUPA | C112: inspektors | D112: 1425 | E112: 20% | F112: =ROUND(D112/$F$4,3) -> 8.537 | G112: 12 | H112: 20.49 | I112: =ROUND(H112*23.59%,2) -> 4.83 | J112: =H112+I112 -> 25.32
A113: 106 | B113: VP LATGALES RP DIENVIDLATGALES IECIRKŅA REAĢĒŠANAS NODAĻAS 5.GRUPA | C113: inspektors | D113: 1425 | E113: 20% | F113: =ROUND(D113/$F$4,3) -> 8.537 | G113: 32 | H113: 54.64 | I113: =ROUND(H113*23.59%,2) -> 12.89 | J113: =H113+I113 -> 67.53
A114: 107 | B114: VP LATGALES RP DIENVIDLATGALES IECIRKŅA PREVENCIJAS GRUPA | C114: inspektors | D114: 1452 | E114: 20% | F114: =ROUND(D114/$F$4,3) -> 8.699 | G114: 15 | H114: 26.1 | I114: =ROUND(H114*23.59%,2) -> 6.16 | J114: =H114+I114 -> 32.26
A115: 108 | B115: VP LATGALES RP DIENVIDLATGALES IECIRKŅA IZMEKLĒŠANAS NODAĻAS 5.GRUPA | C115: galvenais inspektors | D115: 1861 | E115: 20% | F115: =ROUND(D115/$F$4,3) -> 11.149 | G115: 24 | H115: 53.52 | I115: =ROUND(H115*23.59%,2) -> 12.63 | J115: =H115+I115 -> 66.15
A116: 109 | B116: VP LATGALES RP ZIEMEĻLATGALES IECIRKŅA IZMEKLĒŠANAS NODAĻAS 1.GRUPA | C116: vecākais inspektors | D116: 1881 | E116: 20% | F116: =ROUND(D116/$F$4,3) -> 11.269 | G116: 12 | H116: 27.05 | I116: =ROUND(H116*23.59%,2) -> 6.38 | J116: =H116+I116 -> 33.43
A117: 110 | B117: VP LATGALES RP DIENVIDLATGALES IECIRKŅA REAĢĒŠANAS NODAĻAS 10.GRUPA | C117: vecākais inspektors | D117: 1475 | E117: 20% | F117: =ROUND(D117/$F$4,3) -> 8.837 | G117: 36 | H117: 63.63 | I117: =ROUND(H117*23.59%,2)-0.01 -> 15 | J117: =H117+I117 -> 78.63
A118: 111 | B118: VP LATGALES RP ZIEMEĻLATGALES IECIRKŅA IZMEKLĒŠANAS NODAĻAS 1.GRUPA | C118: vecākais inspektors | D118: 1640 | E118: 20% | F118: =ROUND(D118/$F$4,3) -> 9.825 | G118: 27 | H118: 53.06 | I118: =ROUND(H118*23.59%,2) -> 12.52 | J118: =H118+I118 -> 65.58
A119: 112 | B119: VP LATGALES RP DIENVIDLATGALES IECIRKŅA IZMEKLĒŠANAS NODAĻAS 6.GRUPA | C119: vecākais inspektors | D119: 1495 | E119: 20% | F119: =ROUND(D119/$F$4,3) -> 8.956 | G119: 24 | H119: 42.99 | I119: =ROUND(H119*23.59%,2) -> 10.14 | J119: =H119+I119 -> 53.13
...

Sheet 5.tabula
F1: 5.tabula
A2: Valsts policija
A3: Degvielas izmaksu aprēķins degvielas izdevumiem sniedzot atbalstu Valsts robežsardzei Latvijas Republikas-Baltkrievijas Republikas valsts robežas nelikumīgas šķērsošanas nodrošināšanā par laika periodu no 2024. gada 1. aprīļa līdz 30. aprīlim
A5: Nr.p.k. | B5: Transportlīdzekļa marka | C5: Iesaistīto transportlīdzekļu skaits | D5: Faktiskais nobraukums pasākumā (km) | E5: Pasākuma laikā patērētā degviela (l) | F5: Summa euro
A6: Kopā: | C6: =ROUNDUP(SUM(C8:C54),2) -> 65 | D6: =ROUNDUP(SUM(D8:D54),2) -> 86422 | E6: =ROUNDUP(SUM(E8:E54),2) -> 6236.18 | F6: =ROUNDUP(SUM(F8:F54),2) -> 9503.51
A7: Vidzemes reģiona pārvalde
A8: 1 | B8: Peugeot Boxer | C8: 2 | D8: 1574 | E8: 143.14 | F8: 216.9
A9: 2 | B9: VW Tiguan | C9: 1 | D9: 1008 | E9: 61.08 | F9: 94.09
A10: 3 | B10: VW Crafter | C10: 1 | D10: 731 | E10: 84.58 | F10: 129.45
A15: Latgales reģiona pārvalde
A16: 4 | B16: Citroen Berlingo | C16: 1 | D16: 1755 | E16: 101.79 | F16: 154.72
A17: =A16+1 -> 5 | B17: Citroen Jumper | C17: 1 | D17: 1136 | E17: 117.01 | F17: 177.86
A18: =A17+1 -> 6 | B18: Ford Transit Custom | C18: 1 | D18: 30 | E18: 2.88 | F18: 4.38
A19: =A18+1 -> 7 | B19: KIA Cee'd | C19: 3 | D19: 519 | E19: 32.92 | F19: 52.01
A20: =A19+1 -> 8 | B20: Opel Mokka | C20: 34 | D20: 43374 | E20: 2923 | F20: 4455.93
A21: =A20+1 -> 9 | B21: Opel Combo Van | C21: 1 | D21: 4800 | E21: 374.4 | F21: 569.09
A22: =A21+1 -> 10 | B22: Opel Insignia Limousine | C22: 4 | D22: 2477 | E22: 141.59 | F22: 216.9
A23: =A22+1 -> 11 | B23: Peugeot Boxer | C23: 2 | D23: 2754 | E23: 252.11 | F23: 383.21
A24: =A23+1 -> 12 | B24: Renault Kangoo | C24: 4 | D24: 10974 | E24: 759.65 | F24: 1154.66
A25: =A24+1 -> 13 | B25: Renault Laguna | C25: 2 | D25: 3763 | E25: 250.27 | F25: 380.41
A26: =A25+1 -> 14 | B26: Renault Trafic | C26: 2 | D26: 8510 | E26: 706.82 | F26: 1074.37
A27: =A26+1 -> 15 | B27: Škoda Superb | C27: 1 | D27: 558 | E27: 51.89 | F27: 81.99
A28: =A27+1 -> 16 | B28: Toyota RAV4 | C28: 1 | D28: 819 | E28: 54.87 | F28: 86.7
... A30: =A29+1 -> 18 | B30: VW Transporter | C30: 2 | D30: 347 | E30: 35.13 | F30: 53.4
A37: Zemgales reģiona pārvalde
A43: Kurzemes reģiona pārvalde
A48: Rīgas reģiona pārvalde
