Workbook

Sheet KOPSAVILKUMS
E1: 1. Pielikums noteikumu projekta "Grozījumi Ministru kabineta 2005. gada 25. oktobra noteikumos Nr. 803 "Noteikumi par zāļu cenu veidošanas principiem"" anotācijai
A3: 2026. – 2028. gada prioritārā pasākumam 29_04_P “Medikamentu pieejamības stiprināšana medikamentu cenu segmentā līdz 10 euro un invalīdiem (farmācijas pakalpojuma līdzfinansējuma korekcija)” papildus piešķirtais finansējums un prognozētā izpilde
A5: 2026. GADAM
B6: Papildus piešķirtais finansējums, EUR | C6: Indikatīvi prognozētā izpilde, EUR | D6: Indikatīvi prognozētā neizpilde, EUR
A7: KOPĀ, tai skaitā: | B7: =SUM(B8:B10) -> 9600000 | C7: =SUM(C8:C10) -> 4205687 | D7: =SUM(D8:D10) -> 5394313
A8: Personām ar 1. grupas invaliditāti | B8: 453360 | C8: =Neizpilde!B12 -> 151119 | D8: =B8-C8 -> 302241
A9: Recepšu medikamentiem, kam vienības cena ir līdz 10 euro | B9: 8762265 | C9: =Neizpilde!G23-Neizpilde!D32 -> 3670193 | D9: =B9-C9 -> 5092072
A10: Pielāgojumu informācijas sistēmā un to uzturēšana kontekstā ar farmaceita pakalpojuma apmaksu veikšanai | B10: 384375 | C10: =B10 -> 384375 | D10: =B10-C10 -> 0
A13: 2027. GADAM UN TURPMĀK IK GADU
B14: Papildus piešķirtais finansējums, EUR | C14: Indikatīvi prognozētā izpilde, EUR | D14: Indikatīvi prognozētā neizpilde, EUR
A15: KOPĀ, tai skaitā: | B15: =SUM(B16:B18) -> 9600000 | C15: =SUM(C16:C18) -> 7855247 | D15: =SUM(D16:D18) -> 1744753
A16: Personām ar 1. grupas invaliditāti | B16: 453360 | C16: =Neizpilde!B13 -> 453360 | D16: =B16-C16 -> 0
A17: Recepšu medikamentiem, kam vienības cena ir līdz 10 euro | B17: 9085140 | C17: =Neizpilde!F23-Neizpilde!C32 -> 7340387 | D17: =B17-C17 -> 1744753
A18: Pielāgojumu informācijas sistēmā un to uzturēšana kontekstā ar farmaceita pakalpojuma apmaksu veikšanai | B18: 61500 | C18: =B18 -> 61500 | D18: =B18-C18 -> 0
A20: Farmaceitu pakalpojuma maksas kompensācijai paredzētais finansējums bidžeta apakšprogrammā 33.03.00 Kompensējamo medikamentu un materiālu apmaksāšana
B21: 2026. gadam | C21: 2027. gadam un turpmāk ik gadu
A22: KOPĀ | B22: =B23+B24+B25 -> 18950777 | C22: =C23+C24+C25 -> 22923212
A23: "74. Gadskārtējā valsts budžeta izpildes procesā pārdalāmais finansējums" programmas 20.00.00 "Veselības aprūpes pasākumu īstenošana" | B23: 9482256 | C23: 9482256
A24: Esošā budžeta ietvaros no plānotā ietaupījuma no piecenojuma maiņas lieltirgotavām un aptiekām | B24: 5647209 | C24: 5647209
A25: 2026. – 2028. gada prioritārā pasākuma 29_04_P “Medikamentu pieejamības stiprināšana medikamentu cenu segmentā līdz 10 euro un personām ar invaliditāti (farmācijas pakalpojuma līdzfinansējuma korekcija)” ietvaros noteikumu projektā paradzēto pasākumu īstenošanai | B25: =C8+C9 -> 3821312 | C25: =C16+C17 -> 7793747

Sheet Neizpilde
D1: 2. Pielikums noteikumu projekta "Grozījumi Ministru kabineta 2005. gada 25. oktobra noteikumos Nr. 803 "Noteikumi par zāļu cenu veidošanas principiem"" anotācijai
A3: Indikatīvi prognozētais finansējuma izlietojums, ņemot vērā, ka prioritārajā pasākumā no 2026. gada plānoto farmaceita pakalpojuma maksas atvieglojumi tiks ieviesti no 2026. gada 1. jūlija (par recepšu medikamentiem ar vienības cenu līdz 10 euro) un no 2026. gada 1. septembra (farmaceita pakalpojuma maksas segšana personām ar 1. grupas invaliditāti)
A5: 1. Maksas par farmaceita pakalpojuma sniegšanu segšana 100% apmērā no valsts budžeta līdzekļiem personām ar 1. grupas invaliditāti
B7: Kopā, EUR
A8: Personas ar 1. grupas invaliditāti, skaits | B8: 30224
A9: Recepšu skaits GADĀ, kam tiks segta FP maksa (vid. 20 receptes uz personu) | B9: =B8*20 -> 604480
A10: Recepšu skaits 2026. gadā, kam tiks segta FP maksa * | B10: =ROUND(B9/12*4-1,0) -> 201492
A11: PP plānotais finansējums GADAM | B11: =KOPSAVILKUMS!B8 -> 453360
A12: Indikatīvi prognozētais finansējuma izlietojums 2026. gadam * | B12: =B10*0.75 -> 151119
A13: Indikatīvi prognozētais finansējuma izlietojums 2027. gadam un turpmāk ik gadu | B13: =B11 -> 453360
A14: * PP tiks ieviests no 2026. gada 1. septembra
B15: 2026. gads | C15: 2027. gads un turpmāk ik gadu, EUR
A16: Indikatīvi prognozētā neizpilde | B16: =B11-B12 -> 302241 | C16: =B11-B13 -> 0
A19: 2. Maksas par farmaceita pakalpojuma sniegšanu segšana 100% apmērā no valsts budžeta līdzekļiem par recepšu medikamentiem, kam vienības cena ir līdz 10 euro
N20: 0
B21: Prioritārajā pasākumā plānotais un papildus piešķirtais 2026. gadam | C21: Prioritārajā pasākumā plānotais un papildus piešķirtais 2027. gadam un turpmāk ik gadu | D21: Faktiskā izpilde 2025. gada janvāris - novembris | E21: Indikatīvā prognoze gadam, balstoties uz 2025. gadam 11 mēnešu faktisko izpildi ** | F21: Indikatīvā prognoze finansējuma izlietojumam gadam ar 5 % rezervi * | G21: Indikatīvā prognoze finansējuma izlietojumam 2026. gada 1.jūlijs - 31. decembris *
A22: Receptes (skaits) *** | B22: 11683020 | C22: 12113520 | D22: 9005452 | E22: =D22/11*12 -> 9824129.5 | F22: =ROUND(E22*1.05,0) -> 10315336 | G22: =ROUND(F22/12*6,0) -> 5157668
A23: Pacienta maksas daļa par farmaceita pakalpojumu recepšu zālēm līdz 10 euro par iepakojumu, EUR | B23: =ROUND(B22*0.75,0) -> 8762265 | C23: =ROUND(C22*0.75,0) -> 9085140 | D23: =ROUND(D22*0.75,0) -> 6754089 | E23: =ROUND(E22*0.75,0) -> 7368097 | F23: =ROUND(F22*0.75,0) -> 7736502 | G23: =ROUND(G22*0.75,0) -> 3868251
A24: * PP tiks ieviests no 2026. gada 1. jūlija
A25: ** papildu nepieciešamais finansējums farmaceita pakalpojuma segšanai 100% apmērā no valsts budžeta par recepšu zālēm ar iepakojuma cenu līdz 10 euro, balstoties uz 2025. gada 11 mēnešu izpildi ir mazāks, nekā veicot sākotnējo prognozi uz 2025. gada 7 mēnešu faktisko izpildi
A26: *** plānotajā recepšu skaitā arī receptes grūtniecēm (diagnozes kods Z 33) un sievietēm līdz 70 pēcdzemdību perioda dienai (diagnozes kods Z 39.2), iegādājoties minētām diagnozēm paredzētās kompensējamo zāļu M saraksta zāles ar 25% kompensāciju un kuru iepakojuma aptiekas cena ir līdz 10 euro (tika apkopots kopējais recepšu skaits medikamentiem ar cenu līdz 10 euro)
A28: Pacienti, kuri iegādāsies kompensējamās recepšu zāles ar iepakojuma aptiekas cenu līdz 10 euro un zāļu kompensāciju 100% apmērā no farmaceita pakalpojuma maksas 0,75 euro apmērā netiks atbrīvoti
B30: Faktiskā izpilde 2025. gada janvāris - novembris | C30: Indikatīvā izdevumu samazinājuma prognoze gadam, balstoties uz 2025. gadam 11 mēnešu faktisko izpildi | D30: Indikatīvā izdevumu samazinājuma prognoze 2026. gada 1.jūlijs - 31. decembris
A31: Receptes ar 100% kompensāciju ar cenu līdz 10 euro (skaits) | B31: 484140 | C31: =ROUND(B31/11*12,0) -> 528153 | D31: =ROUND(C31/12*6,0) -> 264077
A32: Pacienta maksas daļa par farmaceita pakalpojumu recepšu zālēm līdz 10 euro par iepakojumu 100% valsts kompensētām zālēm, EUR | B32: =ROUND(B31*0.75,0) -> 363105 | C32: =ROUND(C31*0.75,0) -> 396115 | D32: =ROUND(D31*0.75,0) -> 198058
B34: 2026. gads | C34: 2027. gads un turpmāk ik gadu, EUR
A35: Indikatīvi prognozētā neizpilde | B35: =B23-G23+D32 -> 5092072 | C35: =C23-F23+C32 -> 1744753
