Workbook

Sheet IKVD_oktobris
F1: Pielikums
A2: Pārskats par virs normālā darba laika nostrādātām stundām, kas radušās nodrošinot epidemioloģisko drošības pasākumu Covid-19 infekcijas izplatības ierobežošanai ievērošanas kontroli izglītības jomā
A4: Iestādes nosaukums: Izglītības kvalitātes valsts dienests
A5: Pārskata mēnesis: Oktobris
B7: Nodarbināto skaits mēnesī | C7: Virsstundas | D7: Mēnešalga no kuras rēķina stundas likmi | E7: Stundas likme (aprēķināta atbilstoši mēnešalgai vai darba līgumā noteiktā stundas likme) | F7: Apmaksājamā 100% piemaksa par nostrādātām virsstundām virs normālā darba laika | G7: Izdevumi par virsstundām kopā ar VSOAI, EUR
A10: KOPĀ | B10: =SUM(B11:B22) -> 12 | C10: =SUM(C11:C22) -> 261 | F10: =SUM(F11:F22) -> 2594.8036 | G10: =SUM(G11:G22) -> 3206.9177
A11: Uzraudzības departamenta vecākais eksperts | B11: 1 | C11: 12.5 | D11: 1287 | E11: =(D11/168) -> 7.6607143 | F11: =C11*E11 -> 95.758929 | G11: =(F11*1.2359) -> 118.34846
A12: Uzraudzības departamenta vecākais eksperts | B12: 1 | C12: 12.5 | D12: 1287 | E12: =(D12/168) -> 7.6607143 | F12: =C12*E12 -> 95.758929 | G12: =(F12*1.2359) -> 118.34846
A13: Uzraudzības departamenta vecākais inspektors | B13: 1 | C13: 13.5 | D13: 950 | E13: =(D13/168) -> 5.6547619 | F13: =C13*E13 -> 76.339286 | G13: =(F13*1.2359) -> 94.347723
A14: Uzraudzības departamenta vecākais eksperts | B14: 1 | C14: 17.5 | D14: 1287 | E14: =(D14/168) -> 7.6607143 | F14: =C14*E14 -> 134.0625 | G14: =(F14*1.2359) -> 165.68784
A15: Uzraudzības departamenta vecākais eksperts | B15: 1 | C15: 15.5 | D15: 1287 | E15: =(D15/168) -> 7.6607143 | F15: =C15*E15 -> 118.74107 | G15: =(F15*1.2359) -> 146.75209
A16: Uzraudzības departamenta vecākais eksperts | B16: 1 | C16: 14.5 | D16: 1287 | E16: =(D16/168) -> 7.6607143 | F16: =C16*E16 -> 111.08036 | G16: =(F16*1.2359) -> 137.28421
A17: Uzraudzības departamenta direktors | B17: 1 | C17: 48 | D17: 1917 | E17: =(D17/168) -> 11.410714 | F17: =C17*E17 -> 547.71429 | G17: =(F17*1.2359) -> 676.92009
A18: Uzraudzības departamenta direktora vietnieks | B18: 1 | C18: 12 | D18: 1600 | E18: =(D18/168) -> 9.5238095 | F18: =C18*E18 -> 114.28571 | G18: =(F18*1.2359) -> 141.24571
A19: Vadītāja | B19: 1 | C19: 42 | D19: 2264 | E19: =(D19/168) -> 13.47619 | F19: =C19*E19 -> 566 | G19: =(F19*1.2359) -> 699.5194
A20: Vadītāja vietniece, Licencēšanas un reģistru departamenta direktore | B20: 1 | C20: 26.5 | D20: 1817 | E20: =(D20/168) -> 10.815476 | F20: =C20*E20 -> 286.61012 | G20: =(F20*1.2359) -> 354.22145
A21: Licencēšanas un reģistru departamenta direktora vietnieks | B21: 1 | C21: 26.5 | D21: 1600 | E21: =(D21/168) -> 9.5238095 | F21: =C21*E21 -> 252.38095 | G21: =(F21*1.2359) -> 311.91762
A22: Vispārējās daļas vadītāja - galvenā grāmatvede | B22: 1 | C22: 20 | D22: 1647 | E22: =(D22/168) -> 9.8035714 | F22: =C22*E22 -> 196.07143 | G22: =(F22*1.2359) -> 242.32468

Sheet IKVD_novembris
F1: Pielikums
A2: Pārskats par virs normālā darba laika nostrādātām stundām, kas radušās nodrošinot epidemioloģisko drošības pasākumu Covid-19 infekcijas izplatības ierobežošanai ievērošanas kontroli izglītības jomā
A4: Iestādes nosaukums: Izglītības kvalitātes valsts dienests
A5: Pārskata mēnesis: Novembris
B7: Nodarbināto skaits mēnesī | C7: Virsstundas | D7: Mēnešalga no kuras rēķina stundas likmi | E7: Stundas likme (aprēķināta atbilstoši mēnešalgai vai darba līgumā noteiktā stundas likme) | F7: Apmaksājamā 100% piemaksa par nostrādātām virsstundām virs normālā darba laika | G7: Izdevumi par virsstundām kopā ar VSOAI, EUR
A10: KOPĀ | B10: =SUM(B11:B22) -> 12 | C10: =SUM(C11:C22) -> 588.5 | F10: =SUM(F11:F22) -> 5314.161 | G10: =SUM(G11:G22) -> 6567.7715
A11: Uzraudzības departamenta vecākais eksperts | B11: 1 | C11: 68 | D11: 1287 | E11: =(D11/167) -> 7.7065868 | F11: =C11*E11+0.03 -> 524.0779 | G11: =(F11*1.2359) -> 647.70788
A12: Uzraudzības departamenta vecākais eksperts | B12: 1 | C12: 27.5 | D12: 1287 | E12: =(D12/167) -> 7.7065868 | F12: =C12*E12+0.01 -> 211.94114 | G12: =(F12*1.2359) -> 261.93805
A13: Uzraudzības departamenta vecākais inspektors | B13: 1 | C13: 55 | D13: 950 | E13: =(D13/167) -> 5.6886228 | F13: =C13*E13+0.03 -> 312.90425 | G13: =(F13*1.2359) -> 386.71836
A14: Uzraudzības departamenta vecākais eksperts | B14: 1 | C14: 55 | D14: 1287 | E14: =(D14/167) -> 7.7065868 | F14: =C14*E14+0.03 -> 423.89228 | G14: =(F14*1.2359) -> 523.88846
A15: Uzraudzības departamenta vecākais eksperts | B15: 1 | C15: 69 | D15: 1287 | E15: =(D15/167) -> 7.7065868 | F15: =C15*E15+0.03 -> 531.78449 | G15: =(F15*1.2359) -> 657.23245
A16: Uzraudzības departamenta vecākais eksperts | B16: 1 | C16: 34.5 | D16: 1287 | E16: =(D16/167) -> 7.7065868 | F16: =C16*E16+0.01 -> 265.88725 | G16: =(F16*1.2359) -> 328.61005
A17: Uzraudzības departamenta direktors | B17: 1 | C17: 84 | D17: 1917 | E17: =(D17/167) -> 11.479042 | F17: =C17*E17 -> 964.23952 | G17: =(F17*1.2359) -> 1191.7036
A18: Uzraudzības departamenta direktora vietnieks | B18: 1 | C18: 67 | D18: 1600 | E18: =(D18/167) -> 9.5808383 | F18: =C18*E18+0.01 -> 641.92617 | G18: =(F18*1.2359) -> 793.35655
A19: Vadītāja | B19: 1 | C19: 40 | D19: 2264 | E19: =(D19/167) -> 13.556886 | F19: =C19*E19 -> 542.27545 | G19: =(F19*1.2359) -> 670.19823
A20: Vadītāja vietniece, Licencēšanas un reģistru departamenta direktore | B20: 1 | C20: 29.5 | D20: 1817 | E20: =(D20/167) -> 10.88024 | F20: =C20*E20-0.01 -> 320.95707 | G20: =(F20*1.2359) -> 396.67084
A21: Licencēšanas un reģistru departamenta direktora vietnieks | B21: 1 | C21: 27 | D21: 1600 | E21: =(D21/167) -> 9.5808383 | F21: =C21*E21+0.01 -> 258.69263 | G21: =(F21*1.2359) -> 319.71823
A22: Vispārējās daļas vadītāja - galvenā grāmatvede | B22: 1 | C22: 32 | D22: 1647 | E22: =(D22/167) -> 9.8622754 | F22: =C22*E22-0.01 -> 315.58281 | G22: =(F22*1.2359) -> 390.0288

Sheet Kopsavilkums
C1: Pielikums
A2: Pārskats par virs normālā darba laika nostrādātām stundām, kas radušās nodrošinot epidemioloģisko drošības pasākumu Covid-19 infekcijas izplatības ierobežošanai ievērošanas kontroli izglītības jomā
A4: Iestādes nosaukums: Izglītības kvalitātes valsts dienests
B6: Virsstundas | C6: Apmaksājamā 100% piemaksa par nostrādātām virsstundām virs normālā darba laika | D6: Izdevumi par virsstundām kopā ar VSOAI, EUR
A9: KOPĀ | B9: =SUM(B10:B11) -> 849.5 | C9: =SUM(C10:C11) -> 7908.9645 | D9: =SUM(D10:D11) -> 9774.6893
A10: Oktobris | B10: =IKVD_oktobris!C10 -> 261 | C10: =IKVD_oktobris!F10 -> 2594.8036 | D10: =IKVD_oktobris!G10 -> 3206.9177
A11: Novembris | B11: =IKVD_novembris!C10 -> 588.5 | C11: =IKVD_novembris!F10 -> 5314.161 | D11: =IKVD_novembris!G10 -> 6567.7715
