Workbook
Name PPP: #REF!
Name q: #REF!
Name q: #REF!
Name q: #REF!
Name q: #REF!
Name q: #REF!
Name q: #REF!
Name s: #REF!
Name ssss: #REF!
Name ssss: #REF!
Name ssss: #REF!
Name ssss: #REF!
Name ssss: #REF!
Name ssss: #REF!
Name Valsts_policijas_amatpersonas_ar_speciālo_dienesta_pakāpi_dalība_Eiropas_Savienības_policijas_misijā_Gruzijā__EUMM_GEORGIA_________M.Štange__līdz_2019.gada_28.februārim: #REF!
Name Valsts_policijas_amatpersonas_ar_speciālo_dienesta_pakāpi_dalība_Eiropas_Savienības_policijas_misijā_Gruzijā__EUMM_GEORGIA_________M.Štange__līdz_2019.gada_28.februārim: #REF!
Name Valsts_policijas_amatpersonas_ar_speciālo_dienesta_pakāpi_dalība_Eiropas_Savienības_policijas_misijā_Gruzijā__EUMM_GEORGIA_________M.Štange__līdz_2019.gada_28.februārim: #REF!
Name Valsts_policijas_amatpersonas_ar_speciālo_dienesta_pakāpi_dalība_Eiropas_Savienības_policijas_misijā_Gruzijā__EUMM_GEORGIA_________M.Štange__līdz_2019.gada_28.februārim: #REF!
Name Valsts_policijas_amatpersonas_ar_speciālo_dienesta_pakāpi_dalība_Eiropas_Savienības_policijas_misijā_Gruzijā__EUMM_GEORGIA_________M.Štange__līdz_2019.gada_28.februārim: #REF!
Name Valsts_policijas_amatpersonas_ar_speciālo_dienesta_pakāpi_dalība_Eiropas_Savienības_policijas_misijā_Gruzijā__EUMM_GEORGIA_________M.Štange__līdz_2019.gada_28.februārim: #REF!
Name z: #REF!
Name z: #REF!
Name z: #REF!
Name z: #REF!
Name z: #REF!
Name z: #REF!

Sheet K.Eiduka
A1: IZDEVUMU APRĒĶINS
A2: Valsts policijas amatpersonas ar speciālo dienesta pakāpi dalība Eiropas Savienības novērošanas misijā Gruzijā (EUMM GEORGIA) Kristīne Eiduka (19.02.2025.-18.02.2026.)
C4: euro
A5: EUMM GEORGIA (19.02.2025.-31.12.2025.) | C5: 2025.gads
A6: Izdevumi kopā | C6: =C7+C11 -> 46454
A7: 1000 | B7: Atlīdzība | C7: =SUM(C8:C10) -> 31293
A8: 1149 | B8: Citas normatīvajos aktos noteiktās piemaksas, kas nav iepriekš klasificētas Ministru kabineta 2021. gada 07. decembra noteikumos Nr. 793 amatpersonai atbilstoši amata līmenim noteiktais piemaksas apmērs gadā 23 193 euro gadā (mēnesī 1 932,75 euro) (Operacionālais amata līmenis). Koeficients - 1,4; (1 932,75 euro × 1,4 × 9 mēn.) + (1 932,75 euro × 1,4 : 28 d. × 10 d.) = 25 319,03 euro * | C8: =ROUNDUP((((B31*1.4))/28*10)+(B31*1.4*9),0) -> 25320
A9: 1210 | B9: Darba devēja valsts sociālās apdrošināšanas obligātās iemaksas 23,59% no EKK 1149 summas (25 319,03 euro × 23,59 %) = 5 972,99 euro | C9: =ROUND(C8*0.2359,0) -> 5973
A10: 1226 | B10: Dienesta pienākumu izpildei nepieciešamā apģērba iegādes kompensācija Kompensācijas apmērs gadā - 120,94 euro
A11: 2000 | B11: Preces un pakalpojumi | C11: =SUM(C12:C16) -> 15161
A12: 2122 | B12: Pārējie komandējumu un darba braucienu izdevumi Ceļa izdevumi: Vienam braucienam un bagāžai 560,00 euro; reizi kalendāra gadā ceļa izdevumi dodoties uz Latviju un atgriežoties no Latvijas, ievērojot, ka dalības laiks tiek pagarināts, šim mērķim paredzami izdevumi, kas jau 2025.gadā plānoti, lai amatpersona atgrieztos Latvijā. Apdrošināšana par ceļojuma dienām 2,00 euro par 1 dienu 560,00 euro + 2,00 euro = 562,00 euro. | C12: =ROUNDUP(560+2,0) -> 562
A13: 2238 | B13: Ārvalstīs nodarbināto amatpersonu (darbinieku) kompensācijas Dzīvokļa (dzīvojamās telpas) īres un komunālo pakalpojumu izdevumi: (15 793,88 euro (gadā) : 12 mēn. × 10 mēn.) + (1 316,16 euro : 28 d. × 10 d.) = 13 631,63 euro. | C13: =ROUNDUP((B35/12*10)+((B36/28)*10),0) -> 13632
A14: 2312
A15: 2364 | B15: Formas tērpi un speciālais apģērbs Saskaņā Valsts policijas 2024.gada 12.jūnija iekšējiem noteikumiem Nr.8.“Noteikumi par Valsts policijas un Valsts policijas koledžas amatpersonu ar speciālajām dienesta pakāpēm formas tērpu, atšķirības zīmēm, speciālo apģērbu, individuālajiem aizsardzības līdzekļiem un inventāru, atpazīšanas zīmju aprakstu un darbinieku darba apģērbu” Valsts policijas amatpersonas var lūgt atjaunot formas tērpu, ja tas ir nolietots un lūgt izsniegt jaunu. Atsevišām formas tērpa daļām - specapģērbam, ekipējumam lietošanas termiņš ir sasniedzīs lietošanas termiņa beigas. Formas tērpa atjaunošanas izdevumi sastāda 967,00 euro, tai skaitā: Jaka - 121 euro; Pulovers - 72,60 euro; Sporta tērps - 129,47 euro; Zeķes - 6,05 euro × 3 pāri = 18,15 euro; Zeķes - 15,73 euro × 3 pāri = 47,19 euro; Šņorzābaki - 139,15 euro; Sporta apavi - 96,80 euro; Termoss - 36,30 euro; Bikses - 78,65 euro × 2.gab. = 157,30 euro; Krekls ar garām piedurknēm - 78,65 euro; Krekls ar īsām piedurknēm - 70,18 euro. | C15: =ROUNDUP(121+72.6+129.47+18.15+47.19+139.15+96.8+36.3+157.3+78.65+70.18,0) -> 967
A16: 2389
C18: euro
A19: EUMM GEORGIA (01.01.2026.-18.02.2026.) | C19: 2026.gads
A20: Izdevumi kopā | C20: =C21+C24 -> 11564.16
A21: 1000 | B21: Atlīdzība | C21: =SUM(C22:C23) -> 8839.16
A22: 1149 | B22: Citas normatīvajos aktos noteiktās piemaksas, kas nav iepriekš klasificētas Ministru kabineta 2021. gada 07. decembra noteikumos Nr. 793 amatpersonai atbilstoši amata līmenim noteiktais piemaksas apmērs gadā 23 193 euro (mēnesī 1 932,75 euro) (Operacionālais amata līmenis). Koeficients - 1,4; (1 932,75 euro × 1,4 × 2 mēn.) + (1 932,75 euro × 1,4 : 28 d. × 18 d) = 7 151,18 euro * | C22: =ROUNDUP((((B31*1.4))/28*18)+(B31*1.4*2),0) -> 7152
A23: 1210 | B23: Darba devēja valsts sociālās apdrošināšanas obligātās iemaksas 23,59% no EKK 1149 summas (7 151,18 euro × 23,59 %) = 1 686,96 euro | C23: =ROUNDUP(C22*0.2359,2) -> 1687.16
A24: 2000 | B24: Preces un pakalpojumi | C24: =SUM(C25:C26) -> 2725
A25: 2122 | B25: Pārējie komandējumu un darba braucienu izdevumi Ceļa izdevumi: Vienam braucieniem un bagāžai 560 euro; Apdrošināšana par ceļojuma dienām 2,00 euro par 1 dienu 560 euro + 2,00 euro = 562,00 euro. | C25: =ROUNDUP(560*1+2*1,0) -> 562
A26: 2238 | B26: Ārvalstīs nodarbināto amatpersonu (darbinieku) kompensācijas Dzīvokļa (dzīvojamās telpas) īres un komunālo pakalpojumu izdevumi: (15 793,88 euro (gadā) : 12 mēn. × 1 mēn.) + (1 316,16 euro : 28 d. × 18 d.) = 2 162,26 euro. | C26: =ROUNDUP((B35/12*1)+((B36/28)*18),0) -> 2163
A27: *Izdevumi atlīdzībai Valsts policijas amatpersonas ar speciālo dienesta pakāpi dalības nodrošināšanai Eiropas Savienības misijā Gruzijā (EUMM Georgia) tiek attiecināti atbilstoši faktiskajam atlīdzības izmaksas periodam, proti, atlīdzības izdevumi par kalendāra gada decembra mēnesi tiek iekļauti nākamā gada izdevumos.
B29: Taktiskais amata līmenis
A30: gadā | B30: 23193
A31: mēnesī | B31: 1932.75
B34: Taktiskais amata līmenis
A35: gadā | B35: 15793.88
A36: mēnesī | B36: =ROUND(B35/12,2) -> 1316.16

Sheet D.Kosarevs
A1: IZDEVUMU APRĒĶINS
A2: Valsts policijas amatpersonas ar speciālo dienesta pakāpi dalība Eiropas Savienības novērošanas misijā Gruzijā (EUMM GEORGIA) Dmitrijs Kosarevs (13.05.2025.-12.05.2026.)
C4: euro
A5: EUMM GEORGIA (13.05.2025.-31.12.2025.) | C5: 2025.gads
A6: Izdevumi kopā | C6: =C7+C11 -> 33664
A7: 1000 | B7: Atlīdzība | C7: =SUM(C8:C10) -> 22115
A8: 1149 | B8: Citas normatīvajos aktos noteiktās piemaksas, kas nav iepriekš klasificētas Ministru kabineta 2021. gada 07. decembra noteikumos Nr. 793 amatpersonai atbilstoši amata līmenim noteiktais piemaksas apmērs gadā 23 193 euro gadā (mēnesī 1 932,75 euro) (Operacionālais amata līmenis). Koeficients - 1,4; (1 932,75 euro × 1,4 × 6 mēn.) + (1 932,75 euro × 1,4 : 31 d. × 19 d.) = 17 893,52 euro * | C8: =ROUNDUP((((B31*1.4))/31*19)+(B31*1.4*6),0) -> 17894
A9: 1210 | B9: Darba devēja valsts sociālās apdrošināšanas obligātās iemaksas 23,59% no EKK 1149 summas (17 893,52 euro × 23,59 %) = 4 221,08 euro | C9: =ROUND(C8*0.2359,0) -> 4221
A10: 1226 | B10: Dienesta pienākumu izpildei nepieciešamā apģērba iegādes kompensācija Kompensācijas apmērs gadā - 120,94 euro
A11: 2000 | B11: Preces un pakalpojumi | C11: =SUM(C12:C16) -> 11549
A12: 2122 | B12: Pārējie komandējumu un darba braucienu izdevumi Ceļa izdevumi: Vienam braucienam un bagāžai 560,00 euro; reizi kalendāra gadā ceļa izdevumi dodoties uz Latviju un atgriežoties no Latvijas, ievērojot, ka dalības laiks tiek pagarināts, šim mērķim paredzami izdevumi, kas jau 2025.gadā plānoti, lai amatpersona atgrieztos Latvijā. Apdrošināšana par ceļojuma dienām 2,00 euro par 1 dienu 560,00 euro + 2,00 euro = 562,00 euro. | C12: =ROUNDUP((560+2),0) -> 562
A13: 2238 | B13: Ārvalstīs nodarbināto amatpersonu (darbinieku) kompensācijas Dzīvokļa (dzīvojamās telpas) īres un citi pakalpojumi, kas saistīti ar dzīvojamās telpas lietošanu gadā 15 793,88 euro (mēnesī 1 316,16 euro) (15 793,88 euro: 12 mēn. × 7 mēn.) + (1 316,16 euro: 31 d. × 19 d.) =10 019,78 euro | C13: =ROUNDUP((B35/12*7)+((B36/31)*19),0) -> 10020
A14: 2312
A15: 2364 | B15: Formas tērpi un speciālais apģērbs Saskaņā Valsts policijas 2024.gada 12.jūnija iekšējiem noteikumiem Nr.8.“Noteikumi par Valsts policijas un Valsts policijas koledžas amatpersonu ar speciālajām dienesta pakāpēm formas tērpu, atšķirības zīmēm, speciālo apģērbu, individuālajiem aizsardzības līdzekļiem un inventāru, atpazīšanas zīmju aprakstu un darbinieku darba apģērbu” Valsts policijas amatpersonas var lūgt atjaunot formas tērpu, ja tas ir nolietots un lūgt izsniegt jaunu. Atsevišām formas tērpa daļām - specapģērbam, ekipējumam lietošanas termiņš ir sasniedzīs lietošanas termiņa beigas. Formas tērpa atjaunošanas izdevumi sastāda 967,00 euro, tai skaitā: Jaka - 121 euro; Pulovers - 72,60 euro; Sporta tērps - 129,47 euro; Zeķes - 6,05 euro × 3 pāri = 18,15 euro; Zeķes - 15,73 euro × 3 pāri = 47,19 euro; Šņorzābaki - 139,15 euro; Sporta apavi - 96,80 euro; Termoss - 36,30 euro; Bikses - 78,65 euro × 2.gab. = 157,30 euro; Krekls ar garām piedurknēm - 78,65 euro; Krekls ar īsām piedurknēm - 70,18 euro. | C15: =ROUNDUP(121+72.6+129.47+18.15+47.19+139.15+96.8+36.3+157.3+78.65+70.18,0) -> 967
A16: 2389
C18: euro
A19: EUMM GEORGIA (01.01.2026.-12.05.2026.) | C19: 2026.gads
A20: Izdevumi kopā | C20: =C21+C24 -> 24353
A21: 1000 | B21: Atlīdzība | C21: =SUM(C22:C23) -> 18016
A22: 1149 | B22: Citas normatīvajos aktos noteiktās piemaksas, kas nav iepriekš klasificētas Ministru kabineta 2021. gada 07. decembra noteikumos Nr. 793 amatpersonai atbilstoši amata līmenim noteiktais piemaksas apmērs gadā 23 193 euro (mēnesī 1 932,75 euro) (Operacionālais amata līmenis). Koeficients - 1,4; (1 932,75 euro × 1,4 × 5 mēn.) + (1 932,75 euro × 1,4 : 31 d. × 12 d.) = 14 576,68 euro * | C22: =ROUNDUP((((B31*1.4))/31*12)+(B31*1.4*5),0) -> 14577
A23: 1210 | B23: Darba devēja valsts sociālās apdrošināšanas obligātās iemaksas 23,59% no EKK 1149 summas (14 576,68 euro × 23,59 %) = 3 438,71 euro | C23: =ROUNDUP(C22*0.2359,0) -> 3439
A24: 2000 | B24: Preces un pakalpojumi | C24: =SUM(C25:C26) -> 6337
A25: 2122 | B25: Pārējie komandējumu un darba braucienu izdevumi Ceļa izdevumi: Vienam braucieniem un bagāžai 560 euro; Apdrošināšana par ceļojuma dienām 2,00 euro par 1 dienu 560 euro + 2,00 euro = 562,00 euro. | C25: =ROUNDUP(560*1+2*1,0) -> 562
A26: 2238 | B26: Ārvalstīs nodarbināto amatpersonu (darbinieku) kompensācijas Dzīvokļa (dzīvojamās telpas) īres un komunālo pakalpojumu izdevumi: (15 793,88 euro (gadā) : 12 mēn. × 4 mēn.) + (1 316,16 euro : 31 d. × 12 d.) = 5 774,11 euro. | C26: =ROUNDUP((B35/12*4)+((B36/31)*12),0) -> 5775
A27: *Izdevumi atlīdzībai Valsts policijas amatpersonas ar speciālo dienesta pakāpi dalības nodrošināšanai Eiropas Savienības misijā Gruzijā (EUMM Georgia) tiek attiecināti atbilstoši faktiskajam atlīdzības izmaksas periodam, proti, atlīdzības izdevumi par kalendāra gada decembra mēnesi tiek iekļauti nākamā gada izdevumos.
B29: Operacionālais amata līmenis
A30: gadā | B30: 23193
A31: mēnesī | B31: 1932.75
B34: Operacionālais amata līmenis
A35: gadā | B35: 15793.88
A36: mēnesī | B36: =ROUND(B35/12,2) -> 1316.16

Sheet J.Zaļais
A1: IZDEVUMU APRĒĶINS
A2: Valsts policijas amatpersonas ar speciālo dienesta pakāpi dalība Eiropas Savienības novērošanas misijā Gruzijā (EUMM GEORGIA) Jānis Zaļais (13.05.2025.-12.05.2026.)
C4: euro
A5: EUMM GEORGIA (13.05.2025.-31.12.2025.) | C5: 2025.gads
A6: Izdevumi kopā | C6: =C7+C11 -> 34487
A7: 1000 | B7: Atlīdzība | C7: =SUM(C8:C10) -> 22932
A8: 1149 | B8: Citas normatīvajos aktos noteiktās piemaksas, kas nav iepriekš klasificētas Ministru kabineta 2021. gada 07. decembra noteikumos Nr. 793 amatpersonai atbilstoši amata līmenim noteiktais piemaksas apmērs gadā 23 193 euro gadā (mēnesī 1 932,75 euro) (Operacionālais amata līmenis). Koeficients - 1,4; (1 932,75 euro × 1,4 × 6 mēn.) + (1 932,75 euro × 1,4 : 31 d. × 19 d.) = 17 893,52 euro * Piemaksa par kontingenta vadītāja pienākumu pildīšanu** - 100 euro mēnesī (100 euro × 6.mēn.) + (100 euro : 31 d. × 19 d.) = 661,30 euro. | C8: =ROUNDUP((((B32*1.4))/31*19)+(B32*1.4*6)+((100*6)+(100/31*19)),0) -> 18555
A9: 1210 | B9: Darba devēja valsts sociālās apdrošināšanas obligātās iemaksas 23,59% no EKK 1149 summas (18 554,82 euro × 23,59 %) = 4 377,08 euro | C9: =ROUND(C8*0.2359,0) -> 4377
A10: 1226 | B10: Dienesta pienākumu izpildei nepieciešamā apģērba iegādes kompensācija Kompensācijas apmērs gadā - 120,94 euro
A11: 2000 | B11: Preces un pakalpojumi | C11: =SUM(C12:C16) -> 11555
A12: 2122 | B12: Pārējie komandējumu un darba braucienu izdevumi Ceļa izdevumi: Vienam braucienam un bagāžai 560,00 euro; reizi kalendāra gadā ceļa izdevumi dodoties uz Latviju un atgriežoties no Latvijas, ievērojot, ka dalības laiks tiek pagarināts, šim mērķim paredzami izdevumi, kas jau 2025.gadā plānoti, lai amatpersona atgrieztos Latvijā. Apdrošināšana par ceļojuma dienām 2,00 euro par 1 dienu 560,00 euro + 2,00 euro = 562,00 euro. | C12: =ROUNDUP(560+2,0) -> 562
A13: 2238 | B13: Ārvalstīs nodarbināto amatpersonu (darbinieku) kompensācijas Dzīvokļa (dzīvojamās telpas) īres un citi pakalpojumi, kas saistīti ar dzīvojamās telpas lietošanu gadā 15 793,88 euro (mēnesī 1 316,16 euro) (15 793,88 euro: 12 mēn. × 7 mēn.) + (1 316,16 euro: 31 d. × 19 d.) =10 019,78 euro | C13: =ROUNDUP((B40/12*7)+((B41/31)*19),0) -> 10020
A14: 2312
A15: 2364 | B15: Formas tērpi un speciālais apģērbs Saskaņā Valsts policijas 2024.gada 12.jūnija iekšējiem noteikumiem Nr.8.“Noteikumi par Valsts policijas un Valsts policijas koledžas amatpersonu ar speciālajām dienesta pakāpēm formas tērpu, atšķirības zīmēm, speciālo apģērbu, individuālajiem aizsardzības līdzekļiem un inventāru, atpazīšanas zīmju aprakstu un darbinieku darba apģērbu” Valsts policijas amatpersonas var lūgt atjaunot formas tērpu, ja tas ir nolietots un lūgt izsniegt jaunu. Atsevišām formas tērpa daļām - specapģērbam, ekipējumam lietošanas termiņš ir sasniedzīs lietošanas termiņa beigas. Formas tērpa atjaunošanas izdevumi sastāda 973,00 euro, tai skaitā: Jaka - 127,05 euro; Pulovers - 72,60 euro; Sporta tērps - 129,47 euro; Zeķes - 6,05 euro × 3 pāri = 18,15 euro; Zeķes - 15,73 euro × 3 pāri = 47,19 euro; Šņorzābaki - 139,15 euro; Sporta apavi - 96,80 euro; Termoss - 36,30 euro; Bikses - 78,65 euro × 2.gab. = 157,30 euro; Krekls ar garām piedurknēm - 78,65 euro; Krekls ar īsām piedurknēm - 70,18 euro. | C15: =ROUNDUP(127.05+72.6+129.47+18.15+47.19+139.15+96.8+36.3+157.3+78.65+70.18,0) -> 973
A16: 2389
C18: euro
A19: EUMM GEORGIA (01.01.2026.-12.05.2026.) | C19: 2026.gads
A20: Izdevumi kopā | C20: =C21+C24 -> 25019
A21: 1000 | B21: Atlīdzība | C21: =SUM(C22:C23) -> 18682
A22: 1149 | B22: Citas normatīvajos aktos noteiktās piemaksas, kas nav iepriekš klasificētas Ministru kabineta 2021. gada 07. decembra noteikumos Nr. 793 amatpersonai atbilstoši amata līmenim noteiktais piemaksas apmērs gadā 23 193 euro (mēnesī 1 932,75 euro) (Operacionālais amata līmenis). Koeficients - 1,4; (1 932,75 euro × 1,4 × 5 mēn.) + (1 932,75 euro × 1,4 : 31 d. × 12 d.) = 14 576,68 euro *; Piemaksa par kontingenta vadītāja pienākumu pildīšanu ** - 100 euro mēnesī (100 euro × 5 mēn.) + (100 euro : 31 d. × 12 d.) = 538,71 euro. | C22: =ROUNDUP((((B32*1.4))/31*12)+(B32*1.4*5)+((100*5)+(100/31*12)),0) -> 15116
A23: 1210 | B23: Darba devēja valsts sociālās apdrošināšanas obligātās iemaksas 23,59% no EKK 1149 summas (15 115,39 euro × 23,59 %) = 3 565,72 euro | C23: =ROUNDUP(C22*0.2359,0) -> 3566
A24: 2000 | B24: Preces un pakalpojumi | C24: =SUM(C25:C26) -> 6337
A25: 2122 | B25: Pārējie komandējumu un darba braucienu izdevumi Ceļa izdevumi: Vienam braucieniem un bagāžai 560 euro; Apdrošināšana par ceļojuma dienām 2,00 euro par 1 dienu 560 euro + 2,00 euro = 562,00 euro. | C25: =ROUNDUP(560*1+2*1,0) -> 562
A26: 2238 | B26: Ārvalstīs nodarbināto amatpersonu (darbinieku) kompensācijas Dzīvokļa (dzīvojamās telpas) īres un komunālo pakalpojumu izdevumi: (15 793,88 euro (gadā) : 12 mēn. × 4 mēn.) + (1 316,16 euro : 31 d. × 12 d.) = 5 774,11 euro. | C26: =ROUNDUP((B40/12*4)+((B41/31)*12),0) -> 5775
A27: *Izdevumi atlīdzībai Valsts policijas amatpersonas ar speciālo dienesta pakāpi dalības nodrošināšanai Eiropas Savienības misijā Gruzijā (EUMM Georgia) tiek attiecināti atbilstoši faktiskajam atlīdzības izmaksas periodam, proti, atlīdzības izdevumi par kalendāra gada decembra mēnesi tiek iekļauti nākamā gada izdevumos.
A28: **Ievērojot, ka amatpersonai ar speciālo dienesta pakāpi iespēja ieņemt kontingenta vadītāja amatu pastāv vienīgi atrodoties starptautiskajā misijā un iestādei, kura nosūtījusi amatpersonu ar speciālo dienesta pakāpi dalībai starptautiskajā misijā nav iespēja iepriekš prognozēt šādu izdevumu rašanos un paredzēt tam finanšu līdzekļus budžeta ietvaros - izdevumu aprēķinā iekļauta ikmēneša piemaksa kontingenta vadītājam atbilstoši Ministru kabineta 2021. gada 7. decembra noteikumu Nr.793 "Kārtība, kādā Iekšlietu ministrijas sistēmas iestāžu amatpersonas ar speciālajām dienesta pakāpēm tiek nosūtītas dalībai starptautiskajās misijās un operācijās, un dalības finansēšanas kārtība" 22.2. apakšpunktam.
B30: Operacionālais amata līmenis
A31: gadā | B31: 23193
A32: mēnesī | B32: =ROUND(B31/12,2) -> 1932.75 | C32: =ROUND(B32*1.4,2) -> 2705.85
B39: Operacionālais amata līmenis | C39: 11895.21
A40: gadā | B40: 15793.88
A41: mēnesī | B41: =ROUND(B40/12,2) -> 1316.16

Sheet M.Stange
A1: IZDEVUMU APRĒĶINS
A2: Valsts policijas amatpersona ar speciālo dienesta pakāpi dalība Eiropas Savienības novērošanas misijā Gruzijā (EUMM GEORGIA) Mārtiņš Štange (07.02.2025.- 06.02.2026.)
C4: euro
A5: EUMM GEORGIA (07.02.2025. - 31.12.2025.) | C5: 2025.gads
A6: Izdevumi kopā | C6: =C7+C11 -> 40128
A7: 1000 | B7: Atlīdzība | C7: =SUM(C8:C10) -> 27907
A8: 1149 | B8: Citas normatīvajos aktos noteiktās piemaksas, kas nav iepriekš klasificētas Ministru kabineta 2021.gada 07.decembra noteikumos Nr.793 amatpersonai atbilstoši amata līmenim noteiktais piemaksas apmērs 19 778 euro gadā (mēnesī 1 648,17 euro). (Taktiskais amata līmenis). Koeficients - 1,4; (1 648,17 euro × 1,4 × 9 mēn.) + (1 648,17 euro × 1,4 : 28 d. × 22 d.) = 22 579,93 euro * | C8: =ROUNDUP((((B31*1.4))/28*22)+(B31*1.4*9),0) -> 22580
A9: 1210 | B9: Darba devēja valsts sociālās apdrošināšanas obligātās iemaksas 23,59% no EKK 1149 summas (22 579,93 euro × 23,59 %) = 5 326,62 euro | C9: =ROUND(C8*0.2359,0) -> 5327
A10: 1226 | B10: Dienesta pienākumu izpildei nepieciešamā apģērba iegādes kompensācija Kompensācijas apmērs gadā - 120,94 euro
A11: 2000 | B11: Preces un pakalpojumi | C11: =SUM(C12:C16) -> 12221
A12: 2122 | B12: Pārējie komandējumu un darba braucienu izdevumi Ceļa izdevumi: Vienam braucienam un bagāžai 560,00 euro; reizi kalendāra gadā ceļa izdevumi dodoties uz Latviju un atgriežoties no Latvijas, ievērojot, ka dalības laiks tiek pagarināts, šim mērķim paredzami izdevumi, kas jau 2025.gadā plānoti, lai amatpersona atgrieztos Latvijā. Apdrošināšana par ceļojuma dienām 2,00 euro par 1 dienu 560,00 euro + 2,00 euro = 562,00 euro. | C12: =ROUNDUP(560+2,0) -> 562
A13: 2238 | B13: Ārvalstīs nodarbināto amatpersonu (darbinieku) kompensācijas Saskaņā ar Ministru kabineta 2021.gada 07.decembra noteikumiem Nr.793 atbilstoši amata līmenim (taktiskais amata līmenis) izdevumu kompensācijas apmērs amatpersonām par dzīvokļa (dzīvojamās telpas) īri un citiem pakalpojumiem, kas saistīti ar dzīvojamās telpas lietošanu 11 895,21 euro gadā (mēnesī 991,27 euro). (11 895,21 euro: 12 mēn. × 10 mēn.) + (991,27 euro : 28 d. × 22 d.) = 10 691,53 euro | C13: =ROUNDUP((B39/12*10)+((B40/28)*22),0) -> 10692
A14: 2312 | B14: Inventārs Personīgās pirmās palīdzības komplekts, kurā ietilpst pamatmedikamenti, pārsēji, ķirurģiskās līmlentes ruļļi utt. - 60,00 euro; patruļas soma - 50,00 euro.
A15: 2364 | B15: Formas tērpi un speciālais apģērbs Saskaņā Valsts policijas 2024.gada 12.jūnija iekšējiem noteikumiem Nr.8.“Noteikumi par Valsts policijas un Valsts policijas koledžas amatpersonu ar speciālajām dienesta pakāpēm formas tērpu, atšķirības zīmēm, speciālo apģērbu, individuālajiem aizsardzības līdzekļiem un inventāru, atpazīšanas zīmju aprakstu un darbinieku darba apģērbu” Valsts policijas amatpersonas var lūgt atjaunot formas tērpu, ja tas ir nolietots un lūgt izsniegt jaunu. Atsevišām formas tērpa daļām - specapģērbam, ekipējumam lietošanas termiņš ir sasniedzīs lietošanas termiņa beigas. Formas tērpa atjaunošanas izdevumi sastāda 967,00 euro, tai skaitā: Jaka - 121 euro; Pulovers - 72,60 euro; Sporta tērps - 129,47 euro; Zeķes - 6,05 euro × 3 pāri = 18,15 euro; Zeķes - 15,73 euro × 3 pāri = 47,19 euro; Šņorzābaki - 139,15 euro; Sporta apavi - 96,80 euro; Termoss - 36,30 euro; Bikses - 78,65 euro × 2.gab. = 157,30 euro; Krekls ar garām piedurknēm - 78,65 euro; Krekls ar īsām piedurknēm - 70,18 euro. | C15: =ROUNDUP(121+72.6+129.47+18.15+47.19+139.15+96.8+36.3+157.3+78.65+70.18,0) -> 967
A16: 2389 | B16: Pārējie specifiskas lietošanas materiāli un inventārs kombinētais kabatas nazis - 76,00 euro.
C18: euro
A19: EUMM GEORGIA (01.01.2026. - 06.02.2026.) | C19: 2026.gads
A20: Izdevumi kopā | C20: =C21+C24 -> 8081
A21: 1000 | B21: Atlīdzība | C21: =SUM(C22:C23) -> 6315
A22: 1149 | B22: Citas normatīvajos aktos noteiktās piemaksas, kas nav iepriekš klasificētas Ministru kabineta 2021.gada 07.decembra noteikumos Nr.793 amatpersonai atbilstoši amata līmenim noteiktais piemaksas apmērs 19 778 euro gadā (mēnesī 1 648,17 euro) (Taktiskais amata līmenis). Koeficients - 1,4; (1 648,17 euro × 1,4 × 2 mēn.) + (1 648,17 euro × 1,4 : 28 d. × 6 d.) = 5 109,33 euro * | C22: =ROUNDUP((((B31*1.4))/28*6)+(B31*1.4*2),0) -> 5110
A23: 1210 | B23: Darba devēja valsts sociālās apdrošināšanas obligātās iemaksas 23,59% no EKK 1149 summas (5 109,33 euro × 23,59 %) = 1 205,29 euro | C23: =ROUNDUP(C22*0.2359,0)-1 -> 1205
A24: 2000 | B24: Preces un pakalpojumi | C24: =SUM(C25:C26) -> 1766
A25: 2122 | B25: Pārējie komandējumu un darba braucienu izdevumi Ceļa izdevumi: Vienam braucieniem un bagāžai 560,00 euro; Apdrošināšana par ceļojuma dienām 2,00 euro par 1 dienu (560,00 euro + 2,00 euro) = 562,00 euro. | C25: =ROUNDUP(560*1+2*1,0) -> 562
A26: 2238 | B26: Ārvalstīs nodarbināto amatpersonu (darbinieku) kompensācijas Saskaņā ar Ministru kabineta 2021.gada 07.decembra noteikumiem Nr.793 atbilstoši amata līmenim (taktiskais amata līmenis) izdevumu kompensācijas apmērs amatpersonām par dzīvokļa (dzīvojamās telpas) īri un citiem pakalpojumiem, kas saistīti ar dzīvojamās telpas lietošanu 11`895,21 euro gadā (mēnesī 991,27 euro). (11 895,21 euro : 12 mēn. × 1 mēn.) + (991,27 euro : 28 d. × 6 d.) = 1 203,69 euro. | C26: =ROUNDUP((B39/12*1)+((B40/28)*6),0) -> 1204
A27: *Izdevumi atlīdzībai Valsts policijas amatpersonas ar speciālo dienesta pakāpi dalības nodrošināšanai Eiropas Savienības misijā Gruzijā (EUMM Georgia) tiek attiecināti atbilstoši faktiskajam atlīdzības izmaksas periodam, proti, atlīdzības izdevumi par kalendāra gada decembra mēnesi tiek iekļauti nākamā gada izdevumos.
B29: Taktiskais amata līmenis
A30: gadā | B30: 19778
A31: mēnesī | B31: 1648.17 | C31: =ROUND(B31*1.4,2) -> 2307.44
A33: vecais | B33: 1422.87 | C33: =ROUND(B33*1.4,2) -> 1992.02
B34: =B31-B33 -> 225.3 | C34: =B34*1.4 -> 315.42
A35: palielinājums | B35: =C31-C33 -> 315.42
A36: pārrēķins | C36: =ROUNDUP(B35/31*7,2) -> 71.23
B38: Taktiskais amata līmenis | C38: 11895.21
A39: gadā | B39: =C38 -> 11895.21
A40: mēnesī | B40: =ROUND(B39/12,2) -> 991.27

Sheet D.Uļģis
A1: IZDEVUMU APRĒĶINS
A2: Valsts policijas amatpersona ar speciālo dienesta pakāpi dalība Eiropas Savienības novērošanas misijā Gruzijā (EUMM GEORGIA) Dāvis Uļģis (28.02.2025.-27.02.2026.)
C4: euro
A5: EUMM GEORGIA (28.02.2025. - 31.12.2025.) | C5: 2025.gads
A6: Izdevumi kopā | C6: =C7+C10 -> 37253
A7: 1000 | B7: Atlīdzība | C7: =SUM(C8:C9) -> 25769
A8: 1149 | B8: Citas normatīvajos aktos noteiktās piemaksas, kas nav iepriekš klasificētas Ministru kabineta 2021.gada 7.decembra noteikumos Nr.793 amatpersonai atbilstoši amata līmenim noteiktais piemaksas apmērs gadā 19 778 euro (mēnesī 1 648,17 euro). (Taktiskais amata līmenis). Koeficients - 1,4; (1 648,17 euro × 1,4 × 9 mēn.) + (1 648,17 euro × 1,4 : 28 d. × 1 d.) = 20 849,36 euro * | C8: =ROUNDUP((((B30*1.4))/28*1)+(B30*1.4*9),0) -> 20850
A9: 1210 | B9: Darba devēja valsts sociālās apdrošināšanas obligātās iemaksas 23,59% no EKK 1149 summas (20 926,07 euro × 23,59 %) = 4 918,52 euro | C9: =ROUND(C8*0.2359,0) -> 4919
A10: 2000 | B10: Preces un pakalpojumi | C10: =SUM(C11:C15) -> 11484
A11: 2122 | B11: Pārējie komandējumu un darba braucienu izdevumi Ceļa izdevumi: Vienam braucienam un bagāžai 560,00 euro; Brauciens no Latvijas līdz dienesta vietai, kā arī reizi kalendāra gadā ceļa izdevumi dodoties uz Latviju un atgriežoties no Latvijas. Apdrošināšana par ceļojuma dienām 2,00 euro par 1 dienu (560,00 euro + 2,00 euro) × 1 brauciens = 562 euro. | C11: =ROUNDUP(560+2,0) -> 562
A12: 2238 | B12: Ārvalstīs nodarbināto amatpersonu (darbinieku) kompensācijas Dzīvokļa (dzīvojamās telpas) īres un citi pakalpojumi, kas saistīti ar dzīvojamās telpas lietošanu gadā 11 895,21 euro (mēnesī 991,27 euro) (11 895,21 euro: 12 mēn. × 10 mēn.) + (991,27 euro: 28 d. × 1 d.) = 9 948,08 euro | C12: =ROUNDUP((B38/12*10)+((B39/28)*1),0) -> 9949
A13: 2313
A14: 2364 | B14: Formas tērpi un speciālais apģērbs Saskaņā Valsts policijas 2024.gada 12.jūnija iekšējiem noteikumiem Nr.8.“Noteikumi par Valsts policijas un Valsts policijas koledžas amatpersonu ar speciālajām dienesta pakāpēm formas tērpu, atšķirības zīmēm, speciālo apģērbu, individuālajiem aizsardzības līdzekļiem un inventāru, atpazīšanas zīmju aprakstu un darbinieku darba apģērbu” Valsts policijas amatpersonas var lūgt atjaunot formas tērpu, ja tas ir nolietots un lūgt izsniegt jaunu. Atsevišām formas tērpa daļām - specapģērbam, ekipējumam lietošanas termiņš ir sasniedzīs lietošanas termiņa beigas. Formas tērpa atjaunošanas izdevumi sastāda 973,00 euro, tai skaitā: Jaka - 127,05 euro; Pulovers - 72,60 euro; Sporta tērps - 129,47 euro; Zeķes - 6,05 euro × 3 pāri = 18,15 euro; Zeķes - 15,73 euro × 3 pāri = 47,19 euro; Šņorzābaki - 139,15 euro; Sporta apavi - 96,80 euro; Termoss - 36,30 euro; Bikses - 78,65 euro × 2.gab. = 157,30 euro; Krekls ar garām piedurknēm - 78,65 euro; Krekls ar īsām piedurknēm - 70,18 euro. | C14: =ROUNDUP(127.05+72.6+129.47+18.15+47.19+139.15+96.8+36.3+157.3+78.65+70.18,0) -> 973
A15: 2389
C17: euro
A18: EUMM GEORGIA (01.01.2026. - 27.02.2026.) | C18: 2026.gads
A19: Izdevumi kopā | C19: =C20+C23 -> 10964
A20: 1000 | B20: Atlīdzība | C20: =SUM(C21:C22) -> 8454
A21: 1149 | B21: Citas normatīvajos aktos noteiktās piemaksas, kas nav iepriekš klasificētas Ministru kabineta 2021.gada 7.decembra noteikumos Nr.793 amatpersonai atbilstoši amata līmenim noteiktais piemaksas apmērs gadā 19 778 euro (mēnesī 1 648,17 euro) (Taktiskais amata līmenis). Koeficients - 1,4; (1 648,17 euro × 1,4 × 2 mēn.) + (1 648,17 euro × 1,4 : 28 d. × 27 d.) = 6 839,91 euro * | C21: =ROUNDUP((((B30*1.4))/28*27)+(B30*1.4*2),0) -> 6840
A22: 1210 | B22: Darba devēja valsts sociālās apdrošināšanas obligātās iemaksas 23,59% no EKK 1149 summas (6 839,91 euro × 23,59 %) = 1 613,53 euro | C22: =ROUNDUP(C21*0.2359,0) -> 1614
A23: 2000 | B23: Preces un pakalpojumi | C23: =SUM(C24:C25) -> 2510
A24: 2122 | B24: Pārējie komandējumu un darba braucienu izdevumi Ceļa izdevumi: Vienam braucieniem un bagāžai 560,00 euro; Apdrošināšana par ceļojuma dienām 2,00 euro par 1 dienu (560,00 euro + 2,00 euro) = 562,00 euro. | C24: =ROUNDUP(560*1+2*1,0) -> 562
A25: 2238 | B25: Ārvalstīs nodarbināto amatpersonu (darbinieku) kompensācijas Dzīvokļa (dzīvojamās telpas) īres un citi pakalpojumi, kas saistīti ar dzīvojamās telpas lietošanu gadā 11 895,21 euro (mēnesī 991,27 euro) (11 895,21 euro : 12 mēn. × 1 mēn.) + (991,27 euro : 28 d. × 27 d.) = 1 947,14 euro. | C25: =ROUNDUP((B38/12*1)+((B39/28)*27),0) -> 1948
A26: *Izdevumi atlīdzībai Valsts policijas amatpersonas ar speciālo dienesta pakāpi dalības nodrošināšanai Eiropas Savienības misijā Gruzijā (EUMM Georgia) tiek attiecināti atbilstoši faktiskajam atlīdzības izmaksas periodam, proti, atlīdzības izdevumi par kalendāra gada decembra mēnesi tiek iekļauti nākamā gada izdevumos.
B28: Taktiskais amata līmenis
A29: gadā | B29: 19778
A30: mēnesī | B30: 1648.17 | C30: =ROUND(B30*1.4,2) -> 2307.44
A32: vecais | B32: 1422.87 | C32: =ROUND(B32*1.4,2) -> 1992.02
B33: =B30-B32 -> 225.3 | C33: =B33*1.4 -> 315.42
A34: palielinājums | B34: =C30-C32 -> 315.42
A35: pārrēķins | C35: =ROUNDUP(B34/31*7,2) -> 71.23
B37: Taktiskais amata līmenis | C37: 11895.21
A38: gadā | B38: =C37 -> 11895.21
A39: mēnesī | B39: =ROUND(B38/12,2) -> 991.27

Sheet Kopsavilkums
A1: KOPSAVILKUMS
C3: euro
A4: EUMM GEORGIA | C4: 2025.gads
A5: Izdevumi kopā | C5: =C6+C11 -> 191986
A6: 1000 | B6: Atlīdzība | C6: =C7+C9 -> 130016
A7: 1100 | B7: Atalgojums | C7: =C8 -> 105199
A8: 1149 | B8: Citas normatīvajos aktos noteiktās piemaksas, kas nav iepriekš klasificētas | C8: =K.Eiduka!C8+D.Kosarevs!C8+J.Zaļais!C8+M.Stange!C8+D.Uļģis!C8 -> 105199
A9: 1200 | B9: Darba devēja valsts sociālās apdrošināšanas obligātās iemaksas, pabalsti un kompensācijas | C9: =C10 -> 24817
A10: 1210 | B10: Darba devēja valsts sociālās apdrošināšanas obligātās iemaksas | C10: =K.Eiduka!C9+D.Kosarevs!C9+J.Zaļais!C9+M.Stange!C9+D.Uļģis!C9 -> 24817
A11: 2000 | B11: Preces un pakalpojumi | C11: =C12+C14+C16 -> 61970
A12: 2100 | B12: Mācību, darba un dienesta komandējumi, darba braucieni | C12: =C13 -> 2810
A13: 2122 | B13: Pārējie komandējumu un darba braucienu izdevumi | C13: =K.Eiduka!C12+D.Kosarevs!C12+J.Zaļais!C12+M.Stange!C12+D.Uļģis!C11 -> 2810
A14: 2200 | B14: Pakalpojumi | C14: =C15 -> 54313
A15: 2238 | B15: Ārvalstīs nodarbināto amatpersonu (darbinieku) kompensācijas | C15: =K.Eiduka!C13+D.Kosarevs!C13+J.Zaļais!C13+M.Stange!C13+D.Uļģis!C12 -> 54313
A16: 2300 | B16: Krājumi, materiāli, energoresursi, preces, biroja preces un inventārs, kurus neuzskaita kodā 5000 | C16: =SUM(C17:C19) -> 4847
A17: 2312 | B17: Inventārs
A18: 2364 | B18: Formas tērpi un speciālais apģērbs | C18: =K.Eiduka!C15+D.Kosarevs!C15+J.Zaļais!C15+M.Stange!C15+D.Uļģis!C14 -> 4847
A19: 2389 | B19: Pārējie specifiskas lietošanas materiāli un inventārs
C21: euro
A22: EUMM GEORGIA | C22: 2026.gads
A23: Izdevumi kopā | C23: =C24+C29 -> 79981.16
A24: 1000 | B24: Atlīdzība | C24: =C25+C27 -> 60306.16
A25: 1100 | B25: Atalgojums | C25: =C26 -> 48795
A26: 1149 | B26: Citas normatīvajos aktos noteiktās piemaksas, kas nav iepriekš klasificētas | C26: =K.Eiduka!C22+D.Kosarevs!C22+J.Zaļais!C22+M.Stange!C22+D.Uļģis!C21 -> 48795
A27: 1200 | B27: Darba devēja valsts sociālās apdrošināšanas obligātās iemaksas, pabalsti un kompensācijas | C27: =C28 -> 11511.16
A28: 1210 | B28: Darba devēja valsts sociālās apdrošināšanas obligātās iemaksas | C28: =K.Eiduka!C23+D.Kosarevs!C23+J.Zaļais!C23+M.Stange!C23+D.Uļģis!C22 -> 11511.16
A29: 2000 | B29: Preces un pakalpojumi | C29: =C30+C32 -> 19675
A30: 2100 | B30: Mācību, darba un dienesta komandējumi, darba braucieni | C30: =C31 -> 2810
A31: 2122 | B31: Pārējie komandējumu un darba braucienu izdevumi | C31: =K.Eiduka!C25+D.Kosarevs!C25+J.Zaļais!C25+M.Stange!C25+D.Uļģis!C24 -> 2810
A32: 2200 | B32: Pakalpojumi | C32: =C33 -> 16865
A33: 2238 | B33: Ārvalstīs nodarbināto amatpersonu (darbinieku) kompensācijas | C33: =K.Eiduka!C26+D.Kosarevs!C26+J.Zaļais!C26+M.Stange!C26+D.Uļģis!C25 -> 16865
