Workbook

Sheet Kopsavilkums
A1: 3.pielikums
A2: Tiesību akta projekta "Grozījums likumā "Sociālo pakalpojumu un sociālās palīdzības likums"" sākotnējās ietekmes (ex-ante) novērtējuma ziņojumam (anotācijai) 26-TA-406
A3: Mājokļa pabalsta un GMI pabalsta izdevumi 2024.-2026. gadā (koefic. 2.5, 2, 2 un 1.7, 30:70) Papildu 20% mērķdotācija MP izdevumiem par janv. - aprīl. (naudas plūsma)
C4: 2024 FAKTS | F4: 2025 FAKTS | I4: 2026
C5: KOPĀ | D5: GMI | E5: MP | F5: KOPĀ | G5: GMI | H5: MP | I5: KOPĀ | J5: GMI | K5: MP
A6: Bāze | B6: valsts | F6: 16707946 | G6: 3043061 | H6: 13664885 | I6: 19316275 | J6: 3449095 | K6: 15867180 | L6: =A6 -> Bāze
B7: pašvaldība | F7: 38985208 | G7: 7100476 | H7: 31884732 | I7: 45071308 | J7: 8047888 | K7: 37023420
B8: KOPĀ | F8: 55693154 | G8: 10143537 | H8: 45549617 | I8: 64387583 | J8: 11496983 | K8: 52890600
C9: =C5 -> KOPĀ | D9: =D5 -> GMI | E9: =E5 -> MP | F9: =F5 -> KOPĀ | G9: =G5 -> GMI | H9: =H5 -> MP | I9: =I5 -> KOPĀ | J9: =J5 -> GMI | K9: =K5 -> MP
A10: Precizēts izdevumu plāns atbilstoši faktsikajiem izdevumiem līdz 31.01.2026. | B10: valsts | C10: =D10+E10 -> 14346157 | D10: =GMI!F25 -> 2564559.3 | E10: =758039.234+'MP Faktiskā izpilde_plāns'!H5+'MP Faktiskā izpilde_plāns'!H6+'MP Faktiskā izpilde_plāns'!H7+'MP Faktiskā izpilde_plāns'!H8+'MP Faktiskā izpilde_plāns'!H9+'MP Faktiskā izpilde_plāns'!H10+'MP Faktiskā izpilde_plāns'!H11+'MP Faktiskā izpilde_plāns'!H12+'MP Faktiskā izpilde_plāns'!H13+'MP Faktiskā izpilde_plāns'!H14+'MP Faktiskā izpilde_plāns'!H15 -> 11781598 | F10: =G10+H10 -> 14022559 | G10: =GMI!K25 -> 3043097.3 | H10: ='MP Faktiskā izpilde_plāns'!H16+'MP Faktiskā izpilde_plāns'!H21+'MP Faktiskā izpilde_plāns'!H22+'MP Faktiskā izpilde_plāns'!H23+'MP Faktiskā izpilde_plāns'!H24+'MP Faktiskā izpilde_plāns'!H25+'MP Faktiskā izpilde_plāns'!H26+'MP Faktiskā izpilde_plāns'!H27+'MP Faktiskā izpilde_plāns'!H28+'MP Faktiskā izpilde_plāns'!H29+'MP Faktiskā izpilde_plāns'!H30+'MP Faktiskā izpilde_plāns'!H31 -> 10979461 | I10: =J10+K10 -> 24330259 | J10: =GMI!P25 -> 3316306.6 | K10: ='MP Faktiskā izpilde_plāns'!H32+'MP Faktiskā izpilde_plāns'!H70+'MP Faktiskā izpilde_plāns'!H71+'MP Faktiskā izpilde_plāns'!H72+'MP Faktiskā izpilde_plāns'!H73+'MP Faktiskā izpilde_plāns'!H74+'MP Faktiskā izpilde_plāns'!H75+'MP Faktiskā izpilde_plāns'!H76+'MP Faktiskā izpilde_plāns'!H77+'MP Faktiskā izpilde_plāns'!H78+'MP Faktiskā izpilde_plāns'!H79+'MP Faktiskā izpilde_plāns'!H80 -> 21013953 | L10: =A10 -> Precizēts izdevumu plāns atbilstoši faktsikajiem izdevumiem līdz 31.01.2026.
B11: pašvaldība | C11: =D11+E11 -> 33474363 | D11: =GMI!E25 -> 5983970.8 | E11: =1768758.21266667+'MP Faktiskā izpilde_plāns'!G5+'MP Faktiskā izpilde_plāns'!G6+'MP Faktiskā izpilde_plāns'!G7+'MP Faktiskā izpilde_plāns'!G8+'MP Faktiskā izpilde_plāns'!G9+'MP Faktiskā izpilde_plāns'!G10+'MP Faktiskā izpilde_plāns'!G11+'MP Faktiskā izpilde_plāns'!G12+'MP Faktiskā izpilde_plāns'!G13+'MP Faktiskā izpilde_plāns'!G14+'MP Faktiskā izpilde_plāns'!G15 -> 27490392 | F11: =G11+H11 -> 32719162 | G11: =GMI!J25 -> 7100422.8 | H11: ='MP Faktiskā izpilde_plāns'!G16+'MP Faktiskā izpilde_plāns'!G21+'MP Faktiskā izpilde_plāns'!G22+'MP Faktiskā izpilde_plāns'!G23+'MP Faktiskā izpilde_plāns'!G24+'MP Faktiskā izpilde_plāns'!G25+'MP Faktiskā izpilde_plāns'!G26+'MP Faktiskā izpilde_plāns'!G27+'MP Faktiskā izpilde_plāns'!G28+'MP Faktiskā izpilde_plāns'!G29+'MP Faktiskā izpilde_plāns'!G30+'MP Faktiskā izpilde_plāns'!G31 -> 25618740 | I11: =J11+K11 -> 45322920 | J11: =GMI!O25 -> 7738048.7 | K11: ='MP Faktiskā izpilde_plāns'!G32+'MP Faktiskā izpilde_plāns'!G70+'MP Faktiskā izpilde_plāns'!G71+'MP Faktiskā izpilde_plāns'!G72+'MP Faktiskā izpilde_plāns'!G73+'MP Faktiskā izpilde_plāns'!G74+'MP Faktiskā izpilde_plāns'!G75+'MP Faktiskā izpilde_plāns'!G76+'MP Faktiskā izpilde_plāns'!G77+'MP Faktiskā izpilde_plāns'!G78+'MP Faktiskā izpilde_plāns'!G79+'MP Faktiskā izpilde_plāns'!G80 -> 37584871
B12: KOPĀ | C12: =D12+E12 -> 47820520 | D12: =D10+D11 -> 8548530.1 | E12: =E10+E11 -> 39271990 | F12: =G12+H12 -> 46741721 | G12: =G10+G11 -> 10143520 | H12: =H10+H11 -> 36598201 | I12: =J12+K12 -> 69653179 | J12: =J10+J11 -> 11054355 | K12: =K10+K11 -> 58598824
I13: =I9 -> KOPĀ | J13: =J9 -> GMI | K13: =K9 -> MP
E14: Prognozējamais finansējuma atlikums pret plānotājiem izdevumiem | H14: valsts | I14: =J14+K14 -> 5013984.4 | J14: =J10-J6 -> -132788.37 | K14: =K10-K6 -> 5146772.8
H15: pašvaldība | I15: =J15+K15 -> 251611.74 | J15: =J11-J7 -> -309839.29 | K15: =K11-K7 -> 561451.04
H16: KOPĀ | I16: =J16+K16 -> 5265596.2 | J16: =J14+J15 -> -442627.66 | K16: =K14+K15 -> 5708223.9
A19: Galvenie izpildes rādītāji
A20: GMI
A21: x | D21: 2024 | E21: 2025 | F21: 2026
A22: pers.sk.vidēji mēn. | C22: persona | D22: =GMI!B17 -> 8293.25 | E22: =GMI!G17 -> 8287.6667 | F22: =GMI!L17 -> 8322
A23: vidējais pabalsta apmērs mēnesī | C23: euro | D23: =GMI!C17 -> 86.123019 | E23: =GMI!H17 -> 103.23129 | F23: =GMI!M17 -> 112.09734
A24: Izdevumi KOPĀ | C24: euro | D24: =D25+D26 -> 8548530.1 | E24: =E25+E26 -> 10143520 | F24: =F25+F26 -> 11054355
A25: pašvaldību budžets | C25: euro | D25: =D11 -> 5983970.8 | E25: =G11 -> 7100422.8 | F25: =J11 -> 7738048.7
A26: valsts budžets/naudas plūsma | C26: euro | D26: =D10 -> 2564559.3 | E26: =G10 -> 3043097.3 | F26: =J10 -> 3316306.6
A27: Mājokļa pabalsts
A28: x | D28: 2024 | E28: 2025 | F28: 2026
A29: pers.sk.vidēji mēn. | C29: persona | D29: ='MP Faktiskā izpilde_plāns'!D17 -> 31544 | E29: ='MP Faktiskā izpilde_plāns'!D33 -> 29716 | F29: ='MP Faktiskā izpilde_plāns'!D49 -> 32218.87
A30: vidējais pabalsta apmērs mēnesī | C30: euro | D30: ='MP Faktiskā izpilde_plāns'!E17 -> 102.36445 | E30: ='MP Faktiskā izpilde_plāns'!E33 -> 104.01751 | F30: ='MP Faktiskā izpilde_plāns'!E49 -> 153.51895
A31: Izdevumi KOPĀ | C31: euro | D31: =D32+D33 -> 39271990 | E31: =E32+E33 -> 36598201 | F31: =F32+F33 -> 58598824
A32: pašvaldību budžets | C32: euro | D32: =E11 -> 27490392 | E32: =H11 -> 25618740 | F32: =K11 -> 37584871
A33: valsts budžets/naudas plūsma | C33: euro | D33: =E10 -> 11781598 | E33: =H10 -> 10979461 | F33: =K10 -> 21013953
A35: Plānotie GMI un MP izdevumi kopā (naudas plūsma/valsts budžets) | D35: =D26+D33 -> 14346157 | E35: =E26+E33 -> 14022559 | F35: =F26+F33 -> 24330259
D36: =D35-C10 -> 0 | E36: =E35-F10 -> 0 | F36: =F35-I10 -> 0
A37: Pielikumā:
A38: 1. tabula | B38: Mājokļa pabalsta izdevumi 2024.-2026. gadā (fakts)
A39: 2. tabula | B39: GMI pabalsta izdevumi 2024.-2026. gadā (fakts)
A40: 3. tabula | B40: GMI pabalsta apmēri 2024.-2026.gadā

Sheet MP Faktiskā izpilde_plāns
A1: 1.tabula
A2: Mājokļa pabalsta izdevumi 2024.-2026. gadā (fakts)
D3: Mājokļa pabalsts KOPĀ 2024. gads | I3: Atsevišķi dzīvojošai pensijas vecuma personai vai atsevišķi dzīvojošai personai ar invaliditāti (koeficients 2.5) | P3: Mājsaimniecībai, kurā ir tikai pensijas vecuma personas vai personas ar invaliditāti (koeficients 2) | W3: Mājsaimniecībai, kurā ir pensijas vecuma personas vai personas ar invaliditāti un bērni (koeficients 2) | AD3: Pārējām mājsaimniecībām (koeficients 1.5)
D4: personu skaits | E4: vidējais apmērs uz 1 pers. | F4: izlietotais finansējums KOPĀ | G4: pašvaldības budžets | H4: valsts budžets | I4: personu skaits | J4: personu skaita pieaugums pret iepriekšējo mēnesi,% | K4: vidējais apmērs uz 1 pers. | L4: pabalsta vidējā apmērā pieaugums pret iepriekšējo mēnesi,% | M4: izlietotais finansējums KOPĀ | N4: pašvaldības budžets | O4: valsts budžets | P4: personu skaits | Q4: personu skaita pieaugums pret iepriekšējo mēnesi,% | R4: vidējais apmērs uz 1 pers. | S4: pabalsta vidējā apmērā pieaugums pret iepriekšējo mēnesi,% | T4: izlietotais finansējums KOPĀ | U4: pašvaldības budžets | V4: valsts budžets | W4: personu skaits | X4: personu skaita pieaugums pret iepriekšējo mēnesi,% | Y4: vidējais apmērs uz 1 pers. | Z4: pabalsta vidējā apmērā pieaugums pret iepriekšējo mēnesi,% | AA4: izlietotais finansējums KOPĀ | AB4: pašvaldības budžets | AC4: valsts budžets | AD4: personu skaits | AE4: personu skaita pieaugums pret iepriekšējo mēnesi,% | AF4: vidējais apmērs uz 1 pers. | AG4: pabalsta vidējā apmērā pieaugums pret iepriekšējo mēnesi,% | AH4: izlietotais finansējums KOPĀ | AI4: pašvaldības budžets | AJ4: valsts budžets
A5: Fakts | B5: 2024 | C5: janvāris | D5: =I5+P5+W5+AD5 -> 33451 | E5: =F5/D5 -> 110.61059 | F5: =M5+T5+AA5+AH5 -> 3700034.8 | G5: =N5+U5+AB5+AI5 -> 2590024.3 | H5: =O5+V5+AC5+AJ5 -> 1110010.5 | I5: 18894 | J5: x | K5: =M5/I5 -> 130.04795 | L5: x | M5: 2457126 | N5: =M5-O5 -> 1719988.2 | O5: 737137.85 | P5: 2125 | Q5: x | R5: =T5/P5 -> 84.583162 | S5: x | T5: 179739.22 | U5: =T5-V5 -> 125817.42 | V5: 53921.796 | W5: 1292 | X5: x | Y5: =AA5/W5 -> 82.146579 | Z5: x | AA5: 106133.38 | AB5: =AA5-AC5 -> 74293.366 | AC5: 31840.014 | AD5: 11140 | AE5: x | AF5: =AH5/AD5 -> 85.909885 | AG5: x | AH5: 957036.12 | AI5: =AH5-AJ5 -> 669925.27 | AJ5: 287110.85
A6: Fakts | B6: 2024 | C6: februāris | D6: =I6+P6+W6+AD6 -> 36603 | E6: =F6/D6 -> 131.89236 | F6: =M6+T6+AA6+AH6 -> 4827656 | G6: =N6+U6+AB6+AI6 -> 3379359.1 | H6: =O6+V6+AC6+AJ6 -> 1448297 | I6: 20707 | J6: =I6*100/I5-100 -> 9.5956388 | K6: =M6/I6 -> 156.73647 | L6: =K6*100/K5-100 -> 20.52206 | M6: 3245542.1 | N6: =M6-O6 -> 2271879.5 | O6: 973662.69 | P6: 2342 | Q6: =P6*100/P5-100 -> 10.211765 | R6: =T6/P6 -> 101.69339 | S6: =R6*100/R5-100 -> 20.228882 | T6: 238165.92 | U6: =T6-V6 -> 166716.1 | V6: 71449.816 | W6: 1556 | X6: =W6*100/W5-100 -> 20.433437 | Y6: =AA6/W6 -> 81.887416 | Z6: =Y6*100/Y5-100 -> -0.31548787 | AA6: 127416.82 | AB6: =AA6-AC6 -> 89191.764 | AC6: 38225.056 | AD6: 11998 | AE6: =AD6*100/AD5-100 -> 7.7019749 | AF6: =AH6/AD6 -> 101.39449 | AG6: =AF6*100/AF5-100 -> 18.024247 | AH6: 1216531.1 | AI6: =AH6-AJ6 -> 851571.75 | AJ6: 364959.39
A7: Fakts | B7: 2024 | C7: marts | D7: =I7+P7+W7+AD7 -> 37245 | E7: =F7/D7 -> 131.73565 | F7: =M7+T7+AA7+AH7 -> 4906494.3 | G7: =N7+U7+AB7+AI7 -> 3434545.9 | H7: =O7+V7+AC7+AJ7 -> 1471948.3 | I7: 21284 | J7: =I7*100/I6-100 -> 2.7864973 | K7: =M7/I7 -> 160.20693 | L7: =K7*100/K6-100 -> 2.2142002 | M7: 3409844.3 | N7: =M7-O7 -> 2386891 | O7: 1022953.3 | P7: 2464 | Q7: =P7*100/P6-100 -> 5.2092229 | R7: =T7/P7 -> 100.72386 | S7: =R7*100/R6-100 -> -0.95338215 | T7: 248183.6 | U7: =T7-V7 -> 173728.51 | V7: 74455.09 | W7: 1535 | X7: =W7*100/W6-100 -> -1.3496144 | Y7: =AA7/W7 -> 80.53256 | Z7: =Y7*100/Y6-100 -> -1.6545353 | AA7: 123617.48 | AB7: =AA7-AC7 -> 86532.236 | AC7: 37085.244 | AD7: 11962 | AE7: =AD7*100/AD6-100 -> -0.30005001 | AF7: =AH7/AD7 -> 94.035181 | AG7: =AF7*100/AF6-100 -> -7.2581005 | AH7: 1124848.8 | AI7: =AH7-AJ7 -> 787394.16 | AJ7: 337454.67
A8: Fakts | B8: 2024 | C8: aprīlis | D8: =I8+P8+W8+AD8 -> 36988 | E8: =F8/D8 -> 130.51134 | F8: =M8+T8+AA8+AH8 -> 4827353.5 | G8: =N8+U8+AB8+AI8 -> 3379147.4 | H8: =O8+V8+AC8+AJ8 -> 1448206.1 | I8: 21636 | J8: =I8*100/I7-100 -> 1.6538245 | K8: =M8/I8 -> 158.01933 | L8: =K8*100/K7-100 -> -1.3654871 | M8: 3418906.2 | N8: =M8-O8 -> 2393234.3 | O8: 1025671.9 | P8: 2420 | Q8: =P8*100/P7-100 -> -1.7857143 | R8: =T8/P8 -> 98.083004 | S8: =R8*100/R7-100 -> -2.6218807 | T8: 237360.87 | U8: =T8-V8 -> 166152.58 | V8: 71208.291 | W8: 1545 | X8: =W8*100/W7-100 -> 0.6514658 | Y8: =AA8/W8 -> 81.792006 | Z8: =Y8*100/Y7-100 -> 1.5638969 | AA8: 126368.65 | AB8: =AA8-AC8 -> 88458.045 | AC8: 37910.605 | AD8: 11387 | AE8: =AD8*100/AD7-100 -> -4.8068885 | AF8: =AH8/AD8 -> 91.746535 | AG8: =AF8*100/AF7-100 -> -2.4338188 | AH8: 1044717.8 | AI8: =AH8-AJ8 -> 731302.46 | AJ8: 313415.33
A9: Fakts | B9: 2024 | C9: maijs | D9: =I9+P9+W9+AD9 -> 34115 | E9: =F9/D9 -> 108.44973 | F9: =M9+T9+AA9+AH9 -> 3699762.6 | G9: =N9+U9+AB9+AI9 -> 2589833.7 | H9: =O9+V9+AC9+AJ9 -> 1109928.9 | I9: 19687 | J9: =I9*100/I8-100 -> -9.0081346 | K9: =M9/I9 -> 128.89842 | L9: =K9*100/K8-100 -> -18.428698 | M9: 2537623.3 | N9: =M9-O9 -> 1776336.3 | O9: 761286.98 | P9: 2150 | Q9: =P9*100/P8-100 -> -11.157025 | R9: =T9/P9 -> 86.484549 | S9: =R9*100/R8-100 -> -11.825143 | T9: 185941.78 | U9: =T9-V9 -> 130159.22 | V9: 55782.564 | W9: 1578 | X9: =W9*100/W8-100 -> 2.1359223 | Y9: =AA9/W9 -> 76.910139 | Z9: =Y9*100/Y8-100 -> -5.9686359 | AA9: 121364.2 | AB9: =AA9-AC9 -> 84954.89 | AC9: 36409.31 | AD9: 10700 | AE9: =AD9*100/AD8-100 -> -6.0331957 | AF9: =AH9/AD9 -> 79.890969 | AG9: =AF9*100/AF8-100 -> -12.922085 | AH9: 854833.37 | AI9: =AH9-AJ9 -> 598383.33 | AJ9: 256450.04
A10: Fakts | B10: 2024 | C10: jūnijs | D10: =I10+P10+W10+AD10 -> 30865 | E10: =F10/D10 -> 93.036527 | F10: =M10+T10+AA10+AH10 -> 2871572.4 | G10: =N10+U10+AB10+AI10 -> 2010100.6 | H10: =O10+V10+AC10+AJ10 -> 861471.78 | I10: 18125 | J10: =I10*100/I9-100 -> -7.9341698 | K10: =M10/I10 -> 110.6497 | L10: =K10*100/K9-100 -> -14.157445 | M10: 2005525.8 | N10: =M10-O10 -> 1403868 | O10: 601657.75 | P10: 1883 | Q10: =P10*100/P9-100 -> -12.418605 | R10: =T10/P10 -> 73.300005 | S10: =R10*100/R9-100 -> -15.24497 | T10: 138023.91 | U10: =T10-V10 -> 96616.727 | V10: 41407.183 | W10: 1401 | X10: =W10*100/W9-100 -> -11.21673 | Y10: =AA10/W10 -> 63.327702 | Z10: =Y10*100/Y9-100 -> -17.660139 | AA10: 88722.11 | AB10: =AA10-AC10 -> 62105.457 | AC10: 26616.653 | AD10: 9456 | AE10: =AD10*100/AD9-100 -> -11.626168 | AF10: =AH10/AD10 -> 67.607929 | AG10: =AF10*100/AF9-100 -> -15.374755 | AH10: 639300.57 | AI10: =AH10-AJ10 -> 447510.38 | AJ10: 191790.19
A11: Fakts | B11: 2024 | C11: jūlijs | D11: =I11+P11+W11+AD11 -> 29802 | E11: =F11/D11 -> 88.396262 | F11: =M11+T11+AA11+AH11 -> 2634385.4 | G11: =N11+U11+AB11+AI11 -> 1844069.7 | H11: =O11+V11+AC11+AJ11 -> 790315.7 | I11: 17540 | J11: =I11*100/I10-100 -> -3.2275862 | K11: =M11/I11 -> 103.79928 | L11: =K11*100/K10-100 -> -6.1910867 | M11: 1820639.4 | N11: =M11-O11 -> 1274447.6 | O11: 546191.81 | P11: 1797 | Q11: =P11*100/P10-100 -> -4.56718 | R11: =T11/P11 -> 65.649466 | S11: =R11*100/R10-100 -> -10.437297 | T11: 117972.09 | U11: =T11-V11 -> 82580.413 | V11: 35391.677 | W11: 1133 | X11: =W11*100/W10-100 -> -19.129193 | Y11: =AA11/W11 -> 63.047299 | Z11: =Y11*100/Y10-100 -> -0.44278006 | AA11: 71432.59 | AB11: =AA11-AC11 -> 50002.793 | AC11: 21429.797 | AD11: 9332 | AE11: =AD11*100/AD10-100 -> -1.3113367 | AF11: =AH11/AD11 -> 66.903274 | AG11: =AF11*100/AF10-100 -> -1.0422666 | AH11: 624341.35 | AI11: =AH11-AJ11 -> 437038.94 | AJ11: 187302.42
A12: Fakts | B12: 2024 | C12: augusts | D12: =I12+P12+W12+AD12 -> 28518 | E12: =F12/D12 -> 82.945865 | F12: =M12+T12+AA12+AH12 -> 2365450.2 | G12: =N12+U12+AB12+AI12 -> 1655815 | H12: =O12+V12+AC12+AJ12 -> 709635.19 | I12: 16940 | J12: =I12*100/I11-100 -> -3.4207526 | K12: =M12/I12 -> 96.705979 | L12: =K12*100/K11-100 -> -6.8336714 | M12: 1638199.3 | N12: =M12-O12 -> 1146739.5 | O12: 491459.8 | P12: 1620 | Q12: =P12*100/P11-100 -> -9.8497496 | R12: =T12/P12 -> 58.597926 | S12: =R12*100/R11-100 -> -10.741199 | T12: 94928.64 | U12: =T12-V12 -> 66450.008 | V12: 28478.632 | W12: 1288 | X12: =W12*100/W11-100 -> 13.680494 | Y12: =AA12/W12 -> 61.445241 | Z12: =Y12*100/Y11-100 -> -2.5410423 | AA12: 79141.47 | AB12: =AA12-AC12 -> 55398.979 | AC12: 23742.491 | AD12: 8670 | AE12: =AD12*100/AD11-100 -> -7.0938706 | AF12: =AH12/AD12 -> 63.804014 | AG12: =AF12*100/AF11-100 -> -4.6324487 | AH12: 553180.8 | AI12: =AH12-AJ12 -> 387226.54 | AJ12: 165954.26
A13: Fakts | B13: 2024 | C13: septembris | D13: =I13+P13+W13+AD13 -> 27639 | E13: =F13/D13 -> 81.211616 | F13: =M13+T13+AA13+AH13 -> 2244607.9 | G13: =N13+U13+AB13+AI13 -> 1571225.4 | H13: =O13+V13+AC13+AJ13 -> 673382.46 | I13: 16428 | J13: =I13*100/I12-100 -> -3.0224321 | K13: =M13/I13 -> 94.781866 | L13: =K13*100/K12-100 -> -1.989652 | M13: 1557076.5 | N13: =M13-O13 -> 1089953.5 | O13: 467122.99 | P13: 1524 | Q13: =P13*100/P12-100 -> -5.9259259 | R13: =T13/P13 -> 55.552218 | S13: =R13*100/R12-100 -> -5.197638 | T13: 84661.58 | U13: =T13-V13 -> 59263.076 | V13: 25398.504 | W13: 1070 | X13: =W13*100/W12-100 -> -16.925466 | Y13: =AA13/W13 -> 56.742364 | Z13: =Y13*100/Y12-100 -> -7.653768 | AA13: 60714.33 | AB13: =AA13-AC13 -> 42500.011 | AC13: 18214.319 | AD13: 8617 | AE13: =AD13*100/AD12-100 -> -0.61130334 | AF13: =AH13/AD13 -> 62.916961 | AG13: =AF13*100/AF12-100 -> -1.390278 | AH13: 542155.45 | AI13: =AH13-AJ13 -> 379508.81 | AJ13: 162646.65
A14: Fakts | B14: 2024 | C14: oktobris | D14: =I14+P14+W14+AD14 -> 28297 | E14: =F14/D14 -> 83.06111 | F14: =M14+T14+AA14+AH14 -> 2350380.2 | G14: =N14+U14+AB14+AI14 -> 1645266.1 | H14: =O14+V14+AC14+AJ14 -> 705114.1 | I14: 16682 | J14: =I14*100/I13-100 -> 1.5461407 | K14: =M14/I14 -> 97.066076 | L14: =K14*100/K13-100 -> 2.4099649 | M14: 1619256.3 | N14: =M14-O14 -> 1133479.4 | O14: 485776.9 | P14: 1643 | Q14: =P14*100/P13-100 -> 7.808399 | R14: =T14/P14 -> 57.866293 | S14: =R14*100/R13-100 -> 4.1655862 | T14: 95074.32 | U14: =T14-V14 -> 66551.994 | V14: 28522.326 | W14: 1044 | X14: =W14*100/W13-100 -> -2.4299065 | Y14: =AA14/W14 -> 61.859703 | Z14: =Y14*100/Y13-100 -> 9.0185501 | AA14: 64581.53 | AB14: =AA14-AC14 -> 45207.101 | AC14: 19374.429 | AD14: 8928 | AE14: =AD14*100/AD13-100 -> 3.6091447 | AF14: =AH14/AD14 -> 64.008523 | AG14: =AF14*100/AF13-100 -> 1.7349248 | AH14: 571468.09 | AI14: =AH14-AJ14 -> 400027.65 | AJ14: 171440.44
A15: Fakts | B15: 2024 | C15: novembris | D15: =I15+P15+W15+AD15 -> 28326 | E15: =F15/D15 -> 81.815115 | F15: =M15+T15+AA15+AH15 -> 2317495 | G15: =N15+U15+AB15+AI15 -> 1622246.4 | H15: =O15+V15+AC15+AJ15 -> 695248.56 | I15: 16748 | J15: =I15*100/I14-100 -> 0.39563601 | K15: =M15/I15 -> 94.959494 | L15: =K15*100/K14-100 -> -2.1702554 | M15: 1590381.6 | N15: =M15-O15 -> 1113267.1 | O15: 477114.49 | P15: 1557 | Q15: =P15*100/P14-100 -> -5.2343274 | R15: =T15/P15 -> 50.916525 | S15: =R15*100/R14-100 -> -12.010045 | T15: 79277.03 | U15: =T15-V15 -> 55493.891 | V15: 23783.139 | W15: 1029 | X15: =W15*100/W14-100 -> -1.4367816 | Y15: =AA15/W15 -> 56.291876 | Z15: =Y15*100/Y14-100 -> -9.0007342 | AA15: 57924.34 | AB15: =AA15-AC15 -> 40547.058 | AC15: 17377.282 | AD15: 8992 | AE15: =AD15*100/AD14-100 -> 0.71684588 | AF15: =AH15/AD15 -> 65.60409 | AG15: =AF15*100/AF14-100 -> 2.4927425 | AH15: 589911.98 | AI15: =AH15-AJ15 -> 412938.34 | AJ15: 176973.64
A16: Fakts | B16: 2024 | C16: decembris | D16: =I16+P16+W16+AD16 -> 26679 | E16: =F16/D16 -> 75.063515 | F16: =M16+T16+AA16+AH16 -> 2002619.5 | G16: =N16+U16+AB16+AI16 -> 1401833.6 | H16: =O16+V16+AC16+AJ16 -> 600785.91 | I16: 15489 | J16: =I16*100/I15-100 -> -7.5173155 | K16: =M16/I16 -> 85.830485 | L16: =K16*100/K15-100 -> -9.6135826 | M16: 1329428.4 | N16: =M16-O16 -> 930599.84 | O16: 398828.54 | P16: 1454 | Q16: =P16*100/P15-100 -> -6.6152858 | R16: =T16/P16 -> 49.874099 | S16: =R16*100/R15-100 -> -2.0473242 | T16: 72516.94 | U16: =T16-V16 -> 50761.818 | V16: 21755.122 | W16: 988 | X16: =W16*100/W15-100 -> -3.9844509 | Y16: =AA16/W16 -> 49.54586 | Z16: =Y16*100/Y15-100 -> -11.983995 | AA16: 48951.31 | AB16: =AA16-AC16 -> 34265.927 | AC16: 14685.383 | AD16: 8748 | AE16: =AD16*100/AD15-100 -> -2.7135231 | AF16: =AH16/AD16 -> 63.068459 | AG16: =AF16*100/AF15-100 -> -3.8650505 | AH16: 551722.88 | AI16: =AH16-AJ16 -> 386206.02 | AJ16: 165516.86
A17: Fakts | B17: 2024 | C17: KOPĀ | D17: =AVERAGE(D5:D16) -> 31544 | E17: =F17/D17/12 -> 102.36445 | F17: =SUM(F5:F16) -> 38747812 | G17: =SUM(G5:G16) -> 27123467 | H17: =SUM(H5:H16) -> 11624344 | I17: =AVERAGE(I5:I16) -> 18346.667 | J17: x | K17: =M17/I17/12 -> 120.95544 | L17: x | M17: =SUM(M5:M16) -> 26629549 | N17: =SUM(N5:N16) -> 18640684 | O17: =SUM(O5:O16) -> 7988865 | P17: =AVERAGE(P5:P16) -> 1914.9167 | Q17: x | R17: =T17/P17/12 -> 77.10718 | S17: x | T17: =SUM(T5:T16) -> 1771845.9 | U17: =SUM(U5:U16) -> 1240291.8 | V17: =SUM(V5:V16) -> 531554.14 | W17: =AVERAGE(W5:W16) -> 1288.25 | X17: x | Y17: =AA17/W17/12 -> 69.627286 | Z17: x | AA17: =SUM(AA5:AA16) -> 1076368.2 | AB17: =SUM(AB5:AB16) -> 753457.63 | AC17: =SUM(AC5:AC16) -> 322910.58 | AD17: =AVERAGE(AD5:AD16) -> 9994.1667 | AE17: x | AF17: =AH17/AD17/12 -> 77.295492 | AG17: x | AH17: =SUM(AH5:AH16) -> 9270048.4 | AI17: =SUM(AI5:AI16) -> 6489033.6 | AJ17: =SUM(AJ5:AJ16) -> 2781014.7
D19: Mājokļa pabalsts KOPĀ 2025. gads | I19: Atsevišķi dzīvojošai pensijas vecuma personai vai atsevišķi dzīvojošai personai ar invaliditāti (koeficients 2.1) | P19: Mājsaimniecībai, kurā ir tikai pensijas vecuma personas vai personas ar invaliditāti (koeficients 1.7) | W19: Mājsaimniecībai, kurā ir pensijas vecuma personas vai personas ar invaliditāti un bērni (koeficients 1.7) | AD19: Pārējām mājsaimniecībām (koeficients 1.3)
D20: personu skaits | E20: vidējais apmērs uz 1 pers. | F20: izlietotais finansējums KOPĀ | G20: pašvaldības budžets | H20: valsts budžets | I20: personu skaits | J20: personu skaita pieaugums pret iepriekšējo mēnesi,% | K20: vidējais apmērs uz 1 pers. | L20: pabalsta vidējā apmērā pieaugums pret iepriekšējo mēnesi,% | M20: izlietotais finansējums KOPĀ | N20: pašvaldības budžets | O20: valsts budžets | P20: personu skaits | Q20: personu skaita pieaugums pret iepriekšējo mēnesi,% | R20: vidējais apmērs uz 1 pers. | S20: pabalsta vidējā apmērā pieaugums pret iepriekšējo mēnesi,% | T20: izlietotais finansējums KOPĀ | U20: pašvaldības budžets | V20: valsts budžets | W20: personu skaits | X20: personu skaita pieaugums pret iepriekšējo mēnesi,% | Y20: vidējais apmērs uz 1 pers. | Z20: pabalsta vidējā apmērā pieaugums pret iepriekšējo mēnesi,% | AA20: izlietotais finansējums KOPĀ | AB20: pašvaldības budžets | AC20: valsts budžets | AD20: personu skaits | AE20: personu skaita pieaugums pret iepriekšējo mēnesi,% | AF20: vidējais apmērs uz 1 pers. | AG20: pabalsta vidējā apmērā pieaugums pret iepriekšējo mēnesi,% | AH20: izlietotais finansējums KOPĀ | AI20: pašvaldības budžets | AJ20: valsts budžets
A21: Fakts | B21: 2025 | C21: janvāris | D21: =I21+P21+W21+AD21 -> 31741 | E21: =F21/D21 -> 118.48893 | F21: =M21+T21+AA21+AH21 -> 3760957.1 | G21: =N21+U21+AB21+AI21 -> 2632669.9 | H21: =O21+V21+AC21+AJ21 -> 1128287.2 | I21: 19190 | J21: =I21*100/I16-100 -> 23.894377 | K21: =M21/I21 -> 138.49871 | L21: =K21*100/K16-100 -> 61.363079 | M21: 2657790.3 | N21: =M21-O21 -> 1860453.2 | O21: 797337.11 | P21: 1921 | Q21: =P21*100/P16-100 -> 32.118294 | R21: =T21/P21 -> 86.61822 | S21: =R21*100/R16-100 -> 73.673753 | T21: 166393.6 | U21: =T21-V21 -> 116475.51 | V21: 49918.09 | W21: 1396 | X21: =W21*100/W16-100 -> 41.295547 | Y21: =AA21/W21 -> 89.541089 | Z21: =Y21*100/Y16-100 -> 80.723653 | AA21: 124999.36 | AB21: =AA21-AC21 -> 87499.542 | AC21: 37499.818 | AD21: 9234 | AE21: =AD21*100/AD16-100 -> 5.5555556 | AF21: =AH21/AD21 -> 87.911395 | AG21: =AF21*100/AF16-100 -> 39.390428 | AH21: 811773.82 | AI21: =AH21-AJ21 -> 568241.67 | AJ21: 243532.15
A22: Fakts | B22: 2025 | C22: februāris | D22: =I22+P22+W22+AD22 -> 32658 | E22: =F22/D22 -> 122.28049 | F22: =M22+T22+AA22+AH22 -> 3993436.2 | G22: =N22+U22+AB22+AI22 -> 2795405.3 | H22: =O22+V22+AC22+AJ22 -> 1198030.9 | I22: 19591 | J22: =I22*100/I21-100 -> 2.08963 | K22: =M22/I22 -> 139.53366 | L22: =K22*100/K21-100 -> 0.74725923 | M22: 2733603.9 | N22: =M22-O22 -> 1913522.7 | O22: 820081.15 | P22: 1982 | Q22: =P22*100/P21-100 -> 3.1754295 | R22: =T22/P22 -> 92.469001 | S22: =R22*100/R21-100 -> 6.7546774 | T22: 183273.56 | U22: =T22-V22 -> 128291.46 | V22: 54982.098 | W22: 1190 | X22: =W22*100/W21-100 -> -14.756447 | Y22: =AA22/W22 -> 80.28437 | Z22: =Y22*100/Y21-100 -> -10.337957 | AA22: 95538.4 | AB22: =AA22-AC22 -> 66876.89 | AC22: 28661.51 | AD22: 9895 | AE22: =AD22*100/AD21-100 -> 7.1583279 | AF22: =AH22/AD22 -> 99.143036 | AG22: =AF22*100/AF21-100 -> 12.776092 | AH22: 981020.34 | AI22: =AH22-AJ22 -> 686714.22 | AJ22: 294306.12
A23: Fakts | B23: 2025 | C23: marts | D23: =I23+P23+W23+AD23 -> 34355 | E23: =F23/D23 -> 130.26672 | F23: =M23+T23+AA23+AH23 -> 4475313.1 | G23: =N23+U23+AB23+AI23 -> 3132719.1 | H23: =O23+V23+AC23+AJ23 -> 1342594 | I23: 20591 | J23: =I23*100/I22-100 -> 5.1043847 | K23: =M23/I23 -> 151.37094 | L23: =K23*100/K22-100 -> 8.4834617 | M23: 3116879.1 | N23: =M23-O23 -> 2181815.3 | O23: 935063.74 | P23: 2048 | Q23: =P23*100/P22-100 -> 3.3299697 | R23: =T23/P23 -> 99.408677 | S23: =R23*100/R22-100 -> 7.5048672 | T23: 203588.97 | U23: =T23-V23 -> 142512.26 | V23: 61076.711 | W23: 1261 | X23: =W23*100/W22-100 -> 5.9663866 | Y23: =AA23/W23 -> 105.66346 | Z23: =Y23*100/Y22-100 -> 31.611493 | AA23: 133241.62 | AB23: =AA23-AC23 -> 93269.114 | AC23: 39972.506 | AD23: 10455 | AE23: =AD23*100/AD22-100 -> 5.659424 | AF23: =AH23/AD23 -> 97.714346 | AG23: =AF23*100/AF22-100 -> -1.4410388 | AH23: 1021603.5 | AI23: =AH23-AJ23 -> 715122.41 | AJ23: 306481.08
A24: Fakts | B24: 2025 | C24: aprīlis | D24: =I24+P24+W24+AD24 -> 33826 | E24: =F24/D24 -> 125.50373 | F24: =M24+T24+AA24+AH24 -> 4245289.1 | G24: =N24+U24+AB24+AI24 -> 2971702.2 | H24: =O24+V24+AC24+AJ24 -> 1273586.9 | I24: 20243 | J24: =I24*100/I23-100 -> -1.6900588 | K24: =M24/I24 -> 147.81579 | L24: =K24*100/K23-100 -> -2.348637 | M24: 2992235 | N24: =M24-O24 -> 2094564.4 | O24: 897670.55 | P24: 2145 | Q24: =P24*100/P23-100 -> 4.7363281 | R24: =T24/P24 -> 97.560485 | S24: =R24*100/R23-100 -> -1.8591857 | T24: 209267.24 | U24: =T24-V24 -> 146487.04 | V24: 62780.202 | W24: 1218 | X24: =W24*100/W23-100 -> -3.4099921 | Y24: =AA24/W24 -> 76.984647 | Z24: =Y24*100/Y23-100 -> -27.141655 | AA24: 93767.3 | AB24: =AA24-AC24 -> 65637.07 | AC24: 28130.23 | AD24: 10220 | AE24: =AD24*100/AD23-100 -> -2.2477284 | AF24: =AH24/AD24 -> 92.956905 | AG24: =AF24*100/AF23-100 -> -4.8687233 | AH24: 950019.57 | AI24: =AH24-AJ24 -> 665013.67 | AJ24: 285005.9
A25: Fakts | B25: 2025 | C25: maijs | D25: =I25+P25+W25+AD25 -> 31320 | E25: =F25/D25 -> 107.91396 | F25: =M25+T25+AA25+AH25 -> 3379865.3 | G25: =N25+U25+AB25+AI25 -> 2365905.6 | H25: =O25+V25+AC25+AJ25 -> 1013959.7 | I25: 18603 | J25: =I25*100/I24-100 -> -8.101566 | K25: =M25/I25 -> 128.04694 | L25: =K25*100/K24-100 -> -13.373973 | M25: 2382057.3 | N25: =M25-O25 -> 1667440.1 | O25: 714617.21 | P25: 1877 | Q25: =P25*100/P24-100 -> -12.494172 | R25: =T25/P25 -> 82.873282 | S25: =R25*100/R24-100 -> -15.054459 | T25: 155553.15 | U25: =T25-V25 -> 108887.16 | V25: 46665.985 | W25: 1208 | X25: =W25*100/W24-100 -> -0.82101806 | Y25: =AA25/W25 -> 70.108924 | Z25: =Y25*100/Y24-100 -> -8.9312914 | AA25: 84691.58 | AB25: =AA25-AC25 -> 59284.086 | AC25: 25407.494 | AD25: 9632 | AE25: =AD25*100/AD24-100 -> -5.7534247 | AF25: =AH25/AD25 -> 78.65067 | AG25: =AF25*100/AF24-100 -> -15.39018 | AH25: 757563.25 | AI25: =AH25-AJ25 -> 530294.22 | AJ25: 227269.02
A26: Fakts | B26: 2025 | C26: jūnijs | D26: =I26+P26+W26+AD26 -> 29418 | E26: =F26/D26 -> 94.365606 | F26: =M26+T26+AA26+AH26 -> 2776047.4 | G26: =N26+U26+AB26+AI26 -> 1943233.1 | H26: =O26+V26+AC26+AJ26 -> 832814.33 | I26: 17618 | J26: =I26*100/I25-100 -> -5.2948449 | K26: =M26/I26 -> 111.27687 | L26: =K26*100/K25-100 -> -13.09682 | M26: 1960475.8 | N26: =M26-O26 -> 1372333.1 | O26: 588142.78 | P26: 1772 | Q26: =P26*100/P25-100 -> -5.594033 | R26: =T26/P26 -> 72.733521 | S26: =R26*100/R25-100 -> -12.235259 | T26: 128883.8 | U26: =T26-V26 -> 90218.65 | V26: 38665.15 | W26: 1110 | X26: =W26*100/W25-100 -> -8.1125828 | Y26: =AA26/W26 -> 60.285892 | Z26: =Y26*100/Y25-100 -> -14.011101 | AA26: 66917.34 | AB26: =AA26-AC26 -> 46842.088 | AC26: 20075.252 | AD26: 8918 | AE26: =AD26*100/AD25-100 -> -7.4127907 | AF26: =AH26/AD26 -> 69.496571 | AG26: =AF26*100/AF25-100 -> -11.638933 | AH26: 619770.42 | AI26: =AH26-AJ26 -> 433839.27 | AJ26: 185931.15
A27: Fakts | B27: 2025 | C27: jūlijs | D27: =I27+P27+W27+AD27 -> 28441 | E27: =F27/D27 -> 92.037191 | F27: =M27+T27+AA27+AH27 -> 2617629.8 | G27: =N27+U27+AB27+AI27 -> 1832340.8 | H27: =O27+V27+AC27+AJ27 -> 785288.98 | I27: 17185 | J27: =I27*100/I26-100 -> -2.4577137 | K27: =M27/I27 -> 107.37797 | L27: =K27*100/K26-100 -> -3.503782 | M27: 1845290.4 | N27: =M27-O27 -> 1291703.2 | O27: 553587.12 | P27: 1674 | Q27: =P27*100/P26-100 -> -5.530474 | R27: =T27/P27 -> 66.915645 | S27: =R27*100/R26-100 -> -7.9988926 | T27: 112016.79 | U27: =T27-V27 -> 78411.733 | V27: 33605.057 | W27: 1044 | X27: =W27*100/W26-100 -> -5.9459459 | Y27: =AA27/W27 -> 63.624914 | Z27: =Y27*100/Y26-100 -> 5.5386456 | AA27: 66424.41 | AB27: =AA27-AC27 -> 46497.077 | AC27: 19927.333 | AD27: 8538 | AE27: =AD27*100/AD26-100 -> -4.2610451 | AF27: =AH27/AD27 -> 69.559403 | AG27: =AF27*100/AF26-100 -> 0.090409771 | AH27: 593898.18 | AI27: =AH27-AJ27 -> 415728.71 | AJ27: 178169.47
A28: Fakts | B28: 2025 | C28: augusts | D28: =I28+P28+W28+AD28 -> 27244 | E28: =F28/D28 -> 89.491174 | F28: =M28+T28+AA28+AH28 -> 2438097.6 | G28: =N28+U28+AB28+AI28 -> 1706668.2 | H28: =O28+V28+AC28+AJ28 -> 731429.33 | I28: 16532 | J28: =I28*100/I27-100 -> -3.7998254 | K28: =M28/I28 -> 103.85949 | L28: =K28*100/K27-100 -> -3.2767179 | M28: 1717005.2 | N28: =M28-O28 -> 1201903.6 | O28: 515101.57 | P28: 1595 | Q28: =P28*100/P27-100 -> -4.7192354 | R28: =T28/P28 -> 62.830671 | S28: =R28*100/R27-100 -> -6.1046625 | T28: 100214.92 | U28: =T28-V28 -> 70150.434 | V28: 30064.486 | W28: 976 | X28: =W28*100/W27-100 -> -6.51341 | Y28: =AA28/W28 -> 66.108852 | Z28: =Y28*100/Y27-100 -> 3.9040346 | AA28: 64522.24 | AB28: =AA28-AC28 -> 45165.548 | AC28: 19356.692 | AD28: 8141 | AE28: =AD28*100/AD27-100 -> -4.6498009 | AF28: =AH28/AD28 -> 68.339913 | AG28: =AF28*100/AF27-100 -> -1.7531632 | AH28: 556355.23 | AI28: =AH28-AJ28 -> 389448.65 | AJ28: 166906.58
A29: Fakts | B29: 2025 | C29: septembris | D29: =I29+P29+W29+AD29 -> 27275 | E29: =F29/D29 -> 88.00621 | F29: =M29+T29+AA29+AH29 -> 2400369.4 | G29: =N29+U29+AB29+AI29 -> 1680258.5 | H29: =O29+V29+AC29+AJ29 -> 720110.87 | I29: 16522 | J29: =I29*100/I28-100 -> -0.060488749 | K29: =M29/I29 -> 101.94998 | L29: =K29*100/K28-100 -> -1.8385536 | M29: 1684417.6 | N29: =M29-O29 -> 1179092.3 | O29: 505325.27 | P29: 1529 | Q29: =P29*100/P28-100 -> -4.137931 | R29: =T29/P29 -> 57.166063 | S29: =R29*100/R28-100 -> -9.0156734 | T29: 87406.91 | U29: =T29-V29 -> 61184.817 | V29: 26222.093 | W29: 971 | X29: =W29*100/W28-100 -> -0.51229508 | Y29: =AA29/W29 -> 66.566045 | Z29: =Y29*100/Y28-100 -> 0.69157585 | AA29: 64635.63 | AB29: =AA29-AC29 -> 45244.901 | AC29: 19390.729 | AD29: 8253 | AE29: =AD29*100/AD28-100 -> 1.3757524 | AF29: =AH29/AD29 -> 68.327789 | AG29: =AF29*100/AF28-100 -> -0.017740883 | AH29: 563909.24 | AI29: =AH29-AJ29 -> 394736.46 | AJ29: 169172.78
A30: Fakts | B30: 2025 | C30: oktobris | D30: =I30+P30+W30+AD30 -> 26770 | E30: =F30/D30 -> 86.181465 | F30: =M30+T30+AA30+AH30 -> 2307077.8 | G30: =N30+U30+AB30+AI30 -> 1614954.3 | H30: =O30+V30+AC30+AJ30 -> 692123.48 | I30: 15965 | J30: =I30*100/I29-100 -> -3.3712626 | K30: =M30/I30 -> 99.773801 | L30: =K30*100/K29-100 -> -2.1345575 | M30: 1592888.7 | N30: =M30-O30 -> 1115022.1 | O30: 477866.64 | P30: 1449 | Q30: =P30*100/P29-100 -> -5.2321779 | R30: =T30/P30 -> 61.180455 | S30: =R30*100/R29-100 -> 7.0223355 | T30: 88650.48 | U30: =T30-V30 -> 62055.286 | V30: 26595.194 | W30: 987 | X30: =W30*100/W29-100 -> 1.6477858 | Y30: =AA30/W30 -> 66.752766 | Z30: =Y30*100/Y29-100 -> 0.28050434 | AA30: 65884.98 | AB30: =AA30-AC30 -> 46119.456 | AC30: 19765.524 | AD30: 8369 | AE30: =AD30*100/AD29-100 -> 1.4055495 | AF30: =AH30/AD30 -> 66.872222 | AG30: =AF30*100/AF29-100 -> -2.1302697 | AH30: 559653.63 | AI30: =AH30-AJ30 -> 391757.51 | AJ30: 167896.12
A31: Fakts | B31: 2025 | C31: novembris | D31: =I31+P31+W31+AD31 -> 26226 | E31: =F31/D31 -> 83.94336 | F31: =M31+T31+AA31+AH31 -> 2201498.6 | G31: =N31+U31+AB31+AI31 -> 1541048.9 | H31: =O31+V31+AC31+AJ31 -> 660449.62 | I31: 15807 | J31: =I31*100/I30-100 -> -0.98966489 | K31: =M31/I31 -> 95.006209 | L31: =K31*100/K30-100 -> -4.7784009 | M31: 1501763.1 | N31: =M31-O31 -> 1051234.2 | O31: 450528.96 | P31: 1327 | Q31: =P31*100/P30-100 -> -8.4195997 | R31: =T31/P31 -> 54.069277 | S31: =R31*100/R30-100 -> -11.623285 | T31: 71749.93 | U31: =T31-V31 -> 50224.931 | V31: 21524.999 | W31: 985 | X31: =W31*100/W30-100 -> -0.20263425 | Y31: =AA31/W31 -> 62.027137 | Z31: =Y31*100/Y30-100 -> -7.0793005 | AA31: 61096.73 | AB31: =AA31-AC31 -> 42767.721 | AC31: 18329.009 | AD31: 8107 | AE31: =AD31*100/AD30-100 -> -3.130601 | AF31: =AH31/AD31 -> 69.925838 | AG31: =AF31*100/AF30-100 -> 4.5663439 | AH31: 566888.77 | AI31: =AH31-AJ31 -> 396822.12 | AJ31: 170066.65
A32: Fakts | B32: 2025 | C32: decembris | D32: =I32+P32+W32+AD32 -> 27318 | E32: =F32/D32 -> 91.376752 | F32: =M32+T32+AA32+AH32 -> 2496230.1 | G32: =N32+U32+AB32+AI32 -> 1746997.1 | H32: =O32+V32+AC32+AJ32 -> 749233 | I32: 16562 | J32: =I32*100/I31-100 -> 4.7763649 | K32: =M32/I32 -> 104.8515 | L32: =K32*100/K31-100 -> 10.362787 | M32: 1736550.5 | N32: =M32-O32 -> 1215585.4 | O32: 520965.17 | P32: 1384 | Q32: =P32*100/P31-100 -> 4.2954032 | R32: =T32/P32 -> 55.403945 | S32: =R32*100/R31-100 -> 2.4684416 | T32: 76679.06 | U32: =T32-V32 -> 53675.322 | V32: 23003.738 | W32: 1032 | X32: =W32*100/W31-100 -> 4.7715736 | Y32: =AA32/W32 -> 70.157393 | Z32: =Y32*100/Y31-100 -> 13.10758 | AA32: 72402.43 | AB32: =AA32-AC32 -> 50681.721 | AC32: 21720.709 | AD32: 8340 | AE32: =AD32*100/AD31-100 -> 2.8740595 | AF32: =AH32/AD32 -> 73.213198 | AG32: =AF32*100/AF31-100 -> 4.7012088 | AH32: 610598.07 | AI32: =AH32-AJ32 -> 427054.69 | AJ32: 183543.38 | AL32: LM naudas plūsma janvārī
A33: Fakts | B33: 2025 | C33: KOPĀ | D33: =AVERAGE(D21:D32) -> 29716 | E33: =F33/D33/12 -> 104.01751 | F33: =SUM(F21:F32) -> 37091811 | G33: =SUM(G21:G32) -> 25963903 | H33: =SUM(H21:H32) -> 11127908 | I33: =AVERAGE(I21:I32) -> 17867.417 | J33: x | K33: =M33/I33/12 -> 120.89491 | L33: x | M33: =SUM(M21:M32) -> 25920957 | N33: =SUM(N21:N32) -> 18144670 | O33: =SUM(O21:O32) -> 7776287.3 | P33: =AVERAGE(P21:P32) -> 1725.25 | Q33: x | R33: =T33/P33/12 -> 76.495117 | S33: x | T33: =SUM(T21:T32) -> 1583678.4 | U33: =SUM(U21:U32) -> 1108574.6 | V33: =SUM(V21:V32) -> 475103.8 | W33: =AVERAGE(W21:W32) -> 1114.8333 | X33: x | Y33: =AA33/W33/12 -> 74.310212 | Z33: x | AA33: =SUM(AA21:AA32) -> 994122.02 | AB33: =SUM(AB21:AB32) -> 695885.21 | AC33: =SUM(AC21:AC32) -> 298236.81 | AD33: =AVERAGE(AD21:AD32) -> 9008.5 | AE33: x | AF33: =AH33/AD33/12 -> 79.490241 | AG33: x | AH33: =SUM(AH21:AH32) -> 8593054 | AI33: =SUM(AI21:AI32) -> 6014773.6 | AJ33: =SUM(AJ21:AJ32) -> 2578280.4
F34: =F16+F21+F22+F23+F24+F25+F26+F27+F28+F29+F30+F31-Kopsavilkums!H12 -> 0
D35: Mājokļa pabalsts KOPĀ 2026. gads | I35: Atsevišķi dzīvojošai pensijas vecuma personai vai atsevišķi dzīvojošai personai ar invaliditāti (koeficients 2.1) (MP par janv.-aprīlis piemēro 2.5) | P35: Mājsaimniecībai, kurā ir tikai pensijas vecuma personas vai personas ar invaliditāti (koeficients 1.7) (MP par janv.-aprīlis piemēro 2) | W35: Mājsaimniecībai, kurā ir pensijas vecuma personas vai personas ar invaliditāti un bērni (koeficients 1.7) (MP par janv.-aprīlis piemēro 2) | AD35: Pārējām mājsaimniecībām (koeficients 1.3) (MP par janv.-aprīlis piemēro 1.7)
D36: personu skaits | E36: vidējais apmērs uz 1 pers. | F36: izlietotais finansējums KOPĀ | G36: pašvaldības budžets | H36: valsts budžets | I36: personu skaits | J36: personu skaita pieaugums pret iepriekšējo mēnesi,% | K36: vidējais apmērs uz 1 pers. | L36: pabalsta vidējā apmērā pieaugums pret iepriekšējo mēnesi,% | M36: izlietotais finansējums KOPĀ | N36: pašvaldības budžets | O36: valsts budžets | P36: personu skaits | Q36: personu skaita pieaugums pret iepriekšējo mēnesi,% | R36: vidējais apmērs uz 1 pers. | S36: pabalsta vidējā apmērā pieaugums pret iepriekšējo mēnesi,% | T36: izlietotais finansējums KOPĀ | U36: pašvaldības budžets | V36: valsts budžets | W36: personu skaits | X36: personu skaita pieaugums pret iepriekšējo mēnesi,% | Y36: vidējais apmērs uz 1 pers. | Z36: pabalsta vidējā apmērā pieaugums pret iepriekšējo mēnesi,% | AA36: izlietotais finansējums KOPĀ | AB36: pašvaldības budžets | AC36: valsts budžets | AD36: personu skaits | AE36: personu skaita pieaugums pret iepriekšējo mēnesi,% | AF36: vidējais apmērs uz 1 pers. | AG36: pabalsta vidējā apmērā pieaugums pret iepriekšējo mēnesi,% | AH36: izlietotais finansējums KOPĀ | AI36: pašvaldības budžets | AJ36: valsts budžets
A37: Fakts | B37: 2026 | C37: janvāris | D37: =I37+P37+W37+AD37 -> 30606 | E37: =F37/D37 -> 115.34763 | F37: =M37+T37+AA37+AH37 -> 3530329.7 | G37: =N37+U37+AB37+AI37 -> 2471230.8 | H37: =O37+V37+AC37+AJ37 -> 1059098.9 | I37: 18926 | J37: =I37*100/I32-100 -> 14.273638 | K37: =M37/I37 -> 130.58204 | L37: =K37*100/K32-100 -> 24.539986 | M37: 2471395.8 | N37: =M37-O37 -> 1729977 | O37: =M37*0.3 -> 741418.73 | P37: 1790 | Q37: =P37*100/P32-100 -> 29.33526 | R37: =T37/P37 -> 84.596296 | S37: =R37*100/R32-100 -> 52.690022 | T37: 151427.37 | U37: =T37-V37 -> 105999.16 | V37: =T37*0.3 -> 45428.211 | W37: 1061 | X37: =W37*100/W32-100 -> 2.8100775 | Y37: =AA37/W37 -> 89.246965 | Z37: =Y37*100/Y32-100 -> 27.209636 | AA37: 94691.03 | AB37: =AA37-AC37 -> 66283.721 | AC37: =AA37*0.3 -> 28407.309 | AD37: 8829 | AE37: =AD37*100/AD32-100 -> 5.8633094 | AF37: =AH37/AD37 -> 92.062017 | AG37: =AF37*100/AF32-100 -> 25.745111 | AH37: 812815.55 | AI37: =AH37-AJ37 -> 568970.89 | AJ37: =AH37*0.3 -> 243844.67 | AK37: p/v MP izdevumi par decembri | AL37: LM naudas plūsma februārī
A38: Plāns | B38: 2026 | C38: februāris | D38: =I38+P38+W38+AD38 -> 41971.8 | E38: =F38/D38 -> 212.99683 | F38: =M38+T38+AA38+AH38 -> 8939860.5 | G38: =N38+U38+AB38+AI38 -> 6257902.3 | H38: =O38+V38+AC38+AJ38 -> 2681958.1 | I38: =I55+I61 -> 22666.1 | J38: =I38*100/I37-100 -> 19.761703 | K38: =$K$54+K55 -> 246.70049 | L38: =K38*100/K37-100 -> 88.923745 | M38: =I38*K38 -> 5591737.9 | N38: =M38-O38 -> 3914216.5 | O38: =M38*0.3 -> 1677521.4 | P38: =P55+P61 -> 2540.2 | Q38: =P38*100/P37-100 -> 41.910615 | R38: =$R$54+R55 -> 162.5535 | S38: =R38*100/R37-100 -> 92.152032 | T38: =P38*R38 -> 412918.4 | U38: =T38-V38 -> 289042.88 | V38: =T38*0.3 -> 123875.52 | W38: =W55+W61 -> 1675 | X38: =W38*100/W37-100 -> 57.869934 | Y38: =$Y$54+Y55 -> 142.87655 | Z38: =Y38*100/Y37-100 -> 60.091219 | AA38: =W38*Y38 -> 239318.23 | AB38: =AA38-AC38 -> 167522.76 | AC38: =AA38*0.3 -> 71795.469 | AD38: =AD55+AD61 -> 15090.5 | AE38: =AD38*100/AD37-100 -> 70.919696 | AF38: =$AF$54+AF55 -> 178.64789 | AG38: =AF38*100/AF37-100 -> 94.051676 | AH38: =AD38*AF38 -> 2695885.9 | AI38: =AH38-AJ38 -> 1887120.2 | AJ38: =AH38*0.3 -> 808765.78 | AK38: p/v MP izdevumi par janvāri | AL38: LM naudas plūsma martā
A39: Plāns | B39: 2026 | C39: marts | D39: =I39+P39+W39+AD39 -> 42187.5 | E39: =F39/D39 -> 225.1208 | F39: =M39+T39+AA39+AH39 -> 9497283.9 | G39: =N39+U39+AB39+AI39 -> 6648098.7 | H39: =O39+V39+AC39+AJ39 -> 2849185.2 | I39: =I56+I62 -> 23343.1 | J39: =I39*100/I38-100 -> 2.9868394 | K39: =$K$54+K56 -> 264.45641 | L39: =K39*100/K38-100 -> 7.1973618 | M39: =I39*K39 -> 6173232.5 | N39: =M39-O39 -> 4321262.7 | O39: =M39*0.3 -> 1851969.7 | P39: =P56+P62 -> 2668.8 | Q39: =P39*100/P38-100 -> 5.0625935 | R39: =$R$54+R56 -> 172.96302 | S39: =R39*100/R38-100 -> 6.4037462 | T39: =P39*R39 -> 461603.69 | U39: =T39-V39 -> 323122.59 | V39: =T39*0.3 -> 138481.11 | W39: =W56+W62 -> 1661.1 | X39: =W39*100/W38-100 -> -0.82985075 | Y39: =$Y$54+Y56 -> 180.94519 | Z39: =Y39*100/Y38-100 -> 26.644422 | AA39: =W39*Y39 -> 300568.05 | AB39: =AA39-AC39 -> 210397.63 | AC39: =AA39*0.3 -> 90170.415 | AD39: =AD56+AD62 -> 14514.5 | AE39: =AD39*100/AD38-100 -> -3.8169709 | AF39: =$AF$54+AF56 -> 176.50485 | AG39: =AF39*100/AF38-100 -> -1.1995857 | AH39: =AD39*AF39 -> 2561879.7 | AI39: =AH39-AJ39 -> 1793315.8 | AJ39: =AH39*0.3 -> 768563.91 | AK39: p/v MP izdevumi par februāri | AL39: LM naudas plūsma aprīlī
A40: Plāns | B40: 2026 | C40: aprīlis | D40: =I40+P40+W40+AD40 -> 41537.6 | E40: =F40/D40 -> 219.28464 | F40: =M40+T40+AA40+AH40 -> 9108557.5 | G40: =N40+U40+AB40+AI40 -> 6375990.3 | H40: =O40+V40+AC40+AJ40 -> 2732567.3 | I40: =I57+I63 -> 23660.3 | J40: =I40*100/I39-100 -> 1.3588598 | K40: =$K$54+K57 -> 259.12368 | L40: =K40*100/K39-100 -> -2.0164877 | M40: =I40*K40 -> 6130944 | N40: =M40-O40 -> 4291660.8 | O40: =M40*0.3 -> 1839283.2 | P40: =P57+P63 -> 2634.5 | Q40: =P40*100/P39-100 -> -1.2852218 | R40: =$R$54+R57 -> 170.19073 | S40: =R40*100/R39-100 -> -1.6028212 | T40: =P40*R40 -> 448367.47 | U40: =T40-V40 -> 313857.23 | V40: =T40*0.3 -> 134510.24 | W40: =W57+W63 -> 1666.8 | X40: =W40*100/W39-100 -> 0.34314611 | Y40: =$Y$54+Y57 -> 137.92697 | Z40: =Y40*100/Y39-100 -> -23.77417 | AA40: =W40*Y40 -> 229896.67 | AB40: =AA40-AC40 -> 160927.67 | AC40: =AA40*0.3 -> 68969.002 | AD40: =AD57+AD63 -> 13576 | AE40: =AD40*100/AD39-100 -> -6.4659478 | AF40: =$AF$54+AF57 -> 169.36869 | AG40: =AF40*100/AF39-100 -> -4.04304 | AH40: =AD40*AF40 -> 2299349.3 | AI40: =AH40-AJ40 -> 1609544.5 | AJ40: =AH40*0.3 -> 689804.8 | AK40: p/v MP izdevumi par martu | AL40: LM naudas plūsma maijā
A41: Plāns | B41: 2026 | C41: maijs | D41: =I41+P41+W41+AD41 -> 36749 | E41: =F41/D41 -> 155.59357 | F41: =M41+T41+AA41+AH41 -> 5717908.2 | G41: =N41+U41+AB41+AI41 -> 4002535.8 | H41: =O41+V41+AC41+AJ41 -> 1715372.5 | I41: =I58+I64 -> 20617.15 | J41: =I41*100/I40-100 -> -12.86184 | K41: =$K$54+K58 -> 184.65399 | L41: =K41*100/K40-100 -> -28.739054 | M41: =I41*K41 -> 3807038.9 | N41: =M41-O41 -> 2664927.2 | O41: =M41*0.3 -> 1142111.7 | P41: =P58+P64 -> 2243.85 | Q41: =P41*100/P40-100 -> -14.828241 | R41: =$R$54+R58 -> 119.15427 | S41: =R41*100/R40-100 -> -29.987799 | T41: =P41*R41 -> 267364.32 | U41: =T41-V41 -> 187155.02 | V41: =T41*0.3 -> 80209.295 | W41: =W58+W64 -> 1638.4 | X41: =W41*100/W40-100 -> -1.7038637 | Y41: =$Y$54+Y58 -> 103.07526 | Z41: =Y41*100/Y40-100 -> -25.268233 | AA41: =W41*Y41 -> 168878.51 | AB41: =AA41-AC41 -> 118214.96 | AC41: =AA41*0.3 -> 50663.553 | AD41: =AD58+AD64 -> 12249.6 | AE41: =AD41*100/AD40-100 -> -9.7701827 | AF41: =$AF$54+AF58 -> 120.3816 | AG41: =AF41*100/AF40-100 -> -28.923343 | AH41: =AD41*AF41 -> 1474626.5 | AI41: =AH41-AJ41 -> 1032238.5 | AJ41: =AH41*0.3 -> 442387.95 | AK41: p/v MP izdevumi par aprīli | AL41: LM naudas plūsma jūnijā
...

Sheet GMI
A1: 2.tabula
A2: GMI pabalsta izdevumi 2024.-2026. gadā (fakts)
B3: GMI pabalsts KOPĀ 2024. gads | G3: GMI pabalsts KOPĀ 2025. gads | L3: GMI pabalsts KOPĀ 2026. gads
B4: personu skaits | C4: vidējais apmērs uz 1 pers. | D4: izlietotais finansējums KOPĀ | E4: pašvaldības budžets | F4: valsts budžets | G4: personu skaits | H4: vidējais apmērs uz 1 pers. | I4: izlietotais finansējums KOPĀ | J4: pašvaldības budžets | K4: valsts budžets | L4: personu skaits | M4: vidējais apmērs uz 1 pers. | N4: izlietotais finansējums KOPĀ | O4: pašvaldības budžets | P4: valsts budžets
A5: janvāris | B5: 8912 | C5: =D5/B5 -> 84.218496 | D5: 750555.24 | E5: =D5-F5 -> 525388.63 | F5: 225166.61 | G5: 8247 | H5: =I5/G5 -> 102.85645 | I5: 848257.14 | J5: =I5-K5 -> 593780 | K5: 254477.14 | L5: 8322 | M5: =N5/L5 -> 112.09734 | N5: 932874.09 | O5: =N5-P5 -> 653011.86 | P5: =N5*0.3 -> 279862.23
A6: februāris | B6: 9378 | C6: =D6/B6 -> 86.450899 | D6: 810736.53 | E6: =D6-F6 -> 567515.55 | F6: 243220.98 | G6: 8789 | H6: =I6/G6 -> 101.23545 | I6: 889758.38 | J6: =I6-K6 -> 622830.86 | K6: 266927.52 | L6: =L5 -> 8322 | M6: =M5 -> 112.09734 | N6: =M6*L6 -> 932874.09 | O6: =N6-P6 -> 653011.86 | P6: =N6*0.3 -> 279862.23
A7: marts | B7: 9380 | C7: =D7/B7 -> 84.520365 | D7: 792801.02 | E7: =D7-F7 -> 554960.7 | F7: 237840.32 | G7: 9086 | H7: =I7/G7 -> 100.94677 | I7: 917202.31 | J7: =I7-K7 -> 642041.59 | K7: 275160.72 | L7: =L6 -> 8322 | M7: =M6 -> 112.09734 | N7: =M7*L7 -> 932874.09 | O7: =N7-P7 -> 653011.86 | P7: =N7*0.3 -> 279862.23
A8: aprīlis | B8: 9369 | C8: =D8/B8 -> 84.658922 | D8: 793169.44 | E8: =D8-F8 -> 555259.69 | F8: 237909.75 | G8: 9279 | H8: =I8/G8 -> 99.409732 | I8: 922422.9 | J8: =I8-K8 -> 645696.03 | K8: 276726.87 | L8: =L7 -> 8322 | M8: =M7 -> 112.09734 | N8: =M8*L8 -> 932874.09 | O8: =N8-P8 -> 653011.86 | P8: =N8*0.3 -> 279862.23
A9: maijs | B9: 8859 | C9: =D9/B9 -> 83.180158 | D9: 736893.02 | E9: =D9-F9 -> 515825.08 | F9: 221067.94 | G9: 8879 | H9: =I9/G9 -> 98.91405 | I9: 878257.85 | J9: =I9-K9 -> 614780.5 | K9: 263477.35 | L9: =L8 -> 8322 | M9: =M8 -> 112.09734 | N9: =M9*L9 -> 932874.09 | O9: =N9-P9 -> 653011.86 | P9: =N9*0.3 -> 279862.23
A10: jūnijs | B10: 8335 | C10: =D10/B10 -> 84.194744 | D10: 701763.19 | E10: =D10-F10 -> 491234.22 | F10: 210528.97 | G10: 8615 | H10: =I10/G10 -> 101.28068 | I10: 872533.05 | J10: =I10-K10 -> 610773.12 | K10: 261759.93 | L10: =L9 -> 8322 | M10: =M9 -> 112.09734 | N10: =M10*L10 -> 932874.09 | O10: =N10-P10 -> 653011.86 | P10: =N10*0.3 -> 279862.23
A11: jūlijs | B11: 7843 | C11: =D11/B11 -> 88.569957 | D11: 694654.17 | E11: =D11-F11 -> 486257.88 | F11: 208396.29 | G11: 8266 | H11: =I11/G11 -> 103.01816 | I11: 851548.09 | J11: =I11-K11 -> 596083.61 | K11: 255464.48 | L11: =L10 -> 8322 | M11: =M10 -> 112.09734 | N11: =M11*L11 -> 932874.09 | O11: =N11-P11 -> 653011.86 | P11: =N11*0.3 -> 279862.23
A12: augusts | B12: 7602 | C12: =D12/B12 -> 85.961452 | D12: 653478.96 | E12: =D12-F12 -> 457435.26 | F12: 196043.7 | G12: 7999 | H12: =I12/G12 -> 105.48167 | I12: 843747.89 | J12: =I12-K12 -> 590623.49 | K12: 253124.4 | L12: =L11 -> 8322 | M12: =M11 -> 112.09734 | N12: =M12*L12 -> 932874.09 | O12: =N12-P12 -> 653011.86 | P12: =N12*0.3 -> 279862.23
A13: septembris | B13: 7448 | C13: =D13/B13 -> 87.489905 | D13: 651624.81 | E13: =D13-F13 -> 456137.33 | F13: 195487.48 | G13: 8020 | H13: =I13/G13 -> 107.02205 | I13: 858316.88 | J13: =I13-K13 -> 600821.78 | K13: 257495.1 | L13: =L12 -> 8322 | M13: =M12 -> 112.09734 | N13: =M13*L13 -> 932874.09 | O13: =N13-P13 -> 653011.86 | P13: =N13*0.3 -> 279862.23
A14: oktobris | B14: 7477 | C14: =D14/B14 -> 87.860492 | D14: 656932.9 | E14: =D14-F14 -> 459853.03 | F14: 197079.87 | G14: 7583 | H14: =I14/G14 -> 106.68592 | I14: 808999.34 | J14: =I14-K14 -> 566299.56 | K14: 242699.78 | L14: =L13 -> 8322 | M14: =M13 -> 112.09734 | N14: =M14*L14 -> 932874.09 | O14: =N14-P14 -> 653011.86 | P14: =N14*0.3 -> 279862.23
A15: novembris | B15: 7371 | C15: =D15/B15 -> 89.34542 | D15: 658565.09 | E15: =D15-F15 -> 460954.44 | F15: 197610.65 | G15: 7336 | H15: =I15/G15 -> 106.7031 | I15: 782773.96 | J15: =I15-K15 -> 547941.75 | K15: 234832.21 | L15: =L14 -> 8322 | M15: =M14 -> 112.09734 | N15: =M15*L15 -> 932874.09 | O15: =N15-P15 -> 653011.86 | P15: =N15*0.3 -> 279862.23
A16: decembris | B16: 7545 | C16: =D16/B16 -> 88.761078 | D16: 669702.33 | E16: =D16-F16 -> 468750.49 | F16: 200951.84 | G16: 7353 | H16: =I16/G16 -> 107.81183 | I16: 792740.35 | J16: =I16-K16 -> 554918.22 | K16: 237822.14 | L16: =L15 -> 8322 | M16: =M15 -> 112.09734 | N16: =M16*L16 -> 932874.09 | O16: =N16-P16 -> 653011.86 | P16: =N16*0.3 -> 279862.23
A17: KOPĀ | B17: =AVERAGE(B5:B16) -> 8293.25 | C17: =D17/B17/12 -> 86.123019 | D17: =SUM(D5:D16) -> 8570876.7 | E17: =SUM(E5:E16) -> 5999572.3 | F17: =SUM(F5:F16) -> 2571304.4 | G17: =AVERAGE(G5:G16) -> 8287.6667 | H17: =I17/G17/12 -> 103.23129 | I17: =SUM(I5:I16) -> 10266558 | J17: =SUM(J5:J16) -> 7186590.5 | K17: =SUM(K5:K16) -> 3079967.6 | L17: =AVERAGE(L5:L16) -> 8322 | M17: =N17/L17/12 -> 112.09734 | N17: =SUM(N5:N16) -> 11194489 | O17: =SUM(O5:O16) -> 7836142.4 | P17: =SUM(P5:P16) -> 3358346.7
C18: =('GMI apmēri'!E11+'GMI apmēri'!E12)/2 -> 116.5 | H18: =('GMI apmēri'!F11+'GMI apmēri'!F12)/2 -> 141 | M18: =('GMI apmēri'!G11+'GMI apmēri'!G12)/2 -> 159
C19: =C17*100/C18 -> 73.925338 | H19: =H17*100/H18 -> 73.21368 | M19: =M17*100/M18 -> 70.501474
A22: vidējais apmērs periodā no janvāra līdz maijam | C22: =AVERAGE(C5:C9) -> 84.605768 | H22: =AVERAGE(H5:H9) -> 100.67249
A23: vidējais apmērs periodā no jūnija līdz decembrim | C23: =AVERAGE(C10:C16) -> 87.454721 | H23: =AVERAGE(H10:H16) -> 105.42906
A24: pieaugums | C24: =C23*100/C22 -> 103.36733 | H24: =H23*100/H22 -> 104.7248
E25: =453149.01+E5+E6+E7+E8+E9+E10+E11+E12+E13+E14+E15 -> 5983970.8 | F25: =194206.72+F5+F6+F7+F8+F9+F10+F11+F12+F13+F14+F15 -> 2564559.3 | J25: =E16+J5+J6+J7+J8+J9+J10+J11+J12+J13+J14+J15 -> 7100422.8 | K25: =F16+K5+K6+K7+K8+K9+K10+K11+K12+K13+K14+K15 -> 3043097.3 | O25: =J16+O5+O6+O7+O8+O9+O10+O11+O12+O13+O14+O15 -> 7738048.7 | P25: =K16+P5+P6+P7+P8+P9+P10+P11+P12+P13+P14+P15 -> 3316306.6
E26: =E25+F25 -> 8548530.1 | J26: =J25+K25 -> 10143520 | O26: =O25+P25 -> 11054355

Sheet GMI apmēri
B1: 3.tabula
B2: GMI pabalsta apmēri 2024.-2026.gadā
F4: 2025 fakts | G4: 2026 fakts
B5: Kura gada mediāna? | F5: 2022 | G5: 2023
B6: Mediāna | F6: 754.74 | G6: 850.02
F7: =ROUND(F6*0.22,0) -> 166 | G7: =ROUND(G6*0.22,0) -> 187
C9: koeficients | D9: 2023 | E9: 2024 | F9: 2025 | G9: 2026
D10: euro | E10: euro | F10: euro | G10: euro
B11: 1.personai | C11: 1 | D11: 125 | E11: 137 | F11: =F7 -> 166 | G11: =G7 -> 187
B12: nākamajai | C12: 0.7 | D12: 87.5 | E12: =ROUND(E11*C12,0) -> 96 | F12: =ROUND(F11*C12,0) -> 116 | G12: =ROUND(G11*C12,0) -> 131
K13: MP apmērs vidēji mēnesī / 1 mājsaimniecība
D14: 2023 | E14: 2024 | F14: 2025 | G14: 2026 | K14: 2024 | L14: pieaugums | M14: 2025 | N14: pieaugums | O14: 2026
D15: euro | E15: euro | F15: euro | G15: euro | J15: Piemērs:
B16: Atsevišķi dzīvojošai pensijas vecuma personai vai atsevišķi dzīvojošai personai ar invaliditāti (koeficients 2.1) | D16: =D11*2.5 -> 312.5 | E16: =E11*2.5 -> 342.5 | F16: =F11*2.1 -> 348.6 | G16: =G11*2.1 -> 392.7 | I16: Personām ar ienākumiem mājokļa pabalsta aprēķinā GMI līmenis/slieksnis tiek reizināts ar attiecīgiem koeficientiem, kuri ir noteikti SPSPL 35. panta piektajā daļā. | J16: Atsevišķi dzīvojošai personai (pensionāram vai invalīdam) pēc komunālo rēķinu nomaksas citu vajadzību nodrošināšanai piem.,: 1) 2024. gadā ir jāpaliek 342.50 euro (137 euro x koefic. 2.5); 2) 2025. gadā ir jāpaliek 348.60 euro (166 euro x koefic. 2.1); 3) 2026. gadā ir jāpaliek 392.60 euro (187 euro x koefic. 2.1).
B17: Līdzekļi vidēji uz 1 pers. mājsaimniecībā | E17: =E16/1 -> 342.5 | F17: =F16/1 -> 348.6 | G17: =G16/1 -> 392.7
B18: starpība/ tas, kas paliek pēc rēķinu nomaksas m/s rīcībā vidēji uz 1 pers.* | E18: =E17-E19 -> 221.54456 | F18: =F17-F19 -> 227.70509 | G18: =F18*$H$18/100 -> 234.03692 | H18: =F18*100/E18 -> 102.78072 | K18: =E18 -> 221.54456 | L18: =M18-K18 -> 6.1605272 | M18: =F18 -> 227.70509 | N18: =O18-M18 -> 6.331834 | O18: =G18 -> 234.03692 | P18: starpība/ tas, kas paliek pēc rēķinu nomaksas m/s rīcībā (jo lielāks GMI slieksnis, jo lielākai summai jāpaliek M/S rīcībā)
B19: Faktiski izmaksātais pabalsta apmērs | E19: ='MP Faktiskā izpilde_plāns'!K17 -> 120.95544 | F19: ='MP Faktiskā izpilde_plāns'!K33 -> 120.89491 | G19: =G17-G18 -> 158.66308 | K19: =E19 -> 120.95544 | L19: =M19-K19 -> -0.060527157 | M19: =F19 -> 120.89491 | N19: =O19-M19 -> 37.768166 | O19: =G19 -> 158.66308 | P19: MP apmērs vidēji mēnesī / 1 mājsaimniecība
B20: Mājsaimniecībai, kurā ir tikai pensijas vecuma personas vai personas ar invaliditāti (koeficients 1.7) | D20: =(D11+D12)*2 -> 425 | E20: =(E11+E12)*2 -> 466 | F20: =(F11+F12)*1.7 -> 479.4 | G20: =(G11+G12)*1.7 -> 540.6 | J20: Ja vienā mājsaimniecībā dzīvo pensionārs kopā ar personu, kurai noteikta invaliditāte, tad pēc komunālo rēķinu nomaksas citu vajadzību nodrošināšanai piem.,: 1) 2024. gadā ir jāpaliek 466.00 euro (137 euro x koefic.2 + 96 euro x koefic.2 ); 2) 2025. gadā ir jāpaliek 479.40 euro (166 euro x koefic.1.7 + 116 euro x koefic.1.7 ); 3) 2026. gadā ir jāpaliek 540.60 euro (187 euro x koefic.1.7 + 131 euro x koefic.1.7 ).
B21: Līdzekļi vidēji uz 1 pers. mājsaimniecībā | E21: =E20/2 -> 233 | F21: =F20/2 -> 239.7 | G21: =G20/2 -> 270.3
B22: starpība/ tas, kas paliek pēc rēķinu nomaksas m/s rīcībā vidēji uz 1 pers.* | E22: =E21-E23 -> 155.89282 | F22: =F21-F23 -> 163.20488 | G22: =F22*$H$22/100 -> 170.85991 | H22: =F22*100/E22 -> 104.69044 | K22: =E22*2 -> 311.78564 | L22: =M22-K22 -> 14.624127 | M22: =F22*2 -> 326.40977 | N22: =O22-M22 -> 15.310063 | O22: =G22*2 -> 341.71983 | P22: starpība/ tas, kas paliek pēc rēķinu nomaksas m/s rīcībā (jo lielāks GMI slieksnis, jo lielākai summai jāpaliek M/S rīcībā)
B23: Faktiski izmaksātais pabalsta apmērs | E23: ='MP Faktiskā izpilde_plāns'!R17 -> 77.10718 | F23: ='MP Faktiskā izpilde_plāns'!R33 -> 76.495117 | G23: =G21-G22 -> 99.440086 | K23: =E23*2 -> 154.21436 | L23: =M23-K23 -> -1.2241267 | M23: =F23*2 -> 152.99023 | N23: =O23-M23 -> 45.889937 | O23: =G23*2 -> 198.88017 | P23: MP apmērs vidēji mēnesī / 1 mājsaimniecība
B24: Mājsaimniecībai, kurā ir pensijas vecuma personas vai personas ar invaliditāti un bērni (koeficients 1.7) | D24: =(D11+D12+D12)*2 -> 600 | E24: =(E11+E12+E12)*2 -> 658 | F24: =(F11+F12+F12)*1.7 -> 676.6 | G24: =(G11+G12+G12)*1.7 -> 763.3 | J24: Ja vienā mājsaimniecībā dzīvo pensionārs kopā ar personu, kurai noteikta invaliditāte, un bērnu (3 pers), tad pēc komunālo rēķinu nomaksas citu vajadzību nodrošināšanai piem.: 1) 2024. gadā ir jāpaliek 658.00 euro (137 euro x koefic.2 + 96 euro x koefic.2 + 96 euro x koefic.2); 2) 2025. gadā ir jāpaliek 676.60 euro (166 euro x koefic.1.7 + 166 euro x koefic.1.7 + 116 euro x koefic.1.7); 3) 2026. gadā ir jāpaliek 763.30 euro (187 euro x koefic.1.7 + 187 euro x koefic.1.7 + 131 euro x koefic.1.7).
B25: Līdzekļi vidēji uz 1 pers. mājsaimniecībā | E25: =E24/3 -> 219.33333 | F25: =F24/3 -> 225.53333 | G25: =G24/3 -> 254.43333
B26: starpība/ tas, kas paliek pēc rēķinu nomaksas m/s rīcībā vidēji uz 1 pers.* | E26: =E25-E27 -> 149.70605 | F26: =F25-F27 -> 151.22312 | G26: =F26*$H$26/100 -> 152.75557 | H26: =F26*100/E26 -> 101.01337 | K26: =E26*3 -> 449.11814 | L26: =M26-K26 -> 4.5512203 | M26: =F26*3 -> 453.66936 | N26: =O26-M26 -> 4.5973409 | O26: =G26*3 -> 458.2667 | P26: starpība/ tas, kas paliek pēc rēķinu nomaksas m/s rīcībā (jo lielāks GMI slieksnis, jo lielākai summai jāpaliek M/S rīcībā)
B27: Faktiski izmaksātais pabalsta apmērs | E27: ='MP Faktiskā izpilde_plāns'!Y17 -> 69.627286 | F27: ='MP Faktiskā izpilde_plāns'!Y33 -> 74.310212 | G27: =G25-G26 -> 101.67777 | K27: =E27*3 -> 208.88186 | L27: =M27-K27 -> 14.04878 | M27: =F27*3 -> 222.93064 | N27: =O27-M27 -> 82.102659 | O27: =G27*3 -> 305.0333 | P27: MP apmērs vidēji mēnesī / 1 mājsaimniecība
B28: Pārējām mājsaimniecībām (koeficients 1.3) | D28: =(D11+D12+D12)*1.5 -> 450 | E28: =(E11+E12+E12)*1.5 -> 493.5 | F28: =(F11+F12+F12)*1.3 -> 517.4 | G28: =(G11+G12+G12)*1.3 -> 583.7 | J28: Ja vienā mājsaimniecībā dzīvo 3 personas, piem., no kurām vismaz viens ir darbspējīgs, tad pēc komunālo rēķinu nomaksas citu vajadzību nodrošināšanai piem.,: 1) 2024. gadā ir jāpaliek 493.50 euro (137 euro x koefic.1.5 + 96 euro x koefic.1.5 + 96 euro x koefic.1.5); 2) 2025. gadā ir jāpaliek 517.40 euro (166 euro x koefic.1.3 + 116 euro x koefic.1.3 + 116 euro x koefic.1.3); 3) 2026. gadā ir jāpaliek 583.70 euro (187 euro x koefic.1.3 + 131 euro x koefic.1.3 + 131 euro x koefic.1.3).
B29: Līdzekļi vidēji uz 1 pers. mājsaimniecībā | E29: =E28/3 -> 164.5 | F29: =F28/3 -> 172.46667 | G29: =G28/3 -> 194.56667
B30: starpība/ tas, kas paliek pēc rēķinu nomaksas m/s rīcībā vidēji uz 1 pers.* | E30: =E29-E31 -> 87.204508 | F30: =F29-F31 -> 92.976426 | G30: =F30*$H$26/100 -> 93.918619 | H30: =F30*100/E30 -> 106.61883 | K30: =E30*3 -> 261.61352 | L30: =M30-K30 -> 17.315754 | M30: =F30*3 -> 278.92928 | N30: =O30-M30 -> 2.8265805 | O30: =G30*3 -> 281.75586 | P30: starpība/ tas, kas paliek pēc rēķinu nomaksas m/s rīcībā (jo lielāks GMI slieksnis, jo lielākai summai jāpaliek M/S rīcībā)
B31: Faktiski izmaksātais pabalsta apmērs | E31: ='MP Faktiskā izpilde_plāns'!AF17 -> 77.295492 | F31: ='MP Faktiskā izpilde_plāns'!AF33 -> 79.490241 | G31: =G29-G30 -> 100.64805 | K31: =E31*3 -> 231.88648 | L31: =M31-K31 -> 6.5842457 | M31: =F31*3 -> 238.47072 | N31: =O31-M31 -> 63.473419 | O31: =G31*3 -> 301.94414 | P31: MP apmērs vidēji mēnesī / 1 mājsaimniecība
E32: =E17-E18-E19 -> 0 | F32: =F17-F18-F19 -> 0 | G32: =G17-G18-G19 -> 0
B33: *m/s ienākumi mīnus m/s rēķina apmērs (vidēji uz 1 personu m/s) | E33: =E21-E22-E23 -> 0 | F33: =F21-F22-F23 -> 0 | G33: =G21-G22-G23 -> 0 | J33: M/s, kurām sedz visus izdevumus par mājokli, sedz tos neatkarīgi no tā, cik augsts ir GMI līmenis. GMI līmeņa paaugstināšana lielākoties ietekmē MP saņēmēju loku (tas palielinās). Vidējai MP uz m/s palielinās, ja: - samazinājušies ģimenes ienākumi; - m/s ienākumi nemainās, bet palielinās izdevumi par mājokli (tām m/s, kurām sedz visus ar mājokli saistītos izdevumus); - m/s, kurām sedza daļu pie esošā sliekšna, ja palielinās izdevumi par mājokli sedz lielāku daļu vai visu (palielinās MP apmērs); - ja palielinās GMI līmenis, tad palielinās MP pabalsts tām m/s, kurām pie zemāka GMI sliekšņa ar MP sedza daļu no mājokļa izdevumiem (tagad segs lielāku daļu vai pilnā apjomā).
E34: =E25-E26-E27 -> 0 | F34: =F25-F26-F27 -> 0 | G34: =G25-G26-G27 -> 0
E35: =E29-E30-E31 -> 0 | F35: =F29-F30-F31 -> 0 | G35: =G29-G30-G31 -> 0
E36: =SUM(E32:E35) -> 0 | F36: =SUM(F32:F35) -> 0 | G36: =SUM(G32:G35) -> 0 | H36: =SUM(H32:H35) -> 0

Sheet GMI apmēri janv.-aprīl.
B1: 3.tabula
B2: GMI pabalsta apmēri 2024.-2026.gadā
F4: 2025 fakts | G4: 2026 fakts
B5: Kura gada mediāna? | F5: 2022 | G5: 2023
B6: Mediāna | F6: 754.74 | G6: 850.02
F7: =ROUND(F6*0.22,0) -> 166 | G7: =ROUND(G6*0.22,0) -> 187
J8: GMI līmeņa palielinājums 4 mēnešiem
C9: koeficients | D9: 2023 | E9: 2024 | F9: 2025 | G9: 2026
D10: euro | E10: euro | F10: euro | G10: euro
B11: 1.personai | C11: 1 | D11: 125 | E11: 137 | F11: =F7 -> 166 | G11: =G7 -> 187
B12: nākamajai | C12: 0.7 | D12: 87.5 | E12: =ROUND(E11*C12,0) -> 96 | F12: =ROUND(F11*C12,0) -> 116 | G12: =ROUND(G11*C12,0) -> 131
D14: 2023 | E14: 2024 | F14: 2025 | G14: 2026
D15: euro | E15: euro | F15: euro | G15: euro
B16: Atsevišķi dzīvojošai pensijas vecuma personai vai atsevišķi dzīvojošai personai ar invaliditāti (koeficients 2.1) | D16: =D11*2.5 -> 312.5 | E16: =E11*2.5 -> 342.5 | F16: =F11*2.1 -> 348.6 | G16: =G11*2.5 -> 467.5 | I16: Personām ar ienākumiem mājokļa pabalsta aprēķinā GMI līmenis/slieksnis tiek reizināts ar attiecīgiem koeficientiem, kuri ir noteikti SPSPL 35. panta piektajā daļā. | J16: =G16-'GMI apmēri'!G16 -> 74.8
B17: Līdzekļi vidēji uz 1 pers. mājsaimniecībā | E17: =E16/1 -> 342.5 | F17: =F16/1 -> 348.6 | G17: =G16/1 -> 467.5 | J17: =G17-'GMI apmēri'!G17 -> 74.8
B18: starpība/ tas, kas paliek pēc rēķinu nomaksas m/s rīcībā vidēji uz 1 pers.* | E18: =E17-E19 -> 221.54456 | F18: =F17-F19 -> 227.70509 | G18: =F18*$H$18/100 -> 234.03692 | H18: =F18*100/E18 -> 102.78072
B19: Faktiski izmaksātais pabalsta apmērs | E19: ='MP Faktiskā izpilde_plāns'!K17 -> 120.95544 | F19: ='MP Faktiskā izpilde_plāns'!K33 -> 120.89491 | G19: =G17-G18 -> 233.46308 | J19: =G19-'GMI apmēri'!G19 -> 74.8
B20: Mājsaimniecībai, kurā ir tikai pensijas vecuma personas vai personas ar invaliditāti (koeficients 1.7) | D20: =(D11+D12)*2 -> 425 | E20: =(E11+E12)*2 -> 466 | F20: =(F11+F12)*1.7 -> 479.4 | G20: =(G11+G12)*2 -> 636 | J20: =G20-'GMI apmēri'!G20 -> 95.4
B21: Līdzekļi vidēji uz 1 pers. mājsaimniecībā | E21: =E20/2 -> 233 | F21: =F20/2 -> 239.7 | G21: =G20/2 -> 318 | J21: =G21-'GMI apmēri'!G21 -> 47.7
B22: starpība/ tas, kas paliek pēc rēķinu nomaksas m/s rīcībā vidēji uz 1 pers.* | E22: =E21-E23 -> 155.89282 | F22: =F21-F23 -> 163.20488 | G22: =F22*$H$22/100 -> 170.85991 | H22: =F22*100/E22 -> 104.69044
B23: Faktiski izmaksātais pabalsta apmērs | E23: ='MP Faktiskā izpilde_plāns'!R17 -> 77.10718 | F23: ='MP Faktiskā izpilde_plāns'!R33 -> 76.495117 | G23: =G21-G22 -> 147.14009 | J23: =G23-'GMI apmēri'!G23 -> 47.7
B24: Mājsaimniecībai, kurā ir pensijas vecuma personas vai personas ar invaliditāti un bērni (koeficients 1.7) | D24: =(D11+D12+D12)*2 -> 600 | E24: =(E11+E12+E12)*2 -> 658 | F24: =(F11+F12+F12)*1.7 -> 676.6 | G24: =(G11+G12+G12)*2 -> 898 | J24: =G24-'GMI apmēri'!G24 -> 134.7
B25: Līdzekļi vidēji uz 1 pers. mājsaimniecībā | E25: =E24/3 -> 219.33333 | F25: =F24/3 -> 225.53333 | G25: =G24/3 -> 299.33333 | J25: =G25-'GMI apmēri'!G25 -> 44.9
B26: starpība/ tas, kas paliek pēc rēķinu nomaksas m/s rīcībā vidēji uz 1 pers.* | E26: =E25-E27 -> 149.70605 | F26: =F25-F27 -> 151.22312 | G26: =F26*$H$26/100 -> 152.75557 | H26: =F26*100/E26 -> 101.01337
B27: Faktiski izmaksātais pabalsta apmērs | E27: ='MP Faktiskā izpilde_plāns'!Y17 -> 69.627286 | F27: ='MP Faktiskā izpilde_plāns'!Y33 -> 74.310212 | G27: =G25-G26 -> 146.57777 | J27: =G27-'GMI apmēri'!G27 -> 44.9
