Workbook

Sheet KOPSAVILKUMS
D1: 1.pielikums MK rīkojuma projekta “Par finanšu līdzekļu piešķiršanu no valsts budžeta programmas “Līdzekļi neparedzētiem gadījumiem”” anotācijai
A3: Kopsavilkums par stacionāro iestāžu iesniegto informāciju par darba veicējiem (ārstniecības personām), virs normālā darba laika nostrādātām stundām, apmaksājamām stundām un izdevumiem, kas radušies saistībā ar mērķi ierobežot Covid-19 izplatību par 2021.gada MAIJS - AUGUSTS
C6: Izdevumi par virsstundām (2021.gada maijs-augusts) kopā ar VSOAI, EUR
C7: Maijs | D7: Jūnijs | E7: Jūlijs | F7: Augusts | G7: KOPĀ
A8: KOPĀ | G8: =SUM(G9:G17) -> 2779025.5
A9: 1 | B9: VSIA "Bērnu klīniskā universitātes slimnīca" | C9: ='BKUS_maijs-aug'!I11 -> 12438.73 | G9: =SUM(C9:F9) -> 12438.73
A10: 2 | B10: SIA “Rīgas Austrumu klīniskās universitātes slimnīca” | C10: =RAKUS_maijs_aug!I11 -> 2034246.8 | G10: =SUM(C10:F10) -> 2034246.8
A11: 3 | B11: VSIA "Paula Stradiņa klīniskā universitātes slimnīca" | C11: =PSKUS_maijs!I11 -> 146766.95 | D11: =PSKUS_jūn!I11 -> 96078.27 | E11: =PSKUS_jūl!I11 -> 49460.08 | F11: =PSKUS_aug!I11 -> 46085.37 | G11: =SUM(C11:F11) -> 338390.67
A12: 4 | B12: SIA "Daugavpils reģionālā slimnīca" | C12: X | D12: X | E12: =Daugavpils_reģ_jūl!I11 -> 110813.99 | F12: =Daugavpils_reģ_aug!I11 -> 134182.99 | G12: =SUM(C12:F12) -> 244996.98
A13: 5 | B13: SIA "Ziemeļkurzemes reģionālā slimnīca" | C13: X | D13: X | E13: ='Z-Kurzeme_jūl'!I11 -> 70715.86 | F13: ='Z-Kurzeme_aug'!I11 -> 24770.39 | G13: =SUM(C13:F13) -> 95486.25
A14: 6 | B14: SIA Vidzemes slimnīca | C14: X | D14: X | E14: =Vidzeme_jūl!I11 -> 9081.42 | F14: =Vidzeme_aug!I11 -> 29230.13 | G14: =SUM(C14:F14) -> 38311.55
A15: 7 | B15: Rīgas dzemdību nams | C15: =Rīgas_DzN_maijs_aug!I11 -> 714.85 | G15: =SUM(C15:F15) -> 714.85
A16: 8 | B16: SIA "Balvu un Gulbenes slimnīcu apvienība" | C16: ='Balvi_maijs-aug'!I11 -> 14215.16 | G16: =SUM(C16:E16) -> 14215.16
A17: 9 | B17: VSIA „Daugavpils psihoneiroloģiskā slimnīca” | C17: X | D17: X | E17: =Daugavpis_psih_jūl!I11 -> 102.47 | F17: =Daugavpils_psih_aug!I11 -> 122.11 | G17: =SUM(C17:F17) -> 224.58
B19: Summētā darba laika periods, kurā uzskaitītas virsstundas un papildu snepieciešamais finansējums to apmaksai

Sheet BKUS_maijs-aug
H1: 1.1.Pielikums
A2: Pārskats par darba veicējiem (ārstniecības personām), virs normālā darba laika nostrādātām stundām, apmaksājamām stundām un izdevumiem, kas radušies saistībā ar mērķi ierobežot Covid-19 izplatību
A4: Iestādes nosaukums: VISA "Bērnu klīniskā universitātes slimnīca"
A5: Pārskata mēnesis: Maijs - Augusts
B7: Nodarbināto skaits mēnesī | C7: Apmaksājamais laiks mēnesī, stundas (tai skaitā summētā darba laika ietvaros) | F7: Mēnešalga no kuras rēķina stundas likmi | G7: Stundas likme (aprēķināta atbilstoši mēnešalgai vai darba līgumā noteiktā stundas likme) | H7: Apmaksājamā 100% piemaksa par nostrādātām virsstundām virs normālā darba laika (tai skaitā summētā darba laika ietvaros) | I7: Izdevumi par virsstundām kopā ar VSOAI, EUR
C8: Kopā | D8: līdz normālam darba laikam | E8: virsstundas - virs normālā darba laika, kas saistītas ar darbu ar Covid-19
A10: 1 | B10: 2 | C10: 3=4+5 | D10: 4 | E10: 5 | F10: 6 | G10: 7 | H10: 8 | I10: 9=8 +VSOAI
A11: KOPĀ | B11: =B12+B19+B31+B33 -> 24 | E11: =E12+E19+E31+E33 -> 691.5 | H11: =H12+H19+H31+H33 -> 10064.52 | I11: =I12+I19+I31+I33 -> 12438.73
A12: Ārsti, zobārsti un funkcionālie speciālisti, kopā, tai skaitā: | B12: =SUM(B13:B18) -> 6 | E12: =SUM(E13:E18) -> 260 | H12: =SUM(H13:H18) -> 4967.7 | I12: =SUM(I13:I18) -> 6139.57
A13: Bērnu infektologs | B13: 1 | C13: =D13+E13 -> 692 | D13: 670 | E13: 22 | G13: 12.51 | H13: =ROUND(E13*G13*2,2) -> 550.44 | I13: =ROUND(H13*1.2359,2) -> 680.29
A14: Bērnu infektologs | B14: 1 | C14: =D14+E14 -> 711 | D14: 670 | E14: 41 | G14: 10.01 | H14: =ROUND(E14*G14*2,2) -> 820.82 | I14: =ROUND(H14*1.2359,2) -> 1014.45
A15: Rezidents | B15: 1 | C15: =D15+E15 -> 714 | D15: 670 | E15: 44 | G15: 8.93 | H15: =ROUND(E15*G15*2,2) -> 785.84 | I15: =ROUND(H15*1.2359,2) -> 971.22
A16: Rezidents | B16: 1 | C16: =D16+E16 -> 696 | D16: 670 | E16: 26 | G16: 8.93 | H16: =ROUND(E16*G16*2,2) -> 464.36 | I16: =ROUND(H16*1.2359,2) -> 573.9
A17: Rezidents | B17: 1 | C17: =D17+E17 -> 717 | D17: 670 | E17: 47 | G17: 9.76 | H17: =ROUND(E17*G17*2,2) -> 917.44 | I17: =ROUND(H17*1.2359,2) -> 1133.86
A18: Rezidents | B18: 1 | C18: =D18+E18 -> 750 | D18: 670 | E18: 80 | G18: 8.93 | H18: =ROUND(E18*G18*2,2) -> 1428.8 | I18: =ROUND(H18*1.2359,2) -> 1765.85
A19: Ārstniecības un pacientu aprūpes personas un funkcionālo speciālistu asistenti, kopā, tai skaitā: | B19: =SUM(B20:B30) -> 11 | E19: =SUM(E20:E30) -> 199 | H19: =SUM(H20:H30) -> 3083.74 | I19: =SUM(I20:I30) -> 3811.19
A20: Bērnu māsa | B20: 1 | C20: =D20+E20 -> 672 | D20: 670 | E20: 2 | G20: 7.06 | H20: =ROUND(E20*G20*2,2) -> 28.24 | I20: =ROUND(H20*1.2359,2) -> 34.9
A21: Bērnu māsa | B21: 1 | C21: =D21+E21 -> 680 | D21: 670 | E21: 10 | G21: 7.06 | H21: =ROUND(E21*G21*2,2) -> 141.2 | I21: =ROUND(H21*1.2359,2) -> 174.51
A22: Bērnu māsa | B22: 1 | C22: =D22+E22 -> 672 | D22: 670 | E22: 2 | G22: 7.06 | H22: =ROUND(E22*G22*2,2) -> 28.24 | I22: =ROUND(H22*1.2359,2) -> 34.9
A23: Bērnu māsa | B23: 1 | C23: =D23+E23 -> 678 | D23: 670 | E23: 8 | G23: 7.06 | H23: =ROUND(E23*G23*2,2) -> 112.96 | I23: =ROUND(H23*1.2359,2) -> 139.61
A24: Bērnu māsa | B24: 1 | C24: =D24+E24 -> 703 | D24: 670 | E24: 33 | G24: 6.89 | H24: =ROUND(E24*G24*2,2) -> 454.74 | I24: =ROUND(H24*1.2359,2) -> 562.01
A25: Māsa | B25: 1 | C25: =D25+E25 -> 680 | D25: 670 | E25: 10 | G25: 6.07 | H25: =ROUND(E25*G25*2,2) -> 121.4 | I25: =ROUND(H25*1.2359,2) -> 150.04
A26: Māsa | B26: 1 | C26: =D26+E26 -> 734 | D26: 670 | E26: 64 | G26: 8.25 | H26: =ROUND(E26*G26*2,2) -> 1056 | I26: =ROUND(H26*1.2359,2) -> 1305.11
A27: Virsmāsas vietnieks | B27: 1 | C27: =D27+E27 -> 686 | D27: 670 | E27: 16 | G27: 8.25 | H27: =ROUND(E27*G27*2,2) -> 264 | I27: =ROUND(H27*1.2359,2) -> 326.28
A28: Māsa | B28: 1 | C28: =D28+E28 -> 696 | D28: 670 | E28: 26 | G28: 8.25 | H28: =ROUND(E28*G28*2,2) -> 429 | I28: =ROUND(H28*1.2359,2) -> 530.2
A29: Māsa | B29: 1 | C29: =D29+E29 -> 680 | D29: 670 | E29: 10 | G29: 8.25 | H29: =ROUND(E29*G29*2,2) -> 165 | I29: =ROUND(H29*1.2359,2) -> 203.92
A30: Māsa | B30: 1 | C30: =D30+E30 -> 688 | D30: 670 | E30: 18 | G30: 7.86 | H30: =ROUND(E30*G30*2,2) -> 282.96 | I30: =ROUND(H30*1.2359,2) -> 349.71
A31: Ārstniecības un pacientu aprūpes atbalsta personas, māsu palīgi, zobārstu aistenti, kopā, tai skaitā: | B31: =SUM(B32) -> 1 | E31: =SUM(E32) -> 6 | H31: =SUM(H32) -> 53.52 | I31: =SUM(I32) -> 66.15
A32: Māsas palīgs | B32: 1 | C32: =D32+E32 -> 676 | D32: 670 | E32: 6 | G32: 4.46 | H32: =ROUND(E32*G32*2,2) -> 53.52 | I32: =ROUND(H32*1.2359,2) -> 66.15
A33: Pārējie darbinieki, kuri tieši iesaistīti darbā ar Covid-19, kopā, tai skaitā: | B33: =SUM(B34:B39) -> 6 | E33: =SUM(E34:E39) -> 226.5 | H33: =SUM(H34:H39) -> 1959.56 | I33: =SUM(I34:I39) -> 2421.82
A34: Automobiļa vadītājs | B34: 1 | C34: =D34+E34 -> 674 | D34: 670 | E34: 4 | G34: 5 | H34: =ROUND(E34*G34*2,2) -> 40 | I34: =ROUND(H34*1.2359,2) -> 49.44
A35: Automobiļa vadītājs | B35: 1 | C35: =D35+E35 -> 708.5 | D35: 670 | E35: 38.5 | G35: 5 | H35: =ROUND(E35*G35*2,2) -> 385 | I35: =ROUND(H35*1.2359,2) -> 475.82
A36: Noslēguma dezinfekciju veicējs | B36: 1 | C36: =D36+E36 -> 696 | D36: 670 | E36: 26 | G36: 4.17 | H36: =ROUND(E36*G36*2,2) -> 216.84 | I36: =ROUND(H36*1.2359,2) -> 267.99
A37: Noslēguma dezinfekciju veicējs | B37: 1 | C37: =D37+E37 -> 744 | D37: 670 | E37: 74 | G37: 4.17 | H37: =ROUND(E37*G37*2,2) -> 617.16 | I37: =ROUND(H37*1.2359,2) -> 762.75
A38: Noslēguma dezinfekciju veicējs | B38: 1 | C38: =D38+E38 -> 704 | D38: 670 | E38: 34 | G38: 4.17 | H38: =ROUND(E38*G38*2,2) -> 283.56 | I38: =ROUND(H38*1.2359,2) -> 350.45
A39: Noslēguma dezinfekciju veicējs | B39: 1 | C39: =D39+E39 -> 720 | D39: 670 | E39: 50 | G39: 4.17 | H39: =ROUND(E39*G39*2,2) -> 417 | I39: =ROUND(H39*1.2359,2) -> 515.37

Sheet RAKUS_maijs_aug
H1: 1.2.Pielikums
A2: Pārskats par darba veicējiem (ārstniecības personām), virs normālā darba laika nostrādātām stundām, apmaksājamām stundām un izdevumiem, kas radušies saistībā ar mērķi ierobežot Covid-19 izplatību
A4: Iestādes nosaukums: SIA “Rīgas Austrumu klīniskās universitātes slimnīca”
A5: Pārskata mēnesis : Maijs - Augusts
B7: Nodarbināto skaits mēnesī | C7: Apmaksājamais laiks mēnesī, stundas (tai skaitā summētā darba laika ietvaros) | F7: Mēnešalga no kuras rēķina stundas likmi | G7: Stundas likme (aprēķināta atbilstoši mēnešalgai vai darba līgumā noteiktā stundas likme) | H7: Apmaksājamā 100% piemaksa par nostrādātām virsstundām virs normālā darba laika (tai skaitā summētā darba laika ietvaros) | I7: Izdevumi par virsstundām kopā ar VSOAI, EUR
C8: Kopā | D8: līdz normālam darba laikam | E8: virsstundas - virs normālā darba laika, kas saistītas ar darbu ar Covid-19
A10: 1 | B10: 2 | C10: 3=4+5 | D10: 4 | E10: 5 | F10: 6 | G10: 7 | H10: 8 | I10: 9=8 +VSOAI
A11: KOPĀ | B11: =B12+B508+B1148+B1026 -> 1303 | E11: =E12+E508+E1148+E1026 -> 95337.663 | H11: =H12+H508+H1148+H1026 -> 1645963.8 | I11: =I12+I508+I1148+I1026 -> 2034246.8
A12: Ārsti, zobārsti un funkcionālie speciālisti, kopā, tai skaitā: | B12: =SUM(B13:B507) -> 495 | E12: =SUM(E13:E507) -> 45352.315 | H12: =SUM(H13:H507) -> 983767.4 | I12: =SUM(I13:I507) -> 1215838.1
A13: Anesteziologs, reanimatologs | B13: 1 | C13: =D13+E13 -> 312 | D13: 311.25 | E13: 0.75 | F13: 2952 | G13: =ROUND(F13/167.42,4) -> 17.6323 | H13: =ROUND(E13*G13*2,2) -> 26.45 | I13: =ROUND(H13*1.2359,2) -> 32.69
A14: Anesteziologs, reanimatologs | B14: 1 | C14: =D14+E14 -> 618 | D14: 599 | E14: 19 | F14: 2952 | G14: =ROUND(F14/167.42,4) -> 17.6323 | H14: =ROUND(E14*G14*2,2) -> 670.03 | I14: =ROUND(H14*1.2359,2) -> 828.09
A15: Anesteziologs, reanimatologs | B15: 1 | C15: =D15+E15 -> 574 | D15: 566 | E15: 8 | F15: 2952 | G15: =ROUND(F15/167.42,4) -> 17.6323 | H15: =ROUND(E15*G15*2,2) -> 282.12 | I15: =ROUND(H15*1.2359,2) -> 348.67
A16: Anesteziologs, reanimatologs | B16: 1 | C16: =D16+E16 -> 439 | D16: 430 | E16: 9 | F16: 2952 | G16: =ROUND(F16/167.42,4) -> 17.6323 | H16: =ROUND(E16*G16*2,2) -> 317.38 | I16: =ROUND(H16*1.2359,2) -> 392.25
A17: Anesteziologs, reanimatologs | B17: 1 | C17: =D17+E17 -> 518 | D17: 494 | E17: 24 | F17: 2952 | G17: =ROUND(F17/167.42,4) -> 17.6323 | H17: =ROUND(E17*G17*2,2) -> 846.35 | I17: =ROUND(H17*1.2359,2) -> 1046
A18: Anesteziologs, reanimatologs | B18: 1 | C18: =D18+E18 -> 495 | D18: 471 | E18: 24 | F18: 2952 | G18: =ROUND(F18/167.42,4) -> 17.6323 | H18: =ROUND(E18*G18*2,2) -> 846.35 | I18: =ROUND(H18*1.2359,2) -> 1046
A19: Anesteziologs, reanimatologs | B19: 1 | C19: =D19+E19 -> 574 | D19: 566 | E19: 8 | F19: 2952 | G19: =ROUND(F19/167.42,4) -> 17.6323 | H19: =ROUND(E19*G19*2,2) -> 282.12 | I19: =ROUND(H19*1.2359,2) -> 348.67
A20: Anesteziologs, reanimatologs | B20: 1 | C20: =D20+E20 -> 809 | D20: 590 | E20: 219 | F20: 1993 | G20: =ROUND(F20/167.42,4) -> 11.9042 | H20: =ROUND(E20*G20*2,2) -> 5214.04 | I20: =ROUND(H20*1.2359,2) -> 6444.03
A21: Anesteziologs, reanimatologs | B21: 1 | C21: =D21+E21 -> 820 | D21: 566 | E21: 254 | F21: 1993 | G21: =ROUND(F21/167.42,4) -> 11.9042 | H21: =ROUND(E21*G21*2,2) -> 6047.33 | I21: =ROUND(H21*1.2359,2) -> 7473.9
A22: Anesteziologs, reanimatologs | B22: 1 | C22: =D22+E22 -> 791 | D22: 670 | E22: 121 | F22: 1993 | G22: =ROUND(F22/167.42,4) -> 11.9042 | H22: =ROUND(E22*G22*2,2) -> 2880.82 | I22: =ROUND(H22*1.2359,2) -> 3560.41
A23: Anesteziologs, reanimatologs | B23: 1 | C23: =D23+E23 -> 549 | D23: 423 | E23: 126 | F23: 1993 | G23: =ROUND(F23/167.42,4) -> 11.9042 | H23: =ROUND(E23*G23*2,2) -> 2999.86 | I23: =ROUND(H23*1.2359,2) -> 3707.53
A24: Anesteziologs, reanimatologs | B24: 1 | C24: =D24+E24 -> 388 | D24: 283 | E24: 105 | F24: 1993 | G24: =ROUND(F24/167.42,4) -> 11.9042 | H24: =ROUND(E24*G24*2,2) -> 2499.88 | I24: =ROUND(H24*1.2359,2) -> 3089.6
... A507: Virusoloģijas daļas vadītājs - laboratorijas speciālists | B507: 1 | C507: =D507+E507 -> 670.5 | D507: 614 | E507: 56.5 | F507: 1794 | G507: =ROUND(F507/167.42,4) -> 10.7156 | H507: =ROUND(E507*G507*2,2) -> 1210.86 | I507: =ROUND(H507*1.2359,2) -> 1496.5
A508: Ārstniecības un pacientu aprūpes personas un funkcionālo speciālistu asistenti, kopā, tai skaitā: | B508: =SUM(B509:B1025) -> 517 | E508: =SUM(E509:E1025) -> 32231.071 | H508: =SUM(H509:H1025) -> 486865.06 | I508: =SUM(I509:I1025) -> 601716.68
A509: Anestēzijas, intensīvās un neatliekamās aprūpes māsa | B509: 1 | C509: =D509+E509 -> 534 | D509: 510 | E509: 24 | F509: 1263 | G509: =ROUND(F509/167.42,4) -> 7.5439 | H509: =ROUND(E509*G509*2,2) -> 362.11 | I509: =ROUND(H509*1.2359,2) -> 447.53
A510: Anestēzijas, intensīvās un neatliekamās aprūpes māsa | B510: 1 | C510: =D510+E510 -> 566 | D510: 550 | E510: 16 | F510: 1263 | G510: =ROUND(F510/167.42,4) -> 7.5439 | H510: =ROUND(E510*G510*2,2) -> 241.4 | I510: =ROUND(H510*1.2359,2) -> 298.35
A511: Anestēzijas, intensīvās un neatliekamās aprūpes māsa | B511: 1 | C511: =D511+E511 -> 527 | D511: 511 | E511: 16 | F511: 1263 | G511: =ROUND(F511/167.42,4) -> 7.5439 | H511: =ROUND(E511*G511*2,2) -> 241.4 | I511: =ROUND(H511*1.2359,2) -> 298.35
A512: Anestēzijas, intensīvās un neatliekamās aprūpes māsa | B512: 1 | C512: =D512+E512 -> 528 | D512: 526 | E512: 2 | F512: 1383 | G512: =ROUND(F512/167.42,4) -> 8.2607 | H512: =ROUND(E512*G512*2,2) -> 33.04 | I512: =ROUND(H512*1.2359,2) -> 40.83
A513: Anestēzijas, intensīvās un neatliekamās aprūpes māsa | B513: 1 | C513: =D513+E513 -> 635 | D513: 630 | E513: 5 | F513: 1383 | G513: =ROUND(F513/167.42,4) -> 8.2607 | H513: =ROUND(E513*G513*2,2) -> 82.61 | I513: =ROUND(H513*1.2359,2) -> 102.1
A514: Anestēzijas, intensīvās un neatliekamās aprūpes māsa | B514: 1 | C514: =D514+E514 -> 592 | D514: 590 | E514: 2 | F514: 1383 | G514: =ROUND(F514/167.42,4) -> 8.2607 | H514: =ROUND(E514*G514*2,2) -> 33.04 | I514: =ROUND(H514*1.2359,2) -> 40.83
A515: Anestēzijas, intensīvās un neatliekamās aprūpes māsa | B515: 1 | C515: =D515+E515 -> 555 | D515: 550 | E515: 5 | F515: 1383 | G515: =ROUND(F515/167.42,4) -> 8.2607 | H515: =ROUND(E515*G515*2,2) -> 82.61 | I515: =ROUND(H515*1.2359,2) -> 102.1
A516: Anestēzijas, intensīvās un neatliekamās aprūpes māsa | B516: 1 | C516: =D516+E516 -> 551 | D516: 550 | E516: 1 | F516: 1288 | G516: =ROUND(F516/167.42,4) -> 7.6932 | H516: =ROUND(E516*G516*2,2) -> 15.39 | I516: =ROUND(H516*1.2359,2) -> 19.02
A517: Anestēzijas, intensīvās un neatliekamās aprūpes māsa | B517: 1 | C517: =D517+E517 -> 543 | D517: 542 | E517: 1 | F517: 1288 | G517: =ROUND(F517/167.42,4) -> 7.6932 | H517: =ROUND(E517*G517*2,2) -> 15.39 | I517: =ROUND(H517*1.2359,2) -> 19.02
A518: Anestēzijas, intensīvās un neatliekamās aprūpes māsa | B518: 1 | C518: =D518+E518 -> 424 | D518: 423 | E518: 1 | F518: 1288 | G518: =ROUND(F518/167.42,4) -> 7.6932 | H518: =ROUND(E518*G518*2,2) -> 15.39 | I518: =ROUND(H518*1.2359,2) -> 19.02
A519: Anestēzijas, intensīvās un neatliekamās aprūpes māsa | B519: 1 | C519: =D519+E519 -> 615 | D519: 614 | E519: 1 | F519: 1288 | G519: =ROUND(F519/167.42,4) -> 7.6932 | H519: =ROUND(E519*G519*2,2) -> 15.39 | I519: =ROUND(H519*1.2359,2) -> 19.02
A520: Anestēzijas, intensīvās un neatliekamās aprūpes māsa | B520: 1 | C520: =D520+E520 -> 129 | D520: 128 | E520: 1 | F520: 1288 | G520: =ROUND(F520/167.42,4) -> 7.6932 | H520: =ROUND(E520*G520*2,2) -> 15.39 | I520: =ROUND(H520*1.2359,2) -> 19.02
... A1025: Virsmāsa | B1025: 1 | C1025: =D1025+E1025 -> 590 | D1025: 583 | E1025: 7 | F1025: 1470 | G1025: =ROUND(F1025/167.42,4) -> 8.7803 | H1025: =ROUND(E1025*G1025*2,2) -> 122.92 | I1025: =ROUND(H1025*1.2359,2) -> 151.92
A1026: Ārstniecības un pacientu aprūpes atbalsta personas, māsu palīgi, zobārstu aistenti, kopā, tai skaitā: | B1026: =SUM(B1027:B1147) -> 121 | E1026: =SUM(E1027:E1147) -> 8651.0379 | H1026: =SUM(H1027:H1147) -> 88336.39 | I1026: =SUM(I1027:I1147) -> 109174.93
A1027: Māsas palīgs | B1027: 1 | C1027: =D1027+E1027 -> 548.5 | D1027: 542 | E1027: 6.5 | F1027: 1004 | G1027: =ROUND(F1027/167.42,4) -> 5.9969 | H1027: =ROUND(E1027*G1027*2,2) -> 77.96 | I1027: =ROUND(H1027*1.2359,2) -> 96.35
A1028: Māsas palīgs | B1028: 1 | C1028: =D1028+E1028 -> 14.5 | D1028: 0 | E1028: 14.5 | F1028: 828 | G1028: =ROUND(F1028/167.42,4) -> 4.9456 | H1028: =ROUND(E1028*G1028*2,2) -> 143.42 | I1028: =ROUND(H1028*1.2359,2) -> 177.25
A1029: Māsas palīgs | B1029: 1 | C1029: =D1029+E1029 -> 16 | D1029: 0 | E1029: 16 | F1029: 828 | G1029: =ROUND(F1029/167.42,4) -> 4.9456 | H1029: =ROUND(E1029*G1029*2,2) -> 158.26 | I1029: =ROUND(H1029*1.2359,2) -> 195.59
...

Sheet PSKUS_maijs
H1: 1.3.Pielikums
A2: Pārskats par darba veicējiem (ārstniecības personām), virs normālā darba laika nostrādātām stundām, apmaksājamām stundām un izdevumiem, kas radušies saistībā ar mērķi ierobežot Covid-19 izplatību
A4: Iestādes nosaukums: VSIA "Paula Stradiņa klīniskā universitātes slimnīca"
A5: Pārskata mēnesis: Maijs
B7: Nodarbināto skaits mēnesī | C7: Apmaksājamais laiks mēnesī, stundas (tai skaitā summētā darba laika ietvaros) | F7: Mēnešalga no kuras rēķina stundas likmi | G7: Stundas likme (aprēķināta atbilstoši mēnešalgai vai darba līgumā noteiktā stundas likme) | H7: Apmaksājamā 100% piemaksa par nostrādātām virsstundām virs normālā darba laika (tai skaitā summētā darba laika ietvaros) | I7: Izdevumi par virsstundām kopā ar VSAOI, EUR
C8: Kopā | D8: līdz normālam darba laikam | E8: virsstundas - virs normālā darba laika, kas saistītas ar darbu ar Covid-19
A10: 1 | B10: 2 | C10: 3=4+5 | D10: 4 | E10: 5 | F10: 6 | G10: 7 | H10: 8 | I10: 9=8 +VSOAI
A11: KOPĀ | B11: =SUM(B12,B50,B161,B193) -> 260 | E11: =E12+E50+E161+E193 -> 7798 | H11: =H12+H50+H161+H193 -> 118753.04 | I11: =I12+I50+I161+I193 -> 146766.95
A12: Ārsti, zobārsti un funkcionālie speciālisti, kopā, tai skaitā: | B12: =SUM(B13:B49) -> 37 | E12: =SUM(E13:E49) -> 1383 | H12: =SUM(H13:H49) -> 31000.33 | I12: =SUM(I13:I49) -> 38313.33
A13: Atbildīgais ārsts speciālists (diennakts postenis) | B13: 1 | C13: =D13+E13 -> 223 | D13: 159 | E13: 64 | G13: 12.42 | H13: =ROUND(G13*E13*2,2) -> 1589.76 | I13: =ROUND(H13*1.2359,2) -> 1964.78
A14: Atbildīgais ārsts speciālists (diennakts postenis) | B14: 1 | C14: =D14+E14 -> 180 | D14: 159 | E14: 21 | G14: 12.42 | H14: =ROUND(G14*E14*2,2) -> 521.64 | I14: =ROUND(H14*1.2359,2) -> 644.69
A15: Atbildīgais ārsts speciālists (diennakts postenis) | B15: 1 | C15: =D15+E15 -> 165 | D15: 159 | E15: 6 | G15: 12.42 | H15: =ROUND(G15*E15*2,2) -> 149.04 | I15: =ROUND(H15*1.2359,2) -> 184.2
A16: Ārsts anesteziologs, reanimatologs | B16: 1 | C16: =D16+E16 -> 223 | D16: 159 | E16: 64 | G16: 14.75 | H16: =ROUND(G16*E16*2,2) -> 1888 | I16: =ROUND(H16*1.2359,2) -> 2333.38
A17: Ārsts anesteziologs, reanimatologs | B17: 1 | C17: =D17+E17 -> 170 | D17: 159 | E17: 11 | G17: 10.56 | H17: =ROUND(G17*E17*2,2) -> 232.32 | I17: =ROUND(H17*1.2359,2) -> 287.12
A18: Ārsts anesteziologs, reanimatologs | B18: 1 | C18: =D18+E18 -> 207 | D18: 159 | E18: 48 | G18: 14.61 | H18: =ROUND(G18*E18*2,2) -> 1402.56 | I18: =ROUND(H18*1.2359,2) -> 1733.42
A19: Ārsts anesteziologs, reanimatologs | B19: 1 | C19: =D19+E19 -> 191 | D19: 159 | E19: 32 | G19: 14.25 | H19: =ROUND(G19*E19*2,2) -> 912 | I19: =ROUND(H19*1.2359,2) -> 1127.14
A20: Ārsts anesteziologs, reanimatologs | B20: 1 | C20: =D20+E20 -> 197 | D20: 159 | E20: 38 | G20: 14.25 | H20: =ROUND(G20*E20*2,2) -> 1083 | I20: =ROUND(H20*1.2359,2) -> 1338.48
A21: Ārsts ginekologs, dzemdību speciālists | B21: 1 | C21: =D21+E21 -> 192 | D21: 159 | E21: 33 | G21: 10.56 | H21: =ROUND(G21*E21*2,2) -> 696.96 | I21: =ROUND(H21*1.2359,2) -> 861.37
A22: Ārsts ginekologs, dzemdību speciālists | B22: 1 | C22: =D22+E22 -> 192 | D22: 159 | E22: 33 | G22: 10.46 | H22: =ROUND(G22*E22*2,2) -> 690.36 | I22: =ROUND(H22*1.2359,2) -> 853.22
A23: Ārsts ginekologs, dzemdību speciālists | B23: 1 | C23: =D23+E23 -> 196 | D23: 159 | E23: 37 | G23: 10.2 | H23: =ROUND(G23*E23*2,2) -> 754.8 | I23: =ROUND(H23*1.2359,2) -> 932.86
A24: Ārsts internists | B24: 1 | C24: =D24+E24 -> 162 | D24: 159 | E24: 3 | G24: 10.56 | H24: =ROUND(G24*E24*2,2) -> 63.36 | I24: =ROUND(H24*1.2359,2) -> 78.31
... A35: Radiologs diagnosts | B35: 1 | C35: =D35+E35 -> 168 | D35: 159 | E35: 9 | G35: 4.349 | H35: =ROUND(G35*E35*2,2) -> 78.28 | I35: =ROUND(H35*1.2359,2) -> 96.75
A36: Rezidents | B36: 1 | C36: =D36+E36 -> 183 | D36: 159 | E36: 24 | F36: 1572.39 | G36: =F36/167.42 -> 9.3918887 | H36: =ROUND(G36*E36*2,2) -> 450.81 | I36: =ROUND(H36*1.2359,2) -> 557.16
A37: Rezidents | B37: 1 | C37: =D37+E37 -> 212 | D37: 159 | E37: 53 | F37: 1572.39 | G37: =F37/167.42 -> 9.3918887 | H37: =ROUND(G37*E37*2,2) -> 995.54 | I37: =ROUND(H37*1.2359,2) -> 1230.39
A38: Rezidents | B38: 1 | C38: =D38+E38 -> 213 | D38: 159 | E38: 54 | F38: 1572.39 | G38: =F38/167.42 -> 9.3918887 | H38: =ROUND(G38*E38*2,2) -> 1014.32 | I38: =ROUND(H38*1.2359,2) -> 1253.6
A39: Rezidents | B39: 1 | C39: =D39+E39 -> 209 | D39: 159 | E39: 50 | F39: 1429.45 | G39: =F39/167.42 -> 8.5381078 | H39: =ROUND(G39*E39*2,2) -> 853.81 | I39: =ROUND(H39*1.2359,2) -> 1055.22
A40: Rezidents | B40: 1 | C40: =D40+E40 -> 204 | D40: 159 | E40: 45 | F40: 1572.39 | G40: =F40/167.42 -> 9.3918887 | H40: =ROUND(G40*E40*2,2) -> 845.27 | I40: =ROUND(H40*1.2359,2) -> 1044.67
A41: Rezidents | B41: 1 | C41: =D41+E41 -> 175 | D41: 159 | E41: 16 | F41: 1572.39 | G41: =F41/167.42 -> 9.3918887 | H41: =ROUND(G41*E41*2,2) -> 300.54 | I41: =ROUND(H41*1.2359,2) -> 371.44
A42: Rezidents | B42: 1 | C42: =D42+E42 -> 204 | D42: 159 | E42: 45 | F42: 1572.39 | G42: =F42/167.42 -> 9.3918887 | H42: =ROUND(G42*E42*2,2) -> 845.27 | I42: =ROUND(H42*1.2359,2) -> 1044.67
A43: Rezidents | B43: 1 | C43: =D43+E43 -> 212 | D43: 159 | E43: 53 | F43: 1429.45 | G43: =F43/167.42 -> 8.5381078 | H43: =ROUND(G43*E43*2,2) -> 905.04 | I43: =ROUND(H43*1.2359,2) -> 1118.54
A44: Rezidents | B44: 1 | C44: =D44+E44 -> 212 | D44: 159 | E44: 53 | F44: 1429.45 | G44: =F44/167.42 -> 8.5381078 | H44: =ROUND(G44*E44*2,2) -> 905.04 | I44: =ROUND(H44*1.2359,2) -> 1118.54
A45: Rezidents | B45: 1 | C45: =D45+E45 -> 209 | D45: 159 | E45: 50 | F45: 1429.45 | G45: =F45/167.42 -> 8.5381078 | H45: =ROUND(G45*E45*2,2) -> 853.81 | I45: =ROUND(H45*1.2359,2) -> 1055.22
A46: Rezidents | B46: 1 | C46: =D46+E46 -> 200 | D46: 159 | E46: 41 | F46: 1429.45 | G46: =F46/167.42 -> 8.5381078 | H46: =ROUND(G46*E46*2,2) -> 700.12 | I46: =ROUND(H46*1.2359,2) -> 865.28
A47: Virsārsts endokrinologs | B47: 1 | C47: =D47+E47 -> 164 | D47: 159 | E47: 5 | G47: 17.79 | H47: =ROUND(G47*E47*2,2) -> 177.9 | I47: =ROUND(H47*1.2359,2) -> 219.87
A48: Virsārsts intensīvajā terapijā | B48: 1 | C48: =D48+E48 -> 200 | D48: 159 | E48: 41 | G48: 17.53 | H48: =ROUND(G48*E48*2,2) -> 1437.46 | I48: =ROUND(H48*1.2359,2) -> 1776.56
A49: Virsārsts pneimonologs | B49: 1 | C49: =D49+E49 -> 167 | D49: 159 | E49: 8 | G49: 17.79 | H49: =ROUND(G49*E49*2,2) -> 284.64 | I49: =ROUND(H49*1.2359,2) -> 351.79
A50: Ārstniecības un pacientu aprūpes personas un funkcionālo speciālistu asistenti, kopā, tai skaitā: | B50: =SUM(B51:B160) -> 110 | E50: =SUM(E51:E160) -> 3988 | H50: =SUM(H51:H160) -> 61969.75 | I50: =SUM(I51:I160) -> 76588.4
A51: Ambulatorā dienesta ārsta palīgs | B51: 1 | C51: =D51+E51 -> 200 | D51: 159 | E51: 41 | G51: 7.45 | H51: =ROUND(G51*E51*2,2) -> 610.9 | I51: =ROUND(H51*1.2359,2) -> 755.01
A52: Ambulatorā dienesta ārsta palīgs | B52: 1 | C52: =D52+E52 -> 200 | D52: 159 | E52: 41 | G52: 7.2 | H52: =ROUND(G52*E52*2,2) -> 590.4 | I52: =ROUND(H52*1.2359,2) -> 729.68
A53: Ambulatorā dienesta ārsta palīgs | B53: 1 | C53: =D53+E53 -> 163 | D53: 159 | E53: 4 | G53: 7.2 | H53: =ROUND(G53*E53*2,2) -> 57.6 | I53: =ROUND(H53*1.2359,2) -> 71.19
...

Sheet PSKUS_jūn
H1: 1.4.Pielikums
A2: Pārskats par darba veicējiem (ārstniecības personām), virs normālā darba laika nostrādātām stundām, apmaksājamām stundām un izdevumiem, kas radušies saistībā ar mērķi ierobežot Covid-19 izplatību
A4: Iestādes nosaukums: VSIA "Paula Stradiņa klīniskā universitātes slimnīca"
A5: Pārskata mēnesis: Jūnijs
B7: Nodarbināto skaits mēnesī | C7: Apmaksājamais laiks mēnesī, stundas (tai skaitā summētā darba laika ietvaros) | F7: Mēnešalga no kuras rēķina stundas likmi | G7: Stundas likme (aprēķināta atbilstoši mēnešalgai vai darba līgumā noteiktā stundas likme) | H7: Apmaksājamā 100% piemaksa par nostrādātām virsstundām virs normālā darba laika (tai skaitā summētā darba laika ietvaros) | I7: Izdevumi par virsstundām kopā ar VSAOI, EUR
C8: Kopā | D8: līdz normālam darba laikam | E8: virsstundas - virs normālā darba laika, kas saistītas ar darbu ar Covid-19
A10: 1 | B10: 2 | C10: 3=4+5 | D10: 4 | E10: 5 | F10: 6 | G10: 7 | H10: 8 | I10: 9=8 +VSOAI
A11: KOPĀ | B11: =SUM(B12,B53,B128,B147) -> 203 | E11: =E12+E53+E128+E147 -> 4941 | H11: =H12+H53+H128+H147 -> 77739.5 | I11: =I12+I53+I128+I147 -> 96078.27
A12: Ārsti, zobārsti un funkcionālie speciālisti, kopā, tai skaitā: | B12: =SUM(B13:B52) -> 40 | E12: =SUM(E13:E52) -> 1191 | H12: =SUM(H13:H52) -> 28477.59 | I12: =SUM(I13:I52) -> 35195.44
A13: Atbildīgais ārsts speciālists (diennakts postenis) | B13: 1 | C13: =D13+E13 -> 220 | D13: 159 | E13: 61 | G13: 12.42 | H13: =ROUND(G13*E13*2,2) -> 1515.24 | I13: =ROUND(H13*1.2359,2) -> 1872.69
A14: Atbildīgais ārsts speciālists (diennakts postenis) | B14: 1 | C14: =D14+E14 -> 196 | D14: 159 | E14: 37 | G14: 12.42 | H14: =ROUND(G14*E14*2,2) -> 919.08 | I14: =ROUND(H14*1.2359,2) -> 1135.89
A15: Ārsts anesteziologs, reanimatologs | B15: 1 | C15: =D15+E15 -> 223 | D15: 159 | E15: 64 | G15: 14.75 | H15: =ROUND(G15*E15*2,2) -> 1888 | I15: =ROUND(H15*1.2359,2) -> 2333.38
A16: Ārsts anesteziologs, reanimatologs | B16: 1 | C16: =D16+E16 -> 181 | D16: 159 | E16: 22 | G16: 14.75 | H16: =ROUND(G16*E16*2,2) -> 649 | I16: =ROUND(H16*1.2359,2) -> 802.1
A17: Ārsts anesteziologs, reanimatologs | B17: 1 | C17: =D17+E17 -> 174 | D17: 159 | E17: 15 | G17: 10.56 | H17: =ROUND(G17*E17*2,2) -> 316.8 | I17: =ROUND(H17*1.2359,2) -> 391.53
A18: Ārsts anesteziologs, reanimatologs | B18: 1 | C18: =D18+E18 -> 182 | D18: 159 | E18: 23 | G18: 14.75 | H18: =ROUND(G18*E18*2,2) -> 678.5 | I18: =ROUND(H18*1.2359,2) -> 838.56
A19: Ārsts anesteziologs, reanimatologs | B19: 1 | C19: =D19+E19 -> 221 | D19: 159 | E19: 62 | G19: 14.75 | H19: =ROUND(G19*E19*2,2) -> 1829 | I19: =ROUND(H19*1.2359,2) -> 2260.46
A20: Ārsts anesteziologs, reanimatologs | B20: 1 | C20: =D20+E20 -> 179 | D20: 159 | E20: 20 | G20: 10.46 | H20: =ROUND(G20*E20*2,2) -> 418.4 | I20: =ROUND(H20*1.2359,2) -> 517.1
A21: Ārsts anesteziologs, reanimatologs | B21: 1 | C21: =D21+E21 -> 223 | D21: 159 | E21: 64 | G21: 14.25 | H21: =ROUND(G21*E21*2,2) -> 1824 | I21: =ROUND(H21*1.2359,2) -> 2254.28
A22: Ārsts anesteziologs, reanimatologs | B22: 1 | C22: =D22+E22 -> 202 | D22: 159 | E22: 43 | G22: 14.25 | H22: =ROUND(G22*E22*2,2) -> 1225.5 | I22: =ROUND(H22*1.2359,2) -> 1514.6
A23: Ārsts ginekologs, dzemdību speciālists | B23: 1 | C23: =D23+E23 -> 168 | D23: 159 | E23: 9 | G23: 10.56 | H23: =ROUND(G23*E23*2,2) -> 190.08 | I23: =ROUND(H23*1.2359,2) -> 234.92
A24: Ārsts ginekologs, dzemdību speciālists | B24: 1 | C24: =D24+E24 -> 174 | D24: 159 | E24: 15 | G24: 10.56 | H24: =ROUND(G24*E24*2,2) -> 316.8 | I24: =ROUND(H24*1.2359,2) -> 391.53
... A39: Radiologs diagnosts | B39: 1 | C39: =D39+E39 -> 160 | D39: 159 | E39: 1 | G39: 4.349 | H39: =ROUND(G39*E39*2,2) -> 8.7 | I39: =ROUND(H39*1.2359,2) -> 10.75
A40: Rezidents | B40: 1 | C40: =D40+E40 -> 212 | D40: 159 | E40: 53 | F40: 1572.39 | G40: =F40/167.42 -> 9.3918887 | H40: =ROUND(G40*E40*2,2) -> 995.54 | I40: =ROUND(H40*1.2359,2) -> 1230.39
A41: Rezidents | B41: 1 | C41: =D41+E41 -> 181 | D41: 159 | E41: 22 | F41: 1572.39 | G41: =F41/167.42 -> 9.3918887 | H41: =ROUND(G41*E41*2,2) -> 413.24 | I41: =ROUND(H41*1.2359,2) -> 510.72
A42: Rezidents | B42: 1 | C42: =D42+E42 -> 204 | D42: 159 | E42: 45 | F42: 1572.39 | G42: =F42/167.42 -> 9.3918887 | H42: =ROUND(G42*E42*2,2) -> 845.27 | I42: =ROUND(H42*1.2359,2) -> 1044.67
A43: Rezidents | B43: 1 | C43: =D43+E43 -> 179 | D43: 159 | E43: 20 | F43: 1572.39 | G43: =F43/167.42 -> 9.3918887 | H43: =ROUND(G43*E43*2,2) -> 375.68 | I43: =ROUND(H43*1.2359,2) -> 464.3
A44: Rezidents | B44: 1 | C44: =D44+E44 -> 187 | D44: 159 | E44: 28 | F44: 1572.39 | G44: =F44/167.42 -> 9.3918887 | H44: =ROUND(G44*E44*2,2) -> 525.95 | I44: =ROUND(H44*1.2359,2) -> 650.02
A45: Rezidents | B45: 1 | C45: =D45+E45 -> 181 | D45: 159 | E45: 22 | F45: 1572.39 | G45: =F45/167.42 -> 9.3918887 | H45: =ROUND(G45*E45*2,2) -> 413.24 | I45: =ROUND(H45*1.2359,2) -> 510.72
A46: Rezidents | B46: 1 | C46: =D46+E46 -> 200 | D46: 159 | E46: 41 | F46: 1572.39 | G46: =F46/167.42 -> 9.3918887 | H46: =ROUND(G46*E46*2,2) -> 770.13 | I46: =ROUND(H46*1.2359,2) -> 951.8
A47: Rezidents | B47: 1 | C47: =D47+E47 -> 169 | D47: 159 | E47: 10 | F47: 1429.45 | G47: =F47/167.42 -> 8.5381078 | H47: =ROUND(G47*E47*2,2) -> 170.76 | I47: =ROUND(H47*1.2359,2) -> 211.04
A48: Rezidents | B48: 1 | C48: =D48+E48 -> 203 | D48: 159 | E48: 44 | F48: 1429.45 | G48: =F48/167.42 -> 8.5381078 | H48: =ROUND(G48*E48*2,2) -> 751.35 | I48: =ROUND(H48*1.2359,2) -> 928.59
A49: Rezidents | B49: 1 | C49: =D49+E49 -> 183 | D49: 159 | E49: 24 | F49: 1429.45 | G49: =F49/167.42 -> 8.5381078 | H49: =ROUND(G49*E49*2,2) -> 409.83 | I49: =ROUND(H49*1.2359,2) -> 506.51
A50: Virsārsts endokrinologs | B50: 1 | C50: =D50+E50 -> 174 | D50: 159 | E50: 15 | G50: 17.79 | H50: =ROUND(G50*E50*2,2) -> 533.7 | I50: =ROUND(H50*1.2359,2) -> 659.6
A51: Virsārsts intensīvajā terapijā | B51: 1 | C51: =D51+E51 -> 200 | D51: 159 | E51: 41 | G51: 17.53 | H51: =ROUND(G51*E51*2,2) -> 1437.46 | I51: =ROUND(H51*1.2359,2) -> 1776.56
A52: Virsārsts pneimonologs | B52: 1 | C52: =D52+E52 -> 168 | D52: 159 | E52: 9 | G52: 17.79 | H52: =ROUND(G52*E52*2,2) -> 320.22 | I52: =ROUND(H52*1.2359,2) -> 395.76
A53: Ārstniecības un pacientu aprūpes personas un funkcionālo speciālistu asistenti, kopā, tai skaitā: | B53: =SUM(B54:B127) -> 74 | E53: =SUM(E54:E127) -> 2126 | H53: =SUM(H54:H127) -> 31768.37 | I53: =SUM(I54:I127) -> 39262.53
A54: Ambulatorā dienesta ārsta palīgs | B54: 1 | C54: =D54+E54 -> 175 | D54: 159 | E54: 16 | G54: 7.45 | H54: =ROUND(G54*E54*2,2) -> 238.4 | I54: =ROUND(H54*1.2359,2) -> 294.64
A55: Ambulatorā dienesta ārsta palīgs | B55: 1 | C55: =D55+E55 -> 200 | D55: 159 | E55: 41 | G55: 7.2 | H55: =ROUND(G55*E55*2,2) -> 590.4 | I55: =ROUND(H55*1.2359,2) -> 729.68
A56: Ambulatorās aprūpes ārsta palīgs | B56: 1 | C56: =D56+E56 -> 188 | D56: 159 | E56: 29 | G56: 9.29 | H56: =ROUND(G56*E56*2,2) -> 538.82 | I56: =ROUND(H56*1.2359,2) -> 665.93
A57: Ambulatorās aprūpes māsa | B57: 1 | C57: =D57+E57 -> 160 | D57: 159 | E57: 1 | G57: 9.47 | H57: =ROUND(G57*E57*2,2) -> 18.94 | I57: =ROUND(H57*1.2359,2) -> 23.41
...

Sheet PSKUS_jūl
H1: 1.5.Pielikums
A2: Pārskats par darba veicējiem (ārstniecības personām), virs normālā darba laika nostrādātām stundām, apmaksājamām stundām un izdevumiem, kas radušies saistībā ar mērķi ierobežot Covid-19 izplatību
A4: Iestādes nosaukums: VSIA "Paula Stradiņa klīniskā universitātes slimnīca"
A5: Pārskata mēnesis: Jūlijs
B7: Nodarbināto skaits mēnesī | C7: Apmaksājamais laiks mēnesī, stundas (tai skaitā summētā darba laika ietvaros) | F7: Mēnešalga no kuras rēķina stundas likmi | G7: Stundas likme (aprēķināta atbilstoši mēnešalgai vai darba līgumā noteiktā stundas likme) | H7: Apmaksājamā 100% piemaksa par nostrādātām virsstundām virs normālā darba laika (tai skaitā summētā darba laika ietvaros) | I7: Izdevumi par virsstundām kopā ar VSAOI, EUR
C8: Kopā | D8: līdz normālam darba laikam | E8: virsstundas - virs normālā darba laika, kas saistītas ar darbu ar Covid-19
A10: 1 | B10: 2 | C10: 3=4+5 | D10: 4 | E10: 5 | F10: 6 | G10: 7 | H10: 8 | I10: 9=8 +VSOAI
A11: KOPĀ | B11: =SUM(B12,B38,B82,B89) -> 117 | E11: =E12+E38+E82+E89 -> 2896 | H11: =H12+H38+H82+H89 -> 40019.45 | I11: =I12+I38+I82+I89 -> 49460.08
A12: Ārsti, zobārsti un funkcionālie speciālisti, kopā, tai skaitā: | B12: =COUNTA(A13:A37) -> 25 | E12: =SUM(E13:E37) -> 603 | H12: =SUM(H13:H37) -> 12701.83 | I12: =SUM(I13:I37) -> 15698.2
A13: Atbildīgais ārsts speciālists (diennakts postenis) | B13: 1 | C13: =D13+E13 -> 240 | D13: 176 | E13: 64 | G13: 12.42 | H13: =ROUND(G13*E13*2,2) -> 1589.76 | I13: =ROUND(H13*1.2359,2) -> 1964.78
A14: Atbildīgais ārsts speciālists (diennakts postenis) | B14: 1 | C14: =D14+E14 -> 180 | D14: 176 | E14: 4 | G14: 12.42 | H14: =ROUND(G14*E14*2,2) -> 99.36 | I14: =ROUND(H14*1.2359,2) -> 122.8
A15: Ārsts | B15: 1 | C15: =D15+E15 -> 180 | D15: 176 | E15: 4 | G15: 8.54 | H15: =ROUND(G15*E15*2,2) -> 68.32 | I15: =ROUND(H15*1.2359,2) -> 84.44
A16: Ārsts anesteziologs, reanimatologs | B16: 1 | C16: =D16+E16 -> 199 | D16: 176 | E16: 23 | G16: 14.75 | H16: =ROUND(G16*E16*2,2) -> 678.5 | I16: =ROUND(H16*1.2359,2) -> 838.56
A17: Ārsts anesteziologs, reanimatologs | B17: 1 | C17: =D17+E17 -> 195 | D17: 176 | E17: 19 | G17: 10.56 | H17: =ROUND(G17*E17*2,2) -> 401.28 | I17: =ROUND(H17*1.2359,2) -> 495.94
A18: Ārsts anesteziologs, reanimatologs | B18: 1 | C18: =D18+E18 -> 200 | D18: 176 | E18: 24 | G18: 14.75 | H18: =ROUND(G18*E18*2,2) -> 708 | I18: =ROUND(H18*1.2359,2) -> 875.02
A19: Ārsts anesteziologs, reanimatologs | B19: 1 | C19: =D19+E19 -> 194 | D19: 176 | E19: 18 | G19: 10.46 | H19: =ROUND(G19*E19*2,2) -> 376.56 | I19: =ROUND(H19*1.2359,2) -> 465.39
A20: Ārsts ginekologs, dzemdību speciālists | B20: 1 | C20: =D20+E20 -> 188 | D20: 176 | E20: 12 | G20: 10.56 | H20: =ROUND(G20*E20*2,2) -> 253.44 | I20: =ROUND(H20*1.2359,2) -> 313.23
A21: Ārsts ginekologs, dzemdību speciālists | B21: 1 | C21: =D21+E21 -> 184 | D21: 176 | E21: 8 | G21: 10.56 | H21: =ROUND(G21*E21*2,2) -> 168.96 | I21: =ROUND(H21*1.2359,2) -> 208.82
A22: Ārsts ginekologs, dzemdību speciālists | B22: 1 | C22: =D22+E22 -> 200 | D22: 176 | E22: 24 | G22: 10.46 | H22: =ROUND(G22*E22*2,2) -> 502.08 | I22: =ROUND(H22*1.2359,2) -> 620.52
A23: Ārsts ginekologs, dzemdību speciālists | B23: 1 | C23: =D23+E23 -> 236 | D23: 176 | E23: 60 | G23: 10.2 | H23: =ROUND(G23*E23*2,2) -> 1224 | I23: =ROUND(H23*1.2359,2) -> 1512.74
A24: Ārsts ginekologs, dzemdību speciālists | B24: 1 | C24: =D24+E24 -> 184 | D24: 176 | E24: 8 | G24: 10.2 | H24: =ROUND(G24*E24*2,2) -> 163.2 | I24: =ROUND(H24*1.2359,2) -> 201.7
... A34: Radiologs diagnosts | B34: 1 | C34: =D34+E34 -> 200 | D34: 176 | E34: 24 | G34: 4.349 | H34: =ROUND(G34*E34*2,2) -> 208.75 | I34: =ROUND(H34*1.2359,2) -> 257.99
A35: Rezidents | B35: 1 | C35: =D35+E35 -> 179 | D35: 176 | E35: 3 | F35: 1572.39 | G35: =F35/167.42 -> 9.3918887 | H35: =ROUND(G35*E35*2,2) -> 56.35 | I35: =ROUND(H35*1.2359,2) -> 69.64
A36: Rezidents | B36: 1 | C36: =D36+E36 -> 217 | D36: 176 | E36: 41 | F36: 1572.39 | G36: =F36/167.42 -> 9.3918887 | H36: =ROUND(G36*E36*2,2) -> 770.13 | I36: =ROUND(H36*1.2359,2) -> 951.8
A37: Rezidents | B37: 1 | C37: =D37+E37 -> 185 | D37: 176 | E37: 9 | F37: 1429.45 | G37: =F37/167.42 -> 8.5381078 | H37: =ROUND(G37*E37*2,2) -> 153.69 | I37: =ROUND(H37*1.2359,2) -> 189.95
A38: Ārstniecības un pacientu aprūpes personas un funkcionālo speciālistu asistenti, kopā, tai skaitā: | B38: =SUM(B39:B81) -> 43 | E38: =SUM(E39:E81) -> 1251 | H38: =SUM(H39:H81) -> 16132.98 | I38: =SUM(I39:I81) -> 19938.78
A39: Ārsta epidemiologa palīgs | B39: 1 | C39: =D39+E39 -> 208 | D39: 176 | E39: 32 | F39: 1242 | G39: =ROUND(F39/176,3) -> 7.057 | H39: =ROUND(G39*E39*2,2) -> 451.65 | I39: =ROUND(H39*1.2359,2) -> 558.19
A40: Ambulatorā dienesta ārsta palīgs | B40: 1 | C40: =D40+E40 -> 184 | D40: 176 | E40: 8 | G40: 7.45 | H40: =ROUND(G40*E40*2,2) -> 119.2 | I40: =ROUND(H40*1.2359,2) -> 147.32
A41: Ambulatorā dienesta ārsta palīgs | B41: 1 | C41: =D41+E41 -> 200 | D41: 176 | E41: 24 | G41: 7.2 | H41: =ROUND(G41*E41*2,2) -> 345.6 | I41: =ROUND(H41*1.2359,2) -> 427.13
A42: Anestēzijas, intensīvās un neatliekamās aprūpes māsa | B42: 1 | C42: =D42+E42 -> 216 | D42: 176 | E42: 40 | G42: 7.45 | H42: =ROUND(G42*E42*2,2) -> 596 | I42: =ROUND(H42*1.2359,2) -> 736.6
A43: Anestēzijas, intensīvās un neatliekamās aprūpes māsa | B43: 1 | C43: =D43+E43 -> 201 | D43: 176 | E43: 25 | G43: 9.47 | H43: =ROUND(G43*E43*2,2) -> 473.5 | I43: =ROUND(H43*1.2359,2) -> 585.2
A44: Anestēzijas, intensīvās un neatliekamās aprūpes māsa | B44: 1 | C44: =D44+E44 -> 225 | D44: 176 | E44: 49 | G44: 9.38 | H44: =ROUND(G44*E44*2,2) -> 919.24 | I44: =ROUND(H44*1.2359,2) -> 1136.09
A45: Anestēzijas, intensīvās un neatliekamās aprūpes māsa | B45: 1 | C45: =D45+E45 -> 228 | D45: 176 | E45: 52 | G45: 7.45 | H45: =ROUND(G45*E45*2,2) -> 774.8 | I45: =ROUND(H45*1.2359,2) -> 957.58
A46: Anestēzijas, intensīvās un neatliekamās aprūpes māsa | B46: 1 | C46: =D46+E46 -> 184 | D46: 176 | E46: 8 | G46: 7.38 | H46: =ROUND(G46*E46*2,2) -> 118.08 | I46: =ROUND(H46*1.2359,2) -> 145.94
A47: Anestēzijas, intensīvās un neatliekamās aprūpes māsa | B47: 1 | C47: =D47+E47 -> 224 | D47: 176 | E47: 48 | G47: 7.45 | H47: =ROUND(G47*E47*2,2) -> 715.2 | I47: =ROUND(H47*1.2359,2) -> 883.92
A48: Anestēzijas, intensīvās un neatliekamās aprūpes māsa | B48: 1 | C48: =D48+E48 -> 180 | D48: 176 | E48: 4 | G48: 7.45 | H48: =ROUND(G48*E48*2,2) -> 59.6 | I48: =ROUND(H48*1.2359,2) -> 73.66
A49: Anestēzijas, intensīvās un neatliekamās aprūpes māsa | B49: 1 | C49: =D49+E49 -> 180 | D49: 176 | E49: 4 | G49: 7.45 | H49: =ROUND(G49*E49*2,2) -> 59.6 | I49: =ROUND(H49*1.2359,2) -> 73.66
A50: Anestēzijas, intensīvās un neatliekamās aprūpes māsa | B50: 1 | C50: =D50+E50 -> 240 | D50: 176 | E50: 64 | G50: 7.45 | H50: =ROUND(G50*E50*2,2) -> 953.6 | I50: =ROUND(H50*1.2359,2) -> 1178.55
A51: Anestēzijas, intensīvās un neatliekamās aprūpes māsa | B51: 1 | C51: =D51+E51 -> 184 | D51: 176 | E51: 8 | G51: 7.31 | H51: =ROUND(G51*E51*2,2) -> 116.96 | I51: =ROUND(H51*1.2359,2) -> 144.55
... A81: Radiologa asistents | B81: 1 | C81: =D81+E81 -> 224 | D81: 176 | E81: 48 | G81: 2.711 | H81: =ROUND(G81*E81*2,2) -> 260.26 | I81: =ROUND(H81*1.2359,2) -> 321.66
...

Sheet PSKUS_aug
H1: 1.6.Pielikums
A2: Pārskats par darba veicējiem (ārstniecības personām), virs normālā darba laika nostrādātām stundām, apmaksājamām stundām un izdevumiem, kas radušies saistībā ar mērķi ierobežot Covid-19 izplatību
A4: Iestādes nosaukums: VSIA "Paula Stradiņa klīniskā universitātes slimnīca"
A5: Pārskata mēnesis: Augusts
B7: Nodarbināto skaits mēnesī | C7: Apmaksājamais laiks mēnesī, stundas (tai skaitā summētā darba laika ietvaros) | F7: Mēnešalga no kuras rēķina stundas likmi | G7: Stundas likme (aprēķināta atbilstoši mēnešalgai vai darba līgumā noteiktā stundas likme) | H7: Apmaksājamā 100% piemaksa par nostrādātām virsstundām virs normālā darba laika (tai skaitā summētā darba laika ietvaros) | I7: Izdevumi par virsstundām kopā ar VSAOI, EUR
C8: Kopā | D8: līdz normālam darba laikam | E8: virsstundas - virs normālā darba laika, kas saistītas ar darbu ar Covid-19
A10: 1 | B10: 2 | C10: 3=4+5 | D10: 4 | E10: 5 | F10: 6 | G10: 7 | H10: 8 | I10: 9=8 +VSOAI
A11: KOPĀ | B11: =SUM(B12,B39,B86,B90) -> 132 | E11: =E12+E39+E86+E90 -> 2702 | H11: =H12+H39+H86+H90 -> 37288.93 | I11: =I12+I39+I86+I90 -> 46085.37
A12: Ārsti, zobārsti un funkcionālie speciālisti, kopā, tai skaitā: | B12: =SUM(B13:B38) -> 26 | E12: =SUM(E13:E38) -> 603 | H12: =SUM(H13:H38) -> 12068.79 | I12: =SUM(I13:I38) -> 14915.83
A13: Atbildīgais ārsts speciālists (diennakts postenis) | B13: 1 | C13: =D13+E13 -> 232 | D13: 176 | E13: 56 | G13: 12.42 | H13: =ROUND(G13*E13*2,2) -> 1391.04 | I13: =ROUND(H13*1.2359,2) -> 1719.19
A14: Atbildīgais ārsts speciālists (diennakts postenis) | B14: 1 | C14: =D14+E14 -> 178 | D14: 176 | E14: 2 | G14: 12.42 | H14: =ROUND(G14*E14*2,2) -> 49.68 | I14: =ROUND(H14*1.2359,2) -> 61.4
A15: Atbildīgais ārsts speciālists (diennakts postenis) | B15: 1 | C15: =D15+E15 -> 180 | D15: 176 | E15: 4 | G15: 12.42 | H15: =ROUND(G15*E15*2,2) -> 99.36 | I15: =ROUND(H15*1.2359,2) -> 122.8
A16: Ārsts ginekologs, dzemdību speciālists | B16: 1 | C16: =D16+E16 -> 181 | D16: 176 | E16: 5 | G16: 10.56 | H16: =ROUND(G16*E16*2,2) -> 105.6 | I16: =ROUND(H16*1.2359,2) -> 130.51
A17: Ārsts ginekologs, dzemdību speciālists | B17: 1 | C17: =D17+E17 -> 192 | D17: 176 | E17: 16 | G17: 10.46 | H17: =ROUND(G17*E17*2,2) -> 334.72 | I17: =ROUND(H17*1.2359,2) -> 413.68
A18: Ārsts ginekologs, dzemdību speciālists | B18: 1 | C18: =D18+E18 -> 192 | D18: 176 | E18: 16 | G18: 10.2 | H18: =ROUND(G18*E18*2,2) -> 326.4 | I18: =ROUND(H18*1.2359,2) -> 403.4
A19: Ārsts ginekologs, dzemdību speciālists | B19: 1 | C19: =D19+E19 -> 184 | D19: 176 | E19: 8 | G19: 10.2 | H19: =ROUND(G19*E19*2,2) -> 163.2 | I19: =ROUND(H19*1.2359,2) -> 201.7
A20: Ārsts kardiologs | B20: 1 | C20: =D20+E20 -> 220 | D20: 176 | E20: 44 | G20: 10.56 | H20: =ROUND(G20*E20*2,2) -> 929.28 | I20: =ROUND(H20*1.2359,2) -> 1148.5
A21: Ārsts ķirurgs (dežūrām) | B21: 1 | C21: =D21+E21 -> 200 | D21: 176 | E21: 24 | G21: 12.42 | H21: =ROUND(G21*E21*2,2) -> 596.16 | I21: =ROUND(H21*1.2359,2) -> 736.79
A22: Ārsts ķirurgs (dežūrām) | B22: 1 | C22: =D22+E22 -> 200 | D22: 176 | E22: 24 | G22: 12 | H22: =ROUND(G22*E22*2,2) -> 576 | I22: =ROUND(H22*1.2359,2) -> 711.88
A23: Ārsts ķirurgs (dežūrām) | B23: 1 | C23: =D23+E23 -> 196 | D23: 176 | E23: 20 | G23: 12 | H23: =ROUND(G23*E23*2,2) -> 480 | I23: =ROUND(H23*1.2359,2) -> 593.23
A24: Ārsts neirologs | B24: 1 | C24: =D24+E24 -> 208 | D24: 176 | E24: 32 | G24: 9.83 | H24: =ROUND(G24*E24*2,2) -> 629.12 | I24: =ROUND(H24*1.2359,2) -> 777.53
... A33: Radiologs diagnosts | B33: 1 | C33: =D33+E33 -> 205 | D33: 176 | E33: 29 | G33: 4.349 | H33: =ROUND(G33*E33*2,2) -> 252.24 | I33: =ROUND(H33*1.2359,2) -> 311.74
A34: Rezidents | B34: 1 | C34: =D34+E34 -> 200 | D34: 176 | E34: 24 | F34: 1572.39 | G34: =F34/167.42 -> 9.3918887 | H34: =ROUND(G34*E34*2,2) -> 450.81 | I34: =ROUND(H34*1.2359,2) -> 557.16
A35: Rezidents | B35: 1 | C35: =D35+E35 -> 205 | D35: 177 | E35: 28 | F35: 1572.39 | G35: =F35/167.42 -> 9.3918887 | H35: =ROUND(G35*E35*2,2) -> 525.95 | I35: =ROUND(H35*1.2359,2) -> 650.02
A36: Rezidents | B36: 1 | C36: =D36+E36 -> 180 | D36: 176 | E36: 4 | F36: 1429.45 | G36: =F36/167.42 -> 8.5381078 | H36: =ROUND(G36*E36*2,2) -> 68.3 | I36: =ROUND(H36*1.2359,2) -> 84.41
A37: Rezidents | B37: 1 | C37: =D37+E37 -> 200 | D37: 176 | E37: 24 | F37: 1429.45 | G37: =F37/167.42 -> 8.5381078 | H37: =ROUND(G37*E37*2,2) -> 409.83 | I37: =ROUND(H37*1.2359,2) -> 506.51
A38: Rezidents | B38: 1 | C38: =D38+E38 -> 188 | D38: 176 | E38: 12 | F38: 1429.45 | G38: =F38/167.42 -> 8.5381078 | H38: =ROUND(G38*E38*2,2) -> 204.91 | I38: =ROUND(H38*1.2359,2) -> 253.25
A39: Ārstniecības un pacientu aprūpes personas un funkcionālo speciālistu asistenti, kopā, tai skaitā: | B39: =SUM(B40:B85) -> 46 | E39: =SUM(E40:E85) -> 1185 | H39: =SUM(H40:H85) -> 15313.08 | I39: =SUM(I40:I85) -> 18925.43
A40: Ambulatorā dienesta ārsta palīgs | B40: 1 | C40: =D40+E40 -> 208 | D40: 176 | E40: 32 | G40: 7.45 | H40: =ROUND(G40*E40*2,2) -> 476.8 | I40: =ROUND(H40*1.2359,2) -> 589.28
A41: Ambulatorā dienesta ārsta palīgs | B41: 1 | C41: =D41+E41 -> 192 | D41: 176 | E41: 16 | G41: 7.2 | H41: =ROUND(G41*E41*2,2) -> 230.4 | I41: =ROUND(H41*1.2359,2) -> 284.75
A42: Ambulatorā dienesta ārsta palīgs | B42: 1 | C42: =D42+E42 -> 224 | D42: 176 | E42: 48 | G42: 7.2 | H42: =ROUND(G42*E42*2,2) -> 691.2 | I42: =ROUND(H42*1.2359,2) -> 854.25
A43: Ambulatorās aprūpes ārsta palīgs | B43: 1 | C43: =D43+E43 -> 184 | D43: 176 | E43: 8 | G43: 9.29 | H43: =ROUND(G43*E43*2,2) -> 148.64 | I43: =ROUND(H43*1.2359,2) -> 183.7
A44: Anestēzijas, intensīvās un neatliekamās aprūpes māsa | B44: 1 | C44: =D44+E44 -> 228 | D44: 176 | E44: 52 | G44: 7.45 | H44: =ROUND(G44*E44*2,2) -> 774.8 | I44: =ROUND(H44*1.2359,2) -> 957.58
A45: Anestēzijas, intensīvās un neatliekamās aprūpes māsa | B45: 1 | C45: =D45+E45 -> 216 | D45: 176 | E45: 40 | G45: 7.45 | H45: =ROUND(G45*E45*2,2) -> 596 | I45: =ROUND(H45*1.2359,2) -> 736.6
A46: Anestēzijas, intensīvās un neatliekamās aprūpes māsa | B46: 1 | C46: =D46+E46 -> 212 | D46: 176 | E46: 36 | G46: 7.45 | H46: =ROUND(G46*E46*2,2) -> 536.4 | I46: =ROUND(H46*1.2359,2) -> 662.94
A47: Anestēzijas, intensīvās un neatliekamās aprūpes māsa | B47: 1 | C47: =D47+E47 -> 180 | D47: 176 | E47: 4 | G47: 7.45 | H47: =ROUND(G47*E47*2,2) -> 59.6 | I47: =ROUND(H47*1.2359,2) -> 73.66
A48: Anestēzijas, intensīvās un neatliekamās aprūpes māsa | B48: 1 | C48: =D48+E48 -> 180 | D48: 176 | E48: 4 | G48: 7.45 | H48: =ROUND(G48*E48*2,2) -> 59.6 | I48: =ROUND(H48*1.2359,2) -> 73.66
A49: Anestēzijas, intensīvās un neatliekamās aprūpes māsa | B49: 1 | C49: =D49+E49 -> 208 | D49: 176 | E49: 32 | G49: 7.45 | H49: =ROUND(G49*E49*2,2) -> 476.8 | I49: =ROUND(H49*1.2359,2) -> 589.28
A50: Anestēzijas, intensīvās un neatliekamās aprūpes māsa | B50: 1 | C50: =D50+E50 -> 184 | D50: 176 | E50: 8 | G50: 7.45 | H50: =ROUND(G50*E50*2,2) -> 119.2 | I50: =ROUND(H50*1.2359,2) -> 147.32
A51: Atbildīgā medicīnas māsa | B51: 1 | C51: =D51+E51 -> 184 | D51: 176 | E51: 8 | G51: 7.87 | H51: =ROUND(G51*E51*2,2) -> 125.92 | I51: =ROUND(H51*1.2359,2) -> 155.62
...

Sheet Daugavpils_reģ_jūl
H1: 1.7.Pielikums
A2: Pārskats par darba veicējiem (ārstniecības personām), virs normālā darba laika nostrādātām stundām, apmaksājamām stundām un izdevumiem, kas radušies saistībā ar mērķi ierobežot Covid-19 izplatību
A4: Iestādes nosaukums: SIA "Daugavpils reģionālā slimnīca"
A5: Pārskata mēnesis: Jūlijs
B7: Nodarbināto skaits mēnesī | C7: Apmaksājamais laiks mēnesī, stundas (tai skaitā summētā darba laika ietvaros) | F7: Mēnešalga no kuras rēķina stundas likmi | G7: Stundas likme (aprēķināta atbilstoši mēnešalgai vai darba līgumā noteiktā stundas likme) | H7: Apmaksājamā 100% piemaksa par nostrādātām virsstundām virs normālā darba laika (tai skaitā summētā darba laika ietvaros) | I7: Izdevumi par virsstundām kopā ar VSOAI, EUR
C8: Kopā | D8: līdz normālam darba laikam | E8: virsstundas - virs normālā darba laika, kas saistītas ar darbu ar Covid-19
A10: 1 | B10: 2 | C10: 3=4+5 | D10: 4 | E10: 5 | F10: 6 | G10: 7 | H10: 8 | I10: 9=8 +VSOAI
A11: KOPĀ | B11: =B12+B100+B104+B121+B132+B140 -> 124 | E11: =E12+E100+E104+E121+E132+E140 -> 5271.75 | H11: =H12+H100+H104+H121+H132+H140 -> 89662.61 | I11: =I12+I100+I104+I121+I132+I140 -> 110813.99
A12: Centrālā slimnīca "Uzņemšanas nodaļa" | B12: =B13+B51+B88 -> 84 | E12: =E13+E51+E88 -> 4267.75 | H12: =H13+H51+H88 -> 72824.42 | I12: =I13+I51+I88 -> 90003.65
A13: Ārsti, zobārsti un funkcionālie speciālisti, kopā, tai skaitā: | B13: =SUM(B14:B50) -> 37 | E13: =SUM(E14:E50) -> 2959.75 | H13: =SUM(H14:H50) -> 58339.66 | I13: =SUM(I14:I50) -> 72101.96
A14: Ginekologs,dzemdību speciālists | B14: 1 | C14: =D14+E14 -> 104 | D14: 80 | E14: 24 | F14: 1734.568 | G14: =F14/176 -> 9.8555 | H14: =ROUND(E14*G14*2,2) -> 473.06 | I14: =ROUND(H14*1.2359,2) -> 584.65
A15: Ginekologs,dzemdību speciālists | B15: 1 | C15: =D15+E15 -> 160 | D15: 136 | E15: 24 | F15: 1734.568 | G15: =F15/176 -> 9.8555 | H15: =ROUND(E15*G15*2,2) -> 473.06 | I15: =ROUND(H15*1.2359,2) -> 584.65
A16: Ginekologs,dzemdību speciālists | B16: 1 | C16: =D16+E16 -> 144 | D16: 136 | E16: 8 | F16: 1734.568 | G16: =F16/176 -> 9.8555 | H16: =ROUND(E16*G16*2,2) -> 157.69 | I16: =ROUND(H16*1.2359,2) -> 194.89
A17: Internists | B17: 1 | C17: =D17+E17 -> 100 | D17: 56 | E17: 44 | F17: 1734.568 | G17: =F17/176 -> 9.8555 | H17: =ROUND(E17*G17*2,2) -> 867.28 | I17: =ROUND(H17*1.2359,2) -> 1071.87
A18: Internists | B18: 1 | C18: =D18+E18 -> 168 | D18: 136 | E18: 32 | F18: 1734.568 | G18: =F18/176 -> 9.8555 | H18: =ROUND(E18*G18*2,2) -> 630.75 | I18: =ROUND(H18*1.2359,2) -> 779.54
A19: Traumatologs un ortopēds | B19: 1 | C19: =D19+E19 -> 168 | D19: 136 | E19: 32 | F19: 1734.568 | G19: =F19/176 -> 9.8555 | H19: =ROUND(E19*G19*2,2) -> 630.75 | I19: =ROUND(H19*1.2359,2) -> 779.54
A20: Traumatologs un ortopēds | B20: 1 | C20: =D20+E20 -> 356.5 | D20: 176 | E20: 180.5 | F20: 1734.568 | G20: =F20/176 -> 9.8555 | H20: =ROUND(E20*G20*2,2) -> 3557.84 | I20: =ROUND(H20*1.2359,2) -> 4397.13
A21: Traumatologs un ortopēds | B21: 1 | C21: =D21+E21 -> 105 | D21: 56 | E21: 49 | F21: 1734.568 | G21: =F21/176 -> 9.8555 | H21: =ROUND(E21*G21*2,2) -> 965.84 | I21: =ROUND(H21*1.2359,2) -> 1193.68
A22: Traumatologs un ortopēds | B22: 1 | C22: =D22+E22 -> 352 | D22: 176 | E22: 176 | F22: 1734.568 | G22: =F22/176 -> 9.8555 | H22: =ROUND(E22*G22*2,2) -> 3469.14 | I22: =ROUND(H22*1.2359,2) -> 4287.51
A23: Rezidents | B23: 1 | C23: =D23+E23 -> 74 | D23: 37 | E23: 37 | F23: 1734.568 | G23: =F23/176 -> 9.8555 | H23: =ROUND(E23*G23*2,2) -> 729.31 | I23: =ROUND(H23*1.2359,2) -> 901.35
A24: Rezidents | B24: 1 | C24: =D24+E24 -> 130 | D24: 65 | E24: 65 | F24: 1734.568 | G24: =F24/176 -> 9.8555 | H24: =ROUND(E24*G24*2,2) -> 1281.22 | I24: =ROUND(H24*1.2359,2) -> 1583.46
A25: Rezidents | B25: 1 | C25: =D25+E25 -> 10 | D25: 5 | E25: 5 | F25: 1734.568 | G25: =F25/176 -> 9.8555 | H25: =ROUND(E25*G25*2,2) -> 98.56 | I25: =ROUND(H25*1.2359,2) -> 121.81
... A50: Neirologs | B50: 1 | C50: =D50+E50 -> 312 | D50: 176 | E50: 136 | F50: 1734.568 | G50: =F50/176 -> 9.8555 | H50: =ROUND(E50*G50*2,2) -> 2680.7 | I50: =ROUND(H50*1.2359,2) -> 3313.08
A51: Ārstniecības un pacientu aprūpes personas un funkcionālo speciālistu asistenti, kopā, tai skaitā: | B51: =SUM(B52:B87) -> 36 | E51: =SUM(E52:E87) -> 1064 | H51: =SUM(H52:H87) -> 12371.53 | I51: =SUM(I52:I87) -> 15289.94
A52: Ārsta palīgs | B52: 1 | C52: =D52+E52 -> 24 | D52: 16 | E52: 8 | F52: 1035.4784 | G52: =F52/176 -> 5.8834 | H52: =ROUND(E52*G52*2,2) -> 94.13 | I52: =ROUND(H52*1.2359,2) -> 116.34
A53: Ārsta palīgs | B53: 1 | C53: =D53+E53 -> 192 | D53: 168 | E53: 24 | F53: 914.584 | G53: =F53/176 -> 5.1965 | H53: =ROUND(E53*G53*2,2) -> 249.43 | I53: =ROUND(H53*1.2359,2) -> 308.27
A54: Ārsta palīgs | B54: 1 | C54: =D54+E54 -> 249 | D54: 176 | E54: 73 | F54: 1035.4784 | G54: =F54/176 -> 5.8834 | H54: =ROUND(E54*G54*2,2) -> 858.98 | I54: =ROUND(H54*1.2359,2) -> 1061.61
A55: Ārsta palīgs | B55: 1 | C55: =D55+E55 -> 238 | D55: 176 | E55: 62 | F55: 1035.4784 | G55: =F55/176 -> 5.8834 | H55: =ROUND(E55*G55*2,2) -> 729.54 | I55: =ROUND(H55*1.2359,2) -> 901.64
A56: Ārsta palīgs | B56: 1 | C56: =D56+E56 -> 202 | D56: 176 | E56: 26 | F56: 1035.4784 | G56: =F56/176 -> 5.8834 | H56: =ROUND(E56*G56*2,2) -> 305.94 | I56: =ROUND(H56*1.2359,2) -> 378.11
A57: Ārsta palīgs | B57: 1 | C57: =D57+E57 -> 190.5 | D57: 176 | E57: 14.5 | F57: 1035.4784 | G57: =F57/176 -> 5.8834 | H57: =ROUND(E57*G57*2,2) -> 170.62 | I57: =ROUND(H57*1.2359,2) -> 210.87
A58: Ārsta palīgs | B58: 1 | C58: =D58+E58 -> 184 | D58: 176 | E58: 8 | F58: 914.584 | G58: =F58/176 -> 5.1965 | H58: =ROUND(E58*G58*2,2) -> 83.14 | I58: =ROUND(H58*1.2359,2) -> 102.75
A59: Internās aprūpes māsa | B59: 1 | C59: =D59+E59 -> 252 | D59: 176 | E59: 76 | F59: 1035.4784 | G59: =F59/176 -> 5.8834 | H59: =ROUND(E59*G59*2,2) -> 894.28 | I59: =ROUND(H59*1.2359,2) -> 1105.24
A60: Internās aprūpes māsa | B60: 1 | C60: =D60+E60 -> 156 | D60: 112 | E60: 44 | F60: 1035.4784 | G60: =F60/176 -> 5.8834 | H60: =ROUND(E60*G60*2,2) -> 517.74 | I60: =ROUND(H60*1.2359,2) -> 639.87
A61: Internās aprūpes māsa | B61: 1 | C61: =D61+E61 -> 252 | D61: 168 | E61: 84 | F61: 1035.4784 | G61: =F61/176 -> 5.8834 | H61: =ROUND(E61*G61*2,2) -> 988.41 | I61: =ROUND(H61*1.2359,2) -> 1221.58
A62: Internās aprūpes māsa | B62: 1 | C62: =D62+E62 -> 228 | D62: 176 | E62: 52 | F62: 1035.4784 | G62: =F62/176 -> 5.8834 | H62: =ROUND(E62*G62*2,2) -> 611.87 | I62: =ROUND(H62*1.2359,2) -> 756.21
A63: Internās aprūpes māsa | B63: 1 | C63: =D63+E63 -> 204 | D63: 176 | E63: 28 | F63: 1035.4784 | G63: =F63/176 -> 5.8834 | H63: =ROUND(E63*G63*2,2) -> 329.47 | I63: =ROUND(H63*1.2359,2) -> 407.19
... A87: Operāciju māsa | B87: 1 | C87: =D87+E87 -> 190.5 | D87: 176 | E87: 14.5 | F87: 1035.4784 | G87: =F87/176 -> 5.8834 | H87: =ROUND(E87*G87*2,2) -> 170.62 | I87: =ROUND(H87*1.2359,2) -> 210.87
A88: Ārstniecības un pacientu aprūpes atbalsta personas, māsu palīgi, zobārstu asistenti, kopā, tai skaitā: | B88: =SUM(B89:B99) -> 11 | E88: =SUM(E89:E99) -> 244 | H88: =SUM(H89:H99) -> 2113.23 | I88: =SUM(I89:I99) -> 2611.75
A89: Māsas palīgs | B89: 1 | C89: =D89+E89 -> 216 | D89: 176 | E89: 40 | F89: 762.1504 | G89: =F89/176 -> 4.3304 | H89: =ROUND(E89*G89*2,2) -> 346.43 | I89: =ROUND(H89*1.2359,2) -> 428.15
A90: Māsas palīgs | B90: 1 | C90: =D90+E90 -> 188 | D90: 176 | E90: 12 | F90: 762.1504 | G90: =F90/176 -> 4.3304 | H90: =ROUND(E90*G90*2,2) -> 103.93 | I90: =ROUND(H90*1.2359,2) -> 128.45
...

Sheet Daugavpils_reģ_aug
H1: 1.8.Pielikums
A2: Pārskats par darba veicējiem (ārstniecības personām), virs normālā darba laika nostrādātām stundām, apmaksājamām stundām un izdevumiem, kas radušies saistībā ar mērķi ierobežot Covid-19 izplatību
A4: Iestādes nosaukums: SIA "Daugavpils reģionālā slimnīca"
A5: Pārskata mēnesis: Augusts
B7: Nodarbināto skaits mēnesī | C7: Apmaksājamais laiks mēnesī, stundas (tai skaitā summētā darba laika ietvaros) | F7: Mēnešalga no kuras rēķina stundas likmi | G7: Stundas likme (aprēķināta atbilstoši mēnešalgai vai darba līgumā noteiktā stundas likme) | H7: Apmaksājamā 100% piemaksa par nostrādātām virsstundām virs normālā darba laika (tai skaitā summētā darba laika ietvaros) | I7: Izdevumi par virsstundām kopā ar VSOAI, EUR
C8: Kopā | D8: līdz normālam darba laikam | E8: virsstundas - virs normālā darba laika, kas saistītas ar darbu ar Covid-19
A10: 1 | B10: 2 | C10: 3=4+5 | D10: 4 | E10: 5 | F10: 6 | G10: 7 | H10: 8 | I10: 9=8 +VSOAI
A11: KOPĀ | B11: =B12+B97+B111+B138+B145+B151+B170+B178 -> 146 | E11: =E12+E97+E111+E138+E145+E151+E170+E178 -> 6519 | H11: =H12+H97+H111+H138+H145+H151+H170+H178 -> 108571.05 | I11: =I12+I97+I111+I138+I145+I151+I170+I178 -> 134182.99
A12: Centrālā slimnīca "Uzņemšanas nodaļa" | B12: =B13+B51+B86 -> 81 | E12: =E13+E51+E86 -> 4774 | H12: =H13+H51+H86 -> 78498.9 | I12: =I13+I51+I86 -> 97016.76
A13: Ārsti, zobārsti un funkcionālie speciālisti, kopā, tai skaitā: | B13: =SUM(B14:B50) -> 37 | E13: =SUM(E14:E50) -> 2969 | H13: =SUM(H14:H50) -> 58521.95 | I13: =SUM(I14:I50) -> 72327.26
A14: Ārsts (dežūrslodze) | B14: 1 | C14: =D14+E14 -> 296 | D14: 176 | E14: 120 | F14: 1734.568 | G14: =F14/176 -> 9.8555 | H14: =ROUND(E14*G14*2,2) -> 2365.32 | I14: =ROUND(H14*1.2359,2) -> 2923.3
A15: Bērnu ķirurgs | B15: 1 | C15: =D15+E15 -> 240 | D15: 176 | E15: 64 | F15: 1734.568 | G15: =F15/176 -> 9.8555 | H15: =ROUND(E15*G15*2,2) -> 1261.5 | I15: =ROUND(H15*1.2359,2) -> 1559.09
A16: Kardiologs | B16: 1 | C16: =D16+E16 -> 216 | D16: 176 | E16: 40 | F16: 1734.568 | G16: =F16/176 -> 9.8555 | H16: =ROUND(E16*G16*2,2) -> 788.44 | I16: =ROUND(H16*1.2359,2) -> 974.43
A17: Ginekologs,dzemdību speciālists | B17: 1 | C17: =D17+E17 -> 200 | D17: 176 | E17: 24 | F17: 1734.568 | G17: =F17/176 -> 9.8555 | H17: =ROUND(E17*G17*2,2) -> 473.06 | I17: =ROUND(H17*1.2359,2) -> 584.65
A18: Internists | B18: 1 | C18: =D18+E18 -> 288 | D18: 176 | E18: 112 | F18: 1734.568 | G18: =F18/176 -> 9.8555 | H18: =ROUND(E18*G18*2,2) -> 2207.63 | I18: =ROUND(H18*1.2359,2) -> 2728.41
A19: Internists | B19: 1 | C19: =D19+E19 -> 182 | D19: 126 | E19: 56 | F19: 1734.568 | G19: =F19/176 -> 9.8555 | H19: =ROUND(E19*G19*2,2) -> 1103.82 | I19: =ROUND(H19*1.2359,2) -> 1364.21
A20: Kardiologs | B20: 1 | C20: =D20+E20 -> 159 | D20: 119 | E20: 40 | F20: 1734.568 | G20: =F20/176 -> 9.8555 | H20: =ROUND(E20*G20*2,2) -> 788.44 | I20: =ROUND(H20*1.2359,2) -> 974.43
A21: Kardiologs | B21: 1 | C21: =D21+E21 -> 52 | D21: 48 | E21: 4 | F21: 1734.568 | G21: =F21/176 -> 9.8555 | H21: =ROUND(E21*G21*2,2) -> 78.84 | I21: =ROUND(H21*1.2359,2) -> 97.44
A22: Kardiologs | B22: 1 | C22: =D22+E22 -> 207 | D22: 119 | E22: 88 | F22: 1734.568 | G22: =F22/176 -> 9.8555 | H22: =ROUND(E22*G22*2,2) -> 1734.57 | I22: =ROUND(H22*1.2359,2) -> 2143.76
A23: Kardiologs | B23: 1 | C23: =D23+E23 -> 240 | D23: 176 | E23: 64 | F23: 1734.568 | G23: =F23/176 -> 9.8555 | H23: =ROUND(E23*G23*2,2) -> 1261.5 | I23: =ROUND(H23*1.2359,2) -> 1559.09
A24: Kardiologs | B24: 1 | C24: =D24+E24 -> 232 | D24: 176 | E24: 56 | F24: 1734.568 | G24: =F24/176 -> 9.8555 | H24: =ROUND(E24*G24*2,2) -> 1103.82 | I24: =ROUND(H24*1.2359,2) -> 1364.21
A25: Kardiologs (vecākais) | B25: 1 | C25: =D25+E25 -> 300 | D25: 176 | E25: 124 | F25: 1734.568 | G25: =F25/176 -> 9.8555 | H25: =ROUND(E25*G25*2,2) -> 2444.16 | I25: =ROUND(H25*1.2359,2) -> 3020.74
... A50: Traumatologs ortopēds | B50: 1 | C50: =D50+E50 -> 315.5 | D50: 176 | E50: 139.5 | F50: 1734.568 | G50: =F50/176 -> 9.8555 | H50: =ROUND(E50*G50*2,2) -> 2749.68 | I50: =ROUND(H50*1.2359,2) -> 3398.33
A51: Ārstniecības un pacientu aprūpes personas un funkcionālo speciālistu asistenti, kopā, tai skaitā: | B51: =SUM(B52:B85) -> 34 | E51: =SUM(E52:E85) -> 1525 | H51: =SUM(H52:H85) -> 17555.23 | I51: =SUM(I52:I85) -> 21696.5
A52: Vecākā medicīnas māsa | B52: 1 | C52: =D52+E52 -> 200 | D52: 176 | E52: 24 | F52: 1150 | G52: =F52/176 -> 6.5340909 | H52: =ROUND(E52*G52*2,2) -> 313.64 | I52: =ROUND(H52*1.2359,2) -> 387.63
A53: Ārsta palīgs | B53: 1 | C53: =D53+E53 -> 98 | D53: 64 | E53: 34 | F53: 1035.4784 | G53: =F53/176 -> 5.8834 | H53: =ROUND(E53*G53*2,2) -> 400.07 | I53: =ROUND(H53*1.2359,2) -> 494.45
A54: Ārsta palīgs | B54: 1 | C54: =D54+E54 -> 300 | D54: 176 | E54: 124 | F54: 1035.4784 | G54: =F54/176 -> 5.8834 | H54: =ROUND(E54*G54*2,2) -> 1459.08 | I54: =ROUND(H54*1.2359,2) -> 1803.28
A55: Ārsta palīgs | B55: 1 | C55: =D55+E55 -> 259 | D55: 176 | E55: 83 | F55: 1035.4784 | G55: =F55/176 -> 5.8834 | H55: =ROUND(E55*G55*2,2) -> 976.64 | I55: =ROUND(H55*1.2359,2) -> 1207.03
A56: Ārsta palīgs | B56: 1 | C56: =D56+E56 -> 255 | D56: 176 | E56: 79 | F56: 1035.4784 | G56: =F56/176 -> 5.8834 | H56: =ROUND(E56*G56*2,2) -> 929.58 | I56: =ROUND(H56*1.2359,2) -> 1148.87
A57: Internās aprūpes māsa | B57: 1 | C57: =D57+E57 -> 172 | D57: 160 | E57: 12 | F57: 1035.4784 | G57: =F57/176 -> 5.8834 | H57: =ROUND(E57*G57*2,2) -> 141.2 | I57: =ROUND(H57*1.2359,2) -> 174.51
A58: Internās aprūpes māsa | B58: 1 | C58: =D58+E58 -> 208 | D58: 176 | E58: 32 | F58: 1035.4784 | G58: =F58/176 -> 5.8834 | H58: =ROUND(E58*G58*2,2) -> 376.54 | I58: =ROUND(H58*1.2359,2) -> 465.37
A59: Internās aprūpes māsa | B59: 1 | C59: =D59+E59 -> 240 | D59: 176 | E59: 64 | F59: 1035.4784 | G59: =F59/176 -> 5.8834 | H59: =ROUND(E59*G59*2,2) -> 753.08 | I59: =ROUND(H59*1.2359,2) -> 930.73
A60: Internās aprūpes māsa | B60: 1 | C60: =D60+E60 -> 216 | D60: 176 | E60: 40 | F60: 1035.4784 | G60: =F60/176 -> 5.8834 | H60: =ROUND(E60*G60*2,2) -> 470.67 | I60: =ROUND(H60*1.2359,2) -> 581.7
A61: Internās aprūpes māsa | B61: 1 | C61: =D61+E61 -> 187 | D61: 176 | E61: 11 | F61: 1035.4784 | G61: =F61/176 -> 5.8834 | H61: =ROUND(E61*G61*2,2) -> 129.43 | I61: =ROUND(H61*1.2359,2) -> 159.96
A62: Internās aprūpes māsa | B62: 1 | C62: =D62+E62 -> 256 | D62: 176 | E62: 80 | F62: 1035.4784 | G62: =F62/176 -> 5.8834 | H62: =ROUND(E62*G62*2,2) -> 941.34 | I62: =ROUND(H62*1.2359,2) -> 1163.4
A63: Internās aprūpes māsa | B63: 1 | C63: =D63+E63 -> 24 | D63: 8 | E63: 16 | F63: 1035.4784 | G63: =F63/176 -> 5.8834 | H63: =ROUND(E63*G63*2,2) -> 188.27 | I63: =ROUND(H63*1.2359,2) -> 232.68
... A85: Medicīnas māsa | B85: 1 | C85: =D85+E85 -> 228 | D85: 176 | E85: 52 | F85: 914.584 | G85: =F85/176 -> 5.1965 | H85: =ROUND(E85*G85*2,2) -> 540.44 | I85: =ROUND(H85*1.2359,2) -> 667.93
A86: Ārstniecības un pacientu aprūpes atbalsta personas, māsu palīgi, zobārstu asistenti, kopā, tai skaitā: | B86: =SUM(B87:B96) -> 10 | E86: =SUM(E87:E96) -> 280 | H86: =SUM(H87:H96) -> 2421.72 | I86: =SUM(I87:I96) -> 2993
A87: Māsas palīgs | B87: 1 | C87: =D87+E87 -> 192 | D87: 152 | E87: 40 | F87: 762.1504 | G87: =F87/176 -> 4.3304 | H87: =ROUND(E87*G87*2,2) -> 346.43 | I87: =ROUND(H87*1.2359,2) -> 428.15
A88: Māsas palīgs | B88: 1 | C88: =D88+E88 -> 196 | D88: 176 | E88: 20 | F88: 762.1504 | G88: =F88/176 -> 4.3304 | H88: =ROUND(E88*G88*2,2) -> 173.22 | I88: =ROUND(H88*1.2359,2) -> 214.08
...

Sheet Z-Kurzeme_jūl
H1: 1.9.Pielikums
