Workbook

Sheet KOPSAVILKUMS
D1: 1.pielikums MK rīkojuma projekta “Par finanšu līdzekļu piešķiršanu no valsts budžeta programmas “Līdzekļi neparedzētiem gadījumiem”” anotācijai
A3: Kopsavilkums par stacionāro iestāžu iesniegto informāciju par darba veicējiem (ārstniecības personām), virs normālā darba laika nostrādātām stundām, apmaksājamām stundām un izdevumiem, kas radušies saistībā ar mērķi ierobežot Covid-19 izplatību par 2021.gada MAIJS - AUGUSTS
C6: Izdevumi par virsstundām (2021.gada maijs-augusts) kopā ar VSOAI, EUR
C7: Maijs | D7: Jūnijs | E7: Jūlijs | F7: Augusts | G7: KOPĀ
A8: KOPĀ | G8: =SUM(G9:G17) -> 2779025.5
A9: 1 | B9: VSIA "Bērnu klīniskā universitātes slimnīca" | C9: ='BKUS_maijs-aug'!I11 -> 12438.73 | G9: =SUM(C9:F9) -> 12438.73
A10: 2 | B10: SIA “Rīgas Austrumu klīniskās universitātes slimnīca” | C10: =RAKUS_maijs_aug!I11 -> 2034246.8 | G10: =SUM(C10:F10) -> 2034246.8
A11: 3 | B11: VSIA "Paula Stradiņa klīniskā universitātes slimnīca" | C11: =PSKUS_maijs!I11 -> 146766.95 | D11: =PSKUS_jūn!I11 -> 96078.27 | E11: =PSKUS_jūl!I11 -> 49460.08 | F11: =PSKUS_aug!I11 -> 46085.37 | G11: =SUM(C11:F11) -> 338390.67
A12: 4 | B12: SIA "Daugavpils reģionālā slimnīca" | C12: X | D12: X | E12: =Daugavpils_reģ_jūl!I11 -> 110813.99 | F12: =Daugavpils_reģ_aug!I11 -> 134182.99 | G12: =SUM(C12:F12) -> 244996.98
A13: 5 | B13: SIA "Ziemeļkurzemes reģionālā slimnīca" | C13: X | D13: X | E13: ='Z-Kurzeme_jūl'!I11 -> 70715.86 | F13: ='Z-Kurzeme_aug'!I11 -> 24770.39 | G13: =SUM(C13:F13) -> 95486.25
A14: 6 | B14: SIA Vidzemes slimnīca | C14: X | D14: X | E14: =Vidzeme_jūl!I11 -> 9081.42 | F14: =Vidzeme_aug!I11 -> 29230.13 | G14: =SUM(C14:F14) -> 38311.55
A15: 7 | B15: Rīgas dzemdību nams | C15: =Rīgas_DzN_maijs_aug!I11 -> 714.85 | G15: =SUM(C15:F15) -> 714.85
A16: 8 | B16: SIA "Balvu un Gulbenes slimnīcu apvienība" | C16: ='Balvi_maijs-aug'!I11 -> 14215.16 | G16: =SUM(C16:E16) -> 14215.16
A17: 9 | B17: VSIA „Daugavpils psihoneiroloģiskā slimnīca” | C17: X | D17: X | E17: =Daugavpis_psih_jūl!I11 -> 102.47 | F17: =Daugavpils_psih_aug!I11 -> 122.11 | G17: =SUM(C17:F17) -> 224.58
B19: Summētā darba laika periods, kurā uzskaitītas virsstundas un papildu snepieciešamais finansējums to apmaksai

Sheet BKUS_maijs-aug
H1: 1.1.Pielikums
A2: Pārskats par darba veicējiem (ārstniecības personām), virs normālā darba laika nostrādātām stundām, apmaksājamām stundām un izdevumiem, kas radušies saistībā ar mērķi ierobežot Covid-19 izplatību
A4: Iestādes nosaukums: VISA "Bērnu klīniskā universitātes slimnīca"
A5: Pārskata mēnesis: Maijs - Augusts
B7: Nodarbināto skaits mēnesī | C7: Apmaksājamais laiks mēnesī, stundas (tai skaitā summētā darba laika ietvaros) | F7: Mēnešalga no kuras rēķina stundas likmi | G7: Stundas likme (aprēķināta atbilstoši mēnešalgai vai darba līgumā noteiktā stundas likme) | H7: Apmaksājamā 100% piemaksa par nostrādātām virsstundām virs normālā darba laika (tai skaitā summētā darba laika ietvaros) | I7: Izdevumi par virsstundām kopā ar VSOAI, EUR
C8: Kopā | D8: līdz normālam darba laikam | E8: virsstundas - virs normālā darba laika, kas saistītas ar darbu ar Covid-19
A10: 1 | B10: 2 | C10: 3=4+5 | D10: 4 | E10: 5 | F10: 6 | G10: 7 | H10: 8 | I10: 9=8 +VSOAI
A11: KOPĀ | B11: =B12+B19+B31+B33 -> 24 | E11: =E12+E19+E31+E33 -> 691.5 | H11: =H12+H19+H31+H33 -> 10064.52 | I11: =I12+I19+I31+I33 -> 12438.73
A12: Ārsti, zobārsti un funkcionālie speciālisti, kopā, tai skaitā: | B12: =SUM(B13:B18) -> 6 | E12: =SUM(E13:E18) -> 260 | H12: =SUM(H13:H18) -> 4967.7 | I12: =SUM(I13:I18) -> 6139.57
A13: Bērnu infektologs | B13: 1 | C13: =D13+E13 -> 692 | D13: 670 | E13: 22 | G13: 12.51 | H13: =ROUND(E13*G13*2,2) -> 550.44 | I13: =ROUND(H13*1.2359,2) -> 680.29
A14: Bērnu infektologs | B14: 1 | C14: =D14+E14 -> 711 | D14: 670 | E14: 41 | G14: 10.01 | H14: =ROUND(E14*G14*2,2) -> 820.82 | I14: =ROUND(H14*1.2359,2) -> 1014.45
A15: Rezidents | B15: 1 | C15: =D15+E15 -> 714 | D15: 670 | E15: 44 | G15: 8.93 | H15: =ROUND(E15*G15*2,2) -> 785.84 | I15: =ROUND(H15*1.2359,2) -> 971.22
A16: Rezidents | B16: 1 | C16: =D16+E16 -> 696 | D16: 670 | E16: 26 | G16: 8.93 | H16: =ROUND(E16*G16*2,2) -> 464.36 | I16: =ROUND(H16*1.2359,2) -> 573.9
A17: Rezidents | B17: 1 | C17: =D17+E17 -> 717 | D17: 670 | E17: 47 | G17: 9.76 | H17: =ROUND(E17*G17*2,2) -> 917.44 | I17: =ROUND(H17*1.2359,2) -> 1133.86
A18: Rezidents | B18: 1 | C18: =D18+E18 -> 750 | D18: 670 | E18: 80 | G18: 8.93 | H18: =ROUND(E18*G18*2,2) -> 1428.8 | I18: =ROUND(H18*1.2359,2) -> 1765.85
A19: Ārstniecības un pacientu aprūpes personas un funkcionālo speciālistu asistenti, kopā, tai skaitā: | B19: =SUM(B20:B30) -> 11 | E19: =SUM(E20:E30) -> 199 | H19: =SUM(H20:H30) -> 3083.74 | I19: =SUM(I20:I30) -> 3811.19
A20: Bērnu māsa | B20: 1 | C20: =D20+E20 -> 672 | D20: 670 | E20: 2 | G20: 7.06 | H20: =ROUND(E20*G20*2,2) -> 28.24 | I20: =ROUND(H20*1.2359,2) -> 34.9
A21: Bērnu māsa | B21: 1 | C21: =D21+E21 -> 680 | D21: 670 | E21: 10 | G21: 7.06 | H21: =ROUND(E21*G21*2,2) -> 141.2 | I21: =ROUND(H21*1.2359,2) -> 174.51
A22: Bērnu māsa | B22: 1 | C22: =D22+E22 -> 672 | D22: 670 | E22: 2 | G22: 7.06 | H22: =ROUND(E22*G22*2,2) -> 28.24 | I22: =ROUND(H22*1.2359,2) -> 34.9
A23: Bērnu māsa | B23: 1 | C23: =D23+E23 -> 678 | D23: 670 | E23: 8 | G23: 7.06 | H23: =ROUND(E23*G23*2,2) -> 112.96 | I23: =ROUND(H23*1.2359,2) -> 139.61
A24: Bērnu māsa | B24: 1 | C24: =D24+E24 -> 703 | D24: 670 | E24: 33 | G24: 6.89 | H24: =ROUND(E24*G24*2,2) -> 454.74 | I24: =ROUND(H24*1.2359,2) -> 562.01
A25: Māsa | B25: 1 | C25: =D25+E25 -> 680 | D25: 670 | E25: 10 | G25: 6.07 | H25: =ROUND(E25*G25*2,2) -> 121.4 | I25: =ROUND(H25*1.2359,2) -> 150.04
A26: Māsa | B26: 1 | C26: =D26+E26 -> 734 | D26: 670 | E26: 64 | G26: 8.25 | H26: =ROUND(E26*G26*2,2) -> 1056 | I26: =ROUND(H26*1.2359,2) -> 1305.11
A27: Virsmāsas vietnieks | B27: 1 | C27: =D27+E27 -> 686 | D27: 670 | E27: 16 | G27: 8.25 | H27: =ROUND(E27*G27*2,2) -> 264 | I27: =ROUND(H27*1.2359,2) -> 326.28
A28: Māsa | B28: 1 | C28: =D28+E28 -> 696 | D28: 670 | E28: 26 | G28: 8.25 | H28: =ROUND(E28*G28*2,2) -> 429 | I28: =ROUND(H28*1.2359,2) -> 530.2
A29: Māsa | B29: 1 | C29: =D29+E29 -> 680 | D29: 670 | E29: 10 | G29: 8.25 | H29: =ROUND(E29*G29*2,2) -> 165 | I29: =ROUND(H29*1.2359,2) -> 203.92
A30: Māsa | B30: 1 | C30: =D30+E30 -> 688 | D30: 670 | E30: 18 | G30: 7.86 | H30: =ROUND(E30*G30*2,2) -> 282.96 | I30: =ROUND(H30*1.2359,2) -> 349.71
A31: Ārstniecības un pacientu aprūpes atbalsta personas, māsu palīgi, zobārstu aistenti, kopā, tai skaitā: | B31: =SUM(B32) -> 1 | E31: =SUM(E32) -> 6 | H31: =SUM(H32) -> 53.52 | I31: =SUM(I32) -> 66.15
A32: Māsas palīgs | B32: 1 | C32: =D32+E32 -> 676 | D32: 670 | E32: 6 | G32: 4.46 | H32: =ROUND(E32*G32*2,2) -> 53.52 | I32: =ROUND(H32*1.2359,2) -> 66.15
A33: Pārējie darbinieki, kuri tieši iesaistīti darbā ar Covid-19, kopā, tai skaitā: | B33: =SUM(B34:B39) -> 6 | E33: =SUM(E34:E39) -> 226.5 | H33: =SUM(H34:H39) -> 1959.56 | I33: =SUM(I34:I39) -> 2421.82
A34: Automobiļa vadītājs | B34: 1 | C34: =D34+E34 -> 674 | D34: 670 | E34: 4 | G34: 5 | H34: =ROUND(E34*G34*2,2) -> 40 | I34: =ROUND(H34*1.2359,2) -> 49.44
A35: Automobiļa vadītājs | B35: 1 | C35: =D35+E35 -> 708.5 | D35: 670 | E35: 38.5 | G35: 5 | H35: =ROUND(E35*G35*2,2) -> 385 | I35: =ROUND(H35*1.2359,2) -> 475.82
A36: Noslēguma dezinfekciju veicējs | B36: 1 | C36: =D36+E36 -> 696 | D36: 670 | E36: 26 | G36: 4.17 | H36: =ROUND(E36*G36*2,2) -> 216.84 | I36: =ROUND(H36*1.2359,2) -> 267.99
A37: Noslēguma dezinfekciju veicējs | B37: 1 | C37: =D37+E37 -> 744 | D37: 670 | E37: 74 | G37: 4.17 | H37: =ROUND(E37*G37*2,2) -> 617.16 | I37: =ROUND(H37*1.2359,2) -> 762.75
A38: Noslēguma dezinfekciju veicējs | B38: 1 | C38: =D38+E38 -> 704 | D38: 670 | E38: 34 | G38: 4.17 | H38: =ROUND(E38*G38*2,2) -> 283.56 | I38: =ROUND(H38*1.2359,2) -> 350.45
A39: Noslēguma dezinfekciju veicējs | B39: 1 | C39: =D39+E39 -> 720 | D39: 670 | E39: 50 | G39: 4.17 | H39: =ROUND(E39*G39*2,2) -> 417 | I39: =ROUND(H39*1.2359,2) -> 515.37

Sheet RAKUS_maijs_aug
H1: 1.2.Pielikums
A2: Pārskats par darba veicējiem (ārstniecības personām), virs normālā darba laika nostrādātām stundām, apmaksājamām stundām un izdevumiem, kas radušies saistībā ar mērķi ierobežot Covid-19 izplatību
A4: Iestādes nosaukums: SIA “Rīgas Austrumu klīniskās universitātes slimnīca”
A5: Pārskata mēnesis : Maijs - Augusts
B7: Nodarbināto skaits mēnesī | C7: Apmaksājamais laiks mēnesī, stundas (tai skaitā summētā darba laika ietvaros) | F7: Mēnešalga no kuras rēķina stundas likmi | G7: Stundas likme (aprēķināta atbilstoši mēnešalgai vai darba līgumā noteiktā stundas likme) | H7: Apmaksājamā 100% piemaksa par nostrādātām virsstundām virs normālā darba laika (tai skaitā summētā darba laika ietvaros) | I7: Izdevumi par virsstundām kopā ar VSOAI, EUR
C8: Kopā | D8: līdz normālam darba laikam | E8: virsstundas - virs normālā darba laika, kas saistītas ar darbu ar Covid-19
A10: 1 | B10: 2 | C10: 3=4+5 | D10: 4 | E10: 5 | F10: 6 | G10: 7 | H10: 8 | I10: 9=8 +VSOAI
A11: KOPĀ | B11: =B12+B508+B1148+B1026 -> 1303 | E11: =E12+E508+E1148+E1026 -> 95337.663 | H11: =H12+H508+H1148+H1026 -> 1645963.8 | I11: =I12+I508+I1148+I1026 -> 2034246.8
A12: Ārsti, zobārsti un funkcionālie speciālisti, kopā, tai skaitā: | B12: =SUM(B13:B507) -> 495 | E12: =SUM(E13:E507) -> 45352.315 | H12: =SUM(H13:H507) -> 983767.4 | I12: =SUM(I13:I507) -> 1215838.1
A13: Anesteziologs, reanimatologs | B13: 1 | C13: =D13+E13 -> 312 | D13: 311.25 | E13: 0.75 | F13: 2952 | G13: =ROUND(F13/167.42,4) -> 17.6323 | H13: =ROUND(E13*G13*2,2) -> 26.45 | I13: =ROUND(H13*1.2359,2) -> 32.69
A14: Anesteziologs, reanimatologs | B14: 1 | C14: =D14+E14 -> 618 | D14: 599 | E14: 19 | F14: 2952 | G14: =ROUND(F14/167.42,4) -> 17.6323 | H14: =ROUND(E14*G14*2,2) -> 670.03 | I14: =ROUND(H14*1.2359,2) -> 828.09
A15: Anesteziologs, reanimatologs | B15: 1 | C15: =D15+E15 -> 574 | D15: 566 | E15: 8 | F15: 2952 | G15: =ROUND(F15/167.42,4) -> 17.6323 | H15: =ROUND(E15*G15*2,2) -> 282.12 | I15: =ROUND(H15*1.2359,2) -> 348.67
A16: Anesteziologs, reanimatologs | B16: 1 | C16: =D16+E16 -> 439 | D16: 430 | E16: 9 | F16: 2952 | G16: =ROUND(F16/167.42,4) -> 17.6323 | H16: =ROUND(E16*G16*2,2) -> 317.38 | I16: =ROUND(H16*1.2359,2) -> 392.25
A17: Anesteziologs, reanimatologs | B17: 1 | C17: =D17+E17 -> 518 | D17: 494 | E17: 24 | F17: 2952 | G17: =ROUND(F17/167.42,4) -> 17.6323 | H17: =ROUND(E17*G17*2,2) -> 846.35 | I17: =ROUND(H17*1.2359,2) -> 1046
A18: Anesteziologs, reanimatologs | B18: 1 | C18: =D18+E18 -> 495 | D18: 471 | E18: 24 | F18: 2952 | G18: =ROUND(F18/167.42,4) -> 17.6323 | H18: =ROUND(E18*G18*2,2) -> 846.35 | I18: =ROUND(H18*1.2359,2) -> 1046
A19: Anesteziologs, reanimatologs | B19: 1 | C19: =D19+E19 -> 574 | D19: 566 | E19: 8 | F19: 2952 | G19: =ROUND(F19/167.42,4) -> 17.6323 | H19: =ROUND(E19*G19*2,2) -> 282.12 | I19: =ROUND(H19*1.2359,2) -> 348.67
A20: Anesteziologs, reanimatologs | B20: 1 | C20: =D20+E20 -> 809 | D20: 590 | E20: 219 | F20: 1993 | G20: =ROUND(F20/167.42,4) -> 11.9042 | H20: =ROUND(E20*G20*2,2) -> 5214.04 | I20: =ROUND(H20*1.2359,2) -> 6444.03
A21: Anesteziologs, reanimatologs | B21: 1 | C21: =D21+E21 -> 820 | D21: 566 | E21: 254 | F21: 1993 | G21: =ROUND(F21/167.42,4) -> 11.9042 | H21: =ROUND(E21*G21*2,2) -> 6047.33 | I21: =ROUND(H21*1.2359,2) -> 7473.9
A22: Anesteziologs, reanimatologs | B22: 1 | C22: =D22+E22 -> 791 | D22: 670 | E22: 121 | F22: 1993 | G22: =ROUND(F22/167.42,4) -> 11.9042 | H22: =ROUND(E22*G22*2,2) -> 2880.82 | I22: =ROUND(H22*1.2359,2) -> 3560.41
A23: Anesteziologs, reanimatologs | B23: 1 | C23: =D23+E23 -> 549 | D23: 423 | E23: 126 | F23: 1993 | G23: =ROUND(F23/167.42,4) -> 11.9042 | H23: =ROUND(E23*G23*2,2) -> 2999.86 | I23: =ROUND(H23*1.2359,2) -> 3707.53
A24: Anesteziologs, reanimatologs | B24: 1 | C24: =D24+E24 -> 388 | D24: 283 | E24: 105 | F24: 1993 | G24: =ROUND(F24/167.42,4) -> 11.9042 | H24: =ROUND(E24*G24*2,2) -> 2499.88 | I24: =ROUND(H24*1.2359,2) -> 3089.6
... A507: Virusoloģijas daļas vadītājs - laboratorijas speciālists | B507: 1 | C507: =D507+E507 -> 670.5 | D507: 614 | E507: 56.5 | F507: 1794 | G507: =ROUND(F507/167.42,4) -> 10.7156 | H507: =ROUND(E507*G507*2,2) -> 1210.86 | I507: =ROUND(H507*1.2359,2) -> 1496.5
A508: Ārstniecības un pacientu aprūpes personas un funkcionālo speciālistu asistenti, kopā, tai skaitā: | B508: =SUM(B509:B1025) -> 517 | E508: =SUM(E509:E1025) -> 32231.071 | H508: =SUM(H509:H1025) -> 486865.06 | I508: =SUM(I509:I1025) -> 601716.68
A509: Anestēzijas, intensīvās un neatliekamās aprūpes māsa | B509: 1 | C509: =D509+E509 -> 534 | D509: 510 | E509: 24 | F509: 1263 | G509: =ROUND(F509/167.42,4) -> 7.5439 | H509: =ROUND(E509*G509*2,2) -> 362.11 | I509: =ROUND(H509*1.2359,2) -> 447.53
A510: Anestēzijas, intensīvās un neatliekamās aprūpes māsa | B510: 1 | C510: =D510+E510 -> 566 | D510: 550 | E510: 16 | F510: 1263 | G510: =ROUND(F510/167.42,4) -> 7.5439 | H510: =ROUND(E510*G510*2,2) -> 241.4 | I510: =ROUND(H510*1.2359,2) -> 298.35
A511: Anestēzijas, intensīvās un neatliekamās aprūpes māsa | B511: 1 | C511: =D511+E511 -> 527 | D511: 511 | E511: 16 | F511: 1263 | G511: =ROUND(F511/167.42,4) -> 7.5439 | H511: =ROUND(E511*G511*2,2) -> 241.4 | I511: =ROUND(H511*1.2359,2) -> 298.35
A512: Anestēzijas, intensīvās un neatliekamās aprūpes māsa | B512: 1 | C512: =D512+E512 -> 528 | D512: 526 | E512: 2 | F512: 1383 | G512: =ROUND(F512/167.42,4) -> 8.2607 | H512: =ROUND(E512*G512*2,2) -> 33.04 | I512: =ROUND(H512*1.2359,2) -> 40.83
A513: Anestēzijas, intensīvās un neatliekamās aprūpes māsa | B513: 1 | C513: =D513+E513 -> 635 | D513: 630 | E513: 5 | F513: 1383 | G513: =ROUND(F513/167.42,4) -> 8.2607 | H513: =ROUND(E513*G513*2,2) -> 82.61 | I513: =ROUND(H513*1.2359,2) -> 102.1
A514: Anestēzijas, intensīvās un neatliekamās aprūpes māsa | B514: 1 | C514: =D514+E514 -> 592 | D514: 590 | E514: 2 | F514: 1383 | G514: =ROUND(F514/167.42,4) -> 8.2607 | H514: =ROUND(E514*G514*2,2) -> 33.04 | I514: =ROUND(H514*1.2359,2) -> 40.83
A515: Anestēzijas, intensīvās un neatliekamās aprūpes māsa | B515: 1 | C515: =D515+E515 -> 555 | D515: 550 | E515: 5 | F515: 1383 | G515: =ROUND(F515/167.42,4) -> 8.2607 | H515: =ROUND(E515*G515*2,2) -> 82.61 | I515: =ROUND(H515*1.2359,2) -> 102.1
A516: Anestēzijas, intensīvās un neatliekamās aprūpes māsa | B516: 1 | C516: =D516+E516 -> 551 | D516: 550 | E516: 1 | F516: 1288 | G516: =ROUND(F516/167.42,4) -> 7.6932 | H516: =ROUND(E516*G516*2,2) -> 15.39 | I516: =ROUND(H516*1.2359,2) -> 19.02
A517: Anestēzijas, intensīvās un neatliekamās aprūpes māsa | B517: 1 | C517: =D517+E517 -> 543 | D517: 542 | E517: 1 | F517: 1288 | G517: =ROUND(F517/167.42,4) -> 7.6932 | H517: =ROUND(E517*G517*2,2) -> 15.39 | I517: =ROUND(H517*1.2359,2) -> 19.02
A518: Anestēzijas, intensīvās un neatliekamās aprūpes māsa | B518: 1 | C518: =D518+E518 -> 424 | D518: 423 | E518: 1 | F518: 1288 | G518: =ROUND(F518/167.42,4) -> 7.6932 | H518: =ROUND(E518*G518*2,2) -> 15.39 | I518: =ROUND(H518*1.2359,2) -> 19.02
A519: Anestēzijas, intensīvās un neatliekamās aprūpes māsa | B519: 1 | C519: =D519+E519 -> 615 | D519: 614 | E519: 1 | F519: 1288 | G519: =ROUND(F519/167.42,4) -> 7.6932 | H519: =ROUND(E519*G519*2,2) -> 15.39 | I519: =ROUND(H519*1.2359,2) -> 19.02
A520: Anestēzijas, intensīvās un neatliekamās aprūpes māsa | B520: 1 | C520: =D520+E520 -> 129 | D520: 128 | E520: 1 | F520: 1288 | G520: =ROUND(F520/167.42,4) -> 7.6932 | H520: =ROUND(E520*G520*2,2) -> 15.39 | I520: =ROUND(H520*1.2359,2) -> 19.02
... A1025: Virsmāsa | B1025: 1 | C1025: =D1025+E1025 -> 590 | D1025: 583 | E1025: 7 | F1025: 1470 | G1025: =ROUND(F1025/167.42,4) -> 8.7803 | H1025: =ROUND(E1025*G1025*2,2) -> 122.92 | I1025: =ROUND(H1025*1.2359,2) -> 151.92
A1026: Ārstniecības un pacientu aprūpes atbalsta personas, māsu palīgi, zobārstu aistenti, kopā, tai skaitā: | B1026: =SUM(B1027:B1147) -> 121 | E1026: =SUM(E1027:E1147) -> 8651.0379 | H1026: =SUM(H1027:H1147) -> 88336.39 | I1026: =SUM(I1027:I1147) -> 109174.93
A1027: Māsas palīgs | B1027: 1 | C1027: =D1027+E1027 -> 548.5 | D1027: 542 | E1027: 6.5 | F1027: 1004 | G1027: =ROUND(F1027/167.42,4) -> 5.9969 | H1027: =ROUND(E1027*G1027*2,2) -> 77.96 | I1027: =ROUND(H1027*1.2359,2) -> 96.35
A1028: Māsas palīgs | B1028: 1 | C1028: =D1028+E1028 -> 14.5 | D1028: 0 | E1028: 14.5 | F1028: 828 | G1028: =ROUND(F1028/167.42,4) -> 4.9456 | H1028: =ROUND(E1028*G1028*2,2) -> 143.42 | I1028: =ROUND(H1028*1.2359,2) -> 177.25
A1029: Māsas palīgs | B1029: 1 | C1029: =D1029+E1029 -> 16 | D1029: 0 | E1029: 16 | F1029: 828 | G1029: =ROUND(F1029/167.42,4) -> 4.9456 | H1029: =ROUND(E1029*G1029*2,2) -> 158.26 | I1029: =ROUND(H1029*1.2359,2) -> 195.59
A1030: Māsas palīgs | B1030: 1 | C1030: =D1030+E1030 -> 111 | D1030: 103 | E1030: 8 | F1030: 828 | G1030: =ROUND(F1030/167.42,4) -> 4.9456 | H1030: =ROUND(E1030*G1030*2,2) -> 79.13 | I1030: =ROUND(H1030*1.2359,2) -> 97.8
A1031: Māsas palīgs | B1031: 1 | C1031: =D1031+E1031 -> 459.5 | D1031: 438 | E1031: 21.5 | F1031: 828 | G1031: =ROUND(F1031/167.42,4) -> 4.9456 | H1031: =ROUND(E1031*G1031*2,2) -> 212.66 | I1031: =ROUND(H1031*1.2359,2) -> 262.83
A1032: Māsas palīgs | B1032: 1 | C1032: =D1032+E1032 -> 16 | D1032: 0 | E1032: 16 | F1032: 828 | G1032: =ROUND(F1032/167.42,4) -> 4.9456 | H1032: =ROUND(E1032*G1032*2,2) -> 158.26 | I1032: =ROUND(H1032*1.2359,2) -> 195.59
A1033: Māsas palīgs | B1033: 1 | C1033: =D1033+E1033 -> 670.5 | D1033: 670 | E1033: 0.5 | F1033: 828 | G1033: =ROUND(F1033/167.42,4) -> 4.9456 | H1033: =ROUND(E1033*G1033*2,2) -> 4.95 | I1033: =ROUND(H1033*1.2359,2) -> 6.12
A1034: Māsas palīgs | B1034: 1 | C1034: =D1034+E1034 -> 336 | D1034: 294 | E1034: 42 | F1034: 795 | G1034: =ROUND(F1034/167.42,4) -> 4.7485 | H1034: =ROUND(E1034*G1034*2,2) -> 398.87 | I1034: =ROUND(H1034*1.2359,2) -> 492.96
A1035: Māsas palīgs | B1035: 1 | C1035: =D1035+E1035 -> 253.26007 | D1035: 181.5 | E1035: 71.76007 | F1035: 795 | G1035: =ROUND(F1035/167.42,4) -> 4.7485 | H1035: =ROUND(E1035*G1035*2,2) -> 681.51 | I1035: =ROUND(H1035*1.2359,2) -> 842.28
A1036: Māsas palīgs | B1036: 1 | C1036: =D1036+E1036 -> 508 | D1036: 502 | E1036: 6 | F1036: 795 | G1036: =ROUND(F1036/167.42,4) -> 4.7485 | H1036: =ROUND(E1036*G1036*2,2) -> 56.98 | I1036: =ROUND(H1036*1.2359,2) -> 70.42
A1037: Māsas palīgs | B1037: 1 | C1037: =D1037+E1037 -> 574 | D1037: 550 | E1037: 24 | F1037: 768 | G1037: =ROUND(F1037/167.42,4) -> 4.5873 | H1037: =ROUND(E1037*G1037*2,2) -> 220.19 | I1037: =ROUND(H1037*1.2359,2) -> 272.13
A1038: Māsas palīgs | B1038: 1 | C1038: =D1038+E1038 -> 512 | D1038: 511 | E1038: 1 | F1038: 768 | G1038: =ROUND(F1038/167.42,4) -> 4.5873 | H1038: =ROUND(E1038*G1038*2,2) -> 9.17 | I1038: =ROUND(H1038*1.2359,2) -> 11.33
... A1147: Medicīnas asistents (trešā līmeņa) | B1147: 1 | C1147: =D1147+E1147 -> 94.373 | D1147: 79.5 | E1147: 14.873 | F1147: 867 | G1147: =ROUND(F1147/167.42,4) -> 5.1786 | H1147: =ROUND(E1147*G1147*2,2) -> 154.04 | I1147: =ROUND(H1147*1.2359,2) -> 190.38
A1148: Pārējie darbinieki, kuri tieši iesaistīti darbā ar Covid-19, kopā, tai skaitā: | B1148: =SUM(B1149:B1318) -> 170 | E1148: =SUM(E1149:E1318) -> 9103.2399 | H1148: =SUM(H1149:H1318) -> 86994.94 | I1148: =SUM(I1149:I1318) -> 107517.05
A1149: Autovadītājs | B1149: 1 | C1149: =D1149+E1149 -> 539.5 | D1149: 534 | E1149: 5.5 | F1149: 860 | G1149: =ROUND(F1149/167.42,4) -> 5.1368 | H1149: =ROUND(E1149*G1149*2,2) -> 56.5 | I1149: =ROUND(H1149*1.2359,2) -> 69.83
A1150: Ārstniecības iestādes klientu un pacientu reģistrators | B1150: 1 | C1150: =D1150+E1150 -> 405.09554 | D1150: 382 | E1150: 23.095541 | F1150: 750 | G1150: =ROUND(F1150/167.42,4) -> 4.4798 | H1150: =ROUND(E1150*G1150*2,2) -> 206.93 | I1150: =ROUND(H1150*1.2359,2) -> 255.74
A1151: Ārstniecības iestādes klientu un pacientu reģistrators | B1151: 1 | C1151: =D1151+E1151 -> 632 | D1151: 590 | E1151: 42 | F1151: 750 | G1151: =ROUND(F1151/167.42,4) -> 4.4798 | H1151: =ROUND(E1151*G1151*2,2) -> 376.3 | I1151: =ROUND(H1151*1.2359,2) -> 465.07
A1152: Ārstniecības iestādes klientu un pacientu reģistrators | B1152: 1 | C1152: =D1152+E1152 -> 624 | D1152: 558 | E1152: 66 | F1152: 750 | G1152: =ROUND(F1152/167.42,4) -> 4.4798 | H1152: =ROUND(E1152*G1152*2,2) -> 591.33 | I1152: =ROUND(H1152*1.2359,2) -> 730.82
A1153: Ārstniecības iestādes klientu un pacientu reģistrators | B1153: 1 | C1153: =D1153+E1153 -> 576 | D1153: 566 | E1153: 10 | F1153: 750 | G1153: =ROUND(F1153/167.42,4) -> 4.4798 | H1153: =ROUND(E1153*G1153*2,2) -> 89.6 | I1153: =ROUND(H1153*1.2359,2) -> 110.74
A1154: Ārstniecības iestādes klientu un pacientu reģistrators | B1154: 1 | C1154: =D1154+E1154 -> 624 | D1154: 591 | E1154: 33 | F1154: 750 | G1154: =ROUND(F1154/167.42,4) -> 4.4798 | H1154: =ROUND(E1154*G1154*2,2) -> 295.67 | I1154: =ROUND(H1154*1.2359,2) -> 365.42
A1155: Ārstniecības iestādes klientu un pacientu reģistrators | B1155: 1 | C1155: =D1155+E1155 -> 624 | D1155: 590 | E1155: 34 | F1155: 750 | G1155: =ROUND(F1155/167.42,4) -> 4.4798 | H1155: =ROUND(E1155*G1155*2,2) -> 304.63 | I1155: =ROUND(H1155*1.2359,2) -> 376.49
A1156: Biomedicīnas laboranta palīgs | B1156: 1 | C1156: =D1156+E1156 -> 594 | D1156: 590 | E1156: 4 | F1156: 700 | G1156: =ROUND(F1156/167.42,4) -> 4.1811 | H1156: =ROUND(E1156*G1156*2,2) -> 33.45 | I1156: =ROUND(H1156*1.2359,2) -> 41.34
A1157: Biomedicīnas laboranta palīgs | B1157: 1 | C1157: =D1157+E1157 -> 496 | D1157: 486 | E1157: 10 | F1157: 700 | G1157: =ROUND(F1157/167.42,4) -> 4.1811 | H1157: =ROUND(E1157*G1157*2,2) -> 83.62 | I1157: =ROUND(H1157*1.2359,2) -> 103.35
A1158: Galvenais statistiķis | B1158: 1 | C1158: =D1158+E1158 -> 675 | D1158: 591 | E1158: 84 | F1158: 1815 | G1158: =ROUND(F1158/167.42,4) -> 10.841 | H1158: =ROUND(E1158*G1158*2,2) -> 1821.29 | I1158: =ROUND(H1158*1.2359,2) -> 2250.93
A1159: Galvenais statistiķis LIC | B1159: 1 | C1159: =D1159+E1159 -> 645 | D1159: 495 | E1159: 150 | F1159: 1815 | G1159: =ROUND(F1159/167.42,4) -> 10.841 | H1159: =ROUND(E1159*G1159*2,2) -> 3252.3 | I1159: =ROUND(H1159*1.2359,2) -> 4019.52
A1160: Klientu apkalpošanas operators | B1160: 1 | C1160: =D1160+E1160 -> 101 | D1160: 96 | E1160: 5 | F1160: 750 | G1160: =ROUND(F1160/167.42,4) -> 4.4798 | H1160: =ROUND(E1160*G1160*2,2) -> 44.8 | I1160: =ROUND(H1160*1.2359,2) -> 55.37
... A1318: Vecākais statistikas datu bāzes analītiķis (NVD līgumattiecības) | B1318: 1 | C1318: =D1318+E1318 -> 764 | D1318: 590 | E1318: 174 | F1318: 1645 | G1318: =ROUND(F1318/167.42,4) -> 9.8256 | H1318: =ROUND(E1318*G1318*2,2) -> 3419.31 | I1318: =ROUND(H1318*1.2359,2) -> 4225.93
A1320: * Darbinieks var strādāt vairākās nodaļās, tamdēļ var rasties situācija, ka vienā nodaļā darbiniekam ir normālais darba laiks, bet citā tikai virsstundas

Sheet PSKUS_maijs
H1: 1.3.Pielikums
A2: Pārskats par darba veicējiem (ārstniecības personām), virs normālā darba laika nostrādātām stundām, apmaksājamām stundām un izdevumiem, kas radušies saistībā ar mērķi ierobežot Covid-19 izplatību
A4: Iestādes nosaukums: VSIA "Paula Stradiņa klīniskā universitātes slimnīca"
A5: Pārskata mēnesis: Maijs
B7: Nodarbināto skaits mēnesī | C7: Apmaksājamais laiks mēnesī, stundas (tai skaitā summētā darba laika ietvaros) | F7: Mēnešalga no kuras rēķina stundas likmi | G7: Stundas likme (aprēķināta atbilstoši mēnešalgai vai darba līgumā noteiktā stundas likme) | H7: Apmaksājamā 100% piemaksa par nostrādātām virsstundām virs normālā darba laika (tai skaitā summētā darba laika ietvaros) | I7: Izdevumi par virsstundām kopā ar VSAOI, EUR
C8: Kopā | D8: līdz normālam darba laikam | E8: virsstundas - virs normālā darba laika, kas saistītas ar darbu ar Covid-19
A10: 1 | B10: 2 | C10: 3=4+5 | D10: 4 | E10: 5 | F10: 6 | G10: 7 | H10: 8 | I10: 9=8 +VSOAI
A11: KOPĀ | B11: =SUM(B12,B50,B161,B193) -> 260 | E11: =E12+E50+E161+E193 -> 7798 | H11: =H12+H50+H161+H193 -> 118753.04 | I11: =I12+I50+I161+I193 -> 146766.95
A12: Ārsti, zobārsti un funkcionālie speciālisti, kopā, tai skaitā: | B12: =SUM(B13:B49) -> 37 | E12: =SUM(E13:E49) -> 1383 | H12: =SUM(H13:H49) -> 31000.33 | I12: =SUM(I13:I49) -> 38313.33
A13: Atbildīgais ārsts speciālists (diennakts postenis) | B13: 1 | C13: =D13+E13 -> 223 | D13: 159 | E13: 64 | G13: 12.42 | H13: =ROUND(G13*E13*2,2) -> 1589.76 | I13: =ROUND(H13*1.2359,2) -> 1964.78
A14: Atbildīgais ārsts speciālists (diennakts postenis) | B14: 1 | C14: =D14+E14 -> 180 | D14: 159 | E14: 21 | G14: 12.42 | H14: =ROUND(G14*E14*2,2) -> 521.64 | I14: =ROUND(H14*1.2359,2) -> 644.69
A15: Atbildīgais ārsts speciālists (diennakts postenis) | B15: 1 | C15: =D15+E15 -> 165 | D15: 159 | E15: 6 | G15: 12.42 | H15: =ROUND(G15*E15*2,2) -> 149.04 | I15: =ROUND(H15*1.2359,2) -> 184.2
A16: Ārsts anesteziologs, reanimatologs | B16: 1 | C16: =D16+E16 -> 223 | D16: 159 | E16: 64 | G16: 14.75 | H16: =ROUND(G16*E16*2,2) -> 1888 | I16: =ROUND(H16*1.2359,2) -> 2333.38
A17: Ārsts anesteziologs, reanimatologs | B17: 1 | C17: =D17+E17 -> 170 | D17: 159 | E17: 11 | G17: 10.56 | H17: =ROUND(G17*E17*2,2) -> 232.32 | I17: =ROUND(H17*1.2359,2) -> 287.12
A18: Ārsts anesteziologs, reanimatologs | B18: 1 | C18: =D18+E18 -> 207 | D18: 159 | E18: 48 | G18: 14.61 | H18: =ROUND(G18*E18*2,2) -> 1402.56 | I18: =ROUND(H18*1.2359,2) -> 1733.42
A19: Ārsts anesteziologs, reanimatologs | B19: 1 | C19: =D19+E19 -> 191 | D19: 159 | E19: 32 | G19: 14.25 | H19: =ROUND(G19*E19*2,2) -> 912 | I19: =ROUND(H19*1.2359,2) -> 1127.14
A20: Ārsts anesteziologs, reanimatologs | B20: 1 | C20: =D20+E20 -> 197 | D20: 159 | E20: 38 | G20: 14.25 | H20: =ROUND(G20*E20*2,2) -> 1083 | I20: =ROUND(H20*1.2359,2) -> 1338.48
A21: Ārsts ginekologs, dzemdību speciālists | B21: 1 | C21: =D21+E21 -> 192 | D21: 159 | E21: 33 | G21: 10.56 | H21: =ROUND(G21*E21*2,2) -> 696.96 | I21: =ROUND(H21*1.2359,2) -> 861.37
A22: Ārsts ginekologs, dzemdību speciālists | B22: 1 | C22: =D22+E22 -> 192 | D22: 159 | E22: 33 | G22: 10.46 | H22: =ROUND(G22*E22*2,2) -> 690.36 | I22: =ROUND(H22*1.2359,2) -> 853.22
A23: Ārsts ginekologs, dzemdību speciālists | B23: 1 | C23: =D23+E23 -> 196 | D23: 159 | E23: 37 | G23: 10.2 | H23: =ROUND(G23*E23*2,2) -> 754.8 | I23: =ROUND(H23*1.2359,2) -> 932.86
A24: Ārsts internists | B24: 1 | C24: =D24+E24 -> 162 | D24: 159 | E24: 3 | G24: 10.56 | H24: =ROUND(G24*E24*2,2) -> 63.36 | I24: =ROUND(H24*1.2359,2) -> 78.31
... A35: Radiologs diagnosts | B35: 1 | C35: =D35+E35 -> 168 | D35: 159 | E35: 9 | G35: 4.349 | H35: =ROUND(G35*E35*2,2) -> 78.28 | I35: =ROUND(H35*1.2359,2) -> 96.75
A36: Rezidents | B36: 1 | C36: =D36+E36 -> 183 | D36: 159 | E36: 24 | F36: 1572.39 | G36: =F36/167.42 -> 9.3918887 | H36: =ROUND(G36*E36*2,2) -> 450.81 | I36: =ROUND(H36*1.2359,2) -> 557.16
A37: Rezidents | B37: 1 | C37: =D37+E37 -> 212 | D37: 159 | E37: 53 | F37: 1572.39 | G37: =F37/167.42 -> 9.3918887 | H37: =ROUND(G37*E37*2,2) -> 995.54 | I37: =ROUND(H37*1.2359,2) -> 1230.39
A38: Rezidents | B38: 1 | C38: =D38+E38 -> 213 | D38: 159 | E38: 54 | F38: 1572.39 | G38: =F38/167.42 -> 9.3918887 | H38: =ROUND(G38*E38*2,2) -> 1014.32 | I38: =ROUND(H38*1.2359,2) -> 1253.6
A39: Rezidents | B39: 1 | C39: =D39+E39 -> 209 | D39: 159 | E39: 50 | F39: 1429.45 | G39: =F39/167.42 -> 8.5381078 | H39: =ROUND(G39*E39*2,2) -> 853.81 | I39: =ROUND(H39*1.2359,2) -> 1055.22
A40: Rezidents | B40: 1 | C40: =D40+E40 -> 204 | D40: 159 | E40: 45 | F40: 1572.39 | G40: =F40/167.42 -> 9.3918887 | H40: =ROUND(G40*E40*2,2) -> 845.27 | I40: =ROUND(H40*1.2359,2) -> 1044.67
A41: Rezidents | B41: 1 | C41: =D41+E41 -> 175 | D41: 159 | E41: 16 | F41: 1572.39 | G41: =F41/167.42 -> 9.3918887 | H41: =ROUND(G41*E41*2,2) -> 300.54 | I41: =ROUND(H41*1.2359,2) -> 371.44
A42: Rezidents | B42: 1 | C42: =D42+E42 -> 204 | D42: 159 | E42: 45 | F42: 1572.39 | G42: =F42/167.42 -> 9.3918887 | H42: =ROUND(G42*E42*2,2) -> 845.27 | I42: =ROUND(H42*1.2359,2) -> 1044.67
A43: Rezidents | B43: 1 | C43: =D43+E43 -> 212 | D43: 159 | E43: 53 | F43: 1429.45 | G43: =F43/167.42 -> 8.5381078 | H43: =ROUND(G43*E43*2,2) -> 905.04 | I43: =ROUND(H43*1.2359,2) -> 1118.54
A44: Rezidents | B44: 1 | C44: =D44+E44 -> 212 | D44: 159 | E44: 53 | F44: 1429.45 | G44: =F44/167.42 -> 8.5381078 | H44: =ROUND(G44*E44*2,2) -> 905.04 | I44: =ROUND(H44*1.2359,2) -> 1118.54
A45: Rezidents | B45: 1 | C45: =D45+E45 -> 209 | D45: 159 | E45: 50 | F45: 1429.45 | G45: =F45/167.42 -> 8.5381078 | H45: =ROUND(G45*E45*2,2) -> 853.81 | I45: =ROUND(H45*1.2359,2) -> 1055.22
A46: Rezidents | B46: 1 | C46: =D46+E46 -> 200 | D46: 159 | E46: 41 | F46: 1429.45 | G46: =F46/167.42 -> 8.5381078 | H46: =ROUND(G46*E46*2,2) -> 700.12 | I46: =ROUND(H46*1.2359,2) -> 865.28
A47: Virsārsts endokrinologs | B47: 1 | C47: =D47+E47 -> 164 | D47: 159 | E47: 5 | G47: 17.79 | H47: =ROUND(G47*E47*2,2) -> 177.9 | I47: =ROUND(H47*1.2359,2) -> 219.87
A48: Virsārsts intensīvajā terapijā | B48: 1 | C48: =D48+E48 -> 200 | D48: 159 | E48: 41 | G48: 17.53 | H48: =ROUND(G48*E48*2,2) -> 1437.46 | I48: =ROUND(H48*1.2359,2) -> 1776.56
A49: Virsārsts pneimonologs | B49: 1 | C49: =D49+E49 -> 167 | D49: 159 | E49: 8 | G49: 17.79 | H49: =ROUND(G49*E49*2,2) -> 284.64 | I49: =ROUND(H49*1.2359,2) -> 351.79
A50: Ārstniecības un pacientu aprūpes personas un funkcionālo speciālistu asistenti, kopā, tai skaitā: | B50: =SUM(B51:B160) -> 110 | E50: =SUM(E51:E160) -> 3988 | H50: =SUM(H51:H160) -> 61969.75 | I50: =SUM(I51:I160) -> 76588.4
A51: Ambulatorā dienesta ārsta palīgs | B51: 1 | C51: =D51+E51 -> 200 | D51: 159 | E51: 41 | G51: 7.45 | H51: =ROUND(G51*E51*2,2) -> 610.9 | I51: =ROUND(H51*1.2359,2) -> 755.01
A52: Ambulatorā dienesta ārsta palīgs | B52: 1 | C52: =D52+E52 -> 200 | D52: 159 | E52: 41 | G52: 7.2 | H52: =ROUND(G52*E52*2,2) -> 590.4 | I52: =ROUND(H52*1.2359,2) -> 729.68
A53: Ambulatorā dienesta ārsta palīgs | B53: 1 | C53: =D53+E53 -> 163 | D53: 159 | E53: 4 | G53: 7.2 | H53: =ROUND(G53*E53*2,2) -> 57.6 | I53: =ROUND(H53*1.2359,2) -> 71.19
A54: Ambulatorās aprūpes ārsta palīgs | B54: 1 | C54: =D54+E54 -> 186 | D54: 159 | E54: 27 | G54: 9.29 | H54: =ROUND(G54*E54*2,2) -> 501.66 | I54: =ROUND(H54*1.2359,2) -> 620
A55: Ambulatorās aprūpes māsa | B55: 1 | C55: =D55+E55 -> 160 | D55: 159 | E55: 1 | G55: 9.47 | H55: =ROUND(G55*E55*2,2) -> 18.94 | I55: =ROUND(H55*1.2359,2) -> 23.41
A56: Ambulatorās aprūpes māsa | B56: 1 | C56: =D56+E56 -> 223 | D56: 159 | E56: 64 | G56: 9.47 | H56: =ROUND(G56*E56*2,2) -> 1212.16 | I56: =ROUND(H56*1.2359,2) -> 1498.11
A57: Ambulatorās aprūpes māsa | B57: 1 | C57: =D57+E57 -> 223 | D57: 159 | E57: 64 | G57: 9.47 | H57: =ROUND(G57*E57*2,2) -> 1212.16 | I57: =ROUND(H57*1.2359,2) -> 1498.11
A58: Ambulatorās aprūpes māsa | B58: 1 | C58: =D58+E58 -> 200 | D58: 159 | E58: 41 | G58: 9.47 | H58: =ROUND(G58*E58*2,2) -> 776.54 | I58: =ROUND(H58*1.2359,2) -> 959.73
A59: Anestēzijas, intensīvās un neatliekamās aprūpes māsa | B59: 1 | C59: =D59+E59 -> 203 | D59: 159 | E59: 44 | G59: 7.45 | H59: =ROUND(G59*E59*2,2) -> 655.6 | I59: =ROUND(H59*1.2359,2) -> 810.26
A60: Anestēzijas, intensīvās un neatliekamās aprūpes māsa | B60: 1 | C60: =D60+E60 -> 220 | D60: 159 | E60: 61 | G60: 9.47 | H60: =ROUND(G60*E60*2,2) -> 1155.34 | I60: =ROUND(H60*1.2359,2) -> 1427.88
A61: Anestēzijas, intensīvās un neatliekamās aprūpes māsa | B61: 1 | C61: =D61+E61 -> 216 | D61: 159 | E61: 57 | G61: 9.47 | H61: =ROUND(G61*E61*2,2) -> 1079.58 | I61: =ROUND(H61*1.2359,2) -> 1334.25
A62: Anestēzijas, intensīvās un neatliekamās aprūpes māsa | B62: 1 | C62: =D62+E62 -> 223 | D62: 159 | E62: 64 | G62: 9.38 | H62: =ROUND(G62*E62*2,2) -> 1200.64 | I62: =ROUND(H62*1.2359,2) -> 1483.87
... A160: Vecmāte | B160: 1 | C160: =D160+E160 -> 168 | D160: 159 | E160: 9 | G160: 7.45 | H160: =ROUND(G160*E160*2,2) -> 134.1 | I160: =ROUND(H160*1.2359,2) -> 165.73
A161: Ārstniecības un pacientu aprūpes atbalsta personas, māsu palīgi, zobārstu asistenti, kopā, tai skaitā: | B161: =SUM(B162:B192) -> 31 | E161: =SUM(E162:E192) -> 879 | H161: =SUM(H162:H192) -> 10352 | I161: =SUM(I162:I192) -> 12794.05
A162: Māsas palīgs | B162: 1 | C162: =D162+E162 -> 192 | D162: 159 | E162: 33 | G162: 6.09 | H162: =ROUND(G162*E162*2,2) -> 401.94 | I162: =ROUND(H162*1.2359,2) -> 496.76
A163: Māsas palīgs | B163: 1 | C163: =D163+E163 -> 200 | D163: 159 | E163: 41 | G163: 6.18 | H163: =ROUND(G163*E163*2,2) -> 506.76 | I163: =ROUND(H163*1.2359,2) -> 626.3
A164: Māsas palīgs | B164: 1 | C164: =D164+E164 -> 224 | D164: 159 | E164: 65 | G164: 6.09 | H164: =ROUND(G164*E164*2,2) -> 791.7 | I164: =ROUND(H164*1.2359,2) -> 978.46
A165: Māsas palīgs | B165: 1 | C165: =D165+E165 -> 168 | D165: 159 | E165: 9 | G165: 6.09 | H165: =ROUND(G165*E165*2,2) -> 109.62 | I165: =ROUND(H165*1.2359,2) -> 135.48
A166: Māsas palīgs | B166: 1 | C166: =D166+E166 -> 191 | D166: 159 | E166: 32 | G166: 6.18 | H166: =ROUND(G166*E166*2,2) -> 395.52 | I166: =ROUND(H166*1.2359,2) -> 488.82
A167: Māsas palīgs | B167: 1 | C167: =D167+E167 -> 176 | D167: 159 | E167: 17 | G167: 6.18 | H167: =ROUND(G167*E167*2,2) -> 210.12 | I167: =ROUND(H167*1.2359,2) -> 259.69
A168: Māsas palīgs | B168: 1 | C168: =D168+E168 -> 184 | D168: 159 | E168: 25 | G168: 6.09 | H168: =ROUND(G168*E168*2,2) -> 304.5 | I168: =ROUND(H168*1.2359,2) -> 376.33
A169: Māsas palīgs | B169: 1 | C169: =D169+E169 -> 216 | D169: 159 | E169: 57 | G169: 6.24 | H169: =ROUND(G169*E169*2,2) -> 711.36 | I169: =ROUND(H169*1.2359,2) -> 879.17
A170: Māsas palīgs | B170: 1 | C170: =D170+E170 -> 168 | D170: 159 | E170: 9 | G170: 6.09 | H170: =ROUND(G170*E170*2,2) -> 109.62 | I170: =ROUND(H170*1.2359,2) -> 135.48
A171: Māsas palīgs | B171: 1 | C171: =D171+E171 -> 192 | D171: 159 | E171: 33 | G171: 6.09 | H171: =ROUND(G171*E171*2,2) -> 401.94 | I171: =ROUND(H171*1.2359,2) -> 496.76
A172: Māsas palīgs | B172: 1 | C172: =D172+E172 -> 168 | D172: 159 | E172: 9 | G172: 4.65 | H172: =ROUND(G172*E172*2,2) -> 83.7 | I172: =ROUND(H172*1.2359,2) -> 103.44
A173: Māsas palīgs | B173: 1 | C173: =D173+E173 -> 184 | D173: 159 | E173: 25 | G173: 6.09 | H173: =ROUND(G173*E173*2,2) -> 304.5 | I173: =ROUND(H173*1.2359,2) -> 376.33
... A192: Māsas palīgs neatliekamajā palīdzībā | B192: 1 | C192: =D192+E192 -> 180 | D192: 159 | E192: 21 | G192: 4.75 | H192: =ROUND(G192*E192*2,2) -> 199.5 | I192: =ROUND(H192*1.2359,2) -> 246.56
A193: Pārējie darbinieki, kuri tieši iesaistīti darbā ar Covid-19, kopā, tai skaitā: | B193: =SUM(B194:B275) -> 82 | E193: =SUM(E194:E275) -> 1548 | H193: =SUM(H194:H275) -> 15430.96 | I193: =SUM(I194:I275) -> 19071.17
A194: Atbildīgais sanitārs-transportētājs | B194: 1 | C194: =D194+E194 -> 176 | D194: 159 | E194: 17 | G194: 4.75 | H194: =ROUND(G194*E194*2,2) -> 161.5 | I194: =ROUND(H194*1.2359,2) -> 199.6
A195: Atbildīgais sanitārs-transportētājs | B195: 1 | C195: =D195+E195 -> 191 | D195: 159 | E195: 32 | G195: 4.75 | H195: =ROUND(G195*E195*2,2) -> 304 | I195: =ROUND(H195*1.2359,2) -> 375.71
A196: Atbildīgais sanitārs-transportētājs | B196: 1 | C196: =D196+E196 -> 169 | D196: 159 | E196: 10 | G196: 4.75 | H196: =ROUND(G196*E196*2,2) -> 95 | I196: =ROUND(H196*1.2359,2) -> 117.41
A197: Atbildīgais sanitārs-transportētājs | B197: 1 | C197: =D197+E197 -> 177 | D197: 159 | E197: 18 | G197: 4.75 | H197: =ROUND(G197*E197*2,2) -> 171 | I197: =ROUND(H197*1.2359,2) -> 211.34
A198: Atbildīgais sanitārs-transportētājs | B198: 1 | C198: =D198+E198 -> 160 | D198: 159 | E198: 1 | G198: 4.75 | H198: =ROUND(G198*E198*2,2) -> 9.5 | I198: =ROUND(H198*1.2359,2) -> 11.74
A199: Atbildīgais sanitārs-transportētājs | B199: 1 | C199: =D199+E199 -> 167 | D199: 159 | E199: 8 | G199: 4.75 | H199: =ROUND(G199*E199*2,2) -> 76 | I199: =ROUND(H199*1.2359,2) -> 93.93
A200: Jaunākais māsas palīgs | B200: 1 | C200: =D200+E200 -> 224 | D200: 159 | E200: 65 | G200: 4.3 | H200: =ROUND(G200*E200*2,2) -> 559 | I200: =ROUND(H200*1.2359,2) -> 690.87
A201: Jaunākais māsas palīgs | B201: 1 | C201: =D201+E201 -> 160 | D201: 159 | E201: 1 | G201: 5.49 | H201: =ROUND(G201*E201*2,2) -> 10.98 | I201: =ROUND(H201*1.2359,2) -> 13.57
A202: Jaunākais māsas palīgs | B202: 1 | C202: =D202+E202 -> 191 | D202: 159 | E202: 32 | G202: 5.49 | H202: =ROUND(G202*E202*2,2) -> 351.36 | I202: =ROUND(H202*1.2359,2) -> 434.25
A203: Jaunākais māsas palīgs | B203: 1 | C203: =D203+E203 -> 191 | D203: 159 | E203: 32 | G203: 5.49 | H203: =ROUND(G203*E203*2,2) -> 351.36 | I203: =ROUND(H203*1.2359,2) -> 434.25
A204: Jaunākais māsas palīgs | B204: 1 | C204: =D204+E204 -> 191 | D204: 159 | E204: 32 | G204: 5.49 | H204: =ROUND(G204*E204*2,2) -> 351.36 | I204: =ROUND(H204*1.2359,2) -> 434.25
A205: Jaunākais māsas palīgs | B205: 1 | C205: =D205+E205 -> 168 | D205: 159 | E205: 9 | G205: 5.49 | H205: =ROUND(G205*E205*2,2) -> 98.82 | I205: =ROUND(H205*1.2359,2) -> 122.13
... A275: Vecākais uzkopšanas speciālists | B275: 1 | C275: =D275+E275 -> 171 | D275: 159 | E275: 12 | G275: 3.67 | H275: =ROUND(G275*E275*2,2) -> 88.08 | I275: =ROUND(H275*1.2359,2) -> 108.86

Sheet PSKUS_jūn
H1: 1.4.Pielikums
A2: Pārskats par darba veicējiem (ārstniecības personām), virs normālā darba laika nostrādātām stundām, apmaksājamām stundām un izdevumiem, kas radušies saistībā ar mērķi ierobežot Covid-19 izplatību
A4: Iestādes nosaukums: VSIA "Paula Stradiņa klīniskā universitātes slimnīca"
A5: Pārskata mēnesis: Jūnijs
B7: Nodarbināto skaits mēnesī | C7: Apmaksājamais laiks mēnesī, stundas (tai skaitā summētā darba laika ietvaros) | F7: Mēnešalga no kuras rēķina stundas likmi | G7: Stundas likme (aprēķināta atbilstoši mēnešalgai vai darba līgumā noteiktā stundas likme) | H7: Apmaksājamā 100% piemaksa par nostrādātām virsstundām virs normālā darba laika (tai skaitā summētā darba laika ietvaros) | I7: Izdevumi par virsstundām kopā ar VSAOI, EUR
C8: Kopā | D8: līdz normālam darba laikam | E8: virsstundas - virs normālā darba laika, kas saistītas ar darbu ar Covid-19
A10: 1 | B10: 2 | C10: 3=4+5 | D10: 4 | E10: 5 | F10: 6 | G10: 7 | H10: 8 | I10: 9=8 +VSOAI
A11: KOPĀ | B11: =SUM(B12,B53,B128,B147) -> 203 | E11: =E12+E53+E128+E147 -> 4941 | H11: =H12+H53+H128+H147 -> 77739.5 | I11: =I12+I53+I128+I147 -> 96078.27
A12: Ārsti, zobārsti un funkcionālie speciālisti, kopā, tai skaitā: | B12: =SUM(B13:B52) -> 40 | E12: =SUM(E13:E52) -> 1191 | H12: =SUM(H13:H52) -> 28477.59 | I12: =SUM(I13:I52) -> 35195.44
A13: Atbildīgais ārsts speciālists (diennakts postenis) | B13: 1 | C13: =D13+E13 -> 220 | D13: 159 | E13: 61 | G13: 12.42 | H13: =ROUND(G13*E13*2,2) -> 1515.24 | I13: =ROUND(H13*1.2359,2) -> 1872.69
A14: Atbildīgais ārsts speciālists (diennakts postenis) | B14: 1 | C14: =D14+E14 -> 196 | D14: 159 | E14: 37 | G14: 12.42 | H14: =ROUND(G14*E14*2,2) -> 919.08 | I14: =ROUND(H14*1.2359,2) -> 1135.89
A15: Ārsts anesteziologs, reanimatologs | B15: 1 | C15: =D15+E15 -> 223 | D15: 159 | E15: 64 | G15: 14.75 | H15: =ROUND(G15*E15*2,2) -> 1888 | I15: =ROUND(H15*1.2359,2) -> 2333.38
A16: Ārsts anesteziologs, reanimatologs | B16: 1 | C16: =D16+E16 -> 181 | D16: 159 | E16: 22 | G16: 14.75 | H16: =ROUND(G16*E16*2,2) -> 649 | I16: =ROUND(H16*1.2359,2) -> 802.1
A17: Ārsts anesteziologs, reanimatologs | B17: 1 | C17: =D17+E17 -> 174 | D17: 159 | E17: 15 | G17: 10.56 | H17: =ROUND(G17*E17*2,2) -> 316.8 | I17: =ROUND(H17*1.2359,2) -> 391.53
A18: Ārsts anesteziologs, reanimatologs | B18: 1 | C18: =D18+E18 -> 182 | D18: 159 | E18: 23 | G18: 14.75 | H18: =ROUND(G18*E18*2,2) -> 678.5 | I18: =ROUND(H18*1.2359,2) -> 838.56
A19: Ārsts anesteziologs, reanimatologs | B19: 1 | C19: =D19+E19 -> 221 | D19: 159 | E19: 62 | G19: 14.75 | H19: =ROUND(G19*E19*2,2) -> 1829 | I19: =ROUND(H19*1.2359,2) -> 2260.46
A20: Ārsts anesteziologs, reanimatologs | B20: 1 | C20: =D20+E20 -> 179 | D20: 159 | E20: 20 | G20: 10.46 | H20: =ROUND(G20*E20*2,2) -> 418.4 | I20: =ROUND(H20*1.2359,2) -> 517.1
A21: Ārsts anesteziologs, reanimatologs | B21: 1 | C21: =D21+E21 -> 223 | D21: 159 | E21: 64 | G21: 14.25 | H21: =ROUND(G21*E21*2,2) -> 1824 | I21: =ROUND(H21*1.2359,2) -> 2254.28
A22: Ārsts anesteziologs, reanimatologs | B22: 1 | C22: =D22+E22 -> 202 | D22: 159 | E22: 43 | G22: 14.25 | H22: =ROUND(G22*E22*2,2) -> 1225.5 | I22: =ROUND(H22*1.2359,2) -> 1514.6
A23: Ārsts ginekologs, dzemdību speciālists | B23: 1 | C23: =D23+E23 -> 168 | D23: 159 | E23: 9 | G23: 10.56 | H23: =ROUND(G23*E23*2,2) -> 190.08 | I23: =ROUND(H23*1.2359,2) -> 234.92
A24: Ārsts ginekologs, dzemdību speciālists | B24: 1 | C24: =D24+E24 -> 174 | D24: 159 | E24: 15 | G24: 10.56 | H24: =ROUND(G24*E24*2,2) -> 316.8 | I24: =ROUND(H24*1.2359,2) -> 391.53
... A39: Radiologs diagnosts | B39: 1 | C39: =D39+E39 -> 160 | D39: 159 | E39: 1 | G39: 4.349 | H39: =ROUND(G39*E39*2,2) -> 8.7 | I39: =ROUND(H39*1.2359,2) -> 10.75
A40: Rezidents | B40: 1 | C40: =D40+E40 -> 212 | D40: 159 | E40: 53 | F40: 1572.39 | G40: =F40/167.42 -> 9.3918887 | H40: =ROUND(G40*E40*2,2) -> 995.54 | I40: =ROUND(H40*1.2359,2) -> 1230.39
A41: Rezidents | B41: 1 | C41: =D41+E41 -> 181 | D41: 159 | E41: 22 | F41: 1572.39 | G41: =F41/167.42 -> 9.3918887 | H41: =ROUND(G41*E41*2,2) -> 413.24 | I41: =ROUND(H41*1.2359,2) -> 510.72
A42: Rezidents | B42: 1 | C42: =D42+E42 -> 204 | D42: 159 | E42: 45 | F42: 1572.39 | G42: =F42/167.42 -> 9.3918887 | H42: =ROUND(G42*E42*2,2) -> 845.27 | I42: =ROUND(H42*1.2359,2) -> 1044.67
A43: Rezidents | B43: 1 | C43: =D43+E43 -> 179 | D43: 159 | E43: 20 | F43: 1572.39 | G43: =F43/167.42 -> 9.3918887 | H43: =ROUND(G43*E43*2,2) -> 375.68 | I43: =ROUND(H43*1.2359,2) -> 464.3
A44: Rezidents | B44: 1 | C44: =D44+E44 -> 187 | D44: 159 | E44: 28 | F44: 1572.39 | G44: =F44/167.42 -> 9.3918887 | H44: =ROUND(G44*E44*2,2) -> 525.95 | I44: =ROUND(H44*1.2359,2) -> 650.02
A45: Rezidents | B45: 1 | C45: =D45+E45 -> 181 | D45: 159 | E45: 22 | F45: 1572.39 | G45: =F45/167.42 -> 9.3918887 | H45: =ROUND(G45*E45*2,2) -> 413.24 | I45: =ROUND(H45*1.2359,2) -> 510.72
A46: Rezidents | B46: 1 | C46: =D46+E46 -> 200 | D46: 159 | E46: 41 | F46: 1572.39 | G46: =F46/167.42 -> 9.3918887 | H46: =ROUND(G46*E46*2,2) -> 770.13 | I46: =ROUND(H46*1.2359,2) -> 951.8
A47: Rezidents | B47: 1 | C47: =D47+E47 -> 169 | D47: 159 | E47: 10 | F47: 1429.45 | G47: =F47/167.42 -> 8.5381078 | H47: =ROUND(G47*E47*2,2) -> 170.76 | I47: =ROUND(H47*1.2359,2) -> 211.04
A48: Rezidents | B48: 1 | C48: =D48+E48 -> 203 | D48: 159 | E48: 44 | F48: 1429.45 | G48: =F48/167.42 -> 8.5381078 | H48: =ROUND(G48*E48*2,2) -> 751.35 | I48: =ROUND(H48*1.2359,2) -> 928.59
A49: Rezidents | B49: 1 | C49: =D49+E49 -> 183 | D49: 159 | E49: 24 | F49: 1429.45 | G49: =F49/167.42 -> 8.5381078 | H49: =ROUND(G49*E49*2,2) -> 409.83 | I49: =ROUND(H49*1.2359,2) -> 506.51
A50: Virsārsts endokrinologs | B50: 1 | C50: =D50+E50 -> 174 | D50: 159 | E50: 15 | G50: 17.79 | H50: =ROUND(G50*E50*2,2) -> 533.7 | I50: =ROUND(H50*1.2359,2) -> 659.6
A51: Virsārsts intensīvajā terapijā | B51: 1 | C51: =D51+E51 -> 200 | D51: 159 | E51: 41 | G51: 17.53 | H51: =ROUND(G51*E51*2,2) -> 1437.46 | I51: =ROUND(H51*1.2359,2) -> 1776.56
A52: Virsārsts pneimonologs | B52: 1 | C52: =D52+E52 -> 168 | D52: 159 | E52: 9 | G52: 17.79 | H52: =ROUND(G52*E52*2,2) -> 320.22 | I52: =ROUND(H52*1.2359,2) -> 395.76
A53: Ārstniecības un pacientu aprūpes personas un funkcionālo speciālistu asistenti, kopā, tai skaitā: | B53: =SUM(B54:B127) -> 74 | E53: =SUM(E54:E127) -> 2126 | H53: =SUM(H54:H127) -> 31768.37 | I53: =SUM(I54:I127) -> 39262.53
A54: Ambulatorā dienesta ārsta palīgs | B54: 1 | C54: =D54+E54 -> 175 | D54: 159 | E54: 16 | G54: 7.45 | H54: =ROUND(G54*E54*2,2) -> 238.4 | I54: =ROUND(H54*1.2359,2) -> 294.64
A55: Ambulatorā dienesta ārsta palīgs | B55: 1 | C55: =D55+E55 -> 200 | D55: 159 | E55: 41 | G55: 7.2 | H55: =ROUND(G55*E55*2,2) -> 590.4 | I55: =ROUND(H55*1.2359,2) -> 729.68
A56: Ambulatorās aprūpes ārsta palīgs | B56: 1 | C56: =D56+E56 -> 188 | D56: 159 | E56: 29 | G56: 9.29 | H56: =ROUND(G56*E56*2,2) -> 538.82 | I56: =ROUND(H56*1.2359,2) -> 665.93
A57: Ambulatorās aprūpes māsa | B57: 1 | C57: =D57+E57 -> 160 | D57: 159 | E57: 1 | G57: 9.47 | H57: =ROUND(G57*E57*2,2) -> 18.94 | I57: =ROUND(H57*1.2359,2) -> 23.41
A58: Ambulatorās aprūpes māsa | B58: 1 | C58: =D58+E58 -> 208 | D58: 159 | E58: 49 | G58: 9.47 | H58: =ROUND(G58*E58*2,2) -> 928.06 | I58: =ROUND(H58*1.2359,2) -> 1146.99
A59: Ambulatorās aprūpes māsa | B59: 1 | C59: =D59+E59 -> 200 | D59: 159 | E59: 41 | G59: 9.47 | H59: =ROUND(G59*E59*2,2) -> 776.54 | I59: =ROUND(H59*1.2359,2) -> 959.73
A60: Anestēzijas, intensīvās un neatliekamās aprūpes māsa | B60: 1 | C60: =D60+E60 -> 188 | D60: 159 | E60: 29 | G60: 7.45 | H60: =ROUND(G60*E60*2,2) -> 432.1 | I60: =ROUND(H60*1.2359,2) -> 534.03
A61: Anestēzijas, intensīvās un neatliekamās aprūpes māsa | B61: 1 | C61: =D61+E61 -> 183 | D61: 159 | E61: 24 | G61: 9.47 | H61: =ROUND(G61*E61*2,2) -> 454.56 | I61: =ROUND(H61*1.2359,2) -> 561.79
A62: Anestēzijas, intensīvās un neatliekamās aprūpes māsa | B62: 1 | C62: =D62+E62 -> 208 | D62: 159 | E62: 49 | G62: 9.38 | H62: =ROUND(G62*E62*2,2) -> 919.24 | I62: =ROUND(H62*1.2359,2) -> 1136.09
A63: Anestēzijas, intensīvās un neatliekamās aprūpes māsa | B63: 1 | C63: =D63+E63 -> 210 | D63: 159 | E63: 51 | G63: 7.45 | H63: =ROUND(G63*E63*2,2) -> 759.9 | I63: =ROUND(H63*1.2359,2) -> 939.16
A64: Anestēzijas, intensīvās un neatliekamās aprūpes māsa | B64: 1 | C64: =D64+E64 -> 180 | D64: 159 | E64: 21 | G64: 7.38 | H64: =ROUND(G64*E64*2,2) -> 309.96 | I64: =ROUND(H64*1.2359,2) -> 383.08
A65: Anestēzijas, intensīvās un neatliekamās aprūpes māsa | B65: 1 | C65: =D65+E65 -> 219 | D65: 159 | E65: 60 | G65: 7.45 | H65: =ROUND(G65*E65*2,2) -> 894 | I65: =ROUND(H65*1.2359,2) -> 1104.89
... A127: Radiologa asistents | B127: 1 | C127: =D127+E127 -> 183 | D127: 159 | E127: 24 | G127: 2.711 | H127: =ROUND(G127*E127*2,2) -> 130.13 | I127: =ROUND(H127*1.2359,2) -> 160.83
A128: Ārstniecības un pacientu aprūpes atbalsta personas, māsu palīgi, zobārstu asistenti, kopā, tai skaitā: | B128: =SUM(B129:B146) -> 18 | E128: =SUM(E129:E146) -> 453 | H128: =SUM(H129:H146) -> 5414.7 | I128: =SUM(I129:I146) -> 6692.03
A129: Māsas palīgs | B129: 1 | C129: =D129+E129 -> 175 | D129: 159 | E129: 16 | G129: 6.09 | H129: =ROUND(G129*E129*2,2) -> 194.88 | I129: =ROUND(H129*1.2359,2) -> 240.85
A130: Māsas palīgs | B130: 1 | C130: =D130+E130 -> 192 | D130: 159 | E130: 33 | G130: 6.18 | H130: =ROUND(G130*E130*2,2) -> 407.88 | I130: =ROUND(H130*1.2359,2) -> 504.1
A131: Māsas palīgs | B131: 1 | C131: =D131+E131 -> 192 | D131: 159 | E131: 33 | G131: 6.09 | H131: =ROUND(G131*E131*2,2) -> 401.94 | I131: =ROUND(H131*1.2359,2) -> 496.76
A132: Māsas palīgs | B132: 1 | C132: =D132+E132 -> 168 | D132: 159 | E132: 9 | G132: 6.09 | H132: =ROUND(G132*E132*2,2) -> 109.62 | I132: =ROUND(H132*1.2359,2) -> 135.48
A133: Māsas palīgs | B133: 1 | C133: =D133+E133 -> 215 | D133: 159 | E133: 56 | G133: 6.24 | H133: =ROUND(G133*E133*2,2) -> 698.88 | I133: =ROUND(H133*1.2359,2) -> 863.75
A134: Māsas palīgs | B134: 1 | C134: =D134+E134 -> 184 | D134: 159 | E134: 25 | G134: 6.09 | H134: =ROUND(G134*E134*2,2) -> 304.5 | I134: =ROUND(H134*1.2359,2) -> 376.33
A135: Māsas palīgs | B135: 1 | C135: =D135+E135 -> 192 | D135: 159 | E135: 33 | G135: 6.09 | H135: =ROUND(G135*E135*2,2) -> 401.94 | I135: =ROUND(H135*1.2359,2) -> 496.76
A136: Māsas palīgs | B136: 1 | C136: =D136+E136 -> 192 | D136: 159 | E136: 33 | G136: 6.09 | H136: =ROUND(G136*E136*2,2) -> 401.94 | I136: =ROUND(H136*1.2359,2) -> 496.76
A137: Māsas palīgs | B137: 1 | C137: =D137+E137 -> 216 | D137: 159 | E137: 57 | G137: 6.09 | H137: =ROUND(G137*E137*2,2) -> 694.26 | I137: =ROUND(H137*1.2359,2) -> 858.04
A138: Māsas palīgs | B138: 1 | C138: =D138+E138 -> 175 | D138: 159 | E138: 16 | G138: 4.65 | H138: =ROUND(G138*E138*2,2) -> 148.8 | I138: =ROUND(H138*1.2359,2) -> 183.9
A139: Māsas palīgs | B139: 1 | C139: =D139+E139 -> 208 | D139: 159 | E139: 49 | G139: 6.09 | H139: =ROUND(G139*E139*2,2) -> 596.82 | I139: =ROUND(H139*1.2359,2) -> 737.61
A140: Māsas palīgs | B140: 1 | C140: =D140+E140 -> 168 | D140: 159 | E140: 9 | G140: 4.65 | H140: =ROUND(G140*E140*2,2) -> 83.7 | I140: =ROUND(H140*1.2359,2) -> 103.44
... A146: Māsas palīgs neatliekamajā palīdzībā | B146: 1 | C146: =D146+E146 -> 176 | D146: 159 | E146: 17 | G146: 4.75 | H146: =ROUND(G146*E146*2,2) -> 161.5 | I146: =ROUND(H146*1.2359,2) -> 199.6
A147: Pārējie darbinieki, kuri tieši iesaistīti darbā ar Covid-19, kopā, tai skaitā: | B147: =SUM(B148:B218) -> 71 | E147: =SUM(E148:E218) -> 1171 | H147: =SUM(H148:H218) -> 12078.84 | I147: =SUM(I148:I218) -> 14928.27
A148: Atbildīgais sanitārs-transportētājs | B148: 1 | C148: =D148+E148 -> 168 | D148: 159 | E148: 9 | G148: 4.75 | H148: =ROUND(G148*E148*2,2) -> 85.5 | I148: =ROUND(H148*1.2359,2) -> 105.67
A149: Atbildīgais sanitārs-transportētājs | B149: 1 | C149: =D149+E149 -> 191 | D149: 159 | E149: 32 | G149: 4.75 | H149: =ROUND(G149*E149*2,2) -> 304 | I149: =ROUND(H149*1.2359,2) -> 375.71
A150: Atbildīgais sanitārs-transportētājs | B150: 1 | C150: =D150+E150 -> 160 | D150: 159 | E150: 1 | G150: 4.75 | H150: =ROUND(G150*E150*2,2) -> 9.5 | I150: =ROUND(H150*1.2359,2) -> 11.74
A151: Atbildīgais sanitārs-transportētājs | B151: 1 | C151: =D151+E151 -> 168 | D151: 159 | E151: 9 | G151: 4.75 | H151: =ROUND(G151*E151*2,2) -> 85.5 | I151: =ROUND(H151*1.2359,2) -> 105.67
A152: Jaunākais māsas palīgs | B152: 1 | C152: =D152+E152 -> 191 | D152: 159 | E152: 32 | G152: 5.49 | H152: =ROUND(G152*E152*2,2) -> 351.36 | I152: =ROUND(H152*1.2359,2) -> 434.25
A153: Jaunākais māsas palīgs | B153: 1 | C153: =D153+E153 -> 191 | D153: 159 | E153: 32 | G153: 5.49 | H153: =ROUND(G153*E153*2,2) -> 351.36 | I153: =ROUND(H153*1.2359,2) -> 434.25
A154: Jaunākais māsas palīgs | B154: 1 | C154: =D154+E154 -> 191 | D154: 159 | E154: 32 | G154: 5.49 | H154: =ROUND(G154*E154*2,2) -> 351.36 | I154: =ROUND(H154*1.2359,2) -> 434.25
A155: Jaunākais māsas palīgs | B155: 1 | C155: =D155+E155 -> 168 | D155: 159 | E155: 9 | G155: 5.49 | H155: =ROUND(G155*E155*2,2) -> 98.82 | I155: =ROUND(H155*1.2359,2) -> 122.13
A156: Jaunākais māsas palīgs | B156: 1 | C156: =D156+E156 -> 163 | D156: 159 | E156: 4 | G156: 5.49 | H156: =ROUND(G156*E156*2,2) -> 43.92 | I156: =ROUND(H156*1.2359,2) -> 54.28
A157: Jaunākais māsas palīgs | B157: 1 | C157: =D157+E157 -> 191 | D157: 159 | E157: 32 | G157: 5.49 | H157: =ROUND(G157*E157*2,2) -> 351.36 | I157: =ROUND(H157*1.2359,2) -> 434.25
A158: Jaunākais māsas palīgs | B158: 1 | C158: =D158+E158 -> 184 | D158: 159 | E158: 25 | G158: 4.3 | H158: =ROUND(G158*E158*2,2) -> 215 | I158: =ROUND(H158*1.2359,2) -> 265.72
A159: Jaunākais māsas palīgs | B159: 1 | C159: =D159+E159 -> 176 | D159: 159 | E159: 17 | G159: 5.49 | H159: =ROUND(G159*E159*2,2) -> 186.66 | I159: =ROUND(H159*1.2359,2) -> 230.69
... A218: Vecākais uzkopšanas speciālists | B218: 1 | C218: =D218+E218 -> 189 | D218: 159 | E218: 30 | G218: 3.67 | H218: =ROUND(G218*E218*2,2) -> 220.2 | I218: =ROUND(H218*1.2359,2) -> 272.15

Sheet PSKUS_jūl
H1: 1.5.Pielikums
A2: Pārskats par darba veicējiem (ārstniecības personām), virs normālā darba laika nostrādātām stundām, apmaksājamām stundām un izdevumiem, kas radušies saistībā ar mērķi ierobežot Covid-19 izplatību
A4: Iestādes nosaukums: VSIA "Paula Stradiņa klīniskā universitātes slimnīca"
A5: Pārskata mēnesis: Jūlijs
B7: Nodarbināto skaits mēnesī | C7: Apmaksājamais laiks mēnesī, stundas (tai skaitā summētā darba laika ietvaros) | F7: Mēnešalga no kuras rēķina stundas likmi | G7: Stundas likme (aprēķināta atbilstoši mēnešalgai vai darba līgumā noteiktā stundas likme) | H7: Apmaksājamā 100% piemaksa par nostrādātām virsstundām virs normālā darba laika (tai skaitā summētā darba laika ietvaros) | I7: Izdevumi par virsstundām kopā ar VSAOI, EUR
C8: Kopā | D8: līdz normālam darba laikam | E8: virsstundas - virs normālā darba laika, kas saistītas ar darbu ar Covid-19
A10: 1 | B10: 2 | C10: 3=4+5 | D10: 4 | E10: 5 | F10: 6 | G10: 7 | H10: 8 | I10: 9=8 +VSOAI
A11: KOPĀ | B11: =SUM(B12,B38,B82,B89) -> 117 | E11: =E12+E38+E82+E89 -> 2896 | H11: =H12+H38+H82+H89 -> 40019.45 | I11: =I12+I38+I82+I89 -> 49460.08
A12: Ārsti, zobārsti un funkcionālie speciālisti, kopā, tai skaitā: | B12: =COUNTA(A13:A37) -> 25 | E12: =SUM(E13:E37) -> 603 | H12: =SUM(H13:H37) -> 12701.83 | I12: =SUM(I13:I37) -> 15698.2
A13: Atbildīgais ārsts speciālists (diennakts postenis) | B13: 1 | C13: =D13+E13 -> 240 | D13: 176 | E13: 64 | G13: 12.42 | H13: =ROUND(G13*E13*2,2) -> 1589.76 | I13: =ROUND(H13*1.2359,2) -> 1964.78
A14: Atbildīgais ārsts speciālists (diennakts postenis) | B14: 1 | C14: =D14+E14 -> 180 | D14: 176 | E14: 4 | G14: 12.42 | H14: =ROUND(G14*E14*2,2) -> 99.36 | I14: =ROUND(H14*1.2359,2) -> 122.8
A15: Ārsts | B15: 1 | C15: =D15+E15 -> 180 | D15: 176 | E15: 4 | G15: 8.54 | H15: =ROUND(G15*E15*2,2) -> 68.32 | I15: =ROUND(H15*1.2359,2) -> 84.44
A16: Ārsts anesteziologs, reanimatologs | B16: 1 | C16: =D16+E16 -> 199 | D16: 176 | E16: 23 | G16: 14.75 | H16: =ROUND(G16*E16*2,2) -> 678.5 | I16: =ROUND(H16*1.2359,2) -> 838.56
A17: Ārsts anesteziologs, reanimatologs | B17: 1 | C17: =D17+E17 -> 195 | D17: 176 | E17: 19 | G17: 10.56 | H17: =ROUND(G17*E17*2,2) -> 401.28 | I17: =ROUND(H17*1.2359,2) -> 495.94
A18: Ārsts anesteziologs, reanimatologs | B18: 1 | C18: =D18+E18 -> 200 | D18: 176 | E18: 24 | G18: 14.75 | H18: =ROUND(G18*E18*2,2) -> 708 | I18: =ROUND(H18*1.2359,2) -> 875.02
A19: Ārsts anesteziologs, reanimatologs | B19: 1 | C19: =D19+E19 -> 194 | D19: 176 | E19: 18 | G19: 10.46 | H19: =ROUND(G19*E19*2,2) -> 376.56 | I19: =ROUND(H19*1.2359,2) -> 465.39
A20: Ārsts ginekologs, dzemdību speciālists | B20: 1 | C20: =D20+E20 -> 188 | D20: 176 | E20: 12 | G20: 10.56 | H20: =ROUND(G20*E20*2,2) -> 253.44 | I20: =ROUND(H20*1.2359,2) -> 313.23
A21: Ārsts ginekologs, dzemdību speciālists | B21: 1 | C21: =D21+E21 -> 184 | D21: 176 | E21: 8 | G21: 10.56 | H21: =ROUND(G21*E21*2,2) -> 168.96 | I21: =ROUND(H21*1.2359,2) -> 208.82
A22: Ārsts ginekologs, dzemdību speciālists | B22: 1 | C22: =D22+E22 -> 200 | D22: 176 | E22: 24 | G22: 10.46 | H22: =ROUND(G22*E22*2,2) -> 502.08 | I22: =ROUND(H22*1.2359,2) -> 620.52
A23: Ārsts ginekologs, dzemdību speciālists | B23: 1 | C23: =D23+E23 -> 236 | D23: 176 | E23: 60 | G23: 10.2 | H23: =ROUND(G23*E23*2,2) -> 1224 | I23: =ROUND(H23*1.2359,2) -> 1512.74
A24: Ārsts ginekologs, dzemdību speciālists | B24: 1 | C24: =D24+E24 -> 184 | D24: 176 | E24: 8 | G24: 10.2 | H24: =ROUND(G24*E24*2,2) -> 163.2 | I24: =ROUND(H24*1.2359,2) -> 201.7
... A34: Radiologs diagnosts | B34: 1 | C34: =D34+E34 -> 200 | D34: 176 | E34: 24 | G34: 4.349 | H34: =ROUND(G34*E34*2,2) -> 208.75 | I34: =ROUND(H34*1.2359,2) -> 257.99
A35: Rezidents | B35: 1 | C35: =D35+E35 -> 179 | D35: 176 | E35: 3 | F35: 1572.39 | G35: =F35/167.42 -> 9.3918887 | H35: =ROUND(G35*E35*2,2) -> 56.35 | I35: =ROUND(H35*1.2359,2) -> 69.64
A36: Rezidents | B36: 1 | C36: =D36+E36 -> 217 | D36: 176 | E36: 41 | F36: 1572.39 | G36: =F36/167.42 -> 9.3918887 | H36: =ROUND(G36*E36*2,2) -> 770.13 | I36: =ROUND(H36*1.2359,2) -> 951.8
A37: Rezidents | B37: 1 | C37: =D37+E37 -> 185 | D37: 176 | E37: 9 | F37: 1429.45 | G37: =F37/167.42 -> 8.5381078 | H37: =ROUND(G37*E37*2,2) -> 153.69 | I37: =ROUND(H37*1.2359,2) -> 189.95
A38: Ārstniecības un pacientu aprūpes personas un funkcionālo speciālistu asistenti, kopā, tai skaitā: | B38: =SUM(B39:B81) -> 43 | E38: =SUM(E39:E81) -> 1251 | H38: =SUM(H39:H81) -> 16132.98 | I38: =SUM(I39:I81) -> 19938.78
A39: Ārsta epidemiologa palīgs | B39: 1 | C39: =D39+E39 -> 208 | D39: 176 | E39: 32 | F39: 1242 | G39: =ROUND(F39/176,3) -> 7.057 | H39: =ROUND(G39*E39*2,2) -> 451.65 | I39: =ROUND(H39*1.2359,2) -> 558.19
A40: Ambulatorā dienesta ārsta palīgs | B40: 1 | C40: =D40+E40 -> 184 | D40: 176 | E40: 8 | G40: 7.45 | H40: =ROUND(G40*E40*2,2) -> 119.2 | I40: =ROUND(H40*1.2359,2) -> 147.32
A41: Ambulatorā dienesta ārsta palīgs | B41: 1 | C41: =D41+E41 -> 200 | D41: 176 | E41: 24 | G41: 7.2 | H41: =ROUND(G41*E41*2,2) -> 345.6 | I41: =ROUND(H41*1.2359,2) -> 427.13
A42: Anestēzijas, intensīvās un neatliekamās aprūpes māsa | B42: 1 | C42: =D42+E42 -> 216 | D42: 176 | E42: 40 | G42: 7.45 | H42: =ROUND(G42*E42*2,2) -> 596 | I42: =ROUND(H42*1.2359,2) -> 736.6
A43: Anestēzijas, intensīvās un neatliekamās aprūpes māsa | B43: 1 | C43: =D43+E43 -> 201 | D43: 176 | E43: 25 | G43: 9.47 | H43: =ROUND(G43*E43*2,2) -> 473.5 | I43: =ROUND(H43*1.2359,2) -> 585.2
A44: Anestēzijas, intensīvās un neatliekamās aprūpes māsa | B44: 1 | C44: =D44+E44 -> 225 | D44: 176 | E44: 49 | G44: 9.38 | H44: =ROUND(G44*E44*2,2) -> 919.24 | I44: =ROUND(H44*1.2359,2) -> 1136.09
A45: Anestēzijas, intensīvās un neatliekamās aprūpes māsa | B45: 1 | C45: =D45+E45 -> 228 | D45: 176 | E45: 52 | G45: 7.45 | H45: =ROUND(G45*E45*2,2) -> 774.8 | I45: =ROUND(H45*1.2359,2) -> 957.58
A46: Anestēzijas, intensīvās un neatliekamās aprūpes māsa | B46: 1 | C46: =D46+E46 -> 184 | D46: 176 | E46: 8 | G46: 7.38 | H46: =ROUND(G46*E46*2,2) -> 118.08 | I46: =ROUND(H46*1.2359,2) -> 145.94
A47: Anestēzijas, intensīvās un neatliekamās aprūpes māsa | B47: 1 | C47: =D47+E47 -> 224 | D47: 176 | E47: 48 | G47: 7.45 | H47: =ROUND(G47*E47*2,2) -> 715.2 | I47: =ROUND(H47*1.2359,2) -> 883.92
A48: Anestēzijas, intensīvās un neatliekamās aprūpes māsa | B48: 1 | C48: =D48+E48 -> 180 | D48: 176 | E48: 4 | G48: 7.45 | H48: =ROUND(G48*E48*2,2) -> 59.6 | I48: =ROUND(H48*1.2359,2) -> 73.66
A49: Anestēzijas, intensīvās un neatliekamās aprūpes māsa | B49: 1 | C49: =D49+E49 -> 180 | D49: 176 | E49: 4 | G49: 7.45 | H49: =ROUND(G49*E49*2,2) -> 59.6 | I49: =ROUND(H49*1.2359,2) -> 73.66
A50: Anestēzijas, intensīvās un neatliekamās aprūpes māsa | B50: 1 | C50: =D50+E50 -> 240 | D50: 176 | E50: 64 | G50: 7.45 | H50: =ROUND(G50*E50*2,2) -> 953.6 | I50: =ROUND(H50*1.2359,2) -> 1178.55
A51: Anestēzijas, intensīvās un neatliekamās aprūpes māsa | B51: 1 | C51: =D51+E51 -> 184 | D51: 176 | E51: 8 | G51: 7.31 | H51: =ROUND(G51*E51*2,2) -> 116.96 | I51: =ROUND(H51*1.2359,2) -> 144.55
... A81: Radiologa asistents | B81: 1 | C81: =D81+E81 -> 224 | D81: 176 | E81: 48 | G81: 2.711 | H81: =ROUND(G81*E81*2,2) -> 260.26 | I81: =ROUND(H81*1.2359,2) -> 321.66
A82: Ārstniecības un pacientu aprūpes atbalsta personas, māsu palīgi, zobārstu asistenti, kopā, tai skaitā: | B82: =SUM(B83:B88) -> 6 | E82: =SUM(E83:E88) -> 97 | H82: =SUM(H83:H88) -> 1007.26 | I82: =SUM(I83:I88) -> 1244.86
A83: Māsas palīgs | B83: 1 | C83: =D83+E83 -> 192 | D83: 176 | E83: 16 | G83: 6.09 | H83: =ROUND(G83*E83*2,2) -> 194.88 | I83: =ROUND(H83*1.2359,2) -> 240.85
A84: Māsas palīgs | B84: 1 | C84: =D84+E84 -> 192 | D84: 176 | E84: 16 | G84: 6.09 | H84: =ROUND(G84*E84*2,2) -> 194.88 | I84: =ROUND(H84*1.2359,2) -> 240.85
A85: Māsas palīgs neatliekamajā palīdzībā | B85: 1 | C85: =D85+E85 -> 180 | D85: 176 | E85: 4 | G85: 4.75 | H85: =ROUND(G85*E85*2,2) -> 38 | I85: =ROUND(H85*1.2359,2) -> 46.96
A86: Māsas palīgs neatliekamajā palīdzībā | B86: 1 | C86: =D86+E86 -> 193 | D86: 176 | E86: 17 | G86: 4.75 | H86: =ROUND(G86*E86*2,2) -> 161.5 | I86: =ROUND(H86*1.2359,2) -> 199.6
A87: Māsas palīgs neatliekamajā palīdzībā | B87: 1 | C87: =D87+E87 -> 216 | D87: 176 | E87: 40 | G87: 4.75 | H87: =ROUND(G87*E87*2,2) -> 380 | I87: =ROUND(H87*1.2359,2) -> 469.64
A88: Māsas palīgs neatliekamajā palīdzībā | B88: 1 | C88: =D88+E88 -> 180 | D88: 176 | E88: 4 | G88: 4.75 | H88: =ROUND(G88*E88*2,2) -> 38 | I88: =ROUND(H88*1.2359,2) -> 46.96
A89: Pārējie darbinieki, kuri tieši iesaistīti darbā ar Covid-19, kopā, tai skaitā: | B89: =SUM(B90:B132) -> 43 | E89: =SUM(E90:E132) -> 945 | H89: =SUM(H90:H132) -> 10177.38 | I89: =SUM(I90:I132) -> 12578.24
A90: Atbildīgais sanitārs-transportētājs | B90: 1 | C90: =D90+E90 -> 200 | D90: 176 | E90: 24 | G90: 4.75 | H90: =ROUND(G90*E90*2,2) -> 228 | I90: =ROUND(H90*1.2359,2) -> 281.79
A91: Atbildīgais sanitārs-transportētājs | B91: 1 | C91: =D91+E91 -> 192 | D91: 176 | E91: 16 | G91: 4.75 | H91: =ROUND(G91*E91*2,2) -> 152 | I91: =ROUND(H91*1.2359,2) -> 187.86
A92: Atbildīgais sanitārs-transportētājs | B92: 1 | C92: =D92+E92 -> 192 | D92: 176 | E92: 16 | G92: 4.75 | H92: =ROUND(G92*E92*2,2) -> 152 | I92: =ROUND(H92*1.2359,2) -> 187.86
A93: Jaunākais māsas palīgs | B93: 1 | C93: =D93+E93 -> 192 | D93: 176 | E93: 16 | G93: 5.49 | H93: =ROUND(G93*E93*2,2) -> 175.68 | I93: =ROUND(H93*1.2359,2) -> 217.12
A94: Jaunākais māsas palīgs | B94: 1 | C94: =D94+E94 -> 184 | D94: 176 | E94: 8 | G94: 5.49 | H94: =ROUND(G94*E94*2,2) -> 87.84 | I94: =ROUND(H94*1.2359,2) -> 108.56
A95: Jaunākais māsas palīgs | B95: 1 | C95: =D95+E95 -> 198 | D95: 176 | E95: 22 | G95: 5.49 | H95: =ROUND(G95*E95*2,2) -> 241.56 | I95: =ROUND(H95*1.2359,2) -> 298.54
A96: Klientu apkalpošanas speciālists | B96: 1 | C96: =D96+E96 -> 188 | D96: 176 | E96: 12 | G96: 6 | H96: =ROUND(G96*E96*2,2) -> 144 | I96: =ROUND(H96*1.2359,2) -> 177.97
A97: Klientu apkalpošanas speciālists | B97: 1 | C97: =D97+E97 -> 204 | D97: 176 | E97: 28 | G97: 6 | H97: =ROUND(G97*E97*2,2) -> 336 | I97: =ROUND(H97*1.2359,2) -> 415.26
A98: Klientu apkalpošanas speciālists | B98: 1 | C98: =D98+E98 -> 200 | D98: 176 | E98: 24 | G98: 6 | H98: =ROUND(G98*E98*2,2) -> 288 | I98: =ROUND(H98*1.2359,2) -> 355.94
A99: Klientu apkalpošanas speciālists | B99: 1 | C99: =D99+E99 -> 192 | D99: 176 | E99: 16 | G99: 6 | H99: =ROUND(G99*E99*2,2) -> 192 | I99: =ROUND(H99*1.2359,2) -> 237.29
A100: Klientu apkalpošanas speciālists | B100: 1 | C100: =D100+E100 -> 206 | D100: 176 | E100: 30 | G100: 6 | H100: =ROUND(G100*E100*2,2) -> 360 | I100: =ROUND(H100*1.2359,2) -> 444.92
A101: Klientu apkalpošanas speciālists | B101: 1 | C101: =D101+E101 -> 204 | D101: 176 | E101: 28 | G101: 6 | H101: =ROUND(G101*E101*2,2) -> 336 | I101: =ROUND(H101*1.2359,2) -> 415.26
... A130: Vecākais uzkopšanas speciālists | B130: 1 | C130: =D130+E130 -> 240 | D130: 176 | E130: 64 | G130: 3.67 | H130: =ROUND(G130*E130*2,2) -> 469.76 | I130: =ROUND(H130*1.2359,2) -> 580.58
A131: Veselības aprūpes datu analītiķis | B131: 1 | C131: =D131+E131 -> 206 | D131: 176 | E131: 30 | F131: 1360 | G131: =ROUND(F131/176,3) -> 7.727 | H131: =ROUND(G131*E131*2,2) -> 463.62 | I131: =ROUND(H131*1.2359,2) -> 572.99
A132: Vecākais veselības aprūpes datu analītiķis | B132: 1 | C132: =D132+E132 -> 186 | D132: 176 | E132: 10 | F132: 1500 | G132: =ROUND(F132/176,3) -> 8.523 | H132: =ROUND(G132*E132*2,2) -> 170.46 | I132: =ROUND(H132*1.2359,2) -> 210.67

Sheet PSKUS_aug
H1: 1.6.Pielikums
A2: Pārskats par darba veicējiem (ārstniecības personām), virs normālā darba laika nostrādātām stundām, apmaksājamām stundām un izdevumiem, kas radušies saistībā ar mērķi ierobežot Covid-19 izplatību
A4: Iestādes nosaukums: VSIA "Paula Stradiņa klīniskā universitātes slimnīca"
A5: Pārskata mēnesis: Augusts
B7: Nodarbināto skaits mēnesī | C7: Apmaksājamais laiks mēnesī, stundas (tai skaitā summētā darba laika ietvaros) | F7: Mēnešalga no kuras rēķina stundas likmi | G7: Stundas likme (aprēķināta atbilstoši mēnešalgai vai darba līgumā noteiktā stundas likme) | H7: Apmaksājamā 100% piemaksa par nostrādātām virsstundām virs normālā darba laika (tai skaitā summētā darba laika ietvaros) | I7: Izdevumi par virsstundām kopā ar VSAOI, EUR
C8: Kopā | D8: līdz normālam darba laikam | E8: virsstundas - virs normālā darba laika, kas saistītas ar darbu ar Covid-19
A10: 1 | B10: 2 | C10: 3=4+5 | D10: 4 | E10: 5 | F10: 6 | G10: 7 | H10: 8 | I10: 9=8 +VSOAI
A11: KOPĀ | B11: =SUM(B12,B39,B86,B90) -> 132 | E11: =E12+E39+E86+E90 -> 2702 | H11: =H12+H39+H86+H90 -> 37288.93 | I11: =I12+I39+I86+I90 -> 46085.37
A12: Ārsti, zobārsti un funkcionālie speciālisti, kopā, tai skaitā: | B12: =SUM(B13:B38) -> 26 | E12: =SUM(E13:E38) -> 603 | H12: =SUM(H13:H38) -> 12068.79 | I12: =SUM(I13:I38) -> 14915.83
A13: Atbildīgais ārsts speciālists (diennakts postenis) | B13: 1 | C13: =D13+E13 -> 232 | D13: 176 | E13: 56 | G13: 12.42 | H13: =ROUND(G13*E13*2,2) -> 1391.04 | I13: =ROUND(H13*1.2359,2) -> 1719.19
A14: Atbildīgais ārsts speciālists (diennakts postenis) | B14: 1 | C14: =D14+E14 -> 178 | D14: 176 | E14: 2 | G14: 12.42 | H14: =ROUND(G14*E14*2,2) -> 49.68 | I14: =ROUND(H14*1.2359,2) -> 61.4
A15: Atbildīgais ārsts speciālists (diennakts postenis) | B15: 1 | C15: =D15+E15 -> 180 | D15: 176 | E15: 4 | G15: 12.42 | H15: =ROUND(G15*E15*2,2) -> 99.36 | I15: =ROUND(H15*1.2359,2) -> 122.8
A16: Ārsts ginekologs, dzemdību speciālists | B16: 1 | C16: =D16+E16 -> 181 | D16: 176 | E16: 5 | G16: 10.56 | H16: =ROUND(G16*E16*2,2) -> 105.6 | I16: =ROUND(H16*1.2359,2) -> 130.51
A17: Ārsts ginekologs, dzemdību speciālists | B17: 1 | C17: =D17+E17 -> 192 | D17: 176 | E17: 16 | G17: 10.46 | H17: =ROUND(G17*E17*2,2) -> 334.72 | I17: =ROUND(H17*1.2359,2) -> 413.68
A18: Ārsts ginekologs, dzemdību speciālists | B18: 1 | C18: =D18+E18 -> 192 | D18: 176 | E18: 16 | G18: 10.2 | H18: =ROUND(G18*E18*2,2) -> 326.4 | I18: =ROUND(H18*1.2359,2) -> 403.4
A19: Ārsts ginekologs, dzemdību speciālists | B19: 1 | C19: =D19+E19 -> 184 | D19: 176 | E19: 8 | G19: 10.2 | H19: =ROUND(G19*E19*2,2) -> 163.2 | I19: =ROUND(H19*1.2359,2) -> 201.7
A20: Ārsts kardiologs | B20: 1 | C20: =D20+E20 -> 220 | D20: 176 | E20: 44 | G20: 10.56 | H20: =ROUND(G20*E20*2,2) -> 929.28 | I20: =ROUND(H20*1.2359,2) -> 1148.5
A21: Ārsts ķirurgs (dežūrām) | B21: 1 | C21: =D21+E21 -> 200 | D21: 176 | E21: 24 | G21: 12.42 | H21: =ROUND(G21*E21*2,2) -> 596.16 | I21: =ROUND(H21*1.2359,2) -> 736.79
A22: Ārsts ķirurgs (dežūrām) | B22: 1 | C22: =D22+E22 -> 200 | D22: 176 | E22: 24 | G22: 12 | H22: =ROUND(G22*E22*2,2) -> 576 | I22: =ROUND(H22*1.2359,2) -> 711.88
A23: Ārsts ķirurgs (dežūrām) | B23: 1 | C23: =D23+E23 -> 196 | D23: 176 | E23: 20 | G23: 12 | H23: =ROUND(G23*E23*2,2) -> 480 | I23: =ROUND(H23*1.2359,2) -> 593.23
A24: Ārsts neirologs | B24: 1 | C24: =D24+E24 -> 208 | D24: 176 | E24: 32 | G24: 9.83 | H24: =ROUND(G24*E24*2,2) -> 629.12 | I24: =ROUND(H24*1.2359,2) -> 777.53
... A33: Radiologs diagnosts | B33: 1 | C33: =D33+E33 -> 205 | D33: 176 | E33: 29 | G33: 4.349 | H33: =ROUND(G33*E33*2,2) -> 252.24 | I33: =ROUND(H33*1.2359,2) -> 311.74
A34: Rezidents | B34: 1 | C34: =D34+E34 -> 200 | D34: 176 | E34: 24 | F34: 1572.39 | G34: =F34/167.42 -> 9.3918887 | H34: =ROUND(G34*E34*2,2) -> 450.81 | I34: =ROUND(H34*1.2359,2) -> 557.16
A35: Rezidents | B35: 1 | C35: =D35+E35 -> 205 | D35: 177 | E35: 28 | F35: 1572.39 | G35: =F35/167.42 -> 9.3918887 | H35: =ROUND(G35*E35*2,2) -> 525.95 | I35: =ROUND(H35*1.2359,2) -> 650.02
A36: Rezidents | B36: 1 | C36: =D36+E36 -> 180 | D36: 176 | E36: 4 | F36: 1429.45 | G36: =F36/167.42 -> 8.5381078 | H36: =ROUND(G36*E36*2,2) -> 68.3 | I36: =ROUND(H36*1.2359,2) -> 84.41
A37: Rezidents | B37: 1 | C37: =D37+E37 -> 200 | D37: 176 | E37: 24 | F37: 1429.45 | G37: =F37/167.42 -> 8.5381078 | H37: =ROUND(G37*E37*2,2) -> 409.83 | I37: =ROUND(H37*1.2359,2) -> 506.51
A38: Rezidents | B38: 1 | C38: =D38+E38 -> 188 | D38: 176 | E38: 12 | F38: 1429.45 | G38: =F38/167.42 -> 8.5381078 | H38: =ROUND(G38*E38*2,2) -> 204.91 | I38: =ROUND(H38*1.2359,2) -> 253.25
A39: Ārstniecības un pacientu aprūpes personas un funkcionālo speciālistu asistenti, kopā, tai skaitā: | B39: =SUM(B40:B85) -> 46 | E39: =SUM(E40:E85) -> 1185 | H39: =SUM(H40:H85) -> 15313.08 | I39: =SUM(I40:I85) -> 18925.43
A40: Ambulatorā dienesta ārsta palīgs | B40: 1 | C40: =D40+E40 -> 208 | D40: 176 | E40: 32 | G40: 7.45 | H40: =ROUND(G40*E40*2,2) -> 476.8 | I40: =ROUND(H40*1.2359,2) -> 589.28
A41: Ambulatorā dienesta ārsta palīgs | B41: 1 | C41: =D41+E41 -> 192 | D41: 176 | E41: 16 | G41: 7.2 | H41: =ROUND(G41*E41*2,2) -> 230.4 | I41: =ROUND(H41*1.2359,2) -> 284.75
A42: Ambulatorā dienesta ārsta palīgs | B42: 1 | C42: =D42+E42 -> 224 | D42: 176 | E42: 48 | G42: 7.2 | H42: =ROUND(G42*E42*2,2) -> 691.2 | I42: =ROUND(H42*1.2359,2) -> 854.25
A43: Ambulatorās aprūpes ārsta palīgs | B43: 1 | C43: =D43+E43 -> 184 | D43: 176 | E43: 8 | G43: 9.29 | H43: =ROUND(G43*E43*2,2) -> 148.64 | I43: =ROUND(H43*1.2359,2) -> 183.7
A44: Anestēzijas, intensīvās un neatliekamās aprūpes māsa | B44: 1 | C44: =D44+E44 -> 228 | D44: 176 | E44: 52 | G44: 7.45 | H44: =ROUND(G44*E44*2,2) -> 774.8 | I44: =ROUND(H44*1.2359,2) -> 957.58
A45: Anestēzijas, intensīvās un neatliekamās aprūpes māsa | B45: 1 | C45: =D45+E45 -> 216 | D45: 176 | E45: 40 | G45: 7.45 | H45: =ROUND(G45*E45*2,2) -> 596 | I45: =ROUND(H45*1.2359,2) -> 736.6
A46: Anestēzijas, intensīvās un neatliekamās aprūpes māsa | B46: 1 | C46: =D46+E46 -> 212 | D46: 176 | E46: 36 | G46: 7.45 | H46: =ROUND(G46*E46*2,2) -> 536.4 | I46: =ROUND(H46*1.2359,2) -> 662.94
A47: Anestēzijas, intensīvās un neatliekamās aprūpes māsa | B47: 1 | C47: =D47+E47 -> 180 | D47: 176 | E47: 4 | G47: 7.45 | H47: =ROUND(G47*E47*2,2) -> 59.6 | I47: =ROUND(H47*1.2359,2) -> 73.66
A48: Anestēzijas, intensīvās un neatliekamās aprūpes māsa | B48: 1 | C48: =D48+E48 -> 180 | D48: 176 | E48: 4 | G48: 7.45 | H48: =ROUND(G48*E48*2,2) -> 59.6 | I48: =ROUND(H48*1.2359,2) -> 73.66
A49: Anestēzijas, intensīvās un neatliekamās aprūpes māsa | B49: 1 | C49: =D49+E49 -> 208 | D49: 176 | E49: 32 | G49: 7.45 | H49: =ROUND(G49*E49*2,2) -> 476.8 | I49: =ROUND(H49*1.2359,2) -> 589.28
A50: Anestēzijas, intensīvās un neatliekamās aprūpes māsa | B50: 1 | C50: =D50+E50 -> 184 | D50: 176 | E50: 8 | G50: 7.45 | H50: =ROUND(G50*E50*2,2) -> 119.2 | I50: =ROUND(H50*1.2359,2) -> 147.32
A51: Atbildīgā medicīnas māsa | B51: 1 | C51: =D51+E51 -> 184 | D51: 176 | E51: 8 | G51: 7.87 | H51: =ROUND(G51*E51*2,2) -> 125.92 | I51: =ROUND(H51*1.2359,2) -> 155.62
A52: Atbildīgā medicīnas māsa | B52: 1 | C52: =D52+E52 -> 200 | D52: 176 | E52: 24 | G52: 7.71 | H52: =ROUND(G52*E52*2,2) -> 370.08 | I52: =ROUND(H52*1.2359,2) -> 457.38
A53: Ārsta epidemiologa palīgs | B53: 1 | C53: =D53+E53 -> 206 | D53: 176 | E53: 30 | F53: 1242 | G53: =ROUND(F53/176,3) -> 7.057 | H53: =ROUND(G53*E53*2,2) -> 423.42 | I53: =ROUND(H53*1.2359,2) -> 523.3
A54: Ārsta palīgs | B54: 1 | C54: =D54+E54 -> 196 | D54: 176 | E54: 20 | G54: 6.3 | H54: =ROUND(G54*E54*2,2) -> 252 | I54: =ROUND(H54*1.2359,2) -> 311.45
A55: Ārsta palīgs | B55: 1 | C55: =D55+E55 -> 200 | D55: 176 | E55: 24 | G55: 6.3 | H55: =ROUND(G55*E55*2,2) -> 302.4 | I55: =ROUND(H55*1.2359,2) -> 373.74
A56: Ārsta palīgs (feldšeris) | B56: 1 | C56: =D56+E56 -> 182 | D56: 176 | E56: 6 | G56: 6.39 | H56: =ROUND(G56*E56*2,2) -> 76.68 | I56: =ROUND(H56*1.2359,2) -> 94.77
A57: Ārsta palīgs (feldšeris) | B57: 1 | C57: =D57+E57 -> 192 | D57: 176 | E57: 16 | G57: 6.52 | H57: =ROUND(G57*E57*2,2) -> 208.64 | I57: =ROUND(H57*1.2359,2) -> 257.86
A58: Ārsta palīgs (feldšeris) | B58: 1 | C58: =D58+E58 -> 220 | D58: 176 | E58: 44 | G58: 6.3 | H58: =ROUND(G58*E58*2,2) -> 554.4 | I58: =ROUND(H58*1.2359,2) -> 685.18
A59: Ārsta palīgs (feldšeris) | B59: 1 | C59: =D59+E59 -> 240 | D59: 176 | E59: 64 | G59: 6.3 | H59: =ROUND(G59*E59*2,2) -> 806.4 | I59: =ROUND(H59*1.2359,2) -> 996.63
A60: Ārsta palīgs (feldšeris) | B60: 1 | C60: =D60+E60 -> 240 | D60: 176 | E60: 64 | G60: 6.3 | H60: =ROUND(G60*E60*2,2) -> 806.4 | I60: =ROUND(H60*1.2359,2) -> 996.63
A61: Biomedicīnas laborants | B61: 1 | C61: =D61+E61 -> 188 | D61: 176 | E61: 12 | G61: 7.2 | H61: =ROUND(G61*E61*2,2) -> 172.8 | I61: =ROUND(H61*1.2359,2) -> 213.56
A62: Internās aprūpes māsa | B62: 1 | C62: =D62+E62 -> 184 | D62: 176 | E62: 8 | G62: 9.47 | H62: =ROUND(G62*E62*2,2) -> 151.52 | I62: =ROUND(H62*1.2359,2) -> 187.26
A63: Internās aprūpes māsa | B63: 1 | C63: =D63+E63 -> 192 | D63: 176 | E63: 16 | G63: 9.15 | H63: =ROUND(G63*E63*2,2) -> 292.8 | I63: =ROUND(H63*1.2359,2) -> 361.87
A64: Internās aprūpes māsa | B64: 1 | C64: =D64+E64 -> 184 | D64: 176 | E64: 8 | G64: 7.38 | H64: =ROUND(G64*E64*2,2) -> 118.08 | I64: =ROUND(H64*1.2359,2) -> 145.94
A65: Ķirurģiskās aprūpes māsa | B65: 1 | C65: =D65+E65 -> 228 | D65: 176 | E65: 52 | G65: 7.2 | H65: =ROUND(G65*E65*2,2) -> 748.8 | I65: =ROUND(H65*1.2359,2) -> 925.44
... A85: Radiologa asistents | B85: 1 | C85: =D85+E85 -> 216 | D85: 176 | E85: 40 | G85: 2.711 | H85: =ROUND(G85*E85*2,2) -> 216.88 | I85: =ROUND(H85*1.2359,2) -> 268.04
A86: Ārstniecības un pacientu aprūpes atbalsta personas, māsu palīgi, zobārstu asistenti, kopā, tai skaitā: | B86: =SUM(B87:B89) -> 3 | E86: =SUM(E87:E89) -> 16 | H86: =SUM(H87:H89) -> 152 | I86: =SUM(I87:I89) -> 187.85
A87: Māsas palīgs neatliekamajā palīdzībā | B87: 1 | C87: =D87+E87 -> 180 | D87: 176 | E87: 4 | G87: 4.75 | H87: =ROUND(G87*E87*2,2) -> 38 | I87: =ROUND(H87*1.2359,2) -> 46.96
A88: Māsas palīgs neatliekamajā palīdzībā | B88: 1 | C88: =D88+E88 -> 184 | D88: 176 | E88: 8 | G88: 4.75 | H88: =ROUND(G88*E88*2,2) -> 76 | I88: =ROUND(H88*1.2359,2) -> 93.93
A89: Māsas palīgs neatliekamajā palīdzībā | B89: 1 | C89: =D89+E89 -> 180 | D89: 176 | E89: 4 | G89: 4.75 | H89: =ROUND(G89*E89*2,2) -> 38 | I89: =ROUND(H89*1.2359,2) -> 46.96
A90: Pārējie darbinieki, kuri tieši iesaistīti darbā ar Covid-19, kopā, tai skaitā: | B90: =SUM(B91:B147) -> 57 | E90: =SUM(E91:E147) -> 898 | H90: =SUM(H91:H147) -> 9755.06 | I90: =SUM(I91:I147) -> 12056.26
A91: Atbildīgais sanitārs-transportētājs | B91: 1 | C91: =D91+E91 -> 196 | D91: 176 | E91: 20 | G91: 4.75 | H91: =ROUND(G91*E91*2,2) -> 190 | I91: =ROUND(H91*1.2359,2) -> 234.82
A92: Atbildīgais sanitārs-transportētājs | B92: 1 | C92: =D92+E92 -> 186 | D92: 176 | E92: 10 | G92: 4.75 | H92: =ROUND(G92*E92*2,2) -> 95 | I92: =ROUND(H92*1.2359,2) -> 117.41
A93: Atbildīgais sanitārs-transportētājs | B93: 1 | C93: =D93+E93 -> 184 | D93: 176 | E93: 8 | G93: 4.75 | H93: =ROUND(G93*E93*2,2) -> 76 | I93: =ROUND(H93*1.2359,2) -> 93.93
A94: Atbildīgais sanitārs-transportētājs | B94: 1 | C94: =D94+E94 -> 192 | D94: 176 | E94: 16 | G94: 4.75 | H94: =ROUND(G94*E94*2,2) -> 152 | I94: =ROUND(H94*1.2359,2) -> 187.86
A95: Jaunākais māsas palīgs | B95: 1 | C95: =D95+E95 -> 192 | D95: 176 | E95: 16 | G95: 5.49 | H95: =ROUND(G95*E95*2,2) -> 175.68 | I95: =ROUND(H95*1.2359,2) -> 217.12
A96: Jaunākais māsas palīgs | B96: 1 | C96: =D96+E96 -> 184 | D96: 176 | E96: 8 | G96: 5.49 | H96: =ROUND(G96*E96*2,2) -> 87.84 | I96: =ROUND(H96*1.2359,2) -> 108.56
A97: Jaunākais māsas palīgs | B97: 1 | C97: =D97+E97 -> 192 | D97: 176 | E97: 16 | G97: 5.49 | H97: =ROUND(G97*E97*2,2) -> 175.68 | I97: =ROUND(H97*1.2359,2) -> 217.12
A98: Klientu apkalpošanas speciālists | B98: 1 | C98: =D98+E98 -> 184 | D98: 176 | E98: 8 | G98: 6 | H98: =ROUND(G98*E98*2,2) -> 96 | I98: =ROUND(H98*1.2359,2) -> 118.65
A99: Klientu apkalpošanas speciālists | B99: 1 | C99: =D99+E99 -> 184 | D99: 176 | E99: 8 | G99: 6 | H99: =ROUND(G99*E99*2,2) -> 96 | I99: =ROUND(H99*1.2359,2) -> 118.65
A100: Klientu apkalpošanas speciālists | B100: 1 | C100: =D100+E100 -> 196 | D100: 176 | E100: 20 | G100: 6 | H100: =ROUND(G100*E100*2,2) -> 240 | I100: =ROUND(H100*1.2359,2) -> 296.62
A101: Klientu apkalpošanas speciālists | B101: 1 | C101: =D101+E101 -> 177 | D101: 176 | E101: 1 | G101: 5.7 | H101: =ROUND(G101*E101*2,2) -> 11.4 | I101: =ROUND(H101*1.2359,2) -> 14.09
A102: Klientu apkalpošanas speciālists | B102: 1 | C102: =D102+E102 -> 184 | D102: 176 | E102: 8 | G102: 6 | H102: =ROUND(G102*E102*2,2) -> 96 | I102: =ROUND(H102*1.2359,2) -> 118.65
... A143: Sanitārs-transportētājs | B143: 1 | C143: =D143+E143 -> 208 | D143: 176 | E143: 32 | G143: 4.4 | H143: =ROUND(G143*E143*2,2) -> 281.6 | I143: =ROUND(H143*1.2359,2) -> 348.03
A144: Veselības aprūpes datu analītiķis | B144: 1 | C144: =D144+E144 -> 198 | D144: 176 | E144: 22 | F144: 1360 | G144: =ROUND(F144/176,3) -> 7.727 | H144: =ROUND(G144*E144*2,2) -> 339.99 | I144: =ROUND(H144*1.2359,2) -> 420.19
A145: Vecākais veselības aprūpes datu analītiķis | B145: 1 | C145: =D145+E145 -> 194 | D145: 176 | E145: 18 | F145: 1500 | G145: =ROUND(F145/176,3) -> 8.523 | H145: =ROUND(G145*E145*2,2) -> 306.83 | I145: =ROUND(H145*1.2359,2) -> 379.21
A146: Vecākais klientu apkalpošanas speciālists NMC | B146: 1 | C146: =D146+E146 -> 190 | D146: 176 | E146: 14 | G146: 6.72 | H146: =ROUND(G146*E146*2,2) -> 188.16 | I146: =ROUND(H146*1.2359,2) -> 232.55
A147: Vecākais klientu apkalpošanas speciālists NMC | B147: 1 | C147: =D147+E147 -> 193 | D147: 176 | E147: 17 | G147: 6.72 | H147: =ROUND(G147*E147*2,2) -> 228.48 | I147: =ROUND(H147*1.2359,2) -> 282.38

Sheet Daugavpils_reģ_jūl
H1: 1.7.Pielikums
A2: Pārskats par darba veicējiem (ārstniecības personām), virs normālā darba laika nostrādātām stundām, apmaksājamām stundām un izdevumiem, kas radušies saistībā ar mērķi ierobežot Covid-19 izplatību
A4: Iestādes nosaukums: SIA "Daugavpils reģionālā slimnīca"
A5: Pārskata mēnesis: Jūlijs
B7: Nodarbināto skaits mēnesī | C7: Apmaksājamais laiks mēnesī, stundas (tai skaitā summētā darba laika ietvaros) | F7: Mēnešalga no kuras rēķina stundas likmi | G7: Stundas likme (aprēķināta atbilstoši mēnešalgai vai darba līgumā noteiktā stundas likme) | H7: Apmaksājamā 100% piemaksa par nostrādātām virsstundām virs normālā darba laika (tai skaitā summētā darba laika ietvaros) | I7: Izdevumi par virsstundām kopā ar VSOAI, EUR
C8: Kopā | D8: līdz normālam darba laikam | E8: virsstundas - virs normālā darba laika, kas saistītas ar darbu ar Covid-19
A10: 1 | B10: 2 | C10: 3=4+5 | D10: 4 | E10: 5 | F10: 6 | G10: 7 | H10: 8 | I10: 9=8 +VSOAI
A11: KOPĀ | B11: =B12+B100+B104+B121+B132+B140 -> 124 | E11: =E12+E100+E104+E121+E132+E140 -> 5271.75 | H11: =H12+H100+H104+H121+H132+H140 -> 89662.61 | I11: =I12+I100+I104+I121+I132+I140 -> 110813.99
A12: Centrālā slimnīca "Uzņemšanas nodaļa" | B12: =B13+B51+B88 -> 84 | E12: =E13+E51+E88 -> 4267.75 | H12: =H13+H51+H88 -> 72824.42 | I12: =I13+I51+I88 -> 90003.65
A13: Ārsti, zobārsti un funkcionālie speciālisti, kopā, tai skaitā: | B13: =SUM(B14:B50) -> 37 | E13: =SUM(E14:E50) -> 2959.75 | H13: =SUM(H14:H50) -> 58339.66 | I13: =SUM(I14:I50) -> 72101.96
A14: Ginekologs,dzemdību speciālists | B14: 1 | C14: =D14+E14 -> 104 | D14: 80 | E14: 24 | F14: 1734.568 | G14: =F14/176 -> 9.8555 | H14: =ROUND(E14*G14*2,2) -> 473.06 | I14: =ROUND(H14*1.2359,2) -> 584.65
A15: Ginekologs,dzemdību speciālists | B15: 1 | C15: =D15+E15 -> 160 | D15: 136 | E15: 24 | F15: 1734.568 | G15: =F15/176 -> 9.8555 | H15: =ROUND(E15*G15*2,2) -> 473.06 | I15: =ROUND(H15*1.2359,2) -> 584.65
A16: Ginekologs,dzemdību speciālists | B16: 1 | C16: =D16+E16 -> 144 | D16: 136 | E16: 8 | F16: 1734.568 | G16: =F16/176 -> 9.8555 | H16: =ROUND(E16*G16*2,2) -> 157.69 | I16: =ROUND(H16*1.2359,2) -> 194.89
A17: Internists | B17: 1 | C17: =D17+E17 -> 100 | D17: 56 | E17: 44 | F17: 1734.568 | G17: =F17/176 -> 9.8555 | H17: =ROUND(E17*G17*2,2) -> 867.28 | I17: =ROUND(H17*1.2359,2) -> 1071.87
A18: Internists | B18: 1 | C18: =D18+E18 -> 168 | D18: 136 | E18: 32 | F18: 1734.568 | G18: =F18/176 -> 9.8555 | H18: =ROUND(E18*G18*2,2) -> 630.75 | I18: =ROUND(H18*1.2359,2) -> 779.54
A19: Traumatologs un ortopēds | B19: 1 | C19: =D19+E19 -> 168 | D19: 136 | E19: 32 | F19: 1734.568 | G19: =F19/176 -> 9.8555 | H19: =ROUND(E19*G19*2,2) -> 630.75 | I19: =ROUND(H19*1.2359,2) -> 779.54
A20: Traumatologs un ortopēds | B20: 1 | C20: =D20+E20 -> 356.5 | D20: 176 | E20: 180.5 | F20: 1734.568 | G20: =F20/176 -> 9.8555 | H20: =ROUND(E20*G20*2,2) -> 3557.84 | I20: =ROUND(H20*1.2359,2) -> 4397.13
A21: Traumatologs un ortopēds | B21: 1 | C21: =D21+E21 -> 105 | D21: 56 | E21: 49 | F21: 1734.568 | G21: =F21/176 -> 9.8555 | H21: =ROUND(E21*G21*2,2) -> 965.84 | I21: =ROUND(H21*1.2359,2) -> 1193.68
A22: Traumatologs un ortopēds | B22: 1 | C22: =D22+E22 -> 352 | D22: 176 | E22: 176 | F22: 1734.568 | G22: =F22/176 -> 9.8555 | H22: =ROUND(E22*G22*2,2) -> 3469.14 | I22: =ROUND(H22*1.2359,2) -> 4287.51
A23: Rezidents | B23: 1 | C23: =D23+E23 -> 74 | D23: 37 | E23: 37 | F23: 1734.568 | G23: =F23/176 -> 9.8555 | H23: =ROUND(E23*G23*2,2) -> 729.31 | I23: =ROUND(H23*1.2359,2) -> 901.35
A24: Rezidents | B24: 1 | C24: =D24+E24 -> 130 | D24: 65 | E24: 65 | F24: 1734.568 | G24: =F24/176 -> 9.8555 | H24: =ROUND(E24*G24*2,2) -> 1281.22 | I24: =ROUND(H24*1.2359,2) -> 1583.46
A25: Rezidents | B25: 1 | C25: =D25+E25 -> 10 | D25: 5 | E25: 5 | F25: 1734.568 | G25: =F25/176 -> 9.8555 | H25: =ROUND(E25*G25*2,2) -> 98.56 | I25: =ROUND(H25*1.2359,2) -> 121.81
... A50: Neirologs | B50: 1 | C50: =D50+E50 -> 312 | D50: 176 | E50: 136 | F50: 1734.568 | G50: =F50/176 -> 9.8555 | H50: =ROUND(E50*G50*2,2) -> 2680.7 | I50: =ROUND(H50*1.2359,2) -> 3313.08
A51: Ārstniecības un pacientu aprūpes personas un funkcionālo speciālistu asistenti, kopā, tai skaitā: | B51: =SUM(B52:B87) -> 36 | E51: =SUM(E52:E87) -> 1064 | H51: =SUM(H52:H87) -> 12371.53 | I51: =SUM(I52:I87) -> 15289.94
A52: Ārsta palīgs | B52: 1 | C52: =D52+E52 -> 24 | D52: 16 | E52: 8 | F52: 1035.4784 | G52: =F52/176 -> 5.8834 | H52: =ROUND(E52*G52*2,2) -> 94.13 | I52: =ROUND(H52*1.2359,2) -> 116.34
A53: Ārsta palīgs | B53: 1 | C53: =D53+E53 -> 192 | D53: 168 | E53: 24 | F53: 914.584 | G53: =F53/176 -> 5.1965 | H53: =ROUND(E53*G53*2,2) -> 249.43 | I53: =ROUND(H53*1.2359,2) -> 308.27
A54: Ārsta palīgs | B54: 1 | C54: =D54+E54 -> 249 | D54: 176 | E54: 73 | F54: 1035.4784 | G54: =F54/176 -> 5.8834 | H54: =ROUND(E54*G54*2,2) -> 858.98 | I54: =ROUND(H54*1.2359,2) -> 1061.61
A55: Ārsta palīgs | B55: 1 | C55: =D55+E55 -> 238 | D55: 176 | E55: 62 | F55: 1035.4784 | G55: =F55/176 -> 5.8834 | H55: =ROUND(E55*G55*2,2) -> 729.54 | I55: =ROUND(H55*1.2359,2) -> 901.64
A56: Ārsta palīgs | B56: 1 | C56: =D56+E56 -> 202 | D56: 176 | E56: 26 | F56: 1035.4784 | G56: =F56/176 -> 5.8834 | H56: =ROUND(E56*G56*2,2) -> 305.94 | I56: =ROUND(H56*1.2359,2) -> 378.11
A57: Ārsta palīgs | B57: 1 | C57: =D57+E57 -> 190.5 | D57: 176 | E57: 14.5 | F57: 1035.4784 | G57: =F57/176 -> 5.8834 | H57: =ROUND(E57*G57*2,2) -> 170.62 | I57: =ROUND(H57*1.2359,2) -> 210.87
A58: Ārsta palīgs | B58: 1 | C58: =D58+E58 -> 184 | D58: 176 | E58: 8 | F58: 914.584 | G58: =F58/176 -> 5.1965 | H58: =ROUND(E58*G58*2,2) -> 83.14 | I58: =ROUND(H58*1.2359,2) -> 102.75
A59: Internās aprūpes māsa | B59: 1 | C59: =D59+E59 -> 252 | D59: 176 | E59: 76 | F59: 1035.4784 | G59: =F59/176 -> 5.8834 | H59: =ROUND(E59*G59*2,2) -> 894.28 | I59: =ROUND(H59*1.2359,2) -> 1105.24
A60: Internās aprūpes māsa | B60: 1 | C60: =D60+E60 -> 156 | D60: 112 | E60: 44 | F60: 1035.4784 | G60: =F60/176 -> 5.8834 | H60: =ROUND(E60*G60*2,2) -> 517.74 | I60: =ROUND(H60*1.2359,2) -> 639.87
A61: Internās aprūpes māsa | B61: 1 | C61: =D61+E61 -> 252 | D61: 168 | E61: 84 | F61: 1035.4784 | G61: =F61/176 -> 5.8834 | H61: =ROUND(E61*G61*2,2) -> 988.41 | I61: =ROUND(H61*1.2359,2) -> 1221.58
A62: Internās aprūpes māsa | B62: 1 | C62: =D62+E62 -> 228 | D62: 176 | E62: 52 | F62: 1035.4784 | G62: =F62/176 -> 5.8834 | H62: =ROUND(E62*G62*2,2) -> 611.87 | I62: =ROUND(H62*1.2359,2) -> 756.21
A63: Internās aprūpes māsa | B63: 1 | C63: =D63+E63 -> 204 | D63: 176 | E63: 28 | F63: 1035.4784 | G63: =F63/176 -> 5.8834 | H63: =ROUND(E63*G63*2,2) -> 329.47 | I63: =ROUND(H63*1.2359,2) -> 407.19
... A87: Operāciju māsa | B87: 1 | C87: =D87+E87 -> 190.5 | D87: 176 | E87: 14.5 | F87: 1035.4784 | G87: =F87/176 -> 5.8834 | H87: =ROUND(E87*G87*2,2) -> 170.62 | I87: =ROUND(H87*1.2359,2) -> 210.87
A88: Ārstniecības un pacientu aprūpes atbalsta personas, māsu palīgi, zobārstu asistenti, kopā, tai skaitā: | B88: =SUM(B89:B99) -> 11 | E88: =SUM(E89:E99) -> 244 | H88: =SUM(H89:H99) -> 2113.23 | I88: =SUM(I89:I99) -> 2611.75
A89: Māsas palīgs | B89: 1 | C89: =D89+E89 -> 216 | D89: 176 | E89: 40 | F89: 762.1504 | G89: =F89/176 -> 4.3304 | H89: =ROUND(E89*G89*2,2) -> 346.43 | I89: =ROUND(H89*1.2359,2) -> 428.15
A90: Māsas palīgs | B90: 1 | C90: =D90+E90 -> 188 | D90: 176 | E90: 12 | F90: 762.1504 | G90: =F90/176 -> 4.3304 | H90: =ROUND(E90*G90*2,2) -> 103.93 | I90: =ROUND(H90*1.2359,2) -> 128.45
A91: Māsas palīgs | B91: 1 | C91: =D91+E91 -> 204 | D91: 176 | E91: 28 | F91: 762.1504 | G91: =F91/176 -> 4.3304 | H91: =ROUND(E91*G91*2,2) -> 242.5 | I91: =ROUND(H91*1.2359,2) -> 299.71
A92: Māsas palīgs | B92: 1 | C92: =D92+E92 -> 204 | D92: 176 | E92: 28 | F92: 762.1504 | G92: =F92/176 -> 4.3304 | H92: =ROUND(E92*G92*2,2) -> 242.5 | I92: =ROUND(H92*1.2359,2) -> 299.71
A93: Māsas palīgs | B93: 1 | C93: =D93+E93 -> 216 | D93: 176 | E93: 40 | F93: 762.1504 | G93: =F93/176 -> 4.3304 | H93: =ROUND(E93*G93*2,2) -> 346.43 | I93: =ROUND(H93*1.2359,2) -> 428.15
A94: Māsas palīgs | B94: 1 | C94: =D94+E94 -> 200 | D94: 176 | E94: 24 | F94: 762.1504 | G94: =F94/176 -> 4.3304 | H94: =ROUND(E94*G94*2,2) -> 207.86 | I94: =ROUND(H94*1.2359,2) -> 256.89
A95: Māsas palīgs | B95: 1 | C95: =D95+E95 -> 24 | D95: 16 | E95: 8 | F95: 762.1504 | G95: =F95/176 -> 4.3304 | H95: =ROUND(E95*G95*2,2) -> 69.29 | I95: =ROUND(H95*1.2359,2) -> 85.64
A96: Māsas palīgs | B96: 1 | C96: =D96+E96 -> 100 | D96: 80 | E96: 20 | F96: 762.1504 | G96: =F96/176 -> 4.3304 | H96: =ROUND(E96*G96*2,2) -> 173.22 | I96: =ROUND(H96*1.2359,2) -> 214.08
A97: Māsas palīgs | B97: 1 | C97: =D97+E97 -> 108 | D97: 96 | E97: 12 | F97: 762.1504 | G97: =F97/176 -> 4.3304 | H97: =ROUND(E97*G97*2,2) -> 103.93 | I97: =ROUND(H97*1.2359,2) -> 128.45
A98: Māsas palīgs | B98: 1 | C98: =D98+E98 -> 180 | D98: 176 | E98: 4 | F98: 762.1504 | G98: =F98/176 -> 4.3304 | H98: =ROUND(E98*G98*2,2) -> 34.64 | I98: =ROUND(H98*1.2359,2) -> 42.81
A99: Māsas palīgs | B99: 1 | C99: =D99+E99 -> 204 | D99: 176 | E99: 28 | F99: 762.1504 | G99: =F99/176 -> 4.3304 | H99: =ROUND(E99*G99*2,2) -> 242.5 | I99: =ROUND(H99*1.2359,2) -> 299.71
A100: "Plaušu slimību un tuberkulozes centrs " Uzņemšnas nodaļas, Covid 19 nodaļa | B100: =B101 -> 2 | E100: =E101 -> 188 | H100: =H101 -> 4237.14 | I100: =I101 -> 5236.68
A101: Ārsti, zobārsti un funkcionālie speciālisti, kopā, tai skaitā: | B101: =SUM(B102:B103) -> 2 | E101: =SUM(E102:E103) -> 188 | H101: =SUM(H102:H103) -> 4237.14 | I101: =SUM(I102:I103) -> 5236.68
A102: Infektologs | B102: 1 | C102: =D102+E102 -> 314 | D102: 154 | E102: 160 | F102: 1735.426 | G102: =F102/154 -> 11.269 | H102: =ROUND(E102*G102*2,2) -> 3606.08 | I102: =ROUND(H102*1.2359,2) -> 4456.75
A103: Infektologs | B103: 1 | C103: =D103+E103 -> 161 | D103: 133 | E103: 28 | F103: 1735.426 | G103: =F103/154 -> 11.269 | H103: =ROUND(E103*G103*2,2) -> 631.06 | I103: =ROUND(H103*1.2359,2) -> 779.93
A104: "Plaušu slimību un tuberkulozes centrs" Infekcijas nodaļa - Covid19 nodaļa | B104: =B105+B114 -> 14 | E104: =E105+E114 -> 104 | H104: =H105+H114 -> 1189.74 | I104: =I105+I114 -> 1470.41
A105: Ārstniecības un pacientu aprūpes personas un funkcionālo speciālistu asistenti, kopā, tai skaitā: | B105: =SUM(B106:B113) -> 8 | E105: =SUM(E106:E113) -> 45 | H105: =SUM(H106:H113) -> 605.46 | I105: =SUM(I106:I113) -> 748.3
A106: Internās aprūpes māsa | B106: 1 | C106: =D106+E106 -> 82 | D106: 77 | E106: 5 | F106: 1035.9888 | G106: =F106/154 -> 6.7272 | H106: =ROUND(E106*G106*2,2) -> 67.27 | I106: =ROUND(H106*1.2359,2) -> 83.14
A107: Internās aprūpes māsa | B107: 1 | C107: =D107+E107 -> 144 | D107: 140 | E107: 4 | F107: 1035.9888 | G107: =F107/154 -> 6.7272 | H107: =ROUND(E107*G107*2,2) -> 53.82 | I107: =ROUND(H107*1.2359,2) -> 66.52
A108: Internās aprūpes māsa | B108: 1 | C108: =D108+E108 -> 72 | D108: 70 | E108: 2 | F108: 1035.9888 | G108: =F108/154 -> 6.7272 | H108: =ROUND(E108*G108*2,2) -> 26.91 | I108: =ROUND(H108*1.2359,2) -> 33.26
A109: Internās aprūpes māsa | B109: 1 | C109: =D109+E109 -> 72 | D109: 70 | E109: 2 | F109: 1035.9888 | G109: =F109/154 -> 6.7272 | H109: =ROUND(E109*G109*2,2) -> 26.91 | I109: =ROUND(H109*1.2359,2) -> 33.26
A110: Internās aprūpes māsa | B110: 1 | C110: =D110+E110 -> 72 | D110: 70 | E110: 2 | F110: 1035.9888 | G110: =F110/154 -> 6.7272 | H110: =ROUND(E110*G110*2,2) -> 26.91 | I110: =ROUND(H110*1.2359,2) -> 33.26
A111: Internās aprūpes māsa | B111: 1 | C111: =D111+E111 -> 144 | D111: 140 | E111: 4 | F111: 1035.9888 | G111: =F111/154 -> 6.7272 | H111: =ROUND(E111*G111*2,2) -> 53.82 | I111: =ROUND(H111*1.2359,2) -> 66.52
A112: Internās aprūpes māsa | B112: 1 | C112: =D112+E112 -> 178 | D112: 154 | E112: 24 | F112: 1035.9888 | G112: =F112/154 -> 6.7272 | H112: =ROUND(E112*G112*2,2) -> 322.91 | I112: =ROUND(H112*1.2359,2) -> 399.08
A113: Medicīnas māsa | B113: 1 | C113: =D113+E113 -> 72 | D113: 70 | E113: 2 | F113: 1035.9888 | G113: =F113/154 -> 6.7272 | H113: =ROUND(E113*G113*2,2) -> 26.91 | I113: =ROUND(H113*1.2359,2) -> 33.26
A114: Ārstniecības un pacientu aprūpes personas un funkcionālo speciālistu asistenti, kopā, tai skaitā: | B114: =SUM(B115:B120) -> 6 | C114: =SUM(C115:C120) -> 738 | D114: =SUM(D115:D120) -> 679 | E114: =SUM(E115:E120) -> 59 | H114: =SUM(H115:H120) -> 584.28 | I114: =SUM(I115:I120) -> 722.11
A115: Māsas palīgs | B115: 1 | C115: =D115+E115 -> 82 | D115: 77 | E115: 5 | F115: 762.531 | G115: =F115/154 -> 4.9515 | H115: =ROUND(E115*G115*2,2) -> 49.52 | I115: =ROUND(H115*1.2359,2) -> 61.2
A116: Māsas palīgs | B116: 1 | C116: =D116+E116 -> 144 | D116: 140 | E116: 4 | F116: 762.531 | G116: =F116/154 -> 4.9515 | H116: =ROUND(E116*G116*2,2) -> 39.61 | I116: =ROUND(H116*1.2359,2) -> 48.95
A117: Māsas palīgs | B117: 1 | C117: =D117+E117 -> 138 | D117: 119 | E117: 19 | F117: 762.531 | G117: =F117/154 -> 4.9515 | H117: =ROUND(E117*G117*2,2) -> 188.16 | I117: =ROUND(H117*1.2359,2) -> 232.55
A118: Māsas palīgs | B118: 1 | C118: =D118+E118 -> 148 | D118: 140 | E118: 8 | F118: 762.531 | G118: =F118/154 -> 4.9515 | H118: =ROUND(E118*G118*2,2) -> 79.22 | I118: =ROUND(H118*1.2359,2) -> 97.91
A119: Māsas palīgs | B119: 1 | C119: =D119+E119 -> 144 | D119: 140 | E119: 4 | F119: 762.531 | G119: =F119/154 -> 4.9515 | H119: =ROUND(E119*G119*2,2) -> 39.61 | I119: =ROUND(H119*1.2359,2) -> 48.95
A120: Māsas palīgs | B120: 1 | C120: =D120+E120 -> 82 | D120: 63 | E120: 19 | F120: 762.531 | G120: =F120/154 -> 4.9515 | H120: =ROUND(E120*G120*2,2) -> 188.16 | I120: =ROUND(H120*1.2359,2) -> 232.55
A121: "Plaušu slimību un tuberkulozes centrs" Intensīvās terapijas nodaļa Covid19 nodaļa | B121: =B122+B126 -> 8 | E121: =E122+E126 -> 465 | H121: =H122+H126 -> 8273.86 | I121: =I122+I126 -> 10225.66
A122: Ārsti, zobārsti un funkcionālie speciālisti, kopā, tai skaitā: | B122: =SUM(B123:B125) -> 3 | E122: =SUM(E123:E125) -> 330 | H122: =SUM(H123:H125) -> 6504.63 | I122: =SUM(I123:I125) -> 8039.07
A123: Rezidents | B123: 1 | C123: =D123+E123 -> 122 | D123: 61 | E123: 61 | F123: 1734.568 | G123: =F123/176 -> 9.8555 | H123: =ROUND(E123*G123*2,2) -> 1202.37 | I123: =ROUND(H123*1.2359,2) -> 1486.01
A124: Rezidents | B124: 1 | C124: =D124+E124 -> 330 | D124: 165 | E124: 165 | F124: 1734.568 | G124: =F124/176 -> 9.8555 | H124: =ROUND(E124*G124*2,2) -> 3252.32 | I124: =ROUND(H124*1.2359,2) -> 4019.54
A125: Rezidents | B125: 1 | C125: =D125+E125 -> 208 | D125: 104 | E125: 104 | F125: 1734.568 | G125: =F125/176 -> 9.8555 | H125: =ROUND(E125*G125*2,2) -> 2049.94 | I125: =ROUND(H125*1.2359,2) -> 2533.52
A126: Ārstniecības un pacientu aprūpes personas un funkcionālo speciālistu asistenti, kopā, tai skaitā: | B126: =SUM(B127:B131) -> 5 | E126: =SUM(E127:E131) -> 135 | H126: =SUM(H127:H131) -> 1769.23 | I126: =SUM(I127:I131) -> 2186.59
A127: Anestēzijas, intensīvās un neatliekamās aprūpes māsa | B127: 1 | C127: =D127+E127 -> 192 | D127: 154 | E127: 38 | F127: 1035.9888 | G127: =F127/154 -> 6.7272 | H127: =ROUND(E127*G127*2,2) -> 511.27 | I127: =ROUND(H127*1.2359,2) -> 631.88
A128: Anestēzijas, intensīvās un neatliekamās aprūpes māsa | B128: 1 | C128: =D128+E128 -> 192 | D128: 154 | E128: 38 | F128: 1035.9888 | G128: =F128/154 -> 6.7272 | H128: =ROUND(E128*G128*2,2) -> 511.27 | I128: =ROUND(H128*1.2359,2) -> 631.88
A129: Internās aprūpes māsa | B129: 1 | C129: =D129+E129 -> 84 | D129: 63 | E129: 21 | F129: 1035.9888 | G129: =F129/154 -> 6.7272 | H129: =ROUND(E129*G129*2,2) -> 282.54 | I129: =ROUND(H129*1.2359,2) -> 349.19
A130: Medicīnas māsa | B130: 1 | C130: =D130+E130 -> 92 | D130: 84 | E130: 8 | F130: 1035.9888 | G130: =F130/154 -> 6.7272 | H130: =ROUND(E130*G130*2,2) -> 107.64 | I130: =ROUND(H130*1.2359,2) -> 133.03
A131: Medicīnas māsa | B131: 1 | C131: =D131+E131 -> 184 | D131: 154 | E131: 30 | F131: 915.0372 | G131: =F131/154 -> 5.9418 | H131: =ROUND(E131*G131*2,2) -> 356.51 | I131: =ROUND(H131*1.2359,2) -> 440.61
A132: "Plaušu slimību un tuberkulozes centrs" Paliatīvās aprūpes nodaļa -pārprofilēta Covid 19 nodaļa | B132: =B133+B137 -> 5 | E132: =E133+E137 -> 46 | H132: =H133+H137 -> 576.28 | I132: =I133+I137 -> 712.24
A133: Ārstniecības un pacientu aprūpes personas un funkcionālo speciālistu asistenti, kopā, tai skaitā: | B133: =SUM(B134:B136) -> 3 | E133: =SUM(E134:E136) -> 34 | H133: =SUM(H134:H136) -> 457.44 | I133: =SUM(I134:I136) -> 565.36
A134: Medicīnas māsa | B134: 1 | C134: =D134+E134 -> 96 | D134: 84 | E134: 12 | F134: 1035.9888 | G134: =F134/154 -> 6.7272 | H134: =ROUND(E134*G134*2,2) -> 161.45 | I134: =ROUND(H134*1.2359,2) -> 199.54
A135: Medicīnas māsa | B135: 1 | C135: =D135+E135 -> 96 | D135: 84 | E135: 12 | F135: 1035.9888 | G135: =F135/154 -> 6.7272 | H135: =ROUND(E135*G135*2,2) -> 161.45 | I135: =ROUND(H135*1.2359,2) -> 199.54
A136: Internās aprūpes māsa | B136: 1 | C136: =D136+E136 -> 94 | D136: 84 | E136: 10 | F136: 1035.9888 | G136: =F136/154 -> 6.7272 | H136: =ROUND(E136*G136*2,2) -> 134.54 | I136: =ROUND(H136*1.2359,2) -> 166.28
A137: Ārstniecības un pacientu aprūpes atbalsta personas, māsu palīgi, zobārstu asistenti, kopā, tai skaitā: | B137: =SUM(B138:B139) -> 2 | E137: =SUM(E138:E139) -> 12 | H137: =SUM(H138:H139) -> 118.84 | I137: =SUM(I138:I139) -> 146.88
A138: Māsas palīgs | B138: 1 | C138: =D138+E138 -> 90 | D138: 84 | E138: 6 | F138: 762.531 | G138: =F138/154 -> 4.9515 | H138: =ROUND(E138*G138*2,2) -> 59.42 | I138: =ROUND(H138*1.2359,2) -> 73.44
A139: Māsas palīgs | B139: 1 | C139: =D139+E139 -> 76 | D139: 70 | E139: 6 | F139: 762.531 | G139: =F139/154 -> 4.9515 | H139: =ROUND(E139*G139*2,2) -> 59.42 | I139: =ROUND(H139*1.2359,2) -> 73.44
A140: "Plaušu slimību un tuberkulozes centrs" Tuberkulozes un plaušu slimību nodaļa - pārprofilēta Covid 19 nodaļa | B140: =B141+B150 -> 11 | E140: =E141+E150 -> 201 | H140: =H141+H150 -> 2561.17 | I140: =I141+I150 -> 3165.35
A141: Ārstniecības un pacientu aprūpes personas un funkcionālo speciālistu asistenti, kopā, tai skaitā: | B141: =SUM(B142:B149) -> 8 | E141: =SUM(E142:E149) -> 166 | H141: =SUM(H142:H149) -> 2214.57 | I141: =SUM(I142:I149) -> 2736.99
A142: Internās aprūpes māsa | B142: 1 | C142: =D142+E142 -> 176 | D142: 154 | E142: 22 | F142: 1035.9888 | G142: =F142/154 -> 6.7272 | H142: =ROUND(E142*G142*2,2) -> 296 | I142: =ROUND(H142*1.2359,2) -> 365.83
A143: Internās aprūpes māsa | B143: 1 | C143: =D143+E143 -> 184 | D143: 154 | E143: 30 | F143: 1035.9888 | G143: =F143/154 -> 6.7272 | H143: =ROUND(E143*G143*2,2) -> 403.63 | I143: =ROUND(H143*1.2359,2) -> 498.85
A144: Internās aprūpes māsa | B144: 1 | C144: =D144+E144 -> 168 | D144: 154 | E144: 14 | F144: 1035.9888 | G144: =F144/154 -> 6.7272 | H144: =ROUND(E144*G144*2,2) -> 188.36 | I144: =ROUND(H144*1.2359,2) -> 232.79
A145: Internās aprūpes māsa | B145: 1 | C145: =D145+E145 -> 176 | D145: 154 | E145: 22 | F145: 1035.9888 | G145: =F145/154 -> 6.7272 | H145: =ROUND(E145*G145*2,2) -> 296 | I145: =ROUND(H145*1.2359,2) -> 365.83
A146: Internās aprūpes māsa | B146: 1 | C146: =D146+E146 -> 168 | D146: 154 | E146: 14 | F146: 1035.9888 | G146: =F146/154 -> 6.7272 | H146: =ROUND(E146*G146*2,2) -> 188.36 | I146: =ROUND(H146*1.2359,2) -> 232.79
A147: Internās aprūpes māsa | B147: 1 | C147: =D147+E147 -> 180 | D147: 154 | E147: 26 | F147: 1035.9888 | G147: =F147/154 -> 6.7272 | H147: =ROUND(E147*G147*2,2) -> 349.81 | I147: =ROUND(H147*1.2359,2) -> 432.33
A148: Medicīnas māsa | B148: 1 | C148: =D148+E148 -> 180 | D148: 154 | E148: 26 | F148: 1035.9888 | G148: =F148/154 -> 6.7272 | H148: =ROUND(E148*G148*2,2) -> 349.81 | I148: =ROUND(H148*1.2359,2) -> 432.33
A149: Medicīnas māsa | B149: 1 | C149: =D149+E149 -> 166 | D149: 154 | E149: 12 | F149: 915.0372 | G149: =F149/154 -> 5.9418 | H149: =ROUND(E149*G149*2,2) -> 142.6 | I149: =ROUND(H149*1.2359,2) -> 176.24
A150: Ārstniecības un pacientu aprūpes atbalsta personas, māsu palīgi, zobārstu asistenti, kopā, tai skaitā: | B150: =SUM(B151:B153) -> 3 | E150: =SUM(E151:E153) -> 35 | H150: =SUM(H151:H153) -> 346.6 | I150: =SUM(I151:I153) -> 428.36
...

Sheet Daugavpils_reģ_aug
H1: 1.8.Pielikums
A2: Pārskats par darba veicējiem (ārstniecības personām), virs normālā darba laika nostrādātām stundām, apmaksājamām stundām un izdevumiem, kas radušies saistībā ar mērķi ierobežot Covid-19 izplatību
A4: Iestādes nosaukums: SIA "Daugavpils reģionālā slimnīca"
A5: Pārskata mēnesis: Augusts
B7: Nodarbināto skaits mēnesī | C7: Apmaksājamais laiks mēnesī, stundas (tai skaitā summētā darba laika ietvaros) | F7: Mēnešalga no kuras rēķina stundas likmi | G7: Stundas likme (aprēķināta atbilstoši mēnešalgai vai darba līgumā noteiktā stundas likme) | H7: Apmaksājamā 100% piemaksa par nostrādātām virsstundām virs normālā darba laika (tai skaitā summētā darba laika ietvaros) | I7: Izdevumi par virsstundām kopā ar VSOAI, EUR
C8: Kopā | D8: līdz normālam darba laikam | E8: virsstundas - virs normālā darba laika, kas saistītas ar darbu ar Covid-19
A10: 1 | B10: 2 | C10: 3=4+5 | D10: 4 | E10: 5 | F10: 6 | G10: 7 | H10: 8 | I10: 9=8 +VSOAI
A11: KOPĀ | B11: =B12+B97+B111+B138+B145+B151+B170+B178 -> 146 | E11: =E12+E97+E111+E138+E145+E151+E170+E178 -> 6519 | H11: =H12+H97+H111+H138+H145+H151+H170+H178 -> 108571.05 | I11: =I12+I97+I111+I138+I145+I151+I170+I178 -> 134182.99
A12: Centrālā slimnīca "Uzņemšanas nodaļa" | B12: =B13+B51+B86 -> 81 | E12: =E13+E51+E86 -> 4774 | H12: =H13+H51+H86 -> 78498.9 | I12: =I13+I51+I86 -> 97016.76
A13: Ārsti, zobārsti un funkcionālie speciālisti, kopā, tai skaitā: | B13: =SUM(B14:B50) -> 37 | E13: =SUM(E14:E50) -> 2969 | H13: =SUM(H14:H50) -> 58521.95 | I13: =SUM(I14:I50) -> 72327.26
A14: Ārsts (dežūrslodze) | B14: 1 | C14: =D14+E14 -> 296 | D14: 176 | E14: 120 | F14: 1734.568 | G14: =F14/176 -> 9.8555 | H14: =ROUND(E14*G14*2,2) -> 2365.32 | I14: =ROUND(H14*1.2359,2) -> 2923.3
A15: Bērnu ķirurgs | B15: 1 | C15: =D15+E15 -> 240 | D15: 176 | E15: 64 | F15: 1734.568 | G15: =F15/176 -> 9.8555 | H15: =ROUND(E15*G15*2,2) -> 1261.5 | I15: =ROUND(H15*1.2359,2) -> 1559.09
A16: Kardiologs | B16: 1 | C16: =D16+E16 -> 216 | D16: 176 | E16: 40 | F16: 1734.568 | G16: =F16/176 -> 9.8555 | H16: =ROUND(E16*G16*2,2) -> 788.44 | I16: =ROUND(H16*1.2359,2) -> 974.43
A17: Ginekologs,dzemdību speciālists | B17: 1 | C17: =D17+E17 -> 200 | D17: 176 | E17: 24 | F17: 1734.568 | G17: =F17/176 -> 9.8555 | H17: =ROUND(E17*G17*2,2) -> 473.06 | I17: =ROUND(H17*1.2359,2) -> 584.65
A18: Internists | B18: 1 | C18: =D18+E18 -> 288 | D18: 176 | E18: 112 | F18: 1734.568 | G18: =F18/176 -> 9.8555 | H18: =ROUND(E18*G18*2,2) -> 2207.63 | I18: =ROUND(H18*1.2359,2) -> 2728.41
A19: Internists | B19: 1 | C19: =D19+E19 -> 182 | D19: 126 | E19: 56 | F19: 1734.568 | G19: =F19/176 -> 9.8555 | H19: =ROUND(E19*G19*2,2) -> 1103.82 | I19: =ROUND(H19*1.2359,2) -> 1364.21
A20: Kardiologs | B20: 1 | C20: =D20+E20 -> 159 | D20: 119 | E20: 40 | F20: 1734.568 | G20: =F20/176 -> 9.8555 | H20: =ROUND(E20*G20*2,2) -> 788.44 | I20: =ROUND(H20*1.2359,2) -> 974.43
A21: Kardiologs | B21: 1 | C21: =D21+E21 -> 52 | D21: 48 | E21: 4 | F21: 1734.568 | G21: =F21/176 -> 9.8555 | H21: =ROUND(E21*G21*2,2) -> 78.84 | I21: =ROUND(H21*1.2359,2) -> 97.44
A22: Kardiologs | B22: 1 | C22: =D22+E22 -> 207 | D22: 119 | E22: 88 | F22: 1734.568 | G22: =F22/176 -> 9.8555 | H22: =ROUND(E22*G22*2,2) -> 1734.57 | I22: =ROUND(H22*1.2359,2) -> 2143.76
A23: Kardiologs | B23: 1 | C23: =D23+E23 -> 240 | D23: 176 | E23: 64 | F23: 1734.568 | G23: =F23/176 -> 9.8555 | H23: =ROUND(E23*G23*2,2) -> 1261.5 | I23: =ROUND(H23*1.2359,2) -> 1559.09
A24: Kardiologs | B24: 1 | C24: =D24+E24 -> 232 | D24: 176 | E24: 56 | F24: 1734.568 | G24: =F24/176 -> 9.8555 | H24: =ROUND(E24*G24*2,2) -> 1103.82 | I24: =ROUND(H24*1.2359,2) -> 1364.21
A25: Kardiologs (vecākais) | B25: 1 | C25: =D25+E25 -> 300 | D25: 176 | E25: 124 | F25: 1734.568 | G25: =F25/176 -> 9.8555 | H25: =ROUND(E25*G25*2,2) -> 2444.16 | I25: =ROUND(H25*1.2359,2) -> 3020.74
... A50: Traumatologs ortopēds | B50: 1 | C50: =D50+E50 -> 315.5 | D50: 176 | E50: 139.5 | F50: 1734.568 | G50: =F50/176 -> 9.8555 | H50: =ROUND(E50*G50*2,2) -> 2749.68 | I50: =ROUND(H50*1.2359,2) -> 3398.33
A51: Ārstniecības un pacientu aprūpes personas un funkcionālo speciālistu asistenti, kopā, tai skaitā: | B51: =SUM(B52:B85) -> 34 | E51: =SUM(E52:E85) -> 1525 | H51: =SUM(H52:H85) -> 17555.23 | I51: =SUM(I52:I85) -> 21696.5
A52: Vecākā medicīnas māsa | B52: 1 | C52: =D52+E52 -> 200 | D52: 176 | E52: 24 | F52: 1150 | G52: =F52/176 -> 6.5340909 | H52: =ROUND(E52*G52*2,2) -> 313.64 | I52: =ROUND(H52*1.2359,2) -> 387.63
A53: Ārsta palīgs | B53: 1 | C53: =D53+E53 -> 98 | D53: 64 | E53: 34 | F53: 1035.4784 | G53: =F53/176 -> 5.8834 | H53: =ROUND(E53*G53*2,2) -> 400.07 | I53: =ROUND(H53*1.2359,2) -> 494.45
A54: Ārsta palīgs | B54: 1 | C54: =D54+E54 -> 300 | D54: 176 | E54: 124 | F54: 1035.4784 | G54: =F54/176 -> 5.8834 | H54: =ROUND(E54*G54*2,2) -> 1459.08 | I54: =ROUND(H54*1.2359,2) -> 1803.28
A55: Ārsta palīgs | B55: 1 | C55: =D55+E55 -> 259 | D55: 176 | E55: 83 | F55: 1035.4784 | G55: =F55/176 -> 5.8834 | H55: =ROUND(E55*G55*2,2) -> 976.64 | I55: =ROUND(H55*1.2359,2) -> 1207.03
A56: Ārsta palīgs | B56: 1 | C56: =D56+E56 -> 255 | D56: 176 | E56: 79 | F56: 1035.4784 | G56: =F56/176 -> 5.8834 | H56: =ROUND(E56*G56*2,2) -> 929.58 | I56: =ROUND(H56*1.2359,2) -> 1148.87
A57: Internās aprūpes māsa | B57: 1 | C57: =D57+E57 -> 172 | D57: 160 | E57: 12 | F57: 1035.4784 | G57: =F57/176 -> 5.8834 | H57: =ROUND(E57*G57*2,2) -> 141.2 | I57: =ROUND(H57*1.2359,2) -> 174.51
A58: Internās aprūpes māsa | B58: 1 | C58: =D58+E58 -> 208 | D58: 176 | E58: 32 | F58: 1035.4784 | G58: =F58/176 -> 5.8834 | H58: =ROUND(E58*G58*2,2) -> 376.54 | I58: =ROUND(H58*1.2359,2) -> 465.37
A59: Internās aprūpes māsa | B59: 1 | C59: =D59+E59 -> 240 | D59: 176 | E59: 64 | F59: 1035.4784 | G59: =F59/176 -> 5.8834 | H59: =ROUND(E59*G59*2,2) -> 753.08 | I59: =ROUND(H59*1.2359,2) -> 930.73
A60: Internās aprūpes māsa | B60: 1 | C60: =D60+E60 -> 216 | D60: 176 | E60: 40 | F60: 1035.4784 | G60: =F60/176 -> 5.8834 | H60: =ROUND(E60*G60*2,2) -> 470.67 | I60: =ROUND(H60*1.2359,2) -> 581.7
A61: Internās aprūpes māsa | B61: 1 | C61: =D61+E61 -> 187 | D61: 176 | E61: 11 | F61: 1035.4784 | G61: =F61/176 -> 5.8834 | H61: =ROUND(E61*G61*2,2) -> 129.43 | I61: =ROUND(H61*1.2359,2) -> 159.96
A62: Internās aprūpes māsa | B62: 1 | C62: =D62+E62 -> 256 | D62: 176 | E62: 80 | F62: 1035.4784 | G62: =F62/176 -> 5.8834 | H62: =ROUND(E62*G62*2,2) -> 941.34 | I62: =ROUND(H62*1.2359,2) -> 1163.4
A63: Internās aprūpes māsa | B63: 1 | C63: =D63+E63 -> 24 | D63: 8 | E63: 16 | F63: 1035.4784 | G63: =F63/176 -> 5.8834 | H63: =ROUND(E63*G63*2,2) -> 188.27 | I63: =ROUND(H63*1.2359,2) -> 232.68
... A85: Medicīnas māsa | B85: 1 | C85: =D85+E85 -> 228 | D85: 176 | E85: 52 | F85: 914.584 | G85: =F85/176 -> 5.1965 | H85: =ROUND(E85*G85*2,2) -> 540.44 | I85: =ROUND(H85*1.2359,2) -> 667.93
A86: Ārstniecības un pacientu aprūpes atbalsta personas, māsu palīgi, zobārstu asistenti, kopā, tai skaitā: | B86: =SUM(B87:B96) -> 10 | E86: =SUM(E87:E96) -> 280 | H86: =SUM(H87:H96) -> 2421.72 | I86: =SUM(I87:I96) -> 2993
A87: Māsas palīgs | B87: 1 | C87: =D87+E87 -> 192 | D87: 152 | E87: 40 | F87: 762.1504 | G87: =F87/176 -> 4.3304 | H87: =ROUND(E87*G87*2,2) -> 346.43 | I87: =ROUND(H87*1.2359,2) -> 428.15
A88: Māsas palīgs | B88: 1 | C88: =D88+E88 -> 196 | D88: 176 | E88: 20 | F88: 762.1504 | G88: =F88/176 -> 4.3304 | H88: =ROUND(E88*G88*2,2) -> 173.22 | I88: =ROUND(H88*1.2359,2) -> 214.08
A89: Māsas palīgs | B89: 1 | C89: =D89+E89 -> 208 | D89: 176 | E89: 32 | F89: 762.1504 | G89: =F89/176 -> 4.3304 | H89: =ROUND(E89*G89*2,2) -> 277.15 | I89: =ROUND(H89*1.2359,2) -> 342.53
A90: Māsas palīgs | B90: 1 | C90: =D90+E90 -> 144 | D90: 112 | E90: 32 | F90: 762.1504 | G90: =F90/176 -> 4.3304 | H90: =ROUND(E90*G90*2,2) -> 277.15 | I90: =ROUND(H90*1.2359,2) -> 342.53
A91: Māsas palīgs | B91: 1 | C91: =D91+E91 -> 196 | D91: 176 | E91: 20 | F91: 762.1504 | G91: =F91/176 -> 4.3304 | H91: =ROUND(E91*G91*2,2) -> 173.22 | I91: =ROUND(H91*1.2359,2) -> 214.08
A92: Māsas palīgs | B92: 1 | C92: =D92+E92 -> 192 | D92: 176 | E92: 16 | F92: 762.1504 | G92: =F92/176 -> 4.3304 | H92: =ROUND(E92*G92*2,2) -> 138.57 | I92: =ROUND(H92*1.2359,2) -> 171.26
A93: Māsas palīgs | B93: 1 | C93: =D93+E93 -> 216 | D93: 176 | E93: 40 | F93: 762.1504 | G93: =F93/176 -> 4.3304 | H93: =ROUND(E93*G93*2,2) -> 346.43 | I93: =ROUND(H93*1.2359,2) -> 428.15
A94: Māsas palīgs | B94: 1 | C94: =D94+E94 -> 204 | D94: 176 | E94: 28 | F94: 762.1504 | G94: =F94/176 -> 4.3304 | H94: =ROUND(E94*G94*2,2) -> 242.5 | I94: =ROUND(H94*1.2359,2) -> 299.71
A95: Māsas palīgs | B95: 1 | C95: =D95+E95 -> 204 | D95: 176 | E95: 28 | F95: 762.1504 | G95: =F95/176 -> 4.3304 | H95: =ROUND(E95*G95*2,2) -> 242.5 | I95: =ROUND(H95*1.2359,2) -> 299.71
A96: Māsas palīgs | B96: 1 | C96: =D96+E96 -> 96 | D96: 72 | E96: 24 | F96: 750.0044 | G96: =F96/176 -> 4.2613886 | H96: =ROUND(E96*G96*2,2) -> 204.55 | I96: =ROUND(H96*1.2359,2) -> 252.8
A97: "Plaušu slimību un tuberkulozes centrs " Uzņemšanas nodaļa, Covid 19 nodaļa | B97: =B98+B103+B108 -> 10 | E97: =E98+E103+E108 -> 283 | H97: =H98+H103+H108 -> 6121.2 | I97: =I98+I103+I108 -> 7565.2
A98: Ārsti, zobārsti un funkcionālie speciālisti, kopā, tai skaitā: | B98: =SUM(B99:B102) -> 4 | E98: =SUM(E99:E102) -> 258 | H98: =SUM(H99:H102) -> 5814.81 | I98: =SUM(I99:I102) -> 7186.54
A99: Infektologs | B99: 1 | C99: =D99+E99 -> 80 | D99: 70 | E99: 10 | F99: 1735.426 | G99: =F99/154 -> 11.269 | H99: =ROUND(E99*G99*2,2) -> 225.38 | I99: =ROUND(H99*1.2359,2) -> 278.55
A100: Narkologs | B100: 1 | C100: =D100+E100 -> 204 | D100: 84 | E100: 120 | F100: 1735.426 | G100: =F100/154 -> 11.269 | H100: =ROUND(E100*G100*2,2) -> 2704.56 | I100: =ROUND(H100*1.2359,2) -> 3342.57
A101: Internists | B101: 1 | C101: =D101+E101 -> 192 | D101: 96 | E101: 96 | F101: 1735.426 | G101: =F101/154 -> 11.269 | H101: =ROUND(E101*G101*2,2) -> 2163.65 | I101: =ROUND(H101*1.2359,2) -> 2674.06
A102: Neatliekamās medicīnas ārsts | B102: 1 | C102: =D102+E102 -> 168 | D102: 136 | E102: 32 | F102: 1735.426 | G102: =F102/154 -> 11.269 | H102: =ROUND(E102*G102*2,2) -> 721.22 | I102: =ROUND(H102*1.2359,2) -> 891.36
A103: Ārstniecības un pacientu aprūpes personas un funkcionālo speciālistu asistenti, kopā, tai skaitā: | B103: =SUM(B104:B107) -> 4 | E103: =SUM(E104:E107) -> 17 | H103: =SUM(H104:H107) -> 227.16 | I103: =SUM(I104:I107) -> 280.74
A104: Internās aprūpes māsa | B104: 1 | C104: =D104+E104 -> 36 | D104: 28 | E104: 8 | F104: 1035.9888 | G104: =F104/154 -> 6.7272 | H104: =ROUND(E104*G104*2,2) -> 107.64 | I104: =ROUND(H104*1.2359,2) -> 133.03
A105: Internās aprūpes māsa | B105: 1 | C105: =D105+E105 -> 160 | D105: 154 | E105: 6 | F105: 1035.9888 | G105: =F105/154 -> 6.7272 | H105: =ROUND(E105*G105*2,2) -> 80.73 | I105: =ROUND(H105*1.2359,2) -> 99.77
A106: Internās aprūpes māsa | B106: 1 | C106: =D106+E106 -> 156 | D106: 154 | E106: 2 | F106: 1035.9888 | G106: =F106/154 -> 6.7272 | H106: =ROUND(E106*G106*2,2) -> 26.91 | I106: =ROUND(H106*1.2359,2) -> 33.26
A107: Māsa (medicīnas māsa) | B107: 1 | C107: =D107+E107 -> 120 | D107: 119 | E107: 1 | F107: 915.0372 | G107: =F107/154 -> 5.9418 | H107: =ROUND(E107*G107*2,2) -> 11.88 | I107: =ROUND(H107*1.2359,2) -> 14.68
A108: Ārstniecības un pacientu aprūpes atbalsta personas, māsu palīgi, zobārstu asistenti, kopā, tai skaitā: | B108: =SUM(B109:B110) -> 2 | E108: =SUM(E109:E110) -> 8 | H108: =SUM(H109:H110) -> 79.23 | I108: =SUM(I109:I110) -> 97.92
A109: Māsas palīgs | B109: 1 | C109: =D109+E109 -> 160 | D109: 154 | E109: 6 | F109: 762.531 | G109: =F109/154 -> 4.9515 | H109: =ROUND(E109*G109*2,2) -> 59.42 | I109: =ROUND(H109*1.2359,2) -> 73.44
A110: Māsas palīgs | B110: 1 | C110: =D110+E110 -> 44 | D110: 42 | E110: 2 | F110: 762.531 | G110: =F110/154 -> 4.9515 | H110: =ROUND(E110*G110*2,2) -> 19.81 | I110: =ROUND(H110*1.2359,2) -> 24.48
A111: "Plaušu slimību un tuberkulozes centrs" Infekcijas nodaļa - Covid19 nodaļa | B111: =B112+B115+B129 -> 23 | E111: =E112+E115+E129 -> 328 | H111: =H112+H115+H129 -> 5780.73 | I111: =I112+I115+I129 -> 7144.42
A112: Ārstniecības un pacientu aprūpes personas un funkcionālo speciālistu asistenti, kopā, tai skaitā: | B112: =SUM(B113:B114) -> 2 | E112: =SUM(E113:E114) -> 177 | H112: =SUM(H113:H114) -> 3979.96 | I112: =SUM(I113:I114) -> 4918.84
A113: Infektologs | B113: 1 | C113: =D113+E113 -> 322 | D113: 154 | E113: 168 | F113: 1735.426 | G113: =F113/154 -> 11.269 | H113: =ROUND(E113*G113*2,2) -> 3786.38 | I113: =ROUND(H113*1.2359,2) -> 4679.59
A114: Infektologs | B114: 1 | C114: =D114+E114 -> 163 | D114: 154 | E114: 9 | F114: 1656.1844 | G114: =F114/154 -> 10.754444 | H114: =ROUND(E114*G114*2,2) -> 193.58 | I114: =ROUND(H114*1.2359,2) -> 239.25
A115: Ārstniecības un pacientu aprūpes personas un funkcionālo speciālistu asistenti, kopā, tai skaitā: | B115: =SUM(B116:B128) -> 13 | E115: =SUM(E116:E128) -> 86 | H115: =SUM(H116:H128) -> 1157.08 | I115: =SUM(I116:I128) -> 1430.04
A116: Internās aprūpes māsa | B116: 1 | C116: =D116+E116 -> 138 | D116: 133 | E116: 5 | F116: 1035.9888 | G116: =F116/154 -> 6.7272 | H116: =ROUND(E116*G116*2,2) -> 67.27 | I116: =ROUND(H116*1.2359,2) -> 83.14
A117: Internās aprūpes māsa | B117: 1 | C117: =D117+E117 -> 58 | D117: 56 | E117: 2 | F117: 1035.9888 | G117: =F117/154 -> 6.7272 | H117: =ROUND(E117*G117*2,2) -> 26.91 | I117: =ROUND(H117*1.2359,2) -> 33.26
A118: Internās aprūpes māsa | B118: 1 | C118: =D118+E118 -> 130 | D118: 119 | E118: 11 | F118: 1035.9888 | G118: =F118/154 -> 6.7272 | H118: =ROUND(E118*G118*2,2) -> 148 | I118: =ROUND(H118*1.2359,2) -> 182.91
A119: Internās aprūpes māsa | B119: 1 | C119: =D119+E119 -> 60 | D119: 56 | E119: 4 | F119: 1035.9888 | G119: =F119/154 -> 6.7272 | H119: =ROUND(E119*G119*2,2) -> 53.82 | I119: =ROUND(H119*1.2359,2) -> 66.52
A120: Internās aprūpes māsa | B120: 1 | C120: =D120+E120 -> 122 | D120: 119 | E120: 3 | F120: 1035.9888 | G120: =F120/154 -> 6.7272 | H120: =ROUND(E120*G120*2,2) -> 40.36 | I120: =ROUND(H120*1.2359,2) -> 49.88
A121: Internās aprūpes māsa | B121: 1 | C121: =D121+E121 -> 132 | D121: 119 | E121: 13 | F121: 1035.9888 | G121: =F121/154 -> 6.7272 | H121: =ROUND(E121*G121*2,2) -> 174.91 | I121: =ROUND(H121*1.2359,2) -> 216.17
A122: Internās aprūpes māsa | B122: 1 | C122: =D122+E122 -> 16 | D122: 14 | E122: 2 | F122: 1035.9888 | G122: =F122/154 -> 6.7272 | H122: =ROUND(E122*G122*2,2) -> 26.91 | I122: =ROUND(H122*1.2359,2) -> 33.26
A123: Internās aprūpes māsa | B123: 1 | C123: =D123+E123 -> 64 | D123: 56 | E123: 8 | F123: 1035.9888 | G123: =F123/154 -> 6.7272 | H123: =ROUND(E123*G123*2,2) -> 107.64 | I123: =ROUND(H123*1.2359,2) -> 133.03
A124: Internās aprūpes māsa | B124: 1 | C124: =D124+E124 -> 124 | D124: 119 | E124: 5 | F124: 1035.9888 | G124: =F124/154 -> 6.7272 | H124: =ROUND(E124*G124*2,2) -> 67.27 | I124: =ROUND(H124*1.2359,2) -> 83.14
A125: Internās aprūpes māsa | B125: 1 | C125: =D125+E125 -> 120 | D125: 119 | E125: 1 | F125: 1035.9888 | G125: =F125/154 -> 6.7272 | H125: =ROUND(E125*G125*2,2) -> 13.45 | I125: =ROUND(H125*1.2359,2) -> 16.62
A126: Internās aprūpes māsa | B126: 1 | C126: =D126+E126 -> 96 | D126: 84 | E126: 12 | F126: 1035.9888 | G126: =F126/154 -> 6.7272 | H126: =ROUND(E126*G126*2,2) -> 161.45 | I126: =ROUND(H126*1.2359,2) -> 199.54
A127: Internās aprūpes māsa | B127: 1 | C127: =D127+E127 -> 58 | D127: 49 | E127: 9 | F127: 1035.9888 | G127: =F127/154 -> 6.7272 | H127: =ROUND(E127*G127*2,2) -> 121.09 | I127: =ROUND(H127*1.2359,2) -> 149.66
A128: Internās aprūpes māsa | B128: 1 | C128: =D128+E128 -> 130 | D128: 119 | E128: 11 | F128: 1035.9888 | G128: =F128/154 -> 6.7272 | H128: =ROUND(E128*G128*2,2) -> 148 | I128: =ROUND(H128*1.2359,2) -> 182.91
A129: Ārstniecības un pacientu aprūpes atbalsta personas, māsu palīgi, zobārstu asistenti, kopā, tai skaitā: | B129: =SUM(B130:B137) -> 8 | E129: =SUM(E130:E137) -> 65 | H129: =SUM(H130:H137) -> 643.69 | I129: =SUM(I130:I137) -> 795.54
A130: Māsas palīgs | B130: 1 | C130: =D130+E130 -> 130 | D130: 119 | E130: 11 | F130: 762.531 | G130: =F130/154 -> 4.9515 | H130: =ROUND(E130*G130*2,2) -> 108.93 | I130: =ROUND(H130*1.2359,2) -> 134.63
A131: Māsas palīgs | B131: 1 | C131: =D131+E131 -> 130 | D131: 119 | E131: 11 | F131: 762.531 | G131: =F131/154 -> 4.9515 | H131: =ROUND(E131*G131*2,2) -> 108.93 | I131: =ROUND(H131*1.2359,2) -> 134.63
A132: Māsas palīgs | B132: 1 | C132: =D132+E132 -> 52 | D132: 49 | E132: 3 | F132: 762.531 | G132: =F132/154 -> 4.9515 | H132: =ROUND(E132*G132*2,2) -> 29.71 | I132: =ROUND(H132*1.2359,2) -> 36.72
A133: Māsas palīgs | B133: 1 | C133: =D133+E133 -> 60 | D133: 56 | E133: 4 | F133: 762.531 | G133: =F133/154 -> 4.9515 | H133: =ROUND(E133*G133*2,2) -> 39.61 | I133: =ROUND(H133*1.2359,2) -> 48.95
A134: Māsas palīgs | B134: 1 | C134: =D134+E134 -> 60 | D134: 56 | E134: 4 | F134: 762.531 | G134: =F134/154 -> 4.9515 | H134: =ROUND(E134*G134*2,2) -> 39.61 | I134: =ROUND(H134*1.2359,2) -> 48.95
A135: Māsas palīgs | B135: 1 | C135: =D135+E135 -> 96 | D135: 84 | E135: 12 | F135: 762.531 | G135: =F135/154 -> 4.9515 | H135: =ROUND(E135*G135*2,2) -> 118.84 | I135: =ROUND(H135*1.2359,2) -> 146.87
A136: Māsas palīgs | B136: 1 | C136: =D136+E136 -> 58 | D136: 49 | E136: 9 | F136: 762.531 | G136: =F136/154 -> 4.9515 | H136: =ROUND(E136*G136*2,2) -> 89.13 | I136: =ROUND(H136*1.2359,2) -> 110.16
A137: Māsas palīgs | B137: 1 | C137: =D137+E137 -> 130 | D137: 119 | E137: 11 | F137: 762.531 | G137: =F137/154 -> 4.9515 | H137: =ROUND(E137*G137*2,2) -> 108.93 | I137: =ROUND(H137*1.2359,2) -> 134.63
A138: "Plaušu slimību un tuberkulozes centrs" Intensīvās terapijas nodaļa Covid19 nodaļa | B138: =B139 -> 5 | E138: =E139 -> 110 | H138: =H139 -> 1461.14 | I138: =I139 -> 1805.82
A139: Ārstniecības un pacientu aprūpes personas un funkcionālo speciālistu asistenti, kopā, tai skaitā: | B139: =SUM(B140:B144) -> 5 | E139: =SUM(E140:E144) -> 110 | H139: =SUM(H140:H144) -> 1461.14 | I139: =SUM(I140:I144) -> 1805.82
A140: Anestēzijas, intensīvās un neatliekamās aprūpes māsa | B140: 1 | C140: =D140+E140 -> 190 | D140: 154 | E140: 36 | F140: 1035.9888 | G140: =F140/154 -> 6.7272 | H140: =ROUND(E140*G140*2,2) -> 484.36 | I140: =ROUND(H140*1.2359,2) -> 598.62
A141: Anestēzijas, intensīvās un neatliekamās aprūpes māsa | B141: 1 | C141: =D141+E141 -> 190 | D141: 154 | E141: 36 | F141: 1035.9888 | G141: =F141/154 -> 6.7272 | H141: =ROUND(E141*G141*2,2) -> 484.36 | I141: =ROUND(H141*1.2359,2) -> 598.62
A142: Internās aprūpes māsa | B142: 1 | C142: =D142+E142 -> 178 | D142: 154 | E142: 24 | F142: 1035.9888 | G142: =F142/154 -> 6.7272 | H142: =ROUND(E142*G142*2,2) -> 322.91 | I142: =ROUND(H142*1.2359,2) -> 399.08
A143: Medicīnas māsa | B143: 1 | C143: =D143+E143 -> 156 | D143: 154 | E143: 2 | F143: 1035.9888 | G143: =F143/154 -> 6.7272 | H143: =ROUND(E143*G143*2,2) -> 26.91 | I143: =ROUND(H143*1.2359,2) -> 33.26
A144: Medicīnas māsa | B144: 1 | C144: =D144+E144 -> 96 | D144: 84 | E144: 12 | F144: 915.0372 | G144: =F144/154 -> 5.9418 | H144: =ROUND(E144*G144*2,2) -> 142.6 | I144: =ROUND(H144*1.2359,2) -> 176.24
A145: "Plaušu slimību un tuberkulozes centrs" Paliatīvās aprūpes nodaļa -pārprofilēta Covid 19 nodaļa | B145: =B146+B148 -> 3 | E145: =E146+E148 -> 19 | H145: =H146+H148 -> 191.7 | I145: =I146+I148 -> 236.92
A146: Ārstniecības un pacientu aprūpes personas un funkcionālo speciālistu asistenti, kopā, tai skaitā: | B146: =SUM(B147:B147) -> 1 | E146: =SUM(E147:E147) -> 1 | H146: =SUM(H147:H147) -> 13.45 | I146: =SUM(I147:I147) -> 16.62
A147: Internās aprūpes māsa | B147: 1 | C147: =D147+E147 -> 134 | D147: 133 | E147: 1 | F147: 1035.9888 | G147: =F147/154 -> 6.7272 | H147: =ROUND(E147*G147*2,2) -> 13.45 | I147: =ROUND(H147*1.2359,2) -> 16.62
A148: Ārstniecības un pacientu aprūpes atbalsta personas, māsu palīgi, zobārstu asistenti, kopā, tai skaitā: | B148: =SUM(B149:B150) -> 2 | E148: =SUM(E149:E150) -> 18 | H148: =SUM(H149:H150) -> 178.25 | I148: =SUM(I149:I150) -> 220.3
...

Sheet Z-Kurzeme_jūl
H1: 1.9.Pielikums
A2: Pārskats par darba veicējiem (ārstniecības personām), virs normālā darba laika nostrādātām stundām, apmaksājamām stundām un izdevumiem, kas radušies saistībā ar mērķi ierobežot Covid-19 izplatību
A4: Iestādes nosaukums: SIA "Ziemeļkurzemes reģionālā slimnīca" | D4: 179
A5: Pārskata mēnesis: Jūlijs | D5: 157
B7: Nodarbināto skaits mēnesī | C7: Apmaksājamais laiks mēnesī, stundas (tai skaitā summētā darba laika ietvaros) | F7: Mēnešalga no kuras rēķina stundas likmi | G7: Stundas likme (aprēķināta atbilstoši mēnešalgai vai darba līgumā noteiktā stundas likme)2 | H7: Apmaksājamā 100% piemaksa par nostrādātām virsstundām virs normālā darba laika (tai skaitā summētā darba laika ietvaros) | I7: Izdevumi par virsstundām kopā ar VSOAI, EUR
C8: Kopā | D8: līdz normālam darba laikam | E8: virsstundas - virs normālā darba laika, kas saistītas ar darbu ar Covid-19
A10: 1 | B10: 2 | C10: 3=4+5 | D10: 4 | E10: 5 | F10: 6 | G10: 7 | H10: 8 | I10: 9=8 +VSOAI
A11: KOPĀ | B11: =B12+B29+B55+B67+B71+B76+B87+B94+B110+B123+B129+B134+B139+B147+B154 -> 113 | E11: =E12+E29+E55+E67+E71+E76+E87+E94+E110+E123+E129+E134+E139+E147+E154 -> 3954 | H11: =H12+H29+H55+H67+H71+H76+H87+H94+H110+H123+H129+H134+H139+H147+H154 -> 57218.14 | I11: =I12+I29+I55+I67+I71+I76+I87+I94+I110+I123+I129+I134+I139+I147+I154 -> 70715.86
A12: Infekciju nodaļa(35 stundas nedēļā) | B12: =B13+B22+B24 -> 13 | E12: =E13+E22+E24 -> 530.25 | H12: =H13+H22+H24 -> 5711.26 | I12: =I13+I22+I24 -> 7058.52
A13: Ārstniecības un pacientu aprūpes personas un funkcionālo speciālistu asistenti, kopā, tai skaitā: | B13: =SUM(B14:B21) -> 8 | E13: =SUM(E14:E21) -> 194.25 | H13: =SUM(H14:H21) -> 2556.56 | I13: =SUM(I14:I21) -> 3159.63
A14: Infektoloģijas māsa | B14: 1 | C14: =D14+E14 -> 160 | D14: =D5 -> 157 | E14: 3 | G14: 6.747 | H14: =ROUND(G14*E14*2,2) -> 40.48 | I14: =ROUND(H14*1.2359,2) -> 50.03
A15: Infektoloģijas māsa | B15: 1 | C15: =D15+E15 -> 188.25 | D15: =D14 -> 157 | E15: 31.25 | G15: 7.24 | H15: =ROUND(G15*E15*2,2) -> 452.5 | I15: =ROUND(H15*1.2359,2) -> 559.24
A16: Infektoloģijas māsa | B16: 1 | C16: =D16+E16 -> 192 | D16: =D15 -> 157 | E16: 35 | G16: 6.747 | H16: =ROUND(G16*E16*2,2) -> 472.29 | I16: =ROUND(H16*1.2359,2) -> 583.7
A17: Infektoloģijas māsa | B17: 1 | C17: =D17+E17 -> 168 | D17: =D16 -> 157 | E17: 11 | G17: 6.747 | H17: =ROUND(G17*E17*2,2) -> 148.43 | I17: =ROUND(H17*1.2359,2) -> 183.44
A18: Infektoloģijas māsa | B18: 1 | C18: =D18+E18 -> 168 | D18: =D17 -> 157 | E18: 11 | G18: 6.747 | H18: =ROUND(G18*E18*2,2) -> 148.43 | I18: =ROUND(H18*1.2359,2) -> 183.44
A19: Infektoloģijas māsa | B19: 1 | C19: =D19+E19 -> 205 | D19: =D18 -> 157 | E19: 48 | G19: 5.938 | H19: =ROUND(G19*E19*2,2) -> 570.05 | I19: =ROUND(H19*1.2359,2) -> 704.52
A20: Infektoloģijas māsa | B20: 1 | C20: =D20+E20 -> 168 | D20: =D19 -> 157 | E20: 11 | G20: 5.938 | H20: =ROUND(G20*E20*2,2) -> 130.64 | I20: =ROUND(H20*1.2359,2) -> 161.46
A21: Infektoloģijas māsa | B21: 1 | C21: =D21+E21 -> 201 | D21: =D20 -> 157 | E21: 44 | G21: 6.747 | H21: =ROUND(G21*E21*2,2) -> 593.74 | I21: =ROUND(H21*1.2359,2) -> 733.8
A22: Ārstniecības un pacientu aprūpes atbalsta personas, māsu palīgi, zobārstu aistenti, kopā, tai skaitā: | B22: =B23 -> 1 | E22: =E23 -> 73 | H22: =H23 -> 722.99 | I22: =I23 -> 893.54
A23: Māsas palīgs | B23: 1 | C23: =D23+E23 -> 230 | D23: =D5 -> 157 | E23: 73 | G23: 4.952 | H23: =ROUND(G23*E23*2,2) -> 722.99 | I23: =ROUND(H23*1.2359,2) -> 893.54
A24: Pārējie darbinieki, kuri tieši iesaistīti darbā ar Covid-19, kopā, tai skaitā: | B24: =SUM(B25:B28) -> 4 | E24: =SUM(E25:E28) -> 263 | H24: =SUM(H25:H28) -> 2431.71 | I24: =SUM(I25:I28) -> 3005.35
A25: Sanitārs | B25: 1 | C25: =D25+E25 -> 230 | D25: =D5 -> 157 | E25: 73 | G25: 4.623 | H25: =ROUND(G25*E25*2,2) -> 674.96 | I25: =ROUND(H25*1.2359,2) -> 834.18
A26: Sanitārs | B26: 1 | C26: =D26+E26 -> 245 | D26: =D25 -> 157 | E26: 88 | G26: 4.623 | H26: =ROUND(G26*E26*2,2) -> 813.65 | I26: =ROUND(H26*1.2359,2) -> 1005.59
A27: Sanitārs | B27: 1 | C27: =D27+E27 -> 228 | D27: =D26 -> 157 | E27: 71 | G27: 4.623 | H27: =ROUND(G27*E27*2,2) -> 656.47 | I27: =ROUND(H27*1.2359,2) -> 811.33
A28: Sanitārs | B28: 1 | C28: =D28+E28 -> 188 | D28: =D27 -> 157 | E28: 31 | G28: 4.623 | H28: =ROUND(G28*E28*2,2) -> 286.63 | I28: =ROUND(H28*1.2359,2) -> 354.25
A29: ANESTEZIOLOĢIJAS UN INTENSĪVĀS TERAPIJAS NODAĻA(35 stundas nedēļā) | B29: =B30+B38+B51 -> 22 | E29: =E30+E38+E51 -> 670 | H29: =H30+H38+H51 -> 10019.47 | I29: =I30+I38+I51 -> 12383.08
A30: Ārsti, zobārsti un funkcionālie speciālisti, kopā, tai skaitā: | B30: =SUM(B31:B37) -> 7 | E30: =SUM(E31:E37) -> 187 | H30: =SUM(H31:H37) -> 4125.23 | I30: =SUM(I31:I37) -> 5098.38
A31: Anesteziologs, reanimatologs (dežūrārsts) | B31: 1 | C31: =D31+E31 -> 173 | D31: =D5 -> 157 | E31: 16 | G31: 10.856 | H31: =ROUND(G31*E31*2,2) -> 347.39 | I31: =ROUND(H31*1.2359,2) -> 429.34
A32: Anesteziologs, reanimatologs (dežūrārsts) | B32: 1 | C32: =D32+E32 -> 177 | D32: =D31 -> 157 | E32: 20 | G32: 11.308 | H32: =ROUND(G32*E32*2,2) -> 452.32 | I32: =ROUND(H32*1.2359,2) -> 559.02
A33: Anesteziologs, reanimatologs (dežūrārsts) | B33: 1 | C33: =D33+E33 -> 192 | D33: =D32 -> 157 | E33: 35 | G33: 10.856 | H33: =ROUND(G33*E33*2,2) -> 759.92 | I33: =ROUND(H33*1.2359,2) -> 939.19
A34: Anesteziologs, reanimatologs (dežūrārsts) | B34: 1 | C34: =D34+E34 -> 205 | D34: =D33 -> 157 | E34: 48 | G34: 10.856 | H34: =ROUND(G34*E34*2,2) -> 1042.18 | I34: =ROUND(H34*1.2359,2) -> 1288.03
A35: Anesteziologs, reanimatologs (dežūrārsts) | B35: 1 | C35: =D35+E35 -> 160 | D35: =D34 -> 157 | E35: 3 | G35: 11.308 | H35: =ROUND(G35*E35*2,2) -> 67.85 | I35: =ROUND(H35*1.2359,2) -> 83.86
A36: Anesteziologs, reanimatologs (dežūrārsts) | B36: 1 | C36: =D36+E36 -> 173 | D36: =D32 -> 157 | E36: 16 | G36: 10.856 | H36: =ROUND(G36*E36*2,2) -> 347.39 | I36: =ROUND(H36*1.2359,2) -> 429.34
A37: Anesteziologs, reanimatologs (dežūrārsts) | B37: 1 | C37: =D37+E37 -> 206 | D37: =D36 -> 157 | E37: 49 | G37: 11.308 | H37: =ROUND(G37*E37*2,2) -> 1108.18 | I37: =ROUND(H37*1.2359,2) -> 1369.6
A38: Ārstniecības un pacientu aprūpes personas un funkcionālo speciālistu asistenti, kopā, tai skaitā: | B38: =SUM(B39:B50) -> 12 | E38: =SUM(E39:E50) -> 426 | H38: =SUM(H39:H50) -> 5329.71 | I38: =SUM(I39:I50) -> 6587
A39: Intensīvās terapijas un anestēzijas māsa | B39: 1 | C39: =D39+E39 -> 219.5 | D39: =D5 -> 157 | E39: 62.5 | G39: 6.404 | H39: =ROUND(G39*E39*2,2) -> 800.5 | I39: =ROUND(H39*1.2359,2) -> 989.34
A40: Intensīvās terapijas un anestēzijas māsa | B40: 1 | C40: =D40+E40 -> 170 | D40: =D39 -> 157 | E40: 13 | G40: 6.23 | H40: =ROUND(G40*E40*2,2) -> 161.98 | I40: =ROUND(H40*1.2359,2) -> 200.19
A41: Intensīvās terapijas un anestēzijas māsa | B41: 1 | C41: =D41+E41 -> 253 | D41: =D40 -> 157 | E41: 96 | G41: 6.23 | H41: =ROUND(G41*E41*2,2) -> 1196.16 | I41: =ROUND(H41*1.2359,2) -> 1478.33
A42: Intensīvās terapijas un anestēzijas māsa | B42: 1 | C42: =D42+E42 -> 205 | D42: =D41 -> 157 | E42: 48 | G42: 6.23 | H42: =ROUND(G42*E42*2,2) -> 598.08 | I42: =ROUND(H42*1.2359,2) -> 739.17
A43: Intensīvās terapijas un anestēzijas māsa | B43: 1 | C43: =D43+E43 -> 178 | D43: =D42 -> 157 | E43: 21 | G43: 6.23 | H43: =ROUND(G43*E43*2,2) -> 261.66 | I43: =ROUND(H43*1.2359,2) -> 323.39
A44: Intensīvās terapijas un anestēzijas māsa | B44: 1 | C44: =D44+E44 -> 184 | D44: =D43 -> 157 | E44: 27 | G44: 6.23 | H44: =ROUND(G44*E44*2,2) -> 336.42 | I44: =ROUND(H44*1.2359,2) -> 415.78
A45: Intensīvās terapijas un anestēzijas māsa | B45: 1 | C45: =D45+E45 -> 170 | D45: =D44 -> 157 | E45: 13 | G45: 6.23 | H45: =ROUND(G45*E45*2,2) -> 161.98 | I45: =ROUND(H45*1.2359,2) -> 200.19
A46: Intensīvās terapijas un anestēzijas māsa | B46: 1 | C46: =D46+E46 -> 203 | D46: =D45 -> 157 | E46: 46 | G46: 6.23 | H46: =ROUND(G46*E46*2,2) -> 573.16 | I46: =ROUND(H46*1.2359,2) -> 708.37
A47: Intensīvās terapijas un anestēzijas māsa | B47: 1 | C47: =D47+E47 -> 190.5 | D47: =D46 -> 157 | E47: 33.5 | G47: 6.23 | H47: =ROUND(G47*E47*2,2) -> 417.41 | I47: =ROUND(H47*1.2359,2) -> 515.88
A48: Intensīvās terapijas un anestēzijas māsa | B48: 1 | C48: =D48+E48 -> 175 | D48: =D47 -> 157 | E48: 18 | G48: 6.23 | H48: =ROUND(G48*E48*2,2) -> 224.28 | I48: =ROUND(H48*1.2359,2) -> 277.19
A49: Intensīvās terapijas un anestēzijas māsa | B49: 1 | C49: =D49+E49 -> 170 | D49: =D48 -> 157 | E49: 13 | G49: 6.23 | H49: =ROUND(G49*E49*2,2) -> 161.98 | I49: =ROUND(H49*1.2359,2) -> 200.19
A50: Intensīvās terapijas un anestēzijas māsa | B50: 1 | C50: =D50+E50 -> 192 | D50: =D49 -> 157 | E50: 35 | G50: 6.23 | H50: =ROUND(G50*E50*2,2) -> 436.1 | I50: =ROUND(H50*1.2359,2) -> 538.98
A51: Ārstniecības un pacientu aprūpes atbalsta personas, māsu palīgi, zobārstu aistenti, kopā, tai skaitā: | B51: =SUM(B52:B54) -> 3 | E51: =SUM(E52:E54) -> 57 | H51: =SUM(H52:H54) -> 564.53 | I51: =SUM(I52:I54) -> 697.7
A52: Māsas palīgs | B52: 1 | C52: =D52+E52 -> 185 | D52: =D5 -> 157 | E52: 28 | G52: 4.952 | H52: =ROUND(G52*E52*2,2) -> 277.31 | I52: =ROUND(H52*1.2359,2) -> 342.73
A53: Māsas palīgs | B53: 1 | C53: =D53+E53 -> 167 | D53: =D52 -> 157 | E53: 10 | G53: 4.952 | H53: =ROUND(G53*E53*2,2) -> 99.04 | I53: =ROUND(H53*1.2359,2) -> 122.4
A54: Māsas palīgs | B54: 1 | C54: =D54+E54 -> 176 | D54: =D53 -> 157 | E54: 19 | G54: 4.952 | H54: =ROUND(G54*E54*2,2) -> 188.18 | I54: =ROUND(H54*1.2359,2) -> 232.57
A55: Anestezioloģijas un intensīvās terapijas nodaļa - Talsu filiāles(35 stundas nedēļā) | B55: =B56+B59+B65 -> 8 | E55: =E56+E59+E65 -> 166 | H55: =H56+H59+H65 -> 2584.93 | I55: =I56+I59+I65 -> 3194.71
A56: Ārsti, zobārsti un funkcionālie speciālisti, kopā, tai skaitā: | B56: =SUM(B57:B58) -> 2 | E56: =SUM(E57:E58) -> 54 | H56: =SUM(H57:H58) -> 1111.12 | I56: =SUM(I57:I58) -> 1373.23
A57: Anesteziologs, reanimatologs (dežūrārsts) | B57: 1 | C57: =D57+E57 -> 168 | D57: =D5 -> 157 | E57: 11 | G57: 8.979 | H57: =ROUND(G57*E57*2,2) -> 197.54 | I57: =ROUND(H57*1.2359,2) -> 244.14
A58: Anesteziologs, reanimatologs (dežūrārsts) | B58: 1 | C58: =D58+E58 -> 200 | D58: =D57 -> 157 | E58: 43 | G58: 10.623 | H58: =ROUND(G58*E58*2,2) -> 913.58 | I58: =ROUND(H58*1.2359,2) -> 1129.09
A59: Ārstniecības un pacientu aprūpes personas un funkcionālo speciālistu asistenti, kopā, tai skaitā: | B59: =SUM(B60:B64) -> 5 | E59: =SUM(E60:E64) -> 99 | H59: =SUM(H60:H64) -> 1345.06 | I59: =SUM(I60:I64) -> 1662.36
A60: Intensīvās terapijas un anestēzijas māsa | B60: 1 | C60: =D60+E60 -> 166 | D60: =D5 -> 157 | E60: 9 | G60: 6.747 | H60: =ROUND(G60*E60*2,2) -> 121.45 | I60: =ROUND(H60*1.2359,2) -> 150.1
A61: Intensīvās terapijas un anestēzijas māsa | B61: 1 | C61: =D61+E61 -> 164 | D61: =D60 -> 157 | E61: 7 | G61: 6.856 | H61: =ROUND(G61*E61*2,2) -> 95.98 | I61: =ROUND(H61*1.2359,2) -> 118.62
A62: Intensīvās terapijas un anestēzijas māsa | B62: 1 | C62: =D62+E62 -> 178 | D62: =D61 -> 157 | E62: 21 | G62: 6.747 | H62: =ROUND(G62*E62*2,2) -> 283.37 | I62: =ROUND(H62*1.2359,2) -> 350.22
A63: Intensīvās terapijas un anestēzijas māsa | B63: 1 | C63: =D63+E63 -> 192 | D63: =D62 -> 157 | E63: 35 | G63: 6.856 | H63: =ROUND(G63*E63*2,2) -> 479.92 | I63: =ROUND(H63*1.2359,2) -> 593.13
A64: Intensīvās terapijas un anestēzijas māsa | B64: 1 | C64: =D64+E64 -> 184 | D64: =D63 -> 157 | E64: 27 | G64: 6.747 | H64: =ROUND(G64*E64*2,2) -> 364.34 | I64: =ROUND(H64*1.2359,2) -> 450.29
A65: Ārstniecības un pacientu aprūpes atbalsta personas, māsu palīgi, zobārstu aistenti, kopā, tai skaitā: | B65: =SUM(B66:B66) -> 1 | E65: =SUM(E66:E66) -> 13 | H65: =SUM(H66:H66) -> 128.75 | I65: =SUM(I66:I66) -> 159.12
A66: Māsas palīgs | B66: 1 | C66: =D66+E66 -> 170 | D66: =D5 -> 157 | E66: 13 | G66: 4.952 | H66: =ROUND(G66*E66*2,2) -> 128.75 | I66: =ROUND(H66*1.2359,2) -> 159.12
A67: DZEMDĪBU UN GINEKOLOĢIJAS BLOKS | B67: =B68 -> 2 | E67: =E68 -> 207 | H67: =H68 -> 4622.73 | I67: =I68 -> 5713.23
A68: Ārsti, zobārsti un funkcionālie speciālisti, kopā, tai skaitā: | B68: =SUM(B69:B70) -> 2 | E68: =SUM(E69:E70) -> 207 | H68: =SUM(H69:H70) -> 4622.73 | I68: =SUM(I69:I70) -> 5713.23
A69: Ginekologs, dzemdību speciālists (dež.ārsts) | B69: 1 | C69: =D69+E69 -> 218 | D69: =D4 -> 179 | E69: 39 | G69: 11.166 | H69: =ROUND(G69*E69*2,2) -> 870.95 | I69: =ROUND(H69*1.2359,2) -> 1076.41
A70: Ginekologs, dzemdību speciālists (dež.ārsts) | B70: 1 | C70: =D70+E70 -> 347 | D70: =D69 -> 179 | E70: 168 | G70: 11.166 | H70: =ROUND(G70*E70*2,2) -> 3751.78 | I70: =ROUND(H70*1.2359,2) -> 4636.82
A71: IEKŠĶĪGO SLIMĪBU NODAĻA | B71: =B72 -> 3 | E71: =E72 -> 239.5 | H71: =H72 -> 4542.35 | I71: =I72 -> 5613.9
A72: Ārsti, zobārsti un funkcionālie speciālisti, kopā, tai skaitā: | B72: =SUM(B73:B75) -> 3 | E72: =SUM(E73:E75) -> 239.5 | H72: =SUM(H73:H75) -> 4542.35 | I72: =SUM(I73:I75) -> 5613.9
A73: Internists (dežūrārsts) | B73: 1 | C73: =D73+E73 -> 265 | D73: =D4 -> 179 | E73: 86 | G73: 9.267 | H73: =ROUND(G73*E73*2,2) -> 1593.92 | I73: =ROUND(H73*1.2359,2) -> 1969.93
A74: Internists (dežūrārsts) | B74: 1 | C74: =D74+E74 -> 255 | D74: =D73 -> 179 | E74: 76 | G74: 9.604 | H74: =ROUND(G74*E74*2,2) -> 1459.81 | I74: =ROUND(H74*1.2359,2) -> 1804.18
A75: Internists (dežūrārsts) | B75: 1 | C75: =D75+E75 -> 256.5 | D75: =D74 -> 179 | E75: 77.5 | G75: 9.604 | H75: =ROUND(G75*E75*2,2) -> 1488.62 | I75: =ROUND(H75*1.2359,2) -> 1839.79
A76: Ķirurģijas nodaļa un dienas stacionārs - Talsu filiāles | B76: =B77+B83 -> 8 | E76: =E77+E83 -> 247 | H76: =H77+H83 -> 2886.28 | I76: =I77+I83 -> 3567.15
A77: Ārstniecības un pacientu aprūpes personas un funkcionālo speciālistu asistenti, kopā, tai skaitā: | B77: =SUM(B78:B82) -> 5 | E77: =SUM(E78:E82) -> 222 | H77: =SUM(H78:H82) -> 2669.83 | I77: =SUM(I78:I82) -> 3299.64
A78: Medicīnas māsa | B78: 1 | C78: =D78+E78 -> 206 | D78: =D4 -> 179 | E78: 27 | G78: 6.131 | H78: =ROUND(G78*E78*2,2) -> 331.07 | I78: =ROUND(H78*1.2359,2) -> 409.17
A79: Medicīnas māsa | B79: 1 | C79: =D79+E79 -> 216 | D79: =D78 -> 179 | E79: 37 | G79: 6.404 | H79: =ROUND(G79*E79*2,2) -> 473.9 | I79: =ROUND(H79*1.2359,2) -> 585.69
A80: Medicīnas māsa | B80: 1 | C80: =D80+E80 -> 221 | D80: =D79 -> 179 | E80: 42 | G80: 6.23 | H80: =ROUND(G80*E80*2,2) -> 523.32 | I80: =ROUND(H80*1.2359,2) -> 646.77
A81: Medicīnas māsa | B81: 1 | C81: =D81+E81 -> 240 | D81: =D80 -> 179 | E81: 61 | G81: 6.131 | H81: =ROUND(G81*E81*2,2) -> 747.98 | I81: =ROUND(H81*1.2359,2) -> 924.43
A82: Medicīnas māsa | B82: 1 | C82: =D82+E82 -> 234 | D82: =D81 -> 179 | E82: 55 | G82: 5.396 | H82: =ROUND(G82*E82*2,2) -> 593.56 | I82: =ROUND(H82*1.2359,2) -> 733.58
A83: Ārstniecības un pacientu aprūpes atbalsta personas, māsu palīgi, zobārstu aistenti, kopā, tai skaitā: | B83: =SUM(B84:B86) -> 3 | E83: =SUM(E84:E86) -> 25 | H83: =SUM(H84:H86) -> 216.45 | I83: =SUM(I84:I86) -> 267.51
A84: Māsas palīgs | B84: 1 | C84: =D84+E84 -> 180 | D84: =D4 -> 179 | E84: 1 | G84: 4.329 | H84: =ROUND(G84*E84*2,2) -> 8.66 | I84: =ROUND(H84*1.2359,2) -> 10.7
A85: Māsas palīgs | B85: 1 | C85: =D85+E85 -> 192 | D85: =D84 -> 179 | E85: 13 | G85: 4.329 | H85: =ROUND(G85*E85*2,2) -> 112.55 | I85: =ROUND(H85*1.2359,2) -> 139.1
A86: Māsas palīgs | B86: 1 | C86: =D86+E86 -> 190 | D86: =D85 -> 179 | E86: 11 | G86: 4.329 | H86: =ROUND(G86*E86*2,2) -> 95.24 | I86: =ROUND(H86*1.2359,2) -> 117.71
A87: NEIROLOĢIJAS NODAĻA | B87: =B88 -> 5 | E87: =E88 -> 230.5 | H87: =H88 -> 4274.78 | I87: =I88 -> 5283.19
A88: Ārsti, zobārsti un funkcionālie speciālisti, kopā, tai skaitā: | B88: =SUM(B89:B93) -> 5 | E88: =SUM(E89:E93) -> 230.5 | H88: =SUM(H89:H93) -> 4274.78 | I88: =SUM(I89:I93) -> 5283.19
A89: Neirologs (dežūrārsts) | B89: 1 | C89: =D89+E89 -> 216 | D89: =D4 -> 179 | E89: 37 | G89: 9.267 | H89: =ROUND(G89*E89*2,2) -> 685.76 | I89: =ROUND(H89*1.2359,2) -> 847.53
A90: Neirologs (dežūrārsts) | B90: 1 | C90: =D90+E90 -> 252.5 | D90: =D89 -> 179 | E90: 73.5 | G90: 9.267 | H90: =ROUND(G90*E90*2,2) -> 1362.25 | I90: =ROUND(H90*1.2359,2) -> 1683.6
A91: Neirologs (dežūrārsts) | B91: 1 | C91: =D91+E91 -> 254 | D91: =D90 -> 179 | E91: 75 | G91: 9.267 | H91: =ROUND(G91*E91*2,2) -> 1390.05 | I91: =ROUND(H91*1.2359,2) -> 1717.96
A92: Neirologs (dežūrārsts) | B92: 1 | C92: =D92+E92 -> 220 | D92: =D91 -> 179 | E92: 41 | G92: 9.267 | H92: =ROUND(G92*E92*2,2) -> 759.89 | I92: =ROUND(H92*1.2359,2) -> 939.15
A93: Neirologs (dežūrārsts) | B93: 1 | C93: =D93+E93 -> 183 | D93: =D92 -> 179 | E93: 4 | G93: 9.604 | H93: =ROUND(G93*E93*2,2) -> 76.83 | I93: =ROUND(H93*1.2359,2) -> 94.95
A94: UZŅEMŠANAS NODAĻA | B94: =B95+B107 -> 13 | E94: =E95+E107 -> 448 | H94: =H95+H107 -> 5133.15 | I94: =I95+I107 -> 6344.08
A95: Ārstniecības un pacientu aprūpes personas un funkcionālo speciālistu asistenti, kopā, tai skaitā: | B95: =SUM(B96:B106) -> 11 | E95: =SUM(E96:E106) -> 398 | H95: =SUM(H96:H106) -> 4700.25 | I95: =SUM(I96:I106) -> 5809.06
A96: Medicīnas māsa | B96: 1 | C96: =D96+E96 -> 208 | D96: =D4 -> 179 | E96: 29 | G96: 6.23 | H96: =ROUND(G96*E96*2,2) -> 361.34 | I96: =ROUND(H96*1.2359,2) -> 446.58
A97: Medicīnas māsa | B97: 1 | C97: =D97+E97 -> 211 | D97: =D96 -> 179 | E97: 32 | G97: 5.396 | H97: =ROUND(G97*E97*2,2) -> 345.34 | I97: =ROUND(H97*1.2359,2) -> 426.81
A98: Medicīnas māsa | B98: 1 | C98: =D98+E98 -> 204 | D98: =D97 -> 179 | E98: 25 | G98: 6.131 | H98: =ROUND(G98*E98*2,2) -> 306.55 | I98: =ROUND(H98*1.2359,2) -> 378.87
A99: Medicīnas māsa | B99: 1 | C99: =D99+E99 -> 190 | D99: =D98 -> 179 | E99: 11 | G99: 6.131 | H99: =ROUND(G99*E99*2,2) -> 134.88 | I99: =ROUND(H99*1.2359,2) -> 166.7
A100: Medicīnas māsa | B100: 1 | C100: =D100+E100 -> 216 | D100: =D99 -> 179 | E100: 37 | G100: 5.483 | H100: =ROUND(G100*E100*2,2) -> 405.74 | I100: =ROUND(H100*1.2359,2) -> 501.45
A101: Medicīnas māsa | B101: 1 | C101: =D101+E101 -> 214 | D101: =D100 -> 179 | E101: 35 | G101: 5.483 | H101: =ROUND(G101*E101*2,2) -> 383.81 | I101: =ROUND(H101*1.2359,2) -> 474.35
A102: Medicīnas māsa | B102: 1 | C102: =D102+E102 -> 227 | D102: =D101 -> 179 | E102: 48 | G102: 5.396 | H102: =ROUND(G102*E102*2,2) -> 518.02 | I102: =ROUND(H102*1.2359,2) -> 640.22
A103: Ārsta palīgs | B103: 1 | C103: =D103+E103 -> 272 | D103: =D102 -> 179 | E103: 93 | G103: 6.23 | H103: =ROUND(G103*E103*2,2) -> 1158.78 | I103: =ROUND(H103*1.2359,2) -> 1432.14
...

Sheet Z-Kurzeme_aug
H1: 1.10.Pielikums
A2: Pārskats par darba veicējiem (ārstniecības personām), virs normālā darba laika nostrādātām stundām, apmaksājamām stundām un izdevumiem, kas radušies saistībā ar mērķi ierobežot Covid-19 izplatību
A4: Iestādes nosaukums: SIA "Ziemeļkurzemes reģionālā slimnīca" | D4: 174
A5: Pārskata mēnesis: Augusts | D5: 152
B7: Nodarbināto skaits mēnesī | C7: Apmaksājamais laiks mēnesī, stundas (tai skaitā summētā darba laika ietvaros) | F7: Mēnešalga no kuras rēķina stundas likmi | G7: Stundas likme (aprēķināta atbilstoši mēnešalgai vai darba līgumā noteiktā stundas likme) | H7: Apmaksājamā 100% piemaksa par nostrādātām virsstundām virs normālā darba laika (tai skaitā summētā darba laika ietvaros) | I7: Izdevumi par virsstundām kopā ar VSOAI, EUR
C8: Kopā | D8: līdz normālam darba laikam | E8: virsstundas - virs normālā darba laika, kas saistītas ar darbu ar Covid-19
A10: 1 | B10: 2 | C10: 3=4+5 | D10: 4 | E10: 5 | F10: 6 | G10: 7 | H10: 8 | I10: 9=8 +VSOAI
A11: KOPĀ | B11: =B12+B22+B26+B29+B39+B42+B45+B48 -> 27 | E11: =E12+E22+E26+E29+E39+E42+E45+E48 -> 1379 | H11: =H12+H22+H26+H29+H39+H42+H45+H48 -> 20042.41 | I11: =I12+I22+I26+I29+I39+I42+I45+I48 -> 24770.39
A12: Infekciju nodaļa(35 stundas nedēļā) | B12: =B13+B17+B19 -> 6 | E12: =E13+E17+E19 -> 410 | H12: =H13+H17+H19 -> 4629.69 | I12: =I13+I17+I19 -> 5721.83
A13: Ārstniecības un pacientu aprūpes personas un funkcionālo speciālistu asistenti, kopā, tai skaitā: | B13: =SUM(B14:B16) -> 3 | E13: =SUM(E14:E16) -> 186 | H13: =SUM(H14:H16) -> 2502.65 | I13: =SUM(I14:I16) -> 3093.02
A14: Infektoloģijas māsa | B14: 1 | C14: =D14+E14 -> 230 | D14: =$D$5 -> 152 | E14: 78 | G14: 7.24 | H14: =ROUND(G14*E14*2,2) -> 1129.44 | I14: =ROUND(H14*1.2359,2) -> 1395.87
A15: Infektoloģijas māsa | B15: 1 | C15: =D15+E15 -> 208 | D15: =$D$5 -> 152 | E15: 56 | G15: 6.747 | H15: =ROUND(G15*E15*2,2) -> 755.66 | I15: =ROUND(H15*1.2359,2) -> 933.92
A16: Infektoloģijas māsa | B16: 1 | C16: =D16+E16 -> 204 | D16: =$D$5 -> 152 | E16: 52 | G16: 5.938 | H16: =ROUND(G16*E16*2,2) -> 617.55 | I16: =ROUND(H16*1.2359,2) -> 763.23
A17: Ārstniecības un pacientu aprūpes atbalsta personas, māsu palīgi, zobārstu aistenti, kopā, tai skaitā: | B17: =B18 -> 1 | E17: =E18 -> 85 | H17: =H18 -> 841.84 | I17: =I18 -> 1040.43
A18: Māsas palīgs | B18: 1 | C18: =D18+E18 -> 237 | D18: =$D$5 -> 152 | E18: 85 | G18: 4.952 | H18: =ROUND(G18*E18*2,2) -> 841.84 | I18: =ROUND(H18*1.2359,2) -> 1040.43
A19: Pārējie darbinieki, kuri tieši iesaistīti darbā ar Covid-19, kopā, tai skaitā: | B19: =SUM(B20:B21) -> 2 | E19: =SUM(E20:E21) -> 139 | H19: =SUM(H20:H21) -> 1285.2 | I19: =SUM(I20:I21) -> 1588.38
A20: Sanitārs | B20: 1 | C20: =D20+E20 -> 198 | D20: =$D$5 -> 152 | E20: 46 | G20: 4.623 | H20: =ROUND(G20*E20*2,2) -> 425.32 | I20: =ROUND(H20*1.2359,2) -> 525.65
A21: Sanitārs | B21: 1 | C21: =D21+E21 -> 245 | D21: =$D$5 -> 152 | E21: 93 | G21: 4.623 | H21: =ROUND(G21*E21*2,2) -> 859.88 | I21: =ROUND(H21*1.2359,2) -> 1062.73
A22: Anestezioloģijas un intensīvās terapijas nodaļa - Talsu filiāles(35 stundas nedēļā) | B22: =B23 -> 2 | E22: =E23 -> 111 | H22: =H23 -> 2358.31 | I22: =I23 -> 2914.63
A23: Ārsti, zobārsti un funkcionālie speciālisti, kopā, tai skaitā: | B23: =SUM(B24:B25) -> 2 | E23: =SUM(E24:E25) -> 111 | H23: =SUM(H24:H25) -> 2358.31 | I23: =SUM(I24:I25) -> 2914.63
A24: Anesteziologs, reanimatologs (dežūrārsts) | B24: 1 | C24: =D24+E24 -> 185 | D24: =$D$5 -> 152 | E24: 33 | G24: 10.623 | H24: =ROUND(G24*E24*2,2) -> 701.12 | I24: =ROUND(H24*1.2359,2) -> 866.51
A25: Anesteziologs, reanimatologs (dežūrārsts) | B25: 1 | C25: =D25+E25 -> 230 | D25: =$D$5 -> 152 | E25: 78 | G25: 10.623 | H25: =ROUND(G25*E25*2,2) -> 1657.19 | I25: =ROUND(H25*1.2359,2) -> 2048.12
A26: DZEMDĪBU UN GINEKOLOĢIJAS BLOKS | B26: =B27 -> 1 | E26: =E27 -> 186 | H26: =H27 -> 4153.75 | I26: =I27 -> 5133.62
A27: Ārsti, zobārsti un funkcionālie speciālisti, kopā, tai skaitā: | B27: =SUM(B28:B28) -> 1 | E27: =SUM(E28:E28) -> 186 | H27: =SUM(H28:H28) -> 4153.75 | I27: =SUM(I28:I28) -> 5133.62
A28: Ginekologs, dzemdību speciālists (dež.ārsts) | B28: 1 | C28: =D28+E28 -> 360 | D28: =$D$4 -> 174 | E28: 186 | G28: 11.166 | H28: =ROUND(G28*E28*2,2) -> 4153.75 | I28: =ROUND(H28*1.2359,2) -> 5133.62
A29: UZŅEMŠANAS NODAĻA | B29: =B30 -> 8 | E29: =E30 -> 395 | H29: =H30 -> 4622.48 | I29: =I30 -> 5712.91
A30: Ārstniecības un pacientu aprūpes personas un funkcionālo speciālistu asistenti, kopā, tai skaitā: | B30: =SUM(B31:B38) -> 8 | E30: =SUM(E31:E38) -> 395 | H30: =SUM(H31:H38) -> 4622.48 | I30: =SUM(I31:I38) -> 5712.91
A31: Medicīnas māsa | B31: 1 | C31: =D31+E31 -> 196 | D31: =$D$4 -> 174 | E31: 22 | G31: 5.396 | H31: =ROUND(G31*E31*2,2) -> 237.42 | I31: =ROUND(H31*1.2359,2) -> 293.43
A32: Medicīnas māsa | B32: 1 | C32: =D32+E32 -> 228 | D32: =$D$4 -> 174 | E32: 54 | G32: 6.131 | H32: =ROUND(G32*E32*2,2) -> 662.15 | I32: =ROUND(H32*1.2359,2) -> 818.35
A33: Medicīnas māsa | B33: 1 | C33: =D33+E33 -> 233 | D33: =$D$4 -> 174 | E33: 59 | G33: 6.131 | H33: =ROUND(G33*E33*2,2) -> 723.46 | I33: =ROUND(H33*1.2359,2) -> 894.12
A34: Medicīnas māsa | B34: 1 | C34: =D34+E34 -> 208 | D34: =$D$4 -> 174 | E34: 34 | G34: 5.483 | H34: =ROUND(G34*E34*2,2) -> 372.84 | I34: =ROUND(H34*1.2359,2) -> 460.79
A35: Medicīnas māsa | B35: 1 | C35: =D35+E35 -> 240 | D35: =$D$4 -> 174 | E35: 66 | G35: 5.483 | H35: =ROUND(G35*E35*2,2) -> 723.76 | I35: =ROUND(H35*1.2359,2) -> 894.49
A36: Medicīnas māsa | B36: 1 | C36: =D36+E36 -> 222 | D36: =$D$4 -> 174 | E36: 48 | G36: 5.396 | H36: =ROUND(G36*E36*2,2) -> 518.02 | I36: =ROUND(H36*1.2359,2) -> 640.22
A37: Ārsta palīgs | B37: 1 | C37: =D37+E37 -> 232 | D37: =$D$4 -> 174 | E37: 58 | G37: 6.23 | H37: =ROUND(G37*E37*2,2) -> 722.68 | I37: =ROUND(H37*1.2359,2) -> 893.16
A38: Medicīnas māsa | B38: 1 | C38: =D38+E38 -> 228 | D38: =$D$4 -> 174 | E38: 54 | G38: 6.131 | H38: =ROUND(G38*E38*2,2) -> 662.15 | I38: =ROUND(H38*1.2359,2) -> 818.35
A39: TRAUMATOLOĢIJAS NODAĻA | B39: =B40 -> 1 | E39: =E40 -> 2 | H39: =H40 -> 37.07 | I39: =I40 -> 45.81
A40: Ārsti, zobārsti un funkcionālie speciālisti, kopā, tai skaitā: | B40: =SUM(B41:B41) -> 1 | E40: =SUM(E41:E41) -> 2 | H40: =SUM(H41:H41) -> 37.07 | I40: =SUM(I41:I41) -> 45.81
A41: Traumatologs (dežūrārsts) | B41: 1 | C41: =D41+E41 -> 176 | D41: =$D$4 -> 174 | E41: 2 | G41: 9.267 | H41: =ROUND(G41*E41*2,2) -> 37.07 | I41: =ROUND(H41*1.2359,2) -> 45.81
A42: ĶIRURĢIJAS NODAĻA | B42: =B43 -> 1 | E42: =E43 -> 34 | H42: =H43 -> 653.07 | I42: =I43 -> 807.13
A43: Ārsti, zobārsti un funkcionālie speciālisti, kopā, tai skaitā: | B43: =SUM(B44:B44) -> 1 | E43: =SUM(E44:E44) -> 34 | H43: =SUM(H44:H44) -> 653.07 | I43: =SUM(I44:I44) -> 807.13
A44: Ķirurgs (dežūrārsts) | B44: 1 | C44: =D44+E44 -> 208 | D44: =$D$4 -> 174 | E44: 34 | G44: 9.604 | H44: =ROUND(G44*E44*2,2) -> 653.07 | I44: =ROUND(H44*1.2359,2) -> 807.13
A45: BĒRNU NODAĻA | B45: =B46 -> 1 | E45: =E46 -> 38 | H45: =H46 -> 729.9 | I45: =I46 -> 902.08
A46: Ārsti, zobārsti un funkcionālie speciālisti, kopā, tai skaitā: | B46: =SUM(B47:B47) -> 1 | E46: =SUM(E47:E47) -> 38 | H46: =SUM(H47:H47) -> 729.9 | I46: =SUM(I47:I47) -> 902.08
A47: Pediatrs (dežūrārsts) | B47: 1 | C47: =D47+E47 -> 212 | D47: =$D$4 -> 174 | E47: 38 | G47: 9.604 | H47: =ROUND(G47*E47*2,2) -> 729.9 | I47: =ROUND(H47*1.2359,2) -> 902.08
A48: Uzņemšanas nodaļa- Talsu filiāles | B48: =B49+B53+B57 -> 7 | E48: =E49+E53+E57 -> 203 | H48: =H49+H53+H57 -> 2858.14 | I48: =I49+I53+I57 -> 3532.38
A49: Ārsti, zobārsti un funkcionālie speciālisti, kopā, tai skaitā: | B49: =SUM(B50:B52) -> 3 | E49: =SUM(E50:E52) -> 71 | H49: =SUM(H50:H52) -> 1316.19 | I49: =SUM(I50:I52) -> 1626.68
A50: Dežūrārsts | B50: 1 | C50: =D50+E50 -> 176 | D50: =$D$4 -> 174 | E50: 2 | G50: 9.336 | H50: =ROUND(G50*E50*2,2) -> 37.34 | I50: =ROUND(H50*1.2359,2) -> 46.15
A51: Ķirurgs (dežūrārsts) | B51: 1 | C51: =D51+E51 -> 234 | D51: =$D$4 -> 174 | E51: 60 | G51: 9.267 | H51: =ROUND(G51*E51*2,2) -> 1112.04 | I51: =ROUND(H51*1.2359,2) -> 1374.37
A52: Ķirurgs (dežūrārsts) | B52: 1 | C52: =D52+E52 -> 183 | D52: =$D$4 -> 174 | E52: 9 | G52: 9.267 | H52: =ROUND(G52*E52*2,2) -> 166.81 | I52: =ROUND(H52*1.2359,2) -> 206.16
A53: Ārstniecības un pacientu aprūpes personas un funkcionālo speciālistu asistenti, kopā, tai skaitā: | B53: =SUM(B54:B56) -> 3 | E53: =SUM(E54:E56) -> 126 | H53: =SUM(H54:H56) -> 1490 | I53: =SUM(I54:I56) -> 1841.49
A54: Medicīnas māsa (dež.māsa) | B54: 1 | C54: =D54+E54 -> 208 | D54: =$D$4 -> 174 | E54: 34 | G54: 6.23 | H54: =ROUND(G54*E54*2,2) -> 423.64 | I54: =ROUND(H54*1.2359,2) -> 523.58
A55: Medicīnas māsa (dež.māsa) | B55: 1 | C55: =D55+E55 -> 216 | D55: =$D$4 -> 174 | E55: 42 | G55: 5.396 | H55: =ROUND(G55*E55*2,2) -> 453.26 | I55: =ROUND(H55*1.2359,2) -> 560.18
A56: Medicīnas māsa (dež.māsa) | B56: 1 | C56: =D56+E56 -> 224 | D56: =$D$4 -> 174 | E56: 50 | G56: 6.131 | H56: =ROUND(G56*E56*2,2) -> 613.1 | I56: =ROUND(H56*1.2359,2) -> 757.73
A57: Ārstniecības un pacientu aprūpes atbalsta personas, māsu palīgi, zobārstu aistenti, kopā, tai skaitā: | B57: =SUM(B58:B58) -> 1 | E57: =SUM(E58:E58) -> 6 | H57: =SUM(H58:H58) -> 51.95 | I57: =SUM(I58:I58) -> 64.21
A58: Māsas palīgs | B58: 1 | C58: =D58+E58 -> 180 | D58: =$D$4 -> 174 | E58: 6 | G58: 4.329 | H58: =ROUND(G58*E58*2,2) -> 51.95 | I58: =ROUND(H58*1.2359,2) -> 64.21
A60: *SIA "Ziemeļkurzemes reģionālā slimnīca" personāls strādā summētu darba laiku (saskaņā ar noslēgto koplīgumu un darba līgumiem), kas nozīmē, ka darbinieki strādā 6 darba dienas nedēļā, tas ir 40 stundas nedēļā jeb 174 stundas personālam bez kaitīguma, un 35 stundas nedeļā jeb 152 stundas personālam ar kaitīgumu.

Sheet Vidzeme_jūl
H1: 1.11.Pielikums
A2: Pārskats par darba veicējiem (ārstniecības personām), virs normālā darba laika nostrādātām stundām, apmaksājamām stundām un izdevumiem, kas radušies saistībā ar mērķi ierobežot Covid-19 izplatību
A4: Iestādes nosaukums: Vidzemes slimnīca SIA
A5: Pārskata periods: Jūlijs
B7: Nodarbināto skaits mēnesī | C7: Apmaksājamais laiks mēnesī, stundas (tai skaitā summētā darba laika ietvaros) | F7: Mēnešalga no kuras rēķina stundas likmi | G7: Stundas likme (aprēķināta atbilstoši mēnešalgai vai darba līgumā noteiktā stundas likme) | H7: Apmaksājamā 100% piemaksa par nostrādātām virsstundām virs normālā darba laika (tai skaitā summētā darba laika ietvaros) | I7: Izdevumi par virsstundām kopā ar VSOAI, EUR
C8: Kopā | D8: līdz normālam darba laikam | E8: virsstundas - virs normālā darba laika, kas saistītas ar darbu ar Covid-19
A10: 1 | B10: 2 | C10: 3=4+5 | D10: 4 | E10: 5 | F10: 6 | G10: 7 | H10: 8 | I10: 9=8 +VSOAI
A11: KOPĀ | B11: =B12+B30+B40 -> 29 | E11: =E12+E30+E40 -> 433.4 | H11: =H12+H30+H40 -> 7348.02 | I11: =I12+I30+I40 -> 9081.42
A12: Ārsti, zobārsti un funkcionālie speciālisti, kopā, tai skaitā:*** | B12: =SUM(B13:B29) -> 17 | E12: =SUM(E13:E29) -> 253.4 | H12: =SUM(H13:H29) -> 5088.9 | I12: =SUM(I13:I29) -> 6289.39
A13: pediatrs | B13: 1 | C13: =D13+E13 -> 184 | D13: 176 | E13: 8 | F13: 1804 | G13: =ROUND(F13/176,2) -> 10.25 | H13: =ROUND(E13*G13*2,2) -> 164 | I13: =ROUND(H13*1.2359,2) -> 202.69
A14: pediatrs | B14: 1 | C14: =D14+E14 -> 188 | D14: 176 | E14: 12 | F14: 1804 | G14: =ROUND(F14/176,2) -> 10.25 | H14: =ROUND(E14*G14*2,2) -> 246 | I14: =ROUND(H14*1.2359,2) -> 304.03
A15: neonatologs | B15: 1 | C15: =D15+E15 -> 188.4 | D15: 176 | E15: 12.4 | F15: 1804 | G15: =ROUND(F15/176,2) -> 10.25 | H15: =ROUND(E15*G15*2,2) -> 254.2 | I15: =ROUND(H15*1.2359,2) -> 314.17
A16: ginekologs, dzemdību speciālists | B16: 1 | C16: =D16+E16 -> 178 | D16: 176 | E16: 2 | F16: 1804 | G16: =ROUND(F16/176,2) -> 10.25 | H16: =ROUND(E16*G16*2,2) -> 41 | I16: =ROUND(H16*1.2359,2) -> 50.67
A17: neonatologs | B17: 1 | C17: =D17+E17 -> 184 | D17: 176 | E17: 8 | F17: 1804 | G17: =ROUND(F17/176,2) -> 10.25 | H17: =ROUND(E17*G17*2,2) -> 164 | I17: =ROUND(H17*1.2359,2) -> 202.69
A18: ķirurgs | B18: 1 | C18: =D18+E18 -> 188 | D18: 176 | E18: 12 | F18: 1804 | G18: =ROUND(F18/176,2) -> 10.25 | H18: =ROUND(E18*G18*2,2) -> 246 | I18: =ROUND(H18*1.2359,2) -> 304.03
A19: ķirurgs | B19: 1 | C19: =D19+E19 -> 184 | D19: 176 | E19: 8 | F19: 1804 | G19: =ROUND(F19/176,2) -> 10.25 | H19: =ROUND(E19*G19*2,2) -> 164 | I19: =ROUND(H19*1.2359,2) -> 202.69
A20: neirologs | B20: 1 | C20: =D20+E20 -> 177 | D20: 176 | E20: 1 | F20: 1804 | G20: =ROUND(F20/176,2) -> 10.25 | H20: =ROUND(E20*G20*2,2) -> 20.5 | I20: =ROUND(H20*1.2359,2) -> 25.34
A21: neirologs | B21: 1 | C21: =D21+E21 -> 234 | D21: 176 | E21: 58 | F21: 1804 | G21: =ROUND(F21/176,2) -> 10.25 | H21: =ROUND(E21*G21*2,2) -> 1189 | I21: =ROUND(H21*1.2359,2) -> 1469.49
A22: neirologs | B22: 1 | C22: =D22+E22 -> 193 | D22: 176 | E22: 17 | F22: 1804 | G22: =ROUND(F22/176,2) -> 10.25 | H22: =ROUND(E22*G22*2,2) -> 348.5 | I22: =ROUND(H22*1.2359,2) -> 430.71
A23: neatliekamās palīdzības ārsts | B23: 1 | C23: =D23+E23 -> 224 | D23: 176 | E23: 48 | F23: 1804 | G23: =ROUND(F23/176,2) -> 10.25 | H23: =ROUND(E23*G23*2,2) -> 984 | I23: =ROUND(H23*1.2359,2) -> 1216.13
A24: anesteziologs, reanimatologs | B24: 1 | C24: =D24+E24 -> 188 | D24: 176 | E24: 12 | F24: 1804 | G24: =ROUND(F24/176,2) -> 10.25 | H24: =ROUND(E24*G24*2,2) -> 246 | I24: =ROUND(H24*1.2359,2) -> 304.03
... A29: traumatologs, ortopēds | B29: 1 | C29: =D29+E29 -> 177 | D29: 176 | E29: 1 | F29: 1804 | G29: =ROUND(F29/176,2) -> 10.25 | H29: =ROUND(E29*G29*2,2) -> 20.5 | I29: =ROUND(H29*1.2359,2) -> 25.34
A30: Ārstniecības un pacientu aprūpes personas un funkcionālo speciālistu asistenti, kopā, tai skaitā:*** | B30: =SUM(B31:B39) -> 9 | E30: =SUM(E31:E39) -> 123 | H30: =SUM(H31:H39) -> 1700.52 | I30: =SUM(I31:I39) -> 2101.66
A31: medicīnas māsa | B31: 1 | C31: =D31+E31 -> 184 | D31: 176 | E31: 8 | F31: 1003.2 | G31: =ROUND(F31/176,2) -> 5.7 | H31: =ROUND(E31*G31*2,2) -> 91.2 | I31: =ROUND(H31*1.2359,2) -> 112.71
A32: medicīnas māsa | B32: 1 | C32: =D32+E32 -> 180 | D32: 176 | E32: 4 | F32: 1003.2 | G32: =ROUND(F32/176,2) -> 5.7 | H32: =ROUND(E32*G32*2,2) -> 45.6 | I32: =ROUND(H32*1.2359,2) -> 56.36
A33: vecākā māsa | B33: 1 | C33: =D33+E33 -> 179 | D33: 176 | E33: 3 | F33: 1517.12 | G33: =ROUND(F33/176,2) -> 8.62 | H33: =ROUND(E33*G33*2,2) -> 51.72 | I33: =ROUND(H33*1.2359,2) -> 63.92
A34: neatliekamās palīdzības māsa | B34: 1 | C34: =D34+E34 -> 192 | D34: 176 | E34: 16 | F34: 1232 | G34: =ROUND(F34/176,2) -> 7 | H34: =ROUND(E34*G34*2,2) -> 224 | I34: =ROUND(H34*1.2359,2) -> 276.84
A35: neatliekamās palīdzības māsa | B35: 1 | C35: =D35+E35 -> 184 | D35: 176 | E35: 8 | F35: 1232 | G35: =ROUND(F35/176,2) -> 7 | H35: =ROUND(E35*G35*2,2) -> 112 | I35: =ROUND(H35*1.2359,2) -> 138.42
A36: intensīvās terapijas un anestēzijas māsa | B36: 1 | C36: =D36+E36 -> 196 | D36: 176 | E36: 20 | F36: 1232 | G36: =ROUND(F36/176,2) -> 7 | H36: =ROUND(E36*G36*2,2) -> 280 | I36: =ROUND(H36*1.2359,2) -> 346.05
A37: intensīvās terapijas un anestēzijas māsa | B37: 1 | C37: =D37+E37 -> 196 | D37: 176 | E37: 20 | F37: 1232 | G37: =ROUND(F37/176,2) -> 7 | H37: =ROUND(E37*G37*2,2) -> 280 | I37: =ROUND(H37*1.2359,2) -> 346.05
A38: intensīvās terapijas un anestēzijas māsa | B38: 1 | C38: =D38+E38 -> 188 | D38: 176 | E38: 12 | F38: 1232 | G38: =ROUND(F38/176,2) -> 7 | H38: =ROUND(E38*G38*2,2) -> 168 | I38: =ROUND(H38*1.2359,2) -> 207.63
A39: internās aprūpes māsa | B39: 1 | C39: =D39+E39 -> 208 | D39: 176 | E39: 32 | F39: 1232 | G39: =ROUND(F39/176,2) -> 7 | H39: =ROUND(E39*G39*2,2) -> 448 | I39: =ROUND(H39*1.2359,2) -> 553.68
A40: Ārstniecības un pacientu aprūpes atbalsta personas, māsu palīgi, zobārstu aistenti, kopā, tai skaitā:*** | B40: =SUM(B41:B43) -> 3 | E40: =SUM(E41:E43) -> 57 | H40: =SUM(H41:H43) -> 558.6 | I40: =SUM(I41:I43) -> 690.37
A41: māsas palīgs | B41: 1 | C41: =D41+E41 -> 208 | D41: 176 | E41: 32 | F41: 862.4 | G41: =ROUND(F41/176,2) -> 4.9 | H41: =ROUND(E41*G41*2,2) -> 313.6 | I41: =ROUND(H41*1.2359,2) -> 387.58
A42: māsas palīgs | B42: 1 | C42: =D42+E42 -> 193 | D42: 176 | E42: 17 | F42: 862.4 | G42: =ROUND(F42/176,2) -> 4.9 | H42: =ROUND(E42*G42*2,2) -> 166.6 | I42: =ROUND(H42*1.2359,2) -> 205.9
A43: māsas palīgs | B43: 1 | C43: =D43+E43 -> 184 | D43: 176 | E43: 8 | F43: 862.4 | G43: =ROUND(F43/176,2) -> 4.9 | H43: =ROUND(E43*G43*2,2) -> 78.4 | I43: =ROUND(H43*1.2359,2) -> 96.89

Sheet Vidzeme_aug
H1: 1.12.Pielikums
A2: Pārskats par darba veicējiem (ārstniecības personām), virs normālā darba laika nostrādātām stundām, apmaksājamām stundām un izdevumiem, kas radušies saistībā ar mērķi ierobežot Covid-19 izplatību
A4: Iestādes nosaukums: Vidzemes slimnīca SIA
A5: Pārskata periods: Augusts
B7: Nodarbināto skaits mēnesī | C7: Apmaksājamais laiks mēnesī, stundas (tai skaitā summētā darba laika ietvaros) | F7: Mēnešalga no kuras rēķina stundas likmi | G7: Stundas likme (aprēķināta atbilstoši mēnešalgai vai darba līgumā noteiktā stundas likme) | H7: Apmaksājamā 100% piemaksa par nostrādātām virsstundām virs normālā darba laika (tai skaitā summētā darba laika ietvaros) | I7: Izdevumi par virsstundām kopā ar VSOAI, EUR
C8: Kopā | D8: līdz normālam darba laikam | E8: virsstundas - virs normālā darba laika, kas saistītas ar darbu ar Covid-19
A10: 1 | B10: 2 | C10: 3=4+5 | D10: 4 | E10: 5 | F10: 6 | G10: 7 | H10: 8 | I10: 9=8 +VSOAI
A11: KOPĀ | B11: =B12+B44+B51 -> 46 | E11: =E12+E44+E51 -> 1312.5 | H11: =H12+H44+H51 -> 23650.9 | I11: =I12+I44+I51 -> 29230.13
A12: Ārsti, zobārsti un funkcionālie speciālisti, kopā, tai skaitā: | B12: =SUM(B13:B43) -> 31 | E12: =SUM(E13:E43) -> 1042 | H12: =SUM(H13:H43) -> 20684.8 | I12: =SUM(I13:I43) -> 25564.34
A13: pediatrs | B13: 1 | C13: =D13+E13 -> 196 | D13: 176 | E13: 20 | F13: 1804 | G13: =ROUND(F13/D13,2) -> 10.25 | H13: =ROUND(E13*G13*2,2) -> 410 | I13: =ROUND(H13*1.2359,2) -> 506.72
A14: pediatrs | B14: 1 | C14: =D14+E14 -> 207 | D14: 176 | E14: 31 | F14: 1601.6 | G14: =ROUND(F14/D14,2) -> 9.1 | H14: =ROUND(E14*G14*2,2) -> 564.2 | I14: =ROUND(H14*1.2359,2) -> 697.29
A15: pediatrs | B15: 1 | C15: =D15+E15 -> 195 | D15: 176 | E15: 19 | F15: 1601.6 | G15: =ROUND(F15/D15,2) -> 9.1 | H15: =ROUND(E15*G15*2,2) -> 345.8 | I15: =ROUND(H15*1.2359,2) -> 427.37
A16: ginekologs, dzemdību speciālists | B16: 1 | C16: =D16+E16 -> 214 | D16: 176 | E16: 38 | F16: 1804 | G16: =ROUND(F16/D16,2) -> 10.25 | H16: =ROUND(E16*G16*2,2) -> 779 | I16: =ROUND(H16*1.2359,2) -> 962.77
A17: ginekologs, dzemdību speciālists | B17: 1 | C17: =D17+E17 -> 219 | D17: 176 | E17: 43 | F17: 1804 | G17: =ROUND(F17/D17,2) -> 10.25 | H17: =ROUND(E17*G17*2,2) -> 881.5 | I17: =ROUND(H17*1.2359,2) -> 1089.45
A18: neonatologs | B18: 1 | C18: =D18+E18 -> 192 | D18: 176 | E18: 16 | F18: 1804 | G18: =ROUND(F18/D18,2) -> 10.25 | H18: =ROUND(E18*G18*2,2) -> 328 | I18: =ROUND(H18*1.2359,2) -> 405.38
A19: neonatologs | B19: 1 | C19: =D19+E19 -> 208 | D19: 176 | E19: 32 | F19: 1804 | G19: =ROUND(F19/D19,2) -> 10.25 | H19: =ROUND(E19*G19*2,2) -> 656 | I19: =ROUND(H19*1.2359,2) -> 810.75
A20: neonatologs | B20: 1 | C20: =D20+E20 -> 192 | D20: 176 | E20: 16 | F20: 1804 | G20: =ROUND(F20/D20,2) -> 10.25 | H20: =ROUND(E20*G20*2,2) -> 328 | I20: =ROUND(H20*1.2359,2) -> 405.38
A21: neonatologs | B21: 1 | C21: =D21+E21 -> 244 | D21: 176 | E21: 68 | F21: 1804 | G21: =ROUND(F21/D21,2) -> 10.25 | H21: =ROUND(E21*G21*2,2) -> 1394 | I21: =ROUND(H21*1.2359,2) -> 1722.84
A22: ķirurgs | B22: 1 | C22: =D22+E22 -> 180 | D22: 176 | E22: 4 | F22: 1804 | G22: =ROUND(F22/D22,2) -> 10.25 | H22: =ROUND(E22*G22*2,2) -> 82 | I22: =ROUND(H22*1.2359,2) -> 101.34
A23: ķirurgs | B23: 1 | C23: =D23+E23 -> 196 | D23: 176 | E23: 20 | F23: 1804 | G23: =ROUND(F23/D23,2) -> 10.25 | H23: =ROUND(E23*G23*2,2) -> 410 | I23: =ROUND(H23*1.2359,2) -> 506.72
A24: ķirurgs | B24: 1 | C24: =D24+E24 -> 180 | D24: 176 | E24: 4 | F24: 1804 | G24: =ROUND(F24/D24,2) -> 10.25 | H24: =ROUND(E24*G24*2,2) -> 82 | I24: =ROUND(H24*1.2359,2) -> 101.34
... A43: traumatologs, ortopēds | B43: 1 | C43: =D43+E43 -> 194 | D43: 176 | E43: 18 | F43: 1804 | G43: =ROUND(F43/D43,2) -> 10.25 | H43: =ROUND(E43*G43*2,2) -> 369 | I43: =ROUND(H43*1.2359,2) -> 456.05
A44: Ārstniecības un pacientu aprūpes personas un funkcionālo speciālistu asistenti, kopā, tai skaitā: | B44: =SUM(B45:B50) -> 6 | E44: =SUM(E45:E50) -> 80 | H44: =SUM(H45:H50) -> 1099.2 | I44: =SUM(I45:I50) -> 1358.49
A45: neatliekamās palīdzības māsa | B45: 1 | C45: =D45+E45 -> 200 | D45: 176 | E45: 24 | F45: 1232 | G45: =ROUND(F45/D45,2) -> 7 | H45: =ROUND(E45*G45*2,2) -> 336 | I45: =ROUND(H45*1.2359,2) -> 415.26
A46: neatliekamās palīdzības māsa | B46: 1 | C46: =D46+E46 -> 184 | D46: 176 | E46: 8 | F46: 1232 | G46: =ROUND(F46/D46,2) -> 7 | H46: =ROUND(E46*G46*2,2) -> 112 | I46: =ROUND(H46*1.2359,2) -> 138.42
A47: neatliekamās palīdzības māsa | B47: 1 | C47: =D47+E47 -> 184 | D47: 176 | E47: 8 | F47: 1232 | G47: =ROUND(F47/D47,2) -> 7 | H47: =ROUND(E47*G47*2,2) -> 112 | I47: =ROUND(H47*1.2359,2) -> 138.42
A48: neatliekamās palīdzības māsa | B48: 1 | C48: =D48+E48 -> 200 | D48: 176 | E48: 24 | F48: 1232 | G48: =ROUND(F48/D48,2) -> 7 | H48: =ROUND(E48*G48*2,2) -> 336 | I48: =ROUND(H48*1.2359,2) -> 415.26
A49: ārsta palīgs | B49: 1 | C49: =D49+E49 -> 184 | D49: 176 | E49: 8 | F49: 1232 | G49: =ROUND(F49/D49,2) -> 7 | H49: =ROUND(E49*G49*2,2) -> 112 | I49: =ROUND(H49*1.2359,2) -> 138.42
A50: medicīnas māsa | B50: 1 | C50: =D50+E50 -> 184 | D50: 176 | E50: 8 | F50: 1003.2 | G50: =ROUND(F50/D50,2) -> 5.7 | H50: =ROUND(E50*G50*2,2) -> 91.2 | I50: =ROUND(H50*1.2359,2) -> 112.71
A51: Ārstniecības un pacientu aprūpes atbalsta personas, māsu palīgi, zobārstu aistenti, kopā, tai skaitā: | B51: =SUM(B52:B60) -> 9 | E51: =SUM(E52:E60) -> 190.5 | H51: =SUM(H52:H60) -> 1866.9 | I51: =SUM(I52:I60) -> 2307.3
A52: māsas palīgs | B52: 1 | C52: =D52+E52 -> 234.5 | D52: 176 | E52: 58.5 | F52: 862.4 | G52: =ROUND(F52/D52,2) -> 4.9 | H52: =ROUND(E52*G52*2,2) -> 573.3 | I52: =ROUND(H52*1.2359,2) -> 708.54
A53: māsas palīgs | B53: 1 | C53: =D53+E53 -> 204 | D53: 176 | E53: 28 | F53: 862.4 | G53: =ROUND(F53/D53,2) -> 4.9 | H53: =ROUND(E53*G53*2,2) -> 274.4 | I53: =ROUND(H53*1.2359,2) -> 339.13
A54: māsas palīgs | B54: 1 | C54: =D54+E54 -> 178 | D54: 176 | E54: 2 | F54: 862.4 | G54: =ROUND(F54/D54,2) -> 4.9 | H54: =ROUND(E54*G54*2,2) -> 19.6 | I54: =ROUND(H54*1.2359,2) -> 24.22
A55: māsas palīgs | B55: 1 | C55: =D55+E55 -> 184 | D55: 176 | E55: 8 | F55: 862.4 | G55: =ROUND(F55/D55,2) -> 4.9 | H55: =ROUND(E55*G55*2,2) -> 78.4 | I55: =ROUND(H55*1.2359,2) -> 96.89
A56: māsas palīgs | B56: 1 | C56: =D56+E56 -> 185 | D56: 176 | E56: 9 | F56: 862.4 | G56: =ROUND(F56/D56,2) -> 4.9 | H56: =ROUND(E56*G56*2,2) -> 88.2 | I56: =ROUND(H56*1.2359,2) -> 109.01
A57: māsas palīgs | B57: 1 | C57: =D57+E57 -> 191 | D57: 176 | E57: 15 | F57: 862.4 | G57: =ROUND(F57/D57,2) -> 4.9 | H57: =ROUND(E57*G57*2,2) -> 147 | I57: =ROUND(H57*1.2359,2) -> 181.68
A58: māsas palīgs | B58: 1 | C58: =D58+E58 -> 177 | D58: 176 | E58: 1 | F58: 862.4 | G58: =ROUND(F58/D58,2) -> 4.9 | H58: =ROUND(E58*G58*2,2) -> 9.8 | I58: =ROUND(H58*1.2359,2) -> 12.11
A59: māsas palīgs | B59: 1 | C59: =D59+E59 -> 192 | D59: 176 | E59: 16 | F59: 862.4 | G59: =ROUND(F59/D59,2) -> 4.9 | H59: =ROUND(E59*G59*2,2) -> 156.8 | I59: =ROUND(H59*1.2359,2) -> 193.79
A60: māsas palīgs | B60: 1 | C60: =D60+E60 -> 229 | D60: 176 | E60: 53 | F60: 862.4 | G60: =ROUND(F60/D60,2) -> 4.9 | H60: =ROUND(E60*G60*2,2) -> 519.4 | I60: =ROUND(H60*1.2359,2) -> 641.93

Sheet Rīgas_DzN_maijs_aug
H1: 1.13.Pielikums
A2: Pārskats par darba veicējiem (ārstniecības personām), virs normālā darba laika nostrādātām stundām, apmaksājamām stundām un izdevumiem, kas radušies saistībā ar mērķi ierobežot Covid-19 izplatību
A4: Iestādes nosaukums: SIA"Rīgas Dzemdību nams"
A5: Pārskata mēnesis: Maijs - Augusts
B7: Nodarbināto skaits mēnesī | C7: Apmaksājamais laiks mēnesī, stundas (tai skaitā summētā darba laika ietvaros) | F7: Mēnešalga no kuras rēķina stundas likmi | G7: Stundas likme (aprēķināta atbilstoši mēnešalgai vai darba līgumā noteiktā stundas likme)2 | H7: Apmaksājamā 100% piemaksa par nostrādātām virsstundām virs normālā darba laika (tai skaitā summētā darba laika ietvaros) | I7: Izdevumi par virsstundām kopā ar VSOAI, EUR
C8: Kopā** | D8: līdz normālam darba laikam 1 | E8: virsstundas - virs normālā darba laika, kas saistītas ar darbu ar Covid-19
A10: 1 | B10: 2 | C10: 3=4+5 | D10: 4 | E10: 5 | F10: 6 | G10: 7 | H10: 8 | I10: 9=8 +VSOAI
A11: KOPĀ | B11: =B12+B15 -> 4 | E11: =E12+E15 -> 52 | H11: =H12+H15 -> 578.4 | I11: =I12+I15 -> 714.85
A12: Ārstniecības un pacientu aprūpes personas un funkcionālo speciālistu asistenti, kopā, tai skaitā: | B12: =SUM(B13:B14) -> 2 | E12: =SUM(E13:E14) -> 16 | H12: =SUM(H13:H14) -> 268.8 | I12: =SUM(I13:I14) -> 332.21
A13: Vecmāte | B13: 1 | C13: =D13+E13 -> 556 | D13: 550 | E13: 6 | G13: 8.4 | H13: =ROUND(E13*G13*2,2) -> 100.8 | I13: =ROUND(H13*1.2359,2) -> 124.58
A14: Vecmāte | B14: 1 | C14: =D14+E14 -> 592 | D14: 582 | E14: 10 | G14: 8.4 | H14: =ROUND(E14*G14*2,2) -> 168 | I14: =ROUND(H14*1.2359,2) -> 207.63
A15: Ārstniecības un pacientu aprūpes atbalsta personas, māsu palīgi, zobārstu aistenti, kopā, tai skaitā: | B15: =SUM(B16:B17) -> 2 | E15: =SUM(E16:E17) -> 36 | H15: =SUM(H16:H17) -> 309.6 | I15: =SUM(I16:I17) -> 382.64
A16: Māsu palīgs | B16: 1 | C16: =D16+E16 -> 528 | D16: 510 | E16: 18 | G16: 4.3 | H16: =ROUND(E16*G16*2,2) -> 154.8 | I16: =ROUND(H16*1.2359,2) -> 191.32
A17: Māsu palīgs | B17: 1 | C17: =D17+E17 -> 528 | D17: 510 | E17: 18 | G17: 4.3 | H17: =ROUND(E17*G17*2,2) -> 154.8 | I17: =ROUND(H17*1.2359,2) -> 191.32

Sheet Balvi_maijs-aug
H1: 1.14.Pielikums
A2: Pārskats par darba veicējiem (ārstniecības personām), virs normālā darba laika nostrādātām stundām, apmaksājamām stundām un izdevumiem, kas radušies saistībā ar mērķi ierobežot Covid-19 izplatību
A4: Iestādes nosaukums: SIA "Balvu un Gulbenes slimnīcu apvienība"
A5: Pārskata periods: Maijs - Augusts
B7: Nodarbināto skaits mēnesī | C7: Apmaksājamais laiks mēnesī, stundas (tai skaitā summētā darba laika ietvaros) | F7: Mēnešalga no kuras rēķina stundas likmi | G7: Stundas likme (aprēķināta atbilstoši mēnešalgai vai darba līgumā noteiktā stundas likme) | H7: Apmaksājamā 100% piemaksa par nostrādātām virsstundām virs normālā darba laika (tai skaitā summētā darba laika ietvaros) | I7: Izdevumi par virsstundām kopā ar VSOAI, EUR
C8: Kopā | D8: līdz normālam darba laikam | E8: virsstundas - virs normālā darba laika, kas saistītas ar darbu ar Covid-19
A10: 1 | B10: 2 | C10: 3=4+5 | D10: 4 | E10: 5 | F10: 6 | G10: 7 | H10: 8 | I10: 9=8 +VSOAI
A11: KOPĀ | B11: =B12+B39+B44 -> 35 | E11: =E12+E39+E44 -> 1084.6 | H11: =H12+H39+H44 -> 11501.88 | I11: =I12+I39+I44 -> 14215.16
A12: Ārstniecības un pacientu aprūpes personas un funkcionālo speciālistu asistenti, kopā, tai skaitā: | B12: =SUM(B13:B38) -> 26 | E12: =SUM(E13:E38) -> 827.6 | H12: =SUM(H13:H38) -> 9609.26 | I12: =SUM(I13:I38) -> 11876.08
A13: Medicīnas māsa | B13: 1 | C13: =D13+E13 -> 558 | D13: 510 | E13: 48 | G13: 5.89 | H13: =ROUND(E13*G13*2,2) -> 565.44 | I13: =ROUND(H13*1.2359,2) -> 698.83
A14: Medicīnas māsa | B14: 1 | C14: =D14+E14 -> 624 | D14: 527 | E14: 97 | G14: 5.18 | H14: =ROUND(E14*G14*2,2) -> 1004.92 | I14: =ROUND(H14*1.2359,2) -> 1241.98
A15: Medicīnas māsa | B15: 1 | C15: =D15+E15 -> 504.5 | D15: 503 | E15: 1.5 | G15: 5.18 | H15: =ROUND(E15*G15*2,2) -> 15.54 | I15: =ROUND(H15*1.2359,2) -> 19.21
A16: Medicīnas māsa | B16: 1 | C16: =D16+E16 -> 725 | D16: 654 | E16: 71 | G16: 5.89 | H16: =ROUND(E16*G16*2,2) -> 836.38 | I16: =ROUND(H16*1.2359,2) -> 1033.68
A17: Medicīnas māsa | B17: 1 | C17: =D17+E17 -> 528 | D17: 510 | E17: 18 | G17: 5.89 | H17: =ROUND(E17*G17*2,2) -> 212.04 | I17: =ROUND(H17*1.2359,2) -> 262.06
A18: Medicīnas māsa | B18: 1 | C18: =D18+E18 -> 644 | D18: 590 | E18: 54 | G18: 5.89 | H18: =ROUND(E18*G18*2,2) -> 636.12 | I18: =ROUND(H18*1.2359,2) -> 786.18
A19: Medicīnas māsa | B19: 1 | C19: =D19+E19 -> 504 | D19: 478 | E19: 26 | G19: 5.89 | H19: =ROUND(E19*G19*2,2) -> 306.28 | I19: =ROUND(H19*1.2359,2) -> 378.53
A20: Medicīnas māsa | B20: 1 | C20: =D20+E20 -> 571 | D20: 566 | E20: 5 | G20: 5.89 | H20: =ROUND(E20*G20*2,2) -> 58.9 | I20: =ROUND(H20*1.2359,2) -> 72.79
A21: Medicīnas māsa | B21: 1 | C21: =D21+E21 -> 552 | D21: 510 | E21: 42 | G21: 5.89 | H21: =ROUND(E21*G21*2,2) -> 494.76 | I21: =ROUND(H21*1.2359,2) -> 611.47
A22: Medicīnas māsa | B22: 1 | C22: =D22+E22 -> 567 | D22: 510 | E22: 57 | G22: 5.89 | H22: =ROUND(E22*G22*2,2) -> 671.46 | I22: =ROUND(H22*1.2359,2) -> 829.86
A23: Medicīnas māsa | B23: 1 | C23: =D23+E23 -> 600 | D23: 550 | E23: 50 | G23: 5.89 | H23: =ROUND(E23*G23*2,2) -> 589 | I23: =ROUND(H23*1.2359,2) -> 727.95
A24: Medicīnas māsa | B24: 1 | C24: =D24+E24 -> 512 | D24: 510 | E24: 2 | G24: 5.89 | H24: =ROUND(E24*G24*2,2) -> 23.56 | I24: =ROUND(H24*1.2359,2) -> 29.12
... A38: Medicīnas māsa | B38: 1 | C38: =D38+E38 -> 601 | D38: 575 | E38: 26 | G38: 5.89 | H38: =ROUND(E38*G38*2,2) -> 306.28 | I38: =ROUND(H38*1.2359,2) -> 378.53
A39: Ārstniecības un pacientu aprūpes atbalsta personas, māsu palīgi, zobārstu aistenti, kopā, tai skaitā: | B39: =SUM(B40:B43) -> 4 | E39: =SUM(E40:E43) -> 88 | H39: =SUM(H40:H43) -> 760.32 | I39: =SUM(I40:I43) -> 939.68
A40: Māsu palīgs | B40: 1 | C40: =D40+E40 -> 528 | D40: 503 | E40: 25 | G40: 4.32 | H40: =ROUND(E40*G40*2,2) -> 216 | I40: =ROUND(H40*1.2359,2) -> 266.95
A41: Māsu palīgs | B41: 1 | C41: =D41+E41 -> 419 | D41: 415 | E41: 4 | G41: 4.32 | H41: =ROUND(E41*G41*2,2) -> 34.56 | I41: =ROUND(H41*1.2359,2) -> 42.71
A42: Māsu palīgs | B42: 1 | C42: =D42+E42 -> 534 | D42: 510 | E42: 24 | G42: 4.32 | H42: =ROUND(E42*G42*2,2) -> 207.36 | I42: =ROUND(H42*1.2359,2) -> 256.28
A43: Māsu palīgs | B43: 1 | C43: =D43+E43 -> 386 | D43: 351 | E43: 35 | G43: 4.32 | H43: =ROUND(E43*G43*2,2) -> 302.4 | I43: =ROUND(H43*1.2359,2) -> 373.74
A44: Pārējie darbinieki, kuri tieši iesaistīti darbā ar Covid-19, kopā, tai skaitā: | B44: =SUM(B45:B49) -> 5 | E44: =SUM(E45:E49) -> 169 | H44: =SUM(H45:H49) -> 1132.3 | I44: =SUM(I45:I49) -> 1399.4
A45: Sanitārs | B45: 1 | C45: =D45+E45 -> 540 | D45: 510 | E45: 30 | G45: 3.35 | H45: =ROUND(E45*G45*2,2) -> 201 | I45: =ROUND(H45*1.2359,2) -> 248.42
A46: Sanitārs | B46: 1 | C46: =D46+E46 -> 520 | D46: 511 | E46: 9 | G46: 3.35 | H46: =ROUND(E46*G46*2,2) -> 60.3 | I46: =ROUND(H46*1.2359,2) -> 74.52
A47: Sanitārs | B47: 1 | C47: =D47+E47 -> 663 | D47: 598 | E47: 65 | G47: 3.35 | H47: =ROUND(E47*G47*2,2) -> 435.5 | I47: =ROUND(H47*1.2359,2) -> 538.23
A48: Sanitārs | B48: 1 | C48: =D48+E48 -> 336 | D48: 311 | E48: 25 | G48: 3.35 | H48: =ROUND(E48*G48*2,2) -> 167.5 | I48: =ROUND(H48*1.2359,2) -> 207.01
A49: Sanitārs | B49: 1 | C49: =D49+E49 -> 710 | D49: 670 | E49: 40 | G49: 3.35 | H49: =ROUND(E49*G49*2,2) -> 268 | I49: =ROUND(H49*1.2359,2) -> 331.22

Sheet Daugavpis_psih_jūl
H1: 1.15.Pielikums
A2: Pārskats par darba veicējiem (ārstniecības personām), virs normālā darba laika nostrādātām stundām, apmaksājamām stundām un izdevumiem, kas radušies saistībā ar mērķi ierobežot Covid-19 izplatību
A4: Iestādes nosaukums: VSIA „Daugavpils psihoneiroloģiskā slimnīca”
A5: Pārskata mēnesis: Jūlijs
B7: Nodarbināto skaits mēnesī | C7: Apmaksājamais laiks mēnesī, stundas (tai skaitā summētā darba laika ietvaros) | F7: Mēnešalga no kuras rēķina stundas likmi | G7: Stundas likme (aprēķināta atbilstoši mēnešalgai vai darba līgumā noteiktā stundas likme) | H7: Apmaksājamā 100% piemaksa par nostrādātām virsstundām virs normālā darba laika (tai skaitā summētā darba laika ietvaros) | I7: Izdevumi par virsstundām kopā ar VSOAI, EUR
C8: Kopā | D8: līdz normālam darba laikam | E8: virsstundas - virs normālā darba laika, kas saistītas ar darbu ar Covid-19
A10: 1 | B10: 2 | C10: 3=4+5 | D10: 4 | E10: 5 | F10: 6 | G10: 7 | H10: 8 | I10: 9=8 +VSOAI
A11: KOPĀ | B11: =B12 -> 2 | E11: =E12 -> 9 | H11: =H12 -> 83.29 | I11: =I12 -> 102.47
A12: Pārējie darbinieki, kuri tieši iesaistīti darbā ar Covid-19, kopā, tai skaitā: | B12: =SUM(B13:B14) -> 2 | E12: =SUM(E13:E14) -> 9 | H12: =SUM(H13:H14) -> 83.29 | I12: =SUM(I13:I14) -> 102.47
A13: Automobiļa vadītājs | B13: 1 | C13: =D13+E13 -> 180 | D13: 176 | E13: 4 | F13: 625 | G13: =ROUND(F13/176,3) -> 3.551 | H13: =ROUND(E13*G13,2)*2 -> 28.4 | I13: =ROUND(H13*1.2194,2) -> 34.63
A14: Automobiļa vadītājs | B14: 1 | C14: =D14+E14 -> 181 | D14: 176 | E14: 5 | F14: 966 | G14: =ROUND(F14/176,3) -> 5.489 | H14: =ROUND(E14*G14,3)*2 -> 54.89 | I14: =ROUND(H14*1.2359,2) -> 67.84

Sheet Daugavpils_psih_aug
H1: 1.16.Pielikums
A2: Pārskats par darba veicējiem (ārstniecības personām), virs normālā darba laika nostrādātām stundām, apmaksājamām stundām un izdevumiem, kas radušies saistībā ar mērķi ierobežot Covid-19 izplatību
A4: Iestādes nosaukums: VSIA „Daugavpils psihoneiroloģiskā slimnīca”
A5: Pārskata mēnesis: Augusts
B7: Nodarbināto skaits mēnesī | C7: Apmaksājamais laiks mēnesī, stundas (tai skaitā summētā darba laika ietvaros) | F7: Mēnešalga no kuras rēķina stundas likmi | G7: Stundas likme (aprēķināta atbilstoši mēnešalgai vai darba līgumā noteiktā stundas likme) | H7: Apmaksājamā 100% piemaksa par nostrādātām virsstundām virs normālā darba laika (tai skaitā summētā darba laika ietvaros) | I7: Izdevumi par virsstundām kopā ar VSOAI, EUR
C8: Kopā | D8: līdz normālam darba laikam | E8: virsstundas - virs normālā darba laika, kas saistītas ar darbu ar Covid-19
A10: 1 | B10: 2 | C10: 3=4+5 | D10: 4 | E10: 5 | F10: 6 | G10: 7 | H10: 8 | I10: 9=8 +VSOAI
A11: KOPĀ | B11: =B12 -> 1 | E11: =E12 -> 9 | H11: =H12 -> 98.8 | I11: =I12 -> 122.11
A12: Pārējie darbinieki, kuri tieši iesaistīti darbā ar Covid-19, kopā, tai skaitā: | B12: =SUM(B13:B13) -> 1 | E12: =SUM(E13:E13) -> 9 | H12: =SUM(H13:H13) -> 98.8 | I12: =SUM(I13:I13) -> 122.11
A13: Automobiļa vadītājs | B13: 1 | C13: =D13+E13 -> 185 | D13: 176 | E13: 9 | F13: 966 | G13: =ROUND(F13/176,3) -> 5.489 | H13: =ROUND(E13*G13,2)*2 -> 98.8 | I13: =ROUND(H13*1.2359,2) -> 122.11
