Workbook

Sheet Kopsavilkums
A1: Pielikums Nr.1 Ministru kabineta noteikumu projekts “Par apropriācijas pārdali no budžeta resora "74. Gadskārtējā valsts budžeta izpildes procesā pārdalāmais finansējums" programmas 20.00.00 "Veselības aprūpes neatliekamo pasākumu īstenošana 2024. gadā" un "Par apropriācijas palielināšanu Veselības ministrijai” sākotnējās ietekmes novērtējuma ziņojumam (anotācijai)
A3: Centra kopējais finansējuma apjoms 2024.gadam
A5: Izdevumu pozīcija | B5: 2024.gads
A6: Atlīdzība | B6: ='4_pielikums pēc videja'!Q15 -> 81928.348
A7: Telpu noma, telpu apsaimniekošana un komunālie maksājumi | B7: ='2_pielikums'!H16 -> 10630
A8: Sabiedrības uzturēšanas izmaksas | B8: ='3_pielikums'!B33 -> 102253
A9: KOPĀ nepieciešamais finansējums: | B9: =SUM(B6:B8) -> 194811.35
A11: KOPĀ finansējuma avoti: | B11: =B13+B14 -> 194811.35
A12: 20.00.00 (74.budžeta resors) | B12: =B13+B14 -> 194811.35
A13: Atlīdzībai | B13: ='4_pielikums pēc videja'!Q15 -> 81928.348
A14: Izstrādei un uzturēšanai | B14: =B8+B7 -> 112883

Sheet 2_pielikums
E1: Pielikums Nr.2 Ministru kabineta noteikumu projekts “Par apropriācijas pārdali no budžeta resora "74. Gadskārtējā valsts budžeta izpildes procesā pārdalāmais finansējums" programmas 20.00.00 "Veselības aprūpes neatliekamo pasākumu īstenošana 2024. gadā" un "Par apropriācijas palielināšanu Veselības ministrijai” sākotnējās ietekmes novērtējuma ziņojumam (anotācijai)
A3: Centra telpu nomas, telpu apsaimniekošanas un komunālo maksājumu izmaksas sadalījums 2024.gadam
A5: Nr. p.k. | B5: Izdevumu pozīcija | C5: Mērvienība | D5: Telpu platība1 | E5: Vienas vienības izmaksas mēnesī bez PVN2 | F5: Vienas vienības izmaksas mēnesī ar PVN | G5: 2024.gads
G6: Izmaksas mēnesī ar PVN | H6: Izmaksas gadā ar PVN
A7: 1 | B7: Telpu noma | C7: m2 | D7: =('3_pielikums'!$C$3*15)*0.8 -> 60 | E7: 12 | F7: =SUM(E7)*1.21 -> 14.52 | G7: =SUM(D7)*F7 -> 871.2 | H7: =SUM(G7)*3 -> 2613.6
A8: 2 | B8: Telpu apsaimniekošanas izmaksas | E8: 3.93 | F8: =SUM(E8)*1.21 -> 4.7553 | G8: =SUM(D7)*F8 -> 285.318 | H8: =SUM(G8)*3 -> 855.954
A9: 3 | B9: Ūdens un kanalizēcija | E9: 0.22 | F9: =SUM(E9)*1.21 -> 0.2662 | G9: =SUM(F9)*D7 -> 15.972 | H9: =SUM(G9)*3 -> 47.916
A10: 4 | B10: Atkritumu izvešana | E10: 0.08 | F10: =SUM(E10)*1.21 -> 0.0968 | G10: =SUM(D7)*F10 -> 5.808 | H10: =SUM(G10)*3 -> 17.424
A11: 4 | B11: Autostāvietas izmakas | C11: gab. | D11: 0 | E11: 50 | F11: =SUM(E11)*1.21 -> 60.5 | G11: =SUM(D11)*F11 -> 0 | H11: =SUM(G11)*3 -> 0
A12: 5 | B12: Maksa par elektroenerģiju | C12: kwh | D12: =18130/12*5 -> 7554.1667 | E12: 0.24285 | F12: =SUM(E12)*1.21 -> 0.2938485 | G12: =SUM(F12)*D12 -> 2219.7805 | H12: =SUM(G12)*3 -> 6659.3416
A13: 6 | B13: Maksa par elektroenerģiju kondincionieriem | C13: m2 | D13: =D7 -> 60 | E13: 0.44 | F13: =SUM(E13)*1.21 -> 0.5324 | G13: =SUM(D13)*F13 -> 31.944 | H13: =SUM(G13)*3 -> 95.832
A14: 7 | B14: Maksa par siltumenerģiju | C14: m2 | D14: =D7 -> 60 | E14: 1.56 | F14: =SUM(E14)*1.21 -> 1.8876 | G14: =SUM(D14)*F14 -> 113.256 | H14: =SUM(G14)*3 -> 339.768
A15: 8 | B15: Maināmo paklāju noma | C15: gab. | D15: 0 | E15: 1.18 | F15: =SUM(E15)*1.21 -> 1.4278 | G15: =SUM(D15)*F15 -> 0 | H15: =SUM(G15)*3 -> 0
A16: Izmaksas KOPĀ: | G16: =SUM(G7:G15) -> 3543.2785 | H16: =ROUND(SUM(H7:H15),0) -> 10630
A18: 1 Ministru kabineta 12.07.2016. ieteikumi Nr.2 "Vienotās prasības valsts pārvaldes iestāžu biroju ēkām un biroja telpu grupām"
A19: 2 Vienības izmaksu aprēķinam ņemtas vērā NVD vidējās faktiskās izmaksas, savukārt telpu nomai tika ņemtas Latio telpu nomas vidējas izmaksas 2023.gadā

Sheet 3_pielikums
A1: Pielikums Nr.3 Ministru kabineta noteikumu projekts “Par apropriācijas pārdali no budžeta resora "74. Gadskārtējā valsts budžeta izpildes procesā pārdalāmais finansējums" programmas 20.00.00 "Veselības aprūpes neatliekamo pasākumu īstenošana 2024. gadā" un "Par apropriācijas palielināšanu Veselības ministrijai” sākotnējās ietekmes novērtējuma ziņojumam (anotācijai)
A2: Centra uzturēšanas izmaksas sadalījums 2024.gadam
C3: 5
A4: Izdevumu pozīcija | B4: Vienība | C4: Daudzums | D4: Vienības cena, EUR | E4: 2024.gads
C5: 2024.gads
A6: Uzturēšanas izdevumi *
A7: Mobilo sakaru pakalpojumi | B7: Darbinieki | C7: =$C$3 -> 5 | D7: 15 | E7: =D7*C7*3 -> 225
A8: Interneta pieslēgums | B8: Mēneši | C8: 3 | D8: 60 | E8: =D8*C8 -> 180
A9: Izdevumi iestādes sabiedrisko aktivitāšu īstenošanai | B9: Mēneši | C9: 3 | D9: 100 | E9: =C9*$D9 -> 300
A10: Izdevumi par profesionālās darbības pakalpojumiem (tulku, auditoru, zvērinātu revidentu, juristu, darba aizsardzības, datu aizsardzības, personāla un citu profesionālās darbības veicēju un ekspertu | B10: Mēneši | C10: 3 | D10: 29105.88 | E10: =D10*C10 -> 87317.64
A11: Izdevumi par saņemtajiem mācību pakalpojumiem | B11: Darbinieki | C11: 0 | D11: 300 | E11: =C11*$D$11 -> 0
A12: Iekārtas, inventāra un aparatūras remonts, tehniskā apkalpošana (biroja tehnikas apkope iestādes vajadzībām | B12: Mēneši | C12: 0 | D12: 300 | E12: =C12*$D12 -> 0
A13: Transportlīdzekļu noma (t.sk. Bolt, Citybee, Carguru) | B13: Skaits | C13: 0 | D13: 600 | E13: =C13*$D13*4 -> 0
A14: Iekārtu, aparatūras un inventāra īre un noma*atb.vēsturiskajam NVD patēriņam | B14: Mēneši | C14: 0 | D14: 250 | E14: =C14*$D14 -> 0
A15: Biroja administratīvie izdevumi | B15: Darbinieki | C15: =$C$3 -> 5 | D15: 55.4 | E15: =D15*C15*3 -> 831
A16: Degviela | B16: Mēneši | C16: 0 | D16: 500 | E16: =C16*$D16 -> 0
A17: Normatīvajos aktos noteiktie veselības pārbaudes izdevumi ** | B17: Darbinieki | C17: =$C$3 -> 5 | D17: 25 | E17: =C17*$D17 -> 125
A18: KOPĀ: | E18: =ROUND(SUM(E7:E17),0) -> 88979
A19: Vienreizējās iegādes
A20: Darba vietu aprīkojums (galds, drēbju skapis, krēsli utt.) | E20: =SUM(E21:E25) -> 3524
A21: Darba galds | B21: gab. | C21: =C7 -> 5 | D21: 225 | E21: =C21*D21 -> 1125
A22: Drēbju skapis | B22: gab. | C22: =ROUNDUP(C21/2,0) -> 3 | D22: 188 | E22: =C22*D22 -> 564
A23: Dokumentu plaukts | B23: gab. | C23: =C3 -> 5 | D23: 110 | E23: =C23*D23 -> 550
A24: Biroja krēsls | B24: gab. | C24: =C3 -> 5 | D24: 214 | E24: =C24*D24 -> 1070
A25: Apmeklētāju krēsli | B25: gab. | C25: 5 | D25: 43 | E25: =C25*D25 -> 215
A26: Telekomunikācijas | E26: =E27 -> 1750
A27: Mobilie telefoni | B27: gab. | C27: =C3 -> 5 | D27: 350 | E27: =C27*D27 -> 1750
A28: Datortehnika *** | E28: =E29 -> 8000
A29: Portatīvie datori, monitori, dock | B29: gab. | C29: =C3 -> 5 | D29: 1600 | E29: =C29*D29 -> 8000
A30: KOPĀ: | E30: =E20+E26+E28 -> 13274
A32: Kopā uzturēšanas izmaksas
A33: 2024.gads | B33: =E18+E30 -> 102253
A35: * aprēķini veikti atbilstoši darbinieku skaitam vai mēneša vidējām izmaksām, atbilstoši NVD vidējiem faktiskajiem izdevumiem
A36: ** pimajā gadā visiem darbiniekiem, turpmākajos pie potenciālas darbinieku mainības
A37: *** daļēji tiks nodrošināti no esošajiem NVD resursiem

Sheet 4_pielikums pēc videja
L1: Pielikums Nr.4 Ministru kabineta noteikumu projekts “Par apropriācijas pārdali no budžeta resora "74. Gadskārtējā valsts budžeta izpildes procesā pārdalāmais finansējums" programmas 20.00.00 "Veselības aprūpes neatliekamo pasākumu īstenošana 2024. gadā" un "Par apropriācijas palielināšanu Veselības ministrijai” sākotnējās ietekmes novērtējuma ziņojumam (anotācijai)
B3: Veselības nozares IKT kompetenču centra atlīdzības izmaksu aprēķins sadalījumā pa gadiem
B5: Atlīdzības fonds 2024.gadam
B7: Amats | C7: Amatu saimes | D7: Slodžu skaits | E7: Grupa | F7: Līmenis | G7: Mēnešalgu grupa | H7: Atalgojums | I7: IT Koef.** | J7: Amata vietai plānotā mēnešalga | K7: Piemaksas + soc.garantijas | L7: Valsts sociālās apdrošināšanas obligātās iemaksas, 23.59% + 0.36 EUR amata vietai | M7: Kopā mēnesī | N7: Kopā 12 mēnešiem (1000) | O7: Kopā 12 mēnešiem (1100) | P7: Kopā 12 mēnešiem (1200) | Q7: KOPĀ atlīdzībai atalgotām dienām | U7: Uzsākšana 2024.g. | W7: 2024g. Darba mēneši (no formulas Q kolona
K8: 0.1 | N8: 12 | O8: 12 | P8: 12 | U8: =DATEDIF(MIN(U10:U14),DATE(2024,12,31),"m") -> 3
B9: 1 | D9: 2 | J9: 3 | K9: 4 | L9: 5=(3+4)*23.59% | M9: 6=2*(3+4+5) | N9: 7=6*12 mēn. | O9: 8=2*(3+4)* 12 mēn | P9: 9=2*5* 12 mēn | Q9: 10=8+10 | T9: Fontes punkti | U9: 45536
B10: Centra Vadītājs (valdes loceklis)* | C10: Administratīvā vadība. Valsts iestāžu vadība | D10: 1 | E10: 1.1 | F10: III | G10: 15 | H10: 5500 | I10: 1 | J10: =H10*I10 -> 5500 | L10: =((J10+K10)*0.2359)+0.36 -> 1297.81 | M10: =SUM(J10:L10)*D10 -> 6797.81 | N10: =M10*$N$8 -> 81573.72 | O10: =SUM(J10+K10)*$O$8*D10 -> 66000 | P10: =SUM(L10)*$P$8*D10 -> 15573.72 | Q10: =N10/12*3-2595.39 -> 17798.04 | T10: 750 | U10: 45536 | V10: 2 | W10: 4m
B11: Drošība & privātums | C11: Informācijas un komunikācijas tehnoloģijas. Informācijas drošība | D11: 1 | E11: 21.7 | F11: III | G11: 12 | H11: 3292 | I11: 1.5 | J11: =H11*I11 -> 4938 | K11: =SUM(J11)*$K$8 -> 493.8 | L11: =((J11+K11)*0.2359)+0.36 -> 1281.7216 | M11: =SUM(J11:L11)*D11 -> 6713.5216 | N11: =M11*$N$8 -> 80562.259 | O11: =SUM(J11+K11)*$O$8*D11 -> 65181.6 | P11: =SUM(L11)*$P$8*D11 -> 15380.659 | Q11: =N11/12*3 -> 20140.565 | T11: 492 | U11: 45597 | V11: 1 | W11: 2m
B12: Standarti | C12: Informācijas un komunikācijas tehnoloģijas. Datu pārvaldība | D12: 1 | E12: 21.2 | F12: III | G12: 11 | H12: 2645 | I12: 1.29 | J12: =H12*I12 -> 3412.05 | K12: =SUM(J12)*$K$8 -> 341.205 | L12: =((J12+K12)*0.2359)+0.36 -> 885.75285 | M12: =SUM(J12:L12)*D12 -> 4639.0079 | N12: =M12*$N$8 -> 55668.094 | O12: =SUM(J12+K12)*$O$8*D12 -> 45039.06 | P12: =SUM(L12)*$P$8*D12 -> 10629.034 | Q12: =N12/12*3 -> 13917.024 | T12: 427 | U12: 45566 | V12: 4 | W12: 3m
B13: Metodoloģijas (PMO) | C13: Projektu vadība, īstenošana un uzraudzība. Projektu vadība un īstenošana | D13: 1 | E13: 39.1 | F13: V | G13: 12 | H13: 3292 | I13: 1 | J13: =H13*I13 -> 3292 | K13: =SUM(J13)*$K$8 -> 329.2 | L13: =((J13+K13)*0.2359)+0.36 -> 854.60108 | M13: =SUM(J13:L13)*D13 -> 4475.8011 | N13: =M13*$N$8 -> 53709.613 | O13: =SUM(J13+K13)*$O$8*D13 -> 43454.4 | P13: =SUM(L13)*$P$8*D13 -> 10255.213 | Q13: =N13/12*3 -> 13427.403 | T13: 427 | U13: 45627 | V13: 2 | W13: 1m
B14: Administrācija / vadītājs | C14: Administratīvā vadība. Valsts iestāžu vadība | D14: 1 | E14: 1.1 | F14: I | G14: 13 | H14: 4081 | I14: 1 | J14: =H14*I14 -> 4081 | K14: =SUM(J14)*$K$8 -> 408.1 | L14: =((J14+K14)*0.2359)+0.36 -> 1059.3387 | M14: =SUM(J14:L14)*D14 -> 5548.4387 | N14: =M14*$N$8 -> 66581.264 | O14: =SUM(J14+K14)*$O$8*D14 -> 53869.2 | P14: =SUM(L14)*$P$8*D14 -> 12712.064 | Q14: =N14/12*3 -> 16645.316 | T14: 492 | U14: =$U$9 -> 45536 | W14: 4m
B15: Pamatvietas KOPĀ: | D15: =SUM(D10:D14) -> 5 | J15: =SUM(J10:J14) -> 21223.05 | K15: =SUM(K10:K14) -> 1572.305 | L15: =SUM(L10:L14) -> 5379.2242 | M15: =SUM(M10:M14) -> 28174.579 | N15: =SUM(N10:N14) -> 338094.95 | O15: =SUM(O10:O14) -> 273544.26 | P15: =SUM(P10:P14) -> 64550.691 | Q15: =SUM(Q10:Q14) -> 81928.348 | U15: =COUNT(U10:U14) -> 5
A18: * valdes loceklim ir samazinātis kopējais finansējums atlīdzībai no 01.10.2024 par 2 595.39 euro, pamatojoties uz Ministru kabineta 2024. gada 14. maija rīkojumu Nr. 373 "Par apropriācijas pārdali", pamatkapitālā ieguldītais finansējums valdes locekļa atlīdzības izmaksas nodrošināšanai.
A19: ** IT koeficients tiek piemērots atbilstoši MK 2022.gada 21.jūnija noteikumu Nr.361 “Noteikumi par valsts institūciju amatpersonu un darbinieku darba samaksu un tās noteikšanas kārtību, kā arī par profesijām un specifiskajām jomām, kurām piemērojams tirgus koeficients” 5.pielikumam.

Sheet Fontes
A1: Punkti | B1: 2022.g. alga (Annual total cash) | C1: Mēnešalga | D1: Pieagumus* 2022 > 2024
A2: 121 | B2: 13200 | C2: =B2/12 -> 1100 | D2: =C2*1.175*1.075 -> 1389.4375
A3: 139 | B3: 16339 | C3: =B3/12 -> 1361.5833 | D3: =C3*1.175*1.075 -> 1719.8499
A4: 160 | B4: 17604 | C4: =B4/12 -> 1467 | D4: =C4*1.175*1.075 -> 1853.0044
A5: 184 | B5: 21639 | C5: =B5/12 -> 1803.25 | D5: =C5*1.175*1.075 -> 2277.7302
A6: 212 | B6: 23907 | C6: =B6/12 -> 1992.25 | D6: =C6*1.175*1.075 -> 2516.4608
A7: 244 | B7: 30674 | C7: =B7/12 -> 2556.1667 | D7: =C7*1.175*1.075 -> 3228.758
A8: 281 | B8: 35313 | C8: =B8/12 -> 2942.75 | D8: =C8*1.175*1.075 -> 3717.0611
A9: 323 | B9: 40751 | C9: =B9/12 -> 3395.9167 | D9: =C9*1.175*1.075 -> 4289.4672
A10: 371 | B10: 43235 | C10: =B10/12 -> 3602.9167 | D10: =C10*1.175*1.075 -> 4550.9341
A11: 427 | B11: 52556 | C11: =B11/12 -> 4379.6667 | D11: =C11*1.175*1.075 -> 5532.0665
A12: 492 | B12: 55843 | C12: =B12/12 -> 4653.5833 | D12: =C12*1.175*1.075 -> 5878.0574
A13: 566 | B13: 68367 | C13: =B13/12 -> 5697.25 | D13: =C13*1.175*1.075 -> 7196.3389
... A15: 750 | B15: 98844 | C15: =B15/12 -> 8237 | D15: =C15*1.175*1.075 -> 10404.361
A18: * Dati par IKT pieagumu 2022 - 23 nav pieejami, Visparējais atalgojuma pētījums 2023 uzrāda vidējo gada kopējās algas pieaugumu 17.5%
A19: * 2024. gada pieagumus prognozēts atbilstoši FM publicētai informācija budžeta gatavošanas procesā "2024. gada algu pieauguma prognoze – 7,5 %"
