Workbook

Sheet KOPSAVILKUMS
D1: 2. pielikums
D2: Ministru kabineta rīkojuma projekta
D3: “Par finanšu līdzekļu piešķiršanu no valsts budžeta programmas
D4: “Līdzekļi neparedzētiem gadījumiem””
D5: sākotnējās ietekmes novērtējuma ziņojumam (anotācijai)
A7: Valsts policijas izdevumi saistībā ar situāciju uz Latvijas Republikas - Baltkrievijas Republikas valsts robežas no 2023. gada 1. jūnija līdz 30. jūnijam, kā arī no 2023. gada 1. maija līdz 31. maijam (precizējums)
A8: Kopsavilkums
A10: Kods | B10: Koda nosaukums | C10: Detalizēts izdevumu aprēķins | D10: Izdevumi, euro
A11: Izdevumi kopā ar vidējās izpeļņas pieauguma kompensēšanu | D11: =D12+D15+D16 -> 81823
A12: 1000 | B12: Atlīdzība | C12: × | D12: =ROUNDUP(D13+D14,0) -> 66264
A13: 1100 | B13: Atalgojums | C13: × | D13: =D45+D20 -> 53629.57
A14: 1210 | B14: Darba devēja valsts sociālās apdrošināšanas obligātās iemaksas | C14: × | D14: =D47+D29 -> 12634.02
A15: 2000 | B15: Preces un pakalpojumi | C15: × | D15: =D48+D30 -> 15559
A16: 5000 | B16: Pamatkapitāla veidošana | D16: =D40 -> 0
A18: 1) Izdevumi saistībā ar rīkojuma Nr. 518 izpildei nepieciešamo pasākumu īstenošanu | D18: =D19+D30+D40 -> 76258
A19: 1000 | B19: Atlīdzība | C19: × | D19: =ROUNDUP(D20+D29,0) -> 61167
A20: 1100 | B20: Atalgojums | C20: × | D20: =SUM(D21:D28) -> 49505.57
A21: 1116 | B21: Mēnešalga amatpersonām ar speciālajām dienesta pakāpēm
A22: 1141 | B22: Piemaksa par nakts darbu
C23: 1) Detalizēts aprēķins par laika periodu no 2023.gada 1.jūnija līdz 30.jūnijam 1.tabulā. Iesaistīta 251 persona, kopējais iesaistes laiks 4 494 stundas. 2) Detalizēts aprēķins par laika periodu no 2023.gada 1.maija līdz 30.maijam 2.tabulā. Precizēts aprēķins 1 personai par maiju: kopējais korekcijas laiks 8 stundas. | D23: ='1.tabula'!G6+'2.tabula'!G6 -> 17757.69
A24: 1142 | B24: Samaksa par virsstundu darbu un darbu svētku dienās
C25: Piemaksa par darbu svētku dienās (23.06. un 24.06.) Detalizēts aprēķins par laika periodu no 2023.gada 1.jūnija līdz 30.jūnijam 3.tabulā. Iesaistīta 71 persona, kopējais iesaistes laiks 1 011,75 stundas. | D25: ='3.tabula'!G6 -> 8110.11
A26: 1145 | B26: Piemaksa par darbu īpašos apstākļos, speciālās piemaksas | C26: Detalizēts aprēķins par laika periodu no 2023.gada 1.jūnija līdz 30.jūnijam 4.tabulā. Iesaistītas 415 personas, kopējais iesaistes laiks 14 105 stundas. | D26: ='4.tabula'!H6 -> 23637.77
A28: 1146 | B28: Piemaksa par personisko darba ieguldījumu un darba kvalitāti
A29: 1210 | B29: Darba devēja valsts sociālās apdrošināšanas obligātās iemaksas | C29: 23,59% no aprēķinātā atalgojuma * izņemot četras personas, kurām tiek piemērota nodokļu likme 21,94% (izdienas pensionārs) | D29: ='1.tabula'!H6+'2.tabula'!H6+'3.tabula'!H6+'4.tabula'!I6 -> 11661.21
A30: 2000 | B30: Preces un pakalpojumi | C30: × | D30: =ROUNDUP(SUM(D31:D39),0) -> 15091
A31: 2111 | B31: Dienas nauda
A32: 2112 | B32: Pārējie komandējumu un darba braucienu izdevumi
A33: 2271 | B33: Izdevumi, kas saistīti ar operatīvo darbību | C33: Izdevumi, kas saistīti ar operatīvo darbību 2023.gada jūnijā* Precizēts aprēķins personām par 2023. gada maiju* | D33: 7007
A34: 2312 | B34: Inventārs
A35: 2322 | B35: Degviela | C35: Detalizēts aprēķins par laika periodu no 2023.gada 1.jūnija līdz 30.jūnijam 5.tabulā. Pasākuma nodrošināšanai tika iesaistīti 82 transportlīdzekļi; Vidēji viena transportlīdzekļa nobraukums 1 001,94 km; Vidējā degvielas cena 1,287 euro/l; Vidējais degvielas patēriņš 7,3602 l/km uz 100 km. 82 t-ldz. x 1 001,9 km x 1,287 euro/l x 7,3602 l/km ÷ 100 km = 7 782,23 euro | D35: ='5.tabula'!F6 -> 7782.23
A36: 2350 | B36: Kārtējā remonta un iestāžu uzturēšanas materiāli
A37: 2363 | B37: Ēdināšanas izdevumi
A38: 2389 | B38: Pārējie specifiskas lietošanas materiāli un inventārs
A39: 2390 | B39: Pārējās preces | C39: Negāzēts dzeramais ūdens 5 L / 408 gab. x 0,7381 euro = 301,14 euro; | D39: 301.14
A40: 5000 | B40: Pamatkapitāla veidošana | D40: =ROUNDUP(SUM(D41),0) -> 0
A41: 5239 | B41: Pārējie iepriekš neklasificētie pamatlīdzekļi un ieguldījuma īpašumi
A43: 2) Vidējās izpeļņas pieauguma kompensēšanai | D43: =D44+D48 -> 5564.81
A44: 1000 | B44: Atlīdzība | C44: × | D44: =D45+D47 -> 5096.81
A45: 1100 | B45: Atalgojums | C45: × | D45: =ROUND(SUM(D46:D46),0) -> 4124
A46: 1116 | B46: Mēnešalga amatpersonām ar speciālajām dienesta pakāpēm | C46: 49 505,57 euro × 8,33% = 4 123,81 euro. | D46: =ROUND((D23+D24+D26+D28+D27+D25+D22)*8.33%,2) -> 4123.81
A47: 1210 | B47: Darba devēja valsts sociālās apdrošināšanas obligātās iemaksas | C47: 23,59% no aprēķinātā atalgojuma | D47: =ROUND(D46*0.2359,2) -> 972.81
A48: 2000 | B48: Preces un pakalpojumi | D48: =ROUND(SUM(D49:D49),2) -> 468
A49: 2271 | B49: Izdevumi, kas saistīti ar operatīvo darbību | C49: Informācija klasificēta* | D49: 468
A51: *Aprēķins iesniegts ar atsevišķu Iekšlietu ministrijas vēstuli (satur klasificētu informāciju)

Sheet 1.tabula
I1: 2. pielikuma 1.tabula
A2: Valsts policija
A3: Piemaksa par nakts darbu amatpersonām ar speciālajām dienesta pakāpēm, kuras laika periodā no 2023.gada 1.jūnija līdz 30.jūnijam tika iesaistītas atbalsta sniegšanā Valsts robežsardzei Latvijas Republikas-Baltkrievijas Republikas valsts robežas robežuzraudzības nodrošināšanā
E4: 166.33
A5: Nr. p.k. | B5: Struktūrvienība | C5: Amats | D5: Mēnešalga amatpersonām ar speciālajām pakāpēm | E5: Stundas likme | F5: Stundu skaits | G5: Piemaksa par nakts darbu | H5: DD VSAOI | I5: Atlīdzība
A6: kopā | F6: =SUM(F8:F259) -> 4494 | G6: =SUM(G8:G259) -> 17728.47 | H6: =SUM(H8:H259) -> 4176.02 | I6: =SUM(I8:I259) -> 21904.49
B7: LATGALES REĢIONA PĀRVALDE
A8: 1 | B8: VP LATGALES RP ZIEMEĻLATGALES IECIRKNIS | C8: iecirkņa priekšnieka vietnieks, Reaģēšanas nodaļas priekšnieks | D8: 1937 | E8: =ROUND(D8/$E$4,3) -> 11.646 | F8: 24 | G8: 139.75 | H8: =ROUND(G8*0.2359,2) -> 32.97 | I8: =G8+H8 -> 172.72
A9: =A8+1 -> 2 | B9: VP LATGALES RP ZIEMEĻLATGALES IECIRKŅA IZMEKLĒŠANAS NODAĻAS 2.GRUPA | C9: inspektors | D9: 1387 | E9: =ROUND(D9/$E$4,3) -> 8.339 | F9: 8 | G9: 33.36 | H9: =ROUND(G9*0.2359,2) -> 7.87 | I9: =G9+H9 -> 41.23
A10: =A9+1 -> 3 | B10: VP LATGALES RP DIENVIDLATGALES IECIRKŅA REAĢĒŠANAS NODAĻAS 3.GRUPA | C10: vecākais inspektors | D10: 1412 | E10: =ROUND(D10/$E$4,3) -> 8.489 | F10: 10 | G10: 42.45 | H10: =ROUND(G10*0.2359,2) -> 10.01 | I10: =G10+H10 -> 52.46
A11: =A10+1 -> 4 | B11: VP LATGALES RP ZIEMEĻLATGALES IECIRKŅA IZMEKLĒŠANAS NODAĻAS 5.GRUPA | C11: galvenais inspektors | D11: 1774 | E11: =ROUND(D11/$E$4,3) -> 10.666 | F11: 8 | G11: 42.66 | H11: =ROUND(G11*0.2359,2) -> 10.06 | I11: =G11+H11 -> 52.72
A12: =A11+1 -> 5 | B12: VP LATGALES RP DIENVIDLATGALES IECIRKŅA REAĢĒŠANAS NODAĻAS 7.GRUPA | C12: inspektors | D12: 1220 | E12: =ROUND(D12/$E$4,3) -> 7.335 | F12: 8 | G12: 29.34 | H12: =ROUND(G12*0.2359,2) -> 6.92 | I12: =G12+H12 -> 36.26
A13: =A12+1 -> 6 | B13: VP LATGALES RP DIENVIDLATGALES IECIRKŅA REAĢĒŠANAS NODAĻAS 7.GRUPA | C13: jaunākais inspektors | D13: 1083 | E13: =ROUND(D13/$E$4,3) -> 6.511 | F13: 16 | G13: 52.09 | H13: =ROUND(G13*0.2359,2) -> 12.29 | I13: =G13+H13 -> 64.38
A14: =A13+1 -> 7 | B14: VP LATGALES RP DIENVIDLATGALES IECIRKŅA IZMEKLĒŠANAS NODAĻAS 5.GRUPA | C14: inspektors | D14: 1387 | E14: =ROUND(D14/$E$4,3) -> 8.339 | F14: 14 | G14: 58.37 | H14: =ROUND(G14*0.2359,2) -> 13.77 | I14: =G14+H14 -> 72.14
A15: =A14+1 -> 8 | B15: VP LATGALES RP ZIEMEĻLATGALES IECIRKŅA PREVENCIJAS GRUPA | C15: vecākais inspektors | D15: 1279 | E15: =ROUND(D15/$E$4,3) -> 7.69 | F15: 2 | G15: 7.69 | H15: =ROUND(G15*0.2359,2) -> 1.81 | I15: =G15+H15 -> 9.5
A16: =A15+1 -> 9 | B16: VP LATGALES RP KĀRTPB ATĻAUJU SISTĒMAS GRUPA | C16: inspektors | D16: 1196 | E16: =ROUND(D16/$E$4,3) -> 7.191 | F16: 16 | G16: 57.53 | H16: =ROUND(G16*0.2359,2) -> 13.57 | I16: =G16+H16 -> 71.1
A17: =A16+1 -> 10 | B17: VP LATGALES RP DIENVIDLATGALES IECIRKŅA IZMEKLĒŠANAS NODAĻAS 7.GRUPA | C17: vecākais inspektors | D17: 1255 | E17: =ROUND(D17/$E$4,3) -> 7.545 | F17: 8 | G17: 30.18 | H17: =ROUND(G17*0.2359,2) -> 7.12 | I17: =G17+H17 -> 37.3
A18: =A17+1 -> 11 | B18: VP LATGALES RP ZIEMEĻLATGALES IECIRKŅA IZMEKLĒŠANAS NODAĻAS 3.GRUPA | C18: vecākais inspektors | D18: 1438 | E18: =ROUND(D18/$E$4,3) -> 8.645 | F18: 22 | G18: 95.1 | H18: =ROUND(G18*0.2359,2) -> 22.43 | I18: =G18+H18 -> 117.53
A19: =A18+1 -> 12 | B19: VP LATGALES RP ZIEMEĻLATGALES IECIRKŅA IZMEKLĒŠANAS NODAĻAS 2.GRUPA | C19: galvenais inspektors | D19: 1937 | E19: =ROUND(D19/$E$4,3) -> 11.646 | F19: 16 | G19: 93.17 | H19: =ROUND(G19*0.2359,2) -> 21.98 | I19: =G19+H19 -> 115.15
A20: =A19+1 -> 13 | B20: VP LATGALES RP DIENVIDLATGALES IECIRKŅA REAĢĒŠANAS NODAĻAS 2.GRUPA | C20: vecākais inspektors | D20: 1255 | E20: =ROUND(D20/$E$4,3) -> 7.545 | F20: 22 | G20: 83 | H20: =ROUND(G20*0.2359,2) -> 19.58 | I20: =G20+H20 -> 102.58
... A23: =A22+1 -> 16 | B23: VP LATGALES RP DIENVIDLATGALES IECIRKŅA IZMEKLĒŠANAS NODAĻAS 6.GRUPA | C23: vecākais inspektors | D23: 1259 | E23: =ROUND(D23/$E$4,3) -> 7.569 | F23: 8 | G23: 30.28 | H23: =ROUND(G23*0.2359,2) -> 7.14 | I23: =G23+H23 -> 37.42
A24: =A23+1 -> 17 | B24: VP LATGALES RP ZIEMEĻLATGALES IECIRKŅA IZMEKLĒŠANAS NODAĻAS 8.GRUPA | C24: inspektors | D24: 1903 | E24: =ROUND(D24/$E$4,3) -> 11.441 | F24: 24 | G24: 137.29 | H24: =ROUND(G24*0.2359,2)-0.01 -> 32.38 | I24: =G24+H24 -> 169.67
A25: =A24+1 -> 18 | B25: VP LATGALES RP ZIEMEĻLATGALES IECIRKŅA IZMEKLĒŠANAS NODAĻAS 4.GRUPA | C25: inspektors | D25: 1532 | E25: =ROUND(D25/$E$4,3) -> 9.211 | F25: 2 | G25: 9.21 | H25: =ROUND(G25*0.2359,2) -> 2.17 | I25: =G25+H25 -> 11.38
A26: =A25+1 -> 19 | B26: VP LATGALES RP ZIEMEĻLATGALES IECIRKŅA REAĢĒŠANAS NODAĻAS 3.GRUPA | C26: inspektors | D26: 1296 | E26: =ROUND(D26/$E$4,3) -> 7.792 | F26: 8 | G26: 31.17 | H26: =ROUND(G26*0.2359,2) -> 7.35 | I26: =G26+H26 -> 38.52
A27: =A26+1 -> 20 | B27: VP LATGALES RP KĀRTPB ATĻAUJU SISTĒMAS GRUPA | C27: vecākais inspektors | D27: 1240 | E27: =ROUND(D27/$E$4,3) -> 7.455 | F27: 32 | G27: 119.28 | H27: =ROUND(G27*0.2359,2) -> 28.14 | I27: =G27+H27 -> 147.42
A28: =A27+1 -> 21 | B28: VP LATGALES RP ZIEMEĻLATGALES IECIRKŅA IZMEKLĒŠANAS NODAĻAS 3.GRUPA | C28: inspektors | D28: 1392 | E28: =ROUND(D28/$E$4,3) -> 8.369 | F28: 16 | G28: 66.95 | H28: =ROUND(G28*0.2359,2) -> 15.79 | I28: =G28+H28 -> 82.74
A29: =A28+1 -> 22 | B29: VP LATGALES REĢIONA PĀRVALDES DISCIPLINĀRĀS UZRAUDZĪBAS GRUPA | C29: galvenais inspektors | D29: 1486 | E29: =ROUND(D29/$E$4,3) -> 8.934 | F29: 8 | G29: 35.74 | H29: =ROUND(G29*0.2359,2) -> 8.43 | I29: =G29+H29 -> 44.17
A30: =A29+1 -> 23 | B30: VP LATGALES RP KĀRTPB RESURSU UN KRĪZES VADĪBAS NODAĻA | C30: nodaļas priekšnieks | D30: 1474 | E30: =ROUND(D30/$E$4,3) -> 8.862 | F30: 8 | G30: 35.45 | H30: =ROUND(G30*0.2359,2) -> 8.36 | I30: =G30+H30 -> 43.81 | J30: *
A31: =A30+1 -> 24 | B31: VP LATGALES RP KĀRTPB ATĻAUJU SISTĒMAS GRUPA | C31: inspektors | D31: 1176 | E31: =ROUND(D31/$E$4,3) -> 7.07 | F31: 16 | G31: 56.56 | H31: =ROUND(G31*0.2359,2) -> 13.34 | I31: =G31+H31 -> 69.9
A32: =A31+1 -> 25 | B32: VP LATGALES RP DIENVIDLATGALES IECIRKŅA REAĢĒŠANAS NODAĻAS 4.GRUPA | C32: jaunākais inspektors | D32: 1083 | E32: =ROUND(D32/$E$4,3) -> 6.511 | F32: 16 | G32: 52.09 | H32: =ROUND(G32*0.2359,2) -> 12.29 | I32: =G32+H32 -> 64.38
A33: =A32+1 -> 26 | B33: VP LATGALES RP ZIEMEĻLATGALES IECIRKŅA IZMEKLĒŠANAS NODAĻAS 5.GRUPA | C33: vecākais inspektors | D33: 1464 | E33: =ROUND(D33/$E$4,3) -> 8.802 | F33: 16 | G33: 70.42 | H33: =ROUND(G33*0.2359,2)+0.01 -> 16.62 | I33: =G33+H33 -> 87.04
A34: =A33+1 -> 27 | B34: VP LATGALES RP DIENVIDLATGALES IECIRKŅA IZMEKLĒŠANAS NODAĻAS 8.GRUPA | C34: inspektors | D34: 1240 | E34: =ROUND(D34/$E$4,3) -> 7.455 | F34: 8 | G34: 29.82 | H34: =ROUND(G34*0.2359,2) -> 7.03 | I34: =G34+H34 -> 36.85
A35: =A34+1 -> 28 | B35: VP LATGALES RP ZIEMEĻLATGALES IECIRKŅA IZMEKLĒŠANAS NODAĻAS 8.GRUPA | C35: vecākais inspektors | D35: 1255 | E35: =ROUND(D35/$E$4,3) -> 7.545 | F35: 8 | G35: 30.18 | H35: =ROUND(G35*0.2359,2) -> 7.12 | I35: =G35+H35 -> 37.3
A36: =A35+1 -> 29 | B36: VP LATGALES RP ZIEMEĻLATGALES IECIRKŅA REAĢĒŠANAS NODAĻAS 8.GRUPA | C36: inspektors | D36: 1240 | E36: =ROUND(D36/$E$4,3) -> 7.455 | F36: 16 | G36: 59.64 | H36: =ROUND(G36*0.2359,2) -> 14.07 | I36: =G36+H36 -> 73.71
A37: =A36+1 -> 30 | B37: VP LATGALES RP ZIEMEĻLATGALES IECIRKŅA IZMEKLĒŠANAS NODAĻAS 6.GRUPA | C37: inspektors | D37: 1412 | E37: =ROUND(D37/$E$4,3) -> 8.489 | F37: 8 | G37: 33.96 | H37: =ROUND(G37*0.2359,2) -> 8.01 | I37: =G37+H37 -> 41.97
A38: =A37+1 -> 31 | B38: VP LATGALES RP ZIEMEĻLATGALES IECIRKŅA IZMEKLĒŠANAS NODAĻAS 4.GRUPA | C38: vecākais inspektors | D38: 1464 | E38: =ROUND(D38/$E$4,3) -> 8.802 | F38: 10 | G38: 44.01 | H38: =ROUND(G38*0.2359,2)-0.01 -> 10.37 | I38: =G38+H38 -> 54.38
A39: =A38+1 -> 32 | B39: VP LATGALES RP DIENVIDLATGALES IECIRKŅA PREVENCIJAS GRUPA | C39: vecākais inspektors | D39: 1279 | E39: =ROUND(D39/$E$4,3) -> 7.69 | F39: 8 | G39: 30.76 | H39: =ROUND(G39*0.2359,2) -> 7.26 | I39: =G39+H39 -> 38.02
A40: =A39+1 -> 33 | B40: VP LATGALES RP KĀRTPB PREVENCIJAS GRUPA | C40: galvenais inspektors | D40: 1313 | E40: =ROUND(D40/$E$4,3) -> 7.894 | F40: 8 | G40: 31.58 | H40: =ROUND(G40*0.2359,2) -> 7.45 | I40: =G40+H40 -> 39.03
A41: =A40+1 -> 34 | B41: VP LATGALES RP KĀRTPB PREVENCIJAS GRUPA | C41: galvenais inspektors | D41: 1433 | E41: =ROUND(D41/$E$4,3) -> 8.615 | F41: 8 | G41: 34.46 | H41: =ROUND(G41*0.2359,2) -> 8.13 | I41: =G41+H41 -> 42.59
A42: =A41+1 -> 35 | B42: VP LATGALES RP DIENVIDLATGALES IECIRKŅA PREVENCIJAS GRUPA | C42: vecākais inspektors | D42: 1255 | E42: =ROUND(D42/$E$4,3) -> 7.545 | F42: 8 | G42: 30.18 | H42: =ROUND(G42*0.2359,2) -> 7.12 | I42: =G42+H42 -> 37.3
A43: =A42+1 -> 36 | B43: VP LATGALES RP DIENVIDLATGALES IECIRKŅA IZMEKLĒŠANAS NODAĻAS 1.GRUPA | C43: inspektors | D43: 1392 | E43: =ROUND(D43/$E$4,3) -> 8.369 | F43: 8 | G43: 33.48 | H43: =ROUND(G43*0.2359,2) -> 7.9 | I43: =G43+H43 -> 41.38
A44: =A43+1 -> 37 | B44: VP LATGALES RP DIENVIDLATGALES IECIRKŅA REAĢĒŠANAS NODAĻAS 10.GRUPA | C44: vecākais inspektors | D44: 1235 | E44: =ROUND(D44/$E$4,3) -> 7.425 | F44: 16 | G44: 59.4 | H44: =ROUND(G44*0.2359,2) -> 14.01 | I44: =G44+H44 -> 73.41
A45: =A44+1 -> 38 | B45: VP LATGALES RP DIENVIDLATGALES IECIRKŅA IZMEKLĒŠANAS NODAĻAS 9.GRUPA | C45: vecākais inspektors | D45: 1279 | E45: =ROUND(D45/$E$4,3) -> 7.69 | F45: 8 | G45: 30.76 | H45: =ROUND(G45*0.2359,2) -> 7.26 | I45: =G45+H45 -> 38.02
A46: =A45+1 -> 39 | B46: VP LATGALES RP KRIMPB ORGANIZĒTĀS NOZIEDZĪBAS SMAGO UN SĒRIJVEIDA NOZIEGUMU APKAROŠANAS NODAĻA | C46: vecākais inspektors | D46: 1488 | E46: =ROUND(D46/$E$4,3) -> 8.946 | F46: 24 | G46: 107.35 | H46: =ROUND(G46*0.2359,2) -> 25.32 | I46: =G46+H46 -> 132.67
A47: =A46+1 -> 40 | B47: VP LATGALES RP ZIEMEĻLATGALES IECIRKNIS | C47: iecirkņa priekšnieka vietnieks, Izmeklēšanas nodaļas priekšnieks | D47: 1903 | E47: =ROUND(D47/$E$4,3) -> 11.441 | F47: 8 | G47: 45.76 | H47: =ROUND(G47*0.2359,2) -> 10.79 | I47: =G47+H47 -> 56.55
A48: =A47+1 -> 41 | B48: VP LATGALES RP ZIEMEĻLATGALES IECIRKŅA REAĢĒŠANAS NODAĻAS 8.GRUPA | C48: vecākais inspektors | D48: 1279 | E48: =ROUND(D48/$E$4,3) -> 7.69 | F48: 8 | G48: 30.76 | H48: =ROUND(G48*0.2359,2) -> 7.26 | I48: =G48+H48 -> 38.02
A49: =A48+1 -> 42 | B49: VP LATGALES RP ZIEMEĻLATGALES IECIRKŅA REAĢĒŠANAS NODAĻAS 1.GRUPA | C49: galvenais inspektors | D49: 1268 | E49: =ROUND(D49/$E$4,3) -> 7.623 | F49: 8 | G49: 30.49 | H49: =ROUND(G49*0.2359,2) -> 7.19 | I49: =G49+H49 -> 37.68
A50: =A49+1 -> 43 | B50: VP LATGALES RP DIENVIDLATGALES IECIRKŅA REAĢĒŠANAS NODAĻAS 1.GRUPA | C50: vecākais inspektors | D50: 1255 | E50: =ROUND(D50/$E$4,3) -> 7.545 | F50: 32 | G50: 120.73 | H50: =ROUND(G50*0.2359,2)-0.01 -> 28.47 | I50: =G50+H50 -> 149.2
A51: =A50+1 -> 44 | B51: VP LATGALES RP DIENVIDLATGALES IECIRKŅA REAĢĒŠANAS NODAĻAS 3.GRUPA | C51: vecākais inspektors | D51: 1255 | E51: =ROUND(D51/$E$4,3) -> 7.545 | F51: 8 | G51: 30.18 | H51: =ROUND(G51*0.2359,2) -> 7.12 | I51: =G51+H51 -> 37.3
A52: =A51+1 -> 45 | B52: VP LATGALES RP ZIEMEĻLATGALES IECIRKŅA IZMEKLĒŠANAS NODAĻAS 9.GRUPA | C52: galvenais inspektors | D52: 1412 | E52: =ROUND(D52/$E$4,3) -> 8.489 | F52: 16 | G52: 67.91 | H52: =ROUND(G52*0.2359,2) -> 16.02 | I52: =G52+H52 -> 83.93
A53: =A52+1 -> 46 | B53: VP LATGALES RP ZIEMEĻLATGALES IECIRKŅA IZMEKLĒŠANAS NODAĻAS 1.GRUPA | C53: inspektors | D53: 1507 | E53: =ROUND(D53/$E$4,3) -> 9.06 | F53: 16 | G53: 72.48 | H53: =ROUND(G53*0.2359,2) -> 17.1 | I53: =G53+H53 -> 89.58
A54: =A53+1 -> 47 | B54: VP LATGALES RP SLEPENĪBAS REŽĪMA NODROŠINĀŠANAS UN SEVIŠĶĀS LIETVEDĪBAS GRUPA | C54: vecākais inspektors | D54: 1309 | E54: =ROUND(D54/$E$4,3) -> 7.87 | F54: 16 | G54: 62.96 | H54: =ROUND(G54*0.2359,2) -> 14.85 | I54: =G54+H54 -> 77.81
A55: =A54+1 -> 48 | B55: VP LATGALES RP ZIEMEĻLATGALES IECIRKŅA IZMEKLĒŠANAS NODAĻAS 1.GRUPA | C55: inspektors | D55: 1412 | E55: =ROUND(D55/$E$4,3) -> 8.489 | F55: 16 | G55: 67.91 | H55: =ROUND(G55*0.2359,2) -> 16.02 | I55: =G55+H55 -> 83.93
A56: =A55+1 -> 49 | B56: VP LATGALES RP DIENVIDLATGALES IECIRKŅA IZMEKLĒŠANAS NODAĻAS 8.GRUPA | C56: vecākais inspektors | D56: 1255 | E56: =ROUND(D56/$E$4,3) -> 7.545 | F56: 32 | G56: 120.72 | H56: =ROUND(G56*0.2359,2) -> 28.48 | I56: =G56+H56 -> 149.2
A57: =A56+1 -> 50 | B57: VP LATGALES RP ZIEMEĻLATGALES IECIRKŅA IZMEKLĒŠANAS NODAĻAS 6.GRUPA | C57: galvenais inspektors | D57: 1508 | E57: =ROUND(D57/$E$4,3) -> 9.066 | F57: 8 | G57: 36.26 | H57: =ROUND(G57*0.2359,2) -> 8.55 | I57: =G57+H57 -> 44.81
A58: =A57+1 -> 51 | B58: VP LATGALES RP DIENVIDLATGALES IECIRKŅA REAĢĒŠANAS NODAĻAS 9.GRUPA | C58: vecākais inspektors | D58: 1279 | E58: =ROUND(D58/$E$4,3) -> 7.69 | F58: 8 | G58: 30.76 | H58: =ROUND(G58*0.2359,2) -> 7.26 | I58: =G58+H58 -> 38.02
A59: =A58+1 -> 52 | B59: VP LATGALES RP DIENVIDLATGALES IECIRKŅA REAĢĒŠANAS NODAĻAS 5.GRUPA | C59: vecākais inspektors | D59: 1235 | E59: =ROUND(D59/$E$4,3) -> 7.425 | F59: 8 | G59: 29.7 | H59: =ROUND(G59*0.2359,2) -> 7.01 | I59: =G59+H59 -> 36.71
A60: =A59+1 -> 53 | B60: VP LATGALES RP KRIMPB EKONOMISKO NOZIEGUMU APKAROŠANAS NODAĻA | C60: vecākais inspektors | D60: 1488 | E60: =ROUND(D60/$E$4,3) -> 8.946 | F60: 8 | G60: 35.78 | H60: =ROUND(G60*0.2359,2) -> 8.44 | I60: =G60+H60 -> 44.22
A61: =A60+1 -> 54 | B61: VP LATGALES RP ZIEMEĻLATGALES IECIRKŅA IZMEKLĒŠANAS NODAĻAS 7.GRUPA | C61: vecākais inspektors | D61: 1255 | E61: =ROUND(D61/$E$4,3) -> 7.545 | F61: 8 | G61: 30.18 | H61: =ROUND(G61*0.2359,2) -> 7.12 | I61: =G61+H61 -> 37.3
A62: =A61+1 -> 55 | B62: VP LATGALES RP DIENVIDLATGALES IECIRKŅA REAĢĒŠANAS NODAĻAS 4.GRUPA | C62: vecākais inspektors | D62: 1375 | E62: =ROUND(D62/$E$4,3) -> 8.267 | F62: 16 | G62: 66.14 | H62: 14.51 | I62: =G62+H62 -> 80.65 | J62: ***
A63: =A62+1 -> 56 | B63: VP LATGALES RP DIENVIDLATGALES IECIRKŅA PREVENCIJAS GRUPA | C63: vecākais inspektors | D63: 1239 | E63: =ROUND(D63/$E$4,3) -> 7.449 | F63: 8 | G63: 29.8 | H63: =ROUND(G63*0.2359,2) -> 7.03 | I63: =G63+H63 -> 36.83
A64: =A63+1 -> 57 | B64: VP LATGALES RP KĀRTPB ATĻAUJU SISTĒMAS GRUPA | C64: inspektors | D64: 1176 | E64: =ROUND(D64/$E$4,3) -> 7.07 | F64: 8 | G64: 28.28 | H64: =ROUND(G64*0.2359,2) -> 6.67 | I64: =G64+H64 -> 34.95
A65: =A64+1 -> 58 | B65: VP LATGALES RP DIENVIDLATGALES IECIRKŅA REAĢĒŠANAS NODAĻAS 10.GRUPA | C65: inspektors | D65: 1263 | E65: =ROUND(D65/$E$4,3) -> 7.593 | F65: 8 | G65: 30.37 | H65: =ROUND(G65*0.2359,2) -> 7.16 | I65: =G65+H65 -> 37.53
A66: =A65+1 -> 59 | B66: VP LATGALES RP ZIEMEĻLATGALES IECIRKŅA IZMEKLĒŠANAS NODAĻAS 3.GRUPA | C66: galvenais inspektors | D66: 1655 | E66: =ROUND(D66/$E$4,3) -> 9.95 | F66: 16 | G66: 79.6 | H66: =ROUND(G66*0.2359,2) -> 18.78 | I66: =G66+H66 -> 98.38
A67: =A66+1 -> 60 | B67: VP LATGALES RP ZIEMEĻLATGALES IECIRKŅA IZMEKLĒŠANAS NODAĻAS 8.GRUPA | C67: vecākais inspektors | D67: 1235 | E67: =ROUND(D67/$E$4,3) -> 7.425 | F67: 2 | G67: 7.43 | H67: =ROUND(G67*0.2359,2) -> 1.75 | I67: =G67+H67 -> 9.18
A68: =A67+1 -> 61 | B68: VP LATGALES RP DIENVIDLATGALES IECIRKŅA IZMEKLĒŠANAS NODAĻAS 2.GRUPA | C68: inspektors | D68: 1412 | E68: =ROUND(D68/$E$4,3) -> 8.489 | F68: 8 | G68: 33.96 | H68: =ROUND(G68*0.2359,2) -> 8.01 | I68: =G68+H68 -> 41.97
A69: =A68+1 -> 62 | B69: VP LATGALES RP ZIEMEĻLATGALES IECIRKŅA IZMEKLĒŠANAS NODAĻAS 9.GRUPA | C69: inspektors | D69: 1220 | E69: =ROUND(D69/$E$4,3) -> 7.335 | F69: 8 | G69: 29.34 | H69: =ROUND(G69*0.2359,2) -> 6.92 | I69: =G69+H69 -> 36.26
A70: =A69+1 -> 63 | B70: VP LATGALES RP ZIEMEĻLATGALES IECIRKŅA IZMEKLĒŠANAS NODAĻAS 2.GRUPA | C70: vecākais inspektors | D70: 1464 | E70: =ROUND(D70/$E$4,3) -> 8.802 | F70: 16 | G70: 70.42 | H70: =ROUND(G70*0.2359,2) -> 16.61 | I70: =G70+H70 -> 87.03
A71: =A70+1 -> 64 | B71: VP LATGALES RP DIENVIDLATGALES IECIRKŅA IZMEKLĒŠANAS NODAĻAS 7.GRUPA | C71: inspektors | D71: 1263 | E71: =ROUND(D71/$E$4,3) -> 7.593 | F71: 16 | G71: 60.74 | H71: =ROUND(G71*0.2359,2) -> 14.33 | I71: =G71+H71 -> 75.07
A72: =A71+1 -> 65 | B72: VP LATGALES RP ZIEMEĻLATGALES IECIRKŅA IZMEKLĒŠANAS NODAĻAS 1.GRUPA | C72: inspektors | D72: 1412 | E72: =ROUND(D72/$E$4,3) -> 8.489 | F72: 24 | G72: 101.87 | H72: =ROUND(G72*0.2359,2) -> 24.03 | I72: =G72+H72 -> 125.9
A73: =A72+1 -> 66 | B73: VP LATGALES RP ZIEMEĻLATGALES IECIRKŅA IZMEKLĒŠANAS NODAĻAS 3.GRUPA | C73: vecākais inspektors | D73: 1464 | E73: =ROUND(D73/$E$4,3) -> 8.802 | F73: 24 | G73: 105.62 | H73: =ROUND(G73*0.2359,2) -> 24.92 | I73: =G73+H73 -> 130.54
A74: =A73+1 -> 67 | B74: VP LATGALES RP ZIEMEĻLATGALES IECIRKŅA PREVENCIJAS GRUPA | C74: inspektors | D74: 1263 | E74: =ROUND(D74/$E$4,3) -> 7.593 | F74: 16 | G74: 60.74 | H74: =ROUND(G74*0.2359,2) -> 14.33 | I74: =G74+H74 -> 75.07
... A78: =A77+1 -> 71 | B78: VP LATGALES RP DIENVIDLATGALES IECIRKŅA IZMEKLĒŠANAS NODAĻAS 5.GRUPA | C78: inspektors | D78: 1392 | E78: =ROUND(D78/$E$4,3) -> 8.369 | F78: 16 | G78: 66.95 | H78: =ROUND(G78*0.2359,2) -> 15.79 | I78: =G78+H78 -> 82.74
A79: =A78+1 -> 72 | B79: VP LATGALES RP DIENVIDLATGALES IECIRKŅA IZMEKLĒŠANAS NODAĻAS 5.GRUPA | C79: galvenais inspektors | D79: 1762 | E79: =ROUND(D79/$E$4,3) -> 10.593 | F79: 16 | G79: 84.74 | H79: =ROUND(G79*0.2359,2)-0.01 -> 19.98 | I79: =G79+H79 -> 104.72
A80: =A79+1 -> 73 | B80: VP LATGALES RP ZIEMEĻLATGALES IECIRKŅA IZMEKLĒŠANAS NODAĻAS 1.GRUPA | C80: vecākais inspektors | D80: 1558 | E80: =ROUND(D80/$E$4,3) -> 9.367 | F80: 30 | G80: 140.51 | H80: =ROUND(G80*0.2359,2) -> 33.15 | I80: =G80+H80 -> 173.66
A81: =A80+1 -> 74 | B81: VP LATGALES RP DIENVIDLATGALES IECIRKŅA REAĢĒŠANAS NODAĻAS 10.GRUPA | C81: vecākais inspektors | D81: 1235 | E81: =ROUND(D81/$E$4,3) -> 7.425 | F81: 16 | G81: 59.4 | H81: =ROUND(G81*0.2359,2) -> 14.01 | I81: =G81+H81 -> 73.41
A82: =A81+1 -> 75 | B82: VP LATGALES RP ZIEMEĻLATGALES IECIRKŅA IZMEKLĒŠANAS NODAĻAS 1.GRUPA | C82: vecākais inspektors | D82: 1464 | E82: =ROUND(D82/$E$4,3) -> 8.802 | F82: 24 | G82: 105.62 | H82: =ROUND(G82*0.2359,2) -> 24.92 | I82: =G82+H82 -> 130.54
A83: =A82+1 -> 76 | B83: VP LATGALES RP DIENVIDLATGALES IECIRKŅA IZMEKLĒŠANAS NODAĻAS 3.GRUPA | C83: inspektors | D83: 1412 | E83: =ROUND(D83/$E$4,3) -> 8.489 | F83: 14 | G83: 59.42 | H83: =ROUND(G83*0.2359,2) -> 14.02 | I83: =G83+H83 -> 73.44
A84: =A83+1 -> 77 | B84: VP LATGALES RP ZIEMEĻLATGALES IECIRKŅA IZMEKLĒŠANAS NODAĻAS 7.GRUPA | C84: vecākais inspektors | D84: 1235 | E84: =ROUND(D84/$E$4,3) -> 7.425 | F84: 38 | G84: 141.08 | H84: =ROUND(G84*0.2359,2) -> 33.28 | I84: =G84+H84 -> 174.36
A85: =A84+1 -> 78 | B85: VP LATGALES RP DIENVIDLATGALES IECIRKŅA IZMEKLĒŠANAS NODAĻAS 6.GRUPA | C85: vecākais inspektors | D85: 1255 | E85: =ROUND(D85/$E$4,3) -> 7.545 | F85: 8 | G85: 30.18 | H85: =ROUND(G85*0.2359,2) -> 7.12 | I85: =G85+H85 -> 37.3
A86: =A85+1 -> 79 | B86: VP LATGALES RP DIENVIDLATGALES IECIRKŅA IZMEKLĒŠANAS NODAĻAS 9.GRUPA | C86: inspektors | D86: 1243 | E86: =ROUND(D86/$E$4,3) -> 7.473 | F86: 8 | G86: 29.89 | H86: =ROUND(G86*0.2359,2) -> 7.05 | I86: =G86+H86 -> 36.94
A87: =A86+1 -> 80 | B87: VP LATGALES RP KĀRTPB ATĻAUJU SISTĒMAS GRUPA | C87: vecākais inspektors | D87: 1360 | E87: =ROUND(D87/$E$4,3) -> 8.177 | F87: 24 | G87: 98.12 | H87: =ROUND(G87*0.2359,2) -> 23.15 | I87: =G87+H87 -> 121.27
A88: =A87+1 -> 81 | B88: VP LATGALES RP ZIEMEĻLATGALES IECIRKŅA IZMEKLĒŠANAS NODAĻAS 1.GRUPA | C88: inspektors | D88: 1412 | E88: =ROUND(D88/$E$4,3) -> 8.489 | F88: 30 | G88: 127.34 | H88: =ROUND(G88*0.2359,2) -> 30.04 | I88: =G88+H88 -> 157.38
A89: =A88+1 -> 82 | B89: VP LATGALES RP DIENVIDLATGALES IECIRKŅA REAĢĒŠANAS NODAĻAS 8.GRUPA | C89: inspektors | D89: 1220 | E89: =ROUND(D89/$E$4,3) -> 7.335 | F89: 40 | G89: 146.7 | H89: =ROUND(G89*0.2359,2) -> 34.61 | I89: =G89+H89 -> 181.31
A90: =A89+1 -> 83 | B90: VP LATGALES RP DIENVIDLATGALES IECIRKŅA IZMEKLĒŠANAS NODAĻAS 5.GRUPA | C90: vecākais inspektors | D90: 1444 | E90: =ROUND(D90/$E$4,3) -> 8.682 | F90: 8 | G90: 34.73 | H90: =ROUND(G90*0.2359,2) -> 8.19 | I90: =G90+H90 -> 42.92
A91: =A90+1 -> 84 | B91: VP LATGALES RP KRIMPB ORGANIZĒTĀS NOZIEDZĪBAS SMAGO UN SĒRIJVEIDA NOZIEGUMU APKAROŠANAS NODAĻA | C91: inspektors | D91: 1367 | E91: =ROUND(D91/$E$4,3) -> 8.219 | F91: 16 | G91: 65.75 | H91: =ROUND(G91*0.2359,2) -> 15.51 | I91: =G91+H91 -> 81.26
A92: =A91+1 -> 85 | B92: VP LATGALES RP DIENVIDLATGALES IECIRKŅA REAĢĒŠANAS NODAĻAS 10.GRUPA | C92: vecākais inspektors | D92: 1255 | E92: =ROUND(D92/$E$4,3) -> 7.545 | F92: 8 | G92: 30.18 | H92: =ROUND(G92*0.2359,2) -> 7.12 | I92: =G92+H92 -> 37.3
A93: =A92+1 -> 86 | B93: VP LATGALES RP DIENVIDLATGALES IECIRKNIS | C93: iecirkņa priekšnieka vietnieks, Izmeklēšanas nodaļas priekšnieks | D93: 1937 | E93: =ROUND(D93/$E$4,3) -> 11.646 | F93: 16 | G93: 93.17 | H93: =ROUND(G93*0.2359,2)-0.01 -> 21.97 | I93: =G93+H93 -> 115.14
A94: =A93+1 -> 87 | B94: VP LATGALES RP ZIEMEĻLATGALES IECIRKŅA IZMEKLĒŠANAS NODAĻAS 7.GRUPA | C94: inspektors | D94: 1263 | E94: =ROUND(D94/$E$4,3) -> 7.593 | F94: 16 | G94: 60.74 | H94: =ROUND(G94*0.2359,2) -> 14.33 | I94: =G94+H94 -> 75.07
A95: =A94+1 -> 88 | B95: VP LATGALES RP ZIEMEĻLATGALES IECIRKŅA PREVENCIJAS GRUPA | C95: inspektors | D95: 1243 | E95: =ROUND(D95/$E$4,3) -> 7.473 | F95: 16 | G95: 59.78 | H95: =ROUND(G95*0.2359,2) -> 14.1 | I95: =G95+H95 -> 73.88
A96: =A95+1 -> 89 | B96: VP LATGALES RP ZIEMEĻLATGALES IECIRKŅA IZMEKLĒŠANAS NODAĻAS 2.GRUPA | C96: inspektors | D96: 1438 | E96: =ROUND(D96/$E$4,3) -> 8.645 | F96: 8 | G96: 34.58 | H96: =ROUND(G96*0.2359,2) -> 8.16 | I96: =G96+H96 -> 42.74
A97: =A96+1 -> 90 | B97: VP LATGALES RP DIENVIDLATGALES IECIRKŅA REAĢĒŠANAS NODAĻAS 1.GRUPA | C97: inspektors | D97: 1220 | E97: =ROUND(D97/$E$4,3) -> 7.335 | F97: 24 | G97: 88.02 | H97: =ROUND(G97*0.2359,2) -> 20.76 | I97: =G97+H97 -> 108.78
A98: =A97+1 -> 91 | B98: VP LATGALES RP ZIEMEĻLATGALES IECIRKŅA REAĢĒŠANAS NODAĻAS 7.GRUPA | C98: inspektors | D98: 1263 | E98: =ROUND(D98/$E$4,3) -> 7.593 | F98: 8 | G98: 30.37 | H98: =ROUND(G98*0.2359,2) -> 7.16 | I98: =G98+H98 -> 37.53
A99: =A98+1 -> 92 | B99: VP LATGALES RP KĀRTPB SŪDZĪBU IZSKATĪŠANAS GRUPA | C99: vecākais inspektors | D99: 1268 | E99: =ROUND(D99/$E$4,3) -> 7.623 | F99: 14 | G99: 53.36 | H99: =ROUND(G99*0.2359,2) -> 12.59 | I99: =G99+H99 -> 65.95
A100: =A99+1 -> 93 | B100: VP LATGALES RP DIENVIDLATGALES IECIRKNIS | C100: iecirkņa priekšnieka vietnieks, Reaģēšanas nodaļas priekšnieks | D100: 1883 | E100: =ROUND(D100/$E$4,3) -> 11.321 | F100: 34 | G100: 192.46 | H100: =ROUND(G100*0.2359,2) -> 45.4 | I100: =G100+H100 -> 237.86
A101: =A100+1 -> 94 | B101: VP LATGALES RP DIENVIDLATGALES IECIRKŅA REAĢĒŠANAS NODAĻAS 6.GRUPA | C101: galvenais inspektors | D101: 1272 | E101: =ROUND(D101/$E$4,3) -> 7.647 | F101: 8 | G101: 30.59 | H101: =ROUND(G101*0.2359,2) -> 7.22 | I101: =G101+H101 -> 37.81
A102: =A101+1 -> 95 | B102: VP LATGALES RP DIENVIDLATGALES IECIRKŅA REAĢĒŠANAS NODAĻAS 6.GRUPA | C102: jaunākais inspektors | D102: 1063 | E102: =ROUND(D102/$E$4,3) -> 6.391 | F102: 14 | G102: 44.74 | H102: =ROUND(G102*0.2359,2) -> 10.55 | I102: =G102+H102 -> 55.29
A103: =A102+1 -> 96 | B103: VP LATGALES RP KĀRTPB SŪDZĪBU IZSKATĪŠANAS GRUPA | C103: galvenais inspektors | D103: 1279 | E103: =ROUND(D103/$E$4,3) -> 7.69 | F103: 32 | G103: 123.04 | H103: =ROUND(G103*0.2359,2) -> 29.03 | I103: =G103+H103 -> 152.07
A104: =A103+1 -> 97 | B104: VP LATGALES RP DIENVIDLATGALES IECIRKŅA REAĢĒŠANAS NODAĻAS 10.GRUPA | C104: galvenais inspektors | D104: 1838 | E104: =ROUND(D104/$E$4,3) -> 11.05 | F104: 32 | G104: 176.8 | H104: =ROUND(G104*0.2359,2) -> 41.71 | I104: =G104+H104 -> 218.51
A105: =A104+1 -> 98 | B105: VP LATGALES RP KRIMPB ORGANIZĒTĀS NOZIEDZĪBAS SMAGO UN SĒRIJVEIDA NOZIEGUMU APKAROŠANAS NODAĻA | C105: galvenais inspektors | D105: 1614 | E105: =ROUND(D105/$E$4,3) -> 9.704 | F105: 8 | G105: 38.82 | H105: =ROUND(G105*0.2359,2) -> 9.16 | I105: =G105+H105 -> 47.98
...

Sheet 2.tabula
I1: 2. pielikuma 2.tabula
A2: Valsts policija
A3: Piemaksa par nakts darbu amatpersonām ar speciālajām dienesta pakāpēm, kuras laika periodā no 2023.gada 1.maijam līdz 31.maijam tika iesaistītas atbalsta sniegšanā Valsts robežsardzei Latvijas Republikas-Baltkrievijas Republikas valsts robežas robežuzraudzības nodrošināšanā
E4: 167
A5: Nr. p.k. | B5: Struktūrvienība | C5: Amats | D5: Mēnešalga amatpersonām ar speciālajām pakāpēm | E5: Stundas likme | F5: Stundu skaits | G5: Piemaksa par nakts darbu | H5: DD VSAOI | I5: Atlīdzība
A6: kopā | F6: =SUM(F8:F8) -> 8 | G6: =SUM(G8:G8) -> 29.22 | H6: =SUM(H8:H8) -> 6.89 | I6: =SUM(I8:I8) -> 36.11
B7: LATGALES REĢIONA PĀRVALDE
A8: 1 | B8: VP LATGALES RP DIENVIDLATGALES IECIRKŅA REAĢĒŠANAS NODAĻAS 4.GRUPA | C8: inspektors* | D8: 1220 | E8: =ROUND(D8/$E$4,2) -> 7.31 | F8: 8 | G8: 29.22 | H8: =ROUND(G8*0.2359,2) -> 6.89 | I8: =G8+H8 -> 36.11
B10: * korekcija par maiju

Sheet 3.tabula
I1: 2. pielikuma 3.tabula
A2: Valsts policija
A3: Detalizēts aprēķins piemaksai par darbu svētku dienās amatpersonām ar speciālo dienesta pakāpi, sniedzot atbalstu Valsts robežsardzei Latvijas Republikas-Baltkrievijas Republikas valsts robežas nelikumīgas šķērsošanas nodrošināšanā, par laika periodu no 2023.gada 1.jūnija līdz 30.jūnijam (par 23.06 un 24.06.)
E4: 166.33
A5: Nr. p.k. | B5: Struktūrvienība | C5: Amats | D5: Mēnešalga amatpersonām ar speciālajām pakāpēm | E5: Stundas likme | F5: Stundu skaits | G5: Piemaksa par darbu svētku dienās | H5: DD VSAOI | I5: Atlīdzība
A6: kopā | F6: =SUM(F7:F79) -> 1011.75 | G6: =SUM(G7:G79) -> 8110.11 | H6: =SUM(H7:H79) -> 1911.84 | I6: =SUM(I7:I79) -> 10021.95
B7: LATGALES REĢIONA PĀRVALDE
A8: 1 | B8: VP LATGALES RP ZIEMEĻLATGALES IECIRKNIS | C8: iecirkņa priekšnieka vietnieks, Reaģēšanas nodaļas priekšnieks | D8: 1937 | E8: =ROUND(D8/$E$4,3) -> 11.646 | F8: 14 | G8: 163.04 | H8: =ROUND(G8*0.2359,2) -> 38.46 | I8: =G8+H8 -> 201.5
A9: 2 | B9: VP LATGALES RP ZIEMEĻLATGALES IECIRKŅA IZMEKLĒŠANAS NODAĻAS 2.GRUPA | C9: inspektors | D9: 1387 | E9: =ROUND(D9/$E$4,3) -> 8.339 | F9: 16.5 | G9: 137.59 | H9: =ROUND(G9*0.2359,2) -> 32.46 | I9: =G9+H9 -> 170.05
A10: 3 | B10: VP LATGALES RP ZIEMEĻLATGALES IECIRKŅA IZMEKLĒŠANAS NODAĻAS 3.GRUPA | C10: inspektors | D10: 1392 | E10: =ROUND(D10/$E$4,3) -> 8.369 | F10: 10 | G10: 83.69 | H10: =ROUND(G10*0.2359,2) -> 19.74 | I10: =G10+H10 -> 103.43
A11: 4 | B11: VP LATGALES REĢIONA PĀRVALDES DISCIPLINĀRĀS UZRAUDZĪBAS GRUPA | C11: galvenais inspektors | D11: 1486 | E11: =ROUND(D11/$E$4,3) -> 8.934 | F11: 15 | G11: 134.01 | H11: =ROUND(G11*0.2359,2) -> 31.61 | I11: =G11+H11 -> 165.62
A12: 5 | B12: VP LATGALES RP ZIEMEĻLATGALES IECIRKŅA REAĢĒŠANAS NODAĻAS 1.GRUPA | C12: vecākais inspektors | D12: 1255 | E12: =ROUND(D12/$E$4,3) -> 7.545 | F12: 15.5 | G12: 116.95 | H12: =ROUND(G12*0.2359,2) -> 27.59 | I12: =G12+H12 -> 144.54
A13: 6 | B13: VP LATGALES RP KRIMPB ORGANIZĒTĀS NOZIEDZĪBAS SMAGO UN SĒRIJVEIDA NOZIEGUMU APKAROŠANAS NODAĻA | C13: vecākais inspektors | D13: 1488 | E13: =ROUND(D13/$E$4,3) -> 8.946 | F13: 15 | G13: 134.19 | H13: =ROUND(G13*0.2359,2) -> 31.66 | I13: =G13+H13 -> 165.85
A14: 7 | B14: VP LATGALES RP ZIEMEĻLATGALES IECIRKŅA REAĢĒŠANAS NODAĻAS 1.GRUPA | C14: galvenais inspektors | D14: 1268 | E14: =ROUND(D14/$E$4,3) -> 7.623 | F14: 15.5 | G14: 118.16 | H14: =ROUND(G14*0.2359,2) -> 27.87 | I14: =G14+H14 -> 146.03
A15: 8 | B15: VP LATGALES RP ZIEMEĻLATGALES IECIRKŅA REAĢĒŠANAS NODAĻAS 1.GRUPA | C15: vecākais inspektors | D15: 1235 | E15: =ROUND(D15/$E$4,3) -> 7.425 | F15: 14 | G15: 103.95 | H15: =ROUND(G15*0.2359,2) -> 24.52 | I15: =G15+H15 -> 128.47
A16: 9 | B16: VP LATGALES RP ZIEMEĻLATGALES IECIRKŅA REAĢĒŠANAS NODAĻAS 4.GRUPA | C16: vecākais inspektors | D16: 1235 | E16: =ROUND(D16/$E$4,3) -> 7.425 | F16: 15.5 | G16: 115.09 | H16: =ROUND(G16*0.2359,2) -> 27.15 | I16: =G16+H16 -> 142.24
A17: 10 | B17: VP LATGALES RP DIENVIDLATGALES IECIRKŅA IZMEKLĒŠANAS NODAĻAS 8.GRUPA | C17: vecākais inspektors | D17: 1255 | E17: =ROUND(D17/$E$4,3) -> 7.545 | F17: 9 | G17: 67.91 | H17: =ROUND(G17*0.2359,2) -> 16.02 | I17: =G17+H17 -> 83.93
A18: 11 | B18: VP LATGALES RP ZIEMEĻLATGALES IECIRKŅA IZMEKLĒŠANAS NODAĻAS 7.GRUPA | C18: vecākais inspektors | D18: 1255 | E18: =ROUND(D18/$E$4,3) -> 7.545 | F18: 15.5 | G18: 116.95 | H18: =ROUND(G18*0.2359,2) -> 27.59 | I18: =G18+H18 -> 144.54
A19: 12 | B19: VP LATGALES RP ZIEMEĻLATGALES IECIRKŅA REAĢĒŠANAS NODAĻAS 4.GRUPA | C19: jaunākais inspektors | D19: 1063 | E19: =ROUND(D19/$E$4,3) -> 6.391 | F19: 14 | G19: 89.47 | H19: =ROUND(G19*0.2359,2) -> 21.11 | I19: =G19+H19 -> 110.58
... A64: 57 | B64: VP LATGALES RP ZIEMEĻLATGALES IECIRKŅA PREVENCIJAS GRUPA | C64: inspektors | D64: 1183 | E64: =ROUND(D64/$E$4,3) -> 7.112 | F64: 10.75 | G64: 76.45 | H64: =ROUND(G64*0.2359,2) -> 18.03 | I64: =G64+H64 -> 94.48
B65: RĪGAS REĢIONA PĀRVALDE
A66: 58 | B66: VP RĪGAS RP KĀRTPP PPP SUB 4.ROTA (LATGALES REĢIONA) (BIJUŠ) | C66: jaunākais inspektors | D66: 1225 | E66: =ROUND(D66/$E$4,3) -> 7.365 | F66: 11 | G66: 81.02 | H66: =ROUND(G66*0.2359,2) -> 19.11 | I66: =G66+H66 -> 100.13
A67: =A66+1 -> 59 | B67: VP RĪGAS RP KĀRTPP PPP SUB 4.ROTA (LATGALES REĢIONA) (BIJUŠ) | C67: jaunākais inspektors | D67: 1225 | E67: =ROUND(D67/$E$4,3) -> 7.365 | F67: 16 | G67: 117.84 | H67: =ROUND(G67*0.2359,2) -> 27.8 | I67: =G67+H67 -> 145.64
A68: =A67+1 -> 60 | B68: VP RĪGAS RP KĀRTPP PPP SUB 4.ROTA (LATGALES REĢIONA) (BIJUŠ) | C68: rotas komandiera vietnieks | D68: 1475 | E68: =ROUND(D68/$E$4,3) -> 8.868 | F68: 16 | G68: 141.89 | H68: =ROUND(G68*0.2359,2) -> 33.47 | I68: =G68+H68 -> 175.36
A69: =A68+1 -> 61 | B69: VP RĪGAS RP KĀRTPP PPP SUB 4.ROTA (LATGALES REĢIONA) (BIJUŠ) | C69: jaunākais inspektors | D69: 1245 | E69: =ROUND(D69/$E$4,3) -> 7.485 | F69: 11 | G69: 82.34 | H69: =ROUND(G69*0.2359,2) -> 19.42 | I69: =G69+H69 -> 101.76
A70: =A69+1 -> 62 | B70: VP RĪGAS RP KĀRTPP PPP SUB 4.ROTA (LATGALES REĢIONA) (BIJUŠ) | C70: jaunākais inspektors | D70: 1245 | E70: =ROUND(D70/$E$4,3) -> 7.485 | F70: 11 | G70: 82.34 | H70: =ROUND(G70*0.2359,2) -> 19.42 | I70: =G70+H70 -> 101.76
A71: =A70+1 -> 63 | B71: VP RĪGAS RP KĀRTPP PPP SUB 4.ROTA (LATGALES REĢIONA) (BIJUŠ) | C71: jaunākais inspektors | D71: 1205 | E71: =ROUND(D71/$E$4,3) -> 7.245 | F71: 16 | G71: 115.92 | H71: =ROUND(G71*0.2359,2) -> 27.35 | I71: =G71+H71 -> 143.27
A72: =A71+1 -> 64 | B72: VP RĪGAS RP KĀRTPP PPP SUB 4.ROTA (LATGALES REĢIONA) (BIJUŠ) | C72: jaunākais inspektors | D72: 1225 | E72: =ROUND(D72/$E$4,3) -> 7.365 | F72: 27 | G72: 198.86 | H72: =ROUND(G72*0.2359,2) -> 46.91 | I72: =G72+H72 -> 245.77
A73: =A72+1 -> 65 | B73: VP RĪGAS RP KĀRTPP PPP SUB 4.ROTA (LATGALES REĢIONA) (BIJUŠ) | C73: jaunākais inspektors | D73: 1205 | E73: =ROUND(D73/$E$4,3) -> 7.245 | F73: 27 | G73: 195.62 | H73: =ROUND(G73*0.2359,2) -> 46.15 | I73: =G73+H73 -> 241.77
A74: =A73+1 -> 66 | B74: VP RĪGAS RP KĀRTPP PPP SUB 4.ROTA (LATGALES REĢIONA) (BIJUŠ) | C74: jaunākais inspektors | D74: 1245 | E74: =ROUND(D74/$E$4,3) -> 7.485 | F74: 16 | G74: 119.76 | H74: =ROUND(G74*0.2359,2) -> 28.25 | I74: =G74+H74 -> 148.01
A75: =A74+1 -> 67 | B75: VP RĪGAS RP KĀRTPP PPP SUB 4.ROTA (LATGALES REĢIONA) (BIJUŠ) | C75: jaunākais inspektors | D75: 1205 | E75: =ROUND(D75/$E$4,3) -> 7.245 | F75: 16 | G75: 115.92 | H75: =ROUND(G75*0.2359,2) -> 27.35 | I75: =G75+H75 -> 143.27
A76: =A75+1 -> 68 | B76: VP RĪGAS RP KĀRTPP PPP SUB 4.ROTA (LATGALES REĢIONA) (BIJUŠ) | C76: jaunākais inspektors | D76: 1185 | E76: =ROUND(D76/$E$4,3) -> 7.124 | F76: 27 | G76: 192.35 | H76: =ROUND(G76*0.2359,2) -> 45.38 | I76: =G76+H76 -> 237.73
A77: =A76+1 -> 69 | B77: VP RĪGAS RP KĀRTPP PPP SUB 4.ROTA (LATGALES REĢIONA) (BIJUŠ) | C77: jaunākais inspektors | D77: 1185 | E77: =ROUND(D77/$E$4,3) -> 7.124 | F77: 27 | G77: 192.35 | H77: =ROUND(G77*0.2359,2) -> 45.38 | I77: =G77+H77 -> 237.73
A78: =A77+1 -> 70 | B78: VP RĪGAS RP KĀRTPP PPP SUB 4.ROTA (LATGALES REĢIONA) (BIJUŠ) | C78: jaunākais inspektors | D78: 1245 | E78: =ROUND(D78/$E$4,3) -> 7.485 | F78: 11 | G78: 82.34 | H78: 18.07 | I78: =G78+H78 -> 100.41 | J78: ***
A79: =A78+1 -> 71 | B79: VP RĪGAS RP KĀRTPP PPP SUB 4.ROTA (LATGALES REĢIONA) (BIJUŠ) | C79: jaunākais inspektors | D79: 1185 | E79: =ROUND(D79/$E$4,3) -> 7.124 | F79: 27 | G79: 192.35 | H79: =ROUND(G79*0.2359,2) -> 45.38 | I79: =G79+H79 -> 237.73
B81: ***- izdienas pensionārs

Sheet 4.tabula
J1: 2. pielikuma 4. tabula
A2: Valsts policija
A3: Piemaksa par darbu īpašos apstākļos amatpersonām ar speciālajām dienesta pakāpēm, kuras laika periodā no 2023.gada 1.jūnija līdz 30.jūnijam tika iesaistītas atbalsta sniegšanā Valsts robežsardzei Latvijas Republikas-Baltkrievijas Republikas valsts robežas robežuzraudzības nodrošināšanā
F4: 166.33
A5: Nr. p.k. | B5: Struktūrvienība | C5: Amats | D5: Mēnešalga amatpersonām ar speciālajām pakāpēm | E5: Piemaksas apmērs % | F5: Stundas likme | G5: Stundu skaits | H5: Piemaksa par darbu īpašos apstākļos | I5: DD VSAOI | J5: Atlīdzība
A6: kopā | G6: =SUM(G8:G423) -> 14105 | H6: =SUM(H8:H423) -> 23637.77 | I6: =SUM(I8:I423) -> 5566.46 | J6: =SUM(J8:J423) -> 29204.23
B7: LATGALES REĢIONA PĀRVALDE
A8: 1 | B8: VP LATGALES RP ZIEMEĻLATGALES IECIRKNIS | C8: iecirkņa priekšnieka vietnieks, Reaģēšanas nodaļas priekšnieks | D8: 1937 | E8: 20% | F8: =ROUND(D8/$F$4,3) -> 11.646 | G8: 36 | H8: 83.85 | I8: =ROUND(H8*23.59%,2) -> 19.78 | J8: =H8+I8 -> 103.63
A9: 2 | B9: VP LATGALES RP ZIEMEĻLATGALES IECIRKŅA IZMEKLĒŠANAS NODAĻAS 2.GRUPA | C9: inspektors | D9: 1387 | E9: 20% | F9: =ROUND(D9/$F$4,3) -> 8.339 | G9: 24 | H9: 40.03 | I9: =ROUND(H9*23.59%,2) -> 9.44 | J9: =H9+I9 -> 49.47
A10: 3 | B10: VP LATGALES RP DIENVIDLATGALES IECIRKŅA REAĢĒŠANAS NODAĻAS 3.GRUPA | C10: vecākais inspektors | D10: 1412 | E10: 20% | F10: =ROUND(D10/$F$4,3) -> 8.489 | G10: 29 | H10: 49.24 | I10: =ROUND(H10*23.59%,2) -> 11.62 | J10: =H10+I10 -> 60.86
A11: 4 | B11: VP LATGALES RP ZIEMEĻLATGALES IECIRKŅA IZMEKLĒŠANAS NODAĻAS 5.GRUPA | C11: galvenais inspektors | D11: 1774 | E11: 20% | F11: =ROUND(D11/$F$4,3) -> 10.666 | G11: 24 | H11: 51.2 | I11: =ROUND(H11*23.59%,2) -> 12.08 | J11: =H11+I11 -> 63.28
A12: 5 | B12: VP LATGALES RP DIENVIDLATGALES IECIRKŅA REAĢĒŠANAS NODAĻAS 7.GRUPA | C12: inspektors | D12: 1220 | E12: 20% | F12: =ROUND(D12/$F$4,3) -> 7.335 | G12: 26 | H12: 38.14 | I12: =ROUND(H12*23.59%,2) -> 9 | J12: =H12+I12 -> 47.14
A13: 6 | B13: VP LATGALES RP DIENVIDLATGALES IECIRKŅA REAĢĒŠANAS NODAĻAS 7.GRUPA | C13: jaunākais inspektors | D13: 1083 | E13: 20% | F13: =ROUND(D13/$F$4,3) -> 6.511 | G13: 26 | H13: 33.86 | I13: =ROUND(H13*23.59%,2)+0.01 -> 8 | J13: =H13+I13 -> 41.86
A14: 7 | B14: VP LATGALES RP DIENVIDLATGALES IECIRKŅA IZMEKLĒŠANAS NODAĻAS 5.GRUPA | C14: inspektors | D14: 1387 | E14: 20% | F14: =ROUND(D14/$F$4,3) -> 8.339 | G14: 21 | H14: 35.02 | I14: =ROUND(H14*23.59%,2) -> 8.26 | J14: =H14+I14 -> 43.28
A15: 8 | B15: VP LATGALES RP ZIEMEĻLATGALES IECIRKŅA PREVENCIJAS GRUPA | C15: vecākais inspektors | D15: 1279 | E15: 20% | F15: =ROUND(D15/$F$4,3) -> 7.69 | G15: 16 | H15: 24.61 | I15: =ROUND(H15*23.59%,2) -> 5.81 | J15: =H15+I15 -> 30.42
A16: 9 | B16: VP LATGALES RP DIENVIDLATGALES IECIRKŅA REAĢĒŠANAS NODAĻAS 4.GRUPA | C16: vecākais inspektors | D16: 1279 | E16: 20% | F16: =ROUND(D16/$F$4,3) -> 7.69 | G16: 12 | H16: 18.46 | I16: =ROUND(H16*23.59%,2) -> 4.35 | J16: =H16+I16 -> 22.81
A17: 10 | B17: VP LATGALES RP KĀRTPB ATĻAUJU SISTĒMAS GRUPA | C17: inspektors | D17: 1196 | E17: 20% | F17: =ROUND(D17/$F$4,3) -> 7.191 | G17: 24 | H17: 34.52 | I17: =ROUND(H17*23.59%,2) -> 8.14 | J17: =H17+I17 -> 42.66
A18: 11 | B18: VP LATGALES RP KRIMPB KRIMINĀLIZLŪKOŠANAS INFORMĀCIJAS ANALĪZES GRUPA | C18: vecākais inspektors | D18: 1468 | E18: 20% | F18: =ROUND(D18/$F$4,3) -> 8.826 | G18: 24 | H18: 42.36 | I18: =ROUND(H18*23.59%,2) -> 9.99 | J18: =H18+I18 -> 52.35
A19: 12 | B19: VP LATGALES RP DIENVIDLATGALES IECIRKŅA IZMEKLĒŠANAS NODAĻAS 7.GRUPA | C19: vecākais inspektors | D19: 1255 | E19: 20% | F19: =ROUND(D19/$F$4,3) -> 7.545 | G19: 38.5 | H19: 58.1 | I19: =ROUND(H19*23.59%,2) -> 13.71 | J19: =H19+I19 -> 71.81
A20: 13 | B20: VP LATGALES RP ZIEMEĻLATGALES IECIRKŅA IZMEKLĒŠANAS NODAĻAS 3.GRUPA | C20: vecākais inspektors | D20: 1438 | E20: 20% | F20: =ROUND(D20/$F$4,3) -> 8.645 | G20: 30.5 | H20: 52.73 | I20: =ROUND(H20*23.59%,2) -> 12.44 | J20: =H20+I20 -> 65.17
A21: 14 | B21: VP LATGALES RP ZIEMEĻLATGALES IECIRKŅA IZMEKLĒŠANAS NODAĻAS 3.GRUPA | C21: vecākais inspektors | D21: 1438 | E21: 50% | F21: =ROUND(D21/$F$4,3) -> 8.645 | G21: 2.5 | H21: 10.81 | I21: =ROUND(H21*23.59%,2) -> 2.55 | J21: =H21+I21 -> 13.36
A22: 15 | B22: VP LATGALES RP DIENVIDLATGALES IECIRKŅA REAĢĒŠANAS NODAĻAS 10.GRUPA | C22: vecākais inspektors | D22: 1255 | E22: 20% | F22: =ROUND(D22/$F$4,3) -> 7.545 | G22: 12 | H22: 18.11 | I22: =ROUND(H22*23.59%,2)+0.01 -> 4.28 | J22: =H22+I22 -> 22.39
A23: 16 | B23: VP LATGALES RP DIENVIDLATGALES IECIRKŅA REAĢĒŠANAS NODAĻAS 6.GRUPA | C23: jaunākais inspektors | D23: 1083 | E23: 20% | F23: =ROUND(D23/$F$4,3) -> 6.511 | G23: 13 | H23: 16.93 | I23: =ROUND(H23*23.59%,2) -> 3.99 | J23: =H23+I23 -> 20.92
A24: 17 | B24: VP LATGALES RP ZIEMEĻLATGALES IECIRKŅA IZMEKLĒŠANAS NODAĻAS 2.GRUPA | C24: galvenais inspektors | D24: 1937 | E24: 50% | F24: =ROUND(D24/$F$4,3) -> 11.646 | G24: 3.5 | H24: 20.38 | I24: =ROUND(H24*23.59%,2) -> 4.81 | J24: =H24+I24 -> 25.19
A25: 18 | B25: VP LATGALES RP ZIEMEĻLATGALES IECIRKŅA IZMEKLĒŠANAS NODAĻAS 2.GRUPA | C25: galvenais inspektors | D25: 1937 | E25: 20% | F25: =ROUND(D25/$F$4,3) -> 11.646 | G25: 48 | H25: 111.8 | I25: =ROUND(H25*23.59%,2) -> 26.37 | J25: =H25+I25 -> 138.17
A26: 19 | B26: VP LATGALES RP DIENVIDLATGALES IECIRKŅA IZMEKLĒŠANAS NODAĻAS 2.GRUPA | C26: galvenais inspektors | D26: 1468 | E26: 20% | F26: =ROUND(D26/$F$4,3) -> 8.826 | G26: 36 | H26: 63.55 | I26: =ROUND(H26*23.59%,2) -> 14.99 | J26: =H26+I26 -> 78.54
A27: 20 | B27: VP LATGALES RP ZIEMEĻLATGALES IECIRKŅA REAĢĒŠANAS NODAĻAS 10.GRUPA | C27: inspektors | D27: 1240 | E27: 20% | F27: =ROUND(D27/$F$4,3) -> 7.455 | G27: 23 | H27: 34.29 | I27: =ROUND(H27*23.59%,2) -> 8.09 | J27: =H27+I27 -> 42.38
A28: 21 | B28: VP LATGALES RP DIENVIDLATGALES IECIRKŅA REAĢĒŠANAS NODAĻAS 2.GRUPA | C28: vecākais inspektors | D28: 1255 | E28: 20% | F28: =ROUND(D28/$F$4,3) -> 7.545 | G28: 49.5 | H28: 74.7 | I28: =ROUND(H28*23.59%,2) -> 17.62 | J28: =H28+I28 -> 92.32
A29: 22 | B29: VP LATGALES RP DIENVIDLATGALES IECIRKŅA IZMEKLĒŠANAS NODAĻAS 1.GRUPA | C29: galvenais inspektors | D29: 1872 | E29: 20% | F29: =ROUND(D29/$F$4,3) -> 11.255 | G29: 38 | H29: 85.54 | I29: =ROUND(H29*23.59%,2) -> 20.18 | J29: =H29+I29 -> 105.72
A30: 23 | B30: VP LATGALES RP DIENVIDLATGALES IECIRKŅA IZMEKLĒŠANAS NODAĻAS 6.GRUPA | C30: galvenais inspektors | D30: 1448 | E30: 20% | F30: =ROUND(D30/$F$4,3) -> 8.706 | G30: 12 | H30: 20.89 | I30: =ROUND(H30*23.59%,2) -> 4.93 | J30: =H30+I30 -> 25.82
A31: 24 | B31: VP LATGALES RP DIENVIDLATGALES IECIRKŅA IZMEKLĒŠANAS NODAĻAS 6.GRUPA | C31: vecākais inspektors | D31: 1259 | E31: 20% | F31: =ROUND(D31/$F$4,3) -> 7.569 | G31: 25 | H31: 37.85 | I31: =ROUND(H31*23.59%,2) -> 8.93 | J31: =H31+I31 -> 46.78
A32: 25 | B32: VP LATGALES RP ZIEMEĻLATGALES IECIRKŅA IZMEKLĒŠANAS NODAĻAS 8.GRUPA | C32: inspektors | D32: 1903 | E32: 20% | F32: =ROUND(D32/$F$4,3) -> 11.441 | G32: 34 | H32: 77.8 | I32: =ROUND(H32*23.59%,2) -> 18.35 | J32: =H32+I32 -> 96.15
A33: 26 | B33: VP LATGALES RP ZIEMEĻLATGALES IECIRKŅA IZMEKLĒŠANAS NODAĻAS 4.GRUPA | C33: inspektors | D33: 1532 | E33: 20% | F33: =ROUND(D33/$F$4,3) -> 9.211 | G33: 15 | H33: 27.63 | I33: =ROUND(H33*23.59%,2) -> 6.52 | J33: =H33+I33 -> 34.15
A34: 27 | B34: VP LATGALES RP ZIEMEĻLATGALES IECIRKŅA REAĢĒŠANAS NODAĻAS 3.GRUPA | C34: inspektors | D34: 1296 | E34: 20% | F34: =ROUND(D34/$F$4,3) -> 7.792 | G34: 37 | H34: 57.66 | I34: =ROUND(H34*23.59%,2) -> 13.6 | J34: =H34+I34 -> 71.26
... A87: 80 | B87: VP LATGALES RP DIENVIDLATGALES IECIRKŅA IZMEKLĒŠANAS NODAĻAS 6.GRUPA | C87: inspektors | D87: 1243 | E87: 20% | F87: =ROUND(D87/$F$4,3) -> 7.473 | G87: 13 | H87: 19.43 | I87: =ROUND(H87*23.59%,2) -> 4.58 | J87: =H87+I87 -> 24.01
A88: 81 | B88: VP LATGALES RP DIENVIDLATGALES IECIRKŅA REAĢĒŠANAS NODAĻAS 4.GRUPA | C88: vecākais inspektors | D88: 1375 | E88: 20% | F88: =ROUND(D88/$F$4,3) -> 8.267 | G88: 50 | H88: 82.67 | I88: 18.14 | J88: =H88+I88 -> 100.81 | K88: ***
A89: 82 | B89: VP LATGALES RP ZIEMEĻLATGALES IECIRKŅA REAĢĒŠANAS NODAĻAS 2.GRUPA | C89: galvenais inspektors | D89: 1396 | E89: 20% | F89: =ROUND(D89/$F$4,3) -> 8.393 | G89: 24 | H89: 40.29 | I89: =ROUND(H89*23.59%,2) -> 9.5 | J89: =H89+I89 -> 49.79
A90: 83 | B90: VP LATGALES RP DIENVIDLATGALES IECIRKŅA PREVENCIJAS GRUPA | C90: vecākais inspektors | D90: 1239 | E90: 20% | F90: =ROUND(D90/$F$4,3) -> 7.449 | G90: 40 | H90: 59.59 | I90: =ROUND(H90*23.59%,2) -> 14.06 | J90: =H90+I90 -> 73.65
A91: 84 | B91: VP LATGALES RP ZIEMEĻLATGALES IECIRKŅA REAĢĒŠANAS NODAĻAS 4.GRUPA | C91: jaunākais inspektors | D91: 1063 | E91: 20% | F91: =ROUND(D91/$F$4,3) -> 6.391 | G91: 36.5 | H91: 46.65 | I91: =ROUND(H91*23.59%,2) -> 11 | J91: =H91+I91 -> 57.65
A92: 85 | B92: VP LATGALES RP KĀRTPB ATĻAUJU SISTĒMAS GRUPA | C92: inspektors | D92: 1176 | E92: 20% | F92: =ROUND(D92/$F$4,3) -> 7.07 | G92: 24 | H92: 33.94 | I92: =ROUND(H92*23.59%,2) -> 8.01 | J92: =H92+I92 -> 41.95
A93: 86 | B93: VP LATGALES RP DIENVIDLATGALES IECIRKŅA REAĢĒŠANAS NODAĻAS 10.GRUPA | C93: inspektors | D93: 1263 | E93: 20% | F93: =ROUND(D93/$F$4,3) -> 7.593 | G93: 24 | H93: 36.45 | I93: =ROUND(H93*23.59%,2) -> 8.6 | J93: =H93+I93 -> 45.05
A94: 87 | B94: VP LATGALES RP ZIEMEĻLATGALES IECIRKŅA IZMEKLĒŠANAS NODAĻAS 3.GRUPA | C94: galvenais inspektors | D94: 1655 | E94: 20% | F94: =ROUND(D94/$F$4,3) -> 9.95 | G94: 25 | H94: 49.75 | I94: =ROUND(H94*23.59%,2) -> 11.74 | J94: =H94+I94 -> 61.49
A95: 88 | B95: VP LATGALES RP ZIEMEĻLATGALES IECIRKŅA IZMEKLĒŠANAS NODAĻAS 8.GRUPA | C95: vecākais inspektors | D95: 1235 | E95: 20% | F95: =ROUND(D95/$F$4,3) -> 7.425 | G95: 4 | H95: 5.94 | I95: =ROUND(H95*23.59%,2) -> 1.4 | J95: =H95+I95 -> 7.34
A96: 89 | B96: VP LATGALES RP KĀRTPB RESURSU UN KRĪZES VADĪBAS NODAĻA | C96: operatīvais dežurants | D96: 1415 | E96: 20% | F96: =ROUND(D96/$F$4,3) -> 8.507 | G96: 13 | H96: 22.12 | I96: =ROUND(H96*23.59%,2) -> 5.22 | J96: =H96+I96 -> 27.34
A97: 90 | B97: VP LATGALES RP KRIMPB RĒZEKNES REĢIONĀLĀ NODAĻA | C97: vecākais inspektors | D97: 1535 | E97: 20% | F97: =ROUND(D97/$F$4,3) -> 9.229 | G97: 36 | H97: 66.45 | I97: =ROUND(H97*23.59%,2) -> 15.68 | J97: =H97+I97 -> 82.13
A98: 91 | B98: VP LATGALES RP DIENVIDLATGALES IECIRKŅA IZMEKLĒŠANAS NODAĻAS 1.GRUPA | C98: inspektors | D98: 1367 | E98: 20% | F98: =ROUND(D98/$F$4,3) -> 8.219 | G98: 24.5 | H98: 40.27 | I98: =ROUND(H98*23.59%,2) -> 9.5 | J98: =H98+I98 -> 49.77
A99: 92 | B99: VP LATGALES RP ZIEMEĻLATGALES IECIRKŅA REAĢĒŠANAS NODAĻAS 3.GRUPA | C99: inspektors | D99: 1220 | E99: 20% | F99: =ROUND(D99/$F$4,3) -> 7.335 | G99: 12.5 | H99: 18.34 | I99: =ROUND(H99*23.59%,2) -> 4.33 | J99: =H99+I99 -> 22.67
A100: 93 | B100: VP LATGALES RP DIENVIDLATGALES IECIRKŅA IZMEKLĒŠANAS NODAĻAS 6.GRUPA | C100: inspektors | D100: 1263 | E100: 20% | F100: =ROUND(D100/$F$4,3) -> 7.593 | G100: 12 | H100: 18.22 | I100: =ROUND(H100*23.59%,2) -> 4.3 | J100: =H100+I100 -> 22.52
... A177: 170 | B177: VP LATGALES RP ZIEMEĻLATGALES IECIRKŅA IZMEKLĒŠANAS NODAĻAS 1.GRUPA | C177: galvenais inspektors | D177: 1838 | E177: 20% | F177: =ROUND(D177/$F$4,3) -> 11.05 | G177: 12.5 | H177: 27.63 | I177: =ROUND(H177*23.59%,2) -> 6.52 | J177: =H177+I177 -> 34.15
A178: 171 | B178: VP LATGALES RP DIENVIDLATGALES IECIRKŅA IZMEKLĒŠANAS NODAĻAS 4.GRUPA | C178: vecākais inspektors | D178: 1584 | E178: 20% | F178: =ROUND(D178/$F$4,3) -> 9.523 | G178: 26 | H178: 49.52 | I178: 10.86 | J178: =H178+I178 -> 60.38 | K178: ***
A179: 172 | B179: VP LATGALES RP DIENVIDLATGALES IECIRKŅA IZMEKLĒŠANAS NODAĻAS 7.GRUPA | C179: vecākais inspektors | D179: 1235 | E179: 20% | F179: =ROUND(D179/$F$4,3) -> 7.425 | G179: 25 | H179: 37.13 | I179: =ROUND(H179*23.59%,2) -> 8.76 | J179: =H179+I179 -> 45.89
A180: 173 | B180: VP LATGALES RP DIENVIDLATGALES IECIRKŅA IZMEKLĒŠANAS NODAĻAS 7.GRUPA | C180: inspektors | D180: 1240 | E180: 20% | F180: =ROUND(D180/$F$4,3) -> 7.455 | G180: 24 | H180: 35.78 | I180: =ROUND(H180*23.59%,2) -> 8.44 | J180: =H180+I180 -> 44.22
A181: 174 | B181: VP LATGALES RP KRIMPB EKONOMISKO NOZIEGUMU APKAROŠANAS NODAĻA | C181: vecākais inspektors | D181: 1488 | E181: 20% | F181: =ROUND(D181/$F$4,3) -> 8.946 | G181: 24 | H181: 42.94 | I181: =ROUND(H181*23.59%,2) -> 10.13 | J181: =H181+I181 -> 53.07
A182: 175 | B182: VP LATGALES RP DIENVIDLATGALES IECIRKŅA IZMEKLĒŠANAS NODAĻAS 5.GRUPA | C182: vecākais inspektors | D182: 1464 | E182: 20% | F182: =ROUND(D182/$F$4,3) -> 8.802 | G182: 40 | H182: 70.42 | I182: =ROUND(H182*23.59%,2) -> 16.61 | J182: =H182+I182 -> 87.03
A183: 176 | B183: VP LATGALES RP ZIEMEĻLATGALES IECIRKŅA REAĢĒŠANAS NODAĻAS 7.GRUPA | C183: jaunākais inspektors | D183: 1083 | E183: 20% | F183: =ROUND(D183/$F$4,3) -> 6.511 | G183: 44 | H183: 57.3 | I183: =ROUND(H183*23.59%,2) -> 13.52 | J183: =H183+I183 -> 70.82
A184: 177 | B184: VP LATGALES RP KĀRTPB RESURSU UN KRĪZES VADĪBAS NODAĻA | C184: jaunākais inspektors | D184: 1123 | E184: 20% | F184: =ROUND(D184/$F$4,3) -> 6.752 | G184: 51.5 | H184: 69.55 | I184: =ROUND(H184*23.59%,2) -> 16.41 | J184: =H184+I184 -> 85.96
A185: 178 | B185: VP LATGALES RP KĀRTPB RESURSU UN KRĪZES VADĪBAS NODAĻA | C185: jaunākais inspektors | D185: 1123 | E185: 50% | F185: =ROUND(D185/$F$4,3) -> 6.752 | G185: 0.5 | H185: 1.69 | I185: =ROUND(H185*23.59%,2) -> 0.4 | J185: =H185+I185 -> 2.09
A186: 179 | B186: VP LATGALES RP DIENVIDLATGALES IECIRKŅA PREVENCIJAS GRUPA | C186: galvenais inspektors | D186: 1239 | E186: 20% | F186: =ROUND(D186/$F$4,3) -> 7.449 | G186: 38 | H186: 56.61 | I186: =ROUND(H186*23.59%,2) -> 13.35 | J186: =H186+I186 -> 69.96
A187: 180 | B187: VP LATGALES RP DIENVIDLATGALES IECIRKŅA IZMEKLĒŠANAS NODAĻAS 2.GRUPA | C187: inspektors | D187: 1412 | E187: 20% | F187: =ROUND(D187/$F$4,3) -> 8.489 | G187: 37.5 | H187: 63.67 | I187: =ROUND(H187*23.59%,2) -> 15.02 | J187: =H187+I187 -> 78.69
A188: 181 | B188: VP LATGALES RP ZIEMEĻLATGALES IECIRKŅA REAĢĒŠANAS NODAĻAS 5.GRUPA | C188: inspektors | D188: 1240 | E188: 20% | F188: =ROUND(D188/$F$4,3) -> 7.455 | G188: 25 | H188: 37.28 | I188: =ROUND(H188*23.59%,2) -> 8.79 | J188: =H188+I188 -> 46.07
A189: 182 | B189: VP LATGALES RP ZIEMEĻLATGALES IECIRKŅA IZMEKLĒŠANAS NODAĻAS 6.GRUPA | C189: vecākais inspektors | D189: 1464 | E189: 20% | F189: =ROUND(D189/$F$4,3) -> 8.802 | G189: 26 | H189: 45.77 | I189: =ROUND(H189*23.59%,2) -> 10.8 | J189: =H189+I189 -> 56.57
A190: 183 | B190: VP LATGALES RP ZIEMEĻLATGALES IECIRKŅA PREVENCIJAS GRUPA | C190: galvenais inspektors | D190: 1474 | E190: 20% | F190: =ROUND(D190/$F$4,3) -> 8.862 | G190: 36 | H190: 63.81 | I190: =ROUND(H190*23.59%,2) -> 15.05 | J190: =H190+I190 -> 78.86
... A394: 387 | B394: VP LATGALES RP ZIEMEĻLATGALES IECIRKŅA PREVENCIJAS GRUPA | C394: inspektors | D394: 1163 | E394: 20% | F394: =ROUND(D394/$F$4,3) -> 6.992 | G394: 38 | H394: 53.14 | I394: =ROUND(H394*23.59%,2) -> 12.54 | J394: =H394+I394 -> 65.68
B395: RĪGAS REĢIONA PĀRVALDE
A396: 388 | B396: VP RĪGAS RP KĀRTPP PPP SUB 4.ROTA (LATGALES REĢIONA) (BIJUŠ) | C396: jaunākais inspektors | D396: 1225 | E396: 20% | F396: =ROUND(D396/$F$4,3) -> 7.365 | G396: 197 | H396: 290.18 | I396: =ROUND(H396*23.59%,2) -> 68.45 | J396: =H396+I396 -> 358.63
A397: =A396+1 -> 389 | B397: VP RĪGAS RP KĀRTPP PPP SUB 4.ROTA (LATGALES REĢIONA) (BIJUŠ) | C397: jaunākais inspektors | D397: 1225 | E397: 50% | F397: =ROUND(D397/$F$4,3) -> 7.365 | G397: 43 | H397: 158.35 | I397: =ROUND(H397*23.59%,2) -> 37.35 | J397: =H397+I397 -> 195.7
A398: =A397+1 -> 390 | B398: VP RĪGAS RP KĀRTPP PPP SUB 4.ROTA (LATGALES REĢIONA) (BIJUŠ) | C398: jaunākais inspektors | D398: 1225 | E398: 20% | F398: =ROUND(D398/$F$4,3) -> 7.365 | G398: 179 | H398: 263.67 | I398: =ROUND(H398*23.59%,2) -> 62.2 | J398: =H398+I398 -> 325.87
A399: =A398+1 -> 391 | B399: VP RĪGAS RP KĀRTPP PPP SUB 4.ROTA (LATGALES REĢIONA) (BIJUŠ) | C399: jaunākais inspektors | D399: 1225 | E399: 50% | F399: =ROUND(D399/$F$4,3) -> 7.365 | G399: 61 | H399: 224.63 | I399: =ROUND(H399*23.59%,2) -> 52.99 | J399: =H399+I399 -> 277.62
A400: =A399+1 -> 392 | B400: VP RĪGAS RP KĀRTPP PPP SUB 4.ROTA (LATGALES REĢIONA) (BIJUŠ) | C400: rotas komandiera vietnieks | D400: 1475 | E400: 50% | F400: =ROUND(D400/$F$4,3) -> 8.868 | G400: 47 | H400: 208.4 | I400: =ROUND(H400*23.59%,2) -> 49.16 | J400: =H400+I400 -> 257.56
A401: =A400+1 -> 393 | B401: VP RĪGAS RP KĀRTPP PPP SUB 4.ROTA (LATGALES REĢIONA) (BIJUŠ) | C401: rotas komandiera vietnieks | D401: 1475 | E401: 20% | F401: =ROUND(D401/$F$4,3) -> 8.868 | G401: 145 | H401: 257.17 | I401: =ROUND(H401*23.59%,2) -> 60.67 | J401: =H401+I401 -> 317.84
A402: =A401+1 -> 394 | B402: VP RĪGAS RP KĀRTPP PPP SUB 4.ROTA (LATGALES REĢIONA) (BIJUŠ) | C402: jaunākais inspektors | D402: 1245 | E402: 20% | F402: =ROUND(D402/$F$4,3) -> 7.485 | G402: 197 | H402: 294.91 | I402: =ROUND(H402*23.59%,2) -> 69.57 | J402: =H402+I402 -> 364.48
A403: =A402+1 -> 395 | B403: VP RĪGAS RP KĀRTPP PPP SUB 4.ROTA (LATGALES REĢIONA) (BIJUŠ) | C403: jaunākais inspektors | D403: 1245 | E403: 50% | F403: =ROUND(D403/$F$4,3) -> 7.485 | G403: 43 | H403: 160.93 | I403: =ROUND(H403*23.59%,2) -> 37.96 | J403: =H403+I403 -> 198.89
A404: =A403+1 -> 396 | B404: VP RĪGAS RP KĀRTPP PPP SUB 4.ROTA (LATGALES REĢIONA) (BIJUŠ) | C404: jaunākais inspektors | D404: 1245 | E404: 20% | F404: =ROUND(D404/$F$4,3) -> 7.485 | G404: 194 | H404: 290.42 | I404: =ROUND(H404*23.59%,2) -> 68.51 | J404: =H404+I404 -> 358.93
A405: =A404+1 -> 397 | B405: VP RĪGAS RP KĀRTPP PPP SUB 4.ROTA (LATGALES REĢIONA) (BIJUŠ) | C405: jaunākais inspektors | D405: 1245 | E405: 50% | F405: =ROUND(D405/$F$4,3) -> 7.485 | G405: 46 | H405: 172.16 | I405: =ROUND(H405*23.59%,2) -> 40.61 | J405: =H405+I405 -> 212.77
A406: =A405+1 -> 398 | B406: VP RĪGAS RP KĀRTPP PPP SUB 4.ROTA (LATGALES REĢIONA) (BIJUŠ) | C406: jaunākais inspektors | D406: 1205 | E406: 20% | F406: =ROUND(D406/$F$4,3) -> 7.245 | G406: 179 | H406: 259.37 | I406: =ROUND(H406*23.59%,2) -> 61.19 | J406: =H406+I406 -> 320.56
A407: =A406+1 -> 399 | B407: VP RĪGAS RP KĀRTPP PPP SUB 4.ROTA (LATGALES REĢIONA) (BIJUŠ) | C407: jaunākais inspektors | D407: 1205 | E407: 50% | F407: =ROUND(D407/$F$4,3) -> 7.245 | G407: 61 | H407: 220.97 | I407: =ROUND(H407*23.59%,2) -> 52.13 | J407: =H407+I407 -> 273.1
A408: =A407+1 -> 400 | B408: VP RĪGAS RP KĀRTPP PPP SUB 4.ROTA (LATGALES REĢIONA) (BIJUŠ) | C408: jaunākais inspektors | D408: 1225 | E408: 20% | F408: =ROUND(D408/$F$4,3) -> 7.365 | G408: 152 | H408: 223.9 | I408: =ROUND(H408*23.59%,2) -> 52.82 | J408: =H408+I408 -> 276.72
... A419: =A418+1 -> 411 | B419: VP RĪGAS RP KĀRTPP PPP SUB 4.ROTA (LATGALES REĢIONA) (BIJUŠ) | C419: jaunākais inspektors | D419: 1185 | E419: 50% | F419: =ROUND(D419/$F$4,3) -> 7.124 | G419: 68 | H419: 242.22 | I419: =ROUND(H419*23.59%,2) -> 57.14 | J419: =H419+I419 -> 299.36
A420: =A419+1 -> 412 | B420: VP RĪGAS RP KĀRTPP PPP SUB 4.ROTA (LATGALES REĢIONA) (BIJUŠ) | C420: jaunākais inspektors | D420: 1245 | E420: 50% | F420: =ROUND(D420/$F$4,3) -> 7.485 | G420: 43 | H420: 160.93 | I420: 35.31 | J420: =H420+I420 -> 196.24 | K420: ***
A421: =A420+1 -> 413 | B421: VP RĪGAS RP KĀRTPP PPP SUB 4.ROTA (LATGALES REĢIONA) (BIJUŠ) | C421: jaunākais inspektors | D421: 1245 | E421: 20% | F421: =ROUND(D421/$F$4,3) -> 7.485 | G421: 197 | H421: 294.91 | I421: 64.7 | J421: =H421+I421 -> 359.61 | K421: ***
A422: =A421+1 -> 414 | B422: VP RĪGAS RP KĀRTPP PPP SUB 4.ROTA (LATGALES REĢIONA) (BIJUŠ) | C422: jaunākais inspektors | D422: 1185 | E422: 50% | F422: =ROUND(D422/$F$4,3) -> 7.124 | G422: 68 | H422: 242.22 | I422: =ROUND(H422*23.59%,2) -> 57.14 | J422: =H422+I422 -> 299.36
A423: =A422+1 -> 415 | B423: VP RĪGAS RP KĀRTPP PPP SUB 4.ROTA (LATGALES REĢIONA) (BIJUŠ) | C423: jaunākais inspektors | D423: 1185 | E423: 20% | F423: =ROUND(D423/$F$4,3) -> 7.124 | G423: 172 | H423: 245.07 | I423: =ROUND(H423*23.59%,2) -> 57.81 | J423: =H423+I423 -> 302.88
B425: *** - izdienas pensija

Sheet 5.tabula
F1: 2. pielikuma 5. tabula
A2: Valsts policija
A3: Degvielas izmaksu aprēķins degvielas izdevumiem sniedzot atbalstu Valsts robežsardzei Latvijas Republikas-Baltkrievijas Republikas valsts robežas nelikumīgas šķērsošanas nodrošināšanā par laika periodu 2023.gada 1.jūnija līdz 30.jūnijam
A5: Nr.p.k. | B5: Transportlīdzekļa marka | C5: Iesaistīto transportlīdzekļu skaits | D5: Faktiskais nobraukums pasākumā (km) | E5: Pasākuma laikā patērētā degviela (l) | F5: Summa euro
A6: Kopā: | C6: =ROUNDUP(SUM(C8:C29),2) -> 82 | D6: =ROUNDUP(SUM(D8:D29),2) -> 82159 | E6: =ROUNDUP(SUM(E8:E29),2) -> 6047.06 | F6: =ROUNDUP(SUM(F8:F29),2) -> 7782.23
A7: Rīgas reģiona pārvalde
A11: Latgales reģiona pārvalde
A12: 1 | B12: Hyundai Santa Fe | C12: 2 | D12: 608 | E12: 55.98 | F12: 72.22
A13: 2 | B13: Fiat 500xCross | C13: 1 | D13: 691 | E13: 47.68 | F13: 61.51
A14: 3 | B14: KIA Ceed | C14: 8 | D14: 2531 | E14: 158.82 | F14: 209.64
A15: 4 | B15: Opel Mokka | C15: 36 | D15: 41766 | E15: 2837.9 | F15: 3614.88
A16: 5 | B16: Opel Insignia | C16: 1 | D16: 917 | E16: 58.69 | F16: 75.71
A17: 6 | B17: Opel Insignia Limousine | C17: 7 | D17: 1981 | E17: 119.49 | F17: 154.15
A18: 7 | B18: Opel Combo | C18: 1 | D18: 3255 | E18: 234.36 | F18: 302.33
A19: 8 | B19: Peugeot Boxer | C19: 2 | D19: 2529 | E19: 232.19 | F19: 299.53
A20: 9 | B20: Renault Kangoo | C20: 8 | D20: 9021 | E20: 653.77 | F20: 843.35
A21: 10 | B21: Renault Laguna | C21: 4 | D21: 5308 | E21: 424.04 | F21: 547.02
A22: 11 | B22: Renault Trafic | C22: 3 | D22: 2777 | E22: 252.03 | F22: 325.12
A23: 12 | B23: Škoda Octavia | C23: 1 | D23: 470 | E23: 28.2 | F23: 36.38
... A29: 18 | B29: Volvo S60 | C29: 1 | D29: 565 | E29: 59.33 | F29: 84.25
