Workbook

Sheet KOPSAVILKUMS
D1: 2. pielikums
D2: Ministru kabineta rīkojuma projekta
D3: “Par finanšu līdzekļu piešķiršanu no valsts budžeta programmas
D4: “Līdzekļi neparedzētiem gadījumiem””
D5: sākotnējās ietekmes novērtējuma ziņojumam (anotācijai)
A7: Valsts policijas izdevumi saistībā ar situāciju uz Latvijas Republikas - Baltkrievijas Republikas valsts robežas no 2023. gada 1. jūnija līdz 30. jūnijam, kā arī no 2023. gada 1. maija līdz 31. maijam (precizējums)
A8: Kopsavilkums
A10: Kods | B10: Koda nosaukums | C10: Detalizēts izdevumu aprēķins | D10: Izdevumi, euro
A11: Izdevumi kopā ar vidējās izpeļņas pieauguma kompensēšanu | D11: =D12+D15+D16 -> 81823
A12: 1000 | B12: Atlīdzība | C12: × | D12: =ROUNDUP(D13+D14,0) -> 66264
A13: 1100 | B13: Atalgojums | C13: × | D13: =D45+D20 -> 53629.57
A14: 1210 | B14: Darba devēja valsts sociālās apdrošināšanas obligātās iemaksas | C14: × | D14: =D47+D29 -> 12634.02
A15: 2000 | B15: Preces un pakalpojumi | C15: × | D15: =D48+D30 -> 15559
A16: 5000 | B16: Pamatkapitāla veidošana | D16: =D40 -> 0
A18: 1) Izdevumi saistībā ar rīkojuma Nr. 518 izpildei nepieciešamo pasākumu īstenošanu | D18: =D19+D30+D40 -> 76258
A19: 1000 | B19: Atlīdzība | C19: × | D19: =ROUNDUP(D20+D29,0) -> 61167
A20: 1100 | B20: Atalgojums | C20: × | D20: =SUM(D21:D28) -> 49505.57
A21: 1116 | B21: Mēnešalga amatpersonām ar speciālajām dienesta pakāpēm
A22: 1141 | B22: Piemaksa par nakts darbu
C23: 1) Detalizēts aprēķins par laika periodu no 2023.gada 1.jūnija līdz 30.jūnijam 1.tabulā. Iesaistīta 251 persona, kopējais iesaistes laiks 4 494 stundas. 2) Detalizēts aprēķins par laika periodu no 2023.gada 1.maija līdz 30.maijam 2.tabulā. Precizēts aprēķins 1 personai par maiju: kopējais korekcijas laiks 8 stundas. | D23: ='1.tabula'!G6+'2.tabula'!G6 -> 17757.69
A24: 1142 | B24: Samaksa par virsstundu darbu un darbu svētku dienās
C25: Piemaksa par darbu svētku dienās (23.06. un 24.06.) Detalizēts aprēķins par laika periodu no 2023.gada 1.jūnija līdz 30.jūnijam 3.tabulā. Iesaistīta 71 persona, kopējais iesaistes laiks 1 011,75 stundas. | D25: ='3.tabula'!G6 -> 8110.11
A26: 1145 | B26: Piemaksa par darbu īpašos apstākļos, speciālās piemaksas | C26: Detalizēts aprēķins par laika periodu no 2023.gada 1.jūnija līdz 30.jūnijam 4.tabulā. Iesaistītas 415 personas, kopējais iesaistes laiks 14 105 stundas. | D26: ='4.tabula'!H6 -> 23637.77
A28: 1146 | B28: Piemaksa par personisko darba ieguldījumu un darba kvalitāti
A29: 1210 | B29: Darba devēja valsts sociālās apdrošināšanas obligātās iemaksas | C29: 23,59% no aprēķinātā atalgojuma * izņemot četras personas, kurām tiek piemērota nodokļu likme 21,94% (izdienas pensionārs) | D29: ='1.tabula'!H6+'2.tabula'!H6+'3.tabula'!H6+'4.tabula'!I6 -> 11661.21
A30: 2000 | B30: Preces un pakalpojumi | C30: × | D30: =ROUNDUP(SUM(D31:D39),0) -> 15091
A31: 2111 | B31: Dienas nauda
A32: 2112 | B32: Pārējie komandējumu un darba braucienu izdevumi
A33: 2271 | B33: Izdevumi, kas saistīti ar operatīvo darbību | C33: Izdevumi, kas saistīti ar operatīvo darbību 2023.gada jūnijā* Precizēts aprēķins personām par 2023. gada maiju* | D33: 7007
A34: 2312 | B34: Inventārs
A35: 2322 | B35: Degviela | C35: Detalizēts aprēķins par laika periodu no 2023.gada 1.jūnija līdz 30.jūnijam 5.tabulā. Pasākuma nodrošināšanai tika iesaistīti 82 transportlīdzekļi; Vidēji viena transportlīdzekļa nobraukums 1 001,94 km; Vidējā degvielas cena 1,287 euro/l; Vidējais degvielas patēriņš 7,3602 l/km uz 100 km. 82 t-ldz. x 1 001,9 km x 1,287 euro/l x 7,3602 l/km ÷ 100 km = 7 782,23 euro | D35: ='5.tabula'!F6 -> 7782.23
A36: 2350 | B36: Kārtējā remonta un iestāžu uzturēšanas materiāli
A37: 2363 | B37: Ēdināšanas izdevumi
A38: 2389 | B38: Pārējie specifiskas lietošanas materiāli un inventārs
A39: 2390 | B39: Pārējās preces | C39: Negāzēts dzeramais ūdens 5 L / 408 gab. x 0,7381 euro = 301,14 euro; | D39: 301.14
A40: 5000 | B40: Pamatkapitāla veidošana | D40: =ROUNDUP(SUM(D41),0) -> 0
A41: 5239 | B41: Pārējie iepriekš neklasificētie pamatlīdzekļi un ieguldījuma īpašumi
A43: 2) Vidējās izpeļņas pieauguma kompensēšanai | D43: =D44+D48 -> 5564.81
A44: 1000 | B44: Atlīdzība | C44: × | D44: =D45+D47 -> 5096.81
A45: 1100 | B45: Atalgojums | C45: × | D45: =ROUND(SUM(D46:D46),0) -> 4124
...

Sheet 1.tabula
I1: 2. pielikuma 1.tabula
A2: Valsts policija
A3: Piemaksa par nakts darbu amatpersonām ar speciālajām dienesta pakāpēm, kuras laika periodā no 2023.gada 1.jūnija līdz 30.jūnijam tika iesaistītas atbalsta sniegšanā Valsts robežsardzei Latvijas Republikas-Baltkrievijas Republikas valsts robežas robežuzraudzības nodrošināšanā
E4: 166.33
A5: Nr. p.k. | B5: Struktūrvienība | C5: Amats | D5: Mēnešalga amatpersonām ar speciālajām pakāpēm | E5: Stundas likme | F5: Stundu skaits | G5: Piemaksa par nakts darbu | H5: DD VSAOI | I5: Atlīdzība
A6: kopā | F6: =SUM(F8:F259) -> 4494 | G6: =SUM(G8:G259) -> 17728.47 | H6: =SUM(H8:H259) -> 4176.02 | I6: =SUM(I8:I259) -> 21904.49
B7: LATGALES REĢIONA PĀRVALDE
A8: 1 | B8: VP LATGALES RP ZIEMEĻLATGALES IECIRKNIS | C8: iecirkņa priekšnieka vietnieks, Reaģēšanas nodaļas priekšnieks | D8: 1937 | E8: =ROUND(D8/$E$4,3) -> 11.646 | F8: 24 | G8: 139.75 | H8: =ROUND(G8*0.2359,2) -> 32.97 | I8: =G8+H8 -> 172.72
A9: =A8+1 -> 2 | B9: VP LATGALES RP ZIEMEĻLATGALES IECIRKŅA IZMEKLĒŠANAS NODAĻAS 2.GRUPA | C9: inspektors | D9: 1387 | E9: =ROUND(D9/$E$4,3) -> 8.339 | F9: 8 | G9: 33.36 | H9: =ROUND(G9*0.2359,2) -> 7.87 | I9: =G9+H9 -> 41.23
A10: =A9+1 -> 3 | B10: VP LATGALES RP DIENVIDLATGALES IECIRKŅA REAĢĒŠANAS NODAĻAS 3.GRUPA | C10: vecākais inspektors | D10: 1412 | E10: =ROUND(D10/$E$4,3) -> 8.489 | F10: 10 | G10: 42.45 | H10: =ROUND(G10*0.2359,2) -> 10.01 | I10: =G10+H10 -> 52.46
A11: =A10+1 -> 4 | B11: VP LATGALES RP ZIEMEĻLATGALES IECIRKŅA IZMEKLĒŠANAS NODAĻAS 5.GRUPA | C11: galvenais inspektors | D11: 1774 | E11: =ROUND(D11/$E$4,3) -> 10.666 | F11: 8 | G11: 42.66 | H11: =ROUND(G11*0.2359,2) -> 10.06 | I11: =G11+H11 -> 52.72
A12: =A11+1 -> 5 | B12: VP LATGALES RP DIENVIDLATGALES IECIRKŅA REAĢĒŠANAS NODAĻAS 7.GRUPA | C12: inspektors | D12: 1220 | E12: =ROUND(D12/$E$4,3) -> 7.335 | F12: 8 | G12: 29.34 | H12: =ROUND(G12*0.2359,2) -> 6.92 | I12: =G12+H12 -> 36.26
A13: =A12+1 -> 6 | B13: VP LATGALES RP DIENVIDLATGALES IECIRKŅA REAĢĒŠANAS NODAĻAS 7.GRUPA | C13: jaunākais inspektors | D13: 1083 | E13: =ROUND(D13/$E$4,3) -> 6.511 | F13: 16 | G13: 52.09 | H13: =ROUND(G13*0.2359,2) -> 12.29 | I13: =G13+H13 -> 64.38
A14: =A13+1 -> 7 | B14: VP LATGALES RP DIENVIDLATGALES IECIRKŅA IZMEKLĒŠANAS NODAĻAS 5.GRUPA | C14: inspektors | D14: 1387 | E14: =ROUND(D14/$E$4,3) -> 8.339 | F14: 14 | G14: 58.37 | H14: =ROUND(G14*0.2359,2) -> 13.77 | I14: =G14+H14 -> 72.14
A15: =A14+1 -> 8 | B15: VP LATGALES RP ZIEMEĻLATGALES IECIRKŅA PREVENCIJAS GRUPA | C15: vecākais inspektors | D15: 1279 | E15: =ROUND(D15/$E$4,3) -> 7.69 | F15: 2 | G15: 7.69 | H15: =ROUND(G15*0.2359,2) -> 1.81 | I15: =G15+H15 -> 9.5
A16: =A15+1 -> 9 | B16: VP LATGALES RP KĀRTPB ATĻAUJU SISTĒMAS GRUPA | C16: inspektors | D16: 1196 | E16: =ROUND(D16/$E$4,3) -> 7.191 | F16: 16 | G16: 57.53 | H16: =ROUND(G16*0.2359,2) -> 13.57 | I16: =G16+H16 -> 71.1
A17: =A16+1 -> 10 | B17: VP LATGALES RP DIENVIDLATGALES IECIRKŅA IZMEKLĒŠANAS NODAĻAS 7.GRUPA | C17: vecākais inspektors | D17: 1255 | E17: =ROUND(D17/$E$4,3) -> 7.545 | F17: 8 | G17: 30.18 | H17: =ROUND(G17*0.2359,2) -> 7.12 | I17: =G17+H17 -> 37.3
A18: =A17+1 -> 11 | B18: VP LATGALES RP ZIEMEĻLATGALES IECIRKŅA IZMEKLĒŠANAS NODAĻAS 3.GRUPA | C18: vecākais inspektors | D18: 1438 | E18: =ROUND(D18/$E$4,3) -> 8.645 | F18: 22 | G18: 95.1 | H18: =ROUND(G18*0.2359,2) -> 22.43 | I18: =G18+H18 -> 117.53
A19: =A18+1 -> 12 | B19: VP LATGALES RP ZIEMEĻLATGALES IECIRKŅA IZMEKLĒŠANAS NODAĻAS 2.GRUPA | C19: galvenais inspektors | D19: 1937 | E19: =ROUND(D19/$E$4,3) -> 11.646 | F19: 16 | G19: 93.17 | H19: =ROUND(G19*0.2359,2) -> 21.98 | I19: =G19+H19 -> 115.15
A20: =A19+1 -> 13 | B20: VP LATGALES RP DIENVIDLATGALES IECIRKŅA REAĢĒŠANAS NODAĻAS 2.GRUPA | C20: vecākais inspektors | D20: 1255 | E20: =ROUND(D20/$E$4,3) -> 7.545 | F20: 22 | G20: 83 | H20: =ROUND(G20*0.2359,2) -> 19.58 | I20: =G20+H20 -> 102.58
... A23: =A22+1 -> 16 | B23: VP LATGALES RP DIENVIDLATGALES IECIRKŅA IZMEKLĒŠANAS NODAĻAS 6.GRUPA | C23: vecākais inspektors | D23: 1259 | E23: =ROUND(D23/$E$4,3) -> 7.569 | F23: 8 | G23: 30.28 | H23: =ROUND(G23*0.2359,2) -> 7.14 | I23: =G23+H23 -> 37.42
A24: =A23+1 -> 17 | B24: VP LATGALES RP ZIEMEĻLATGALES IECIRKŅA IZMEKLĒŠANAS NODAĻAS 8.GRUPA | C24: inspektors | D24: 1903 | E24: =ROUND(D24/$E$4,3) -> 11.441 | F24: 24 | G24: 137.29 | H24: =ROUND(G24*0.2359,2)-0.01 -> 32.38 | I24: =G24+H24 -> 169.67
A25: =A24+1 -> 18 | B25: VP LATGALES RP ZIEMEĻLATGALES IECIRKŅA IZMEKLĒŠANAS NODAĻAS 4.GRUPA | C25: inspektors | D25: 1532 | E25: =ROUND(D25/$E$4,3) -> 9.211 | F25: 2 | G25: 9.21 | H25: =ROUND(G25*0.2359,2) -> 2.17 | I25: =G25+H25 -> 11.38
A26: =A25+1 -> 19 | B26: VP LATGALES RP ZIEMEĻLATGALES IECIRKŅA REAĢĒŠANAS NODAĻAS 3.GRUPA | C26: inspektors | D26: 1296 | E26: =ROUND(D26/$E$4,3) -> 7.792 | F26: 8 | G26: 31.17 | H26: =ROUND(G26*0.2359,2) -> 7.35 | I26: =G26+H26 -> 38.52
A27: =A26+1 -> 20 | B27: VP LATGALES RP KĀRTPB ATĻAUJU SISTĒMAS GRUPA | C27: vecākais inspektors | D27: 1240 | E27: =ROUND(D27/$E$4,3) -> 7.455 | F27: 32 | G27: 119.28 | H27: =ROUND(G27*0.2359,2) -> 28.14 | I27: =G27+H27 -> 147.42
A28: =A27+1 -> 21 | B28: VP LATGALES RP ZIEMEĻLATGALES IECIRKŅA IZMEKLĒŠANAS NODAĻAS 3.GRUPA | C28: inspektors | D28: 1392 | E28: =ROUND(D28/$E$4,3) -> 8.369 | F28: 16 | G28: 66.95 | H28: =ROUND(G28*0.2359,2) -> 15.79 | I28: =G28+H28 -> 82.74
A29: =A28+1 -> 22 | B29: VP LATGALES REĢIONA PĀRVALDES DISCIPLINĀRĀS UZRAUDZĪBAS GRUPA | C29: galvenais inspektors | D29: 1486 | E29: =ROUND(D29/$E$4,3) -> 8.934 | F29: 8 | G29: 35.74 | H29: =ROUND(G29*0.2359,2) -> 8.43 | I29: =G29+H29 -> 44.17
A30: =A29+1 -> 23 | B30: VP LATGALES RP KĀRTPB RESURSU UN KRĪZES VADĪBAS NODAĻA | C30: nodaļas priekšnieks | D30: 1474 | E30: =ROUND(D30/$E$4,3) -> 8.862 | F30: 8 | G30: 35.45 | H30: =ROUND(G30*0.2359,2) -> 8.36 | I30: =G30+H30 -> 43.81 | J30: *
A31: =A30+1 -> 24 | B31: VP LATGALES RP KĀRTPB ATĻAUJU SISTĒMAS GRUPA | C31: inspektors | D31: 1176 | E31: =ROUND(D31/$E$4,3) -> 7.07 | F31: 16 | G31: 56.56 | H31: =ROUND(G31*0.2359,2) -> 13.34 | I31: =G31+H31 -> 69.9
A32: =A31+1 -> 25 | B32: VP LATGALES RP DIENVIDLATGALES IECIRKŅA REAĢĒŠANAS NODAĻAS 4.GRUPA | C32: jaunākais inspektors | D32: 1083 | E32: =ROUND(D32/$E$4,3) -> 6.511 | F32: 16 | G32: 52.09 | H32: =ROUND(G32*0.2359,2) -> 12.29 | I32: =G32+H32 -> 64.38
A33: =A32+1 -> 26 | B33: VP LATGALES RP ZIEMEĻLATGALES IECIRKŅA IZMEKLĒŠANAS NODAĻAS 5.GRUPA | C33: vecākais inspektors | D33: 1464 | E33: =ROUND(D33/$E$4,3) -> 8.802 | F33: 16 | G33: 70.42 | H33: =ROUND(G33*0.2359,2)+0.01 -> 16.62 | I33: =G33+H33 -> 87.04
A34: =A33+1 -> 27 | B34: VP LATGALES RP DIENVIDLATGALES IECIRKŅA IZMEKLĒŠANAS NODAĻAS 8.GRUPA | C34: inspektors | D34: 1240 | E34: =ROUND(D34/$E$4,3) -> 7.455 | F34: 8 | G34: 29.82 | H34: =ROUND(G34*0.2359,2) -> 7.03 | I34: =G34+H34 -> 36.85
A35: =A34+1 -> 28 | B35: VP LATGALES RP ZIEMEĻLATGALES IECIRKŅA IZMEKLĒŠANAS NODAĻAS 8.GRUPA | C35: vecākais inspektors | D35: 1255 | E35: =ROUND(D35/$E$4,3) -> 7.545 | F35: 8 | G35: 30.18 | H35: =ROUND(G35*0.2359,2) -> 7.12 | I35: =G35+H35 -> 37.3
A36: =A35+1 -> 29 | B36: VP LATGALES RP ZIEMEĻLATGALES IECIRKŅA REAĢĒŠANAS NODAĻAS 8.GRUPA | C36: inspektors | D36: 1240 | E36: =ROUND(D36/$E$4,3) -> 7.455 | F36: 16 | G36: 59.64 | H36: =ROUND(G36*0.2359,2) -> 14.07 | I36: =G36+H36 -> 73.71
A37: =A36+1 -> 30 | B37: VP LATGALES RP ZIEMEĻLATGALES IECIRKŅA IZMEKLĒŠANAS NODAĻAS 6.GRUPA | C37: inspektors | D37: 1412 | E37: =ROUND(D37/$E$4,3) -> 8.489 | F37: 8 | G37: 33.96 | H37: =ROUND(G37*0.2359,2) -> 8.01 | I37: =G37+H37 -> 41.97
A38: =A37+1 -> 31 | B38: VP LATGALES RP ZIEMEĻLATGALES IECIRKŅA IZMEKLĒŠANAS NODAĻAS 4.GRUPA | C38: vecākais inspektors | D38: 1464 | E38: =ROUND(D38/$E$4,3) -> 8.802 | F38: 10 | G38: 44.01 | H38: =ROUND(G38*0.2359,2)-0.01 -> 10.37 | I38: =G38+H38 -> 54.38
A39: =A38+1 -> 32 | B39: VP LATGALES RP DIENVIDLATGALES IECIRKŅA PREVENCIJAS GRUPA | C39: vecākais inspektors | D39: 1279 | E39: =ROUND(D39/$E$4,3) -> 7.69 | F39: 8 | G39: 30.76 | H39: =ROUND(G39*0.2359,2) -> 7.26 | I39: =G39+H39 -> 38.02
A40: =A39+1 -> 33 | B40: VP LATGALES RP KĀRTPB PREVENCIJAS GRUPA | C40: galvenais inspektors | D40: 1313 | E40: =ROUND(D40/$E$4,3) -> 7.894 | F40: 8 | G40: 31.58 | H40: =ROUND(G40*0.2359,2) -> 7.45 | I40: =G40+H40 -> 39.03
A41: =A40+1 -> 34 | B41: VP LATGALES RP KĀRTPB PREVENCIJAS GRUPA | C41: galvenais inspektors | D41: 1433 | E41: =ROUND(D41/$E$4,3) -> 8.615 | F41: 8 | G41: 34.46 | H41: =ROUND(G41*0.2359,2) -> 8.13 | I41: =G41+H41 -> 42.59
A42: =A41+1 -> 35 | B42: VP LATGALES RP DIENVIDLATGALES IECIRKŅA PREVENCIJAS GRUPA | C42: vecākais inspektors | D42: 1255 | E42: =ROUND(D42/$E$4,3) -> 7.545 | F42: 8 | G42: 30.18 | H42: =ROUND(G42*0.2359,2) -> 7.12 | I42: =G42+H42 -> 37.3
...

Sheet 2.tabula
I1: 2. pielikuma 2.tabula
A2: Valsts policija
A3: Piemaksa par nakts darbu amatpersonām ar speciālajām dienesta pakāpēm, kuras laika periodā no 2023.gada 1.maijam līdz 31.maijam tika iesaistītas atbalsta sniegšanā Valsts robežsardzei Latvijas Republikas-Baltkrievijas Republikas valsts robežas robežuzraudzības nodrošināšanā
E4: 167
A5: Nr. p.k. | B5: Struktūrvienība | C5: Amats | D5: Mēnešalga amatpersonām ar speciālajām pakāpēm | E5: Stundas likme | F5: Stundu skaits | G5: Piemaksa par nakts darbu | H5: DD VSAOI | I5: Atlīdzība
A6: kopā | F6: =SUM(F8:F8) -> 8 | G6: =SUM(G8:G8) -> 29.22 | H6: =SUM(H8:H8) -> 6.89 | I6: =SUM(I8:I8) -> 36.11
B7: LATGALES REĢIONA PĀRVALDE
A8: 1 | B8: VP LATGALES RP DIENVIDLATGALES IECIRKŅA REAĢĒŠANAS NODAĻAS 4.GRUPA | C8: inspektors* | D8: 1220 | E8: =ROUND(D8/$E$4,2) -> 7.31 | F8: 8 | G8: 29.22 | H8: =ROUND(G8*0.2359,2) -> 6.89 | I8: =G8+H8 -> 36.11
B10: * korekcija par maiju

Sheet 3.tabula
I1: 2. pielikuma 3.tabula
A2: Valsts policija
A3: Detalizēts aprēķins piemaksai par darbu svētku dienās amatpersonām ar speciālo dienesta pakāpi, sniedzot atbalstu Valsts robežsardzei Latvijas Republikas-Baltkrievijas Republikas valsts robežas nelikumīgas šķērsošanas nodrošināšanā, par laika periodu no 2023.gada 1.jūnija līdz 30.jūnijam (par 23.06 un 24.06.)
E4: 166.33
A5: Nr. p.k. | B5: Struktūrvienība | C5: Amats | D5: Mēnešalga amatpersonām ar speciālajām pakāpēm | E5: Stundas likme | F5: Stundu skaits | G5: Piemaksa par darbu svētku dienās | H5: DD VSAOI | I5: Atlīdzība
A6: kopā | F6: =SUM(F7:F79) -> 1011.75 | G6: =SUM(G7:G79) -> 8110.11 | H6: =SUM(H7:H79) -> 1911.84 | I6: =SUM(I7:I79) -> 10021.95
B7: LATGALES REĢIONA PĀRVALDE
A8: 1 | B8: VP LATGALES RP ZIEMEĻLATGALES IECIRKNIS | C8: iecirkņa priekšnieka vietnieks, Reaģēšanas nodaļas priekšnieks | D8: 1937 | E8: =ROUND(D8/$E$4,3) -> 11.646 | F8: 14 | G8: 163.04 | H8: =ROUND(G8*0.2359,2) -> 38.46 | I8: =G8+H8 -> 201.5
A9: 2 | B9: VP LATGALES RP ZIEMEĻLATGALES IECIRKŅA IZMEKLĒŠANAS NODAĻAS 2.GRUPA | C9: inspektors | D9: 1387 | E9: =ROUND(D9/$E$4,3) -> 8.339 | F9: 16.5 | G9: 137.59 | H9: =ROUND(G9*0.2359,2) -> 32.46 | I9: =G9+H9 -> 170.05
A10: 3 | B10: VP LATGALES RP ZIEMEĻLATGALES IECIRKŅA IZMEKLĒŠANAS NODAĻAS 3.GRUPA | C10: inspektors | D10: 1392 | E10: =ROUND(D10/$E$4,3) -> 8.369 | F10: 10 | G10: 83.69 | H10: =ROUND(G10*0.2359,2) -> 19.74 | I10: =G10+H10 -> 103.43
A11: 4 | B11: VP LATGALES REĢIONA PĀRVALDES DISCIPLINĀRĀS UZRAUDZĪBAS GRUPA | C11: galvenais inspektors | D11: 1486 | E11: =ROUND(D11/$E$4,3) -> 8.934 | F11: 15 | G11: 134.01 | H11: =ROUND(G11*0.2359,2) -> 31.61 | I11: =G11+H11 -> 165.62
A12: 5 | B12: VP LATGALES RP ZIEMEĻLATGALES IECIRKŅA REAĢĒŠANAS NODAĻAS 1.GRUPA | C12: vecākais inspektors | D12: 1255 | E12: =ROUND(D12/$E$4,3) -> 7.545 | F12: 15.5 | G12: 116.95 | H12: =ROUND(G12*0.2359,2) -> 27.59 | I12: =G12+H12 -> 144.54
A13: 6 | B13: VP LATGALES RP KRIMPB ORGANIZĒTĀS NOZIEDZĪBAS SMAGO UN SĒRIJVEIDA NOZIEGUMU APKAROŠANAS NODAĻA | C13: vecākais inspektors | D13: 1488 | E13: =ROUND(D13/$E$4,3) -> 8.946 | F13: 15 | G13: 134.19 | H13: =ROUND(G13*0.2359,2) -> 31.66 | I13: =G13+H13 -> 165.85
A14: 7 | B14: VP LATGALES RP ZIEMEĻLATGALES IECIRKŅA REAĢĒŠANAS NODAĻAS 1.GRUPA | C14: galvenais inspektors | D14: 1268 | E14: =ROUND(D14/$E$4,3) -> 7.623 | F14: 15.5 | G14: 118.16 | H14: =ROUND(G14*0.2359,2) -> 27.87 | I14: =G14+H14 -> 146.03
A15: 8 | B15: VP LATGALES RP ZIEMEĻLATGALES IECIRKŅA REAĢĒŠANAS NODAĻAS 1.GRUPA | C15: vecākais inspektors | D15: 1235 | E15: =ROUND(D15/$E$4,3) -> 7.425 | F15: 14 | G15: 103.95 | H15: =ROUND(G15*0.2359,2) -> 24.52 | I15: =G15+H15 -> 128.47
A16: 9 | B16: VP LATGALES RP ZIEMEĻLATGALES IECIRKŅA REAĢĒŠANAS NODAĻAS 4.GRUPA | C16: vecākais inspektors | D16: 1235 | E16: =ROUND(D16/$E$4,3) -> 7.425 | F16: 15.5 | G16: 115.09 | H16: =ROUND(G16*0.2359,2) -> 27.15 | I16: =G16+H16 -> 142.24
A17: 10 | B17: VP LATGALES RP DIENVIDLATGALES IECIRKŅA IZMEKLĒŠANAS NODAĻAS 8.GRUPA | C17: vecākais inspektors | D17: 1255 | E17: =ROUND(D17/$E$4,3) -> 7.545 | F17: 9 | G17: 67.91 | H17: =ROUND(G17*0.2359,2) -> 16.02 | I17: =G17+H17 -> 83.93
A18: 11 | B18: VP LATGALES RP ZIEMEĻLATGALES IECIRKŅA IZMEKLĒŠANAS NODAĻAS 7.GRUPA | C18: vecākais inspektors | D18: 1255 | E18: =ROUND(D18/$E$4,3) -> 7.545 | F18: 15.5 | G18: 116.95 | H18: =ROUND(G18*0.2359,2) -> 27.59 | I18: =G18+H18 -> 144.54
A19: 12 | B19: VP LATGALES RP ZIEMEĻLATGALES IECIRKŅA REAĢĒŠANAS NODAĻAS 4.GRUPA | C19: jaunākais inspektors | D19: 1063 | E19: =ROUND(D19/$E$4,3) -> 6.391 | F19: 14 | G19: 89.47 | H19: =ROUND(G19*0.2359,2) -> 21.11 | I19: =G19+H19 -> 110.58
... A64: 57 | B64: VP LATGALES RP ZIEMEĻLATGALES IECIRKŅA PREVENCIJAS GRUPA | C64: inspektors | D64: 1183 | E64: =ROUND(D64/$E$4,3) -> 7.112 | F64: 10.75 | G64: 76.45 | H64: =ROUND(G64*0.2359,2) -> 18.03 | I64: =G64+H64 -> 94.48
B65: RĪGAS REĢIONA PĀRVALDE
A66: 58 | B66: VP RĪGAS RP KĀRTPP PPP SUB 4.ROTA (LATGALES REĢIONA) (BIJUŠ) | C66: jaunākais inspektors | D66: 1225 | E66: =ROUND(D66/$E$4,3) -> 7.365 | F66: 11 | G66: 81.02 | H66: =ROUND(G66*0.2359,2) -> 19.11 | I66: =G66+H66 -> 100.13
A67: =A66+1 -> 59 | B67: VP RĪGAS RP KĀRTPP PPP SUB 4.ROTA (LATGALES REĢIONA) (BIJUŠ) | C67: jaunākais inspektors | D67: 1225 | E67: =ROUND(D67/$E$4,3) -> 7.365 | F67: 16 | G67: 117.84 | H67: =ROUND(G67*0.2359,2) -> 27.8 | I67: =G67+H67 -> 145.64
A68: =A67+1 -> 60 | B68: VP RĪGAS RP KĀRTPP PPP SUB 4.ROTA (LATGALES REĢIONA) (BIJUŠ) | C68: rotas komandiera vietnieks | D68: 1475 | E68: =ROUND(D68/$E$4,3) -> 8.868 | F68: 16 | G68: 141.89 | H68: =ROUND(G68*0.2359,2) -> 33.47 | I68: =G68+H68 -> 175.36
A69: =A68+1 -> 61 | B69: VP RĪGAS RP KĀRTPP PPP SUB 4.ROTA (LATGALES REĢIONA) (BIJUŠ) | C69: jaunākais inspektors | D69: 1245 | E69: =ROUND(D69/$E$4,3) -> 7.485 | F69: 11 | G69: 82.34 | H69: =ROUND(G69*0.2359,2) -> 19.42 | I69: =G69+H69 -> 101.76
A70: =A69+1 -> 62 | B70: VP RĪGAS RP KĀRTPP PPP SUB 4.ROTA (LATGALES REĢIONA) (BIJUŠ) | C70: jaunākais inspektors | D70: 1245 | E70: =ROUND(D70/$E$4,3) -> 7.485 | F70: 11 | G70: 82.34 | H70: =ROUND(G70*0.2359,2) -> 19.42 | I70: =G70+H70 -> 101.76
A71: =A70+1 -> 63 | B71: VP RĪGAS RP KĀRTPP PPP SUB 4.ROTA (LATGALES REĢIONA) (BIJUŠ) | C71: jaunākais inspektors | D71: 1205 | E71: =ROUND(D71/$E$4,3) -> 7.245 | F71: 16 | G71: 115.92 | H71: =ROUND(G71*0.2359,2) -> 27.35 | I71: =G71+H71 -> 143.27
A72: =A71+1 -> 64 | B72: VP RĪGAS RP KĀRTPP PPP SUB 4.ROTA (LATGALES REĢIONA) (BIJUŠ) | C72: jaunākais inspektors | D72: 1225 | E72: =ROUND(D72/$E$4,3) -> 7.365 | F72: 27 | G72: 198.86 | H72: =ROUND(G72*0.2359,2) -> 46.91 | I72: =G72+H72 -> 245.77
A73: =A72+1 -> 65 | B73: VP RĪGAS RP KĀRTPP PPP SUB 4.ROTA (LATGALES REĢIONA) (BIJUŠ) | C73: jaunākais inspektors | D73: 1205 | E73: =ROUND(D73/$E$4,3) -> 7.245 | F73: 27 | G73: 195.62 | H73: =ROUND(G73*0.2359,2) -> 46.15 | I73: =G73+H73 -> 241.77
A74: =A73+1 -> 66 | B74: VP RĪGAS RP KĀRTPP PPP SUB 4.ROTA (LATGALES REĢIONA) (BIJUŠ) | C74: jaunākais inspektors | D74: 1245 | E74: =ROUND(D74/$E$4,3) -> 7.485 | F74: 16 | G74: 119.76 | H74: =ROUND(G74*0.2359,2) -> 28.25 | I74: =G74+H74 -> 148.01
A75: =A74+1 -> 67 | B75: VP RĪGAS RP KĀRTPP PPP SUB 4.ROTA (LATGALES REĢIONA) (BIJUŠ) | C75: jaunākais inspektors | D75: 1205 | E75: =ROUND(D75/$E$4,3) -> 7.245 | F75: 16 | G75: 115.92 | H75: =ROUND(G75*0.2359,2) -> 27.35 | I75: =G75+H75 -> 143.27
A76: =A75+1 -> 68 | B76: VP RĪGAS RP KĀRTPP PPP SUB 4.ROTA (LATGALES REĢIONA) (BIJUŠ) | C76: jaunākais inspektors | D76: 1185 | E76: =ROUND(D76/$E$4,3) -> 7.124 | F76: 27 | G76: 192.35 | H76: =ROUND(G76*0.2359,2) -> 45.38 | I76: =G76+H76 -> 237.73
A77: =A76+1 -> 69 | B77: VP RĪGAS RP KĀRTPP PPP SUB 4.ROTA (LATGALES REĢIONA) (BIJUŠ) | C77: jaunākais inspektors | D77: 1185 | E77: =ROUND(D77/$E$4,3) -> 7.124 | F77: 27 | G77: 192.35 | H77: =ROUND(G77*0.2359,2) -> 45.38 | I77: =G77+H77 -> 237.73
A78: =A77+1 -> 70 | B78: VP RĪGAS RP KĀRTPP PPP SUB 4.ROTA (LATGALES REĢIONA) (BIJUŠ) | C78: jaunākais inspektors | D78: 1245 | E78: =ROUND(D78/$E$4,3) -> 7.485 | F78: 11 | G78: 82.34 | H78: 18.07 | I78: =G78+H78 -> 100.41 | J78: ***
A79: =A78+1 -> 71 | B79: VP RĪGAS RP KĀRTPP PPP SUB 4.ROTA (LATGALES REĢIONA) (BIJUŠ) | C79: jaunākais inspektors | D79: 1185 | E79: =ROUND(D79/$E$4,3) -> 7.124 | F79: 27 | G79: 192.35 | H79: =ROUND(G79*0.2359,2) -> 45.38 | I79: =G79+H79 -> 237.73
B81: ***- izdienas pensionārs

Sheet 4.tabula
J1: 2. pielikuma 4. tabula
A2: Valsts policija
A3: Piemaksa par darbu īpašos apstākļos amatpersonām ar speciālajām dienesta pakāpēm, kuras laika periodā no 2023.gada 1.jūnija līdz 30.jūnijam tika iesaistītas atbalsta sniegšanā Valsts robežsardzei Latvijas Republikas-Baltkrievijas Republikas valsts robežas robežuzraudzības nodrošināšanā
F4: 166.33
A5: Nr. p.k. | B5: Struktūrvienība | C5: Amats | D5: Mēnešalga amatpersonām ar speciālajām pakāpēm | E5: Piemaksas apmērs % | F5: Stundas likme | G5: Stundu skaits | H5: Piemaksa par darbu īpašos apstākļos | I5: DD VSAOI | J5: Atlīdzība
A6: kopā | G6: =SUM(G8:G423) -> 14105 | H6: =SUM(H8:H423) -> 23637.77 | I6: =SUM(I8:I423) -> 5566.46 | J6: =SUM(J8:J423) -> 29204.23
B7: LATGALES REĢIONA PĀRVALDE
A8: 1 | B8: VP LATGALES RP ZIEMEĻLATGALES IECIRKNIS | C8: iecirkņa priekšnieka vietnieks, Reaģēšanas nodaļas priekšnieks | D8: 1937 | E8: 20% | F8: =ROUND(D8/$F$4,3) -> 11.646 | G8: 36 | H8: 83.85 | I8: =ROUND(H8*23.59%,2) -> 19.78 | J8: =H8+I8 -> 103.63
A9: 2 | B9: VP LATGALES RP ZIEMEĻLATGALES IECIRKŅA IZMEKLĒŠANAS NODAĻAS 2.GRUPA | C9: inspektors | D9: 1387 | E9: 20% | F9: =ROUND(D9/$F$4,3) -> 8.339 | G9: 24 | H9: 40.03 | I9: =ROUND(H9*23.59%,2) -> 9.44 | J9: =H9+I9 -> 49.47
A10: 3 | B10: VP LATGALES RP DIENVIDLATGALES IECIRKŅA REAĢĒŠANAS NODAĻAS 3.GRUPA | C10: vecākais inspektors | D10: 1412 | E10: 20% | F10: =ROUND(D10/$F$4,3) -> 8.489 | G10: 29 | H10: 49.24 | I10: =ROUND(H10*23.59%,2) -> 11.62 | J10: =H10+I10 -> 60.86
A11: 4 | B11: VP LATGALES RP ZIEMEĻLATGALES IECIRKŅA IZMEKLĒŠANAS NODAĻAS 5.GRUPA | C11: galvenais inspektors | D11: 1774 | E11: 20% | F11: =ROUND(D11/$F$4,3) -> 10.666 | G11: 24 | H11: 51.2 | I11: =ROUND(H11*23.59%,2) -> 12.08 | J11: =H11+I11 -> 63.28
A12: 5 | B12: VP LATGALES RP DIENVIDLATGALES IECIRKŅA REAĢĒŠANAS NODAĻAS 7.GRUPA | C12: inspektors | D12: 1220 | E12: 20% | F12: =ROUND(D12/$F$4,3) -> 7.335 | G12: 26 | H12: 38.14 | I12: =ROUND(H12*23.59%,2) -> 9 | J12: =H12+I12 -> 47.14
A13: 6 | B13: VP LATGALES RP DIENVIDLATGALES IECIRKŅA REAĢĒŠANAS NODAĻAS 7.GRUPA | C13: jaunākais inspektors | D13: 1083 | E13: 20% | F13: =ROUND(D13/$F$4,3) -> 6.511 | G13: 26 | H13: 33.86 | I13: =ROUND(H13*23.59%,2)+0.01 -> 8 | J13: =H13+I13 -> 41.86
A14: 7 | B14: VP LATGALES RP DIENVIDLATGALES IECIRKŅA IZMEKLĒŠANAS NODAĻAS 5.GRUPA | C14: inspektors | D14: 1387 | E14: 20% | F14: =ROUND(D14/$F$4,3) -> 8.339 | G14: 21 | H14: 35.02 | I14: =ROUND(H14*23.59%,2) -> 8.26 | J14: =H14+I14 -> 43.28
A15: 8 | B15: VP LATGALES RP ZIEMEĻLATGALES IECIRKŅA PREVENCIJAS GRUPA | C15: vecākais inspektors | D15: 1279 | E15: 20% | F15: =ROUND(D15/$F$4,3) -> 7.69 | G15: 16 | H15: 24.61 | I15: =ROUND(H15*23.59%,2) -> 5.81 | J15: =H15+I15 -> 30.42
A16: 9 | B16: VP LATGALES RP DIENVIDLATGALES IECIRKŅA REAĢĒŠANAS NODAĻAS 4.GRUPA | C16: vecākais inspektors | D16: 1279 | E16: 20% | F16: =ROUND(D16/$F$4,3) -> 7.69 | G16: 12 | H16: 18.46 | I16: =ROUND(H16*23.59%,2) -> 4.35 | J16: =H16+I16 -> 22.81
A17: 10 | B17: VP LATGALES RP KĀRTPB ATĻAUJU SISTĒMAS GRUPA | C17: inspektors | D17: 1196 | E17: 20% | F17: =ROUND(D17/$F$4,3) -> 7.191 | G17: 24 | H17: 34.52 | I17: =ROUND(H17*23.59%,2) -> 8.14 | J17: =H17+I17 -> 42.66
A18: 11 | B18: VP LATGALES RP KRIMPB KRIMINĀLIZLŪKOŠANAS INFORMĀCIJAS ANALĪZES GRUPA | C18: vecākais inspektors | D18: 1468 | E18: 20% | F18: =ROUND(D18/$F$4,3) -> 8.826 | G18: 24 | H18: 42.36 | I18: =ROUND(H18*23.59%,2) -> 9.99 | J18: =H18+I18 -> 52.35
A19: 12 | B19: VP LATGALES RP DIENVIDLATGALES IECIRKŅA IZMEKLĒŠANAS NODAĻAS 7.GRUPA | C19: vecākais inspektors | D19: 1255 | E19: 20% | F19: =ROUND(D19/$F$4,3) -> 7.545 | G19: 38.5 | H19: 58.1 | I19: =ROUND(H19*23.59%,2) -> 13.71 | J19: =H19+I19 -> 71.81
A20: 13 | B20: VP LATGALES RP ZIEMEĻLATGALES IECIRKŅA IZMEKLĒŠANAS NODAĻAS 3.GRUPA | C20: vecākais inspektors | D20: 1438 | E20: 20% | F20: =ROUND(D20/$F$4,3) -> 8.645 | G20: 30.5 | H20: 52.73 | I20: =ROUND(H20*23.59%,2) -> 12.44 | J20: =H20+I20 -> 65.17
A21: 14 | B21: VP LATGALES RP ZIEMEĻLATGALES IECIRKŅA IZMEKLĒŠANAS NODAĻAS 3.GRUPA | C21: vecākais inspektors | D21: 1438 | E21: 50% | F21: =ROUND(D21/$F$4,3) -> 8.645 | G21: 2.5 | H21: 10.81 | I21: =ROUND(H21*23.59%,2) -> 2.55 | J21: =H21+I21 -> 13.36
A22: 15 | B22: VP LATGALES RP DIENVIDLATGALES IECIRKŅA REAĢĒŠANAS NODAĻAS 10.GRUPA | C22: vecākais inspektors | D22: 1255 | E22: 20% | F22: =ROUND(D22/$F$4,3) -> 7.545 | G22: 12 | H22: 18.11 | I22: =ROUND(H22*23.59%,2)+0.01 -> 4.28 | J22: =H22+I22 -> 22.39
A23: 16 | B23: VP LATGALES RP DIENVIDLATGALES IECIRKŅA REAĢĒŠANAS NODAĻAS 6.GRUPA | C23: jaunākais inspektors | D23: 1083 | E23: 20% | F23: =ROUND(D23/$F$4,3) -> 6.511 | G23: 13 | H23: 16.93 | I23: =ROUND(H23*23.59%,2) -> 3.99 | J23: =H23+I23 -> 20.92
A24: 17 | B24: VP LATGALES RP ZIEMEĻLATGALES IECIRKŅA IZMEKLĒŠANAS NODAĻAS 2.GRUPA | C24: galvenais inspektors | D24: 1937 | E24: 50% | F24: =ROUND(D24/$F$4,3) -> 11.646 | G24: 3.5 | H24: 20.38 | I24: =ROUND(H24*23.59%,2) -> 4.81 | J24: =H24+I24 -> 25.19
A25: 18 | B25: VP LATGALES RP ZIEMEĻLATGALES IECIRKŅA IZMEKLĒŠANAS NODAĻAS 2.GRUPA | C25: galvenais inspektors | D25: 1937 | E25: 20% | F25: =ROUND(D25/$F$4,3) -> 11.646 | G25: 48 | H25: 111.8 | I25: =ROUND(H25*23.59%,2) -> 26.37 | J25: =H25+I25 -> 138.17
A26: 19 | B26: VP LATGALES RP DIENVIDLATGALES IECIRKŅA IZMEKLĒŠANAS NODAĻAS 2.GRUPA | C26: galvenais inspektors | D26: 1468 | E26: 20% | F26: =ROUND(D26/$F$4,3) -> 8.826 | G26: 36 | H26: 63.55 | I26: =ROUND(H26*23.59%,2) -> 14.99 | J26: =H26+I26 -> 78.54
A27: 20 | B27: VP LATGALES RP ZIEMEĻLATGALES IECIRKŅA REAĢĒŠANAS NODAĻAS 10.GRUPA | C27: inspektors | D27: 1240 | E27: 20% | F27: =ROUND(D27/$F$4,3) -> 7.455 | G27: 23 | H27: 34.29 | I27: =ROUND(H27*23.59%,2) -> 8.09 | J27: =H27+I27 -> 42.38
A28: 21 | B28: VP LATGALES RP DIENVIDLATGALES IECIRKŅA REAĢĒŠANAS NODAĻAS 2.GRUPA | C28: vecākais inspektors | D28: 1255 | E28: 20% | F28: =ROUND(D28/$F$4,3) -> 7.545 | G28: 49.5 | H28: 74.7 | I28: =ROUND(H28*23.59%,2) -> 17.62 | J28: =H28+I28 -> 92.32
A29: 22 | B29: VP LATGALES RP DIENVIDLATGALES IECIRKŅA IZMEKLĒŠANAS NODAĻAS 1.GRUPA | C29: galvenais inspektors | D29: 1872 | E29: 20% | F29: =ROUND(D29/$F$4,3) -> 11.255 | G29: 38 | H29: 85.54 | I29: =ROUND(H29*23.59%,2) -> 20.18 | J29: =H29+I29 -> 105.72
A30: 23 | B30: VP LATGALES RP DIENVIDLATGALES IECIRKŅA IZMEKLĒŠANAS NODAĻAS 6.GRUPA | C30: galvenais inspektors | D30: 1448 | E30: 20% | F30: =ROUND(D30/$F$4,3) -> 8.706 | G30: 12 | H30: 20.89 | I30: =ROUND(H30*23.59%,2) -> 4.93 | J30: =H30+I30 -> 25.82
A31: 24 | B31: VP LATGALES RP DIENVIDLATGALES IECIRKŅA IZMEKLĒŠANAS NODAĻAS 6.GRUPA | C31: vecākais inspektors | D31: 1259 | E31: 20% | F31: =ROUND(D31/$F$4,3) -> 7.569 | G31: 25 | H31: 37.85 | I31: =ROUND(H31*23.59%,2) -> 8.93 | J31: =H31+I31 -> 46.78
A32: 25 | B32: VP LATGALES RP ZIEMEĻLATGALES IECIRKŅA IZMEKLĒŠANAS NODAĻAS 8.GRUPA | C32: inspektors | D32: 1903 | E32: 20% | F32: =ROUND(D32/$F$4,3) -> 11.441 | G32: 34 | H32: 77.8 | I32: =ROUND(H32*23.59%,2) -> 18.35 | J32: =H32+I32 -> 96.15
A33: 26 | B33: VP LATGALES RP ZIEMEĻLATGALES IECIRKŅA IZMEKLĒŠANAS NODAĻAS 4.GRUPA | C33: inspektors | D33: 1532 | E33: 20% | F33: =ROUND(D33/$F$4,3) -> 9.211 | G33: 15 | H33: 27.63 | I33: =ROUND(H33*23.59%,2) -> 6.52 | J33: =H33+I33 -> 34.15
A34: 27 | B34: VP LATGALES RP ZIEMEĻLATGALES IECIRKŅA REAĢĒŠANAS NODAĻAS 3.GRUPA | C34: inspektors | D34: 1296 | E34: 20% | F34: =ROUND(D34/$F$4,3) -> 7.792 | G34: 37 | H34: 57.66 | I34: =ROUND(H34*23.59%,2) -> 13.6 | J34: =H34+I34 -> 71.26
... A87: 80 | B87: VP LATGALES RP DIENVIDLATGALES IECIRKŅA IZMEKLĒŠANAS NODAĻAS 6.GRUPA | C87: inspektors | D87: 1243 | E87: 20% | F87: =ROUND(D87/$F$4,3) -> 7.473 | G87: 13 | H87: 19.43 | I87: =ROUND(H87*23.59%,2) -> 4.58 | J87: =H87+I87 -> 24.01
A88: 81 | B88: VP LATGALES RP DIENVIDLATGALES IECIRKŅA REAĢĒŠANAS NODAĻAS 4.GRUPA | C88: vecākais inspektors | D88: 1375 | E88: 20% | F88: =ROUND(D88/$F$4,3) -> 8.267 | G88: 50 | H88: 82.67 | I88: 18.14 | J88: =H88+I88 -> 100.81 | K88: ***
A89: 82 | B89: VP LATGALES RP ZIEMEĻLATGALES IECIRKŅA REAĢĒŠANAS NODAĻAS 2.GRUPA | C89: galvenais inspektors | D89: 1396 | E89: 20% | F89: =ROUND(D89/$F$4,3) -> 8.393 | G89: 24 | H89: 40.29 | I89: =ROUND(H89*23.59%,2) -> 9.5 | J89: =H89+I89 -> 49.79
A90: 83 | B90: VP LATGALES RP DIENVIDLATGALES IECIRKŅA PREVENCIJAS GRUPA | C90: vecākais inspektors | D90: 1239 | E90: 20% | F90: =ROUND(D90/$F$4,3) -> 7.449 | G90: 40 | H90: 59.59 | I90: =ROUND(H90*23.59%,2) -> 14.06 | J90: =H90+I90 -> 73.65
A91: 84 | B91: VP LATGALES RP ZIEMEĻLATGALES IECIRKŅA REAĢĒŠANAS NODAĻAS 4.GRUPA | C91: jaunākais inspektors | D91: 1063 | E91: 20% | F91: =ROUND(D91/$F$4,3) -> 6.391 | G91: 36.5 | H91: 46.65 | I91: =ROUND(H91*23.59%,2) -> 11 | J91: =H91+I91 -> 57.65
A92: 85 | B92: VP LATGALES RP KĀRTPB ATĻAUJU SISTĒMAS GRUPA | C92: inspektors | D92: 1176 | E92: 20% | F92: =ROUND(D92/$F$4,3) -> 7.07 | G92: 24 | H92: 33.94 | I92: =ROUND(H92*23.59%,2) -> 8.01 | J92: =H92+I92 -> 41.95
...

Sheet 5.tabula
F1: 2. pielikuma 5. tabula
A2: Valsts policija
A3: Degvielas izmaksu aprēķins degvielas izdevumiem sniedzot atbalstu Valsts robežsardzei Latvijas Republikas-Baltkrievijas Republikas valsts robežas nelikumīgas šķērsošanas nodrošināšanā par laika periodu 2023.gada 1.jūnija līdz 30.jūnijam
A5: Nr.p.k. | B5: Transportlīdzekļa marka | C5: Iesaistīto transportlīdzekļu skaits | D5: Faktiskais nobraukums pasākumā (km) | E5: Pasākuma laikā patērētā degviela (l) | F5: Summa euro
A6: Kopā: | C6: =ROUNDUP(SUM(C8:C29),2) -> 82 | D6: =ROUNDUP(SUM(D8:D29),2) -> 82159 | E6: =ROUNDUP(SUM(E8:E29),2) -> 6047.06 | F6: =ROUNDUP(SUM(F8:F29),2) -> 7782.23
A7: Rīgas reģiona pārvalde
A11: Latgales reģiona pārvalde
A12: 1 | B12: Hyundai Santa Fe | C12: 2 | D12: 608 | E12: 55.98 | F12: 72.22
A13: 2 | B13: Fiat 500xCross | C13: 1 | D13: 691 | E13: 47.68 | F13: 61.51
A14: 3 | B14: KIA Ceed | C14: 8 | D14: 2531 | E14: 158.82 | F14: 209.64
A15: 4 | B15: Opel Mokka | C15: 36 | D15: 41766 | E15: 2837.9 | F15: 3614.88
A16: 5 | B16: Opel Insignia | C16: 1 | D16: 917 | E16: 58.69 | F16: 75.71
A17: 6 | B17: Opel Insignia Limousine | C17: 7 | D17: 1981 | E17: 119.49 | F17: 154.15
A18: 7 | B18: Opel Combo | C18: 1 | D18: 3255 | E18: 234.36 | F18: 302.33
A19: 8 | B19: Peugeot Boxer | C19: 2 | D19: 2529 | E19: 232.19 | F19: 299.53
A20: 9 | B20: Renault Kangoo | C20: 8 | D20: 9021 | E20: 653.77 | F20: 843.35
A21: 10 | B21: Renault Laguna | C21: 4 | D21: 5308 | E21: 424.04 | F21: 547.02
A22: 11 | B22: Renault Trafic | C22: 3 | D22: 2777 | E22: 252.03 | F22: 325.12
A23: 12 | B23: Škoda Octavia | C23: 1 | D23: 470 | E23: 28.2 | F23: 36.38
... A29: 18 | B29: Volvo S60 | C29: 1 | D29: 565 | E29: 59.33 | F29: 84.25
