Workbook
Name ___brm2: [1]Taul4!$E$3
Name __brm2: [1]Taul4!$E$3
Name _brm2: [1]Taul4!$E$3
Name a: #N/A
Name aa: #N/A
Name aaa: #N/A
Name aaaa: #REF!
Name aaaaa: #REF!
Name Aktualizētā: IF(#REF!<>"",#REF!,"")
Name AKZ_Angebot: #REF!
Name AKZ_Auftrag: #REF!
Name Ang._Datum: #REF!
Name Annual_interest_rate: #REF!
Name antra: #REF!
Name Auftr._Datum: #REF!
Name Augsnes_biezums: #REF!
Name Bearbeiter: #REF!
Name Beg.Bal: IF(#REF!<>"",#REF!,"")
Name bruttonelio: [1]Taul4!$E$3
Name Buvn.likme: #REF!
Name C_k_platums: #REF!
Name Calculated_payment: #REF!
Name Cent_Stacija: #REF!
Name code: #REF!
Name Constr.fee: #REF!
Name Constr.rate: #REF!
Name CUE: '[2]BH1-Human resources'!#REF!
Name Cum.Interest: IF(#REF!<>"",#REF!+#REF!,"")
Name CUR: '[3]BH1-Human resources'!#REF!
Name Currencies: '[3]BH1-Human resources'!#REF!
Name cv: #REF!
Name d: #REF!
Name da: '[4]Tāme Nr.11'!#REF!
Name ddd: #N/A
Name Ending.Balance: IF(#REF!<>"",#REF!-#REF!,"")
Name Entered_payment: #REF!
Name eur: #REF!
Name Faktorgruppe1: #REF!
Name Faktorgruppe2: #REF!
Name Faktorgruppe3: #REF!
Name Faktorgruppe4: #REF!
Name Faktorgruppe5: #REF!
Name Faktorgruppe6: #REF!
Name Faktorgruppe7: #REF!
Name Faktorgruppe8: #REF!
Name Faktorgruppe9: #REF!
Name Faktorwerte: #REF!
Name Faktorwerte_der_Faktorgruppen: #REF!
Name Finanšu_gads: [5]Saraksti!$A$2:$A$6
Name First_payment_due: #REF!
Name First_payment_no: #REF!
Name Grāvja_dziļums: #REF!
Name Grāvja_platums: #REF!
Name Gruppenname1: #REF!
Name Gruppenname2: #REF!
Name Gruppenname3: #REF!
Name Gruppenname4: #REF!
Name Gruppenname5: #REF!
Name Gruppenname6: #REF!
Name Gruppenname7: #REF!

Sheet T1 noma un pārcelšanās
B2: Nr.p.k. | C2: Pārskata periods (gads) | E2: Nomas un papildu maksājumi Talejas ielā 1 ar PVN gadā | N2: Pārcelšanās izdevumi ar PVN gadā | W2: Nomas, papildu maksājumu un pārcelšanās izdevumi ar PVN gadā kopā
E3: VID | F3: AiM | G3: IAUI | H3: LRP | I3: VI | J3: EM | K3: NVA | L3: kopā: | N3: VID | O3: AiM | P3: IAUI | Q3: LRP | R3: VI | S3: EM | T3: NVA | U3: kopā: | W3: VID | X3: AiM | Y3: IAUI | Z3: LRP | AA3: VI | AB3: EM | AC3: NVA | AD3: kopā:
B4: 1 | C4: 2024 | E4: 6006804 | F4: 39288 | G4: 3243 | H4: 307000 | I4: 83188 | J4: 414373 | K4: 170695 | L4: =SUM(E4:K4) -> 7024591 | N4: 0 | O4: 0 | P4: 0 | Q4: 0 | R4: ='Talejas 1_anotācijai'!AX5 -> 0 | S4: ='Talejas 1_anotācijai'!BB5 -> 0 | T4: 0 | U4: =SUM(N4:T4) -> 0 | W4: =E4+N4 -> 6006804 | X4: =F4+O4 -> 39288 | Y4: =G4+P4 -> 3243 | Z4: =H4+Q4 -> 307000 | AA4: =I4+R4 -> 83188 | AB4: =J4+S4 -> 414373 | AC4: =K4+T4 -> 170695 | AD4: =SUM(W4:AC4) -> 7024591
B5: =B4+1 -> 2 | C5: 2025 | E5: 4493208 | F5: 117864 | G5: 3648 | H5: 753612 | I5: 360096 | J5: 1254120 | K5: 453672 | L5: =SUM(E5:K5) -> 7436220 | N5: 0 | O5: 0 | P5: 0 | Q5: 0 | R5: ='Talejas 1_anotācijai'!AX6 -> 35000 | S5: ='Talejas 1_anotācijai'!BB6 -> 0 | T5: 0 | U5: =SUM(N5:T5) -> 35000 | W5: =E5+N5 -> 4493208 | X5: =F5+O5 -> 117864 | Y5: =G5+P5 -> 3648 | Z5: =H5+Q5 -> 753612 | AA5: =I5+R5 -> 395096 | AB5: =J5+S5 -> 1254120 | AC5: =K5+T5 -> 453672 | AD5: =SUM(W5:AC5) -> 7471220
B6: =B5+1 -> 3 | C6: 2026 | E6: 4228824 | F6: 117864 | G6: 3348 | H6: 717083 | I6: 568140 | J6: 1655736 | K6: 442884 | L6: =SUM(E6:K6) -> 7733879 | N6: 0 | O6: 0 | P6: 0 | Q6: 0 | R6: ='Talejas 1_anotācijai'!AX7 -> 0 | S6: ='Talejas 1_anotācijai'!BB7 -> 240000 | T6: 0 | U6: =SUM(N6:T6) -> 240000 | W6: =E6+N6 -> 4228824 | X6: =F6+O6 -> 117864 | Y6: =G6+P6 -> 3348 | Z6: =H6+Q6 -> 717083 | AA6: =I6+R6 -> 568140 | AB6: =J6+S6 -> 1895736 | AC6: =K6+T6 -> 442884 | AD6: =SUM(W6:AC6) -> 7973879
B7: =B6+1 -> 4 | C7: 2027 | E7: 3457548 | F7: 117864 | G7: 2772 | H7: 75984 | I7: 517932 | J7: 2826348 | K7: 381084 | L7: =SUM(E7:K7) -> 7379532 | N7: 0 | O7: 0 | P7: 0 | Q7: 0 | R7: ='Talejas 1_anotācijai'!AX8 -> 0 | S7: ='Talejas 1_anotācijai'!BB8 -> 0 | T7: 0 | U7: =SUM(N7:T7) -> 0 | W7: =E7+N7 -> 3457548 | X7: =F7+O7 -> 117864 | Y7: =G7+P7 -> 2772 | Z7: =H7+Q7 -> 75984 | AA7: =I7+R7 -> 517932 | AB7: =J7+S7 -> 2826348 | AC7: =K7+T7 -> 381084 | AD7: =SUM(W7:AC7) -> 7379532
B8: =B7+1 -> 5 | C8: 2028 | E8: 3457548 | F8: 117864 | G8: 2772 | H8: 75984 | I8: 517932 | J8: 2826348 | K8: 364884 | L8: =SUM(E8:K8) -> 7363332 | N8: 0 | O8: 0 | P8: 0 | Q8: 0 | R8: ='Talejas 1_anotācijai'!AX9 -> 0 | S8: ='Talejas 1_anotācijai'!BB9 -> 0 | T8: 0 | U8: =SUM(N8:T8) -> 0 | W8: =E8+N8 -> 3457548 | X8: =F8+O8 -> 117864 | Y8: =G8+P8 -> 2772 | Z8: =H8+Q8 -> 75984 | AA8: =I8+R8 -> 517932 | AB8: =J8+S8 -> 2826348 | AC8: =K8+T8 -> 364884 | AD8: =SUM(W8:AC8) -> 7363332
B9: =B8+1 -> 6 | C9: 2029 | E9: 3457548 | F9: 78576 | G9: 2772 | H9: 75984 | I9: 517932 | J9: 2826348 | K9: 364884 | L9: =SUM(E9:K9) -> 7324044 | N9: 0 | O9: 0 | P9: 0 | Q9: 0 | R9: ='Talejas 1_anotācijai'!AX10 -> 0 | S9: ='Talejas 1_anotācijai'!BB10 -> 0 | T9: 0 | U9: =SUM(N9:T9) -> 0 | W9: =E9+N9 -> 3457548 | X9: =F9+O9 -> 78576 | Y9: =G9+P9 -> 2772 | Z9: =H9+Q9 -> 75984 | AA9: =I9+R9 -> 517932 | AB9: =J9+S9 -> 2826348 | AC9: =K9+T9 -> 364884 | AD9: =SUM(W9:AC9) -> 7324044
B10: =B9+1 -> 7 | C10: 2030 | E10: 3457548 | F10: 0 | G10: 2772 | H10: 75984 | I10: 484536 | J10: 2826348 | K10: 364884 | L10: =SUM(E10:K10) -> 7212072 | N10: 0 | O10: 0 | P10: 0 | Q10: 0 | R10: ='Talejas 1_anotācijai'!AX11 -> 0 | S10: ='Talejas 1_anotācijai'!BB11 -> 0 | T10: 0 | U10: =SUM(N10:T10) -> 0 | W10: =E10+N10 -> 3457548 | X10: =F10+O10 -> 0 | Y10: =G10+P10 -> 2772 | Z10: =H10+Q10 -> 75984 | AA10: =I10+R10 -> 484536 | AB10: =J10+S10 -> 2826348 | AC10: =K10+T10 -> 364884 | AD10: =SUM(W10:AC10) -> 7212072
B11: =B10+1 -> 8 | C11: 2031 | E11: 3457548 | F11: 0 | G11: 2772 | H11: 75984 | I11: 417744 | J11: 2826348 | K11: 364884 | L11: =SUM(E11:K11) -> 7145280 | N11: 0 | O11: 0 | P11: 0 | Q11: 0 | R11: ='Talejas 1_anotācijai'!AX12 -> 0 | S11: ='Talejas 1_anotācijai'!BB12 -> 0 | T11: 0 | U11: =SUM(N11:T11) -> 0 | W11: =E11+N11 -> 3457548 | X11: =F11+O11 -> 0 | Y11: =G11+P11 -> 2772 | Z11: =H11+Q11 -> 75984 | AA11: =I11+R11 -> 417744 | AB11: =J11+S11 -> 2826348 | AC11: =K11+T11 -> 364884 | AD11: =SUM(W11:AC11) -> 7145280
B12: =B11+1 -> 9 | C12: 2032 | E12: 3457548 | F12: 0 | G12: 2772 | H12: 75984 | I12: 417744 | J12: 2221164 | K12: 364884 | L12: =SUM(E12:K12) -> 6540096 | N12: 0 | O12: 0 | P12: 0 | Q12: 0 | R12: ='Talejas 1_anotācijai'!AX13 -> 0 | S12: ='Talejas 1_anotācijai'!BB13 -> 0 | T12: 0 | U12: =SUM(N12:T12) -> 0 | W12: =E12+N12 -> 3457548 | X12: =F12+O12 -> 0 | Y12: =G12+P12 -> 2772 | Z12: =H12+Q12 -> 75984 | AA12: =I12+R12 -> 417744 | AB12: =J12+S12 -> 2221164 | AC12: =K12+T12 -> 364884 | AD12: =SUM(W12:AC12) -> 6540096
B13: =B12+1 -> 10 | C13: 2033 | E13: 3457548 | F13: 0 | G13: 2772 | H13: 75984 | I13: 417744 | J13: 2221164 | K13: 364884 | L13: =SUM(E13:K13) -> 6540096 | N13: 0 | O13: 0 | P13: 0 | Q13: 0 | R13: ='Talejas 1_anotācijai'!AX14 -> 0 | S13: ='Talejas 1_anotācijai'!BB14 -> 0 | T13: 0 | U13: =SUM(N13:T13) -> 0 | W13: =E13+N13 -> 3457548 | X13: =F13+O13 -> 0 | Y13: =G13+P13 -> 2772 | Z13: =H13+Q13 -> 75984 | AA13: =I13+R13 -> 417744 | AB13: =J13+S13 -> 2221164 | AC13: =K13+T13 -> 364884 | AD13: =SUM(W13:AC13) -> 6540096
B14: =B13+1 -> 11 | C14: 2034 | E14: 3457548 | F14: 0 | G14: 2772 | H14: 75984 | I14: 417744 | J14: 2221164 | K14: 364884 | L14: =SUM(E14:K14) -> 6540096 | N14: 0 | O14: 0 | P14: 0 | Q14: 0 | R14: ='Talejas 1_anotācijai'!AX15 -> 0 | S14: ='Talejas 1_anotācijai'!BB15 -> 0 | T14: 0 | U14: =SUM(N14:T14) -> 0 | W14: =E14+N14 -> 3457548 | X14: =F14+O14 -> 0 | Y14: =G14+P14 -> 2772 | Z14: =H14+Q14 -> 75984 | AA14: =I14+R14 -> 417744 | AB14: =J14+S14 -> 2221164 | AC14: =K14+T14 -> 364884 | AD14: =SUM(W14:AC14) -> 6540096
B15: =B14+1 -> 12 | C15: 2035 | E15: 3457548 | F15: 0 | G15: 2772 | H15: 75984 | I15: 362688 | J15: 2221164 | K15: 364884 | L15: =SUM(E15:K15) -> 6485040 | N15: 0 | O15: 0 | P15: 0 | Q15: 0 | R15: ='Talejas 1_anotācijai'!AX16 -> 0 | S15: ='Talejas 1_anotācijai'!BB16 -> 0 | T15: 0 | U15: =SUM(N15:T15) -> 0 | W15: =E15+N15 -> 3457548 | X15: =F15+O15 -> 0 | Y15: =G15+P15 -> 2772 | Z15: =H15+Q15 -> 75984 | AA15: =I15+R15 -> 362688 | AB15: =J15+S15 -> 2221164 | AC15: =K15+T15 -> 364884 | AD15: =SUM(W15:AC15) -> 6485040
B16: =B15+1 -> 13 | C16: 2036 | E16: 3457548 | F16: 0 | G16: 2772 | H16: 75984 | I16: 252576 | J16: 2221164 | K16: 364884 | L16: =SUM(E16:K16) -> 6374928 | N16: 0 | O16: 0 | P16: 0 | Q16: 0 | R16: ='Talejas 1_anotācijai'!AX17 -> 0 | S16: ='Talejas 1_anotācijai'!BB17 -> 0 | T16: 0 | U16: =SUM(N16:T16) -> 0 | W16: =E16+N16 -> 3457548 | X16: =F16+O16 -> 0 | Y16: =G16+P16 -> 2772 | Z16: =H16+Q16 -> 75984 | AA16: =I16+R16 -> 252576 | AB16: =J16+S16 -> 2221164 | AC16: =K16+T16 -> 364884 | AD16: =SUM(W16:AC16) -> 6374928
... B24: =B23+1 -> 21 | C24: 2044 | E24: 1152516 | F24: 0 | G24: 924 | H24: 25328 | I24: 84192 | J24: 740388 | K24: 121628 | L24: =SUM(E24:K24) -> 2124976 | N24: 0 | O24: 0 | P24: 0 | Q24: 0 | R24: ='Talejas 1_anotācijai'!AX25 -> 0 | S24: ='Talejas 1_anotācijai'!BB25 -> 0 | T24: 0 | U24: =SUM(N24:T24) -> 0 | W24: =E24+N24 -> 1152516 | X24: =F24+O24 -> 0 | Y24: =G24+P24 -> 924 | Z24: =H24+Q24 -> 25328 | AA24: =I24+R24 -> 84192 | AB24: =J24+S24 -> 740388 | AC24: =K24+T24 -> 121628 | AD24: =SUM(W24:AC24) -> 2124976
B25: PAVISAM KOPĀ: | E25: =SUM(E4:E24) -> 74659668 | F25: =SUM(F4:F24) -> 589320 | G25: =SUM(G4:G24) -> 58287 | H25: =SUM(H4:H24) -> 3094751 | I25: =SUM(I4:I24) -> 7188220 | J25: =SUM(J4:J24) -> 44850325 | K25: =SUM(K4:K24) -> 7408107 | L25: =SUM(L4:L24) -> 137848678 | N25: =SUM(N4:N24) -> 0 | O25: =SUM(O4:O24) -> 0 | P25: =SUM(P4:P24) -> 0 | Q25: =SUM(Q4:Q24) -> 0 | R25: =SUM(R4:R24) -> 35000 | S25: =SUM(S4:S24) -> 240000 | T25: =SUM(T4:T24) -> 0 | U25: =SUM(U4:U24) -> 275000 | W25: =SUM(W4:W24) -> 74659668 | X25: =SUM(X4:X24) -> 589320 | Y25: =SUM(Y4:Y24) -> 58287 | Z25: =SUM(Z4:Z24) -> 3094751 | AA25: =SUM(AA4:AA24) -> 7223220 | AB25: =SUM(AB4:AB24) -> 45090325 | AC25: =SUM(AC4:AC24) -> 7408107 | AD25: =SUM(AD4:AD24) -> 138123678

Sheet Talejas 1_TAP
A1: Jāliek AR PVN
A2: Nr.p.k. | B2: Pārskata periods (gads) | C2: Apstiprinātais finansējums | M2: Izmaiņas +/- | N2: Precizētais finansējums | Y2: Izmaiņas
C3: Valsts ieņēmumu dienests | D3: Aizsardzības ministrija | E3: Valsts darba inspekcija | F3: Valsts sociālās apdrošināšanas aģentūra | G3: Izložu un azartspēļu uzraudzības inspekcija | H3: Latvijas republikas prokuratūra | I3: Veselības inspekcija | J3: Ekonomikas ministrija un iestādes | K3: Nodrošinājuma valsts aģentūra | L3: kopā: | N3: Valsts ieņēmumu dienests | O3: Aizsardzības ministrija | P3: Valsts darba inspekcija | Q3: Valsts sociālās apdrošināšanas aģentūra | R3: Izložu un azartspēļu uzraudzības inspekcija | S3: Latvijas republikas prokuratūra | T3: Veselības inspekcija | U3: Ekonomikas ministrija un iestādes | V3: Nodrošinājuma valsts aģentūra | W3: kopā: | Y3: Valsts ieņēmumu dienests | Z3: Aizsardzības ministrija | AA3: Valsts darba inspekcija | AB3: Valsts sociālās apdrošināšanas aģentūra | AC3: Izložu un azartspēļu uzraudzības inspekcija | AD3: Latvijas republikas prokuratūra | AE3: Veselības inspekcija | AF3: Ekonomikas ministrija un iestādes | AG3: Nodrošinājuma valsts aģentūra | AH3: kopā:
A4: 1. | B4: 2.
A5: 1 | B5: 2024 | C5: 6780683 | D5: 39288 | E5: 6193 | F5: 35897 | G5: 2999 | H5: 408657 | I5: 272722 | J5: 487652 | K5: 13878235 | L5: 21912326 | M5: -255579 | N5: 6006804 | O5: 39288 | P5: 0 | Q5: 0 | R5: 3243 | S5: 471242 | T5: 355910 | U5: 902025 | V5: 13878235 | W5: 21656747 | Y5: -773879 | Z5: 0 | AA5: -6193 | AB5: -35897 | AC5: 244 | AD5: 62585 | AE5: 83188 | AF5: 414373 | AG5: 0 | AH5: -255579
A6: 2 | B6: 2025 | C6: 6367743 | D6: 117864 | E6: 6193 | F6: 35897 | G6: 2999 | H6: 1365144 | I6: 272722 | J6: 487652 | K6: 14033528 | L6: 22689742 | M6: -39904 | N6: 4493208 | O6: 117864 | P6: 0 | Q6: 0 | R6: 3648 | S6: 1410574 | T6: 576911 | U6: 1741772 | V6: 14305861 | W6: 22649838 | Y6: -1874535 | Z6: 0 | AA6: -6193 | AB6: -35897 | AC6: 649 | AD6: 45430 | AE6: 304189 | AF6: 1254120 | AG6: 272333 | AH6: -39904
A7: 3 | B7: 2026 | C7: 6367743 | D7: 117864 | E7: 6193 | F7: 35897 | G7: 2999 | H7: 1152591 | I7: 272722 | J7: 487652 | K7: 13080010 | L7: 21523671 | M7: -181513 | N7: 4228824 | O7: 117864 | P7: 0 | Q7: 0 | R7: 3348 | S7: 1264551 | T7: 568140 | U7: 1895736 | V7: 13263695 | W7: 21342158 | Y7: -2138919 | Z7: 0 | AA7: -6193 | AB7: -35897 | AC7: 349 | AD7: 111960 | AE7: 295418 | AF7: 1408084 | AG7: 183685 | AH7: -181513
A8: 4 | B8: 2027 | C8: 6780683 | D8: 117864 | E8: 6193 | F8: 35897 | G8: 2999 | H8: 89825 | I8: 272722 | J8: 487652 | K8: 13080010 | L8: 20873845 | M8: -673502 | N8: 3457548 | O8: 117864 | P8: 0 | Q8: 0 | R8: 2772 | S8: 75984 | T8: 517932 | U8: 2826348 | V8: 13201895 | W8: 20200343 | Y8: -3323135 | Z8: 0 | AA8: -6193 | AB8: -35897 | AC8: -227 | AD8: -13841 | AE8: 245210 | AF8: 2338696 | AG8: 121885 | AH8: -673502
A9: 5 | B9: 2028 | C9: 6780683 | D9: 117864 | E9: 6193 | F9: 35897 | G9: 2999 | H9: 89825 | I9: 272722 | J9: 487652 | K9: 0 | L9: 7793835 | M9: -430503 | N9: 3457548 | O9: 117864 | P9: 0 | Q9: 0 | R9: 2772 | S9: 75984 | T9: 517932 | U9: 2826348 | V9: 364884 | W9: 7363332 | Y9: -3323135 | Z9: 0 | AA9: -6193 | AB9: -35897 | AC9: -227 | AD9: -13841 | AE9: 245210 | AF9: 2338696 | AG9: 364884 | AH9: -430503
A10: 6 | B10: 2029 | C10: 6780683 | D10: 78576 | E10: 6193 | F10: 35897 | G10: 2999 | H10: 89825 | I10: 272722 | J10: 487652 | K10: 0 | L10: 7754547 | M10: -430503 | N10: 3457548 | O10: 78576 | P10: 0 | Q10: 0 | R10: 2772 | S10: 75984 | T10: 517932 | U10: 2826348 | V10: 364884 | W10: 7324044 | Y10: -3323135 | Z10: 0 | AA10: -6193 | AB10: -35897 | AC10: -227 | AD10: -13841 | AE10: 245210 | AF10: 2338696 | AG10: 364884 | AH10: -430503
A11: 7 | B11: 2030 | C11: 6780683 | D11: 0 | E11: 6193 | F11: 35897 | G11: 2999 | H11: 89825 | I11: 272722 | J11: 487652 | K11: 0 | L11: 7675971 | M11: -463899 | N11: 3457548 | O11: 0 | P11: 0 | Q11: 0 | R11: 2772 | S11: 75984 | T11: 484536 | U11: 2826348 | V11: 364884 | W11: 7212072 | Y11: -3323135 | Z11: 0 | AA11: -6193 | AB11: -35897 | AC11: -227 | AD11: -13841 | AE11: 211814 | AF11: 2338696 | AG11: 364884 | AH11: -463899
A12: 8 | B12: 2031 | C12: 6780683 | D12: 0 | E12: 6193 | F12: 35897 | G12: 2999 | H12: 89825 | I12: 272722 | J12: 487652 | K12: 0 | L12: 7675971 | M12: -530691 | N12: 3457548 | O12: 0 | P12: 0 | Q12: 0 | R12: 2772 | S12: 75984 | T12: 417744 | U12: 2826348 | V12: 364884 | W12: 7145280 | Y12: -3323135 | Z12: 0 | AA12: -6193 | AB12: -35897 | AC12: -227 | AD12: -13841 | AE12: 145022 | AF12: 2338696 | AG12: 364884 | AH12: -530691
A13: 9 | B13: 2032 | C13: 6780683 | D13: 0 | E13: 6193 | F13: 35897 | G13: 2999 | H13: 89825 | I13: 272722 | J13: 487652 | K13: 0 | L13: 7675971 | M13: -1135875 | N13: 3457548 | O13: 0 | P13: 0 | Q13: 0 | R13: 2772 | S13: 75984 | T13: 417744 | U13: 2221164 | V13: 364884 | W13: 6540096 | Y13: -3323135 | Z13: 0 | AA13: -6193 | AB13: -35897 | AC13: -227 | AD13: -13841 | AE13: 145022 | AF13: 1733512 | AG13: 364884 | AH13: -1135875
A14: 10 | B14: 2033 | C14: 6780683 | D14: 0 | E14: 6193 | F14: 35897 | G14: 2999 | H14: 89825 | I14: 272722 | J14: 487652 | K14: 0 | L14: 7675971 | M14: -1135875 | N14: 3457548 | O14: 0 | P14: 0 | Q14: 0 | R14: 2772 | S14: 75984 | T14: 417744 | U14: 2221164 | V14: 364884 | W14: 6540096 | Y14: -3323135 | Z14: 0 | AA14: -6193 | AB14: -35897 | AC14: -227 | AD14: -13841 | AE14: 145022 | AF14: 1733512 | AG14: 364884 | AH14: -1135875
A15: 11 | B15: 2034 | C15: 6780683 | D15: 0 | E15: 6193 | F15: 35897 | G15: 2999 | H15: 89825 | I15: 272722 | J15: 487652 | K15: 0 | L15: 7675971 | M15: -1135875 | N15: 3457548 | O15: 0 | P15: 0 | Q15: 0 | R15: 2772 | S15: 75984 | T15: 417744 | U15: 2221164 | V15: 364884 | W15: 6540096 | Y15: -3323135 | Z15: 0 | AA15: -6193 | AB15: -35897 | AC15: -227 | AD15: -13841 | AE15: 145022 | AF15: 1733512 | AG15: 364884 | AH15: -1135875
A16: 12 | B16: 2035 | C16: 6780683 | D16: 0 | E16: 6193 | F16: 35897 | G16: 2999 | H16: 89825 | I16: 272722 | J16: 487652 | K16: 0 | L16: 7675971 | M16: -1190931 | N16: 3457548 | O16: 0 | P16: 0 | Q16: 0 | R16: 2772 | S16: 75984 | T16: 362688 | U16: 2221164 | V16: 364884 | W16: 6485040 | Y16: -3323135 | Z16: 0 | AA16: -6193 | AB16: -35897 | AC16: -227 | AD16: -13841 | AE16: 89966 | AF16: 1733512 | AG16: 364884 | AH16: -1190931
... A24: 20 | B24: 2043 | C24: 6780683 | D24: 0 | E24: 6193 | F24: 35897 | G24: 2999 | H24: 89825 | I24: 272722 | J24: 487652 | K24: 0 | L24: 7675971 | M24: -1301043 | N24: 3457548 | O24: 0 | P24: 0 | Q24: 0 | R24: 2772 | S24: 75984 | T24: 252576 | U24: 2221164 | V24: 364884 | W24: 6374928 | Y24: -3323135 | Z24: 0 | AA24: -6193 | AB24: -35897 | AC24: -227 | AD24: -13841 | AE24: -20146 | AF24: 1733512 | AG24: 364884 | AH24: -1301043
A25: 21 | B25: 2044 (4 mēneši) | C25: 1676336 | D25: 0 | E25: 1549 | F25: 8975 | G25: 750 | H25: 23870 | I25: 90907 | J25: 487652 | K25: 0 | L25: 2290039 | M25: -165063 | N25: 1152516 | O25: 0 | P25: 0 | Q25: 0 | R25: 924 | S25: 25328 | T25: 84192 | U25: 740388 | V25: 121628 | W25: 2124976 | Y25: -523820 | Z25: 0 | AA25: -1549 | AB25: -8975 | AC25: 174 | AD25: 1458 | AE25: -6715 | AF25: 252736 | AG25: 121628 | AH25: -165063
A26: PAVISAM KOPĀ: | C26: 136464116 | D26: 589320 | E26: 125409 | F26: 726915 | G26: 60730 | H26: 4477287 | I26: 5545347 | J26: 10240692 | K26: 54071783 | L26: 212301599 | M26: -18178057 | N26: 74659668 | O26: 589320 | P26: 0 | Q26: 0 | R26: 58287 | S26: 4463423 | T26: 7677757 | U26: 46065629 | V26: 60609458 | W26: 194123542 | Y26: -61804448 | Z26: 0 | AA26: -125409 | AB26: -726915 | AC26: -2443 | AD26: -13864 | AE26: 2132410 | AF26: 35824937 | AG26: 6537675 | AH26: -18178057
C28: * apstiprinātā finansējuma daļā VID, IAUI, LRP finansējums 2044.gadā ir norādīts par 3 mēnešiem.

Sheet Talejas 1_anotācijai
A1: Jāliek AR PVN
A2: Nr.p.k. | B2: Pārskata periods (gads) | C2: Apstiprinātais finansējums | AE2: Izmaiņas +/- | AF2: Precizētais finansējums | BI2: Izmaiņas
C3: Valsts ieņēmumu dienests | D3: Aizsardzības ministrija | E3: Valsts darba inspekcija | F3: Valsts sociālās apdrošināšanas aģentūra | G3: Izložu un azartspēļu uzraudzības inspekcija | H3: IAUI nomas maksa Talejas 1 apstiprinātā pēc MK rīkojuma | I3: IAUI nomas maksa Talejas 1 pēc 26.09.2023. PPP starpība | J3: Latvijas republikas prokuratūra | K3: LRP esošo telpu nomas un papildu maksājumi Talejas 1 | L3: LRP esošo telpu nomas maksa Talejas 1 apstiprinātā pēc MK rīkojuma | M3: LRP esošo telpu nomas maksa Talejas 1 pēc 26.09.2023. PPP starpība | N3: LRP jauno (pagaidu) telpu nomas un papildu maksājumi kopā | O3: LRP jauno (pagaidu) telpu nomas un papildu maksājumi Talejas 1 | P3: LRP jauno (pagaidu) telpu nomas un papildu maksājumi Ierēdņu ielā 3 | Q3: LRP jauno (pagaidu) telpu komunālie maksājumi Talejas 1 un Ierēdņu 3 | R3: Veselības inspekcija | S3: VI nomas un papildu maksājumi Klijānu 7 | T3: VI nomas un papildu maksājumi Talejas 1 | U3: VI pārcelšanās izdevumi | V3: Ekonomikas ministrija un iestādes | W3: EM un iestāžu esošo telpu izmaksas | X3: EM un iestāžu nomas un papildu maksājumi Talejas 1 | Y3: EM un iestāžu pārcelšanās izmaksas | Z3: Nodrošinājuma valsts aģentūra | AA3: NVA (VUGD un VRS) nomas un papildu maksājumi Talejas 1 | AB3: NVA (VUGD) telpu pielāgošana Talejas 1 | AC3: NVA nomas un papildu maksājumi citām ilgtermiņa saistībām un apsaimniekošanai | AD3: kopā: | AF3: Valsts ieņēmumu dienests | AG3: Aizsardzības ministrija | AH3: Valsts darba inspekcija | AI3: Valsts sociālās apdrošināšanas aģentūra | AJ3: Izložu un azartspēļu uzraudzības inspekcija | AK3: IAUI nomas maksa Talejas 1 apstiprinātā pēc MK rīkojuma | AL3: IAUI nomas maksa Talejas 1 pēc 26.09.2023. PPP starpība | AM3: Latvijas republikas prokuratūra | AN3: LRP esošo telpu nomas un papildu maksājumi Talejas 1 | AO3: LRP esošo telpu nomas maksa Talejas 1 apstiprinātā pēc MK rīkojuma | AP3: LRP esošo telpu nomas maksa Talejas 1 pēc 26.09.2023. PPP starpība | AQ3: LRP jauno (pagaidu) telpu nomas un papildu maksājumi kopā | AR3: LRP jauno (pagaidu) telpu nomas un papildu maksājumi Talejas 1 | AS3: LRP jauno (pagaidu) telpu nomas un papildu maksājumi Ierēdņu ielā 3 | AT3: LRP jauno (pagaidu) telpu komunālie maksājumi Talejas 1 un Ierēdņu 3 | AU3: Veselības inspekcija | AV3: VI nomas un papildu maksājumi Klijānu 7 | AW3: VI nomas un papildu maksājumi Talejas 1 | AX3: VI pārcelšanās izdevumi | AY3: Ekonomikas ministrija un iestādes | AZ3: EM un iestāžu esošo telpu izmaksas | BA3: EM un iestāžu nomas un papildu maksājumi Talejas 1 | BB3: EM un iestāžu pārcelšanās izmaksas | BC3: Nodrošinājuma valsts aģentūra | BD3: NVA (VUGD un VRS) nomas un papildu maksājumi Talejas 1 | BE3: NVA (VUGD) telpu pielāgošana Talejas 1 | BF3: NVA nomas un papildu maksājumi citām ilgtermiņa saistībām un apsaimniekošanai | BG3: kopā: | BI3: Valsts ieņēmumu dienests | BJ3: Aizsardzības ministrija | BK3: Valsts darba inspekcija | BL3: Valsts sociālās apdrošināšanas aģentūra | BM3: Izložu un azartspēļu uzraudzības inspekcija | BN3: IAUI nomas maksa Talejas 1 apstiprinātā pēc MK rīkojuma | BO3: IAUI nomas maksa Talejas 1 pēc 26.09.2023. PPP starpība | BP3: Latvijas republikas prokuratūra | BQ3: LRP esošo telpu nomas un papildu maksājumi Talejas 1 | BR3: LRP esošo telpu nomas maksa Talejas 1 apstiprinātā pēc MK rīkojuma | BS3: LRP esošo telpu nomas maksa Talejas 1 pēc 26.09.2023. PPP starpība | BT3: LRP jauno (pagaidu) telpu nomas un papildu maksājumi Talejas 1 | BU3: LRP jauno (pagaidu) telpu nomas un papildu maksājumi Talejas 1 | BV3: LRP jauno (pagaidu) telpu nomas un papildu maksājumi Ierēdņu ielā 3 | BW3: LRP jauno (pagaidu) telpu komunālie maksājumi Talejas 1 un Ierēdņu 3 | BX3: Veselības inspekcija | BY3: VI nomas un papildu maksājumi Klijānu 7 | BZ3: VI nomas un papildu maksājumi Talejas 1 | CA3: VI pārcelšanās izdevumi | CB3: Ekonomikas ministrija un iestādes | CC3: EM un iestāžu esošo telpu izmaksas | CD3: EM un iestāžu nomas un papildu maksājumi Talejas 1 | CE3: EM un iestāžu pārcelšanās izmaksas | CF3: Nodrošinājuma valsts aģentūra | CG3: NVA (VUGD un VRS) nomas un papildu maksājumi Talejas 1 | CH3: NVA (VUGD) telpu pielāgošana Talejas 1 | CI3: NVA nomas un papildu maksājumi citām ilgtermiņa saistībām un apsaimniekošanai | CJ3: kopā:
A4: 1. | B4: 2. | G4: G=H+I | J4: J=K+N | K4: K=L+M | N4: N=O+P+Q | R4: R=S+T+U | V4: V=W+X+Y | Z4: Z=AA+AB+AC | AD4: AD=C+D+E+F+G+J+R+V+Z | AE4: AE=BG-AD | AJ4: AJ=AK+AL | AM4: AM=AN+AQ | AN4: AN=AO+AP | AQ4: AQ=AR+AS+AT | AU4: AU=AV+AW+AX | AY4: AY=AZ+BA+BB | BC4: BC=BD+BE+BF | BG4: BG=AF+AG+AH+AI+JA+AM+AU+AY+BC
A5: 1 | B5: 2024 | C5: 6780683 | D5: 39288 | E5: 6193 | F5: 35897 | G5: =H5+I5 -> 2999 | H5: 2701 | I5: 298 | J5: =K5+N5 -> 408657 | K5: =L5+M5 -> 89825 | L5: 70510 | M5: 19315 | N5: =O5+P5+Q5 -> 318832 | O5: 154590 | P5: 97824 | Q5: 66418 | R5: =S5+T5+U5 -> 272722 | S5: 272722 | T5: 0 | U5: 0 | V5: =W5+X5+Y5 -> 487652 | W5: 487652 | X5: 0 | Y5: 0 | Z5: =AA5+AB5+AC5 -> 13878235 | AA5: 0 | AB5: 396375 | AC5: 13481860 | AD5: =C5+D5+E5+F5+G5+J5+R5+V5+Z5 -> 21912326 | AE5: =BG5-AD5 -> -255579 | AF5: 6006804 | AG5: 39288 | AH5: 0 | AI5: 0 | AJ5: =AK5+AL5 -> 3243 | AK5: 3243 | AL5: 0 | AM5: =AN5+AQ5 -> 471242 | AN5: =AO5+AP5 -> 88816 | AO5: 88816 | AP5: 0 | AQ5: =AR5+AS5+AT5 -> 382426 | AR5: 218184 | AS5: 97824 | AT5: 66418 | AU5: =AV5+AW5+AX5 -> 355910 | AV5: 272722 | AW5: 83188 | AX5: 0 | AY5: =AZ5+BA5+BB5 -> 902025 | AZ5: 487652 | BA5: 414373 | BB5: 0 | BC5: =BD5+BE5+BF5 -> 13878235 | BD5: 170695 | BE5: 396375 | BF5: 13311165 | BG5: =AF5+AG5+AH5+AI5+AJ5+AM5+AU5+AY5+BC5 -> 21656747 | BI5: =AF5-C5 -> -773879 | BJ5: =AG5-D5 -> 0 | BK5: =AH5-E5 -> -6193 | BL5: =AI5-F5 -> -35897 | BM5: =AJ5-G5 -> 244 | BN5: =AK5-H5 -> 542 | BO5: =AL5-I5 -> -298 | BP5: =AM5-J5 -> 62585 | ... CJ5: =BG5-AD5 -> -255579
A6: 2 | B6: 2025 | C6: 6367743 | D6: 117864 | E6: 6193 | F6: 35897 | G6: =H6+I6 -> 2999 | H6: 2701 | I6: 298 | J6: =K6+N6 -> 1365144 | K6: =L6+M6 -> 89825 | L6: 70510 | M6: 19315 | N6: =O6+P6+Q6 -> 1275319 | O6: 618357 | P6: 391293 | Q6: =148873+116796 -> 265669 | R6: =S6+T6+U6 -> 272722 | S6: 272722 | T6: 0 | U6: 0 | V6: =W6+X6+Y6 -> 487652 | W6: 487652 | X6: 0 | Y6: 0 | Z6: =AA6+AB6+AC6 -> 14033528 | AA6: 0 | AB6: 574021 | AC6: 13459507 | AD6: =C6+D6+E6+F6+G6+J6+R6+V6+Z6 -> 22689742 | AE6: =BG6-AD6 -> -39904 | AF6: 4493208 | AG6: 117864 | AH6: 0 | AI6: 0 | AJ6: =AK6+AL6 -> 3648 | AK6: 3648 | AL6: 0 | AM6: =AN6+AQ6 -> 1410574 | AN6: =AO6+AP6 -> 95004 | AO6: 95004 | AP6: 0 | AQ6: =AR6+AS6+AT6 -> 1315570 | AR6: 658608 | AS6: 391293 | AT6: =148873+116796 -> 265669 | AU6: =AV6+AW6+AX6 -> 576911 | AV6: 181815 | AW6: 360096 | AX6: 35000 | AY6: =AZ6+BA6+BB6 -> 1741772 | AZ6: 487652 | BA6: 1254120 | BB6: 0 | BC6: =BD6+BE6+BF6 -> 14305861 | BD6: 453672 | BE6: 574021 | BF6: 13278168 | BG6: =AF6+AG6+AH6+AI6+AJ6+AM6+AU6+AY6+BC6 -> 22649838 | BI6: =AF6-C6 -> -1874535 | BJ6: =AG6-D6 -> 0 | BK6: =AH6-E6 -> -6193 | BL6: =AI6-F6 -> -35897 | BM6: =AJ6-G6 -> 649 | BN6: =AK6-H6 -> 947 | BO6: =AL6-I6 -> -298 | BP6: =AM6-J6 -> 45430 | ... CJ6: =BG6-AD6 -> -39904
A7: 3 | B7: 2026 | C7: 6367743 | D7: 117864 | E7: 6193 | F7: 35897 | G7: =H7+I7 -> 2999 | H7: 2701 | I7: 298 | J7: =K7+N7 -> 1152591 | K7: =L7+M7 -> 89825 | L7: 70510 | M7: 19315 | N7: =O7+P7+Q7 -> 1062766 | O7: 515298 | P7: 326077 | Q7: =124061+97330 -> 221391 | R7: =S7+T7+U7 -> 272722 | S7: 272722 | T7: 0 | U7: 0 | V7: =W7+X7+Y7 -> 487652 | W7: 487652 | X7: 0 | Y7: 0 | Z7: =AA7+AB7+AC7 -> 13080010 | AA7: 0 | AB7: 0 | AC7: 13080010 | AD7: =C7+D7+E7+F7+G7+J7+R7+V7+Z7 -> 21523671 | AE7: =BG7-AD7 -> -181513 | AF7: 4228824 | AG7: 117864 | AH7: 0 | AI7: 0 | AJ7: =AK7+AL7 -> 3348 | AK7: 3348 | AL7: 0 | AM7: =AN7+AQ7 -> 1264551 | AN7: =AO7+AP7 -> 91080 | AO7: 91080 | AP7: 0 | AQ7: =AR7+AS7+AT7 -> 1173471 | AR7: 626003 | AS7: 326077 | AT7: =124061+97330 -> 221391 | AU7: =AV7+AW7+AX7 -> 568140 | AV7: 0 | AW7: 568140 | AX7: 0 | AY7: =AZ7+BA7+BB7 -> 1895736 | AZ7: 0 | BA7: 1655736 | BB7: 240000 | BC7: =BD7+BE7+BF7 -> 13263695 | BD7: 442884 | BE7: 0 | BF7: 12820811 | BG7: =AF7+AG7+AH7+AI7+AJ7+AM7+AU7+AY7+BC7 -> 21342158 | BI7: =AF7-C7 -> -2138919 | BJ7: =AG7-D7 -> 0 | BK7: =AH7-E7 -> -6193 | BL7: =AI7-F7 -> -35897 | BM7: =AJ7-G7 -> 349 | BN7: =AK7-H7 -> 647 | BO7: =AL7-I7 -> -298 | BP7: =AM7-J7 -> 111960 | ... CJ7: =BG7-AD7 -> -181513
A8: 4 | B8: 2027 | C8: 6780683 | D8: 117864 | E8: 6193 | F8: 35897 | G8: =H8+I8 -> 2999 | H8: 2701 | I8: 298 | J8: =K8+N8 -> 89825 | K8: =L8+M8 -> 89825 | L8: 70510 | M8: 19315 | N8: =O8+P8+Q8 -> 0 | O8: 0 | P8: 0 | Q8: 0 | R8: =S8+T8+U8 -> 272722 | S8: 272722 | T8: 0 | U8: 0 | V8: =W8+X8+Y8 -> 487652 | W8: 487652 | X8: 0 | Y8: 0 | Z8: =AA8+AB8+AC8 -> 13080010 | AA8: 0 | AB8: 0 | AC8: 13080010 | AD8: =C8+D8+E8+F8+G8+J8+R8+V8+Z8 -> 20873845 | AE8: =BG8-AD8 -> -673502 | AF8: 3457548 | AG8: 117864 | AH8: 0 | AI8: 0 | AJ8: =AK8+AL8 -> 2772 | AK8: 2772 | AL8: 0 | AM8: =AN8+AQ8 -> 75984 | AN8: =AO8+AP8 -> 75984 | AO8: 75984 | AP8: 0 | AQ8: =AR8+AS8+AT8 -> 0 | AR8: 0 | AS8: 0 | AT8: 0 | AU8: =AV8+AW8+AX8 -> 517932 | AV8: 0 | AW8: 517932 | AX8: 0 | AY8: =AZ8+BA8+BB8 -> 2826348 | AZ8: 0 | BA8: 2826348 | BB8: 0 | BC8: =BD8+BE8+BF8 -> 13201895 | BD8: 381084 | BE8: 0 | BF8: 12820811 | BG8: =AF8+AG8+AH8+AI8+AJ8+AM8+AU8+AY8+BC8 -> 20200343 | BI8: =AF8-C8 -> -3323135 | BJ8: =AG8-D8 -> 0 | BK8: =AH8-E8 -> -6193 | BL8: =AI8-F8 -> -35897 | BM8: =AJ8-G8 -> -227 | BN8: =AK8-H8 -> 71 | BO8: =AL8-I8 -> -298 | BP8: =AM8-J8 -> -13841 | ... CJ8: =BG8-AD8 -> -673502
A9: 5 | B9: 2028 | C9: 6780683 | D9: 117864 | E9: 6193 | F9: 35897 | G9: =H9+I9 -> 2999 | H9: 2701 | I9: 298 | J9: =K9+N9 -> 89825 | K9: =L9+M9 -> 89825 | L9: 70510 | M9: 19315 | N9: =O9+P9+Q9 -> 0 | O9: 0 | P9: 0 | Q9: 0 | R9: =S9+T9+U9 -> 272722 | S9: 272722 | T9: 0 | U9: 0 | V9: =W9+X9+Y9 -> 487652 | W9: 487652 | X9: 0 | Y9: 0 | Z9: =AA9+AB9+AC9 -> 0 | AA9: 0 | AB9: 0 | AC9: 0 | AD9: =C9+D9+E9+F9+G9+J9+R9+V9+Z9 -> 7793835 | AE9: =BG9-AD9 -> -430503 | AF9: 3457548 | AG9: 117864 | AH9: 0 | AI9: 0 | AJ9: =AK9+AL9 -> 2772 | AK9: 2772 | AL9: 0 | AM9: =AN9+AQ9 -> 75984 | AN9: =AO9+AP9 -> 75984 | AO9: 75984 | AP9: 0 | AQ9: =AR9+AS9+AT9 -> 0 | AR9: 0 | AS9: 0 | AT9: 0 | AU9: =AV9+AW9+AX9 -> 517932 | AV9: 0 | AW9: 517932 | AX9: 0 | AY9: =AZ9+BA9+BB9 -> 2826348 | AZ9: 0 | BA9: 2826348 | BB9: 0 | BC9: =BD9+BE9+BF9 -> 364884 | BD9: 364884 | BE9: 0 | BF9: 0 | BG9: =AF9+AG9+AH9+AI9+AJ9+AM9+AU9+AY9+BC9 -> 7363332 | BI9: =AF9-C9 -> -3323135 | BJ9: =AG9-D9 -> 0 | BK9: =AH9-E9 -> -6193 | BL9: =AI9-F9 -> -35897 | BM9: =AJ9-G9 -> -227 | BN9: =AK9-H9 -> 71 | BO9: =AL9-I9 -> -298 | BP9: =AM9-J9 -> -13841 | ... CJ9: =BG9-AD9 -> -430503
A10: 6 | B10: 2029 | C10: 6780683 | D10: 78576 | E10: 6193 | F10: 35897 | G10: =H10+I10 -> 2999 | H10: 2701 | I10: 298 | J10: =K10+N10 -> 89825 | K10: =L10+M10 -> 89825 | L10: 70510 | M10: 19315 | N10: =O10+P10+Q10 -> 0 | O10: 0 | P10: 0 | Q10: 0 | R10: =S10+T10+U10 -> 272722 | S10: 272722 | T10: 0 | U10: 0 | V10: =W10+X10+Y10 -> 487652 | W10: 487652 | X10: 0 | Y10: 0 | Z10: =AA10+AB10+AC10 -> 0 | AA10: 0 | AB10: 0 | AC10: 0 | AD10: =C10+D10+E10+F10+G10+J10+R10+V10+Z10 -> 7754547 | AE10: =BG10-AD10 -> -430503 | AF10: 3457548 | AG10: 78576 | AH10: 0 | AI10: 0 | AJ10: =AK10+AL10 -> 2772 | AK10: 2772 | AL10: 0 | AM10: =AN10+AQ10 -> 75984 | AN10: =AO10+AP10 -> 75984 | AO10: 75984 | AP10: 0 | AQ10: =AR10+AS10+AT10 -> 0 | AR10: 0 | AS10: 0 | AT10: 0 | AU10: =AV10+AW10+AX10 -> 517932 | AV10: 0 | AW10: 517932 | AX10: 0 | AY10: =AZ10+BA10+BB10 -> 2826348 | AZ10: 0 | BA10: 2826348 | BB10: 0 | BC10: =BD10+BE10+BF10 -> 364884 | BD10: 364884 | BE10: 0 | BF10: 0 | BG10: =AF10+AG10+AH10+AI10+AJ10+AM10+AU10+AY10+BC10 -> 7324044 | BI10: =AF10-C10 -> -3323135 | BJ10: =AG10-D10 -> 0 | BK10: =AH10-E10 -> -6193 | BL10: =AI10-F10 -> -35897 | BM10: =AJ10-G10 -> -227 | BN10: =AK10-H10 -> 71 | BO10: =AL10-I10 -> -298 | BP10: =AM10-J10 -> -13841 | ... CJ10: =BG10-AD10 -> -430503
A11: 7 | B11: 2030 | C11: 6780683 | D11: 0 | E11: 6193 | F11: 35897 | G11: =H11+I11 -> 2999 | H11: 2701 | I11: 298 | J11: =K11+N11 -> 89825 | K11: =L11+M11 -> 89825 | L11: 70510 | M11: 19315 | N11: =O11+P11+Q11 -> 0 | O11: 0 | P11: 0 | Q11: 0 | R11: =S11+T11+U11 -> 272722 | S11: 272722 | T11: 0 | U11: 0 | V11: =W11+X11+Y11 -> 487652 | W11: 487652 | X11: 0 | Y11: 0 | Z11: =AA11+AB11+AC11 -> 0 | AA11: 0 | AB11: 0 | AC11: 0 | AD11: =C11+D11+E11+F11+G11+J11+R11+V11+Z11 -> 7675971 | AE11: =BG11-AD11 -> -463899 | AF11: 3457548 | AG11: 0 | AH11: 0 | AI11: 0 | AJ11: =AK11+AL11 -> 2772 | AK11: 2772 | AL11: 0 | AM11: =AN11+AQ11 -> 75984 | AN11: =AO11+AP11 -> 75984 | AO11: 75984 | AP11: 0 | AQ11: =AR11+AS11+AT11 -> 0 | AR11: 0 | AS11: 0 | AT11: 0 | AU11: =AV11+AW11+AX11 -> 484536 | AV11: 0 | AW11: 484536 | AX11: 0 | AY11: =AZ11+BA11+BB11 -> 2826348 | AZ11: 0 | BA11: 2826348 | BB11: 0 | BC11: =BD11+BE11+BF11 -> 364884 | BD11: 364884 | BE11: 0 | BF11: 0 | BG11: =AF11+AG11+AH11+AI11+AJ11+AM11+AU11+AY11+BC11 -> 7212072 | BI11: =AF11-C11 -> -3323135 | BJ11: =AG11-D11 -> 0 | BK11: =AH11-E11 -> -6193 | BL11: =AI11-F11 -> -35897 | BM11: =AJ11-G11 -> -227 | BN11: =AK11-H11 -> 71 | BO11: =AL11-I11 -> -298 | BP11: =AM11-J11 -> -13841 | ... CJ11: =BG11-AD11 -> -463899
A12: 8 | B12: 2031 | C12: 6780683 | D12: 0 | E12: 6193 | F12: 35897 | G12: =H12+I12 -> 2999 | H12: 2701 | I12: 298 | J12: =K12+N12 -> 89825 | K12: =L12+M12 -> 89825 | L12: 70510 | M12: 19315 | N12: =O12+P12+Q12 -> 0 | O12: 0 | P12: 0 | Q12: 0 | R12: =S12+T12+U12 -> 272722 | S12: 272722 | T12: 0 | U12: 0 | V12: =W12+X12+Y12 -> 487652 | W12: 487652 | X12: 0 | Y12: 0 | Z12: =AA12+AB12+AC12 -> 0 | AA12: 0 | AB12: 0 | AC12: 0 | AD12: =C12+D12+E12+F12+G12+J12+R12+V12+Z12 -> 7675971 | AE12: =BG12-AD12 -> -530691 | AF12: 3457548 | AG12: 0 | AH12: 0 | AI12: 0 | AJ12: =AK12+AL12 -> 2772 | AK12: 2772 | AL12: 0 | AM12: =AN12+AQ12 -> 75984 | AN12: =AO12+AP12 -> 75984 | AO12: 75984 | AP12: 0 | AQ12: =AR12+AS12+AT12 -> 0 | AR12: 0 | AS12: 0 | AT12: 0 | AU12: =AV12+AW12+AX12 -> 417744 | AV12: 0 | AW12: 417744 | AX12: 0 | AY12: =AZ12+BA12+BB12 -> 2826348 | AZ12: 0 | BA12: 2826348 | BB12: 0 | BC12: =BD12+BE12+BF12 -> 364884 | BD12: 364884 | BE12: 0 | BF12: 0 | BG12: =AF12+AG12+AH12+AI12+AJ12+AM12+AU12+AY12+BC12 -> 7145280 | BI12: =AF12-C12 -> -3323135 | BJ12: =AG12-D12 -> 0 | BK12: =AH12-E12 -> -6193 | BL12: =AI12-F12 -> -35897 | BM12: =AJ12-G12 -> -227 | BN12: =AK12-H12 -> 71 | BO12: =AL12-I12 -> -298 | BP12: =AM12-J12 -> -13841 | ... CJ12: =BG12-AD12 -> -530691
A13: 9 | B13: 2032 | C13: 6780683 | D13: 0 | E13: 6193 | F13: 35897 | G13: =H13+I13 -> 2999 | H13: 2701 | I13: 298 | J13: =K13+N13 -> 89825 | K13: =L13+M13 -> 89825 | L13: 70510 | M13: 19315 | N13: =O13+P13+Q13 -> 0 | O13: 0 | P13: 0 | Q13: 0 | R13: =S13+T13+U13 -> 272722 | S13: 272722 | T13: 0 | U13: 0 | V13: =W13+X13+Y13 -> 487652 | W13: 487652 | X13: 0 | Y13: 0 | Z13: =AA13+AB13+AC13 -> 0 | AA13: 0 | AB13: 0 | AC13: 0 | AD13: =C13+D13+E13+F13+G13+J13+R13+V13+Z13 -> 7675971 | AE13: =BG13-AD13 -> -1135875 | AF13: 3457548 | AG13: 0 | AH13: 0 | AI13: 0 | AJ13: =AK13+AL13 -> 2772 | AK13: 2772 | AL13: 0 | AM13: =AN13+AQ13 -> 75984 | AN13: =AO13+AP13 -> 75984 | AO13: 75984 | AP13: 0 | AQ13: =AR13+AS13+AT13 -> 0 | AR13: 0 | AS13: 0 | AT13: 0 | AU13: =AV13+AW13+AX13 -> 417744 | AV13: 0 | AW13: 417744 | AX13: 0 | AY13: =AZ13+BA13+BB13 -> 2221164 | AZ13: 0 | BA13: 2221164 | BB13: 0 | BC13: =BD13+BE13+BF13 -> 364884 | BD13: 364884 | BE13: 0 | BF13: 0 | BG13: =AF13+AG13+AH13+AI13+AJ13+AM13+AU13+AY13+BC13 -> 6540096 | BI13: =AF13-C13 -> -3323135 | BJ13: =AG13-D13 -> 0 | BK13: =AH13-E13 -> -6193 | BL13: =AI13-F13 -> -35897 | BM13: =AJ13-G13 -> -227 | BN13: =AK13-H13 -> 71 | BO13: =AL13-I13 -> -298 | BP13: =AM13-J13 -> -13841 | ... CJ13: =BG13-AD13 -> -1135875
A14: 10 | B14: 2033 | C14: 6780683 | D14: 0 | E14: 6193 | F14: 35897 | G14: =H14+I14 -> 2999 | H14: 2701 | I14: 298 | J14: =K14+N14 -> 89825 | K14: =L14+M14 -> 89825 | L14: 70510 | M14: 19315 | N14: =O14+P14+Q14 -> 0 | O14: 0 | P14: 0 | Q14: 0 | R14: =S14+T14+U14 -> 272722 | S14: 272722 | T14: 0 | U14: 0 | V14: =W14+X14+Y14 -> 487652 | W14: 487652 | X14: 0 | Y14: 0 | Z14: =AA14+AB14+AC14 -> 0 | AA14: 0 | AB14: 0 | AC14: 0 | AD14: =C14+D14+E14+F14+G14+J14+R14+V14+Z14 -> 7675971 | AE14: =BG14-AD14 -> -1135875 | AF14: 3457548 | AG14: 0 | AH14: 0 | AI14: 0 | AJ14: =AK14+AL14 -> 2772 | AK14: 2772 | AL14: 0 | AM14: =AN14+AQ14 -> 75984 | AN14: =AO14+AP14 -> 75984 | AO14: 75984 | AP14: 0 | AQ14: =AR14+AS14+AT14 -> 0 | AR14: 0 | AS14: 0 | AT14: 0 | AU14: =AV14+AW14+AX14 -> 417744 | AV14: 0 | AW14: 417744 | AX14: 0 | AY14: =AZ14+BA14+BB14 -> 2221164 | AZ14: 0 | BA14: 2221164 | BB14: 0 | BC14: =BD14+BE14+BF14 -> 364884 | BD14: 364884 | BE14: 0 | BF14: 0 | BG14: =AF14+AG14+AH14+AI14+AJ14+AM14+AU14+AY14+BC14 -> 6540096 | BI14: =AF14-C14 -> -3323135 | BJ14: =AG14-D14 -> 0 | BK14: =AH14-E14 -> -6193 | BL14: =AI14-F14 -> -35897 | BM14: =AJ14-G14 -> -227 | BN14: =AK14-H14 -> 71 | BO14: =AL14-I14 -> -298 | BP14: =AM14-J14 -> -13841 | ... CJ14: =BG14-AD14 -> -1135875
A15: 11 | B15: 2034 | C15: 6780683 | D15: 0 | E15: 6193 | F15: 35897 | G15: =H15+I15 -> 2999 | H15: 2701 | I15: 298 | J15: =K15+N15 -> 89825 | K15: =L15+M15 -> 89825 | L15: 70510 | M15: 19315 | N15: =O15+P15+Q15 -> 0 | O15: 0 | P15: 0 | Q15: 0 | R15: =S15+T15+U15 -> 272722 | S15: 272722 | T15: 0 | U15: 0 | V15: =W15+X15+Y15 -> 487652 | W15: 487652 | X15: 0 | Y15: 0 | Z15: =AA15+AB15+AC15 -> 0 | AA15: 0 | AB15: 0 | AC15: 0 | AD15: =C15+D15+E15+F15+G15+J15+R15+V15+Z15 -> 7675971 | AE15: =BG15-AD15 -> -1135875 | AF15: 3457548 | AG15: 0 | AH15: 0 | AI15: 0 | AJ15: =AK15+AL15 -> 2772 | AK15: 2772 | AL15: 0 | AM15: =AN15+AQ15 -> 75984 | AN15: =AO15+AP15 -> 75984 | AO15: 75984 | AP15: 0 | AQ15: =AR15+AS15+AT15 -> 0 | AR15: 0 | AS15: 0 | AT15: 0 | AU15: =AV15+AW15+AX15 -> 417744 | AV15: 0 | AW15: 417744 | AX15: 0 | AY15: =AZ15+BA15+BB15 -> 2221164 | AZ15: 0 | BA15: 2221164 | BB15: 0 | BC15: =BD15+BE15+BF15 -> 364884 | BD15: 364884 | BE15: 0 | BF15: 0 | BG15: =AF15+AG15+AH15+AI15+AJ15+AM15+AU15+AY15+BC15 -> 6540096 | BI15: =AF15-C15 -> -3323135 | BJ15: =AG15-D15 -> 0 | BK15: =AH15-E15 -> -6193 | BL15: =AI15-F15 -> -35897 | BM15: =AJ15-G15 -> -227 | BN15: =AK15-H15 -> 71 | BO15: =AL15-I15 -> -298 | BP15: =AM15-J15 -> -13841 | ... CJ15: =BG15-AD15 -> -1135875
A16: 12 | B16: 2035 | C16: 6780683 | D16: 0 | E16: 6193 | F16: 35897 | G16: =H16+I16 -> 2999 | H16: 2701 | I16: 298 | J16: =K16+N16 -> 89825 | K16: =L16+M16 -> 89825 | L16: 70510 | M16: 19315 | N16: =O16+P16+Q16 -> 0 | O16: 0 | P16: 0 | Q16: 0 | R16: =S16+T16+U16 -> 272722 | S16: 272722 | T16: 0 | U16: 0 | V16: =W16+X16+Y16 -> 487652 | W16: 487652 | X16: 0 | Y16: 0 | Z16: =AA16+AB16+AC16 -> 0 | AA16: 0 | AB16: 0 | AC16: 0 | AD16: =C16+D16+E16+F16+G16+J16+R16+V16+Z16 -> 7675971 | AE16: =BG16-AD16 -> -1190931 | AF16: 3457548 | AG16: 0 | AH16: 0 | AI16: 0 | AJ16: =AK16+AL16 -> 2772 | AK16: 2772 | AL16: 0 | AM16: =AN16+AQ16 -> 75984 | AN16: =AO16+AP16 -> 75984 | AO16: 75984 | AP16: 0 | AQ16: =AR16+AS16+AT16 -> 0 | AR16: 0 | AS16: 0 | AT16: 0 | AU16: =AV16+AW16+AX16 -> 362688 | AV16: 0 | AW16: 362688 | AX16: 0 | AY16: =AZ16+BA16+BB16 -> 2221164 | AZ16: 0 | BA16: 2221164 | BB16: 0 | BC16: =BD16+BE16+BF16 -> 364884 | BD16: 364884 | BE16: 0 | BF16: 0 | BG16: =AF16+AG16+AH16+AI16+AJ16+AM16+AU16+AY16+BC16 -> 6485040 | BI16: =AF16-C16 -> -3323135 | BJ16: =AG16-D16 -> 0 | BK16: =AH16-E16 -> -6193 | BL16: =AI16-F16 -> -35897 | BM16: =AJ16-G16 -> -227 | BN16: =AK16-H16 -> 71 | BO16: =AL16-I16 -> -298 | BP16: =AM16-J16 -> -13841 | ... CJ16: =BG16-AD16 -> -1190931
A17: 13 | B17: 2036 | C17: 6780683 | D17: 0 | E17: 6193 | F17: 35897 | G17: =H17+I17 -> 2999 | H17: 2701 | I17: 298 | J17: =K17+N17 -> 89825 | K17: =L17+M17 -> 89825 | L17: 70510 | M17: 19315 | N17: =O17+P17+Q17 -> 0 | O17: 0 | P17: 0 | Q17: 0 | R17: =S17+T17+U17 -> 272722 | S17: 272722 | T17: 0 | U17: 0 | V17: =W17+X17+Y17 -> 487652 | W17: 487652 | X17: 0 | Y17: 0 | Z17: =AA17+AB17+AC17 -> 0 | AA17: 0 | AB17: 0 | AC17: 0 | AD17: =C17+D17+E17+F17+G17+J17+R17+V17+Z17 -> 7675971 | AE17: =BG17-AD17 -> -1301043 | AF17: 3457548 | AG17: 0 | AH17: 0 | AI17: 0 | AJ17: =AK17+AL17 -> 2772 | AK17: 2772 | AL17: 0 | AM17: =AN17+AQ17 -> 75984 | AN17: =AO17+AP17 -> 75984 | AO17: 75984 | AP17: 0 | AQ17: =AR17+AS17+AT17 -> 0 | AR17: 0 | AS17: 0 | AT17: 0 | AU17: =AV17+AW17+AX17 -> 252576 | AV17: 0 | AW17: 252576 | AX17: 0 | AY17: =AZ17+BA17+BB17 -> 2221164 | AZ17: 0 | BA17: 2221164 | BB17: 0 | BC17: =BD17+BE17+BF17 -> 364884 | BD17: 364884 | BE17: 0 | BF17: 0 | BG17: =AF17+AG17+AH17+AI17+AJ17+AM17+AU17+AY17+BC17 -> 6374928 | BI17: =AF17-C17 -> -3323135 | BJ17: =AG17-D17 -> 0 | BK17: =AH17-E17 -> -6193 | BL17: =AI17-F17 -> -35897 | BM17: =AJ17-G17 -> -227 | BN17: =AK17-H17 -> 71 | BO17: =AL17-I17 -> -298 | BP17: =AM17-J17 -> -13841 | ... CJ17: =BG17-AD17 -> -1301043
A18: 14 | B18: 2037 | C18: 6780683 | D18: 0 | E18: 6193 | F18: 35897 | G18: =H18+I18 -> 2999 | H18: 2701 | I18: 298 | J18: =K18+N18 -> 89825 | K18: =L18+M18 -> 89825 | L18: 70510 | M18: 19315 | N18: =O18+P18+Q18 -> 0 | O18: 0 | P18: 0 | Q18: 0 | R18: =S18+T18+U18 -> 272722 | S18: 272722 | T18: 0 | U18: 0 | V18: =W18+X18+Y18 -> 487652 | W18: 487652 | X18: 0 | Y18: 0 | Z18: =AA18+AB18+AC18 -> 0 | AA18: 0 | AB18: 0 | AC18: 0 | AD18: =C18+D18+E18+F18+G18+J18+R18+V18+Z18 -> 7675971 | AE18: =BG18-AD18 -> -1301043 | AF18: 3457548 | AG18: 0 | AH18: 0 | AI18: 0 | AJ18: =AK18+AL18 -> 2772 | AK18: 2772 | AL18: 0 | AM18: =AN18+AQ18 -> 75984 | AN18: =AO18+AP18 -> 75984 | AO18: 75984 | AP18: 0 | AQ18: =AR18+AS18+AT18 -> 0 | AR18: 0 | AS18: 0 | AT18: 0 | AU18: =AV18+AW18+AX18 -> 252576 | AV18: 0 | AW18: 252576 | AX18: 0 | AY18: =AZ18+BA18+BB18 -> 2221164 | AZ18: 0 | BA18: 2221164 | BB18: 0 | BC18: =BD18+BE18+BF18 -> 364884 | BD18: 364884 | BE18: 0 | BF18: 0 | BG18: =AF18+AG18+AH18+AI18+AJ18+AM18+AU18+AY18+BC18 -> 6374928 | BI18: =AF18-C18 -> -3323135 | BJ18: =AG18-D18 -> 0 | BK18: =AH18-E18 -> -6193 | BL18: =AI18-F18 -> -35897 | BM18: =AJ18-G18 -> -227 | BN18: =AK18-H18 -> 71 | BO18: =AL18-I18 -> -298 | BP18: =AM18-J18 -> -13841 | ... CJ18: =BG18-AD18 -> -1301043
A19: 15 | B19: 2038 | C19: 6780683 | D19: 0 | E19: 6193 | F19: 35897 | G19: =H19+I19 -> 2999 | H19: 2701 | I19: 298 | J19: =K19+N19 -> 89825 | K19: =L19+M19 -> 89825 | L19: 70510 | M19: 19315 | N19: =O19+P19+Q19 -> 0 | O19: 0 | P19: 0 | Q19: 0 | R19: =S19+T19+U19 -> 272722 | S19: 272722 | T19: 0 | U19: 0 | V19: =W19+X19+Y19 -> 487652 | W19: 487652 | X19: 0 | Y19: 0 | Z19: =AA19+AB19+AC19 -> 0 | AA19: 0 | AB19: 0 | AC19: 0 | AD19: =C19+D19+E19+F19+G19+J19+R19+V19+Z19 -> 7675971 | AE19: =BG19-AD19 -> -1301043 | AF19: 3457548 | AG19: 0 | AH19: 0 | AI19: 0 | AJ19: =AK19+AL19 -> 2772 | AK19: 2772 | AL19: 0 | AM19: =AN19+AQ19 -> 75984 | AN19: =AO19+AP19 -> 75984 | AO19: 75984 | AP19: 0 | AQ19: =AR19+AS19+AT19 -> 0 | AR19: 0 | AS19: 0 | AT19: 0 | AU19: =AV19+AW19+AX19 -> 252576 | AV19: 0 | AW19: 252576 | AX19: 0 | AY19: =AZ19+BA19+BB19 -> 2221164 | AZ19: 0 | BA19: 2221164 | BB19: 0 | BC19: =BD19+BE19+BF19 -> 364884 | BD19: 364884 | BE19: 0 | BF19: 0 | BG19: =AF19+AG19+AH19+AI19+AJ19+AM19+AU19+AY19+BC19 -> 6374928 | BI19: =AF19-C19 -> -3323135 | BJ19: =AG19-D19 -> 0 | BK19: =AH19-E19 -> -6193 | BL19: =AI19-F19 -> -35897 | BM19: =AJ19-G19 -> -227 | BN19: =AK19-H19 -> 71 | BO19: =AL19-I19 -> -298 | BP19: =AM19-J19 -> -13841 | ... CJ19: =BG19-AD19 -> -1301043
... A24: 20 | B24: 2043 | C24: 6780683 | D24: 0 | E24: 6193 | F24: 35897 | G24: =H24+I24 -> 2999 | H24: 2701 | I24: 298 | J24: =K24+N24 -> 89825 | K24: =L24+M24 -> 89825 | L24: 70510 | M24: 19315 | N24: =O24+P24+Q24 -> 0 | O24: 0 | P24: 0 | Q24: 0 | R24: =S24+T24+U24 -> 272722 | S24: 272722 | T24: 0 | U24: 0 | V24: =W24+X24+Y24 -> 487652 | W24: 487652 | X24: 0 | Y24: 0 | Z24: =AA24+AB24+AC24 -> 0 | AA24: 0 | AB24: 0 | AC24: 0 | AD24: =C24+D24+E24+F24+G24+J24+R24+V24+Z24 -> 7675971 | AE24: =BG24-AD24 -> -1301043 | AF24: 3457548 | AG24: 0 | AH24: 0 | AI24: 0 | AJ24: =AK24+AL24 -> 2772 | AK24: 2772 | AL24: 0 | AM24: =AN24+AQ24 -> 75984 | AN24: =AO24+AP24 -> 75984 | AO24: 75984 | AP24: 0 | AQ24: =AR24+AS24+AT24 -> 0 | AR24: 0 | AS24: 0 | AT24: 0 | AU24: =AV24+AW24+AX24 -> 252576 | AV24: 0 | AW24: 252576 | AX24: 0 | AY24: =AZ24+BA24+BB24 -> 2221164 | AZ24: 0 | BA24: 2221164 | BB24: 0 | BC24: =BD24+BE24+BF24 -> 364884 | BD24: 364884 | BE24: 0 | BF24: 0 | BG24: =AF24+AG24+AH24+AI24+AJ24+AM24+AU24+AY24+BC24 -> 6374928 | BI24: =AF24-C24 -> -3323135 | BJ24: =AG24-D24 -> 0 | BK24: =AH24-E24 -> -6193 | BL24: =AI24-F24 -> -35897 | BM24: =AJ24-G24 -> -227 | BN24: =AK24-H24 -> 71 | BO24: =AL24-I24 -> -298 | BP24: =AM24-J24 -> -13841 | ... CJ24: =BG24-AD24 -> -1301043
A25: 21 | B25: 2044 (4 mēneši) | C25: 1676336 | D25: 0 | E25: 1549 | F25: 8975 | G25: =H25+I25 -> 750 | H25: 668 | I25: 82 | J25: =K25+N25 -> 23870 | K25: =L25+M25 -> 23870 | L25: 17432 | M25: 6438 | N25: =O25+P25+Q25 -> 0 | O25: 0 | P25: 0 | Q25: 0 | R25: =S25+T25+U25 -> 90907 | S25: 90907 | T25: 0 | U25: 0 | V25: =W25+X25+Y25 -> 487652 | W25: 487652 | X25: 0 | Y25: 0 | Z25: =AA25+AB25+AC25 -> 0 | AA25: 0 | AB25: 0 | AC25: 0 | AD25: =C25+D25+E25+F25+G25+J25+R25+V25+Z25 -> 2290039 | AE25: =BG25-AD25 -> -165063 | AF25: 1152516 | AG25: 0 | AH25: 0 | AI25: 0 | AJ25: =AK25+AL25 -> 924 | AK25: 924 | AL25: 0 | AM25: =AN25+AQ25 -> 25328 | AN25: =AO25+AP25 -> 25328 | AO25: 25328 | AP25: 0 | AQ25: =AR25+AS25+AT25 -> 0 | AR25: 0 | AS25: 0 | AT25: 0 | AU25: =AV25+AW25+AX25 -> 84192 | AV25: 0 | AW25: 84192 | AX25: 0 | AY25: =AZ25+BA25+BB25 -> 740388 | AZ25: 0 | BA25: 740388 | BB25: 0 | BC25: =BD25+BE25+BF25 -> 121628 | BD25: 121628 | BE25: 0 | BF25: 0 | BG25: =AF25+AG25+AH25+AI25+AJ25+AM25+AU25+AY25+BC25 -> 2124976 | BI25: =AF25-C25 -> -523820 | BJ25: =AG25-D25 -> 0 | BK25: =AH25-E25 -> -1549 | BL25: =AI25-F25 -> -8975 | BM25: =AJ25-G25 -> 174 | BN25: =AK25-H25 -> 256 | BO25: =AL25-I25 -> -82 | BP25: =AM25-J25 -> 1458 | ... CJ25: =BG25-AD25 -> -165063
A26: PAVISAM KOPĀ: | C26: =SUM(C5:C25) -> 136464116 | D26: =SUM(D5:D25) -> 589320 | E26: =SUM(E5:E25) -> 125409 | F26: =SUM(F5:F25) -> 726915 | G26: =SUM(G5:G25) -> 60730 | H26: =SUM(H5:H25) -> 54688 | I26: =SUM(I5:I25) -> 6042 | J26: =SUM(J5:J25) -> 4477287 | ... BG26: =SUM(BG5:BG25) -> 194123542 | BI26: =SUM(BI5:BI25) -> -61804448 | BJ26: =SUM(BJ5:BJ25) -> 0 | BK26: =SUM(BK5:BK25) -> -125409 | BL26: =SUM(BL5:BL25) -> -726915 | BM26: =SUM(BM5:BM25) -> -2443 | BN26: =SUM(BN5:BN25) -> 3599 | BO26: =SUM(BO5:BO25) -> -6042 | BP26: =SUM(BP5:BP25) -> -13864 | ... CJ26: =SUM(CJ5:CJ25) -> -18178057
C28: * apstiprinātā finansējuma daļā VID, IAUI, LRP finansējums 2044.gadā ir norādīts par 3 mēnešiem.

Sheet VID
A2: Pārskata periods (gads) | B2: VID pieejamais ilgtermiņa saistībām T1 | C2: VID nepieciešamais ilgtermiņa saistībām T1 | D2: VID ilgtermiņa saistību samazinājums | E2: ar MK rīkojumu pārdala no VID uz | K2: ar FM rīkojumu pārdala no VID uz IAUI* | L2: pārdala no VID kopā | M2: Atlikums, kas paliek VID
E3: LRP | F3: VI | G3: EM | H3: NVA | I3: IAUI | J3: citiem kopā
J4: J=E+F+G+H+I | L4: L=J+K | M4: M=D-L
A5: 2024 | B5: ='Talejas 1_anotācijai'!C5 -> 6780683 | C5: ='Talejas 1_anotācijai'!AF5 -> 6006804 | D5: ='Talejas 1_anotācijai'!BI5*-1 -> 773879 | E5: ='Talejas 1_anotācijai'!BP5 -> 62585 | F5: ='Talejas 1_anotācijai'!BX5 -> 83188 | G5: =EM!S5 -> 372283 | H5: ='Talejas 1_anotācijai'!CF5 -> 0 | I5: 0 | J5: =SUM(E5:I5) -> 518056 | K5: ='Talejas 1_anotācijai'!BM5 -> 244 | L5: =SUM(J5:K5) -> 518300 | M5: =D5-L5 -> 255579
A6: 2025 | B6: ='Talejas 1_anotācijai'!C6 -> 6367743 | C6: ='Talejas 1_anotācijai'!AF6 -> 4493208 | D6: ='Talejas 1_anotācijai'!BI6*-1 -> 1874535 | E6: ='Talejas 1_anotācijai'!BP6 -> 45430 | F6: ='Talejas 1_anotācijai'!BX6 -> 304189 | G6: =EM!S6 -> 1212030 | H6: ='Talejas 1_anotācijai'!CF6 -> 272333 | I6: ='Talejas 1_anotācijai'!BM6 -> 649 | J6: =SUM(E6:I6) -> 1834631 | K6: 0 | L6: =SUM(J6:K6) -> 1834631 | M6: =D6-L6 -> 39904
A7: 2026 | B7: ='Talejas 1_anotācijai'!C7 -> 6367743 | C7: ='Talejas 1_anotācijai'!AF7 -> 4228824 | D7: ='Talejas 1_anotācijai'!BI7*-1 -> 2138919 | E7: ='Talejas 1_anotācijai'!BP7 -> 111960 | F7: ='Talejas 1_anotācijai'!BX7 -> 295418 | G7: =EM!S7 -> 1365994 | H7: ='Talejas 1_anotācijai'!CF7 -> 183685 | I7: ='Talejas 1_anotācijai'!BM7 -> 349 | J7: =SUM(E7:I7) -> 1957406 | K7: 0 | L7: =SUM(J7:K7) -> 1957406 | M7: =D7-L7 -> 181513
A8: 2027 | B8: ='Talejas 1_anotācijai'!C8 -> 6780683 | C8: ='Talejas 1_anotācijai'!AF8 -> 3457548 | D8: ='Talejas 1_anotācijai'!BI8*-1 -> 3323135 | E8: 0 | F8: ='Talejas 1_anotācijai'!BX8 -> 245210 | G8: =EM!S8 -> 2282538 | H8: ='Talejas 1_anotācijai'!CF8 -> 121885 | I8: 0 | J8: =SUM(E8:I8) -> 2649633 | K8: 0 | L8: =SUM(J8:K8) -> 2649633 | M8: =D8-L8 -> 673502
A9: 2028 | B9: ='Talejas 1_anotācijai'!C9 -> 6780683 | C9: ='Talejas 1_anotācijai'!AF9 -> 3457548 | D9: ='Talejas 1_anotācijai'!BI9*-1 -> 3323135 | E9: 0 | F9: ='Talejas 1_anotācijai'!BX9 -> 245210 | G9: =EM!S9 -> 2282538 | H9: ='Talejas 1_anotācijai'!CF9 -> 364884 | I9: 0 | J9: =SUM(E9:I9) -> 2892632 | K9: 0 | L9: =SUM(J9:K9) -> 2892632 | M9: =D9-L9 -> 430503
A10: 2029 | B10: ='Talejas 1_anotācijai'!C10 -> 6780683 | C10: ='Talejas 1_anotācijai'!AF10 -> 3457548 | D10: ='Talejas 1_anotācijai'!BI10*-1 -> 3323135 | E10: 0 | F10: ='Talejas 1_anotācijai'!BX10 -> 245210 | G10: =EM!S10 -> 2282538 | H10: ='Talejas 1_anotācijai'!CF10 -> 364884 | I10: 0 | J10: =SUM(E10:I10) -> 2892632 | K10: 0 | L10: =SUM(J10:K10) -> 2892632 | M10: =D10-L10 -> 430503
A11: 2030 | B11: ='Talejas 1_anotācijai'!C11 -> 6780683 | C11: ='Talejas 1_anotācijai'!AF11 -> 3457548 | D11: ='Talejas 1_anotācijai'!BI11*-1 -> 3323135 | E11: 0 | F11: ='Talejas 1_anotācijai'!BX11 -> 211814 | G11: =EM!S11 -> 2282538 | H11: ='Talejas 1_anotācijai'!CF11 -> 364884 | I11: 0 | J11: =SUM(E11:I11) -> 2859236 | K11: 0 | L11: =SUM(J11:K11) -> 2859236 | M11: =D11-L11 -> 463899
A12: 2031 | B12: ='Talejas 1_anotācijai'!C12 -> 6780683 | C12: ='Talejas 1_anotācijai'!AF12 -> 3457548 | D12: ='Talejas 1_anotācijai'!BI12*-1 -> 3323135 | E12: 0 | F12: ='Talejas 1_anotācijai'!BX12 -> 145022 | G12: =EM!S12 -> 2282538 | H12: ='Talejas 1_anotācijai'!CF12 -> 364884 | I12: 0 | J12: =SUM(E12:I12) -> 2792444 | K12: 0 | L12: =SUM(J12:K12) -> 2792444 | M12: =D12-L12 -> 530691
A13: 2032 | B13: ='Talejas 1_anotācijai'!C13 -> 6780683 | C13: ='Talejas 1_anotācijai'!AF13 -> 3457548 | D13: ='Talejas 1_anotācijai'!BI13*-1 -> 3323135 | E13: 0 | F13: ='Talejas 1_anotācijai'!BX13 -> 145022 | G13: =EM!S13 -> 1677354 | H13: ='Talejas 1_anotācijai'!CF13 -> 364884 | I13: 0 | J13: =SUM(E13:I13) -> 2187260 | K13: 0 | L13: =SUM(J13:K13) -> 2187260 | M13: =D13-L13 -> 1135875
A14: 2033 | B14: ='Talejas 1_anotācijai'!C14 -> 6780683 | C14: ='Talejas 1_anotācijai'!AF14 -> 3457548 | D14: ='Talejas 1_anotācijai'!BI14*-1 -> 3323135 | E14: 0 | F14: ='Talejas 1_anotācijai'!BX14 -> 145022 | G14: =EM!S14 -> 1677354 | H14: ='Talejas 1_anotācijai'!CF14 -> 364884 | I14: 0 | J14: =SUM(E14:I14) -> 2187260 | K14: 0 | L14: =SUM(J14:K14) -> 2187260 | M14: =D14-L14 -> 1135875
A15: 2034 | B15: ='Talejas 1_anotācijai'!C15 -> 6780683 | C15: ='Talejas 1_anotācijai'!AF15 -> 3457548 | D15: ='Talejas 1_anotācijai'!BI15*-1 -> 3323135 | E15: 0 | F15: ='Talejas 1_anotācijai'!BX15 -> 145022 | G15: =EM!S15 -> 1677354 | H15: ='Talejas 1_anotācijai'!CF15 -> 364884 | I15: 0 | J15: =SUM(E15:I15) -> 2187260 | K15: 0 | L15: =SUM(J15:K15) -> 2187260 | M15: =D15-L15 -> 1135875
A16: 2035 | B16: ='Talejas 1_anotācijai'!C16 -> 6780683 | C16: ='Talejas 1_anotācijai'!AF16 -> 3457548 | D16: ='Talejas 1_anotācijai'!BI16*-1 -> 3323135 | E16: 0 | F16: ='Talejas 1_anotācijai'!BX16 -> 89966 | G16: =EM!S16 -> 1677354 | H16: ='Talejas 1_anotācijai'!CF16 -> 364884 | I16: 0 | J16: =SUM(E16:I16) -> 2132204 | K16: 0 | L16: =SUM(J16:K16) -> 2132204 | M16: =D16-L16 -> 1190931
A17: 2036 | B17: ='Talejas 1_anotācijai'!C17 -> 6780683 | C17: ='Talejas 1_anotācijai'!AF17 -> 3457548 | D17: ='Talejas 1_anotācijai'!BI17*-1 -> 3323135 | E17: 0 | F17: 0 | G17: =EM!S17 -> 1677354 | H17: ='Talejas 1_anotācijai'!CF17 -> 364884 | I17: 0 | J17: =SUM(E17:I17) -> 2042238 | K17: 0 | L17: =SUM(J17:K17) -> 2042238 | M17: =D17-L17 -> 1280897
A18: 2037 | B18: ='Talejas 1_anotācijai'!C18 -> 6780683 | C18: ='Talejas 1_anotācijai'!AF18 -> 3457548 | D18: ='Talejas 1_anotācijai'!BI18*-1 -> 3323135 | E18: 0 | F18: 0 | G18: =EM!S18 -> 1677354 | H18: ='Talejas 1_anotācijai'!CF18 -> 364884 | I18: 0 | J18: =SUM(E18:I18) -> 2042238 | K18: 0 | L18: =SUM(J18:K18) -> 2042238 | M18: =D18-L18 -> 1280897
A19: 2038 | B19: ='Talejas 1_anotācijai'!C19 -> 6780683 | C19: ='Talejas 1_anotācijai'!AF19 -> 3457548 | D19: ='Talejas 1_anotācijai'!BI19*-1 -> 3323135 | E19: 0 | F19: 0 | G19: =EM!S19 -> 1677354 | H19: ='Talejas 1_anotācijai'!CF19 -> 364884 | I19: 0 | J19: =SUM(E19:I19) -> 2042238 | K19: 0 | L19: =SUM(J19:K19) -> 2042238 | M19: =D19-L19 -> 1280897
A20: 2039 | B20: ='Talejas 1_anotācijai'!C20 -> 6780683 | C20: ='Talejas 1_anotācijai'!AF20 -> 3457548 | D20: ='Talejas 1_anotācijai'!BI20*-1 -> 3323135 | E20: 0 | F20: 0 | G20: =EM!S20 -> 1677354 | H20: ='Talejas 1_anotācijai'!CF20 -> 364884 | I20: 0 | J20: =SUM(E20:I20) -> 2042238 | K20: 0 | L20: =SUM(J20:K20) -> 2042238 | M20: =D20-L20 -> 1280897
A21: 2040 | B21: ='Talejas 1_anotācijai'!C21 -> 6780683 | C21: ='Talejas 1_anotācijai'!AF21 -> 3457548 | D21: ='Talejas 1_anotācijai'!BI21*-1 -> 3323135 | E21: 0 | F21: 0 | G21: =EM!S21 -> 1677354 | H21: ='Talejas 1_anotācijai'!CF21 -> 364884 | I21: 0 | J21: =SUM(E21:I21) -> 2042238 | K21: 0 | L21: =SUM(J21:K21) -> 2042238 | M21: =D21-L21 -> 1280897
A22: 2041 | B22: ='Talejas 1_anotācijai'!C22 -> 6780683 | C22: ='Talejas 1_anotācijai'!AF22 -> 3457548 | D22: ='Talejas 1_anotācijai'!BI22*-1 -> 3323135 | E22: 0 | F22: 0 | G22: =EM!S22 -> 1677354 | H22: ='Talejas 1_anotācijai'!CF22 -> 364884 | I22: 0 | J22: =SUM(E22:I22) -> 2042238 | K22: 0 | L22: =SUM(J22:K22) -> 2042238 | M22: =D22-L22 -> 1280897
A23: 2042 | B23: ='Talejas 1_anotācijai'!C23 -> 6780683 | C23: ='Talejas 1_anotācijai'!AF23 -> 3457548 | D23: ='Talejas 1_anotācijai'!BI23*-1 -> 3323135 | E23: 0 | F23: 0 | G23: =EM!S23 -> 1677354 | H23: ='Talejas 1_anotācijai'!CF23 -> 364884 | I23: 0 | J23: =SUM(E23:I23) -> 2042238 | K23: 0 | L23: =SUM(J23:K23) -> 2042238 | M23: =D23-L23 -> 1280897
A24: 2043 | B24: ='Talejas 1_anotācijai'!C24 -> 6780683 | C24: ='Talejas 1_anotācijai'!AF24 -> 3457548 | D24: ='Talejas 1_anotācijai'!BI24*-1 -> 3323135 | E24: 0 | F24: 0 | G24: =EM!S24 -> 1677354 | H24: ='Talejas 1_anotācijai'!CF24 -> 364884 | I24: 0 | J24: =SUM(E24:I24) -> 2042238 | K24: 0 | L24: =SUM(J24:K24) -> 2042238 | M24: =D24-L24 -> 1280897
A25: 2044 (4 mēneši) | B25: ='Talejas 1_anotācijai'!C25 -> 1676336 | C25: ='Talejas 1_anotācijai'!AF25 -> 1152516 | D25: ='Talejas 1_anotācijai'!BI25*-1 -> 523820 | E25: ='Talejas 1_anotācijai'!BP25 -> 1458 | F25: 0 | G25: =EM!S25 -> 242212 | H25: ='Talejas 1_anotācijai'!CF25 -> 121628 | I25: ='Talejas 1_anotācijai'!BM25 -> 174 | J25: =SUM(E25:I25) -> 365472 | K25: 0 | L25: =SUM(J25:K25) -> 365472 | M25: =D25-L25 -> 158348
A26: PAVISAM KOPĀ: | B26: =SUM(B5:B25) -> 136464116 | C26: =SUM(C5:C25) -> 74659668 | D26: =SUM(D5:D25) -> 61804448 | E26: =SUM(E5:E25) -> 221433 | F26: =SUM(F5:F25) -> 2300293 | G26: =SUM(G5:G25) -> 34733457 | H26: =SUM(H5:H25) -> 6537675 | I26: =SUM(I5:I25) -> 1172 | ... M26: =SUM(M5:M25) -> 18010174
A28: * Likuma par budžetu un finanšu vadību 9. panta piecpadsmitā daļa nosaka, ka "Finanšu ministram ir tiesības veikt apropriācijas pārdali starp ministrijām un citām centrālajām valsts iestādēm, tai skaitā funkciju pārdales vai strukturālo reformu gadījumos, ja ir pieņemts Ministru kabineta lēmums un Saeima ar atsevišķu lēmumu piekritusi šādai pārdalei. "

Sheet VI
A2: Pārskata periods (gads) | B2: Finansējums nomas un papildu maksājumu segšanai Talejas ielā 1 | E2: Finansējums pārcelšanās izdevumu segšanai | H2: Finansējums nomas, papildu maksājumu un pārcelšanās izdevumu segšanai kopā | L2: Atlikums, kas paliek VI no pieejamā finansējuma*
B3: VI nepieciešamais | C3: VI pieejamais | D3: no VID uz VI pārdalāmais | E3: VI nepieciešamais | F3: VI pieejamais | G3: no VID uz VI pārdalāmais | H3: VI nepieciešamais | I3: VI pieejamais | J3: no VID uz VI pārdalāmais
D4: D=IF(C>B;0;B-C) | G4: G=IF(F>E;0;E-F) | H4: H=B+E | I4: I=C+F | J4: J=D+G | L4: L=I-H+J
A5: 2024 | B5: ='Talejas 1_anotācijai'!AW5 -> 83188 | C5: ='Talejas 1_anotācijai'!BY5*-1 -> 0 | D5: =IF(C5>B5,0,B5-C5) -> 83188 | E5: ='Talejas 1_anotācijai'!CA5 -> 0 | F5: ='Talejas 1_anotācijai'!Y5 -> 0 | G5: =IF(F5>E5,0,E5-F5) -> 0 | H5: =B5+E5 -> 83188 | I5: =C5+F5 -> 0 | J5: =D5+G5 -> 83188 | L5: =I5-H5+J5 -> 0
A6: 2025 | B6: ='Talejas 1_anotācijai'!AW6 -> 360096 | C6: ='Talejas 1_anotācijai'!BY6*-1 -> 90907 | D6: =IF(C6>B6,0,B6-C6) -> 269189 | E6: ='Talejas 1_anotācijai'!CA6 -> 35000 | F6: ='Talejas 1_anotācijai'!Y6 -> 0 | G6: =IF(F6>E6,0,E6-F6) -> 35000 | H6: =B6+E6 -> 395096 | I6: =C6+F6 -> 90907 | J6: =D6+G6 -> 304189 | L6: =I6-H6+J6 -> 0
A7: 2026 | B7: ='Talejas 1_anotācijai'!AW7 -> 568140 | C7: ='Talejas 1_anotācijai'!BY7*-1 -> 272722 | D7: =IF(C7>B7,0,B7-C7) -> 295418 | E7: ='Talejas 1_anotācijai'!CA7 -> 0 | F7: ='Talejas 1_anotācijai'!Y7 -> 0 | G7: =IF(F7>E7,0,E7-F7) -> 0 | H7: =B7+E7 -> 568140 | I7: =C7+F7 -> 272722 | J7: =D7+G7 -> 295418 | L7: =I7-H7+J7 -> 0
A8: 2027 | B8: ='Talejas 1_anotācijai'!AW8 -> 517932 | C8: ='Talejas 1_anotācijai'!BY8*-1 -> 272722 | D8: =IF(C8>B8,0,B8-C8) -> 245210 | E8: ='Talejas 1_anotācijai'!CA8 -> 0 | F8: ='Talejas 1_anotācijai'!Y8 -> 0 | G8: =IF(F8>E8,0,E8-F8) -> 0 | H8: =B8+E8 -> 517932 | I8: =C8+F8 -> 272722 | J8: =D8+G8 -> 245210 | L8: =I8-H8+J8 -> 0
A9: 2028 | B9: ='Talejas 1_anotācijai'!AW9 -> 517932 | C9: ='Talejas 1_anotācijai'!BY9*-1 -> 272722 | D9: =IF(C9>B9,0,B9-C9) -> 245210 | E9: ='Talejas 1_anotācijai'!CA9 -> 0 | F9: ='Talejas 1_anotācijai'!Y9 -> 0 | G9: =IF(F9>E9,0,E9-F9) -> 0 | H9: =B9+E9 -> 517932 | I9: =C9+F9 -> 272722 | J9: =D9+G9 -> 245210 | L9: =I9-H9+J9 -> 0
A10: 2029 | B10: ='Talejas 1_anotācijai'!AW10 -> 517932 | C10: ='Talejas 1_anotācijai'!BY10*-1 -> 272722 | D10: =IF(C10>B10,0,B10-C10) -> 245210 | E10: ='Talejas 1_anotācijai'!CA10 -> 0 | F10: ='Talejas 1_anotācijai'!Y10 -> 0 | G10: =IF(F10>E10,0,E10-F10) -> 0 | H10: =B10+E10 -> 517932 | I10: =C10+F10 -> 272722 | J10: =D10+G10 -> 245210 | L10: =I10-H10+J10 -> 0
A11: 2030 | B11: ='Talejas 1_anotācijai'!AW11 -> 484536 | C11: ='Talejas 1_anotācijai'!BY11*-1 -> 272722 | D11: =IF(C11>B11,0,B11-C11) -> 211814 | E11: ='Talejas 1_anotācijai'!CA11 -> 0 | F11: ='Talejas 1_anotācijai'!Y11 -> 0 | G11: =IF(F11>E11,0,E11-F11) -> 0 | H11: =B11+E11 -> 484536 | I11: =C11+F11 -> 272722 | J11: =D11+G11 -> 211814 | L11: =I11-H11+J11 -> 0
A12: 2031 | B12: ='Talejas 1_anotācijai'!AW12 -> 417744 | C12: ='Talejas 1_anotācijai'!BY12*-1 -> 272722 | D12: =IF(C12>B12,0,B12-C12) -> 145022 | E12: ='Talejas 1_anotācijai'!CA12 -> 0 | F12: ='Talejas 1_anotācijai'!Y12 -> 0 | G12: =IF(F12>E12,0,E12-F12) -> 0 | H12: =B12+E12 -> 417744 | I12: =C12+F12 -> 272722 | J12: =D12+G12 -> 145022 | L12: =I12-H12+J12 -> 0
A13: 2032 | B13: ='Talejas 1_anotācijai'!AW13 -> 417744 | C13: ='Talejas 1_anotācijai'!BY13*-1 -> 272722 | D13: =IF(C13>B13,0,B13-C13) -> 145022 | E13: ='Talejas 1_anotācijai'!CA13 -> 0 | F13: ='Talejas 1_anotācijai'!Y13 -> 0 | G13: =IF(F13>E13,0,E13-F13) -> 0 | H13: =B13+E13 -> 417744 | I13: =C13+F13 -> 272722 | J13: =D13+G13 -> 145022 | L13: =I13-H13+J13 -> 0
A14: 2033 | B14: ='Talejas 1_anotācijai'!AW14 -> 417744 | C14: ='Talejas 1_anotācijai'!BY14*-1 -> 272722 | D14: =IF(C14>B14,0,B14-C14) -> 145022 | E14: ='Talejas 1_anotācijai'!CA14 -> 0 | F14: ='Talejas 1_anotācijai'!Y14 -> 0 | G14: =IF(F14>E14,0,E14-F14) -> 0 | H14: =B14+E14 -> 417744 | I14: =C14+F14 -> 272722 | J14: =D14+G14 -> 145022 | L14: =I14-H14+J14 -> 0
A15: 2034 | B15: ='Talejas 1_anotācijai'!AW15 -> 417744 | C15: ='Talejas 1_anotācijai'!BY15*-1 -> 272722 | D15: =IF(C15>B15,0,B15-C15) -> 145022 | E15: ='Talejas 1_anotācijai'!CA15 -> 0 | F15: ='Talejas 1_anotācijai'!Y15 -> 0 | G15: =IF(F15>E15,0,E15-F15) -> 0 | H15: =B15+E15 -> 417744 | I15: =C15+F15 -> 272722 | J15: =D15+G15 -> 145022 | L15: =I15-H15+J15 -> 0
A16: 2035 | B16: ='Talejas 1_anotācijai'!AW16 -> 362688 | C16: ='Talejas 1_anotācijai'!BY16*-1 -> 272722 | D16: =IF(C16>B16,0,B16-C16) -> 89966 | E16: ='Talejas 1_anotācijai'!CA16 -> 0 | F16: ='Talejas 1_anotācijai'!Y16 -> 0 | G16: =IF(F16>E16,0,E16-F16) -> 0 | H16: =B16+E16 -> 362688 | I16: =C16+F16 -> 272722 | J16: =D16+G16 -> 89966 | L16: =I16-H16+J16 -> 0
... A24: 2043 | B24: ='Talejas 1_anotācijai'!AW24 -> 252576 | C24: ='Talejas 1_anotācijai'!BY24*-1 -> 272722 | D24: =IF(C24>B24,0,B24-C24) -> 0 | E24: ='Talejas 1_anotācijai'!CA24 -> 0 | F24: ='Talejas 1_anotācijai'!Y24 -> 0 | G24: =IF(F24>E24,0,E24-F24) -> 0 | H24: =B24+E24 -> 252576 | I24: =C24+F24 -> 272722 | J24: =D24+G24 -> 0 | L24: =I24-H24+J24 -> 20146
A25: 2044 (4 mēneši) | B25: ='Talejas 1_anotācijai'!AW25 -> 84192 | C25: ='Talejas 1_anotācijai'!BY25*-1 -> 90907 | D25: =IF(C25>B25,0,B25-C25) -> 0 | E25: ='Talejas 1_anotācijai'!CA25 -> 0 | F25: ='Talejas 1_anotācijai'!Y25 -> 0 | G25: =IF(F25>E25,0,E25-F25) -> 0 | H25: =B25+E25 -> 84192 | I25: =C25+F25 -> 90907 | J25: =D25+G25 -> 0 | L25: =I25-H25+J25 -> 6715
A27: *VI pieejamais finansējums no 2036,gada līdz 2044.gadam ir lielāks nekā nepieciešams Talejas 1 nomas un papildu maksājumu segšanai

Sheet EM
A2: Pārskata periods (gads) | B2: Finansējums nomas un papildu maksājumu segšanai Talejas ielā 1 | H2: Finansējums pārcelšanās izdevumu segšanai | N2: Finansējums nomas, papildu maksājumu un pārcelšanās izdevumu segšanai kopā
B3: EM nepieciešamais | C3: EM pieejamais | D3: no LM uz EM pārdalāmais | E3: no LRP uz EM pārdalāmais | F3: no IAUI uz EM pārdalāmais | G3: no VID uz EM pārdalāmais | H3: EM nepieciešamais | I3: EM pieejamais | J3: no LM uz EM jāpārdala | K3: no LRP uz EM pārdalāmais | L3: no IAUI uz EM pārdalāmais | M3: no VID uz EM jāpārdala | N3: EM nepieciešamais | O3: EM pieejamais | P3: no LM uz EM jāpārdala | Q3: no LRP uz EM pārdalāmais | R3: no IAUI uz EM pārdalāmais | S3: no VID uz EM jāpārdala
N4: J=B+I | O4: K=C+G | P4: L=D+H | S4: M=E+I
A5: 2024 | B5: ='Talejas 1_anotācijai'!BA5 -> 414373 | C5: ='Talejas 1_anotācijai'!CC5*-1 -> 0 | D5: =('Talejas 1_anotācijai'!BK5+'Talejas 1_anotācijai'!BL5)*-1 -> 42090 | E5: =LRP!L5 -> 0 | F5: =IAUI!H5 -> 0 | G5: =B5-C5-D5-E5-F5 -> 372283 | H5: ='Talejas 1_anotācijai'!BB5 -> 0 | I5: ='Talejas 1_anotācijai'!Y5 -> 0 | J5: 0 | K5: 0 | L5: 0 | M5: ='Talejas 1_anotācijai'!CE5 -> 0 | N5: =B5+H5 -> 414373 | O5: =C5+I5 -> 0 | P5: =D5+J5 -> 42090 | Q5: =E5+K5 -> 0 | R5: =F5+L5 -> 0 | S5: =G5+M5 -> 372283
A6: 2025 | B6: ='Talejas 1_anotācijai'!BA6 -> 1254120 | C6: ='Talejas 1_anotācijai'!CC6*-1 -> 0 | D6: =('Talejas 1_anotācijai'!BK6+'Talejas 1_anotācijai'!BL6)*-1 -> 42090 | E6: =LRP!L6 -> 0 | F6: =IAUI!H6 -> 0 | G6: =B6-C6-D6-E6-F6 -> 1212030 | H6: ='Talejas 1_anotācijai'!BB6 -> 0 | I6: ='Talejas 1_anotācijai'!Y6 -> 0 | J6: 0 | K6: 0 | L6: 0 | M6: ='Talejas 1_anotācijai'!CE6 -> 0 | N6: =B6+H6 -> 1254120 | O6: =C6+I6 -> 0 | P6: =D6+J6 -> 42090 | Q6: =E6+K6 -> 0 | R6: =F6+L6 -> 0 | S6: =G6+M6 -> 1212030
A7: 2026 | B7: ='Talejas 1_anotācijai'!BA7 -> 1655736 | C7: ='Talejas 1_anotācijai'!CC7*-1 -> 487652 | D7: =('Talejas 1_anotācijai'!BK7+'Talejas 1_anotācijai'!BL7)*-1 -> 42090 | E7: =LRP!L7 -> 0 | F7: =IAUI!H7 -> 0 | G7: =B7-C7-D7-E7-F7 -> 1125994 | H7: ='Talejas 1_anotācijai'!BB7 -> 240000 | I7: ='Talejas 1_anotācijai'!Y7 -> 0 | J7: 0 | K7: 0 | L7: 0 | M7: ='Talejas 1_anotācijai'!CE7 -> 240000 | N7: =B7+H7 -> 1895736 | O7: =C7+I7 -> 487652 | P7: =D7+J7 -> 42090 | Q7: =E7+K7 -> 0 | R7: =F7+L7 -> 0 | S7: =G7+M7 -> 1365994
A8: 2027 | B8: ='Talejas 1_anotācijai'!BA8 -> 2826348 | C8: ='Talejas 1_anotācijai'!CC8*-1 -> 487652 | D8: =('Talejas 1_anotācijai'!BK8+'Talejas 1_anotācijai'!BL8)*-1 -> 42090 | E8: =LRP!L8 -> 13841 | F8: =IAUI!H8 -> 227 | G8: =B8-C8-D8-E8-F8 -> 2282538 | H8: ='Talejas 1_anotācijai'!BB8 -> 0 | I8: ='Talejas 1_anotācijai'!Y8 -> 0 | J8: 0 | K8: 0 | L8: 0 | M8: ='Talejas 1_anotācijai'!CE8 -> 0 | N8: =B8+H8 -> 2826348 | O8: =C8+I8 -> 487652 | P8: =D8+J8 -> 42090 | Q8: =E8+K8 -> 13841 | R8: =F8+L8 -> 227 | S8: =G8+M8 -> 2282538
A9: 2028 | B9: ='Talejas 1_anotācijai'!BA9 -> 2826348 | C9: ='Talejas 1_anotācijai'!CC9*-1 -> 487652 | D9: =('Talejas 1_anotācijai'!BK9+'Talejas 1_anotācijai'!BL9)*-1 -> 42090 | E9: =LRP!L9 -> 13841 | F9: =IAUI!H9 -> 227 | G9: =B9-C9-D9-E9-F9 -> 2282538 | H9: ='Talejas 1_anotācijai'!BB9 -> 0 | I9: ='Talejas 1_anotācijai'!Y9 -> 0 | J9: 0 | K9: 0 | L9: 0 | M9: ='Talejas 1_anotācijai'!CE9 -> 0 | N9: =B9+H9 -> 2826348 | O9: =C9+I9 -> 487652 | P9: =D9+J9 -> 42090 | Q9: =E9+K9 -> 13841 | R9: =F9+L9 -> 227 | S9: =G9+M9 -> 2282538
A10: 2029 | B10: ='Talejas 1_anotācijai'!BA10 -> 2826348 | C10: ='Talejas 1_anotācijai'!CC10*-1 -> 487652 | D10: =('Talejas 1_anotācijai'!BK10+'Talejas 1_anotācijai'!BL10)*-1 -> 42090 | E10: =LRP!L10 -> 13841 | F10: =IAUI!H10 -> 227 | G10: =B10-C10-D10-E10-F10 -> 2282538 | H10: ='Talejas 1_anotācijai'!BB10 -> 0 | I10: ='Talejas 1_anotācijai'!Y10 -> 0 | J10: 0 | K10: 0 | L10: 0 | M10: ='Talejas 1_anotācijai'!CE10 -> 0 | N10: =B10+H10 -> 2826348 | O10: =C10+I10 -> 487652 | P10: =D10+J10 -> 42090 | Q10: =E10+K10 -> 13841 | R10: =F10+L10 -> 227 | S10: =G10+M10 -> 2282538
A11: 2030 | B11: ='Talejas 1_anotācijai'!BA11 -> 2826348 | C11: ='Talejas 1_anotācijai'!CC11*-1 -> 487652 | D11: =('Talejas 1_anotācijai'!BK11+'Talejas 1_anotācijai'!BL11)*-1 -> 42090 | E11: =LRP!L11 -> 13841 | F11: =IAUI!H11 -> 227 | G11: =B11-C11-D11-E11-F11 -> 2282538 | H11: ='Talejas 1_anotācijai'!BB11 -> 0 | I11: ='Talejas 1_anotācijai'!Y11 -> 0 | J11: 0 | K11: 0 | L11: 0 | M11: ='Talejas 1_anotācijai'!CE11 -> 0 | N11: =B11+H11 -> 2826348 | O11: =C11+I11 -> 487652 | P11: =D11+J11 -> 42090 | Q11: =E11+K11 -> 13841 | R11: =F11+L11 -> 227 | S11: =G11+M11 -> 2282538
A12: 2031 | B12: ='Talejas 1_anotācijai'!BA12 -> 2826348 | C12: ='Talejas 1_anotācijai'!CC12*-1 -> 487652 | D12: =('Talejas 1_anotācijai'!BK12+'Talejas 1_anotācijai'!BL12)*-1 -> 42090 | E12: =LRP!L12 -> 13841 | F12: =IAUI!H12 -> 227 | G12: =B12-C12-D12-E12-F12 -> 2282538 | H12: ='Talejas 1_anotācijai'!BB12 -> 0 | I12: ='Talejas 1_anotācijai'!Y12 -> 0 | J12: 0 | K12: 0 | L12: 0 | M12: ='Talejas 1_anotācijai'!CE12 -> 0 | N12: =B12+H12 -> 2826348 | O12: =C12+I12 -> 487652 | P12: =D12+J12 -> 42090 | Q12: =E12+K12 -> 13841 | R12: =F12+L12 -> 227 | S12: =G12+M12 -> 2282538
A13: 2032 | B13: ='Talejas 1_anotācijai'!BA13 -> 2221164 | C13: ='Talejas 1_anotācijai'!CC13*-1 -> 487652 | D13: =('Talejas 1_anotācijai'!BK13+'Talejas 1_anotācijai'!BL13)*-1 -> 42090 | E13: =LRP!L13 -> 13841 | F13: =IAUI!H13 -> 227 | G13: =B13-C13-D13-E13-F13 -> 1677354 | H13: ='Talejas 1_anotācijai'!BB13 -> 0 | I13: ='Talejas 1_anotācijai'!Y13 -> 0 | J13: 0 | K13: 0 | L13: 0 | M13: ='Talejas 1_anotācijai'!CE13 -> 0 | N13: =B13+H13 -> 2221164 | O13: =C13+I13 -> 487652 | P13: =D13+J13 -> 42090 | Q13: =E13+K13 -> 13841 | R13: =F13+L13 -> 227 | S13: =G13+M13 -> 1677354
A14: 2033 | B14: ='Talejas 1_anotācijai'!BA14 -> 2221164 | C14: ='Talejas 1_anotācijai'!CC14*-1 -> 487652 | D14: =('Talejas 1_anotācijai'!BK14+'Talejas 1_anotācijai'!BL14)*-1 -> 42090 | E14: =LRP!L14 -> 13841 | F14: =IAUI!H14 -> 227 | G14: =B14-C14-D14-E14-F14 -> 1677354 | H14: ='Talejas 1_anotācijai'!BB14 -> 0 | I14: ='Talejas 1_anotācijai'!Y14 -> 0 | J14: 0 | K14: 0 | L14: 0 | M14: ='Talejas 1_anotācijai'!CE14 -> 0 | N14: =B14+H14 -> 2221164 | O14: =C14+I14 -> 487652 | P14: =D14+J14 -> 42090 | Q14: =E14+K14 -> 13841 | R14: =F14+L14 -> 227 | S14: =G14+M14 -> 1677354
A15: 2034 | B15: ='Talejas 1_anotācijai'!BA15 -> 2221164 | C15: ='Talejas 1_anotācijai'!CC15*-1 -> 487652 | D15: =('Talejas 1_anotācijai'!BK15+'Talejas 1_anotācijai'!BL15)*-1 -> 42090 | E15: =LRP!L15 -> 13841 | F15: =IAUI!H15 -> 227 | G15: =B15-C15-D15-E15-F15 -> 1677354 | H15: ='Talejas 1_anotācijai'!BB15 -> 0 | I15: ='Talejas 1_anotācijai'!Y15 -> 0 | J15: 0 | K15: 0 | L15: 0 | M15: ='Talejas 1_anotācijai'!CE15 -> 0 | N15: =B15+H15 -> 2221164 | O15: =C15+I15 -> 487652 | P15: =D15+J15 -> 42090 | Q15: =E15+K15 -> 13841 | R15: =F15+L15 -> 227 | S15: =G15+M15 -> 1677354
A16: 2035 | B16: ='Talejas 1_anotācijai'!BA16 -> 2221164 | C16: ='Talejas 1_anotācijai'!CC16*-1 -> 487652 | D16: =('Talejas 1_anotācijai'!BK16+'Talejas 1_anotācijai'!BL16)*-1 -> 42090 | E16: =LRP!L16 -> 13841 | F16: =IAUI!H16 -> 227 | G16: =B16-C16-D16-E16-F16 -> 1677354 | H16: ='Talejas 1_anotācijai'!BB16 -> 0 | I16: ='Talejas 1_anotācijai'!Y16 -> 0 | J16: 0 | K16: 0 | L16: 0 | M16: ='Talejas 1_anotācijai'!CE16 -> 0 | N16: =B16+H16 -> 2221164 | O16: =C16+I16 -> 487652 | P16: =D16+J16 -> 42090 | Q16: =E16+K16 -> 13841 | R16: =F16+L16 -> 227 | S16: =G16+M16 -> 1677354
... A24: 2043 | B24: ='Talejas 1_anotācijai'!BA24 -> 2221164 | C24: ='Talejas 1_anotācijai'!CC24*-1 -> 487652 | D24: =('Talejas 1_anotācijai'!BK24+'Talejas 1_anotācijai'!BL24)*-1 -> 42090 | E24: =LRP!L24 -> 13841 | F24: =IAUI!H24 -> 227 | G24: =B24-C24-D24-E24-F24 -> 1677354 | H24: ='Talejas 1_anotācijai'!BB24 -> 0 | I24: ='Talejas 1_anotācijai'!Y24 -> 0 | J24: 0 | K24: 0 | L24: 0 | M24: ='Talejas 1_anotācijai'!CE24 -> 0 | N24: =B24+H24 -> 2221164 | O24: =C24+I24 -> 487652 | P24: =D24+J24 -> 42090 | Q24: =E24+K24 -> 13841 | R24: =F24+L24 -> 227 | S24: =G24+M24 -> 1677354
A25: 2044 (4 mēneši) | B25: ='Talejas 1_anotācijai'!BA25 -> 740388 | C25: ='Talejas 1_anotācijai'!CC25*-1 -> 487652 | D25: =('Talejas 1_anotācijai'!BK25+'Talejas 1_anotācijai'!BL25)*-1 -> 10524 | E25: =LRP!L25 -> 0 | F25: =IAUI!H25 -> 0 | G25: =B25-C25-D25-E25-F25 -> 242212 | H25: ='Talejas 1_anotācijai'!BB25 -> 0 | I25: ='Talejas 1_anotācijai'!Y25 -> 0 | J25: 0 | K25: 0 | L25: 0 | M25: ='Talejas 1_anotācijai'!CE25 -> 0 | N25: =B25+H25 -> 740388 | O25: =C25+I25 -> 487652 | P25: =D25+J25 -> 10524 | Q25: =E25+K25 -> 0 | R25: =F25+L25 -> 0 | S25: =G25+M25 -> 242212

Sheet LRP
A2: Pārskata periods (gads) | B2: Finansējums nomas un papildu maksājumu segšanai esošajām telpām Talejas ielā 1 | E2: Finansējums nomas un papildu maksājumu segšanai pagaidu telpām Talejas ielā 1 | H2: Finansējums nomas un papildu maksājumu segšanai kopā | L2: No LRP uz EM pārdalāmais fiansējums
B3: LRP nepieciešamais | C3: LRP pieejamais | D3: no VID uz LRP pārdalāmais | E3: LRP nepieciešamais | F3: LRP pieejamais | G3: no VID uz LRP pārdalāmais** | H3: LRP nepieciešamais | I3: LRP pieejamais | J3: no VID uz LRP pārdalāmais
D4: D=IF(C>B;0;B-C) | G4: G=IF(F>E;0;E-F)** | H4: H=B+E | I4: I=C+F | J4: J=D+G | L4: L=I-H+J
A5: 2024 | B5: ='Talejas 1_anotācijai'!AN5 -> 88816 | C5: ='Talejas 1_anotācijai'!K5 -> 89825 | D5: =IF(C5>B5,0,B5-C5) -> 0 | E5: ='Talejas 1_anotācijai'!AR5 -> 218184 | F5: ='Talejas 1_anotācijai'!O5 -> 154590 | G5: =IF(F5>E5,0,E5-F5)-C5+B5 -> 62585 | H5: =B5+E5 -> 307000 | I5: =C5+F5 -> 244415 | J5: =D5+G5 -> 62585 | L5: =I5-H5+J5 -> 0
A6: 2025 | B6: ='Talejas 1_anotācijai'!AN6 -> 95004 | C6: ='Talejas 1_anotācijai'!K6 -> 89825 | D6: =IF(C6>B6,0,B6-C6) -> 5179 | E6: ='Talejas 1_anotācijai'!AR6 -> 658608 | F6: ='Talejas 1_anotācijai'!O6 -> 618357 | G6: =IF(F6>E6,0,E6-F6) -> 40251 | H6: =B6+E6 -> 753612 | I6: =C6+F6 -> 708182 | J6: =D6+G6 -> 45430 | L6: =I6-H6+J6 -> 0
A7: 2026 | B7: ='Talejas 1_anotācijai'!AN7 -> 91080 | C7: ='Talejas 1_anotācijai'!K7 -> 89825 | D7: =IF(C7>B7,0,B7-C7) -> 1255 | E7: ='Talejas 1_anotācijai'!AR7 -> 626003 | F7: ='Talejas 1_anotācijai'!O7 -> 515298 | G7: =IF(F7>E7,0,E7-F7) -> 110705 | H7: =B7+E7 -> 717083 | I7: =C7+F7 -> 605123 | J7: =D7+G7 -> 111960 | L7: =I7-H7+J7 -> 0
A8: 2027 | B8: ='Talejas 1_anotācijai'!AN8 -> 75984 | C8: ='Talejas 1_anotācijai'!K8 -> 89825 | D8: =IF(C8>B8,0,B8-C8) -> 0 | E8: ='Talejas 1_anotācijai'!AR8 -> 0 | F8: ='Talejas 1_anotācijai'!O8 -> 0 | G8: =IF(F8>E8,0,E8-F8) -> 0 | H8: =B8+E8 -> 75984 | I8: =C8+F8 -> 89825 | J8: =D8+G8 -> 0 | L8: =I8-H8+J8 -> 13841
A9: 2028 | B9: ='Talejas 1_anotācijai'!AN9 -> 75984 | C9: ='Talejas 1_anotācijai'!K9 -> 89825 | D9: =IF(C9>B9,0,B9-C9) -> 0 | E9: ='Talejas 1_anotācijai'!AR9 -> 0 | F9: ='Talejas 1_anotācijai'!O9 -> 0 | G9: =IF(F9>E9,0,E9-F9) -> 0 | H9: =B9+E9 -> 75984 | I9: =C9+F9 -> 89825 | J9: =D9+G9 -> 0 | L9: =I9-H9+J9 -> 13841
A10: 2029 | B10: ='Talejas 1_anotācijai'!AN10 -> 75984 | C10: ='Talejas 1_anotācijai'!K10 -> 89825 | D10: =IF(C10>B10,0,B10-C10) -> 0 | E10: ='Talejas 1_anotācijai'!AR10 -> 0 | F10: ='Talejas 1_anotācijai'!O10 -> 0 | G10: =IF(F10>E10,0,E10-F10) -> 0 | H10: =B10+E10 -> 75984 | I10: =C10+F10 -> 89825 | J10: =D10+G10 -> 0 | L10: =I10-H10+J10 -> 13841
A11: 2030 | B11: ='Talejas 1_anotācijai'!AN11 -> 75984 | C11: ='Talejas 1_anotācijai'!K11 -> 89825 | D11: =IF(C11>B11,0,B11-C11) -> 0 | E11: ='Talejas 1_anotācijai'!AR11 -> 0 | F11: ='Talejas 1_anotācijai'!O11 -> 0 | G11: =IF(F11>E11,0,E11-F11) -> 0 | H11: =B11+E11 -> 75984 | I11: =C11+F11 -> 89825 | J11: =D11+G11 -> 0 | L11: =I11-H11+J11 -> 13841
A12: 2031 | B12: ='Talejas 1_anotācijai'!AN12 -> 75984 | C12: ='Talejas 1_anotācijai'!K12 -> 89825 | D12: =IF(C12>B12,0,B12-C12) -> 0 | E12: ='Talejas 1_anotācijai'!AR12 -> 0 | F12: ='Talejas 1_anotācijai'!O12 -> 0 | G12: =IF(F12>E12,0,E12-F12) -> 0 | H12: =B12+E12 -> 75984 | I12: =C12+F12 -> 89825 | J12: =D12+G12 -> 0 | L12: =I12-H12+J12 -> 13841
A13: 2032 | B13: ='Talejas 1_anotācijai'!AN13 -> 75984 | C13: ='Talejas 1_anotācijai'!K13 -> 89825 | D13: =IF(C13>B13,0,B13-C13) -> 0 | E13: ='Talejas 1_anotācijai'!AR13 -> 0 | F13: ='Talejas 1_anotācijai'!O13 -> 0 | G13: =IF(F13>E13,0,E13-F13) -> 0 | H13: =B13+E13 -> 75984 | I13: =C13+F13 -> 89825 | J13: =D13+G13 -> 0 | L13: =I13-H13+J13 -> 13841
A14: 2033 | B14: ='Talejas 1_anotācijai'!AN14 -> 75984 | C14: ='Talejas 1_anotācijai'!K14 -> 89825 | D14: =IF(C14>B14,0,B14-C14) -> 0 | E14: ='Talejas 1_anotācijai'!AR14 -> 0 | F14: ='Talejas 1_anotācijai'!O14 -> 0 | G14: =IF(F14>E14,0,E14-F14) -> 0 | H14: =B14+E14 -> 75984 | I14: =C14+F14 -> 89825 | J14: =D14+G14 -> 0 | L14: =I14-H14+J14 -> 13841
A15: 2034 | B15: ='Talejas 1_anotācijai'!AN15 -> 75984 | C15: ='Talejas 1_anotācijai'!K15 -> 89825 | D15: =IF(C15>B15,0,B15-C15) -> 0 | E15: ='Talejas 1_anotācijai'!AR15 -> 0 | F15: ='Talejas 1_anotācijai'!O15 -> 0 | G15: =IF(F15>E15,0,E15-F15) -> 0 | H15: =B15+E15 -> 75984 | I15: =C15+F15 -> 89825 | J15: =D15+G15 -> 0 | L15: =I15-H15+J15 -> 13841
A16: 2035 | B16: ='Talejas 1_anotācijai'!AN16 -> 75984 | C16: ='Talejas 1_anotācijai'!K16 -> 89825 | D16: =IF(C16>B16,0,B16-C16) -> 0 | E16: ='Talejas 1_anotācijai'!AR16 -> 0 | F16: ='Talejas 1_anotācijai'!O16 -> 0 | G16: =IF(F16>E16,0,E16-F16) -> 0 | H16: =B16+E16 -> 75984 | I16: =C16+F16 -> 89825 | J16: =D16+G16 -> 0 | L16: =I16-H16+J16 -> 13841
A17: 2036 | B17: ='Talejas 1_anotācijai'!AN17 -> 75984 | C17: ='Talejas 1_anotācijai'!K17 -> 89825 | D17: =IF(C17>B17,0,B17-C17) -> 0 | E17: ='Talejas 1_anotācijai'!AR17 -> 0 | F17: ='Talejas 1_anotācijai'!O17 -> 0 | G17: =IF(F17>E17,0,E17-F17) -> 0 | H17: =B17+E17 -> 75984 | I17: =C17+F17 -> 89825 | J17: =D17+G17 -> 0 | L17: =I17-H17+J17 -> 13841
... A24: 2043 | B24: ='Talejas 1_anotācijai'!AN24 -> 75984 | C24: ='Talejas 1_anotācijai'!K24 -> 89825 | D24: =IF(C24>B24,0,B24-C24) -> 0 | E24: ='Talejas 1_anotācijai'!AR24 -> 0 | F24: ='Talejas 1_anotācijai'!O24 -> 0 | G24: =IF(F24>E24,0,E24-F24) -> 0 | H24: =B24+E24 -> 75984 | I24: =C24+F24 -> 89825 | J24: =D24+G24 -> 0 | L24: =I24-H24+J24 -> 13841
A25: 2044 (4 mēneši) | B25: ='Talejas 1_anotācijai'!AN25 -> 25328 | C25: ='Talejas 1_anotācijai'!K25 -> 23870 | D25: =IF(C25>B25,0,B25-C25) -> 1458 | E25: ='Talejas 1_anotācijai'!AR25 -> 0 | F25: ='Talejas 1_anotācijai'!O25 -> 0 | G25: =IF(F25>E25,0,E25-F25) -> 0 | H25: =B25+E25 -> 25328 | I25: =C25+F25 -> 23870 | J25: =D25+G25 -> 1458 | L25: =I25-H25+J25 -> 0
A27: *LRP pieejamais finansējums no 2027,gada līdz 2043.gadam ir lielāks nekā nepieciešams Talejas 1 nomas un papildu maksājumu segšanai
A28: **2024.gadā no VID uz LRP pagaidu telpu nomas un papildu maksājumu pieauguma segšanai tiek pārdalīts finansējums par 1009 EUR mazākā apmērā kā nepieciešams, jo ietaupījums rodas no esošo telpu nomas un papildu maksājuma samazinājuma

Sheet IAUI
A2: Pārskata periods (gads) | B2: Finansējums nomas un papildu maksājumu segšanai Talejas ielā 1 | H2: No IAUI uz EM pārdalāmais fiansējums
B3: IAUI nepieciešamais | C3: IAUI pieejamais | D3: no VID uz IAUI pārdalāmais ar MK rīkojumu | E3: no VID uz IAUI pārdalāmais ar FM rīkojumu | F3: no VID uz IAUI pārdalāmais kopā
F4: F=IF(C>B;0;B-C) | H4: H=C-B+F
A5: 2024 | B5: ='Talejas 1_anotācijai'!AJ5 -> 3243 | C5: ='Talejas 1_anotācijai'!G5 -> 2999 | D5: 0 | E5: =IF(C5>B5,0,B5-C5) -> 244 | F5: =IF(C5>B5,0,B5-C5) -> 244 | H5: =C5-B5+F5 -> 0
A6: 2025 | B6: ='Talejas 1_anotācijai'!AJ6 -> 3648 | C6: ='Talejas 1_anotācijai'!G6 -> 2999 | D6: =IF(C6>B6,0,B6-C6) -> 649 | E6: 0 | F6: =IF(C6>B6,0,B6-C6) -> 649 | H6: =C6-B6+F6 -> 0
A7: 2026 | B7: ='Talejas 1_anotācijai'!AJ7 -> 3348 | C7: ='Talejas 1_anotācijai'!G7 -> 2999 | D7: =IF(C7>B7,0,B7-C7) -> 349 | E7: 0 | F7: =IF(C7>B7,0,B7-C7) -> 349 | H7: =C7-B7+F7 -> 0
A8: 2027 | B8: ='Talejas 1_anotācijai'!AJ8 -> 2772 | C8: ='Talejas 1_anotācijai'!G8 -> 2999 | D8: =IF(C8>B8,0,B8-C8) -> 0 | E8: =IF(C8>B8,0,B8-C8) -> 0 | F8: =IF(C8>B8,0,B8-C8) -> 0 | H8: =C8-B8+F8 -> 227
A9: 2028 | B9: ='Talejas 1_anotācijai'!AJ9 -> 2772 | C9: ='Talejas 1_anotācijai'!G9 -> 2999 | D9: =IF(C9>B9,0,B9-C9) -> 0 | E9: =IF(C9>B9,0,B9-C9) -> 0 | F9: =IF(C9>B9,0,B9-C9) -> 0 | H9: =C9-B9+F9 -> 227
A10: 2029 | B10: ='Talejas 1_anotācijai'!AJ10 -> 2772 | C10: ='Talejas 1_anotācijai'!G10 -> 2999 | D10: =IF(C10>B10,0,B10-C10) -> 0 | E10: =IF(C10>B10,0,B10-C10) -> 0 | F10: =IF(C10>B10,0,B10-C10) -> 0 | H10: =C10-B10+F10 -> 227
A11: 2030 | B11: ='Talejas 1_anotācijai'!AJ11 -> 2772 | C11: ='Talejas 1_anotācijai'!G11 -> 2999 | D11: =IF(C11>B11,0,B11-C11) -> 0 | E11: =IF(C11>B11,0,B11-C11) -> 0 | F11: =IF(C11>B11,0,B11-C11) -> 0 | H11: =C11-B11+F11 -> 227
A12: 2031 | B12: ='Talejas 1_anotācijai'!AJ12 -> 2772 | C12: ='Talejas 1_anotācijai'!G12 -> 2999 | D12: =IF(C12>B12,0,B12-C12) -> 0 | E12: =IF(C12>B12,0,B12-C12) -> 0 | F12: =IF(C12>B12,0,B12-C12) -> 0 | H12: =C12-B12+F12 -> 227
A13: 2032 | B13: ='Talejas 1_anotācijai'!AJ13 -> 2772 | C13: ='Talejas 1_anotācijai'!G13 -> 2999 | D13: =IF(C13>B13,0,B13-C13) -> 0 | E13: =IF(C13>B13,0,B13-C13) -> 0 | F13: =IF(C13>B13,0,B13-C13) -> 0 | H13: =C13-B13+F13 -> 227
A14: 2033 | B14: ='Talejas 1_anotācijai'!AJ14 -> 2772 | C14: ='Talejas 1_anotācijai'!G14 -> 2999 | D14: =IF(C14>B14,0,B14-C14) -> 0 | E14: =IF(C14>B14,0,B14-C14) -> 0 | F14: =IF(C14>B14,0,B14-C14) -> 0 | H14: =C14-B14+F14 -> 227
A15: 2034 | B15: ='Talejas 1_anotācijai'!AJ15 -> 2772 | C15: ='Talejas 1_anotācijai'!G15 -> 2999 | D15: =IF(C15>B15,0,B15-C15) -> 0 | E15: =IF(C15>B15,0,B15-C15) -> 0 | F15: =IF(C15>B15,0,B15-C15) -> 0 | H15: =C15-B15+F15 -> 227
A16: 2035 | B16: ='Talejas 1_anotācijai'!AJ16 -> 2772 | C16: ='Talejas 1_anotācijai'!G16 -> 2999 | D16: =IF(C16>B16,0,B16-C16) -> 0 | E16: =IF(C16>B16,0,B16-C16) -> 0 | F16: =IF(C16>B16,0,B16-C16) -> 0 | H16: =C16-B16+F16 -> 227
A17: 2036 | B17: ='Talejas 1_anotācijai'!AJ17 -> 2772 | C17: ='Talejas 1_anotācijai'!G17 -> 2999 | D17: =IF(C17>B17,0,B17-C17) -> 0 | E17: =IF(C17>B17,0,B17-C17) -> 0 | F17: =IF(C17>B17,0,B17-C17) -> 0 | H17: =C17-B17+F17 -> 227
A18: 2037 | B18: ='Talejas 1_anotācijai'!AJ18 -> 2772 | C18: ='Talejas 1_anotācijai'!G18 -> 2999 | D18: =IF(C18>B18,0,B18-C18) -> 0 | E18: =IF(C18>B18,0,B18-C18) -> 0 | F18: =IF(C18>B18,0,B18-C18) -> 0 | H18: =C18-B18+F18 -> 227
A19: 2038 | B19: ='Talejas 1_anotācijai'!AJ19 -> 2772 | C19: ='Talejas 1_anotācijai'!G19 -> 2999 | D19: =IF(C19>B19,0,B19-C19) -> 0 | E19: =IF(C19>B19,0,B19-C19) -> 0 | F19: =IF(C19>B19,0,B19-C19) -> 0 | H19: =C19-B19+F19 -> 227
... A24: 2043 | B24: ='Talejas 1_anotācijai'!AJ24 -> 2772 | C24: ='Talejas 1_anotācijai'!G24 -> 2999 | D24: =IF(C24>B24,0,B24-C24) -> 0 | E24: =IF(C24>B24,0,B24-C24) -> 0 | F24: =IF(C24>B24,0,B24-C24) -> 0 | H24: =C24-B24+F24 -> 227
A25: 2044 (4 mēneši) | B25: ='Talejas 1_anotācijai'!AJ25 -> 924 | C25: ='Talejas 1_anotācijai'!G25 -> 750 | D25: =IF(C25>B25,0,B25-C25) -> 174 | E25: 0 | F25: =IF(C25>B25,0,B25-C25) -> 174 | H25: =C25-B25+F25 -> 0
A27: *IAUI pieejamais finansējums no 2027,gada līdz 2043.gadam ir lielāks nekā nepieciešams Talejas 1 nomas un papildu maksājumu segšanai

Sheet IEM
A2: Pārskata periods (gads) | B2: Finansējums nomas un papildu maksājumu segšanai Talejas ielā 1
B3: IEM nepieciešamais | C3: IEM pieejamais | D3: no IEM Č1 uz IEM T1 pārdalāmais | E3: no VID uz IEM pārdalāmais
E4: E=B-C-D
A5: 2024 | B5: ='Talejas 1_anotācijai'!BD5 -> 170695 | C5: ='Talejas 1_anotācijai'!AA5 -> 0 | D5: ='Talejas 1_anotācijai'!CI5*-1 -> 170695 | E5: =B5-C5-D5 -> 0
A6: 2025 | B6: ='Talejas 1_anotācijai'!BD6 -> 453672 | C6: ='Talejas 1_anotācijai'!AA6 -> 0 | D6: ='Talejas 1_anotācijai'!CI6*-1 -> 181339 | E6: =B6-C6-D6 -> 272333
A7: 2026 | B7: ='Talejas 1_anotācijai'!BD7 -> 442884 | C7: ='Talejas 1_anotācijai'!AA7 -> 0 | D7: ='Talejas 1_anotācijai'!CI7*-1 -> 259199 | E7: =B7-C7-D7 -> 183685
A8: 2027 | B8: ='Talejas 1_anotācijai'!BD8 -> 381084 | C8: ='Talejas 1_anotācijai'!AA8 -> 0 | D8: ='Talejas 1_anotācijai'!CI8*-1 -> 259199 | E8: =B8-C8-D8 -> 121885
A9: 2028 | B9: ='Talejas 1_anotācijai'!BD9 -> 364884 | C9: ='Talejas 1_anotācijai'!AA9 -> 0 | D9: ='Talejas 1_anotācijai'!CI9*-1 -> 0 | E9: =B9-C9-D9 -> 364884
A10: 2029 | B10: ='Talejas 1_anotācijai'!BD10 -> 364884 | C10: ='Talejas 1_anotācijai'!AA10 -> 0 | D10: ='Talejas 1_anotācijai'!CI10*-1 -> 0 | E10: =B10-C10-D10 -> 364884
A11: 2030 | B11: ='Talejas 1_anotācijai'!BD11 -> 364884 | C11: ='Talejas 1_anotācijai'!AA11 -> 0 | D11: ='Talejas 1_anotācijai'!CI11*-1 -> 0 | E11: =B11-C11-D11 -> 364884
A12: 2031 | B12: ='Talejas 1_anotācijai'!BD12 -> 364884 | C12: ='Talejas 1_anotācijai'!AA12 -> 0 | D12: ='Talejas 1_anotācijai'!CI12*-1 -> 0 | E12: =B12-C12-D12 -> 364884
A13: 2032 | B13: ='Talejas 1_anotācijai'!BD13 -> 364884 | C13: ='Talejas 1_anotācijai'!AA13 -> 0 | D13: ='Talejas 1_anotācijai'!CI13*-1 -> 0 | E13: =B13-C13-D13 -> 364884
A14: 2033 | B14: ='Talejas 1_anotācijai'!BD14 -> 364884 | C14: ='Talejas 1_anotācijai'!AA14 -> 0 | D14: ='Talejas 1_anotācijai'!CI14*-1 -> 0 | E14: =B14-C14-D14 -> 364884
A15: 2034 | B15: ='Talejas 1_anotācijai'!BD15 -> 364884 | C15: ='Talejas 1_anotācijai'!AA15 -> 0 | D15: ='Talejas 1_anotācijai'!CI15*-1 -> 0 | E15: =B15-C15-D15 -> 364884
A16: 2035 | B16: ='Talejas 1_anotācijai'!BD16 -> 364884 | C16: ='Talejas 1_anotācijai'!AA16 -> 0 | D16: ='Talejas 1_anotācijai'!CI16*-1 -> 0 | E16: =B16-C16-D16 -> 364884
... A24: 2043 | B24: ='Talejas 1_anotācijai'!BD24 -> 364884 | C24: ='Talejas 1_anotācijai'!AA24 -> 0 | D24: ='Talejas 1_anotācijai'!CI24*-1 -> 0 | E24: =B24-C24-D24 -> 364884
A25: 2044 (4 mēneši) | B25: ='Talejas 1_anotācijai'!BD25 -> 121628 | C25: ='Talejas 1_anotācijai'!AA25 -> 0 | D25: ='Talejas 1_anotācijai'!CI25*-1 -> 0 | E25: =B25-C25-D25 -> 121628

Sheet AIM
A2: Pārskata periods (gads) | B2: Finansējums nomas un papildu maksājumu segšanai Talejas ielā 1
B3: AIM nepieciešamais | C3: AIM pieejamais | D3: no VID uz AIM pārdalāmais
D4: D=C-B
A5: 2024 | B5: ='Talejas 1_anotācijai'!AG5 -> 39288 | C5: =B5 -> 39288 | D5: =C5-B5 -> 0
A6: 2025 | B6: ='Talejas 1_anotācijai'!AG6 -> 117864 | C6: =B6 -> 117864 | D6: =C6-B6 -> 0
A7: 2026 | B7: ='Talejas 1_anotācijai'!AG7 -> 117864 | C7: =B7 -> 117864 | D7: =C7-B7 -> 0
A8: 2027 | B8: ='Talejas 1_anotācijai'!AG8 -> 117864 | C8: =B8 -> 117864 | D8: =C8-B8 -> 0
A9: 2028 | B9: ='Talejas 1_anotācijai'!AG9 -> 117864 | C9: =B9 -> 117864 | D9: =C9-B9 -> 0
A10: 2029 | B10: ='Talejas 1_anotācijai'!AG10 -> 78576 | C10: =B10 -> 78576 | D10: =C10-B10 -> 0
A11: 2030 | B11: ='Talejas 1_anotācijai'!AG11 -> 0 | C11: =B11 -> 0 | D11: =C11-B11 -> 0
A12: 2031 | B12: ='Talejas 1_anotācijai'!AG12 -> 0 | C12: =B12 -> 0 | D12: =C12-B12 -> 0
A13: 2032 | B13: ='Talejas 1_anotācijai'!AG13 -> 0 | C13: =B13 -> 0 | D13: =C13-B13 -> 0
A14: 2033 | B14: ='Talejas 1_anotācijai'!AG14 -> 0 | C14: =B14 -> 0 | D14: =C14-B14 -> 0
A15: 2034 | B15: ='Talejas 1_anotācijai'!AG15 -> 0 | C15: =B15 -> 0 | D15: =C15-B15 -> 0
A16: 2035 | B16: ='Talejas 1_anotācijai'!AG16 -> 0 | C16: =B16 -> 0 | D16: =C16-B16 -> 0
... A24: 2043 | B24: ='Talejas 1_anotācijai'!AG24 -> 0 | C24: =B24 -> 0 | D24: =C24-B24 -> 0
A25: 2044 (4 mēneši) | B25: ='Talejas 1_anotācijai'!AG25 -> 0 | C25: =B25 -> 0 | D25: =C25-B25 -> 0

Sheet LM
A2: Pārskata periods (gads) | B2: Finansējums nomas un papildu maksājumu segšanai Talejas ielā 1
B3: LM nepieciešamais | C3: LM pieejamais | D3: no LM uz EM pārdalāmais
D4: D=C-B
A5: 2024 | B5: 0 | C5: ='Talejas 1_anotācijai'!E5+'Talejas 1_anotācijai'!F5 -> 42090 | D5: =C5-B5 -> 42090
A6: 2025 | B6: 0 | C6: ='Talejas 1_anotācijai'!E6+'Talejas 1_anotācijai'!F6 -> 42090 | D6: =C6-B6 -> 42090
A7: 2026 | B7: 0 | C7: ='Talejas 1_anotācijai'!E7+'Talejas 1_anotācijai'!F7 -> 42090 | D7: =C7-B7 -> 42090
A8: 2027 | B8: 0 | C8: ='Talejas 1_anotācijai'!E8+'Talejas 1_anotācijai'!F8 -> 42090 | D8: =C8-B8 -> 42090
A9: 2028 | B9: 0 | C9: ='Talejas 1_anotācijai'!E9+'Talejas 1_anotācijai'!F9 -> 42090 | D9: =C9-B9 -> 42090
A10: 2029 | B10: 0 | C10: ='Talejas 1_anotācijai'!E10+'Talejas 1_anotācijai'!F10 -> 42090 | D10: =C10-B10 -> 42090
A11: 2030 | B11: 0 | C11: ='Talejas 1_anotācijai'!E11+'Talejas 1_anotācijai'!F11 -> 42090 | D11: =C11-B11 -> 42090
A12: 2031 | B12: 0 | C12: ='Talejas 1_anotācijai'!E12+'Talejas 1_anotācijai'!F12 -> 42090 | D12: =C12-B12 -> 42090
A13: 2032 | B13: 0 | C13: ='Talejas 1_anotācijai'!E13+'Talejas 1_anotācijai'!F13 -> 42090 | D13: =C13-B13 -> 42090
A14: 2033 | B14: 0 | C14: ='Talejas 1_anotācijai'!E14+'Talejas 1_anotācijai'!F14 -> 42090 | D14: =C14-B14 -> 42090
A15: 2034 | B15: 0 | C15: ='Talejas 1_anotācijai'!E15+'Talejas 1_anotācijai'!F15 -> 42090 | D15: =C15-B15 -> 42090
A16: 2035 | B16: 0 | C16: ='Talejas 1_anotācijai'!E16+'Talejas 1_anotācijai'!F16 -> 42090 | D16: =C16-B16 -> 42090
... A24: 2043 | B24: 0 | C24: ='Talejas 1_anotācijai'!E24+'Talejas 1_anotācijai'!F24 -> 42090 | D24: =C24-B24 -> 42090
A25: 2044 (4 mēneši) | B25: 0 | C25: ='Talejas 1_anotācijai'!E25+'Talejas 1_anotācijai'!F25 -> 10524 | D25: =C25-B25 -> 10524

Sheet K komponentes izmaiņas
A2: Talejas 1 kredīta pamatsummas atlikums uz 01.09.2024.: | F2: 34277572 | G2: EUR
A3: Plānots dzēst kredītu no atsavināšanas ieņēmumiem līdz 2027. gadam: | F3: 17260000 | G3: EUR
A5: Nomnieki pēc telpu pārņemšanas no VID:
A7: Nosaukums | B7: Iznomātā platība, m2 | C7: Esošā kapitālieguldījumu atmaksas komponente euro ar PVN | F7: Plānotā kapitālieguldījumu atmaksas komponente euro ar PVN 2026.gadā | I7: Samazinājums attiecībā pret esošo euro ar PVN 2026.gadā | L7: Plānotā kapitālieguldījumu atmaksas komponente euro ar PVN no 2027.gada | O7: Samazinājums attiecībā pret esošo euro ar PVN 2027.gadā
B8: m2 | C8: euro/m2 | D8: mēnesī | E8: gadā | F8: euro/m2 | G8: mēnesī | H8: gadā | I8: euro/m2 | J8: mēnesī | K8: gadā | L8: euro/m2 | M8: mēnesī | N8: gadā | O8: euro/m2 | P8: mēnesī | Q8: gadā
A9: VID | B9: 19600.76 | C9: 10.2729 | D9: =B9*C9 -> 201356.65 | E9: =D9*12 -> 2416279.8 | F9: 8.6374489 | G9: =F9*B9 -> 169300.56 | H9: =G9*12 -> 2031606.7 | I9: =C9-F9 -> 1.6354511 | J9: =D9-G9 -> 32056.085 | K9: =E9-H9 -> 384673.03 | L9: 5.4934 | M9: =B9*L9 -> 107674.81 | N9: =M9*12 -> 1292097.8 | O9: =C9-L9 -> 4.7795 | P9: =D9-M9 -> 93681.832 | Q9: =P9*12 -> 1124182
A10: EM | B10: 8514.65 | C10: 9.8131 | D10: =B10*C10 -> 83555.112 | E10: =D10*12 -> 1002661.3 | F10: 8.2643 | G10: =F10*B10 -> 70367.622 | H10: =G10*12 -> 844411.46 | I10: =C10-F10 -> 1.5488 | J10: =D10-G10 -> 13187.49 | K10: =E10-H10 -> 158249.88 | L10: 5.2514 | M10: =B10*L10 -> 44713.833 | N10: =M10*12 -> 536566 | O10: =C10-L10 -> 4.5617 | P10: =D10-M10 -> 38841.279 | Q10: =P10*12 -> 466095.35
A11: NVA | B11: 1918.3 | C11: 9.8131 | D11: =B11*C11 -> 18824.47 | E11: =D11*12 -> 225893.64 | F11: 8.2643 | G11: =F11*B11 -> 15853.407 | H11: =G11*12 -> 190240.88 | I11: =C11-F11 -> 1.5488 | J11: =D11-G11 -> 2971.063 | K11: =E11-H11 -> 35652.756 | L11: 5.2514 | M11: =B11*L11 -> 10073.761 | N11: =M11*12 -> 120885.13 | O11: =C11-L11 -> 4.5617 | P11: =D11-M11 -> 8750.7091 | Q11: =P11*12 -> 105008.51
A12: LRP | B12: 2759.1 | C12: 9.8131 | D12: =B12*C12 -> 27075.324 | E12: =D12*12 -> 324903.89 | F12: 8.2643 | G12: =F12*B12 -> 22802.03 | H12: =G12*12 -> 273624.36 | I12: =C12-F12 -> 1.5488 | J12: =D12-G12 -> 4273.2941 | K12: =E12-H12 -> 51279.529 | L12: 5.2514 | M12: =B12*L12 -> 14489.138 | N12: =M12*12 -> 173869.65 | O12: =C12-L12 -> 4.5617 | P12: =D12-M12 -> 12586.186 | Q12: =P12*12 -> 151034.24
A13: IAUI | B13: 16 | C13: 9.8131 | D13: =B13*C13 -> 157.0096 | E13: =D13*12 -> 1884.1152 | F13: 8.2643 | G13: =F13*B13 -> 132.2288 | H13: =G13*12 -> 1586.7456 | I13: =C13-F13 -> 1.5488 | J13: =D13-G13 -> 24.7808 | K13: =E13-H13 -> 297.3696 | L13: 5.2514 | M13: =B13*L13 -> 84.0224 | N13: =M13*12 -> 1008.2688 | O13: =C13-L13 -> 4.5617 | P13: =D13-M13 -> 72.9872 | Q13: =P13*12 -> 875.8464
A14: VI | B14: 1388.6 | C14: 9.8131 | D14: =B14*C14 -> 13626.471 | E14: =D14*12 -> 163517.65 | F14: 8.2643 | G14: =F14*B14 -> 11475.807 | H14: =G14*12 -> 137709.68 | I14: =C14-F14 -> 1.5488 | J14: =D14-G14 -> 2150.6637 | K14: =E14-H14 -> 25807.964 | L14: 5.2514 | M14: =B14*L14 -> 7292.094 | N14: =M14*12 -> 87505.128 | O14: =C14-L14 -> 4.5617 | P14: =D14-M14 -> 6334.3766 | Q14: =P14*12 -> 76012.519
A15: AiM | B15: 511.6 | C15: 9.8131 | D15: =B15*C15 -> 5020.382 | E15: =D15*12 -> 60244.584 | F15: 8.2643 | G15: =F15*B15 -> 4228.0159 | H15: =G15*12 -> 50736.191 | I15: =C15-F15 -> 1.5488 | J15: =D15-G15 -> 792.36608 | K15: =E15-H15 -> 9508.393 | L15: 5.2514 | M15: =B15*L15 -> 2686.6162 | N15: =M15*12 -> 32239.395 | O15: =C15-L15 -> 4.5617 | P15: =D15-M15 -> 2333.7657 | Q15: =P15*12 -> 28005.189
A16: Kopā: | B16: =SUM(B9:B15) -> 34709.01 | D16: =SUM(D9:D15) -> 349615.42 | E16: =SUM(E9:E15) -> 4195385 | G16: =SUM(G9:G15) -> 294159.67 | H16: =G16*12 -> 3529916.1 | J16: =SUM(J9:J15) -> 55455.743 | K16: =SUM(K9:K15) -> 665468.92 | M16: =SUM(M9:M15) -> 187014.28 | N16: =SUM(N9:N15) -> 2244171.3 | P16: =D16-M16 -> 162601.14 | Q16: =P16*12 -> 1951213.6

Sheet salīdzinājums
A2: Nr.p.k. | B2: Pārskata periods (gads) | C2: Valsts budžetā kopā pieejamais finansējums telpu Talejas ielā 1, Rīgā nomas, papildu maksājumu un pārcelšanās izdevumu segšanai* | E2: Ja samazina kredītsaistības un no 2026.gada piemēro attiecīgi samazinātu kapitālieguldījumu atmaksas komponenti | H2: Ja nesamazina kredītsaistības un saglabā esošo kapitālieguldījumu atmaksas komponenti
E3: Valsts budžetā kopā nepieciešamais finansējums telpu Talejas ielā 1, Rīgā nomas, papildu maksājumu un pārcelšanās izdevumu segšanai | F3: Valsts budžeta izdevumu izmaiņas (- ietaupījums : + pieaugums) | H3: Valsts budžetā kopā nepieciešamais finansējums telpu Talejas ielā 1, Rīgā nomas, papildu maksājumu un pārcelšanās izdevumu segšanai | I3: Valsts budžeta izdevumu izmaiņas (- ietaupījums : + pieaugums)
F4: F=E-C | I4: I=H-C
A5: 1 | B5: 2024 | C5: =VID!B5+VI!I5+EM!O5+LRP!I5+IAUI!C5+IEM!D5+AIM!C5+LM!C5 -> 7280170 | E5: =SUM('Talejas 1_anotācijai'!AF5,'Talejas 1_anotācijai'!AG5,'Talejas 1_anotācijai'!AJ5,'Talejas 1_anotācijai'!AN5,'Talejas 1_anotācijai'!AR5,'Talejas 1_anotācijai'!AW5,'Talejas 1_anotācijai'!AX5,'Talejas 1_anotācijai'!BA5,'Talejas 1_anotācijai'!BB5,'Talejas 1_anotācijai'!BD5) -> 7024591 | F5: =E5-C5 -> -255579 | H5: =E5 -> 7024591 | I5: =H5-C5 -> -255579
A6: =A5+1 -> 2 | B6: 2025 | C6: =VID!B6+VI!I6+EM!O6+LRP!I6+IAUI!C6+IEM!D6+AIM!C6+LM!C6 -> 7511124 | E6: =SUM('Talejas 1_anotācijai'!AF6,'Talejas 1_anotācijai'!AG6,'Talejas 1_anotācijai'!AJ6,'Talejas 1_anotācijai'!AN6,'Talejas 1_anotācijai'!AR6,'Talejas 1_anotācijai'!AW6,'Talejas 1_anotācijai'!AX6,'Talejas 1_anotācijai'!BA6,'Talejas 1_anotācijai'!BB6,'Talejas 1_anotācijai'!BD6) -> 7471220 | F6: =E6-C6 -> -39904 | H6: =E6 -> 7471220 | I6: =H6-C6 -> -39904
A7: =A6+1 -> 3 | B7: 2026 | C7: =VID!B7+VI!I7+EM!O7+LRP!I7+IAUI!C7+IEM!D7+AIM!C7+LM!C7 -> 8155392 | E7: =SUM('Talejas 1_anotācijai'!AF7,'Talejas 1_anotācijai'!AG7,'Talejas 1_anotācijai'!AJ7,'Talejas 1_anotācijai'!AN7,'Talejas 1_anotācijai'!AR7,'Talejas 1_anotācijai'!AW7,'Talejas 1_anotācijai'!AX7,'Talejas 1_anotācijai'!BA7,'Talejas 1_anotācijai'!BB7,'Talejas 1_anotācijai'!BD7) -> 7973879 | F7: =E7-C7 -> -181513 | H7: =E7+6*('K komponentes izmaiņas'!D16-'K komponentes izmaiņas'!G16) -> 8306613.5 | I7: =H7-C7 -> 151221.46
A8: =A7+1 -> 4 | B8: 2027 | C8: =VID!B8+VI!I8+EM!O8+LRP!I8+IAUI!C8+IEM!D8+AIM!C8+LM!C8 -> 8053034 | E8: =SUM('Talejas 1_anotācijai'!AF8,'Talejas 1_anotācijai'!AG8,'Talejas 1_anotācijai'!AJ8,'Talejas 1_anotācijai'!AN8,'Talejas 1_anotācijai'!AR8,'Talejas 1_anotācijai'!AW8,'Talejas 1_anotācijai'!AX8,'Talejas 1_anotācijai'!BA8,'Talejas 1_anotācijai'!BB8,'Talejas 1_anotācijai'!BD8) -> 7379532 | F8: =E8-C8 -> -673502 | H8: =E8+('K komponentes izmaiņas'!$E$16-'K komponentes izmaiņas'!$N$16) -> 9330745.6 | I8: =H8-C8 -> 1277711.6
A9: =A8+1 -> 5 | B9: 2028 | C9: =VID!B9+VI!I9+EM!O9+LRP!I9+IAUI!C9+IEM!D9+AIM!C9+LM!C9 -> 7793835 | E9: =SUM('Talejas 1_anotācijai'!AF9,'Talejas 1_anotācijai'!AG9,'Talejas 1_anotācijai'!AJ9,'Talejas 1_anotācijai'!AN9,'Talejas 1_anotācijai'!AR9,'Talejas 1_anotācijai'!AW9,'Talejas 1_anotācijai'!AX9,'Talejas 1_anotācijai'!BA9,'Talejas 1_anotācijai'!BB9,'Talejas 1_anotācijai'!BD9) -> 7363332 | F9: =E9-C9 -> -430503 | H9: =E9+('K komponentes izmaiņas'!$E$16-'K komponentes izmaiņas'!$N$16) -> 9314545.6 | I9: =H9-C9 -> 1520710.6
A10: =A9+1 -> 6 | B10: 2029 | C10: =VID!B10+VI!I10+EM!O10+LRP!I10+IAUI!C10+IEM!D10+AIM!C10+LM!C10 -> 7754547 | E10: =SUM('Talejas 1_anotācijai'!AF10,'Talejas 1_anotācijai'!AG10,'Talejas 1_anotācijai'!AJ10,'Talejas 1_anotācijai'!AN10,'Talejas 1_anotācijai'!AR10,'Talejas 1_anotācijai'!AW10,'Talejas 1_anotācijai'!AX10,'Talejas 1_anotācijai'!BA10,'Talejas 1_anotācijai'!BB10,'Talejas 1_anotācijai'!BD10) -> 7324044 | F10: =E10-C10 -> -430503 | H10: =E10+('K komponentes izmaiņas'!$E$16-'K komponentes izmaiņas'!$N$16) -> 9275257.6 | I10: =H10-C10 -> 1520710.6
A11: =A10+1 -> 7 | B11: 2030 | C11: =VID!B11+VI!I11+EM!O11+LRP!I11+IAUI!C11+IEM!D11+AIM!C11+LM!C11 -> 7675971 | E11: =SUM('Talejas 1_anotācijai'!AF11,'Talejas 1_anotācijai'!AG11,'Talejas 1_anotācijai'!AJ11,'Talejas 1_anotācijai'!AN11,'Talejas 1_anotācijai'!AR11,'Talejas 1_anotācijai'!AW11,'Talejas 1_anotācijai'!AX11,'Talejas 1_anotācijai'!BA11,'Talejas 1_anotācijai'!BB11,'Talejas 1_anotācijai'!BD11) -> 7212072 | F11: =E11-C11 -> -463899 | H11: =E11+('K komponentes izmaiņas'!$E$16-'K komponentes izmaiņas'!$N$16) -> 9163285.6 | I11: =H11-C11 -> 1487314.6
A12: =A11+1 -> 8 | B12: 2031 | C12: =VID!B12+VI!I12+EM!O12+LRP!I12+IAUI!C12+IEM!D12+AIM!C12+LM!C12 -> 7675971 | E12: =SUM('Talejas 1_anotācijai'!AF12,'Talejas 1_anotācijai'!AG12,'Talejas 1_anotācijai'!AJ12,'Talejas 1_anotācijai'!AN12,'Talejas 1_anotācijai'!AR12,'Talejas 1_anotācijai'!AW12,'Talejas 1_anotācijai'!AX12,'Talejas 1_anotācijai'!BA12,'Talejas 1_anotācijai'!BB12,'Talejas 1_anotācijai'!BD12) -> 7145280 | F12: =E12-C12 -> -530691 | H12: =E12+('K komponentes izmaiņas'!$E$16-'K komponentes izmaiņas'!$N$16) -> 9096493.6 | I12: =H12-C12 -> 1420522.6
A13: =A12+1 -> 9 | B13: 2032 | C13: =VID!B13+VI!I13+EM!O13+LRP!I13+IAUI!C13+IEM!D13+AIM!C13+LM!C13 -> 7675971 | E13: =SUM('Talejas 1_anotācijai'!AF13,'Talejas 1_anotācijai'!AG13,'Talejas 1_anotācijai'!AJ13,'Talejas 1_anotācijai'!AN13,'Talejas 1_anotācijai'!AR13,'Talejas 1_anotācijai'!AW13,'Talejas 1_anotācijai'!AX13,'Talejas 1_anotācijai'!BA13,'Talejas 1_anotācijai'!BB13,'Talejas 1_anotācijai'!BD13) -> 6540096 | F13: =E13-C13 -> -1135875 | H13: =E13+('K komponentes izmaiņas'!$E$16-'K komponentes izmaiņas'!$N$16) -> 8491309.6 | I13: =H13-C13 -> 815338.64
A14: =A13+1 -> 10 | B14: 2033 | C14: =VID!B14+VI!I14+EM!O14+LRP!I14+IAUI!C14+IEM!D14+AIM!C14+LM!C14 -> 7675971 | E14: =SUM('Talejas 1_anotācijai'!AF14,'Talejas 1_anotācijai'!AG14,'Talejas 1_anotācijai'!AJ14,'Talejas 1_anotācijai'!AN14,'Talejas 1_anotācijai'!AR14,'Talejas 1_anotācijai'!AW14,'Talejas 1_anotācijai'!AX14,'Talejas 1_anotācijai'!BA14,'Talejas 1_anotācijai'!BB14,'Talejas 1_anotācijai'!BD14) -> 6540096 | F14: =E14-C14 -> -1135875 | H14: =E14+('K komponentes izmaiņas'!$E$16-'K komponentes izmaiņas'!$N$16) -> 8491309.6 | I14: =H14-C14 -> 815338.64
A15: =A14+1 -> 11 | B15: 2034 | C15: =VID!B15+VI!I15+EM!O15+LRP!I15+IAUI!C15+IEM!D15+AIM!C15+LM!C15 -> 7675971 | E15: =SUM('Talejas 1_anotācijai'!AF15,'Talejas 1_anotācijai'!AG15,'Talejas 1_anotācijai'!AJ15,'Talejas 1_anotācijai'!AN15,'Talejas 1_anotācijai'!AR15,'Talejas 1_anotācijai'!AW15,'Talejas 1_anotācijai'!AX15,'Talejas 1_anotācijai'!BA15,'Talejas 1_anotācijai'!BB15,'Talejas 1_anotācijai'!BD15) -> 6540096 | F15: =E15-C15 -> -1135875 | H15: =E15+('K komponentes izmaiņas'!$E$16-'K komponentes izmaiņas'!$N$16) -> 8491309.6 | I15: =H15-C15 -> 815338.64
A16: =A15+1 -> 12 | B16: 2035 | C16: =VID!B16+VI!I16+EM!O16+LRP!I16+IAUI!C16+IEM!D16+AIM!C16+LM!C16 -> 7675971 | E16: =SUM('Talejas 1_anotācijai'!AF16,'Talejas 1_anotācijai'!AG16,'Talejas 1_anotācijai'!AJ16,'Talejas 1_anotācijai'!AN16,'Talejas 1_anotācijai'!AR16,'Talejas 1_anotācijai'!AW16,'Talejas 1_anotācijai'!AX16,'Talejas 1_anotācijai'!BA16,'Talejas 1_anotācijai'!BB16,'Talejas 1_anotācijai'!BD16) -> 6485040 | F16: =E16-C16 -> -1190931 | H16: =E16+('K komponentes izmaiņas'!$E$16-'K komponentes izmaiņas'!$N$16) -> 8436253.6 | I16: =H16-C16 -> 760282.64
A17: =A16+1 -> 13 | B17: 2036 | C17: =VID!B17+VI!I17+EM!O17+LRP!I17+IAUI!C17+IEM!D17+AIM!C17+LM!C17 -> 7675971 | E17: =SUM('Talejas 1_anotācijai'!AF17,'Talejas 1_anotācijai'!AG17,'Talejas 1_anotācijai'!AJ17,'Talejas 1_anotācijai'!AN17,'Talejas 1_anotācijai'!AR17,'Talejas 1_anotācijai'!AW17,'Talejas 1_anotācijai'!AX17,'Talejas 1_anotācijai'!BA17,'Talejas 1_anotācijai'!BB17,'Talejas 1_anotācijai'!BD17) -> 6374928 | F17: =E17-C17 -> -1301043 | H17: =E17+('K komponentes izmaiņas'!$E$16-'K komponentes izmaiņas'!$N$16) -> 8326141.6 | I17: =H17-C17 -> 650170.64
A18: =A17+1 -> 14 | B18: 2037 | C18: =VID!B18+VI!I18+EM!O18+LRP!I18+IAUI!C18+IEM!D18+AIM!C18+LM!C18 -> 7675971 | E18: =SUM('Talejas 1_anotācijai'!AF18,'Talejas 1_anotācijai'!AG18,'Talejas 1_anotācijai'!AJ18,'Talejas 1_anotācijai'!AN18,'Talejas 1_anotācijai'!AR18,'Talejas 1_anotācijai'!AW18,'Talejas 1_anotācijai'!AX18,'Talejas 1_anotācijai'!BA18,'Talejas 1_anotācijai'!BB18,'Talejas 1_anotācijai'!BD18) -> 6374928 | F18: =E18-C18 -> -1301043 | H18: =E18+('K komponentes izmaiņas'!$E$16-'K komponentes izmaiņas'!$N$16) -> 8326141.6 | I18: =H18-C18 -> 650170.64
A19: =A18+1 -> 15 | B19: 2038 | C19: =VID!B19+VI!I19+EM!O19+LRP!I19+IAUI!C19+IEM!D19+AIM!C19+LM!C19 -> 7675971 | E19: =SUM('Talejas 1_anotācijai'!AF19,'Talejas 1_anotācijai'!AG19,'Talejas 1_anotācijai'!AJ19,'Talejas 1_anotācijai'!AN19,'Talejas 1_anotācijai'!AR19,'Talejas 1_anotācijai'!AW19,'Talejas 1_anotācijai'!AX19,'Talejas 1_anotācijai'!BA19,'Talejas 1_anotācijai'!BB19,'Talejas 1_anotācijai'!BD19) -> 6374928 | F19: =E19-C19 -> -1301043 | H19: =E19+('K komponentes izmaiņas'!$E$16-'K komponentes izmaiņas'!$N$16) -> 8326141.6 | I19: =H19-C19 -> 650170.64
... A24: =A23+1 -> 20 | B24: 2043 | C24: =VID!B24+VI!I24+EM!O24+LRP!I24+IAUI!C24+IEM!D24+AIM!C24+LM!C24 -> 7675971 | E24: =SUM('Talejas 1_anotācijai'!AF24,'Talejas 1_anotācijai'!AG24,'Talejas 1_anotācijai'!AJ24,'Talejas 1_anotācijai'!AN24,'Talejas 1_anotācijai'!AR24,'Talejas 1_anotācijai'!AW24,'Talejas 1_anotācijai'!AX24,'Talejas 1_anotācijai'!BA24,'Talejas 1_anotācijai'!BB24,'Talejas 1_anotācijai'!BD24) -> 6374928 | F24: =E24-C24 -> -1301043 | H24: =E24+('K komponentes izmaiņas'!$E$16-'K komponentes izmaiņas'!$N$16) -> 8326141.6 | I24: =H24-C24 -> 650170.64
A25: =A24+1 -> 21 | B25: 2044 (4 mēneši) | C25: =VID!B25+VI!I25+EM!O25+LRP!I25+IAUI!C25+IEM!D25+AIM!C25+LM!C25 -> 2290039 | E25: =SUM('Talejas 1_anotācijai'!AF25,'Talejas 1_anotācijai'!AG25,'Talejas 1_anotācijai'!AJ25,'Talejas 1_anotācijai'!AN25,'Talejas 1_anotācijai'!AR25,'Talejas 1_anotācijai'!AW25,'Talejas 1_anotācijai'!AX25,'Talejas 1_anotācijai'!BA25,'Talejas 1_anotācijai'!BB25,'Talejas 1_anotācijai'!BD25) -> 2124976 | F25: =E25-C25 -> -165063 | H25: =H24/12*4 -> 2775380.5 | I25: =H25-C25 -> 485341.55
A26: PAVISAM KOPĀ: | C26: =SUM(C5:C25) -> 156301735 | E26: =SUM(E5:E25) -> 138123678 | F26: =SUM(F5:F25) -> -18178057 | H26: =SUM(H5:H25) -> 1.7227745e+08 | I26: =SUM(I5:I25) -> 15975714
A28: * Tai skaitā esošajiem nomniekiem noteiktās ilgtermiņa saistības un jaunajiem nomniekiem pieejamais finansējums

Sheet Talejas 1_jauna
D1: FORMULAS NEMAINĪT! | AW1: FORMULAS NEMAINĪT!
A2: Jāliek AR PVN | D2: Šī brīža bāze
A3: Nr.p.k. | B3: Pārskata periods (gads) | C3: Apstiprinātais finansējums | AU3: Izmaiņas +/- | AV3: Precizētais finansējums | CO3: Izmaiņas
C4: Valsts ieņēmumu dienests | D4: VID nomas maksa Talejas 1 kopā | E4: VID biroja telpu nomas maksa Talejas 1 | F4: VID speciālā režīma telpu nomas maksa Talejas 1 | G4: VID laboratorijas telpu nomas maksa Talejas 1 | H4: VID NĪN un apdrošināšana Talejas 1 | I4: Valsts darba inspekcija | J4: VDI nomas maksa Talejas 1 | K4: VDI NĪN un apdrošināšana Talejas 1 | L4: Valsts sociālās apdrošināšanas aģentūra | M4: VSAA nomas maksa Talejas 1 | N4: VSAA NĪN un apdrošināšana Talejas 1 | O4: Izložu un azartspēļu uzraudzības inspekcija | P4: IAUI nomas maksa Talejas 1 | Q4: IAUI NĪN un apdrošināšana Talejas 1 | R4: Latvijas republikas prokuratūra | S4: LRP esošo telpu nomas maksa Talejas 1 | T4: LRP NĪN un apdrošināšana Talejas 1 | U4: LRP jauno (pagaidu) telpu nomas maksa Talejas 1 | V4: LRP NĪN un apdrošināšana Talejas 1 | W4: Veselības inspekcija | X4: VI nomas maksa Klijānu 7 | Y4: VI NĪN un apdrošināšana Klijānu 7 | Z4: VI nomas maksa Talejas 1 | AA4: VI NĪN un apdrošināšana Talejas 1 | AB4: VI pārcelšanās izdevumi | AC4: Ekonomikas ministrija un iestādes | AD4: EM un iestāžu esošo telpu izmaksas | AE4: EM un iestāžu nomas maksa Talejas 1 | AF4: EM un iestāžu NĪN un apdrošināšana Talejas 1 | AG4: EM un iestāžu pārcelšanās izmaksas | AH4: Nodrošinājuma valsts aģentūra | AI4: NVA (VUGD un VRS) nomas maksa Talejas 1 | AJ4: NVA (VUGD) nomas maksa Talejas 1 nomas objekts Nr.1 | AK4: NVA (VUGD) nomas maksa Talejas 1 nomas objekts Nr.2 | AL4: NVA (VUGD) nomas maksa Talejas 1 nomas objekts Nr.3 | AM4: NVA (VUGD) nomas maksa Talejas 1 nomas objekts Nr.4 | AN4: NVA (VUGD) nomas maksa Talejas 1 nomas objekts Nr.5 | AO4: NVA (VRS) nomas maksa Talejas 1 nomas objekts Nr.6 | AP4: NVA (VUGD un VRS) NĪN un apdrošināšana Talejas 1 | AQ4: NVA (VUGD) telpu pielāgošana Talejas 1 | AR4: NVA nomas maksa Čiekurkalna 1.līnija 1 k-1 | AS4: NVA NĪN un apdrošināšana Čiekurkalna 1.līnija 1 k-1 | AT4: kopā: | AV4: Valsts ieņēmumu dienests | AW4: VID nomas maksa Talejas 1 kopā | AX4: VID biroja telpu nomas maksa Talejas 1 | AY4: VID speciālā režīma telpu nomas maksa Talejas 1 | AZ4: VID laboratorijas telpu nomas maksa Talejas 1 | BA4: VID NĪN un apdrošināšana Talejas 1 | BB4: Valsts darba inspekcija | BC4: VDI nomas maksa Talejas 1 | BD4: VDI NĪN un apdrošināšana Talejas 1 | BE4: Valsts sociālās apdrošināšanas aģentūra | BF4: VSAA nomas maksa Talejas 1 | BG4: VSAA NĪN un apdrošināšana Talejas 1 | BH4: Izložu un azartspēļu uzraudzības inspekcija | BI4: IAUI nomas maksa Talejas 1 | BJ4: IAUI NĪN un apdrošināšana Talejas 1 | BK4: Latvijas republikas prokuratūra | BL4: LRP esošo telpu nomas maksa Talejas 1 | BM4: LRP NĪN un apdrošināšana Talejas 1 | BN4: LRP jauno (pagaidu) telpu nomas maksa Talejas 1 | BO4: LRP NĪN un apdrošināšana Talejas 1 | BP4: Veselības inspekcija | BQ4: VI nomas maksa Klijānu 7 | BR4: VI NĪN un apdrošināšana Klijānu 7 | BS4: VI nomas maksa Talejas 1 | BT4: VI NĪN un apdrošināšana Talejas 1 | BU4: VI pārcelšanās izdevumi | BV4: Ekonomikas ministrija un iestādes | BW4: EM un iestāžu esošo telpu izmaksas | BX4: EM un iestāžu nomas maksa Talejas 1 | BY4: EM un iestāžu NĪN un apdrošināšana Talejas 1 | BZ4: EM un iestāžu pārcelšanās izmaksas | CA4: Nodrošinājuma valsts aģentūra | CB4: NVA (VUGD un VRS) nomas maksa Talejas 1 | CC4: NVA (VUGD) nomas maksa Talejas 1 nomas objekts Nr.1 | CD4: NVA (VUGD) nomas maksa Talejas 1 nomas objekts Nr.2 | CE4: NVA (VUGD) nomas maksa Talejas 1 nomas objekts Nr.3 | CF4: NVA (VUGD) nomas maksa Talejas 1 nomas objekts Nr.4 | CG4: NVA (VUGD) nomas maksa Talejas 1 nomas objekts Nr.5 | CH4: NVA (VRS) nomas maksa Talejas 1 nomas objekts Nr.6 | CI4: NVA (VUGD un VRS) NĪN un apdrošināšana Talejas 1 | CJ4: NVA (VUGD) telpu pielāgošana Talejas 1 | CK4: NVA nomas maksa Čiekurkalna 1.līnija 1 k-1 | CL4: NVA NĪN un apdrošināšana Čiekurkalna 1.līnija 1 k-1 | CM4: kopā: | CO4: Valsts ieņēmumu dienests | CP4: VID nomas maksa Talejas 1 kopā | CQ4: VID biroja telpu nomas maksa Talejas 1 | CR4: VID speciālā režīma telpu nomas maksa Talejas 1 | CS4: VID laboratorijas telpu nomas maksa Talejas 1 | CT4: VID NĪN un apdrošināšana Talejas 1 | CU4: Valsts darba inspekcija | CV4: VDI nomas maksa Talejas 1 | CW4: VDI NĪN un apdrošināšana Talejas 1 | CX4: Valsts sociālās apdrošināšanas aģentūra | CY4: VSAA nomas maksa Talejas 1 | CZ4: VSAA NĪN un apdrošināšana Talejas 1 | DA4: Izložu un azartspēļu uzraudzības inspekcija | DB4: LAUI nomas maksa Talejas 1 | DC4: LAUI NĪN un apdrošināšana Talejas 1 | DD4: Latvijas republikas prokuratūra | DE4: LRP esošo telpu nomas maksa Talejas 1 | DF4: LRP NĪN un apdrošināšana Talejas 1 | DG4: LRP jauno (pagaidu) telpu nomas maksa Talejas 1 | DH4: LRP NĪN un apdrošināšana Talejas 1 | DI4: Veselības inspekcija | DJ4: VI nomas maksa Klijānu 7 | DK4: VI NĪN un apdrošināšana Klijānu 7 | DL4: VI nomas maksa Talejas 1 | DM4: VI NĪN un apdrošināšana Talejas 1 | DN4: VI pārcelšanās izdevumi | DO4: Ekonomikas ministrija un iestādes | DP4: EM un iestāžu esošo telpu izmaksas | DQ4: EM un iestāžu nomas maksa Talejas 1 | DR4: EM un iestāžu NĪN un apdrošināšana Talejas 1 | DS4: EM un iestāžu pārcelšanās izmaksas | DT4: Nodrošinājuma valsts aģentūra | DU4: NVA (VUGD un VRS) nomas maksa Talejas 1 | DV4: NVA (VUGD) nomas maksa Talejas 1 nomas objekts Nr.1 | DW4: NVA (VUGD) nomas maksa Talejas 1 nomas objekts Nr.2 | DX4: NVA (VUGD) nomas maksa Talejas 1 nomas objekts Nr.3 | DY4: NVA (VUGD) nomas maksa Talejas 1 nomas objekts Nr.4 | DZ4: NVA (VUGD) nomas maksa Talejas 1 nomas objekts Nr.5 | EA4: NVA (VRS) nomas maksa Talejas 1 nomas objekts Nr.6 | EB4: NVA (VUGD un VRS) NĪN un apdrošināšana Talejas 1 | EC4: NVA (VUGD) telpu pielāgošana Talejas 1 | ED4: NVA nomas maksa Čiekurkalna 1.līnija 1 k-1 | EE4: NVA NĪN un apdrošināšana Čiekurkalna 1.līnija 1 k-1 | EF4: kopā: | EH4: VID ietaupījums | EI4: Starpība valsts budžetā | EJ4: VID ietaupījums | EK4: Starpība valsts budžetā
A5: 1. | B5: 2.
A6: 1 | B6: 2024 | C6: =SUM(D6,H6) -> 6780682.1 | D6: =SUM(E6:G6) -> 6780682.1 | E6: =5592364.44+1.21 -> 5592365.7 | F6: 950060.76 | G6: 238255.68 | H6: 0 | I6: =SUM(J6:K6) -> 6193 | J6: 6193 | K6: 0 | L6: =SUM(M6:N6) -> 35897 | M6: 35897 | N6: 0 | O6: =SUM(P6:Q6) -> 3006.95 | P6: 2998.38 | Q6: 8.57 | R6: =SUM(S6:V6) -> 238212.84 | S6: 83398.66 | T6: 224.18 | U6: 154590 | V6: 0 | W6: =SUM(X6:AB6) -> 272722.05 | X6: 268808.03 | Y6: 3914.0112 | Z6: 0 | AA6: 0 | AB6: 0 | AC6: =SUM(AD6:AG6) -> 487652.16 | AD6: 487652.16 | AE6: 0 | AF6: 0 | AG6: 0 | AH6: =SUM(AI6,AP6:AS6) -> 9752862.5 | AI6: =SUM(AJ6:AO6) -> 0 | AJ6: 0 | AK6: 0 | AL6: 0 | AM6: 0 | AN6: 0 | AO6: 0 | AP6: 0 | AQ6: 396375 | AR6: =ROUNDUP(9335577.6624,0) -> 9335578 | AS6: 20909.526 | AT6: =SUM(C6,I6,L6,O6,R6,W6,AC6,AH6) -> 17577229 | AU6: =CM6-AT6 -> -366536.64 | AV6: =SUM(AW6,BA6) -> 6016526 | AW6: =SUM(AX6:AZ6) -> 6002099.8 | AX6: 4780556.3 | AY6: 976217.22 | AZ6: 245326.32 | BA6: 14426.14 | BB6: =SUM(BC6:BD6) -> 0 | BC6: 0 | BD6: 0 | BE6: =SUM(BF6:BG6) -> 0 | BF6: 0 | BG6: 0 | BH6: =SUM(BI6:BJ6) -> 3247.1 | BI6: 3237.57 | BJ6: 9.53 | BK6: =SUM(BL6:BO6) -> 257902.71 | BL6: 93965.35 | BM6: 300.37 | BN6: 163218.59 | BO6: 418.3938 | BP6: =SUM(BQ6:BU6) -> 355906.88 | BQ6: =222155.4*1.21 -> 268808.03 | BR6: =3234.72*1.21 -> 3914.0112 | BS6: =17148.07*4*1.21 -> 82996.659 | BT6: =38.88*4*1.21 -> 188.1792 | BU6: 0 | BV6: =SUM(BW6:BZ6) -> 905689.56 | BW6: 487652.16 | BX6: =(104272.96*4) -> 417091.84 | BY6: =(236.39*4) -> 945.56 | BZ6: 0 | CA6: =SUM(CB6,CI6:CL6) -> 9671419.8 | CB6: =SUM(CC6:CH6) -> 170220.76 | CC6: =11196.8*1.21*4 -> 54192.512 | CD6: =7708.62*1.21*4 -> 37309.721 | CE6: =4663.66*1.21*(11+13/31) -> 64439.746 | CF6: =794.79*1.21*(11+13/31) -> 10981.947 | CG6: =238.6*1.21*(11+13/31) -> 3296.8363 | CH6: 0 | CI6: 457 | CJ6: 396375 | CK6: 9078866 | CL6: 25501 | CM6: =SUM(AV6,BB6,BE6,BH6,BK6,BP6,BV6,CA6) -> 17210692 | CO6: =AV6-C6 -> -764156.13 | CP6: =AW6-D6 -> -778582.27 | CQ6: =AX6-E6 -> -811809.37 | CR6: =AY6-F6 -> 26156.46 | CS6: =AZ6-G6 -> 7070.64 | CT6: =BA6-H6 -> 14426.14 | CU6: =BB6-I6 -> -6193 | CV6: =BC6-J6 -> -6193 | ... EE6: =CL6-AS6 -> 4591.474 | EF6: =SUM(CO6,CU6,CX6,DA6,DD6,DI6,DO6,DT6,) -> -366536.64 | EH6: 0 | EI6: =EH6+EF6 -> -366536.64 | EJ6: 0 | EK6: =EF6+EJ6 -> -366536.64
A7: =A6+1 -> 2 | B7: 2025 | C7: =SUM(D7,H7) -> 6367742.1 | D7: =SUM(E7:G7) -> 6367742.1 | E7: 5179425.7 | F7: 950060.76 | G7: 238255.68 | H7: 0 | I7: =SUM(J7:K7) -> 6193 | J7: 6193 | K7: 0 | L7: =SUM(M7:N7) -> 35897 | M7: 35897 | N7: 0 | O7: =SUM(P7:Q7) -> 3006.95 | P7: 2998.38 | Q7: 8.57 | R7: =SUM(S7:V7) -> 701979.84 | S7: 83398.66 | T7: 224.18 | U7: 618357 | V7: 0 | W7: =SUM(X7:AB7) -> 272722.05 | X7: 268808.03 | Y7: 3914.0112 | Z7: 0 | AA7: 0 | AB7: 0 | AC7: =SUM(AD7:AG7) -> 487652.16 | AD7: 487652.16 | AE7: 0 | AF7: 0 | AG7: 0 | AH7: =SUM(AI7,AP7:AS7) -> 9930509 | AI7: =SUM(AJ7:AO7) -> 0 | AJ7: 0 | AK7: 0 | AL7: 0 | AM7: 0 | AN7: 0 | AO7: 0 | AP7: 0 | AQ7: 574021.46 | AR7: =ROUNDUP(9335577.6624,0) -> 9335578 | AS7: 20909.526 | AT7: =SUM(C7,I7,L7,O7,R7,W7,AC7,AH7) -> 17805702 | AU7: =CM7-AT7 -> -138668.5 | AV7: =SUM(AW7,BA7) -> 4493182.6 | AW7: =SUM(AX7:AZ7) -> 4479087.7 | AX7: 3181871.3 | AY7: 1036025.8 | AZ7: 261190.55 | BA7: 14094.91 | BB7: =SUM(BC7:BD7) -> 0 | BC7: 0 | BD7: 0 | BE7: =SUM(BF7:BG7) -> 0 | BF7: 0 | BG7: 0 | BH7: =SUM(BI7:BJ7) -> 3638.69 | BI7: 3627.18 | BJ7: 11.51 | BK7: =SUM(BL7:BO7) -> 753596.48 | BL7: 94693.09 | BM7: 300.37 | BN7: 656929.46 | BO7: 1673.56 | BP7: =SUM(BQ7:BU7) -> 576903.68 | BQ7: =18512.95*8*1.21 -> 179205.36 | BR7: =269.56*8*1.21 -> 2609.3408 | BS7: =(17148.07*8*1.21)+(39955.88*4*1.21) -> 359379.78 | BT7: =(38.88*8*1.21)+(68.77*4*1.21) -> 709.2052 | BU7: 35000 | BV7: =SUM(BW7:BZ7) -> 1741764.2 | BW7: 487652.16 | BX7: 1251275.4 | BY7: 2836.62 | BZ7: 0 | CA7: =SUM(CB7,CI7:CL7) -> 10097948 | CB7: =SUM(CC7:CH7) -> 452306.52 | CC7: =11283.53*1.21*12 -> 163836.86 | CD7: =7708.62*1.21*3+9672.27*1.21*9 -> 133313.31 | CE7: =4690.58*1.21*12 -> 68107.222 | CF7: =800.95*1.21*12 -> 11629.794 | CG7: =240.45*1.21*12 -> 3491.334 | CH7: =5994*12 -> 71928 | CI7: 1331 | CJ7: 574021.46 | CK7: 9033428 | CL7: 36861 | CM7: =SUM(AV7,BB7,BE7,BH7,BK7,BP7,BV7,CA7) -> 17667034 | CO7: =AV7-C7 -> -1874559.5 | CP7: =AW7-D7 -> -1888654.4 | CQ7: =AX7-E7 -> -1997554.3 | CR7: =AY7-F7 -> 85965.05 | CS7: =AZ7-G7 -> 22934.87 | CT7: =BA7-H7 -> 14094.91 | CU7: =BB7-I7 -> -6193 | CV7: =BC7-J7 -> -6193 | ... EE7: =CL7-AS7 -> 15951.474 | EF7: =SUM(CO7,CU7,CX7,DA7,DD7,DI7,DO7,DT7,) -> -138668.5 | EH7: 0 | EI7: =EH7+EF7 -> -138668.5 | EJ7: 0 | EK7: =EF7+EJ7 -> -138668.5
A8: =A7+1 -> 3 | B8: 2026 | C8: =SUM(D8,H8) -> 6367742.1 | D8: =SUM(E8:G8) -> 6367742.1 | E8: 5179425.7 | F8: 950060.76 | G8: 238255.68 | H8: 0 | I8: =SUM(J8:K8) -> 6193 | J8: 6193 | K8: 0 | L8: =SUM(M8:N8) -> 35897 | M8: 35897 | N8: 0 | O8: =SUM(P8:Q8) -> 3006.95 | P8: 2998.38 | Q8: 8.57 | R8: =SUM(S8:V8) -> 598920.84 | S8: 83398.66 | T8: 224.18 | U8: 515298 | V8: 0 | W8: =SUM(X8:AB8) -> 272722.05 | X8: 268808.03 | Y8: 3914.0112 | Z8: 0 | AA8: 0 | AB8: 0 | AC8: =SUM(AD8:AG8) -> 487652.16 | AD8: 487652.16 | AE8: 0 | AF8: 0 | AG8: 0 | AH8: =SUM(AI8,AP8:AS8) -> 9356487.5 | AI8: =SUM(AJ8:AO8) -> 0 | AJ8: 0 | AK8: 0 | AL8: 0 | AM8: 0 | AN8: 0 | AO8: 0 | AP8: 0 | AQ8: 0 | AR8: =ROUNDUP(9335577.6624,0) -> 9335578 | AS8: 20909.526 | AT8: =SUM(C8,I8,L8,O8,R8,W8,AC8,AH8) -> 17128622 | AU8: =CM8-AT8 -> -297756.13 | AV8: =SUM(AW8,BA8) -> 4228800 | AW8: =SUM(AX8:AZ8) -> 4214705.1 | AX8: 3031787.9 | AY8: 945703.69 | AZ8: 237213.53 | BA8: 14094.91 | BB8: =SUM(BC8:BD8) -> 0 | BC8: 0 | BD8: 0 | BE8: =SUM(BF8:BG8) -> 0 | BF8: 0 | BG8: 0 | BH8: =SUM(BI8:BJ8) -> 3341.32 | BI8: 3329.81 | BJ8: 11.51 | BK8: =SUM(BL8:BO8) -> 621719.96 | BL8: 90775.18 | BM8: 300.37 | BN8: 529249.77 | BO8: 1394.646 | BP8: =SUM(BQ8:BU8) -> 568133.02 | BQ8: 0 | BR8: 0 | BS8: =468706.17*1.21 -> 567134.47 | BT8: =825.25*1.21 -> 998.5525 | BU8: 0 | BV8: =SUM(BW8:BZ8) -> 1895728.8 | BW8: 0 | BX8: =(104272.95*4)+(154201.185*8) -> 1650701.3 | BY8: =(236.39*4)+(510.24*8) -> 5027.48 | BZ8: 240000 | CA8: =SUM(CB8,CI8:CL8) -> 9513142.4 | CB8: =SUM(CC8:CH8) -> 441474.37 | CC8: =10816.67*1.21*12 -> 157058.05 | CD8: =9272.07*1.21*12 -> 134630.46 | CE8: =4545.61*1.21*12 -> 66002.257 | CF8: =767.82*1.21*12 -> 11148.746 | CG8: =230.5*1.21*12 -> 3346.86 | CH8: =5774*12 -> 69288 | CI8: 1379 | CJ8: 0 | CK8: 9033428 | CL8: 36861 | CM8: =SUM(AV8,BB8,BE8,BH8,BK8,BP8,BV8,CA8) -> 16830865 | CO8: =AV8-C8 -> -2138942 | CP8: =AW8-D8 -> -2153037 | CQ8: =AX8-E8 -> -2147637.7 | CR8: =AY8-F8 -> -4357.07 | CS8: =AZ8-G8 -> -1042.15 | CT8: =BA8-H8 -> 14094.91 | CU8: =BB8-I8 -> -6193 | CV8: =BC8-J8 -> -6193 | ... EE8: =CL8-AS8 -> 15951.474 | EF8: =SUM(CO8,CU8,CX8,DA8,DD8,DI8,DO8,DT8,) -> -297756.13 | EH8: 264382.54 | EI8: =EH8+EF8 -> -33373.594 | EJ8: 639697 | EK8: =EF8+EJ8 -> 341940.87
A9: =A8+1 -> 4 | B9: 2027 | C9: =SUM(D9,H9) -> 6780682.1 | D9: =SUM(E9:G9) -> 6780682.1 | E9: 5592365.7 | F9: 950060.76 | G9: 238255.68 | H9: 0 | I9: =SUM(J9:K9) -> 6193 | J9: 6193 | K9: 0 | L9: =SUM(M9:N9) -> 35897 | M9: 35897 | N9: 0 | O9: =SUM(P9:Q9) -> 3006.95 | P9: 2998.38 | Q9: 8.57 | R9: =SUM(S9:V9) -> 83622.84 | S9: 83398.66 | T9: 224.18 | U9: 0 | V9: 0 | W9: =SUM(X9:AB9) -> 272722.05 | X9: 268808.03 | Y9: 3914.0112 | Z9: 0 | AA9: 0 | AB9: 0 | AC9: =SUM(AD9:AG9) -> 487652.16 | AD9: 487652.16 | AE9: 0 | AF9: 0 | AG9: 0 | AH9: =SUM(AI9,AP9:AS9) -> 9356487.5 | AI9: =SUM(AJ9:AO9) -> 0 | AJ9: 0 | AK9: 0 | AL9: 0 | AM9: 0 | AN9: 0 | AO9: 0 | AP9: 0 | AQ9: 0 | AR9: =ROUNDUP(9335577.6624,0) -> 9335578 | AS9: 20909.526 | AT9: =SUM(C9,I9,L9,O9,R9,W9,AC9,AH9) -> 17026264 | AU9: =CM9-AT9 -> -694388.43 | AV9: =SUM(AW9,BA9) -> 3457528.2 | AW9: =SUM(AX9:AZ9) -> 3443433.2 | AX9: 2483999.7 | AY9: 768307.05 | AZ9: 191126.47 | BA9: 14094.91 | BB9: =SUM(BC9:BD9) -> 0 | BC9: 0 | BD9: 0 | BE9: =SUM(BF9:BG9) -> 0 | BF9: 0 | BG9: 0 | BH9: =SUM(BI9:BJ9) -> 2762.84 | BI9: 2751.33 | BJ9: 11.51 | BK9: =SUM(BL9:BO9) -> 75973.59 | BL9: 75673.22 | BM9: 300.37 | BN9: 0 | BO9: 0 | BP9: =SUM(BQ9:BU9) -> 517928.52 | BQ9: 0 | BR9: 0 | BS9: =427214.85*1.21 -> 516929.97 | BT9: =825.25*1.21 -> 998.5525 | BU9: 0 | BV9: =SUM(BW9:BZ9) -> 2826343.6 | BW9: 0 | BX9: 2820220.7 | BY9: 6122.9 | BZ9: 0 | CA9: =SUM(CB9,CI9:CL9) -> 9451338.5 | CB9: =SUM(CC9:CH9) -> 379670.46 | CC9: =9017.14*1.21*12 -> 130928.87 | CD9: =8249.9*1.21*12 -> 119788.55 | CE9: =3986.85*1.21*12 -> 57889.062 | CF9: =640.08*1.21*12 -> 9293.9616 | CG9: =192.15*1.21*12 -> 2790.018 | CH9: =4915*12 -> 58980 | CI9: 1379 | CJ9: 0 | CK9: 9033428 | CL9: 36861 | CM9: =SUM(AV9,BB9,BE9,BH9,BK9,BP9,BV9,CA9) -> 16331875 | CO9: =AV9-C9 -> -3323153.9 | CP9: =AW9-D9 -> -3337248.8 | CQ9: =AX9-E9 -> -3108365.9 | CR9: =AY9-F9 -> -181753.71 | CS9: =AZ9-G9 -> -47129.21 | CT9: =BA9-H9 -> 14094.91 | CU9: =BB9-I9 -> -6193 | CV9: =BC9-J9 -> -6193 | ... EE9: =CL9-AS9 -> 15951.474 | EF9: =SUM(CO9,CU9,CX9,DA9,DD9,DI9,DO9,DT9,) -> -694388.43 | EH9: 771271.91 | EI9: =EH9+EF9 -> 76883.48 | EJ9: 602612 | EK9: =EF9+EJ9 -> -91776.43
A10: =A9+1 -> 5 | B10: 2028 | C10: =SUM(D10,H10) -> 6780682.1 | D10: =SUM(E10:G10) -> 6780682.1 | E10: 5592365.7 | F10: 950060.76 | G10: 238255.68 | H10: 0 | I10: =SUM(J10:K10) -> 6193 | J10: 6193 | K10: 0 | L10: =SUM(M10:N10) -> 35897 | M10: 35897 | N10: 0 | O10: =SUM(P10:Q10) -> 3006.95 | P10: 2998.38 | Q10: 8.57 | R10: =SUM(S10:V10) -> 83622.84 | S10: 83398.66 | T10: 224.18 | U10: 0 | V10: 0 | W10: =SUM(X10:AB10) -> 272722.05 | X10: 268808.03 | Y10: 3914.0112 | Z10: 0 | AA10: 0 | AB10: 0 | AC10: =SUM(AD10:AG10) -> 487652.16 | AD10: 487652.16 | AE10: 0 | AF10: 0 | AG10: 0 | AH10: =SUM(AI10,AP10:AS10) -> 0 | AI10: =SUM(AJ10:AO10) -> 0 | AJ10: 0 | AK10: 0 | AL10: 0 | AM10: 0 | AN10: 0 | AO10: 0 | AP10: 0 | AQ10: 0 | AR10: 0 | AS10: 0 | AT10: =SUM(C10,I10,L10,O10,R10,W10,AC10,AH10) -> 7669776.1 | AU10: =CM10-AT10 -> -424388.56 | AV10: =SUM(AW10,BA10) -> 3457528.2 | AW10: =SUM(AX10:AZ10) -> 3443433.2 | AX10: 2483999.7 | AY10: 768307.05 | AZ10: 191126.47 | BA10: 14094.91 | BB10: =SUM(BC10:BD10) -> 0 | BC10: 0 | BD10: 0 | BE10: =SUM(BF10:BG10) -> 0 | BF10: 0 | BG10: 0 | BH10: =SUM(BI10:BJ10) -> 2762.84 | BI10: 2751.33 | BJ10: 11.51 | BK10: =SUM(BL10:BO10) -> 75973.59 | BL10: 75673.22 | BM10: 300.37 | BN10: 0 | BO10: 0 | BP10: =SUM(BQ10:BU10) -> 517928.52 | BQ10: 0 | BR10: 0 | BS10: =427214.85*1.21 -> 516929.97 | BT10: =825.25*1.21 -> 998.5525 | BU10: 0 | BV10: =SUM(BW10:BZ10) -> 2826343.6 | BW10: 0 | BX10: 2820220.7 | BY10: 6122.9 | BZ10: 0 | CA10: =SUM(CB10,CI10:CL10) -> 364850.81 | CB10: =SUM(CC10:CH10) -> 363471.81 | CC10: =9017.14*1.21*12 -> 130928.87 | CD10: =8249.9*1.21*12 -> 119788.55 | CE10: =2871.24*1.21*12 -> 41690.405 | CF10: =640.08*1.21*12 -> 9293.9616 | CG10: =192.15*1.21*12 -> 2790.018 | CH10: =4915*12 -> 58980 | CI10: 1379 | CJ10: 0 | CK10: 0 | CL10: 0 | CM10: =SUM(AV10,BB10,BE10,BH10,BK10,BP10,BV10,CA10) -> 7245387.5 | CO10: =AV10-C10 -> -3323153.9 | CP10: =AW10-D10 -> -3337248.8 | CQ10: =AX10-E10 -> -3108365.9 | CR10: =AY10-F10 -> -181753.71 | CS10: =AZ10-G10 -> -47129.21 | CT10: =BA10-H10 -> 14094.91 | CU10: =BB10-I10 -> -6193 | CV10: =BC10-J10 -> -6193 | ... EE10: =CL10-AS10 -> 0 | EF10: =SUM(CO10,CU10,CX10,DA10,DD10,DI10,DO10,DT10,) -> -424388.56 | EH10: 771271.91 | EI10: =EH10+EF10 -> 346883.35 | EJ10: 755914 | EK10: =EF10+EJ10 -> 331525.44
A11: =A10+1 -> 6 | B11: 2029 | C11: =SUM(D11,H11) -> 6780682.1 | D11: =SUM(E11:G11) -> 6780682.1 | E11: 5592365.7 | F11: 950060.76 | G11: 238255.68 | H11: 0 | I11: =SUM(J11:K11) -> 6193 | J11: 6193 | K11: 0 | L11: =SUM(M11:N11) -> 35897 | M11: 35897 | N11: 0 | O11: =SUM(P11:Q11) -> 3006.95 | P11: 2998.38 | Q11: 8.57 | R11: =SUM(S11:V11) -> 83622.84 | S11: 83398.66 | T11: 224.18 | U11: 0 | V11: 0 | W11: =SUM(X11:AB11) -> 272722.05 | X11: 268808.03 | Y11: 3914.0112 | Z11: 0 | AA11: 0 | AB11: 0 | AC11: =SUM(AD11:AG11) -> 487652.16 | AD11: 487652.16 | AE11: 0 | AF11: 0 | AG11: 0 | AH11: =SUM(AI11,AP11:AS11) -> 0 | AI11: =SUM(AJ11:AO11) -> 0 | AJ11: 0 | AK11: 0 | AL11: 0 | AM11: 0 | AN11: 0 | AO11: 0 | AP11: 0 | AQ11: 0 | AR11: 0 | AS11: 0 | AT11: =SUM(C11,I11,L11,O11,R11,W11,AC11,AH11) -> 7669776.1 | AU11: =CM11-AT11 -> -424388.56 | AV11: =SUM(AW11,BA11) -> 3457528.2 | AW11: =SUM(AX11:AZ11) -> 3443433.2 | AX11: 2483999.7 | AY11: 768307.05 | AZ11: 191126.47 | BA11: 14094.91 | BB11: =SUM(BC11:BD11) -> 0 | BC11: 0 | BD11: 0 | BE11: =SUM(BF11:BG11) -> 0 | BF11: 0 | BG11: 0 | BH11: =SUM(BI11:BJ11) -> 2762.84 | BI11: 2751.33 | BJ11: 11.51 | BK11: =SUM(BL11:BO11) -> 75973.59 | BL11: 75673.22 | BM11: 300.37 | BN11: 0 | BO11: 0 | BP11: =SUM(BQ11:BU11) -> 517928.52 | BQ11: 0 | BR11: 0 | BS11: =427214.85*1.21 -> 516929.97 | BT11: =825.25*1.21 -> 998.5525 | BU11: 0 | BV11: =SUM(BW11:BZ11) -> 2826343.6 | BW11: 0 | BX11: 2820220.7 | BY11: 6122.9 | BZ11: 0 | CA11: =SUM(CB11,CI11:CL11) -> 364850.81 | CB11: =SUM(CC11:CH11) -> 363471.81 | CC11: =9017.14*1.21*12 -> 130928.87 | CD11: =8249.9*1.21*12 -> 119788.55 | CE11: =2871.24*1.21*12 -> 41690.405 | CF11: =640.08*1.21*12 -> 9293.9616 | CG11: =192.15*1.21*12 -> 2790.018 | CH11: =4915*12 -> 58980 | CI11: 1379 | CJ11: 0 | CK11: 0 | CL11: 0 | CM11: =SUM(AV11,BB11,BE11,BH11,BK11,BP11,BV11,CA11) -> 7245387.5 | CO11: =AV11-C11 -> -3323153.9 | CP11: =AW11-D11 -> -3337248.8 | CQ11: =AX11-E11 -> -3108365.9 | CR11: =AY11-F11 -> -181753.71 | CS11: =AZ11-G11 -> -47129.21 | CT11: =BA11-H11 -> 14094.91 | CU11: =BB11-I11 -> -6193 | CV11: =BC11-J11 -> -6193 | ... EE11: =CL11-AS11 -> 0 | EF11: =SUM(CO11,CU11,CX11,DA11,DD11,DI11,DO11,DT11,) -> -424388.56 | EH11: 771271.91 | EI11: =EH11+EF11 -> 346883.35 | EJ11: 755914 | EK11: =EF11+EJ11 -> 331525.44
A12: =A11+1 -> 7 | B12: 2030 | C12: =SUM(D12,H12) -> 6780682.1 | D12: =SUM(E12:G12) -> 6780682.1 | E12: 5592365.7 | F12: 950060.76 | G12: 238255.68 | H12: 0 | I12: =SUM(J12:K12) -> 6193 | J12: 6193 | K12: 0 | L12: =SUM(M12:N12) -> 35897 | M12: 35897 | N12: 0 | O12: =SUM(P12:Q12) -> 3006.95 | P12: 2998.38 | Q12: 8.57 | R12: =SUM(S12:V12) -> 83622.84 | S12: 83398.66 | T12: 224.18 | U12: 0 | V12: 0 | W12: =SUM(X12:AB12) -> 272722.05 | X12: 268808.03 | Y12: 3914.0112 | Z12: 0 | AA12: 0 | AB12: 0 | AC12: =SUM(AD12:AG12) -> 487652.16 | AD12: 487652.16 | AE12: 0 | AF12: 0 | AG12: 0 | AH12: =SUM(AI12,AP12:AS12) -> 0 | AI12: =SUM(AJ12:AO12) -> 0 | AJ12: 0 | AK12: 0 | AL12: 0 | AM12: 0 | AN12: 0 | AO12: 0 | AP12: 0 | AQ12: 0 | AR12: 0 | AS12: 0 | AT12: =SUM(C12,I12,L12,O12,R12,W12,AC12,AH12) -> 7669776.1 | AU12: =CM12-AT12 -> -457785.11 | AV12: =SUM(AW12,BA12) -> 3457528.2 | AW12: =SUM(AX12:AZ12) -> 3443433.2 | AX12: 2483999.7 | AY12: 768307.05 | AZ12: 191126.47 | BA12: 14094.91 | BB12: =SUM(BC12:BD12) -> 0 | BC12: 0 | BD12: 0 | BE12: =SUM(BF12:BG12) -> 0 | BF12: 0 | BG12: 0 | BH12: =SUM(BI12:BJ12) -> 2762.84 | BI12: 2751.33 | BJ12: 11.51 | BK12: =SUM(BL12:BO12) -> 75973.59 | BL12: 75673.22 | BM12: 300.37 | BN12: 0 | BO12: 0 | BP12: =SUM(BQ12:BU12) -> 484531.98 | BQ12: 0 | BR12: 0 | BS12: =(35601.24*8*1.21)+(28701.12*4*1.21) -> 483533.42 | BT12: =825.25*1.21 -> 998.5525 | BU12: 0 | BV12: =SUM(BW12:BZ12) -> 2826343.6 | BW12: 0 | BX12: 2820220.7 | BY12: 6122.9 | BZ12: 0 | CA12: =SUM(CB12,CI12:CL12) -> 364850.81 | CB12: =SUM(CC12:CH12) -> 363471.81 | CC12: =9017.14*1.21*12 -> 130928.87 | CD12: =8249.9*1.21*12 -> 119788.55 | CE12: =2871.24*1.21*12 -> 41690.405 | CF12: =640.08*1.21*12 -> 9293.9616 | CG12: =192.15*1.21*12 -> 2790.018 | CH12: =4915*12 -> 58980 | CI12: 1379 | CJ12: 0 | CK12: 0 | CL12: 0 | CM12: =SUM(AV12,BB12,BE12,BH12,BK12,BP12,BV12,CA12) -> 7211991 | CO12: =AV12-C12 -> -3323153.9 | CP12: =AW12-D12 -> -3337248.8 | CQ12: =AX12-E12 -> -3108365.9 | CR12: =AY12-F12 -> -181753.71 | CS12: =AZ12-G12 -> -47129.21 | CT12: =BA12-H12 -> 14094.91 | CU12: =BB12-I12 -> -6193 | CV12: =BC12-J12 -> -6193 | ... EE12: =CL12-AS12 -> 0 | EF12: =SUM(CO12,CU12,CX12,DA12,DD12,DI12,DO12,DT12,) -> -457785.11 | EH12: 771271.91 | EI12: =EH12+EF12 -> 313486.8 | EJ12: 755914 | EK12: =EF12+EJ12 -> 298128.89
A13: =A12+1 -> 8 | B13: 2031 | C13: =SUM(D13,H13) -> 6780682.1 | D13: =SUM(E13:G13) -> 6780682.1 | E13: 5592365.7 | F13: 950060.76 | G13: 238255.68 | H13: 0 | I13: =SUM(J13:K13) -> 6193 | J13: 6193 | K13: 0 | L13: =SUM(M13:N13) -> 35897 | M13: 35897 | N13: 0 | O13: =SUM(P13:Q13) -> 3006.95 | P13: 2998.38 | Q13: 8.57 | R13: =SUM(S13:V13) -> 83622.84 | S13: 83398.66 | T13: 224.18 | U13: 0 | V13: 0 | W13: =SUM(X13:AB13) -> 272722.05 | X13: 268808.03 | Y13: 3914.0112 | Z13: 0 | AA13: 0 | AB13: 0 | AC13: =SUM(AD13:AG13) -> 487652.16 | AD13: 487652.16 | AE13: 0 | AF13: 0 | AG13: 0 | AH13: =SUM(AI13,AP13:AS13) -> 0 | AI13: =SUM(AJ13:AO13) -> 0 | AJ13: 0 | AK13: 0 | AL13: 0 | AM13: 0 | AN13: 0 | AO13: 0 | AP13: 0 | AQ13: 0 | AR13: 0 | AS13: 0 | AT13: =SUM(C13,I13,L13,O13,R13,W13,AC13,AH13) -> 7669776.1 | AU13: =CM13-AT13 -> -524578.32 | AV13: =SUM(AW13,BA13) -> 3457528.2 | AW13: =SUM(AX13:AZ13) -> 3443433.2 | AX13: 2483999.7 | AY13: 768307.05 | AZ13: 191126.47 | BA13: 14094.91 | BB13: =SUM(BC13:BD13) -> 0 | BC13: 0 | BD13: 0 | BE13: =SUM(BF13:BG13) -> 0 | BF13: 0 | BG13: 0 | BH13: =SUM(BI13:BJ13) -> 2762.84 | BI13: 2751.33 | BJ13: 11.51 | BK13: =SUM(BL13:BO13) -> 75973.59 | BL13: 75673.22 | BM13: 300.37 | BN13: 0 | BO13: 0 | BP13: =SUM(BQ13:BU13) -> 417738.77 | BQ13: 0 | BR13: 0 | BS13: =344413.4*1.21 -> 416740.21 | BT13: =825.25*1.21 -> 998.5525 | BU13: 0 | BV13: =SUM(BW13:BZ13) -> 2826343.6 | BW13: 0 | BX13: 2820220.7 | BY13: 6122.9 | BZ13: 0 | CA13: =SUM(CB13,CI13:CL13) -> 364850.81 | CB13: =SUM(CC13:CH13) -> 363471.81 | CC13: =9017.14*1.21*12 -> 130928.87 | CD13: =8249.9*1.21*12 -> 119788.55 | CE13: =2871.24*1.21*12 -> 41690.405 | CF13: =640.08*1.21*12 -> 9293.9616 | CG13: =192.15*1.21*12 -> 2790.018 | CH13: =4915*12 -> 58980 | CI13: 1379 | CJ13: 0 | CK13: 0 | CL13: 0 | CM13: =SUM(AV13,BB13,BE13,BH13,BK13,BP13,BV13,CA13) -> 7145197.8 | CO13: =AV13-C13 -> -3323153.9 | CP13: =AW13-D13 -> -3337248.8 | CQ13: =AX13-E13 -> -3108365.9 | CR13: =AY13-F13 -> -181753.71 | CS13: =AZ13-G13 -> -47129.21 | CT13: =BA13-H13 -> 14094.91 | CU13: =BB13-I13 -> -6193 | CV13: =BC13-J13 -> -6193 | ... EE13: =CL13-AS13 -> 0 | EF13: =SUM(CO13,CU13,CX13,DA13,DD13,DI13,DO13,DT13,) -> -524578.32 | EH13: 771271.91 | EI13: =EH13+EF13 -> 246693.59 | EJ13: 755914 | EK13: =EF13+EJ13 -> 231335.68
A14: =A13+1 -> 9 | B14: 2032 | C14: =SUM(D14,H14) -> 6780682.1 | D14: =SUM(E14:G14) -> 6780682.1 | E14: 5592365.7 | F14: 950060.76 | G14: 238255.68 | H14: 0 | I14: =SUM(J14:K14) -> 6193 | J14: 6193 | K14: 0 | L14: =SUM(M14:N14) -> 35897 | M14: 35897 | N14: 0 | O14: =SUM(P14:Q14) -> 3006.95 | P14: 2998.38 | Q14: 8.57 | R14: =SUM(S14:V14) -> 83622.84 | S14: 83398.66 | T14: 224.18 | U14: 0 | V14: 0 | W14: =SUM(X14:AB14) -> 272722.05 | X14: 268808.03 | Y14: 3914.0112 | Z14: 0 | AA14: 0 | AB14: 0 | AC14: =SUM(AD14:AG14) -> 487652.16 | AD14: 487652.16 | AE14: 0 | AF14: 0 | AG14: 0 | AH14: =SUM(AI14,AP14:AS14) -> 0 | AI14: =SUM(AJ14:AO14) -> 0 | AJ14: 0 | AK14: 0 | AL14: 0 | AM14: 0 | AN14: 0 | AO14: 0 | AP14: 0 | AQ14: 0 | AR14: 0 | AS14: 0 | AT14: =SUM(C14,I14,L14,O14,R14,W14,AC14,AH14) -> 7669776.1 | AU14: =CM14-AT14 -> -1129759 | AV14: =SUM(AW14,BA14) -> 3457528.2 | AW14: =SUM(AX14:AZ14) -> 3443433.2 | AX14: 2483999.7 | AY14: 768307.05 | AZ14: 191126.47 | BA14: 14094.91 | BB14: =SUM(BC14:BD14) -> 0 | BC14: 0 | BD14: 0 | BE14: =SUM(BF14:BG14) -> 0 | BF14: 0 | BG14: 0 | BH14: =SUM(BI14:BJ14) -> 2762.84 | BI14: 2751.33 | BJ14: 11.51 | BK14: =SUM(BL14:BO14) -> 75973.59 | BL14: 75673.22 | BM14: 300.37 | BN14: 0 | BO14: 0 | BP14: =SUM(BQ14:BU14) -> 417738.77 | BQ14: 0 | BR14: 0 | BS14: =344413.4*1.21 -> 416740.21 | BT14: =825.25*1.21 -> 998.5525 | BU14: 0 | BV14: =SUM(BW14:BZ14) -> 2221163 | BW14: 0 | BX14: 2215040.1 | BY14: 6122.9 | BZ14: 0 | CA14: =SUM(CB14,CI14:CL14) -> 364850.81 | CB14: =SUM(CC14:CH14) -> 363471.81 | CC14: =9017.14*1.21*12 -> 130928.87 | CD14: =8249.9*1.21*12 -> 119788.55 | CE14: =2871.24*1.21*12 -> 41690.405 | CF14: =640.08*1.21*12 -> 9293.9616 | CG14: =192.15*1.21*12 -> 2790.018 | CH14: =4915*12 -> 58980 | CI14: 1379 | CJ14: 0 | CK14: 0 | CL14: 0 | CM14: =SUM(AV14,BB14,BE14,BH14,BK14,BP14,BV14,CA14) -> 6540017.1 | CO14: =AV14-C14 -> -3323153.9 | CP14: =AW14-D14 -> -3337248.8 | CQ14: =AX14-E14 -> -3108365.9 | CR14: =AY14-F14 -> -181753.71 | CS14: =AZ14-G14 -> -47129.21 | CT14: =BA14-H14 -> 14094.91 | CU14: =BB14-I14 -> -6193 | CV14: =BC14-J14 -> -6193 | ... EE14: =CL14-AS14 -> 0 | EF14: =SUM(CO14,CU14,CX14,DA14,DD14,DI14,DO14,DT14,) -> -1129759 | EH14: 771271.91 | EI14: =EH14+EF14 -> -358487.05 | EJ14: 1000000 | EK14: =EF14+EJ14 -> -129758.96
A15: =A14+1 -> 10 | B15: 2033 | C15: =SUM(D15,H15) -> 6780682.1 | D15: =SUM(E15:G15) -> 6780682.1 | E15: 5592365.7 | F15: 950060.76 | G15: 238255.68 | H15: 0 | I15: =SUM(J15:K15) -> 6193 | J15: 6193 | K15: 0 | L15: =SUM(M15:N15) -> 35897 | M15: 35897 | N15: 0 | O15: =SUM(P15:Q15) -> 3006.95 | P15: 2998.38 | Q15: 8.57 | R15: =SUM(S15:V15) -> 83622.84 | S15: 83398.66 | T15: 224.18 | U15: 0 | V15: 0 | W15: =SUM(X15:AB15) -> 272722.05 | X15: 268808.03 | Y15: 3914.0112 | Z15: 0 | AA15: 0 | AB15: 0 | AC15: =SUM(AD15:AG15) -> 487652.16 | AD15: 487652.16 | AE15: 0 | AF15: 0 | AG15: 0 | AH15: =SUM(AI15,AP15:AS15) -> 0 | AI15: =SUM(AJ15:AO15) -> 0 | AJ15: 0 | AK15: 0 | AL15: 0 | AM15: 0 | AN15: 0 | AO15: 0 | AP15: 0 | AQ15: 0 | AR15: 0 | AS15: 0 | AT15: =SUM(C15,I15,L15,O15,R15,W15,AC15,AH15) -> 7669776.1 | AU15: =CM15-AT15 -> -1129759 | AV15: =SUM(AW15,BA15) -> 3457528.2 | AW15: =SUM(AX15:AZ15) -> 3443433.2 | AX15: 2483999.7 | AY15: 768307.05 | AZ15: 191126.47 | BA15: 14094.91 | BB15: =SUM(BC15:BD15) -> 0 | BC15: 0 | BD15: 0 | BE15: =SUM(BF15:BG15) -> 0 | BF15: 0 | BG15: 0 | BH15: =SUM(BI15:BJ15) -> 2762.84 | BI15: 2751.33 | BJ15: 11.51 | BK15: =SUM(BL15:BO15) -> 75973.59 | BL15: 75673.22 | BM15: 300.37 | BN15: 0 | BO15: 0 | BP15: =SUM(BQ15:BU15) -> 417738.77 | BQ15: 0 | BR15: 0 | BS15: =344413.4*1.21 -> 416740.21 | BT15: =825.25*1.21 -> 998.5525 | BU15: 0 | BV15: =SUM(BW15:BZ15) -> 2221163 | BW15: 0 | BX15: 2215040.1 | BY15: 6122.9 | BZ15: 0 | CA15: =SUM(CB15,CI15:CL15) -> 364850.81 | CB15: =SUM(CC15:CH15) -> 363471.81 | CC15: =9017.14*1.21*12 -> 130928.87 | CD15: =8249.9*1.21*12 -> 119788.55 | CE15: =2871.24*1.21*12 -> 41690.405 | CF15: =640.08*1.21*12 -> 9293.9616 | CG15: =192.15*1.21*12 -> 2790.018 | CH15: =4915*12 -> 58980 | CI15: 1379 | CJ15: 0 | CK15: 0 | CL15: 0 | CM15: =SUM(AV15,BB15,BE15,BH15,BK15,BP15,BV15,CA15) -> 6540017.1 | CO15: =AV15-C15 -> -3323153.9 | CP15: =AW15-D15 -> -3337248.8 | CQ15: =AX15-E15 -> -3108365.9 | CR15: =AY15-F15 -> -181753.71 | CS15: =AZ15-G15 -> -47129.21 | CT15: =BA15-H15 -> 14094.91 | CU15: =BB15-I15 -> -6193 | CV15: =BC15-J15 -> -6193 | ... EE15: =CL15-AS15 -> 0 | EF15: =SUM(CO15,CU15,CX15,DA15,DD15,DI15,DO15,DT15,) -> -1129759 | EH15: 771271.91 | EI15: =EH15+EF15 -> -358487.05 | EJ15: 1000000 | EK15: =EF15+EJ15 -> -129758.96
A16: =A15+1 -> 11 | B16: 2034 | C16: =SUM(D16,H16) -> 6780682.1 | D16: =SUM(E16:G16) -> 6780682.1 | E16: 5592365.7 | F16: 950060.76 | G16: 238255.68 | H16: 0 | I16: =SUM(J16:K16) -> 6193 | J16: 6193 | K16: 0 | L16: =SUM(M16:N16) -> 35897 | M16: 35897 | N16: 0 | O16: =SUM(P16:Q16) -> 3006.95 | P16: 2998.38 | Q16: 8.57 | R16: =SUM(S16:V16) -> 83622.84 | S16: 83398.66 | T16: 224.18 | U16: 0 | V16: 0 | W16: =SUM(X16:AB16) -> 272722.05 | X16: 268808.03 | Y16: 3914.0112 | Z16: 0 | AA16: 0 | AB16: 0 | AC16: =SUM(AD16:AG16) -> 487652.16 | AD16: 487652.16 | AE16: 0 | AF16: 0 | AG16: 0 | AH16: =SUM(AI16,AP16:AS16) -> 0 | AI16: =SUM(AJ16:AO16) -> 0 | AJ16: 0 | AK16: 0 | AL16: 0 | AM16: 0 | AN16: 0 | AO16: 0 | AP16: 0 | AQ16: 0 | AR16: 0 | AS16: 0 | AT16: =SUM(C16,I16,L16,O16,R16,W16,AC16,AH16) -> 7669776.1 | AU16: =CM16-AT16 -> -1129759 | AV16: =SUM(AW16,BA16) -> 3457528.2 | AW16: =SUM(AX16:AZ16) -> 3443433.2 | AX16: 2483999.7 | AY16: 768307.05 | AZ16: 191126.47 | BA16: 14094.91 | BB16: =SUM(BC16:BD16) -> 0 | BC16: 0 | BD16: 0 | BE16: =SUM(BF16:BG16) -> 0 | BF16: 0 | BG16: 0 | BH16: =SUM(BI16:BJ16) -> 2762.84 | BI16: 2751.33 | BJ16: 11.51 | BK16: =SUM(BL16:BO16) -> 75973.59 | BL16: 75673.22 | BM16: 300.37 | BN16: 0 | BO16: 0 | BP16: =SUM(BQ16:BU16) -> 417738.77 | BQ16: 0 | BR16: 0 | BS16: =344413.4*1.21 -> 416740.21 | BT16: =825.25*1.21 -> 998.5525 | BU16: 0 | BV16: =SUM(BW16:BZ16) -> 2221163 | BW16: 0 | BX16: 2215040.1 | BY16: 6122.9 | BZ16: 0 | CA16: =SUM(CB16,CI16:CL16) -> 364850.81 | CB16: =SUM(CC16:CH16) -> 363471.81 | CC16: =9017.14*1.21*12 -> 130928.87 | CD16: =8249.9*1.21*12 -> 119788.55 | CE16: =2871.24*1.21*12 -> 41690.405 | CF16: =640.08*1.21*12 -> 9293.9616 | CG16: =192.15*1.21*12 -> 2790.018 | CH16: =4915*12 -> 58980 | CI16: 1379 | CJ16: 0 | CK16: 0 | CL16: 0 | CM16: =SUM(AV16,BB16,BE16,BH16,BK16,BP16,BV16,CA16) -> 6540017.1 | CO16: =AV16-C16 -> -3323153.9 | CP16: =AW16-D16 -> -3337248.8 | CQ16: =AX16-E16 -> -3108365.9 | CR16: =AY16-F16 -> -181753.71 | CS16: =AZ16-G16 -> -47129.21 | CT16: =BA16-H16 -> 14094.91 | CU16: =BB16-I16 -> -6193 | CV16: =BC16-J16 -> -6193 | ... EE16: =CL16-AS16 -> 0 | EF16: =SUM(CO16,CU16,CX16,DA16,DD16,DI16,DO16,DT16,) -> -1129759 | EH16: 771271.91 | EI16: =EH16+EF16 -> -358487.05 | EJ16: 1000000 | EK16: =EF16+EJ16 -> -129758.96
A17: =A16+1 -> 12 | B17: 2035 | C17: =SUM(D17,H17) -> 6780682.1 | D17: =SUM(E17:G17) -> 6780682.1 | E17: 5592365.7 | F17: 950060.76 | G17: 238255.68 | H17: 0 | I17: =SUM(J17:K17) -> 6193 | J17: =J12 -> 6193 | K17: 0 | L17: =SUM(M17:N17) -> 35897 | M17: =M12 -> 35897 | N17: 0 | O17: =SUM(P17:Q17) -> 3006.95 | P17: =P12 -> 2998.38 | Q17: =Q12 -> 8.57 | R17: =SUM(S17:V17) -> 83622.84 | S17: 83398.66 | T17: 224.18 | U17: 0 | V17: 0 | W17: =SUM(X17:AB17) -> 272722.05 | X17: 268808.03 | Y17: 3914.0112 | Z17: 0 | AA17: 0 | AB17: 0 | AC17: =SUM(AD17:AG17) -> 487652.16 | AD17: 487652.16 | AE17: 0 | AF17: 0 | AG17: 0 | AH17: =SUM(AI17,AP17:AS17) -> 0 | AI17: =SUM(AJ17:AO17) -> 0 | AJ17: 0 | AK17: 0 | AL17: 0 | AM17: 0 | AN17: 0 | AO17: 0 | AP17: 0 | AQ17: 0 | AR17: 0 | AS17: 0 | AT17: =SUM(C17,I17,L17,O17,R17,W17,AC17,AH17) -> 7669776.1 | AU17: =CM17-AT17 -> -1184816.4 | AV17: =SUM(AW17,BA17) -> 3457528.2 | AW17: =SUM(AX17:AZ17) -> 3443433.2 | AX17: 2483999.7 | AY17: 768307.05 | AZ17: 191126.47 | BA17: 14094.91 | BB17: =SUM(BC17:BD17) -> 0 | BC17: 0 | BD17: 0 | BE17: =SUM(BF17:BG17) -> 0 | BF17: 0 | BG17: 0 | BH17: =SUM(BI17:BJ17) -> 2762.84 | BI17: 2751.33 | BJ17: 11.51 | BK17: =SUM(BL17:BO17) -> 75973.59 | BL17: 75673.22 | BM17: 300.37 | BN17: 0 | BO17: 0 | BP17: =SUM(BQ17:BU17) -> 362681.3 | BQ17: 0 | BR17: 0 | BS17: =(28701.12*8*1.21)+(17325.6*4*1.21) -> 361682.75 | BT17: =825.25*1.21 -> 998.5525 | BU17: 0 | BV17: =SUM(BW17:BZ17) -> 2221163 | BW17: 0 | BX17: 2215040.1 | BY17: 6122.9 | BZ17: 0 | CA17: =SUM(CB17,CI17:CL17) -> 364850.81 | CB17: =SUM(CC17:CH17) -> 363471.81 | CC17: =9017.14*1.21*12 -> 130928.87 | CD17: =8249.9*1.21*12 -> 119788.55 | CE17: =2871.24*1.21*12 -> 41690.405 | CF17: =640.08*1.21*12 -> 9293.9616 | CG17: =192.15*1.21*12 -> 2790.018 | CH17: =4915*12 -> 58980 | CI17: 1379 | CJ17: 0 | CK17: 0 | CL17: 0 | CM17: =SUM(AV17,BB17,BE17,BH17,BK17,BP17,BV17,CA17) -> 6484959.7 | CO17: =AV17-C17 -> -3323153.9 | CP17: =AW17-D17 -> -3337248.8 | CQ17: =AX17-E17 -> -3108365.9 | CR17: =AY17-F17 -> -181753.71 | CS17: =AZ17-G17 -> -47129.21 | CT17: =BA17-H17 -> 14094.91 | CU17: =BB17-I17 -> -6193 | CV17: =BC17-J17 -> -6193 | ... EE17: =CL17-AS17 -> 0 | EF17: =SUM(CO17,CU17,CX17,DA17,DD17,DI17,DO17,DT17,) -> -1184816.4 | EH17: 771271.91 | EI17: =EH17+EF17 -> -413544.52 | EJ17: 1000000 | EK17: =EF17+EJ17 -> -184816.43
A18: =A17+1 -> 13 | B18: 2036 | C18: =SUM(D18,H18) -> 6780682.1 | D18: =SUM(E18:G18) -> 6780682.1 | E18: 5592365.7 | F18: 950060.76 | G18: 238255.68 | H18: 0 | I18: =SUM(J18:K18) -> 6193 | J18: =J13 -> 6193 | K18: 0 | L18: =SUM(M18:N18) -> 35897 | M18: =M13 -> 35897 | N18: 0 | O18: =SUM(P18:Q18) -> 3006.95 | P18: =P13 -> 2998.38 | Q18: =Q13 -> 8.57 | R18: =SUM(S18:V18) -> 83622.84 | S18: 83398.66 | T18: 224.18 | U18: 0 | V18: 0 | W18: =SUM(X18:AB18) -> 272722.05 | X18: 268808.03 | Y18: 3914.0112 | Z18: 0 | AA18: 0 | AB18: 0 | AC18: =SUM(AD18:AG18) -> 487652.16 | AD18: 487652.16 | AE18: 0 | AF18: 0 | AG18: 0 | AH18: =SUM(AI18,AP18:AS18) -> 0 | AI18: =SUM(AJ18:AO18) -> 0 | AJ18: 0 | AK18: 0 | AL18: 0 | AM18: 0 | AN18: 0 | AO18: 0 | AP18: 0 | AQ18: 0 | AR18: 0 | AS18: 0 | AT18: =SUM(C18,I18,L18,O18,R18,W18,AC18,AH18) -> 7669776.1 | AU18: =CM18-AT18 -> -1294931.4 | AV18: =SUM(AW18,BA18) -> 3457528.2 | AW18: =SUM(AX18:AZ18) -> 3443433.2 | AX18: 2483999.7 | AY18: 768307.05 | AZ18: 191126.47 | BA18: 14094.91 | BB18: =SUM(BC18:BD18) -> 0 | BC18: 0 | BD18: 0 | BE18: =SUM(BF18:BG18) -> 0 | BF18: 0 | BG18: 0 | BH18: =SUM(BI18:BJ18) -> 2762.84 | BI18: 2751.33 | BJ18: 11.51 | BK18: =SUM(BL18:BO18) -> 75973.59 | BL18: 75673.22 | BM18: 300.37 | BN18: 0 | BO18: 0 | BP18: =SUM(BQ18:BU18) -> 252566.29 | BQ18: 0 | BR18: 0 | BS18: =207907.22*1.21 -> 251567.74 | BT18: =825.25*1.21 -> 998.5525 | BU18: 0 | BV18: =SUM(BW18:BZ18) -> 2221163 | BW18: 0 | BX18: 2215040.1 | BY18: 6122.9 | BZ18: 0 | CA18: =SUM(CB18,CI18:CL18) -> 364850.81 | CB18: =SUM(CC18:CH18) -> 363471.81 | CC18: =9017.14*1.21*12 -> 130928.87 | CD18: =8249.9*1.21*12 -> 119788.55 | CE18: =2871.24*1.21*12 -> 41690.405 | CF18: =640.08*1.21*12 -> 9293.9616 | CG18: =192.15*1.21*12 -> 2790.018 | CH18: =4915*12 -> 58980 | CI18: 1379 | CJ18: 0 | CK18: 0 | CL18: 0 | CM18: =SUM(AV18,BB18,BE18,BH18,BK18,BP18,BV18,CA18) -> 6374844.6 | CO18: =AV18-C18 -> -3323153.9 | CP18: =AW18-D18 -> -3337248.8 | CQ18: =AX18-E18 -> -3108365.9 | CR18: =AY18-F18 -> -181753.71 | CS18: =AZ18-G18 -> -47129.21 | CT18: =BA18-H18 -> 14094.91 | CU18: =BB18-I18 -> -6193 | CV18: =BC18-J18 -> -6193 | ... EE18: =CL18-AS18 -> 0 | EF18: =SUM(CO18,CU18,CX18,DA18,DD18,DI18,DO18,DT18,) -> -1294931.4 | EH18: 771271.91 | EI18: =EH18+EF18 -> -523659.53 | EJ18: 1000000 | EK18: =EF18+EJ18 -> -294931.44
A19: =A18+1 -> 14 | B19: 2037 | C19: =SUM(D19,H19) -> 6780682.1 | D19: =SUM(E19:G19) -> 6780682.1 | E19: 5592365.7 | F19: 950060.76 | G19: 238255.68 | H19: 0 | I19: =SUM(J19:K19) -> 6193 | J19: =J14 -> 6193 | K19: 0 | L19: =SUM(M19:N19) -> 35897 | M19: =M14 -> 35897 | N19: 0 | O19: =SUM(P19:Q19) -> 3006.95 | P19: =P14 -> 2998.38 | Q19: =Q14 -> 8.57 | R19: =SUM(S19:V19) -> 83622.84 | S19: 83398.66 | T19: 224.18 | U19: 0 | V19: 0 | W19: =SUM(X19:AB19) -> 272722.05 | X19: 268808.03 | Y19: 3914.0112 | Z19: 0 | AA19: 0 | AB19: 0 | AC19: =SUM(AD19:AG19) -> 487652.16 | AD19: 487652.16 | AE19: 0 | AF19: 0 | AG19: 0 | AH19: =SUM(AI19,AP19:AS19) -> 0 | AI19: =SUM(AJ19:AO19) -> 0 | AJ19: 0 | AK19: 0 | AL19: 0 | AM19: 0 | AN19: 0 | AO19: 0 | AP19: 0 | AQ19: 0 | AR19: 0 | AS19: 0 | AT19: =SUM(C19,I19,L19,O19,R19,W19,AC19,AH19) -> 7669776.1 | AU19: =CM19-AT19 -> -1294931.4 | AV19: =SUM(AW19,BA19) -> 3457528.2 | AW19: =SUM(AX19:AZ19) -> 3443433.2 | AX19: 2483999.7 | AY19: 768307.05 | AZ19: 191126.47 | BA19: 14094.91 | BB19: =SUM(BC19:BD19) -> 0 | BC19: 0 | BD19: 0 | BE19: =SUM(BF19:BG19) -> 0 | BF19: 0 | BG19: 0 | BH19: =SUM(BI19:BJ19) -> 2762.84 | BI19: 2751.33 | BJ19: 11.51 | BK19: =SUM(BL19:BO19) -> 75973.59 | BL19: 75673.22 | BM19: 300.37 | BN19: 0 | BO19: 0 | BP19: =SUM(BQ19:BU19) -> 252566.29 | BQ19: 0 | BR19: 0 | BS19: =207907.22*1.21 -> 251567.74 | BT19: =825.25*1.21 -> 998.5525 | BU19: 0 | BV19: =SUM(BW19:BZ19) -> 2221163 | BW19: 0 | BX19: 2215040.1 | BY19: 6122.9 | BZ19: 0 | CA19: =SUM(CB19,CI19:CL19) -> 364850.81 | CB19: =SUM(CC19:CH19) -> 363471.81 | CC19: =9017.14*1.21*12 -> 130928.87 | CD19: =8249.9*1.21*12 -> 119788.55 | CE19: =2871.24*1.21*12 -> 41690.405 | CF19: =640.08*1.21*12 -> 9293.9616 | CG19: =192.15*1.21*12 -> 2790.018 | CH19: =4915*12 -> 58980 | CI19: 1379 | CJ19: 0 | CK19: 0 | CL19: 0 | CM19: =SUM(AV19,BB19,BE19,BH19,BK19,BP19,BV19,CA19) -> 6374844.6 | CO19: =AV19-C19 -> -3323153.9 | CP19: =AW19-D19 -> -3337248.8 | CQ19: =AX19-E19 -> -3108365.9 | CR19: =AY19-F19 -> -181753.71 | CS19: =AZ19-G19 -> -47129.21 | CT19: =BA19-H19 -> 14094.91 | CU19: =BB19-I19 -> -6193 | CV19: =BC19-J19 -> -6193 | ... EE19: =CL19-AS19 -> 0 | EF19: =SUM(CO19,CU19,CX19,DA19,DD19,DI19,DO19,DT19,) -> -1294931.4 | EH19: 771271.91 | EI19: =EH19+EF19 -> -523659.53 | EJ19: 1000000 | EK19: =EF19+EJ19 -> -294931.44
A20: =A19+1 -> 15 | B20: 2038 | C20: =SUM(D20,H20) -> 6780682.1 | D20: =SUM(E20:G20) -> 6780682.1 | E20: 5592365.7 | F20: 950060.76 | G20: 238255.68 | H20: 0 | I20: =SUM(J20:K20) -> 6193 | J20: =J15 -> 6193 | K20: 0 | L20: =SUM(M20:N20) -> 35897 | M20: =M15 -> 35897 | N20: 0 | O20: =SUM(P20:Q20) -> 3006.95 | P20: =P15 -> 2998.38 | Q20: =Q15 -> 8.57 | R20: =SUM(S20:V20) -> 83622.84 | S20: 83398.66 | T20: 224.18 | U20: 0 | V20: 0 | W20: =SUM(X20:AB20) -> 272722.05 | X20: 268808.03 | Y20: 3914.0112 | Z20: 0 | AA20: 0 | AB20: 0 | AC20: =SUM(AD20:AG20) -> 487652.16 | AD20: 487652.16 | AE20: 0 | AF20: 0 | AG20: 0 | AH20: =SUM(AI20,AP20:AS20) -> 0 | AI20: =SUM(AJ20:AO20) -> 0 | AJ20: 0 | AK20: 0 | AL20: 0 | AM20: 0 | AN20: 0 | AO20: 0 | AP20: 0 | AQ20: 0 | AR20: 0 | AS20: 0 | AT20: =SUM(C20,I20,L20,O20,R20,W20,AC20,AH20) -> 7669776.1 | AU20: =CM20-AT20 -> -1294931.4 | AV20: =SUM(AW20,BA20) -> 3457528.2 | AW20: =SUM(AX20:AZ20) -> 3443433.2 | AX20: 2483999.7 | AY20: 768307.05 | AZ20: 191126.47 | BA20: 14094.91 | BB20: =SUM(BC20:BD20) -> 0 | BC20: 0 | BD20: 0 | BE20: =SUM(BF20:BG20) -> 0 | BF20: 0 | BG20: 0 | BH20: =SUM(BI20:BJ20) -> 2762.84 | BI20: 2751.33 | BJ20: 11.51 | BK20: =SUM(BL20:BO20) -> 75973.59 | BL20: 75673.22 | BM20: 300.37 | BN20: 0 | BO20: 0 | BP20: =SUM(BQ20:BU20) -> 252566.29 | BQ20: 0 | BR20: 0 | BS20: =207907.22*1.21 -> 251567.74 | BT20: =825.25*1.21 -> 998.5525 | BU20: 0 | BV20: =SUM(BW20:BZ20) -> 2221163 | BW20: 0 | BX20: 2215040.1 | BY20: 6122.9 | BZ20: 0 | CA20: =SUM(CB20,CI20:CL20) -> 364850.81 | CB20: =SUM(CC20:CH20) -> 363471.81 | CC20: =9017.14*1.21*12 -> 130928.87 | CD20: =8249.9*1.21*12 -> 119788.55 | CE20: =2871.24*1.21*12 -> 41690.405 | CF20: =640.08*1.21*12 -> 9293.9616 | CG20: =192.15*1.21*12 -> 2790.018 | CH20: =4915*12 -> 58980 | CI20: 1379 | CJ20: 0 | CK20: 0 | CL20: 0 | CM20: =SUM(AV20,BB20,BE20,BH20,BK20,BP20,BV20,CA20) -> 6374844.6 | CO20: =AV20-C20 -> -3323153.9 | CP20: =AW20-D20 -> -3337248.8 | CQ20: =AX20-E20 -> -3108365.9 | CR20: =AY20-F20 -> -181753.71 | CS20: =AZ20-G20 -> -47129.21 | CT20: =BA20-H20 -> 14094.91 | CU20: =BB20-I20 -> -6193 | CV20: =BC20-J20 -> -6193 | ... EE20: =CL20-AS20 -> 0 | EF20: =SUM(CO20,CU20,CX20,DA20,DD20,DI20,DO20,DT20,) -> -1294931.4 | EH20: 771271.91 | EI20: =EH20+EF20 -> -523659.53 | EJ20: 1000000 | EK20: =EF20+EJ20 -> -294931.44
A21: =A20+1 -> 16 | B21: 2039 | C21: =SUM(D21,H21) -> 6780682.1 | D21: =SUM(E21:G21) -> 6780682.1 | E21: 5592365.7 | F21: 950060.76 | G21: 238255.68 | H21: 0 | I21: =SUM(J21:K21) -> 6193 | J21: =J16 -> 6193 | K21: 0 | L21: =SUM(M21:N21) -> 35897 | M21: =M16 -> 35897 | N21: 0 | O21: =SUM(P21:Q21) -> 3006.95 | P21: =P16 -> 2998.38 | Q21: =Q16 -> 8.57 | R21: =SUM(S21:V21) -> 83622.84 | S21: 83398.66 | T21: 224.18 | U21: 0 | V21: 0 | W21: =SUM(X21:AB21) -> 272722.05 | X21: 268808.03 | Y21: 3914.0112 | Z21: 0 | AA21: 0 | AB21: 0 | AC21: =SUM(AD21:AG21) -> 487652.16 | AD21: 487652.16 | AE21: 0 | AF21: 0 | AG21: 0 | AH21: =SUM(AI21,AP21:AS21) -> 0 | AI21: =SUM(AJ21:AO21) -> 0 | AJ21: 0 | AK21: 0 | AL21: 0 | AM21: 0 | AN21: 0 | AO21: 0 | AP21: 0 | AQ21: 0 | AR21: 0 | AS21: 0 | AT21: =SUM(C21,I21,L21,O21,R21,W21,AC21,AH21) -> 7669776.1 | AU21: =CM21-AT21 -> -1294931.4 | AV21: =SUM(AW21,BA21) -> 3457528.2 | AW21: =SUM(AX21:AZ21) -> 3443433.2 | AX21: 2483999.7 | AY21: 768307.05 | AZ21: 191126.47 | BA21: 14094.91 | BB21: =SUM(BC21:BD21) -> 0 | BC21: 0 | BD21: 0 | BE21: =SUM(BF21:BG21) -> 0 | BF21: 0 | BG21: 0 | BH21: =SUM(BI21:BJ21) -> 2762.84 | BI21: 2751.33 | BJ21: 11.51 | BK21: =SUM(BL21:BO21) -> 75973.59 | BL21: 75673.22 | BM21: 300.37 | BN21: 0 | BO21: 0 | BP21: =SUM(BQ21:BU21) -> 252566.29 | BQ21: 0 | BR21: 0 | BS21: =207907.22*1.21 -> 251567.74 | BT21: =825.25*1.21 -> 998.5525 | BU21: 0 | BV21: =SUM(BW21:BZ21) -> 2221163 | BW21: 0 | BX21: 2215040.1 | BY21: 6122.9 | BZ21: 0 | CA21: =SUM(CB21,CI21:CL21) -> 364850.81 | CB21: =SUM(CC21:CH21) -> 363471.81 | CC21: =9017.14*1.21*12 -> 130928.87 | CD21: =8249.9*1.21*12 -> 119788.55 | CE21: =2871.24*1.21*12 -> 41690.405 | CF21: =640.08*1.21*12 -> 9293.9616 | CG21: =192.15*1.21*12 -> 2790.018 | CH21: =4915*12 -> 58980 | CI21: 1379 | CJ21: 0 | CK21: 0 | CL21: 0 | CM21: =SUM(AV21,BB21,BE21,BH21,BK21,BP21,BV21,CA21) -> 6374844.6 | CO21: =AV21-C21 -> -3323153.9 | CP21: =AW21-D21 -> -3337248.8 | CQ21: =AX21-E21 -> -3108365.9 | CR21: =AY21-F21 -> -181753.71 | CS21: =AZ21-G21 -> -47129.21 | CT21: =BA21-H21 -> 14094.91 | CU21: =BB21-I21 -> -6193 | CV21: =BC21-J21 -> -6193 | ... EE21: =CL21-AS21 -> 0 | EF21: =SUM(CO21,CU21,CX21,DA21,DD21,DI21,DO21,DT21,) -> -1294931.4 | EH21: 771271.91 | EI21: =EH21+EF21 -> -523659.53 | EJ21: 1000000 | EK21: =EF21+EJ21 -> -294931.44
A22: =A21+1 -> 17 | B22: 2040 | C22: =SUM(D22,H22) -> 6780682.1 | D22: =SUM(E22:G22) -> 6780682.1 | E22: 5592365.7 | F22: 950060.76 | G22: 238255.68 | H22: 0 | I22: =SUM(J22:K22) -> 6193 | J22: =J17 -> 6193 | K22: 0 | L22: =SUM(M22:N22) -> 35897 | M22: =M17 -> 35897 | N22: 0 | O22: =SUM(P22:Q22) -> 3006.95 | P22: =P17 -> 2998.38 | Q22: =Q17 -> 8.57 | R22: =SUM(S22:V22) -> 83622.84 | S22: 83398.66 | T22: 224.18 | U22: 0 | V22: 0 | W22: =SUM(X22:AB22) -> 272722.05 | X22: 268808.03 | Y22: 3914.0112 | Z22: 0 | AA22: 0 | AB22: 0 | AC22: =SUM(AD22:AG22) -> 487652.16 | AD22: 487652.16 | AE22: 0 | AF22: 0 | AG22: 0 | AH22: =SUM(AI22,AP22:AS22) -> 0 | AI22: =SUM(AJ22:AO22) -> 0 | AJ22: 0 | AK22: 0 | AL22: 0 | AM22: 0 | AN22: 0 | AO22: 0 | AP22: 0 | AQ22: 0 | AR22: 0 | AS22: 0 | AT22: =SUM(C22,I22,L22,O22,R22,W22,AC22,AH22) -> 7669776.1 | AU22: =CM22-AT22 -> -1294931.4 | AV22: =SUM(AW22,BA22) -> 3457528.2 | AW22: =SUM(AX22:AZ22) -> 3443433.2 | AX22: 2483999.7 | AY22: 768307.05 | AZ22: 191126.47 | BA22: 14094.91 | BB22: =SUM(BC22:BD22) -> 0 | BC22: 0 | BD22: 0 | BE22: =SUM(BF22:BG22) -> 0 | BF22: 0 | BG22: 0 | BH22: =SUM(BI22:BJ22) -> 2762.84 | BI22: 2751.33 | BJ22: 11.51 | BK22: =SUM(BL22:BO22) -> 75973.59 | BL22: 75673.22 | BM22: 300.37 | BN22: 0 | BO22: 0 | BP22: =SUM(BQ22:BU22) -> 252566.29 | BQ22: 0 | BR22: 0 | BS22: =207907.22*1.21 -> 251567.74 | BT22: =825.25*1.21 -> 998.5525 | BU22: 0 | BV22: =SUM(BW22:BZ22) -> 2221163 | BW22: 0 | BX22: 2215040.1 | BY22: 6122.9 | BZ22: 0 | CA22: =SUM(CB22,CI22:CL22) -> 364850.81 | CB22: =SUM(CC22:CH22) -> 363471.81 | CC22: =9017.14*1.21*12 -> 130928.87 | CD22: =8249.9*1.21*12 -> 119788.55 | CE22: =2871.24*1.21*12 -> 41690.405 | CF22: =640.08*1.21*12 -> 9293.9616 | CG22: =192.15*1.21*12 -> 2790.018 | CH22: =4915*12 -> 58980 | CI22: 1379 | CJ22: 0 | CK22: 0 | CL22: 0 | CM22: =SUM(AV22,BB22,BE22,BH22,BK22,BP22,BV22,CA22) -> 6374844.6 | CO22: =AV22-C22 -> -3323153.9 | CP22: =AW22-D22 -> -3337248.8 | CQ22: =AX22-E22 -> -3108365.9 | CR22: =AY22-F22 -> -181753.71 | CS22: =AZ22-G22 -> -47129.21 | CT22: =BA22-H22 -> 14094.91 | CU22: =BB22-I22 -> -6193 | CV22: =BC22-J22 -> -6193 | ... EE22: =CL22-AS22 -> 0 | EF22: =SUM(CO22,CU22,CX22,DA22,DD22,DI22,DO22,DT22,) -> -1294931.4 | EH22: 771271.91 | EI22: =EH22+EF22 -> -523659.53 | EJ22: 1000000 | EK22: =EF22+EJ22 -> -294931.44
A23: =A22+1 -> 18 | B23: 2041 | C23: =SUM(D23,H23) -> 6780682.1 | D23: =SUM(E23:G23) -> 6780682.1 | E23: 5592365.7 | F23: 950060.76 | G23: 238255.68 | H23: 0 | I23: =SUM(J23:K23) -> 6193 | J23: =J18 -> 6193 | K23: 0 | L23: =SUM(M23:N23) -> 35897 | M23: =M18 -> 35897 | N23: 0 | O23: =SUM(P23:Q23) -> 3006.95 | P23: =P18 -> 2998.38 | Q23: =Q18 -> 8.57 | R23: =SUM(S23:V23) -> 83622.84 | S23: 83398.66 | T23: 224.18 | U23: 0 | V23: 0 | W23: =SUM(X23:AB23) -> 272722.05 | X23: 268808.03 | Y23: 3914.0112 | Z23: 0 | AA23: 0 | AB23: 0 | AC23: =SUM(AD23:AG23) -> 487652.16 | AD23: 487652.16 | AE23: 0 | AF23: 0 | AG23: 0 | AH23: =SUM(AI23,AP23:AS23) -> 0 | AI23: =SUM(AJ23:AO23) -> 0 | AJ23: 0 | AK23: 0 | AL23: 0 | AM23: 0 | AN23: 0 | AO23: 0 | AP23: 0 | AQ23: 0 | AR23: 0 | AS23: 0 | AT23: =SUM(C23,I23,L23,O23,R23,W23,AC23,AH23) -> 7669776.1 | AU23: =CM23-AT23 -> -1294931.4 | AV23: =SUM(AW23,BA23) -> 3457528.2 | AW23: =SUM(AX23:AZ23) -> 3443433.2 | AX23: 2483999.7 | AY23: 768307.05 | AZ23: 191126.47 | BA23: 14094.91 | BB23: =SUM(BC23:BD23) -> 0 | BC23: 0 | BD23: 0 | BE23: =SUM(BF23:BG23) -> 0 | BF23: 0 | BG23: 0 | BH23: =SUM(BI23:BJ23) -> 2762.84 | BI23: 2751.33 | BJ23: 11.51 | BK23: =SUM(BL23:BO23) -> 75973.59 | BL23: 75673.22 | BM23: 300.37 | BN23: 0 | BO23: 0 | BP23: =SUM(BQ23:BU23) -> 252566.29 | BQ23: 0 | BR23: 0 | BS23: =207907.22*1.21 -> 251567.74 | BT23: =825.25*1.21 -> 998.5525 | BU23: 0 | BV23: =SUM(BW23:BZ23) -> 2221163 | BW23: 0 | BX23: 2215040.1 | BY23: 6122.9 | BZ23: 0 | CA23: =SUM(CB23,CI23:CL23) -> 364850.81 | CB23: =SUM(CC23:CH23) -> 363471.81 | CC23: =9017.14*1.21*12 -> 130928.87 | CD23: =8249.9*1.21*12 -> 119788.55 | CE23: =2871.24*1.21*12 -> 41690.405 | CF23: =640.08*1.21*12 -> 9293.9616 | CG23: =192.15*1.21*12 -> 2790.018 | CH23: =4915*12 -> 58980 | CI23: 1379 | CJ23: 0 | CK23: 0 | CL23: 0 | CM23: =SUM(AV23,BB23,BE23,BH23,BK23,BP23,BV23,CA23) -> 6374844.6 | CO23: =AV23-C23 -> -3323153.9 | CP23: =AW23-D23 -> -3337248.8 | CQ23: =AX23-E23 -> -3108365.9 | CR23: =AY23-F23 -> -181753.71 | CS23: =AZ23-G23 -> -47129.21 | CT23: =BA23-H23 -> 14094.91 | CU23: =BB23-I23 -> -6193 | CV23: =BC23-J23 -> -6193 | ... EE23: =CL23-AS23 -> 0 | EF23: =SUM(CO23,CU23,CX23,DA23,DD23,DI23,DO23,DT23,) -> -1294931.4 | EH23: 771271.91 | EI23: =EH23+EF23 -> -523659.53 | EJ23: 1000000 | EK23: =EF23+EJ23 -> -294931.44
A24: =A23+1 -> 19 | B24: 2042 | C24: =SUM(D24,H24) -> 6780682.1 | D24: =SUM(E24:G24) -> 6780682.1 | E24: 5592365.7 | F24: 950060.76 | G24: 238255.68 | H24: 0 | I24: =SUM(J24:K24) -> 6193 | J24: =J19 -> 6193 | K24: 0 | L24: =SUM(M24:N24) -> 35897 | M24: =M19 -> 35897 | N24: 0 | O24: =SUM(P24:Q24) -> 3006.95 | P24: =P19 -> 2998.38 | Q24: =Q19 -> 8.57 | R24: =SUM(S24:V24) -> 83622.84 | S24: 83398.66 | T24: 224.18 | U24: 0 | V24: 0 | W24: =SUM(X24:AB24) -> 272722.05 | X24: 268808.03 | Y24: 3914.0112 | Z24: 0 | AA24: 0 | AB24: 0 | AC24: =SUM(AD24:AG24) -> 487652.16 | AD24: 487652.16 | AE24: 0 | AF24: 0 | AG24: 0 | AH24: =SUM(AI24,AP24:AS24) -> 0 | AI24: =SUM(AJ24:AO24) -> 0 | AJ24: 0 | AK24: 0 | AL24: 0 | AM24: 0 | AN24: 0 | AO24: 0 | AP24: 0 | AQ24: 0 | AR24: 0 | AS24: 0 | AT24: =SUM(C24,I24,L24,O24,R24,W24,AC24,AH24) -> 7669776.1 | AU24: =CM24-AT24 -> -1294931.4 | AV24: =SUM(AW24,BA24) -> 3457528.2 | AW24: =SUM(AX24:AZ24) -> 3443433.2 | AX24: 2483999.7 | AY24: 768307.05 | AZ24: 191126.47 | BA24: 14094.91 | BB24: =SUM(BC24:BD24) -> 0 | BC24: 0 | BD24: 0 | BE24: =SUM(BF24:BG24) -> 0 | BF24: 0 | BG24: 0 | BH24: =SUM(BI24:BJ24) -> 2762.84 | BI24: 2751.33 | BJ24: 11.51 | BK24: =SUM(BL24:BO24) -> 75973.59 | BL24: 75673.22 | BM24: 300.37 | BN24: 0 | BO24: 0 | BP24: =SUM(BQ24:BU24) -> 252566.29 | BQ24: 0 | BR24: 0 | BS24: =207907.22*1.21 -> 251567.74 | BT24: =825.25*1.21 -> 998.5525 | BU24: 0 | BV24: =SUM(BW24:BZ24) -> 2221163 | BW24: 0 | BX24: 2215040.1 | BY24: 6122.9 | BZ24: 0 | CA24: =SUM(CB24,CI24:CL24) -> 364850.81 | CB24: =SUM(CC24:CH24) -> 363471.81 | CC24: =9017.14*1.21*12 -> 130928.87 | CD24: =8249.9*1.21*12 -> 119788.55 | CE24: =2871.24*1.21*12 -> 41690.405 | CF24: =640.08*1.21*12 -> 9293.9616 | CG24: =192.15*1.21*12 -> 2790.018 | CH24: =4915*12 -> 58980 | CI24: 1379 | CJ24: 0 | CK24: 0 | CL24: 0 | CM24: =SUM(AV24,BB24,BE24,BH24,BK24,BP24,BV24,CA24) -> 6374844.6 | CO24: =AV24-C24 -> -3323153.9 | CP24: =AW24-D24 -> -3337248.8 | CQ24: =AX24-E24 -> -3108365.9 | CR24: =AY24-F24 -> -181753.71 | CS24: =AZ24-G24 -> -47129.21 | CT24: =BA24-H24 -> 14094.91 | CU24: =BB24-I24 -> -6193 | CV24: =BC24-J24 -> -6193 | ... EE24: =CL24-AS24 -> 0 | EF24: =SUM(CO24,CU24,CX24,DA24,DD24,DI24,DO24,DT24,) -> -1294931.4 | EH24: 771271.91 | EI24: =EH24+EF24 -> -523659.53 | EJ24: 1000000 | EK24: =EF24+EJ24 -> -294931.44
A25: =A24+1 -> 20 | B25: 2043 | C25: =SUM(D25,H25) -> 6780682.1 | D25: =SUM(E25:G25) -> 6780682.1 | E25: 5592365.7 | F25: 950060.76 | G25: 238255.68 | H25: 0 | I25: =SUM(J25:K25) -> 6193 | J25: =J20 -> 6193 | K25: 0 | L25: =SUM(M25:N25) -> 35897 | M25: =M20 -> 35897 | N25: 0 | O25: =SUM(P25:Q25) -> 3006.95 | P25: =P20 -> 2998.38 | Q25: =Q20 -> 8.57 | R25: =SUM(S25:V25) -> 83622.84 | S25: 83398.66 | T25: 224.18 | U25: 0 | V25: 0 | W25: =SUM(X25:AB25) -> 272722.05 | X25: 268808.03 | Y25: 3914.0112 | Z25: 0 | AA25: 0 | AB25: 0 | AC25: =SUM(AD25:AG25) -> 487652.16 | AD25: 487652.16 | AE25: 0 | AF25: 0 | AG25: 0 | AH25: =SUM(AI25,AP25:AS25) -> 0 | AI25: =SUM(AJ25:AO25) -> 0 | AJ25: 0 | AK25: 0 | AL25: 0 | AM25: 0 | AN25: 0 | AO25: 0 | AP25: 0 | AQ25: 0 | AR25: 0 | AS25: 0 | AT25: =SUM(C25,I25,L25,O25,R25,W25,AC25,AH25) -> 7669776.1 | AU25: =CM25-AT25 -> -1294931.4 | AV25: =SUM(AW25,BA25) -> 3457528.2 | AW25: =SUM(AX25:AZ25) -> 3443433.2 | AX25: 2483999.7 | AY25: 768307.05 | AZ25: 191126.47 | BA25: 14094.91 | BB25: =SUM(BC25:BD25) -> 0 | BC25: 0 | BD25: 0 | BE25: =SUM(BF25:BG25) -> 0 | BF25: 0 | BG25: 0 | BH25: =SUM(BI25:BJ25) -> 2762.84 | BI25: 2751.33 | BJ25: 11.51 | BK25: =SUM(BL25:BO25) -> 75973.59 | BL25: 75673.22 | BM25: 300.37 | BN25: 0 | BO25: 0 | BP25: =SUM(BQ25:BU25) -> 252566.29 | BQ25: 0 | BR25: 0 | BS25: =207907.22*1.21 -> 251567.74 | BT25: =825.25*1.21 -> 998.5525 | BU25: 0 | BV25: =SUM(BW25:BZ25) -> 2221163 | BW25: 0 | BX25: 2215040.1 | BY25: 6122.9 | BZ25: 0 | CA25: =SUM(CB25,CI25:CL25) -> 364850.81 | CB25: =SUM(CC25:CH25) -> 363471.81 | CC25: =9017.14*1.21*12 -> 130928.87 | CD25: =8249.9*1.21*12 -> 119788.55 | CE25: =2871.24*1.21*12 -> 41690.405 | CF25: =640.08*1.21*12 -> 9293.9616 | CG25: =192.15*1.21*12 -> 2790.018 | CH25: =4915*12 -> 58980 | CI25: 1379 | CJ25: 0 | CK25: 0 | CL25: 0 | CM25: =SUM(AV25,BB25,BE25,BH25,BK25,BP25,BV25,CA25) -> 6374844.6 | CO25: =AV25-C25 -> -3323153.9 | CP25: =AW25-D25 -> -3337248.8 | CQ25: =AX25-E25 -> -3108365.9 | CR25: =AY25-F25 -> -181753.71 | CS25: =AZ25-G25 -> -47129.21 | CT25: =BA25-H25 -> 14094.91 | CU25: =BB25-I25 -> -6193 | CV25: =BC25-J25 -> -6193 | ... EE25: =CL25-AS25 -> 0 | EF25: =SUM(CO25,CU25,CX25,DA25,DD25,DI25,DO25,DT25,) -> -1294931.4 | EH25: 771271.91 | EI25: =EH25+EF25 -> -523659.53 | EJ25: 1000000 | EK25: =EF25+EJ25 -> -294931.44
A26: =A25+1 -> 21 | B26: 2044 (4 mēneši) | C26: =SUM(D26,H26) -> 1676335 | D26: =SUM(E26:G26) -> 1676335 | E26: 1382556.8 | F26: 234876.16 | G26: 58902.09 | H26: 0 | I26: =SUM(J26:K26) -> 1548.25 | J26: =J17/12*3 -> 1548.25 | K26: 0 | L26: =SUM(M26:N26) -> 8974.25 | M26: =M17/12*3 -> 8974.25 | N26: 0 | O26: =SUM(P26:Q26) -> 751.74 | P26: 749.6 | Q26: 2.14 | R26: =SUM(S26:V26) -> 20907 | S26: =ROUNDUP(S12/12*3,0) -> 20850 | T26: =ROUNDUP(T12/12*3,0) -> 57 | U26: 0 | V26: 0 | W26: =SUM(X26:AB26) -> 90907.348 | X26: =X17/3 -> 89602.678 | Y26: =Y17/3 -> 1304.6704 | Z26: 0 | AA26: 0 | AB26: 0 | AC26: =SUM(AD26:AG26) -> 162550.72 | AD26: =(AD25/12)*4 -> 162550.72 | AE26: 0 | AF26: 0 | AG26: 0 | AH26: =SUM(AI26,AP26:AS26) -> 0 | AI26: =SUM(AJ26:AO26) -> 0 | AJ26: 0 | AK26: 0 | AL26: 0 | AM26: 0 | AN26: 0 | AO26: 0 | AP26: 0 | AQ26: 0 | AR26: 0 | AS26: 0 | AT26: =SUM(C26,I26,L26,O26,R26,W26,AC26,AH26) -> 1961974.3 | AU26: =CM26-AT26 -> 162975.7 | AV26: =SUM(AW26,BA26) -> 1152509.4 | AW26: =SUM(AX26:AZ26) -> 1147811.1 | AX26: 827999.9 | AY26: 256102.36 | AZ26: 63708.82 | BA26: 4698.33 | BB26: =SUM(BC26:BD26) -> 0 | BC26: 0 | BD26: 0 | BE26: =SUM(BF26:BG26) -> 0 | BF26: 0 | BG26: 0 | BH26: =SUM(BI26:BJ26) -> 920.95 | BI26: 917.13 | BJ26: 3.82 | BK26: =SUM(BL26:BO26) -> 25326 | BL26: =ROUNDUP(BL12/12*4,0) -> 25225 | BM26: =ROUNDUP(BM12/12*4,0) -> 101 | BN26: 0 | BO26: 0 | BP26: =SUM(BQ26:BU26) -> 84188.751 | BQ26: 0 | BR26: 0 | BS26: =17325.6*4*1.21 -> 83855.904 | BT26: =68.77*4*1.21 -> 332.8468 | BU26: 0 | BV26: =SUM(BW26:BZ26) -> 740388 | BW26: 0 | BX26: =ROUNDUP(BX17/12*4,0) -> 738347 | BY26: =ROUNDUP(BY17/12*4,0) -> 2041 | BZ26: 0 | CA26: =SUM(CB26,CI26:CL26) -> 121616.94 | CB26: =SUM(CC26:CH26) -> 121157.27 | CC26: =CC25/12*4 -> 43642.958 | CD26: =CD25/12*4 -> 39929.516 | CE26: =2871.24*1.21*4 -> 13896.802 | CF26: =CF25/12*4 -> 3097.9872 | CG26: =CG25/12*4 -> 930.006 | CH26: =4915*4 -> 19660 | CI26: =CI25/12*4 -> 459.66667 | CJ26: =CJ25/12*4 -> 0 | CK26: =CK25/12*4 -> 0 | CL26: =CL25/12*4 -> 0 | CM26: =SUM(AV26,BB26,BE26,BH26,BK26,BP26,BV26,CA26) -> 2124950 | CO26: =AV26-C26 -> -523825.63 | CP26: =AW26-D26 -> -528523.96 | CQ26: =AX26-E26 -> -554556.89 | CR26: =AY26-F26 -> 21226.2 | CS26: =AZ26-G26 -> 4806.73 | CT26: =BA26-H26 -> 4698.33 | CU26: =BB26-I26 -> -1548.25 | CV26: =BC26-J26 -> -1548.25 | ... EE26: =CL26-AS26 -> 0 | EF26: =SUM(CO26,CU26,CX26,DA26,DD26,DI26,DO26,DT26,) -> 162975.7 | EH26: 0 | EI26: =EH26+EF26 -> 162975.7 | EJ26: 0 | EK26: =EF26+EJ26 -> 162975.7
A27: PAVISAM KOPĀ: | C27: =SUM(C6:C26) -> 1.364641e+08 | D27: =SUM(D6:D26) -> 1.364641e+08 | E27: =SUM(E6:E26) -> 1.1240399e+08 | F27: =SUM(F6:F26) -> 19236091 | G27: =SUM(G6:G26) -> 4824015.7 | H27: =SUM(H6:H26) -> 0 | I27: =SUM(I6:I26) -> 125408.25 | J27: =SUM(J6:J26) -> 125408.25 | ... CM27: =SUM(CM6:CM26) -> 1.7611715e+08 | CO27: =SUM(CO6:CO26) -> -61795100 | CP27: =SUM(CP6:CP26) -> -62082028 | CQ27: =SUM(CQ6:CQ26) -> -58353779 | CR27: =SUM(CR6:CR26) -> -2960822.4 | CS27: =SUM(CS6:CS26) -> -767426.48 | CT27: =SUM(CT6:CT26) -> 286927.76 | CU27: =SUM(CU6:CU26) -> -125408.25 | CV27: =SUM(CV6:CV26) -> -125408.25 | ... EE27: =SUM(EE6:EE26) -> 52445.896 | EF27: =SUM(CO27,CU27,CX27,DA27,DD27,DI27,DO27,DT27,) -> -18099059 | EH27: =SUM(EH6:EH26) -> 13376005 | EI27: =SUM(EI6:EI26) -> -4723054.4 | EJ27: =SUM(EJ6:EJ26) -> 16265965 | EK27: =SUM(EK6:EK26) -> -1833094.4
AD29: 796734 | CU29: =SUM(CO6,CU6,CX6) -> -806246.13

Sheet Talejas 1
D1: FORMULAS NEMAINĪT! | AW1: FORMULAS NEMAINĪT!
A2: Jāliek AR PVN | D2: Šī brīža bāze
A3: Nr.p.k. | B3: Pārskata periods (gads) | C3: Apstiprinātais finansējums | AU3: Izmaiņas +/- | AV3: Precizētais finansējums | CO3: Izmaiņas
C4: Valsts ieņēmumu dienests | D4: VID nomas maksa Talejas 1 kopā | E4: VID biroja telpu nomas maksa Talejas 1 | F4: VID speciālā režīma telpu nomas maksa Talejas 1 | G4: VID laboratorijas telpu nomas maksa Talejas 1 | H4: VID NĪN un apdrošināšana Talejas 1 | I4: Valsts darba inspekcija | J4: VDI nomas maksa Talejas 1 | K4: VDI NĪN un apdrošināšana Talejas 1 | L4: Valsts sociālās apdrošināšanas aģentūra | M4: VSAA nomas maksa Talejas 1 | N4: VSAA NĪN un apdrošināšana Talejas 1 | O4: Izložu un azartspēļu uzraudzības inspekcija | P4: IAUI nomas maksa Talejas 1 | Q4: IAUI NĪN un apdrošināšana Talejas 1 | R4: Latvijas republikas prokuratūra | S4: LRP esošo telpu nomas maksa Talejas 1 | T4: LRP NĪN un apdrošināšana Talejas 1 | U4: LRP jauno (pagaidu) telpu nomas maksa Talejas 1 | V4: LRP NĪN un apdrošināšana Talejas 1 | W4: Veselības inspekcija | X4: VI nomas maksa Klijānu 7 | Y4: VI NĪN un apdrošināšana Klijānu 7 | Z4: VI nomas maksa Talejas 1 | AA4: VI NĪN un apdrošināšana Talejas 1 | AB4: VI pārcelšanās izdevumi | AC4: Ekonomikas ministrija un iestādes | AD4: EM un iestāžu esošo telpu izmaksas | AE4: EM un iestāžu nomas maksa Talejas 1 | AF4: EM un iestāžu NĪN un apdrošināšana Talejas 1 | AG4: EM un iestāžu pārcelšanās izmaksas | AH4: Nodrošinājuma valsts aģentūra | AI4: NVA (VUGD un VRS) nomas maksa Talejas 1 | AJ4: NVA (VUGD) nomas maksa Talejas 1 nomas objekts Nr.1 | AK4: NVA (VUGD) nomas maksa Talejas 1 nomas objekts Nr.2 | AL4: NVA (VUGD) nomas maksa Talejas 1 nomas objekts Nr.3 | AM4: NVA (VUGD) nomas maksa Talejas 1 nomas objekts Nr.4 | AN4: NVA (VUGD) nomas maksa Talejas 1 nomas objekts Nr.5 | AO4: NVA (VRS) nomas maksa Talejas 1 nomas objekts Nr.6 | AP4: NVA (VUGD un VRS) NĪN un apdrošināšana Talejas 1 | AQ4: NVA (VUGD) telpu pielāgošana Talejas 1 | AR4: NVA nomas maksa Čiekurkalna 1.līnija 1 k-1 | AS4: NVA NĪN un apdrošināšana Čiekurkalna 1.līnija 1 k-1 | AT4: kopā: | AV4: Valsts ieņēmumu dienests | AW4: VID nomas maksa Talejas 1 kopā | AX4: VID biroja telpu nomas maksa Talejas 1 | AY4: VID speciālā režīma telpu nomas maksa Talejas 1 | AZ4: VID laboratorijas telpu nomas maksa Talejas 1 | BA4: VID NĪN un apdrošināšana Talejas 1 | BB4: Valsts darba inspekcija | BC4: VDI nomas maksa Talejas 1 | BD4: VDI NĪN un apdrošināšana Talejas 1 | BE4: Valsts sociālās apdrošināšanas aģentūra | BF4: VSAA nomas maksa Talejas 1 | BG4: VSAA NĪN un apdrošināšana Talejas 1 | BH4: Izložu un azartspēļu uzraudzības inspekcija | BI4: IAUI nomas maksa Talejas 1 | BJ4: IAUI NĪN un apdrošināšana Talejas 1 | BK4: Latvijas republikas prokuratūra | BL4: LRP esošo telpu nomas maksa Talejas 1 | BM4: LRP NĪN un apdrošināšana Talejas 1 | BN4: LRP jauno (pagaidu) telpu nomas maksa Talejas 1 | BO4: LRP NĪN un apdrošināšana Talejas 1 | BP4: Veselības inspekcija | BQ4: VI nomas maksa Klijānu 7 | BR4: VI NĪN un apdrošināšana Klijānu 7 | BS4: VI nomas maksa Talejas 1 | BT4: VI NĪN un apdrošināšana Talejas 1 | BU4: VI pārcelšanās izdevumi | BV4: Ekonomikas ministrija un iestādes | BW4: EM un iestāžu esošo telpu izmaksas | BX4: EM un iestāžu nomas maksa Talejas 1 | BY4: EM un iestāžu NĪN un apdrošināšana Talejas 1 | BZ4: EM un iestāžu pārcelšanās izmaksas | CA4: Nodrošinājuma valsts aģentūra | CB4: NVA (VUGD un VRS) nomas maksa Talejas 1 | CC4: NVA (VUGD) nomas maksa Talejas 1 nomas objekts Nr.1 | CD4: NVA (VUGD) nomas maksa Talejas 1 nomas objekts Nr.2 | CE4: NVA (VUGD) nomas maksa Talejas 1 nomas objekts Nr.3 | CF4: NVA (VUGD) nomas maksa Talejas 1 nomas objekts Nr.4 | CG4: NVA (VUGD) nomas maksa Talejas 1 nomas objekts Nr.5 | CH4: NVA (VRS) nomas maksa Talejas 1 nomas objekts Nr.6 | CI4: NVA (VUGD un VRS) NĪN un apdrošināšana Talejas 1 | CJ4: NVA (VUGD) telpu pielāgošana Talejas 1 | CK4: NVA nomas maksa Čiekurkalna 1.līnija 1 k-1 | CL4: NVA NĪN un apdrošināšana Čiekurkalna 1.līnija 1 k-1 | CM4: kopā: | CO4: Valsts ieņēmumu dienests | CP4: VID nomas maksa Talejas 1 kopā | CQ4: VID biroja telpu nomas maksa Talejas 1 | CR4: VID speciālā režīma telpu nomas maksa Talejas 1 | CS4: VID laboratorijas telpu nomas maksa Talejas 1 | CT4: VID NĪN un apdrošināšana Talejas 1 | CU4: Valsts darba inspekcija | CV4: VDI nomas maksa Talejas 1 | CW4: VDI NĪN un apdrošināšana Talejas 1 | CX4: Valsts sociālās apdrošināšanas aģentūra | CY4: VSAA nomas maksa Talejas 1 | CZ4: VSAA NĪN un apdrošināšana Talejas 1 | DA4: Izložu un azartspēļu uzraudzības inspekcija | DB4: LAUI nomas maksa Talejas 1 | DC4: LAUI NĪN un apdrošināšana Talejas 1 | DD4: Latvijas republikas prokuratūra | DE4: LRP esošo telpu nomas maksa Talejas 1 | DF4: LRP NĪN un apdrošināšana Talejas 1 | DG4: LRP jauno (pagaidu) telpu nomas maksa Talejas 1 | DH4: LRP NĪN un apdrošināšana Talejas 1 | DI4: Veselības inspekcija | DJ4: VI nomas maksa Klijānu 7 | DK4: VI NĪN un apdrošināšana Klijānu 7 | DL4: VI nomas maksa Talejas 1 | DM4: VI NĪN un apdrošināšana Talejas 1 | DN4: VI pārcelšanās izdevumi | DO4: Ekonomikas ministrija un iestādes | DP4: EM un iestāžu esošo telpu izmaksas | DQ4: EM un iestāžu nomas maksa Talejas 1 | DR4: EM un iestāžu NĪN un apdrošināšana Talejas 1 | DS4: EM un iestāžu pārcelšanās izmaksas | DT4: Nodrošinājuma valsts aģentūra | DU4: NVA (VUGD un VRS) nomas maksa Talejas 1 | DV4: NVA (VUGD) nomas maksa Talejas 1 nomas objekts Nr.1 | DW4: NVA (VUGD) nomas maksa Talejas 1 nomas objekts Nr.2 | DX4: NVA (VUGD) nomas maksa Talejas 1 nomas objekts Nr.3 | DY4: NVA (VUGD) nomas maksa Talejas 1 nomas objekts Nr.4 | DZ4: NVA (VUGD) nomas maksa Talejas 1 nomas objekts Nr.5 | EA4: NVA (VRS) nomas maksa Talejas 1 nomas objekts Nr.6 | EB4: NVA (VUGD un VRS) NĪN un apdrošināšana Talejas 1 | EC4: NVA (VUGD) telpu pielāgošana Talejas 1 | ED4: NVA nomas maksa Čiekurkalna 1.līnija 1 k-1 | EE4: NVA NĪN un apdrošināšana Čiekurkalna 1.līnija 1 k-1 | EF4: kopā: | EH4: VID ietaupījums | EI4: Starpība valsts budžetā | EJ4: VID ietaupījums | EK4: Starpība valsts budžetā
A5: 1. | B5: 2.
A6: 1 | B6: 2024 | C6: =SUM(D6,H6) -> 6780682.1 | D6: =SUM(E6:G6) -> 6780682.1 | E6: =5592364.44+1.21 -> 5592365.7 | F6: 950060.76 | G6: 238255.68 | H6: 0 | I6: =SUM(J6:K6) -> 6193 | J6: 6193 | K6: 0 | L6: =SUM(M6:N6) -> 35897 | M6: 35897 | N6: 0 | O6: =SUM(P6:Q6) -> 3006.95 | P6: 2998.38 | Q6: 8.57 | R6: =SUM(S6:V6) -> 238212.84 | S6: 83398.66 | T6: 224.18 | U6: 154590 | V6: 0 | W6: =SUM(X6:AB6) -> 272722.05 | X6: 268808.03 | Y6: 3914.0112 | Z6: 0 | AA6: 0 | AB6: 0 | AC6: =SUM(AD6:AG6) -> 796734 | AD6: 796734 | AE6: 0 | AF6: 0 | AG6: 0 | AH6: =SUM(AI6,AP6:AS6) -> 9752862.5 | AI6: =SUM(AJ6:AO6) -> 0 | AJ6: 0 | AK6: 0 | AL6: 0 | AM6: 0 | AN6: 0 | AO6: 0 | AP6: 0 | AQ6: 396375 | AR6: =ROUNDUP(9335577.6624,0) -> 9335578 | AS6: 20909.526 | AT6: =SUM(C6,I6,L6,O6,R6,W6,AC6,AH6) -> 17886310 | AU6: =CM6-AT6 -> -366536.64 | AV6: =SUM(AW6,BA6) -> 6016526 | AW6: =SUM(AX6:AZ6) -> 6002099.8 | AX6: 4780556.3 | AY6: 976217.22 | AZ6: 245326.32 | BA6: 14426.14 | BB6: =SUM(BC6:BD6) -> 0 | BC6: 0 | BD6: 0 | BE6: =SUM(BF6:BG6) -> 0 | BF6: 0 | BG6: 0 | BH6: =SUM(BI6:BJ6) -> 3247.1 | BI6: 3237.57 | BJ6: 9.53 | BK6: =SUM(BL6:BO6) -> 257902.71 | BL6: 93965.35 | BM6: 300.37 | BN6: 163218.59 | BO6: 418.3938 | BP6: =SUM(BQ6:BU6) -> 355906.88 | BQ6: =222155.4*1.21 -> 268808.03 | BR6: =3234.72*1.21 -> 3914.0112 | BS6: =17148.07*4*1.21 -> 82996.659 | BT6: =38.88*4*1.21 -> 188.1792 | BU6: 0 | BV6: =SUM(BW6:BZ6) -> 1214771.4 | BW6: 796734 | BX6: =(104272.96*4) -> 417091.84 | BY6: =(236.39*4) -> 945.56 | BZ6: 0 | CA6: =SUM(CB6,CI6:CL6) -> 9671419.8 | CB6: =SUM(CC6:CH6) -> 170220.76 | CC6: =11196.8*1.21*4 -> 54192.512 | CD6: =7708.62*1.21*4 -> 37309.721 | CE6: =4663.66*1.21*(11+13/31) -> 64439.746 | CF6: =794.79*1.21*(11+13/31) -> 10981.947 | CG6: =238.6*1.21*(11+13/31) -> 3296.8363 | CH6: 0 | CI6: 457 | CJ6: 396375 | CK6: 9078866 | CL6: 25501 | CM6: =SUM(AV6,BB6,BE6,BH6,BK6,BP6,BV6,CA6) -> 17519774 | CO6: =AV6-C6 -> -764156.13 | CP6: =AW6-D6 -> -778582.27 | CQ6: =AX6-E6 -> -811809.37 | CR6: =AY6-F6 -> 26156.46 | CS6: =AZ6-G6 -> 7070.64 | CT6: =BA6-H6 -> 14426.14 | CU6: =BB6-I6 -> -6193 | CV6: =BC6-J6 -> -6193 | ... EE6: =CL6-AS6 -> 4591.474 | EF6: =SUM(CO6,CU6,CX6,DA6,DD6,DI6,DO6,DT6,) -> -366536.64 | EH6: 0 | EI6: =EH6+EF6 -> -366536.64 | EJ6: 0 | EK6: =EF6+EJ6 -> -366536.64
A7: =A6+1 -> 2 | B7: 2025 | C7: =SUM(D7,H7) -> 6367742.1 | D7: =SUM(E7:G7) -> 6367742.1 | E7: 5179425.7 | F7: 950060.76 | G7: 238255.68 | H7: 0 | I7: =SUM(J7:K7) -> 6193 | J7: 6193 | K7: 0 | L7: =SUM(M7:N7) -> 35897 | M7: 35897 | N7: 0 | O7: =SUM(P7:Q7) -> 3006.95 | P7: 2998.38 | Q7: 8.57 | R7: =SUM(S7:V7) -> 701979.84 | S7: 83398.66 | T7: 224.18 | U7: 618357 | V7: 0 | W7: =SUM(X7:AB7) -> 272722.05 | X7: 268808.03 | Y7: 3914.0112 | Z7: 0 | AA7: 0 | AB7: 0 | AC7: =SUM(AD7:AG7) -> 796734 | AD7: 796734 | AE7: 0 | AF7: 0 | AG7: 0 | AH7: =SUM(AI7,AP7:AS7) -> 9930509 | AI7: =SUM(AJ7:AO7) -> 0 | AJ7: 0 | AK7: 0 | AL7: 0 | AM7: 0 | AN7: 0 | AO7: 0 | AP7: 0 | AQ7: 574021.46 | AR7: =ROUNDUP(9335577.6624,0) -> 9335578 | AS7: 20909.526 | AT7: =SUM(C7,I7,L7,O7,R7,W7,AC7,AH7) -> 18114784 | AU7: =CM7-AT7 -> -144718.38 | AV7: =SUM(AW7,BA7) -> 4493182.6 | AW7: =SUM(AX7:AZ7) -> 4479087.7 | AX7: 3181871.3 | AY7: 1036025.8 | AZ7: 261190.55 | BA7: 14094.91 | BB7: =SUM(BC7:BD7) -> 0 | BC7: 0 | BD7: 0 | BE7: =SUM(BF7:BG7) -> 0 | BF7: 0 | BG7: 0 | BH7: =SUM(BI7:BJ7) -> 3638.69 | BI7: 3627.18 | BJ7: 11.51 | BK7: =SUM(BL7:BO7) -> 753596.48 | BL7: 94693.09 | BM7: 300.37 | BN7: 656929.46 | BO7: 1673.56 | BP7: =SUM(BQ7:BU7) -> 576903.68 | BQ7: =18512.95*8*1.21 -> 179205.36 | BR7: =269.56*8*1.21 -> 2609.3408 | BS7: =(17148.07*8*1.21)+(39955.88*4*1.21) -> 359379.78 | BT7: =(38.88*8*1.21)+(68.77*4*1.21) -> 709.2052 | BU7: 35000 | BV7: =SUM(BW7:BZ7) -> 2050846 | BW7: 796734 | BX7: 1251275.4 | BY7: 2836.62 | BZ7: 0 | CA7: =SUM(CB7,CI7:CL7) -> 10091898 | CB7: =SUM(CC7:CH7) -> 446256.63 | CC7: =11283.53*1.21*12 -> 163836.86 | CD7: =7708.62*1.21*3+9672.27*1.21*9 -> 133313.31 | CE7: =4690.58*1.21*12 -> 68107.222 | CF7: =800.95*1.21*12 -> 11629.794 | CG7: =240.45*1.21*12 -> 3491.334 | CH7: =4537.06*1.21*12 -> 65878.111 | CI7: 1331 | CJ7: 574021.46 | CK7: 9033428 | CL7: 36861 | CM7: =SUM(AV7,BB7,BE7,BH7,BK7,BP7,BV7,CA7) -> 17970066 | CO7: =AV7-C7 -> -1874559.5 | CP7: =AW7-D7 -> -1888654.4 | CQ7: =AX7-E7 -> -1997554.3 | CR7: =AY7-F7 -> 85965.05 | CS7: =AZ7-G7 -> 22934.87 | CT7: =BA7-H7 -> 14094.91 | CU7: =BB7-I7 -> -6193 | CV7: =BC7-J7 -> -6193 | ... EE7: =CL7-AS7 -> 15951.474 | EF7: =SUM(CO7,CU7,CX7,DA7,DD7,DI7,DO7,DT7,) -> -144718.38 | EH7: 0 | EI7: =EH7+EF7 -> -144718.38 | EJ7: 0 | EK7: =EF7+EJ7 -> -144718.38
A8: =A7+1 -> 3 | B8: 2026 | C8: =SUM(D8,H8) -> 6367742.1 | D8: =SUM(E8:G8) -> 6367742.1 | E8: 5179425.7 | F8: 950060.76 | G8: 238255.68 | H8: 0 | I8: =SUM(J8:K8) -> 6193 | J8: 6193 | K8: 0 | L8: =SUM(M8:N8) -> 35897 | M8: 35897 | N8: 0 | O8: =SUM(P8:Q8) -> 3006.95 | P8: 2998.38 | Q8: 8.57 | R8: =SUM(S8:V8) -> 598920.84 | S8: 83398.66 | T8: 224.18 | U8: 515298 | V8: 0 | W8: =SUM(X8:AB8) -> 272722.05 | X8: 268808.03 | Y8: 3914.0112 | Z8: 0 | AA8: 0 | AB8: 0 | AC8: =SUM(AD8:AG8) -> 796734 | AD8: 796734 | AE8: 0 | AF8: 0 | AG8: 0 | AH8: =SUM(AI8,AP8:AS8) -> 9356487.5 | AI8: =SUM(AJ8:AO8) -> 0 | AJ8: 0 | AK8: 0 | AL8: 0 | AM8: 0 | AN8: 0 | AO8: 0 | AP8: 0 | AQ8: 0 | AR8: =ROUNDUP(9335577.6624,0) -> 9335578 | AS8: 20909.526 | AT8: =SUM(C8,I8,L8,O8,R8,W8,AC8,AH8) -> 17437703 | AU8: =CM8-AT8 -> -612896.31 | AV8: =SUM(AW8,BA8) -> 4228800 | AW8: =SUM(AX8:AZ8) -> 4214705.1 | AX8: 3031787.9 | AY8: 945703.69 | AZ8: 237213.53 | BA8: 14094.91 | BB8: =SUM(BC8:BD8) -> 0 | BC8: 0 | BD8: 0 | BE8: =SUM(BF8:BG8) -> 0 | BF8: 0 | BG8: 0 | BH8: =SUM(BI8:BJ8) -> 3341.32 | BI8: 3329.81 | BJ8: 11.51 | BK8: =SUM(BL8:BO8) -> 621719.96 | BL8: 90775.18 | BM8: 300.37 | BN8: 529249.77 | BO8: 1394.646 | BP8: =SUM(BQ8:BU8) -> 568133.02 | BQ8: 0 | BR8: 0 | BS8: =468706.17*1.21 -> 567134.47 | BT8: =825.25*1.21 -> 998.5525 | BU8: 0 | BV8: =SUM(BW8:BZ8) -> 1895728.8 | BW8: 0 | BX8: =(104272.95*4)+(154201.185*8) -> 1650701.3 | BY8: =(236.39*4)+(510.24*8) -> 5027.48 | BZ8: 240000 | CA8: =SUM(CB8,CI8:CL8) -> 9507084 | CB8: =SUM(CC8:CH8) -> 435416.03 | CC8: =10816.67*1.21*12 -> 157058.05 | CD8: =9272.07*1.21*12 -> 134630.46 | CE8: =4545.61*1.21*12 -> 66002.257 | CF8: =767.82*1.21*12 -> 11148.746 | CG8: =230.5*1.21*12 -> 3346.86 | CH8: =4354.66*1.21*12 -> 63229.663 | CI8: 1379 | CJ8: 0 | CK8: 9033428 | CL8: 36861 | CM8: =SUM(AV8,BB8,BE8,BH8,BK8,BP8,BV8,CA8) -> 16824807 | CO8: =AV8-C8 -> -2138942 | CP8: =AW8-D8 -> -2153037 | CQ8: =AX8-E8 -> -2147637.7 | CR8: =AY8-F8 -> -4357.07 | CS8: =AZ8-G8 -> -1042.15 | CT8: =BA8-H8 -> 14094.91 | CU8: =BB8-I8 -> -6193 | CV8: =BC8-J8 -> -6193 | ... EE8: =CL8-AS8 -> 15951.474 | EF8: =SUM(CO8,CU8,CX8,DA8,DD8,DI8,DO8,DT8,) -> -612896.31 | EH8: 264382.54 | EI8: =EH8+EF8 -> -348513.77 | EJ8: 639697 | EK8: =EF8+EJ8 -> 26800.69
A9: =A8+1 -> 4 | B9: 2027 | C9: =SUM(D9,H9) -> 6780682.1 | D9: =SUM(E9:G9) -> 6780682.1 | E9: 5592365.7 | F9: 950060.76 | G9: 238255.68 | H9: 0 | I9: =SUM(J9:K9) -> 6193 | J9: 6193 | K9: 0 | L9: =SUM(M9:N9) -> 35897 | M9: 35897 | N9: 0 | O9: =SUM(P9:Q9) -> 3006.95 | P9: 2998.38 | Q9: 8.57 | R9: =SUM(S9:V9) -> 83622.84 | S9: 83398.66 | T9: 224.18 | U9: 0 | V9: 0 | W9: =SUM(X9:AB9) -> 272722.05 | X9: 268808.03 | Y9: 3914.0112 | Z9: 0 | AA9: 0 | AB9: 0 | AC9: =SUM(AD9:AG9) -> 796734 | AD9: 796734 | AE9: 0 | AF9: 0 | AG9: 0 | AH9: =SUM(AI9,AP9:AS9) -> 9356487.5 | AI9: =SUM(AJ9:AO9) -> 0 | AJ9: 0 | AK9: 0 | AL9: 0 | AM9: 0 | AN9: 0 | AO9: 0 | AP9: 0 | AQ9: 0 | AR9: =ROUNDUP(9335577.6624,0) -> 9335578 | AS9: 20909.526 | AT9: =SUM(C9,I9,L9,O9,R9,W9,AC9,AH9) -> 17335345 | AU9: =CM9-AT9 -> -1009524.7 | AV9: =SUM(AW9,BA9) -> 3457528.2 | AW9: =SUM(AX9:AZ9) -> 3443433.2 | AX9: 2483999.7 | AY9: 768307.05 | AZ9: 191126.47 | BA9: 14094.91 | BB9: =SUM(BC9:BD9) -> 0 | BC9: 0 | BD9: 0 | BE9: =SUM(BF9:BG9) -> 0 | BF9: 0 | BG9: 0 | BH9: =SUM(BI9:BJ9) -> 2762.84 | BI9: 2751.33 | BJ9: 11.51 | BK9: =SUM(BL9:BO9) -> 75973.59 | BL9: 75673.22 | BM9: 300.37 | BN9: 0 | BO9: 0 | BP9: =SUM(BQ9:BU9) -> 517928.52 | BQ9: 0 | BR9: 0 | BS9: =427214.85*1.21 -> 516929.97 | BT9: =825.25*1.21 -> 998.5525 | BU9: 0 | BV9: =SUM(BW9:BZ9) -> 2826343.6 | BW9: 0 | BX9: 2820220.7 | BY9: 6122.9 | BZ9: 0 | CA9: =SUM(CB9,CI9:CL9) -> 9445284 | CB9: =SUM(CC9:CH9) -> 373616.01 | CC9: =9017.14*1.21*12 -> 130928.87 | CD9: =8249.9*1.21*12 -> 119788.55 | CE9: =3986.85*1.21*12 -> 57889.062 | CF9: =640.08*1.21*12 -> 9293.9616 | CG9: =192.15*1.21*12 -> 2790.018 | CH9: =3645.01*1.21*12 -> 52925.545 | CI9: 1379 | CJ9: 0 | CK9: 9033428 | CL9: 36861 | CM9: =SUM(AV9,BB9,BE9,BH9,BK9,BP9,BV9,CA9) -> 16325821 | CO9: =AV9-C9 -> -3323153.9 | CP9: =AW9-D9 -> -3337248.8 | CQ9: =AX9-E9 -> -3108365.9 | CR9: =AY9-F9 -> -181753.71 | CS9: =AZ9-G9 -> -47129.21 | CT9: =BA9-H9 -> 14094.91 | CU9: =BB9-I9 -> -6193 | CV9: =BC9-J9 -> -6193 | ... EE9: =CL9-AS9 -> 15951.474 | EF9: =SUM(CO9,CU9,CX9,DA9,DD9,DI9,DO9,DT9,) -> -1009524.7 | EH9: 771271.91 | EI9: =EH9+EF9 -> -238252.82 | EJ9: 602612 | EK9: =EF9+EJ9 -> -406912.73
A10: =A9+1 -> 5 | B10: 2028 | C10: =SUM(D10,H10) -> 6780682.1 | D10: =SUM(E10:G10) -> 6780682.1 | E10: 5592365.7 | F10: 950060.76 | G10: 238255.68 | H10: 0 | I10: =SUM(J10:K10) -> 6193 | J10: 6193 | K10: 0 | L10: =SUM(M10:N10) -> 35897 | M10: 35897 | N10: 0 | O10: =SUM(P10:Q10) -> 3006.95 | P10: 2998.38 | Q10: 8.57 | R10: =SUM(S10:V10) -> 83622.84 | S10: 83398.66 | T10: 224.18 | U10: 0 | V10: 0 | W10: =SUM(X10:AB10) -> 272722.05 | X10: 268808.03 | Y10: 3914.0112 | Z10: 0 | AA10: 0 | AB10: 0 | AC10: =SUM(AD10:AG10) -> 796734 | AD10: 796734 | AE10: 0 | AF10: 0 | AG10: 0 | AH10: =SUM(AI10,AP10:AS10) -> 0 | AI10: =SUM(AJ10:AO10) -> 0 | AJ10: 0 | AK10: 0 | AL10: 0 | AM10: 0 | AN10: 0 | AO10: 0 | AP10: 0 | AQ10: 0 | AR10: 0 | AS10: 0 | AT10: =SUM(C10,I10,L10,O10,R10,W10,AC10,AH10) -> 7978857.9 | AU10: =CM10-AT10 -> -739524.86 | AV10: =SUM(AW10,BA10) -> 3457528.2 | AW10: =SUM(AX10:AZ10) -> 3443433.2 | AX10: 2483999.7 | AY10: 768307.05 | AZ10: 191126.47 | BA10: 14094.91 | BB10: =SUM(BC10:BD10) -> 0 | BC10: 0 | BD10: 0 | BE10: =SUM(BF10:BG10) -> 0 | BF10: 0 | BG10: 0 | BH10: =SUM(BI10:BJ10) -> 2762.84 | BI10: 2751.33 | BJ10: 11.51 | BK10: =SUM(BL10:BO10) -> 75973.59 | BL10: 75673.22 | BM10: 300.37 | BN10: 0 | BO10: 0 | BP10: =SUM(BQ10:BU10) -> 517928.52 | BQ10: 0 | BR10: 0 | BS10: =427214.85*1.21 -> 516929.97 | BT10: =825.25*1.21 -> 998.5525 | BU10: 0 | BV10: =SUM(BW10:BZ10) -> 2826343.6 | BW10: 0 | BX10: 2820220.7 | BY10: 6122.9 | BZ10: 0 | CA10: =SUM(CB10,CI10:CL10) -> 358796.35 | CB10: =SUM(CC10:CH10) -> 357417.35 | CC10: =9017.14*1.21*12 -> 130928.87 | CD10: =8249.9*1.21*12 -> 119788.55 | CE10: =2871.24*1.21*12 -> 41690.405 | CF10: =640.08*1.21*12 -> 9293.9616 | CG10: =192.15*1.21*12 -> 2790.018 | CH10: =3645.01*1.21*12 -> 52925.545 | CI10: 1379 | CJ10: 0 | CK10: 0 | CL10: 0 | CM10: =SUM(AV10,BB10,BE10,BH10,BK10,BP10,BV10,CA10) -> 7239333.1 | CO10: =AV10-C10 -> -3323153.9 | CP10: =AW10-D10 -> -3337248.8 | CQ10: =AX10-E10 -> -3108365.9 | CR10: =AY10-F10 -> -181753.71 | CS10: =AZ10-G10 -> -47129.21 | CT10: =BA10-H10 -> 14094.91 | CU10: =BB10-I10 -> -6193 | CV10: =BC10-J10 -> -6193 | ... EE10: =CL10-AS10 -> 0 | EF10: =SUM(CO10,CU10,CX10,DA10,DD10,DI10,DO10,DT10,) -> -739524.86 | EH10: 771271.91 | EI10: =EH10+EF10 -> 31747.054 | EJ10: 755914 | EK10: =EF10+EJ10 -> 16389.144
A11: =A10+1 -> 6 | B11: 2029 | C11: =SUM(D11,H11) -> 6780682.1 | D11: =SUM(E11:G11) -> 6780682.1 | E11: 5592365.7 | F11: 950060.76 | G11: 238255.68 | H11: 0 | I11: =SUM(J11:K11) -> 6193 | J11: 6193 | K11: 0 | L11: =SUM(M11:N11) -> 35897 | M11: 35897 | N11: 0 | O11: =SUM(P11:Q11) -> 3006.95 | P11: 2998.38 | Q11: 8.57 | R11: =SUM(S11:V11) -> 83622.84 | S11: 83398.66 | T11: 224.18 | U11: 0 | V11: 0 | W11: =SUM(X11:AB11) -> 272722.05 | X11: 268808.03 | Y11: 3914.0112 | Z11: 0 | AA11: 0 | AB11: 0 | AC11: =SUM(AD11:AG11) -> 796734 | AD11: 796734 | AE11: 0 | AF11: 0 | AG11: 0 | AH11: =SUM(AI11,AP11:AS11) -> 0 | AI11: =SUM(AJ11:AO11) -> 0 | AJ11: 0 | AK11: 0 | AL11: 0 | AM11: 0 | AN11: 0 | AO11: 0 | AP11: 0 | AQ11: 0 | AR11: 0 | AS11: 0 | AT11: =SUM(C11,I11,L11,O11,R11,W11,AC11,AH11) -> 7978857.9 | AU11: =CM11-AT11 -> -739524.86 | AV11: =SUM(AW11,BA11) -> 3457528.2 | AW11: =SUM(AX11:AZ11) -> 3443433.2 | AX11: 2483999.7 | AY11: 768307.05 | AZ11: 191126.47 | BA11: 14094.91 | BB11: =SUM(BC11:BD11) -> 0 | BC11: 0 | BD11: 0 | BE11: =SUM(BF11:BG11) -> 0 | BF11: 0 | BG11: 0 | BH11: =SUM(BI11:BJ11) -> 2762.84 | BI11: 2751.33 | BJ11: 11.51 | BK11: =SUM(BL11:BO11) -> 75973.59 | BL11: 75673.22 | BM11: 300.37 | BN11: 0 | BO11: 0 | BP11: =SUM(BQ11:BU11) -> 517928.52 | BQ11: 0 | BR11: 0 | BS11: =427214.85*1.21 -> 516929.97 | BT11: =825.25*1.21 -> 998.5525 | BU11: 0 | BV11: =SUM(BW11:BZ11) -> 2826343.6 | BW11: 0 | BX11: 2820220.7 | BY11: 6122.9 | BZ11: 0 | CA11: =SUM(CB11,CI11:CL11) -> 358796.35 | CB11: =SUM(CC11:CH11) -> 357417.35 | CC11: =9017.14*1.21*12 -> 130928.87 | CD11: =8249.9*1.21*12 -> 119788.55 | CE11: =2871.24*1.21*12 -> 41690.405 | CF11: =640.08*1.21*12 -> 9293.9616 | CG11: =192.15*1.21*12 -> 2790.018 | CH11: =3645.01*1.21*12 -> 52925.545 | CI11: 1379 | CJ11: 0 | CK11: 0 | CL11: 0 | CM11: =SUM(AV11,BB11,BE11,BH11,BK11,BP11,BV11,CA11) -> 7239333.1 | CO11: =AV11-C11 -> -3323153.9 | CP11: =AW11-D11 -> -3337248.8 | CQ11: =AX11-E11 -> -3108365.9 | CR11: =AY11-F11 -> -181753.71 | CS11: =AZ11-G11 -> -47129.21 | CT11: =BA11-H11 -> 14094.91 | CU11: =BB11-I11 -> -6193 | CV11: =BC11-J11 -> -6193 | ... EE11: =CL11-AS11 -> 0 | EF11: =SUM(CO11,CU11,CX11,DA11,DD11,DI11,DO11,DT11,) -> -739524.86 | EH11: 771271.91 | EI11: =EH11+EF11 -> 31747.054 | EJ11: 755914 | EK11: =EF11+EJ11 -> 16389.144
A12: =A11+1 -> 7 | B12: 2030 | C12: =SUM(D12,H12) -> 6780682.1 | D12: =SUM(E12:G12) -> 6780682.1 | E12: 5592365.7 | F12: 950060.76 | G12: 238255.68 | H12: 0 | I12: =SUM(J12:K12) -> 6193 | J12: 6193 | K12: 0 | L12: =SUM(M12:N12) -> 35897 | M12: 35897 | N12: 0 | O12: =SUM(P12:Q12) -> 3006.95 | P12: 2998.38 | Q12: 8.57 | R12: =SUM(S12:V12) -> 83622.84 | S12: 83398.66 | T12: 224.18 | U12: 0 | V12: 0 | W12: =SUM(X12:AB12) -> 272722.05 | X12: 268808.03 | Y12: 3914.0112 | Z12: 0 | AA12: 0 | AB12: 0 | AC12: =SUM(AD12:AG12) -> 796734 | AD12: 796734 | AE12: 0 | AF12: 0 | AG12: 0 | AH12: =SUM(AI12,AP12:AS12) -> 0 | AI12: =SUM(AJ12:AO12) -> 0 | AJ12: 0 | AK12: 0 | AL12: 0 | AM12: 0 | AN12: 0 | AO12: 0 | AP12: 0 | AQ12: 0 | AR12: 0 | AS12: 0 | AT12: =SUM(C12,I12,L12,O12,R12,W12,AC12,AH12) -> 7978857.9 | AU12: =CM12-AT12 -> -772921.4 | AV12: =SUM(AW12,BA12) -> 3457528.2 | AW12: =SUM(AX12:AZ12) -> 3443433.2 | AX12: 2483999.7 | AY12: 768307.05 | AZ12: 191126.47 | BA12: 14094.91 | BB12: =SUM(BC12:BD12) -> 0 | BC12: 0 | BD12: 0 | BE12: =SUM(BF12:BG12) -> 0 | BF12: 0 | BG12: 0 | BH12: =SUM(BI12:BJ12) -> 2762.84 | BI12: 2751.33 | BJ12: 11.51 | BK12: =SUM(BL12:BO12) -> 75973.59 | BL12: 75673.22 | BM12: 300.37 | BN12: 0 | BO12: 0 | BP12: =SUM(BQ12:BU12) -> 484531.98 | BQ12: 0 | BR12: 0 | BS12: =(35601.24*8*1.21)+(28701.12*4*1.21) -> 483533.42 | BT12: =825.25*1.21 -> 998.5525 | BU12: 0 | BV12: =SUM(BW12:BZ12) -> 2826343.6 | BW12: 0 | BX12: 2820220.7 | BY12: 6122.9 | BZ12: 0 | CA12: =SUM(CB12,CI12:CL12) -> 358796.35 | CB12: =SUM(CC12:CH12) -> 357417.35 | CC12: =9017.14*1.21*12 -> 130928.87 | CD12: =8249.9*1.21*12 -> 119788.55 | CE12: =2871.24*1.21*12 -> 41690.405 | CF12: =640.08*1.21*12 -> 9293.9616 | CG12: =192.15*1.21*12 -> 2790.018 | CH12: =3645.01*1.21*12 -> 52925.545 | CI12: 1379 | CJ12: 0 | CK12: 0 | CL12: 0 | CM12: =SUM(AV12,BB12,BE12,BH12,BK12,BP12,BV12,CA12) -> 7205936.5 | CO12: =AV12-C12 -> -3323153.9 | CP12: =AW12-D12 -> -3337248.8 | CQ12: =AX12-E12 -> -3108365.9 | CR12: =AY12-F12 -> -181753.71 | CS12: =AZ12-G12 -> -47129.21 | CT12: =BA12-H12 -> 14094.91 | CU12: =BB12-I12 -> -6193 | CV12: =BC12-J12 -> -6193 | ... EE12: =CL12-AS12 -> 0 | EF12: =SUM(CO12,CU12,CX12,DA12,DD12,DI12,DO12,DT12,) -> -772921.4 | EH12: 771271.91 | EI12: =EH12+EF12 -> -1649.4908 | EJ12: 755914 | EK12: =EF12+EJ12 -> -17007.401
A13: =A12+1 -> 8 | B13: 2031 | C13: =SUM(D13,H13) -> 6780682.1 | D13: =SUM(E13:G13) -> 6780682.1 | E13: 5592365.7 | F13: 950060.76 | G13: 238255.68 | H13: 0 | I13: =SUM(J13:K13) -> 6193 | J13: 6193 | K13: 0 | L13: =SUM(M13:N13) -> 35897 | M13: 35897 | N13: 0 | O13: =SUM(P13:Q13) -> 3006.95 | P13: 2998.38 | Q13: 8.57 | R13: =SUM(S13:V13) -> 83622.84 | S13: 83398.66 | T13: 224.18 | U13: 0 | V13: 0 | W13: =SUM(X13:AB13) -> 272722.05 | X13: 268808.03 | Y13: 3914.0112 | Z13: 0 | AA13: 0 | AB13: 0 | AC13: =SUM(AD13:AG13) -> 796734 | AD13: 796734 | AE13: 0 | AF13: 0 | AG13: 0 | AH13: =SUM(AI13,AP13:AS13) -> 0 | AI13: =SUM(AJ13:AO13) -> 0 | AJ13: 0 | AK13: 0 | AL13: 0 | AM13: 0 | AN13: 0 | AO13: 0 | AP13: 0 | AQ13: 0 | AR13: 0 | AS13: 0 | AT13: =SUM(C13,I13,L13,O13,R13,W13,AC13,AH13) -> 7978857.9 | AU13: =CM13-AT13 -> -839714.61 | AV13: =SUM(AW13,BA13) -> 3457528.2 | AW13: =SUM(AX13:AZ13) -> 3443433.2 | AX13: 2483999.7 | AY13: 768307.05 | AZ13: 191126.47 | BA13: 14094.91 | BB13: =SUM(BC13:BD13) -> 0 | BC13: 0 | BD13: 0 | BE13: =SUM(BF13:BG13) -> 0 | BF13: 0 | BG13: 0 | BH13: =SUM(BI13:BJ13) -> 2762.84 | BI13: 2751.33 | BJ13: 11.51 | BK13: =SUM(BL13:BO13) -> 75973.59 | BL13: 75673.22 | BM13: 300.37 | BN13: 0 | BO13: 0 | BP13: =SUM(BQ13:BU13) -> 417738.77 | BQ13: 0 | BR13: 0 | BS13: =344413.4*1.21 -> 416740.21 | BT13: =825.25*1.21 -> 998.5525 | BU13: 0 | BV13: =SUM(BW13:BZ13) -> 2826343.6 | BW13: 0 | BX13: 2820220.7 | BY13: 6122.9 | BZ13: 0 | CA13: =SUM(CB13,CI13:CL13) -> 358796.35 | CB13: =SUM(CC13:CH13) -> 357417.35 | CC13: =9017.14*1.21*12 -> 130928.87 | CD13: =8249.9*1.21*12 -> 119788.55 | CE13: =2871.24*1.21*12 -> 41690.405 | CF13: =640.08*1.21*12 -> 9293.9616 | CG13: =192.15*1.21*12 -> 2790.018 | CH13: =3645.01*1.21*12 -> 52925.545 | CI13: 1379 | CJ13: 0 | CK13: 0 | CL13: 0 | CM13: =SUM(AV13,BB13,BE13,BH13,BK13,BP13,BV13,CA13) -> 7139143.3 | CO13: =AV13-C13 -> -3323153.9 | CP13: =AW13-D13 -> -3337248.8 | CQ13: =AX13-E13 -> -3108365.9 | CR13: =AY13-F13 -> -181753.71 | CS13: =AZ13-G13 -> -47129.21 | CT13: =BA13-H13 -> 14094.91 | CU13: =BB13-I13 -> -6193 | CV13: =BC13-J13 -> -6193 | ... EE13: =CL13-AS13 -> 0 | EF13: =SUM(CO13,CU13,CX13,DA13,DD13,DI13,DO13,DT13,) -> -839714.61 | EH13: 771271.91 | EI13: =EH13+EF13 -> -68442.701 | EJ13: 755914 | EK13: =EF13+EJ13 -> -83800.611
A14: =A13+1 -> 9 | B14: 2032 | C14: =SUM(D14,H14) -> 6780682.1 | D14: =SUM(E14:G14) -> 6780682.1 | E14: 5592365.7 | F14: 950060.76 | G14: 238255.68 | H14: 0 | I14: =SUM(J14:K14) -> 6193 | J14: 6193 | K14: 0 | L14: =SUM(M14:N14) -> 35897 | M14: 35897 | N14: 0 | O14: =SUM(P14:Q14) -> 3006.95 | P14: 2998.38 | Q14: 8.57 | R14: =SUM(S14:V14) -> 83622.84 | S14: 83398.66 | T14: 224.18 | U14: 0 | V14: 0 | W14: =SUM(X14:AB14) -> 272722.05 | X14: 268808.03 | Y14: 3914.0112 | Z14: 0 | AA14: 0 | AB14: 0 | AC14: =SUM(AD14:AG14) -> 796734 | AD14: 796734 | AE14: 0 | AF14: 0 | AG14: 0 | AH14: =SUM(AI14,AP14:AS14) -> 0 | AI14: =SUM(AJ14:AO14) -> 0 | AJ14: 0 | AK14: 0 | AL14: 0 | AM14: 0 | AN14: 0 | AO14: 0 | AP14: 0 | AQ14: 0 | AR14: 0 | AS14: 0 | AT14: =SUM(C14,I14,L14,O14,R14,W14,AC14,AH14) -> 7978857.9 | AU14: =CM14-AT14 -> -1444895.3 | AV14: =SUM(AW14,BA14) -> 3457528.2 | AW14: =SUM(AX14:AZ14) -> 3443433.2 | AX14: 2483999.7 | AY14: 768307.05 | AZ14: 191126.47 | BA14: 14094.91 | BB14: =SUM(BC14:BD14) -> 0 | BC14: 0 | BD14: 0 | BE14: =SUM(BF14:BG14) -> 0 | BF14: 0 | BG14: 0 | BH14: =SUM(BI14:BJ14) -> 2762.84 | BI14: 2751.33 | BJ14: 11.51 | BK14: =SUM(BL14:BO14) -> 75973.59 | BL14: 75673.22 | BM14: 300.37 | BN14: 0 | BO14: 0 | BP14: =SUM(BQ14:BU14) -> 417738.77 | BQ14: 0 | BR14: 0 | BS14: =344413.4*1.21 -> 416740.21 | BT14: =825.25*1.21 -> 998.5525 | BU14: 0 | BV14: =SUM(BW14:BZ14) -> 2221163 | BW14: 0 | BX14: 2215040.1 | BY14: 6122.9 | BZ14: 0 | CA14: =SUM(CB14,CI14:CL14) -> 358796.35 | CB14: =SUM(CC14:CH14) -> 357417.35 | CC14: =9017.14*1.21*12 -> 130928.87 | CD14: =8249.9*1.21*12 -> 119788.55 | CE14: =2871.24*1.21*12 -> 41690.405 | CF14: =640.08*1.21*12 -> 9293.9616 | CG14: =192.15*1.21*12 -> 2790.018 | CH14: =3645.01*1.21*12 -> 52925.545 | CI14: 1379 | CJ14: 0 | CK14: 0 | CL14: 0 | CM14: =SUM(AV14,BB14,BE14,BH14,BK14,BP14,BV14,CA14) -> 6533962.7 | CO14: =AV14-C14 -> -3323153.9 | CP14: =AW14-D14 -> -3337248.8 | CQ14: =AX14-E14 -> -3108365.9 | CR14: =AY14-F14 -> -181753.71 | CS14: =AZ14-G14 -> -47129.21 | CT14: =BA14-H14 -> 14094.91 | CU14: =BB14-I14 -> -6193 | CV14: =BC14-J14 -> -6193 | ... EE14: =CL14-AS14 -> 0 | EF14: =SUM(CO14,CU14,CX14,DA14,DD14,DI14,DO14,DT14,) -> -1444895.3 | EH14: 771271.91 | EI14: =EH14+EF14 -> -673623.35 | EJ14: 1000000 | EK14: =EF14+EJ14 -> -444895.26
A15: =A14+1 -> 10 | B15: 2033 | C15: =SUM(D15,H15) -> 6780682.1 | D15: =SUM(E15:G15) -> 6780682.1 | E15: 5592365.7 | F15: 950060.76 | G15: 238255.68 | H15: 0 | I15: =SUM(J15:K15) -> 6193 | J15: 6193 | K15: 0 | L15: =SUM(M15:N15) -> 35897 | M15: 35897 | N15: 0 | O15: =SUM(P15:Q15) -> 3006.95 | P15: 2998.38 | Q15: 8.57 | R15: =SUM(S15:V15) -> 83622.84 | S15: 83398.66 | T15: 224.18 | U15: 0 | V15: 0 | W15: =SUM(X15:AB15) -> 272722.05 | X15: 268808.03 | Y15: 3914.0112 | Z15: 0 | AA15: 0 | AB15: 0 | AC15: =SUM(AD15:AG15) -> 796734 | AD15: 796734 | AE15: 0 | AF15: 0 | AG15: 0 | AH15: =SUM(AI15,AP15:AS15) -> 0 | AI15: =SUM(AJ15:AO15) -> 0 | AJ15: 0 | AK15: 0 | AL15: 0 | AM15: 0 | AN15: 0 | AO15: 0 | AP15: 0 | AQ15: 0 | AR15: 0 | AS15: 0 | AT15: =SUM(C15,I15,L15,O15,R15,W15,AC15,AH15) -> 7978857.9 | AU15: =CM15-AT15 -> -1444895.3 | AV15: =SUM(AW15,BA15) -> 3457528.2 | AW15: =SUM(AX15:AZ15) -> 3443433.2 | AX15: 2483999.7 | AY15: 768307.05 | AZ15: 191126.47 | BA15: 14094.91 | BB15: =SUM(BC15:BD15) -> 0 | BC15: 0 | BD15: 0 | BE15: =SUM(BF15:BG15) -> 0 | BF15: 0 | BG15: 0 | BH15: =SUM(BI15:BJ15) -> 2762.84 | BI15: 2751.33 | BJ15: 11.51 | BK15: =SUM(BL15:BO15) -> 75973.59 | BL15: 75673.22 | BM15: 300.37 | BN15: 0 | BO15: 0 | BP15: =SUM(BQ15:BU15) -> 417738.77 | BQ15: 0 | BR15: 0 | BS15: =344413.4*1.21 -> 416740.21 | BT15: =825.25*1.21 -> 998.5525 | BU15: 0 | BV15: =SUM(BW15:BZ15) -> 2221163 | BW15: 0 | BX15: 2215040.1 | BY15: 6122.9 | BZ15: 0 | CA15: =SUM(CB15,CI15:CL15) -> 358796.35 | CB15: =SUM(CC15:CH15) -> 357417.35 | CC15: =9017.14*1.21*12 -> 130928.87 | CD15: =8249.9*1.21*12 -> 119788.55 | CE15: =2871.24*1.21*12 -> 41690.405 | CF15: =640.08*1.21*12 -> 9293.9616 | CG15: =192.15*1.21*12 -> 2790.018 | CH15: =3645.01*1.21*12 -> 52925.545 | CI15: 1379 | CJ15: 0 | CK15: 0 | CL15: 0 | CM15: =SUM(AV15,BB15,BE15,BH15,BK15,BP15,BV15,CA15) -> 6533962.7 | CO15: =AV15-C15 -> -3323153.9 | CP15: =AW15-D15 -> -3337248.8 | CQ15: =AX15-E15 -> -3108365.9 | CR15: =AY15-F15 -> -181753.71 | CS15: =AZ15-G15 -> -47129.21 | CT15: =BA15-H15 -> 14094.91 | CU15: =BB15-I15 -> -6193 | CV15: =BC15-J15 -> -6193 | ... EE15: =CL15-AS15 -> 0 | EF15: =SUM(CO15,CU15,CX15,DA15,DD15,DI15,DO15,DT15,) -> -1444895.3 | EH15: 771271.91 | EI15: =EH15+EF15 -> -673623.35 | EJ15: 1000000 | EK15: =EF15+EJ15 -> -444895.26
A16: =A15+1 -> 11 | B16: 2034 | C16: =SUM(D16,H16) -> 6780682.1 | D16: =SUM(E16:G16) -> 6780682.1 | E16: 5592365.7 | F16: 950060.76 | G16: 238255.68 | H16: 0 | I16: =SUM(J16:K16) -> 6193 | J16: 6193 | K16: 0 | L16: =SUM(M16:N16) -> 35897 | M16: 35897 | N16: 0 | O16: =SUM(P16:Q16) -> 3006.95 | P16: 2998.38 | Q16: 8.57 | R16: =SUM(S16:V16) -> 83622.84 | S16: 83398.66 | T16: 224.18 | U16: 0 | V16: 0 | W16: =SUM(X16:AB16) -> 272722.05 | X16: 268808.03 | Y16: 3914.0112 | Z16: 0 | AA16: 0 | AB16: 0 | AC16: =SUM(AD16:AG16) -> 796734 | AD16: 796734 | AE16: 0 | AF16: 0 | AG16: 0 | AH16: =SUM(AI16,AP16:AS16) -> 0 | AI16: =SUM(AJ16:AO16) -> 0 | AJ16: 0 | AK16: 0 | AL16: 0 | AM16: 0 | AN16: 0 | AO16: 0 | AP16: 0 | AQ16: 0 | AR16: 0 | AS16: 0 | AT16: =SUM(C16,I16,L16,O16,R16,W16,AC16,AH16) -> 7978857.9 | AU16: =CM16-AT16 -> -1444895.3 | AV16: =SUM(AW16,BA16) -> 3457528.2 | AW16: =SUM(AX16:AZ16) -> 3443433.2 | AX16: 2483999.7 | AY16: 768307.05 | AZ16: 191126.47 | BA16: 14094.91 | BB16: =SUM(BC16:BD16) -> 0 | BC16: 0 | BD16: 0 | BE16: =SUM(BF16:BG16) -> 0 | BF16: 0 | BG16: 0 | BH16: =SUM(BI16:BJ16) -> 2762.84 | BI16: 2751.33 | BJ16: 11.51 | BK16: =SUM(BL16:BO16) -> 75973.59 | BL16: 75673.22 | BM16: 300.37 | BN16: 0 | BO16: 0 | BP16: =SUM(BQ16:BU16) -> 417738.77 | BQ16: 0 | BR16: 0 | BS16: =344413.4*1.21 -> 416740.21 | BT16: =825.25*1.21 -> 998.5525 | BU16: 0 | BV16: =SUM(BW16:BZ16) -> 2221163 | BW16: 0 | BX16: 2215040.1 | BY16: 6122.9 | BZ16: 0 | CA16: =SUM(CB16,CI16:CL16) -> 358796.35 | CB16: =SUM(CC16:CH16) -> 357417.35 | CC16: =9017.14*1.21*12 -> 130928.87 | CD16: =8249.9*1.21*12 -> 119788.55 | CE16: =2871.24*1.21*12 -> 41690.405 | CF16: =640.08*1.21*12 -> 9293.9616 | CG16: =192.15*1.21*12 -> 2790.018 | CH16: =3645.01*1.21*12 -> 52925.545 | CI16: 1379 | CJ16: 0 | CK16: 0 | CL16: 0 | CM16: =SUM(AV16,BB16,BE16,BH16,BK16,BP16,BV16,CA16) -> 6533962.7 | CO16: =AV16-C16 -> -3323153.9 | CP16: =AW16-D16 -> -3337248.8 | CQ16: =AX16-E16 -> -3108365.9 | CR16: =AY16-F16 -> -181753.71 | CS16: =AZ16-G16 -> -47129.21 | CT16: =BA16-H16 -> 14094.91 | CU16: =BB16-I16 -> -6193 | CV16: =BC16-J16 -> -6193 | ... EE16: =CL16-AS16 -> 0 | EF16: =SUM(CO16,CU16,CX16,DA16,DD16,DI16,DO16,DT16,) -> -1444895.3 | EH16: 771271.91 | EI16: =EH16+EF16 -> -673623.35 | EJ16: 1000000 | EK16: =EF16+EJ16 -> -444895.26
A17: =A16+1 -> 12 | B17: 2035 | C17: =SUM(D17,H17) -> 6780682.1 | D17: =SUM(E17:G17) -> 6780682.1 | E17: 5592365.7 | F17: 950060.76 | G17: 238255.68 | H17: 0 | I17: =SUM(J17:K17) -> 6193 | J17: =J12 -> 6193 | K17: 0 | L17: =SUM(M17:N17) -> 35897 | M17: =M12 -> 35897 | N17: 0 | O17: =SUM(P17:Q17) -> 3006.95 | P17: =P12 -> 2998.38 | Q17: =Q12 -> 8.57 | R17: =SUM(S17:V17) -> 83622.84 | S17: 83398.66 | T17: 224.18 | U17: 0 | V17: 0 | W17: =SUM(X17:AB17) -> 272722.05 | X17: 268808.03 | Y17: 3914.0112 | Z17: 0 | AA17: 0 | AB17: 0 | AC17: =SUM(AD17:AG17) -> 796734 | AD17: 796734 | AE17: 0 | AF17: 0 | AG17: 0 | AH17: =SUM(AI17,AP17:AS17) -> 0 | AI17: =SUM(AJ17:AO17) -> 0 | AJ17: 0 | AK17: 0 | AL17: 0 | AM17: 0 | AN17: 0 | AO17: 0 | AP17: 0 | AQ17: 0 | AR17: 0 | AS17: 0 | AT17: =SUM(C17,I17,L17,O17,R17,W17,AC17,AH17) -> 7978857.9 | AU17: =CM17-AT17 -> -1499952.7 | AV17: =SUM(AW17,BA17) -> 3457528.2 | AW17: =SUM(AX17:AZ17) -> 3443433.2 | AX17: 2483999.7 | AY17: 768307.05 | AZ17: 191126.47 | BA17: 14094.91 | BB17: =SUM(BC17:BD17) -> 0 | BC17: 0 | BD17: 0 | BE17: =SUM(BF17:BG17) -> 0 | BF17: 0 | BG17: 0 | BH17: =SUM(BI17:BJ17) -> 2762.84 | BI17: 2751.33 | BJ17: 11.51 | BK17: =SUM(BL17:BO17) -> 75973.59 | BL17: 75673.22 | BM17: 300.37 | BN17: 0 | BO17: 0 | BP17: =SUM(BQ17:BU17) -> 362681.3 | BQ17: 0 | BR17: 0 | BS17: =(28701.12*8*1.21)+(17325.6*4*1.21) -> 361682.75 | BT17: =825.25*1.21 -> 998.5525 | BU17: 0 | BV17: =SUM(BW17:BZ17) -> 2221163 | BW17: 0 | BX17: 2215040.1 | BY17: 6122.9 | BZ17: 0 | CA17: =SUM(CB17,CI17:CL17) -> 358796.35 | CB17: =SUM(CC17:CH17) -> 357417.35 | CC17: =9017.14*1.21*12 -> 130928.87 | CD17: =8249.9*1.21*12 -> 119788.55 | CE17: =2871.24*1.21*12 -> 41690.405 | CF17: =640.08*1.21*12 -> 9293.9616 | CG17: =192.15*1.21*12 -> 2790.018 | CH17: =3645.01*1.21*12 -> 52925.545 | CI17: 1379 | CJ17: 0 | CK17: 0 | CL17: 0 | CM17: =SUM(AV17,BB17,BE17,BH17,BK17,BP17,BV17,CA17) -> 6478905.2 | CO17: =AV17-C17 -> -3323153.9 | CP17: =AW17-D17 -> -3337248.8 | CQ17: =AX17-E17 -> -3108365.9 | CR17: =AY17-F17 -> -181753.71 | CS17: =AZ17-G17 -> -47129.21 | CT17: =BA17-H17 -> 14094.91 | CU17: =BB17-I17 -> -6193 | CV17: =BC17-J17 -> -6193 | ... EE17: =CL17-AS17 -> 0 | EF17: =SUM(CO17,CU17,CX17,DA17,DD17,DI17,DO17,DT17,) -> -1499952.7 | EH17: 771271.91 | EI17: =EH17+EF17 -> -728680.82 | EJ17: 1000000 | EK17: =EF17+EJ17 -> -499952.73
A18: =A17+1 -> 13 | B18: 2036 | C18: =SUM(D18,H18) -> 6780682.1 | D18: =SUM(E18:G18) -> 6780682.1 | E18: 5592365.7 | F18: 950060.76 | G18: 238255.68 | H18: 0 | I18: =SUM(J18:K18) -> 6193 | J18: =J13 -> 6193 | K18: 0 | L18: =SUM(M18:N18) -> 35897 | M18: =M13 -> 35897 | N18: 0 | O18: =SUM(P18:Q18) -> 3006.95 | P18: =P13 -> 2998.38 | Q18: =Q13 -> 8.57 | R18: =SUM(S18:V18) -> 83622.84 | S18: 83398.66 | T18: 224.18 | U18: 0 | V18: 0 | W18: =SUM(X18:AB18) -> 272722.05 | X18: 268808.03 | Y18: 3914.0112 | Z18: 0 | AA18: 0 | AB18: 0 | AC18: =SUM(AD18:AG18) -> 796734 | AD18: 796734 | AE18: 0 | AF18: 0 | AG18: 0 | AH18: =SUM(AI18,AP18:AS18) -> 0 | AI18: =SUM(AJ18:AO18) -> 0 | AJ18: 0 | AK18: 0 | AL18: 0 | AM18: 0 | AN18: 0 | AO18: 0 | AP18: 0 | AQ18: 0 | AR18: 0 | AS18: 0 | AT18: =SUM(C18,I18,L18,O18,R18,W18,AC18,AH18) -> 7978857.9 | AU18: =CM18-AT18 -> -1610067.7 | AV18: =SUM(AW18,BA18) -> 3457528.2 | AW18: =SUM(AX18:AZ18) -> 3443433.2 | AX18: 2483999.7 | AY18: 768307.05 | AZ18: 191126.47 | BA18: 14094.91 | BB18: =SUM(BC18:BD18) -> 0 | BC18: 0 | BD18: 0 | BE18: =SUM(BF18:BG18) -> 0 | BF18: 0 | BG18: 0 | BH18: =SUM(BI18:BJ18) -> 2762.84 | BI18: 2751.33 | BJ18: 11.51 | BK18: =SUM(BL18:BO18) -> 75973.59 | BL18: 75673.22 | BM18: 300.37 | BN18: 0 | BO18: 0 | BP18: =SUM(BQ18:BU18) -> 252566.29 | BQ18: 0 | BR18: 0 | BS18: =207907.22*1.21 -> 251567.74 | BT18: =825.25*1.21 -> 998.5525 | BU18: 0 | BV18: =SUM(BW18:BZ18) -> 2221163 | BW18: 0 | BX18: 2215040.1 | BY18: 6122.9 | BZ18: 0 | CA18: =SUM(CB18,CI18:CL18) -> 358796.35 | CB18: =SUM(CC18:CH18) -> 357417.35 | CC18: =9017.14*1.21*12 -> 130928.87 | CD18: =8249.9*1.21*12 -> 119788.55 | CE18: =2871.24*1.21*12 -> 41690.405 | CF18: =640.08*1.21*12 -> 9293.9616 | CG18: =192.15*1.21*12 -> 2790.018 | CH18: =3645.01*1.21*12 -> 52925.545 | CI18: 1379 | CJ18: 0 | CK18: 0 | CL18: 0 | CM18: =SUM(AV18,BB18,BE18,BH18,BK18,BP18,BV18,CA18) -> 6368790.2 | CO18: =AV18-C18 -> -3323153.9 | CP18: =AW18-D18 -> -3337248.8 | CQ18: =AX18-E18 -> -3108365.9 | CR18: =AY18-F18 -> -181753.71 | CS18: =AZ18-G18 -> -47129.21 | CT18: =BA18-H18 -> 14094.91 | CU18: =BB18-I18 -> -6193 | CV18: =BC18-J18 -> -6193 | ... EE18: =CL18-AS18 -> 0 | EF18: =SUM(CO18,CU18,CX18,DA18,DD18,DI18,DO18,DT18,) -> -1610067.7 | EH18: 771271.91 | EI18: =EH18+EF18 -> -838795.83 | EJ18: 1000000 | EK18: =EF18+EJ18 -> -610067.74
A19: =A18+1 -> 14 | B19: 2037 | C19: =SUM(D19,H19) -> 6780682.1 | D19: =SUM(E19:G19) -> 6780682.1 | E19: 5592365.7 | F19: 950060.76 | G19: 238255.68 | H19: 0 | I19: =SUM(J19:K19) -> 6193 | J19: =J14 -> 6193 | K19: 0 | L19: =SUM(M19:N19) -> 35897 | M19: =M14 -> 35897 | N19: 0 | O19: =SUM(P19:Q19) -> 3006.95 | P19: =P14 -> 2998.38 | Q19: =Q14 -> 8.57 | R19: =SUM(S19:V19) -> 83622.84 | S19: 83398.66 | T19: 224.18 | U19: 0 | V19: 0 | W19: =SUM(X19:AB19) -> 272722.05 | X19: 268808.03 | Y19: 3914.0112 | Z19: 0 | AA19: 0 | AB19: 0 | AC19: =SUM(AD19:AG19) -> 796734 | AD19: 796734 | AE19: 0 | AF19: 0 | AG19: 0 | AH19: =SUM(AI19,AP19:AS19) -> 0 | AI19: =SUM(AJ19:AO19) -> 0 | AJ19: 0 | AK19: 0 | AL19: 0 | AM19: 0 | AN19: 0 | AO19: 0 | AP19: 0 | AQ19: 0 | AR19: 0 | AS19: 0 | AT19: =SUM(C19,I19,L19,O19,R19,W19,AC19,AH19) -> 7978857.9 | AU19: =CM19-AT19 -> -1610067.7 | AV19: =SUM(AW19,BA19) -> 3457528.2 | AW19: =SUM(AX19:AZ19) -> 3443433.2 | AX19: 2483999.7 | AY19: 768307.05 | AZ19: 191126.47 | BA19: 14094.91 | BB19: =SUM(BC19:BD19) -> 0 | BC19: 0 | BD19: 0 | BE19: =SUM(BF19:BG19) -> 0 | BF19: 0 | BG19: 0 | BH19: =SUM(BI19:BJ19) -> 2762.84 | BI19: 2751.33 | BJ19: 11.51 | BK19: =SUM(BL19:BO19) -> 75973.59 | BL19: 75673.22 | BM19: 300.37 | BN19: 0 | BO19: 0 | BP19: =SUM(BQ19:BU19) -> 252566.29 | BQ19: 0 | BR19: 0 | BS19: =207907.22*1.21 -> 251567.74 | BT19: =825.25*1.21 -> 998.5525 | BU19: 0 | BV19: =SUM(BW19:BZ19) -> 2221163 | BW19: 0 | BX19: 2215040.1 | BY19: 6122.9 | BZ19: 0 | CA19: =SUM(CB19,CI19:CL19) -> 358796.35 | CB19: =SUM(CC19:CH19) -> 357417.35 | CC19: =9017.14*1.21*12 -> 130928.87 | CD19: =8249.9*1.21*12 -> 119788.55 | CE19: =2871.24*1.21*12 -> 41690.405 | CF19: =640.08*1.21*12 -> 9293.9616 | CG19: =192.15*1.21*12 -> 2790.018 | CH19: =3645.01*1.21*12 -> 52925.545 | CI19: 1379 | CJ19: 0 | CK19: 0 | CL19: 0 | CM19: =SUM(AV19,BB19,BE19,BH19,BK19,BP19,BV19,CA19) -> 6368790.2 | CO19: =AV19-C19 -> -3323153.9 | CP19: =AW19-D19 -> -3337248.8 | CQ19: =AX19-E19 -> -3108365.9 | CR19: =AY19-F19 -> -181753.71 | CS19: =AZ19-G19 -> -47129.21 | CT19: =BA19-H19 -> 14094.91 | CU19: =BB19-I19 -> -6193 | CV19: =BC19-J19 -> -6193 | ... EE19: =CL19-AS19 -> 0 | EF19: =SUM(CO19,CU19,CX19,DA19,DD19,DI19,DO19,DT19,) -> -1610067.7 | EH19: 771271.91 | EI19: =EH19+EF19 -> -838795.83 | EJ19: 1000000 | EK19: =EF19+EJ19 -> -610067.74
A20: =A19+1 -> 15 | B20: 2038 | C20: =SUM(D20,H20) -> 6780682.1 | D20: =SUM(E20:G20) -> 6780682.1 | E20: 5592365.7 | F20: 950060.76 | G20: 238255.68 | H20: 0 | I20: =SUM(J20:K20) -> 6193 | J20: =J15 -> 6193 | K20: 0 | L20: =SUM(M20:N20) -> 35897 | M20: =M15 -> 35897 | N20: 0 | O20: =SUM(P20:Q20) -> 3006.95 | P20: =P15 -> 2998.38 | Q20: =Q15 -> 8.57 | R20: =SUM(S20:V20) -> 83622.84 | S20: 83398.66 | T20: 224.18 | U20: 0 | V20: 0 | W20: =SUM(X20:AB20) -> 272722.05 | X20: 268808.03 | Y20: 3914.0112 | Z20: 0 | AA20: 0 | AB20: 0 | AC20: =SUM(AD20:AG20) -> 796734 | AD20: 796734 | AE20: 0 | AF20: 0 | AG20: 0 | AH20: =SUM(AI20,AP20:AS20) -> 0 | AI20: =SUM(AJ20:AO20) -> 0 | AJ20: 0 | AK20: 0 | AL20: 0 | AM20: 0 | AN20: 0 | AO20: 0 | AP20: 0 | AQ20: 0 | AR20: 0 | AS20: 0 | AT20: =SUM(C20,I20,L20,O20,R20,W20,AC20,AH20) -> 7978857.9 | AU20: =CM20-AT20 -> -1610067.7 | AV20: =SUM(AW20,BA20) -> 3457528.2 | AW20: =SUM(AX20:AZ20) -> 3443433.2 | AX20: 2483999.7 | AY20: 768307.05 | AZ20: 191126.47 | BA20: 14094.91 | BB20: =SUM(BC20:BD20) -> 0 | BC20: 0 | BD20: 0 | BE20: =SUM(BF20:BG20) -> 0 | BF20: 0 | BG20: 0 | BH20: =SUM(BI20:BJ20) -> 2762.84 | BI20: 2751.33 | BJ20: 11.51 | BK20: =SUM(BL20:BO20) -> 75973.59 | BL20: 75673.22 | BM20: 300.37 | BN20: 0 | BO20: 0 | BP20: =SUM(BQ20:BU20) -> 252566.29 | BQ20: 0 | BR20: 0 | BS20: =207907.22*1.21 -> 251567.74 | BT20: =825.25*1.21 -> 998.5525 | BU20: 0 | BV20: =SUM(BW20:BZ20) -> 2221163 | BW20: 0 | BX20: 2215040.1 | BY20: 6122.9 | BZ20: 0 | CA20: =SUM(CB20,CI20:CL20) -> 358796.35 | CB20: =SUM(CC20:CH20) -> 357417.35 | CC20: =9017.14*1.21*12 -> 130928.87 | CD20: =8249.9*1.21*12 -> 119788.55 | CE20: =2871.24*1.21*12 -> 41690.405 | CF20: =640.08*1.21*12 -> 9293.9616 | CG20: =192.15*1.21*12 -> 2790.018 | CH20: =3645.01*1.21*12 -> 52925.545 | CI20: 1379 | CJ20: 0 | CK20: 0 | CL20: 0 | CM20: =SUM(AV20,BB20,BE20,BH20,BK20,BP20,BV20,CA20) -> 6368790.2 | CO20: =AV20-C20 -> -3323153.9 | CP20: =AW20-D20 -> -3337248.8 | CQ20: =AX20-E20 -> -3108365.9 | CR20: =AY20-F20 -> -181753.71 | CS20: =AZ20-G20 -> -47129.21 | CT20: =BA20-H20 -> 14094.91 | CU20: =BB20-I20 -> -6193 | CV20: =BC20-J20 -> -6193 | ... EE20: =CL20-AS20 -> 0 | EF20: =SUM(CO20,CU20,CX20,DA20,DD20,DI20,DO20,DT20,) -> -1610067.7 | EH20: 771271.91 | EI20: =EH20+EF20 -> -838795.83 | EJ20: 1000000 | EK20: =EF20+EJ20 -> -610067.74
A21: =A20+1 -> 16 | B21: 2039 | C21: =SUM(D21,H21) -> 6780682.1 | D21: =SUM(E21:G21) -> 6780682.1 | E21: 5592365.7 | F21: 950060.76 | G21: 238255.68 | H21: 0 | I21: =SUM(J21:K21) -> 6193 | J21: =J16 -> 6193 | K21: 0 | L21: =SUM(M21:N21) -> 35897 | M21: =M16 -> 35897 | N21: 0 | O21: =SUM(P21:Q21) -> 3006.95 | P21: =P16 -> 2998.38 | Q21: =Q16 -> 8.57 | R21: =SUM(S21:V21) -> 83622.84 | S21: 83398.66 | T21: 224.18 | U21: 0 | V21: 0 | W21: =SUM(X21:AB21) -> 272722.05 | X21: 268808.03 | Y21: 3914.0112 | Z21: 0 | AA21: 0 | AB21: 0 | AC21: =SUM(AD21:AG21) -> 796734 | AD21: 796734 | AE21: 0 | AF21: 0 | AG21: 0 | AH21: =SUM(AI21,AP21:AS21) -> 0 | AI21: =SUM(AJ21:AO21) -> 0 | AJ21: 0 | AK21: 0 | AL21: 0 | AM21: 0 | AN21: 0 | AO21: 0 | AP21: 0 | AQ21: 0 | AR21: 0 | AS21: 0 | AT21: =SUM(C21,I21,L21,O21,R21,W21,AC21,AH21) -> 7978857.9 | AU21: =CM21-AT21 -> -1610067.7 | AV21: =SUM(AW21,BA21) -> 3457528.2 | AW21: =SUM(AX21:AZ21) -> 3443433.2 | AX21: 2483999.7 | AY21: 768307.05 | AZ21: 191126.47 | BA21: 14094.91 | BB21: =SUM(BC21:BD21) -> 0 | BC21: 0 | BD21: 0 | BE21: =SUM(BF21:BG21) -> 0 | BF21: 0 | BG21: 0 | BH21: =SUM(BI21:BJ21) -> 2762.84 | BI21: 2751.33 | BJ21: 11.51 | BK21: =SUM(BL21:BO21) -> 75973.59 | BL21: 75673.22 | BM21: 300.37 | BN21: 0 | BO21: 0 | BP21: =SUM(BQ21:BU21) -> 252566.29 | BQ21: 0 | BR21: 0 | BS21: =207907.22*1.21 -> 251567.74 | BT21: =825.25*1.21 -> 998.5525 | BU21: 0 | BV21: =SUM(BW21:BZ21) -> 2221163 | BW21: 0 | BX21: 2215040.1 | BY21: 6122.9 | BZ21: 0 | CA21: =SUM(CB21,CI21:CL21) -> 358796.35 | CB21: =SUM(CC21:CH21) -> 357417.35 | CC21: =9017.14*1.21*12 -> 130928.87 | CD21: =8249.9*1.21*12 -> 119788.55 | CE21: =2871.24*1.21*12 -> 41690.405 | CF21: =640.08*1.21*12 -> 9293.9616 | CG21: =192.15*1.21*12 -> 2790.018 | CH21: =3645.01*1.21*12 -> 52925.545 | CI21: 1379 | CJ21: 0 | CK21: 0 | CL21: 0 | CM21: =SUM(AV21,BB21,BE21,BH21,BK21,BP21,BV21,CA21) -> 6368790.2 | CO21: =AV21-C21 -> -3323153.9 | CP21: =AW21-D21 -> -3337248.8 | CQ21: =AX21-E21 -> -3108365.9 | CR21: =AY21-F21 -> -181753.71 | CS21: =AZ21-G21 -> -47129.21 | CT21: =BA21-H21 -> 14094.91 | CU21: =BB21-I21 -> -6193 | CV21: =BC21-J21 -> -6193 | ... EE21: =CL21-AS21 -> 0 | EF21: =SUM(CO21,CU21,CX21,DA21,DD21,DI21,DO21,DT21,) -> -1610067.7 | EH21: 771271.91 | EI21: =EH21+EF21 -> -838795.83 | EJ21: 1000000 | EK21: =EF21+EJ21 -> -610067.74
A22: =A21+1 -> 17 | B22: 2040 | C22: =SUM(D22,H22) -> 6780682.1 | D22: =SUM(E22:G22) -> 6780682.1 | E22: 5592365.7 | F22: 950060.76 | G22: 238255.68 | H22: 0 | I22: =SUM(J22:K22) -> 6193 | J22: =J17 -> 6193 | K22: 0 | L22: =SUM(M22:N22) -> 35897 | M22: =M17 -> 35897 | N22: 0 | O22: =SUM(P22:Q22) -> 3006.95 | P22: =P17 -> 2998.38 | Q22: =Q17 -> 8.57 | R22: =SUM(S22:V22) -> 83622.84 | S22: 83398.66 | T22: 224.18 | U22: 0 | V22: 0 | W22: =SUM(X22:AB22) -> 272722.05 | X22: 268808.03 | Y22: 3914.0112 | Z22: 0 | AA22: 0 | AB22: 0 | AC22: =SUM(AD22:AG22) -> 796734 | AD22: 796734 | AE22: 0 | AF22: 0 | AG22: 0 | AH22: =SUM(AI22,AP22:AS22) -> 0 | AI22: =SUM(AJ22:AO22) -> 0 | AJ22: 0 | AK22: 0 | AL22: 0 | AM22: 0 | AN22: 0 | AO22: 0 | AP22: 0 | AQ22: 0 | AR22: 0 | AS22: 0 | AT22: =SUM(C22,I22,L22,O22,R22,W22,AC22,AH22) -> 7978857.9 | AU22: =CM22-AT22 -> -1610067.7 | AV22: =SUM(AW22,BA22) -> 3457528.2 | AW22: =SUM(AX22:AZ22) -> 3443433.2 | AX22: 2483999.7 | AY22: 768307.05 | AZ22: 191126.47 | BA22: 14094.91 | BB22: =SUM(BC22:BD22) -> 0 | BC22: 0 | BD22: 0 | BE22: =SUM(BF22:BG22) -> 0 | BF22: 0 | BG22: 0 | BH22: =SUM(BI22:BJ22) -> 2762.84 | BI22: 2751.33 | BJ22: 11.51 | BK22: =SUM(BL22:BO22) -> 75973.59 | BL22: 75673.22 | BM22: 300.37 | BN22: 0 | BO22: 0 | BP22: =SUM(BQ22:BU22) -> 252566.29 | BQ22: 0 | BR22: 0 | BS22: =207907.22*1.21 -> 251567.74 | BT22: =825.25*1.21 -> 998.5525 | BU22: 0 | BV22: =SUM(BW22:BZ22) -> 2221163 | BW22: 0 | BX22: 2215040.1 | BY22: 6122.9 | BZ22: 0 | CA22: =SUM(CB22,CI22:CL22) -> 358796.35 | CB22: =SUM(CC22:CH22) -> 357417.35 | CC22: =9017.14*1.21*12 -> 130928.87 | CD22: =8249.9*1.21*12 -> 119788.55 | CE22: =2871.24*1.21*12 -> 41690.405 | CF22: =640.08*1.21*12 -> 9293.9616 | CG22: =192.15*1.21*12 -> 2790.018 | CH22: =3645.01*1.21*12 -> 52925.545 | CI22: 1379 | CJ22: 0 | CK22: 0 | CL22: 0 | CM22: =SUM(AV22,BB22,BE22,BH22,BK22,BP22,BV22,CA22) -> 6368790.2 | CO22: =AV22-C22 -> -3323153.9 | CP22: =AW22-D22 -> -3337248.8 | CQ22: =AX22-E22 -> -3108365.9 | CR22: =AY22-F22 -> -181753.71 | CS22: =AZ22-G22 -> -47129.21 | CT22: =BA22-H22 -> 14094.91 | CU22: =BB22-I22 -> -6193 | CV22: =BC22-J22 -> -6193 | ... EE22: =CL22-AS22 -> 0 | EF22: =SUM(CO22,CU22,CX22,DA22,DD22,DI22,DO22,DT22,) -> -1610067.7 | EH22: 771271.91 | EI22: =EH22+EF22 -> -838795.83 | EJ22: 1000000 | EK22: =EF22+EJ22 -> -610067.74
