Workbook
Name ___brm2: [1]Taul4!$E$3
Name __brm2: [1]Taul4!$E$3
Name _brm2: [1]Taul4!$E$3
Name a: #N/A
Name aa: #N/A
Name aaa: #N/A
Name aaaa: #REF!
Name aaaaa: #REF!
Name Aktualizētā: IF(#REF!<>"",#REF!,"")
Name AKZ_Angebot: #REF!
Name AKZ_Auftrag: #REF!
Name Ang._Datum: #REF!
Name Annual_interest_rate: #REF!
Name antra: #REF!
Name Auftr._Datum: #REF!
Name Augsnes_biezums: #REF!
Name Bearbeiter: #REF!
Name Beg.Bal: IF(#REF!<>"",#REF!,"")
Name bruttonelio: [1]Taul4!$E$3
Name Buvn.likme: #REF!
Name C_k_platums: #REF!
Name Calculated_payment: #REF!
Name Cent_Stacija: #REF!
Name code: #REF!
Name Constr.fee: #REF!
Name Constr.rate: #REF!
Name CUE: '[2]BH1-Human resources'!#REF!
Name Cum.Interest: IF(#REF!<>"",#REF!+#REF!,"")
Name CUR: '[3]BH1-Human resources'!#REF!
Name Currencies: '[3]BH1-Human resources'!#REF!
Name cv: #REF!
Name d: #REF!
Name da: '[4]Tāme Nr.11'!#REF!
Name ddd: #N/A
Name Ending.Balance: IF(#REF!<>"",#REF!-#REF!,"")
Name Entered_payment: #REF!
Name eur: #REF!
Name Faktorgruppe1: #REF!
Name Faktorgruppe2: #REF!
Name Faktorgruppe3: #REF!
Name Faktorgruppe4: #REF!
Name Faktorgruppe5: #REF!
Name Faktorgruppe6: #REF!
Name Faktorgruppe7: #REF!
Name Faktorgruppe8: #REF!
Name Faktorgruppe9: #REF!
Name Faktorwerte: #REF!
Name Faktorwerte_der_Faktorgruppen: #REF!
Name Finanšu_gads: [5]Saraksti!$A$2:$A$6
Name First_payment_due: #REF!
Name First_payment_no: #REF!
Name Grāvja_dziļums: #REF!
Name Grāvja_platums: #REF!
Name Gruppenname1: #REF!
Name Gruppenname2: #REF!
Name Gruppenname3: #REF!
Name Gruppenname4: #REF!
Name Gruppenname5: #REF!
Name Gruppenname6: #REF!
Name Gruppenname7: #REF!

Sheet T1 noma un pārcelšanās
B2: Nr.p.k. | C2: Pārskata periods (gads) | E2: Nomas un papildu maksājumi Talejas ielā 1 ar PVN gadā | N2: Pārcelšanās izdevumi ar PVN gadā | W2: Nomas, papildu maksājumu un pārcelšanās izdevumi ar PVN gadā kopā
E3: VID | F3: AiM | G3: IAUI | H3: LRP | I3: VI | J3: EM | K3: NVA | L3: kopā: | N3: VID | O3: AiM | P3: IAUI | Q3: LRP | R3: VI | S3: EM | T3: NVA | U3: kopā: | W3: VID | X3: AiM | Y3: IAUI | Z3: LRP | AA3: VI | AB3: EM | AC3: NVA | AD3: kopā:
B4: 1 | C4: 2024 | E4: 6006804 | F4: 39288 | G4: 3243 | H4: 307000 | I4: 83188 | J4: 414373 | K4: 170695 | L4: =SUM(E4:K4) -> 7024591 | N4: 0 | O4: 0 | P4: 0 | Q4: 0 | R4: ='Talejas 1_anotācijai'!AX5 -> 0 | S4: ='Talejas 1_anotācijai'!BB5 -> 0 | T4: 0 | U4: =SUM(N4:T4) -> 0 | W4: =E4+N4 -> 6006804 | X4: =F4+O4 -> 39288 | Y4: =G4+P4 -> 3243 | Z4: =H4+Q4 -> 307000 | AA4: =I4+R4 -> 83188 | AB4: =J4+S4 -> 414373 | AC4: =K4+T4 -> 170695 | AD4: =SUM(W4:AC4) -> 7024591
B5: =B4+1 -> 2 | C5: 2025 | E5: 4493208 | F5: 117864 | G5: 3648 | H5: 753612 | I5: 360096 | J5: 1254120 | K5: 453672 | L5: =SUM(E5:K5) -> 7436220 | N5: 0 | O5: 0 | P5: 0 | Q5: 0 | R5: ='Talejas 1_anotācijai'!AX6 -> 35000 | S5: ='Talejas 1_anotācijai'!BB6 -> 0 | T5: 0 | U5: =SUM(N5:T5) -> 35000 | W5: =E5+N5 -> 4493208 | X5: =F5+O5 -> 117864 | Y5: =G5+P5 -> 3648 | Z5: =H5+Q5 -> 753612 | AA5: =I5+R5 -> 395096 | AB5: =J5+S5 -> 1254120 | AC5: =K5+T5 -> 453672 | AD5: =SUM(W5:AC5) -> 7471220
B6: =B5+1 -> 3 | C6: 2026 | E6: 4228824 | F6: 117864 | G6: 3348 | H6: 717083 | I6: 568140 | J6: 1655736 | K6: 442884 | L6: =SUM(E6:K6) -> 7733879 | N6: 0 | O6: 0 | P6: 0 | Q6: 0 | R6: ='Talejas 1_anotācijai'!AX7 -> 0 | S6: ='Talejas 1_anotācijai'!BB7 -> 240000 | T6: 0 | U6: =SUM(N6:T6) -> 240000 | W6: =E6+N6 -> 4228824 | X6: =F6+O6 -> 117864 | Y6: =G6+P6 -> 3348 | Z6: =H6+Q6 -> 717083 | AA6: =I6+R6 -> 568140 | AB6: =J6+S6 -> 1895736 | AC6: =K6+T6 -> 442884 | AD6: =SUM(W6:AC6) -> 7973879
B7: =B6+1 -> 4 | C7: 2027 | E7: 3457548 | F7: 117864 | G7: 2772 | H7: 75984 | I7: 517932 | J7: 2826348 | K7: 381084 | L7: =SUM(E7:K7) -> 7379532 | N7: 0 | O7: 0 | P7: 0 | Q7: 0 | R7: ='Talejas 1_anotācijai'!AX8 -> 0 | S7: ='Talejas 1_anotācijai'!BB8 -> 0 | T7: 0 | U7: =SUM(N7:T7) -> 0 | W7: =E7+N7 -> 3457548 | X7: =F7+O7 -> 117864 | Y7: =G7+P7 -> 2772 | Z7: =H7+Q7 -> 75984 | AA7: =I7+R7 -> 517932 | AB7: =J7+S7 -> 2826348 | AC7: =K7+T7 -> 381084 | AD7: =SUM(W7:AC7) -> 7379532
B8: =B7+1 -> 5 | C8: 2028 | E8: 3457548 | F8: 117864 | G8: 2772 | H8: 75984 | I8: 517932 | J8: 2826348 | K8: 364884 | L8: =SUM(E8:K8) -> 7363332 | N8: 0 | O8: 0 | P8: 0 | Q8: 0 | R8: ='Talejas 1_anotācijai'!AX9 -> 0 | S8: ='Talejas 1_anotācijai'!BB9 -> 0 | T8: 0 | U8: =SUM(N8:T8) -> 0 | W8: =E8+N8 -> 3457548 | X8: =F8+O8 -> 117864 | Y8: =G8+P8 -> 2772 | Z8: =H8+Q8 -> 75984 | AA8: =I8+R8 -> 517932 | AB8: =J8+S8 -> 2826348 | AC8: =K8+T8 -> 364884 | AD8: =SUM(W8:AC8) -> 7363332
B9: =B8+1 -> 6 | C9: 2029 | E9: 3457548 | F9: 78576 | G9: 2772 | H9: 75984 | I9: 517932 | J9: 2826348 | K9: 364884 | L9: =SUM(E9:K9) -> 7324044 | N9: 0 | O9: 0 | P9: 0 | Q9: 0 | R9: ='Talejas 1_anotācijai'!AX10 -> 0 | S9: ='Talejas 1_anotācijai'!BB10 -> 0 | T9: 0 | U9: =SUM(N9:T9) -> 0 | W9: =E9+N9 -> 3457548 | X9: =F9+O9 -> 78576 | Y9: =G9+P9 -> 2772 | Z9: =H9+Q9 -> 75984 | AA9: =I9+R9 -> 517932 | AB9: =J9+S9 -> 2826348 | AC9: =K9+T9 -> 364884 | AD9: =SUM(W9:AC9) -> 7324044
B10: =B9+1 -> 7 | C10: 2030 | E10: 3457548 | F10: 0 | G10: 2772 | H10: 75984 | I10: 484536 | J10: 2826348 | K10: 364884 | L10: =SUM(E10:K10) -> 7212072 | N10: 0 | O10: 0 | P10: 0 | Q10: 0 | R10: ='Talejas 1_anotācijai'!AX11 -> 0 | S10: ='Talejas 1_anotācijai'!BB11 -> 0 | T10: 0 | U10: =SUM(N10:T10) -> 0 | W10: =E10+N10 -> 3457548 | X10: =F10+O10 -> 0 | Y10: =G10+P10 -> 2772 | Z10: =H10+Q10 -> 75984 | AA10: =I10+R10 -> 484536 | AB10: =J10+S10 -> 2826348 | AC10: =K10+T10 -> 364884 | AD10: =SUM(W10:AC10) -> 7212072
B11: =B10+1 -> 8 | C11: 2031 | E11: 3457548 | F11: 0 | G11: 2772 | H11: 75984 | I11: 417744 | J11: 2826348 | K11: 364884 | L11: =SUM(E11:K11) -> 7145280 | N11: 0 | O11: 0 | P11: 0 | Q11: 0 | R11: ='Talejas 1_anotācijai'!AX12 -> 0 | S11: ='Talejas 1_anotācijai'!BB12 -> 0 | T11: 0 | U11: =SUM(N11:T11) -> 0 | W11: =E11+N11 -> 3457548 | X11: =F11+O11 -> 0 | Y11: =G11+P11 -> 2772 | Z11: =H11+Q11 -> 75984 | AA11: =I11+R11 -> 417744 | AB11: =J11+S11 -> 2826348 | AC11: =K11+T11 -> 364884 | AD11: =SUM(W11:AC11) -> 7145280
B12: =B11+1 -> 9 | C12: 2032 | E12: 3457548 | F12: 0 | G12: 2772 | H12: 75984 | I12: 417744 | J12: 2221164 | K12: 364884 | L12: =SUM(E12:K12) -> 6540096 | N12: 0 | O12: 0 | P12: 0 | Q12: 0 | R12: ='Talejas 1_anotācijai'!AX13 -> 0 | S12: ='Talejas 1_anotācijai'!BB13 -> 0 | T12: 0 | U12: =SUM(N12:T12) -> 0 | W12: =E12+N12 -> 3457548 | X12: =F12+O12 -> 0 | Y12: =G12+P12 -> 2772 | Z12: =H12+Q12 -> 75984 | AA12: =I12+R12 -> 417744 | AB12: =J12+S12 -> 2221164 | AC12: =K12+T12 -> 364884 | AD12: =SUM(W12:AC12) -> 6540096
B13: =B12+1 -> 10 | C13: 2033 | E13: 3457548 | F13: 0 | G13: 2772 | H13: 75984 | I13: 417744 | J13: 2221164 | K13: 364884 | L13: =SUM(E13:K13) -> 6540096 | N13: 0 | O13: 0 | P13: 0 | Q13: 0 | R13: ='Talejas 1_anotācijai'!AX14 -> 0 | S13: ='Talejas 1_anotācijai'!BB14 -> 0 | T13: 0 | U13: =SUM(N13:T13) -> 0 | W13: =E13+N13 -> 3457548 | X13: =F13+O13 -> 0 | Y13: =G13+P13 -> 2772 | Z13: =H13+Q13 -> 75984 | AA13: =I13+R13 -> 417744 | AB13: =J13+S13 -> 2221164 | AC13: =K13+T13 -> 364884 | AD13: =SUM(W13:AC13) -> 6540096
B14: =B13+1 -> 11 | C14: 2034 | E14: 3457548 | F14: 0 | G14: 2772 | H14: 75984 | I14: 417744 | J14: 2221164 | K14: 364884 | L14: =SUM(E14:K14) -> 6540096 | N14: 0 | O14: 0 | P14: 0 | Q14: 0 | R14: ='Talejas 1_anotācijai'!AX15 -> 0 | S14: ='Talejas 1_anotācijai'!BB15 -> 0 | T14: 0 | U14: =SUM(N14:T14) -> 0 | W14: =E14+N14 -> 3457548 | X14: =F14+O14 -> 0 | Y14: =G14+P14 -> 2772 | Z14: =H14+Q14 -> 75984 | AA14: =I14+R14 -> 417744 | AB14: =J14+S14 -> 2221164 | AC14: =K14+T14 -> 364884 | AD14: =SUM(W14:AC14) -> 6540096
B15: =B14+1 -> 12 | C15: 2035 | E15: 3457548 | F15: 0 | G15: 2772 | H15: 75984 | I15: 362688 | J15: 2221164 | K15: 364884 | L15: =SUM(E15:K15) -> 6485040 | N15: 0 | O15: 0 | P15: 0 | Q15: 0 | R15: ='Talejas 1_anotācijai'!AX16 -> 0 | S15: ='Talejas 1_anotācijai'!BB16 -> 0 | T15: 0 | U15: =SUM(N15:T15) -> 0 | W15: =E15+N15 -> 3457548 | X15: =F15+O15 -> 0 | Y15: =G15+P15 -> 2772 | Z15: =H15+Q15 -> 75984 | AA15: =I15+R15 -> 362688 | AB15: =J15+S15 -> 2221164 | AC15: =K15+T15 -> 364884 | AD15: =SUM(W15:AC15) -> 6485040
B16: =B15+1 -> 13 | C16: 2036 | E16: 3457548 | F16: 0 | G16: 2772 | H16: 75984 | I16: 252576 | J16: 2221164 | K16: 364884 | L16: =SUM(E16:K16) -> 6374928 | N16: 0 | O16: 0 | P16: 0 | Q16: 0 | R16: ='Talejas 1_anotācijai'!AX17 -> 0 | S16: ='Talejas 1_anotācijai'!BB17 -> 0 | T16: 0 | U16: =SUM(N16:T16) -> 0 | W16: =E16+N16 -> 3457548 | X16: =F16+O16 -> 0 | Y16: =G16+P16 -> 2772 | Z16: =H16+Q16 -> 75984 | AA16: =I16+R16 -> 252576 | AB16: =J16+S16 -> 2221164 | AC16: =K16+T16 -> 364884 | AD16: =SUM(W16:AC16) -> 6374928
... B24: =B23+1 -> 21 | C24: 2044 | E24: 1152516 | F24: 0 | G24: 924 | H24: 25328 | I24: 84192 | J24: 740388 | K24: 121628 | L24: =SUM(E24:K24) -> 2124976 | N24: 0 | O24: 0 | P24: 0 | Q24: 0 | R24: ='Talejas 1_anotācijai'!AX25 -> 0 | S24: ='Talejas 1_anotācijai'!BB25 -> 0 | T24: 0 | U24: =SUM(N24:T24) -> 0 | W24: =E24+N24 -> 1152516 | X24: =F24+O24 -> 0 | Y24: =G24+P24 -> 924 | Z24: =H24+Q24 -> 25328 | AA24: =I24+R24 -> 84192 | AB24: =J24+S24 -> 740388 | AC24: =K24+T24 -> 121628 | AD24: =SUM(W24:AC24) -> 2124976
B25: PAVISAM KOPĀ: | E25: =SUM(E4:E24) -> 74659668 | F25: =SUM(F4:F24) -> 589320 | G25: =SUM(G4:G24) -> 58287 | H25: =SUM(H4:H24) -> 3094751 | I25: =SUM(I4:I24) -> 7188220 | J25: =SUM(J4:J24) -> 44850325 | K25: =SUM(K4:K24) -> 7408107 | L25: =SUM(L4:L24) -> 137848678 | N25: =SUM(N4:N24) -> 0 | O25: =SUM(O4:O24) -> 0 | P25: =SUM(P4:P24) -> 0 | Q25: =SUM(Q4:Q24) -> 0 | R25: =SUM(R4:R24) -> 35000 | S25: =SUM(S4:S24) -> 240000 | T25: =SUM(T4:T24) -> 0 | U25: =SUM(U4:U24) -> 275000 | W25: =SUM(W4:W24) -> 74659668 | X25: =SUM(X4:X24) -> 589320 | Y25: =SUM(Y4:Y24) -> 58287 | Z25: =SUM(Z4:Z24) -> 3094751 | AA25: =SUM(AA4:AA24) -> 7223220 | AB25: =SUM(AB4:AB24) -> 45090325 | AC25: =SUM(AC4:AC24) -> 7408107 | AD25: =SUM(AD4:AD24) -> 138123678

Sheet Talejas 1_TAP
A1: Jāliek AR PVN
A2: Nr.p.k. | B2: Pārskata periods (gads) | C2: Apstiprinātais finansējums | M2: Izmaiņas +/- | N2: Precizētais finansējums | Y2: Izmaiņas
C3: Valsts ieņēmumu dienests | D3: Aizsardzības ministrija | E3: Valsts darba inspekcija | F3: Valsts sociālās apdrošināšanas aģentūra | G3: Izložu un azartspēļu uzraudzības inspekcija | H3: Latvijas republikas prokuratūra | I3: Veselības inspekcija | J3: Ekonomikas ministrija un iestādes | K3: Nodrošinājuma valsts aģentūra | L3: kopā: | N3: Valsts ieņēmumu dienests | O3: Aizsardzības ministrija | P3: Valsts darba inspekcija | Q3: Valsts sociālās apdrošināšanas aģentūra | R3: Izložu un azartspēļu uzraudzības inspekcija | S3: Latvijas republikas prokuratūra | T3: Veselības inspekcija | U3: Ekonomikas ministrija un iestādes | V3: Nodrošinājuma valsts aģentūra | W3: kopā: | Y3: Valsts ieņēmumu dienests | Z3: Aizsardzības ministrija | AA3: Valsts darba inspekcija | AB3: Valsts sociālās apdrošināšanas aģentūra | AC3: Izložu un azartspēļu uzraudzības inspekcija | AD3: Latvijas republikas prokuratūra | AE3: Veselības inspekcija | AF3: Ekonomikas ministrija un iestādes | AG3: Nodrošinājuma valsts aģentūra | AH3: kopā:
A4: 1. | B4: 2.
A5: 1 | B5: 2024 | C5: 6780683 | D5: 39288 | E5: 6193 | F5: 35897 | G5: 2999 | H5: 408657 | I5: 272722 | J5: 487652 | K5: 13878235 | L5: 21912326 | M5: -255579 | N5: 6006804 | O5: 39288 | P5: 0 | Q5: 0 | R5: 3243 | S5: 471242 | T5: 355910 | U5: 902025 | V5: 13878235 | W5: 21656747 | Y5: -773879 | Z5: 0 | AA5: -6193 | AB5: -35897 | AC5: 244 | AD5: 62585 | AE5: 83188 | AF5: 414373 | AG5: 0 | AH5: -255579
A6: 2 | B6: 2025 | C6: 6367743 | D6: 117864 | E6: 6193 | F6: 35897 | G6: 2999 | H6: 1365144 | I6: 272722 | J6: 487652 | K6: 14033528 | L6: 22689742 | M6: -39904 | N6: 4493208 | O6: 117864 | P6: 0 | Q6: 0 | R6: 3648 | S6: 1410574 | T6: 576911 | U6: 1741772 | V6: 14305861 | W6: 22649838 | Y6: -1874535 | Z6: 0 | AA6: -6193 | AB6: -35897 | AC6: 649 | AD6: 45430 | AE6: 304189 | AF6: 1254120 | AG6: 272333 | AH6: -39904
A7: 3 | B7: 2026 | C7: 6367743 | D7: 117864 | E7: 6193 | F7: 35897 | G7: 2999 | H7: 1152591 | I7: 272722 | J7: 487652 | K7: 13080010 | L7: 21523671 | M7: -181513 | N7: 4228824 | O7: 117864 | P7: 0 | Q7: 0 | R7: 3348 | S7: 1264551 | T7: 568140 | U7: 1895736 | V7: 13263695 | W7: 21342158 | Y7: -2138919 | Z7: 0 | AA7: -6193 | AB7: -35897 | AC7: 349 | AD7: 111960 | AE7: 295418 | AF7: 1408084 | AG7: 183685 | AH7: -181513
A8: 4 | B8: 2027 | C8: 6780683 | D8: 117864 | E8: 6193 | F8: 35897 | G8: 2999 | H8: 89825 | I8: 272722 | J8: 487652 | K8: 13080010 | L8: 20873845 | M8: -673502 | N8: 3457548 | O8: 117864 | P8: 0 | Q8: 0 | R8: 2772 | S8: 75984 | T8: 517932 | U8: 2826348 | V8: 13201895 | W8: 20200343 | Y8: -3323135 | Z8: 0 | AA8: -6193 | AB8: -35897 | AC8: -227 | AD8: -13841 | AE8: 245210 | AF8: 2338696 | AG8: 121885 | AH8: -673502
A9: 5 | B9: 2028 | C9: 6780683 | D9: 117864 | E9: 6193 | F9: 35897 | G9: 2999 | H9: 89825 | I9: 272722 | J9: 487652 | K9: 0 | L9: 7793835 | M9: -430503 | N9: 3457548 | O9: 117864 | P9: 0 | Q9: 0 | R9: 2772 | S9: 75984 | T9: 517932 | U9: 2826348 | V9: 364884 | W9: 7363332 | Y9: -3323135 | Z9: 0 | AA9: -6193 | AB9: -35897 | AC9: -227 | AD9: -13841 | AE9: 245210 | AF9: 2338696 | AG9: 364884 | AH9: -430503
A10: 6 | B10: 2029 | C10: 6780683 | D10: 78576 | E10: 6193 | F10: 35897 | G10: 2999 | H10: 89825 | I10: 272722 | J10: 487652 | K10: 0 | L10: 7754547 | M10: -430503 | N10: 3457548 | O10: 78576 | P10: 0 | Q10: 0 | R10: 2772 | S10: 75984 | T10: 517932 | U10: 2826348 | V10: 364884 | W10: 7324044 | Y10: -3323135 | Z10: 0 | AA10: -6193 | AB10: -35897 | AC10: -227 | AD10: -13841 | AE10: 245210 | AF10: 2338696 | AG10: 364884 | AH10: -430503
A11: 7 | B11: 2030 | C11: 6780683 | D11: 0 | E11: 6193 | F11: 35897 | G11: 2999 | H11: 89825 | I11: 272722 | J11: 487652 | K11: 0 | L11: 7675971 | M11: -463899 | N11: 3457548 | O11: 0 | P11: 0 | Q11: 0 | R11: 2772 | S11: 75984 | T11: 484536 | U11: 2826348 | V11: 364884 | W11: 7212072 | Y11: -3323135 | Z11: 0 | AA11: -6193 | AB11: -35897 | AC11: -227 | AD11: -13841 | AE11: 211814 | AF11: 2338696 | AG11: 364884 | AH11: -463899
A12: 8 | B12: 2031 | C12: 6780683 | D12: 0 | E12: 6193 | F12: 35897 | G12: 2999 | H12: 89825 | I12: 272722 | J12: 487652 | K12: 0 | L12: 7675971 | M12: -530691 | N12: 3457548 | O12: 0 | P12: 0 | Q12: 0 | R12: 2772 | S12: 75984 | T12: 417744 | U12: 2826348 | V12: 364884 | W12: 7145280 | Y12: -3323135 | Z12: 0 | AA12: -6193 | AB12: -35897 | AC12: -227 | AD12: -13841 | AE12: 145022 | AF12: 2338696 | AG12: 364884 | AH12: -530691
A13: 9 | B13: 2032 | C13: 6780683 | D13: 0 | E13: 6193 | F13: 35897 | G13: 2999 | H13: 89825 | I13: 272722 | J13: 487652 | K13: 0 | L13: 7675971 | M13: -1135875 | N13: 3457548 | O13: 0 | P13: 0 | Q13: 0 | R13: 2772 | S13: 75984 | T13: 417744 | U13: 2221164 | V13: 364884 | W13: 6540096 | Y13: -3323135 | Z13: 0 | AA13: -6193 | AB13: -35897 | AC13: -227 | AD13: -13841 | AE13: 145022 | AF13: 1733512 | AG13: 364884 | AH13: -1135875
A14: 10 | B14: 2033 | C14: 6780683 | D14: 0 | E14: 6193 | F14: 35897 | G14: 2999 | H14: 89825 | I14: 272722 | J14: 487652 | K14: 0 | L14: 7675971 | M14: -1135875 | N14: 3457548 | O14: 0 | P14: 0 | Q14: 0 | R14: 2772 | S14: 75984 | T14: 417744 | U14: 2221164 | V14: 364884 | W14: 6540096 | Y14: -3323135 | Z14: 0 | AA14: -6193 | AB14: -35897 | AC14: -227 | AD14: -13841 | AE14: 145022 | AF14: 1733512 | AG14: 364884 | AH14: -1135875
A15: 11 | B15: 2034 | C15: 6780683 | D15: 0 | E15: 6193 | F15: 35897 | G15: 2999 | H15: 89825 | I15: 272722 | J15: 487652 | K15: 0 | L15: 7675971 | M15: -1135875 | N15: 3457548 | O15: 0 | P15: 0 | Q15: 0 | R15: 2772 | S15: 75984 | T15: 417744 | U15: 2221164 | V15: 364884 | W15: 6540096 | Y15: -3323135 | Z15: 0 | AA15: -6193 | AB15: -35897 | AC15: -227 | AD15: -13841 | AE15: 145022 | AF15: 1733512 | AG15: 364884 | AH15: -1135875
A16: 12 | B16: 2035 | C16: 6780683 | D16: 0 | E16: 6193 | F16: 35897 | G16: 2999 | H16: 89825 | I16: 272722 | J16: 487652 | K16: 0 | L16: 7675971 | M16: -1190931 | N16: 3457548 | O16: 0 | P16: 0 | Q16: 0 | R16: 2772 | S16: 75984 | T16: 362688 | U16: 2221164 | V16: 364884 | W16: 6485040 | Y16: -3323135 | Z16: 0 | AA16: -6193 | AB16: -35897 | AC16: -227 | AD16: -13841 | AE16: 89966 | AF16: 1733512 | AG16: 364884 | AH16: -1190931
... A24: 20 | B24: 2043 | C24: 6780683 | D24: 0 | E24: 6193 | F24: 35897 | G24: 2999 | H24: 89825 | I24: 272722 | J24: 487652 | K24: 0 | L24: 7675971 | M24: -1301043 | N24: 3457548 | O24: 0 | P24: 0 | Q24: 0 | R24: 2772 | S24: 75984 | T24: 252576 | U24: 2221164 | V24: 364884 | W24: 6374928 | Y24: -3323135 | Z24: 0 | AA24: -6193 | AB24: -35897 | AC24: -227 | AD24: -13841 | AE24: -20146 | AF24: 1733512 | AG24: 364884 | AH24: -1301043
A25: 21 | B25: 2044 (4 mēneši) | C25: 1676336 | D25: 0 | E25: 1549 | F25: 8975 | G25: 750 | H25: 23870 | I25: 90907 | J25: 487652 | K25: 0 | L25: 2290039 | M25: -165063 | N25: 1152516 | O25: 0 | P25: 0 | Q25: 0 | R25: 924 | S25: 25328 | T25: 84192 | U25: 740388 | V25: 121628 | W25: 2124976 | Y25: -523820 | Z25: 0 | AA25: -1549 | AB25: -8975 | AC25: 174 | AD25: 1458 | AE25: -6715 | AF25: 252736 | AG25: 121628 | AH25: -165063
A26: PAVISAM KOPĀ: | C26: 136464116 | D26: 589320 | E26: 125409 | F26: 726915 | G26: 60730 | H26: 4477287 | I26: 5545347 | J26: 10240692 | K26: 54071783 | L26: 212301599 | M26: -18178057 | N26: 74659668 | O26: 589320 | P26: 0 | Q26: 0 | R26: 58287 | S26: 4463423 | T26: 7677757 | U26: 46065629 | V26: 60609458 | W26: 194123542 | Y26: -61804448 | Z26: 0 | AA26: -125409 | AB26: -726915 | AC26: -2443 | AD26: -13864 | AE26: 2132410 | AF26: 35824937 | AG26: 6537675 | AH26: -18178057
C28: * apstiprinātā finansējuma daļā VID, IAUI, LRP finansējums 2044.gadā ir norādīts par 3 mēnešiem.

Sheet Talejas 1_anotācijai
A1: Jāliek AR PVN
A2: Nr.p.k. | B2: Pārskata periods (gads) | C2: Apstiprinātais finansējums | AE2: Izmaiņas +/- | AF2: Precizētais finansējums | BI2: Izmaiņas
C3: Valsts ieņēmumu dienests | D3: Aizsardzības ministrija | E3: Valsts darba inspekcija | F3: Valsts sociālās apdrošināšanas aģentūra | G3: Izložu un azartspēļu uzraudzības inspekcija | H3: IAUI nomas maksa Talejas 1 apstiprinātā pēc MK rīkojuma | I3: IAUI nomas maksa Talejas 1 pēc 26.09.2023. PPP starpība | J3: Latvijas republikas prokuratūra | K3: LRP esošo telpu nomas un papildu maksājumi Talejas 1 | L3: LRP esošo telpu nomas maksa Talejas 1 apstiprinātā pēc MK rīkojuma | M3: LRP esošo telpu nomas maksa Talejas 1 pēc 26.09.2023. PPP starpība | N3: LRP jauno (pagaidu) telpu nomas un papildu maksājumi kopā | O3: LRP jauno (pagaidu) telpu nomas un papildu maksājumi Talejas 1 | P3: LRP jauno (pagaidu) telpu nomas un papildu maksājumi Ierēdņu ielā 3 | Q3: LRP jauno (pagaidu) telpu komunālie maksājumi Talejas 1 un Ierēdņu 3 | R3: Veselības inspekcija | S3: VI nomas un papildu maksājumi Klijānu 7 | T3: VI nomas un papildu maksājumi Talejas 1 | U3: VI pārcelšanās izdevumi | V3: Ekonomikas ministrija un iestādes | W3: EM un iestāžu esošo telpu izmaksas | X3: EM un iestāžu nomas un papildu maksājumi Talejas 1 | Y3: EM un iestāžu pārcelšanās izmaksas | Z3: Nodrošinājuma valsts aģentūra | AA3: NVA (VUGD un VRS) nomas un papildu maksājumi Talejas 1 | AB3: NVA (VUGD) telpu pielāgošana Talejas 1 | AC3: NVA nomas un papildu maksājumi citām ilgtermiņa saistībām un apsaimniekošanai | AD3: kopā: | AF3: Valsts ieņēmumu dienests | AG3: Aizsardzības ministrija | AH3: Valsts darba inspekcija | AI3: Valsts sociālās apdrošināšanas aģentūra | AJ3: Izložu un azartspēļu uzraudzības inspekcija | AK3: IAUI nomas maksa Talejas 1 apstiprinātā pēc MK rīkojuma | AL3: IAUI nomas maksa Talejas 1 pēc 26.09.2023. PPP starpība | AM3: Latvijas republikas prokuratūra | AN3: LRP esošo telpu nomas un papildu maksājumi Talejas 1 | AO3: LRP esošo telpu nomas maksa Talejas 1 apstiprinātā pēc MK rīkojuma | AP3: LRP esošo telpu nomas maksa Talejas 1 pēc 26.09.2023. PPP starpība | AQ3: LRP jauno (pagaidu) telpu nomas un papildu maksājumi kopā | AR3: LRP jauno (pagaidu) telpu nomas un papildu maksājumi Talejas 1 | AS3: LRP jauno (pagaidu) telpu nomas un papildu maksājumi Ierēdņu ielā 3 | AT3: LRP jauno (pagaidu) telpu komunālie maksājumi Talejas 1 un Ierēdņu 3 | AU3: Veselības inspekcija | AV3: VI nomas un papildu maksājumi Klijānu 7 | AW3: VI nomas un papildu maksājumi Talejas 1 | AX3: VI pārcelšanās izdevumi | AY3: Ekonomikas ministrija un iestādes | AZ3: EM un iestāžu esošo telpu izmaksas | BA3: EM un iestāžu nomas un papildu maksājumi Talejas 1 | BB3: EM un iestāžu pārcelšanās izmaksas | BC3: Nodrošinājuma valsts aģentūra | BD3: NVA (VUGD un VRS) nomas un papildu maksājumi Talejas 1 | BE3: NVA (VUGD) telpu pielāgošana Talejas 1 | BF3: NVA nomas un papildu maksājumi citām ilgtermiņa saistībām un apsaimniekošanai | BG3: kopā: | BI3: Valsts ieņēmumu dienests | BJ3: Aizsardzības ministrija | BK3: Valsts darba inspekcija | BL3: Valsts sociālās apdrošināšanas aģentūra | BM3: Izložu un azartspēļu uzraudzības inspekcija | BN3: IAUI nomas maksa Talejas 1 apstiprinātā pēc MK rīkojuma | BO3: IAUI nomas maksa Talejas 1 pēc 26.09.2023. PPP starpība | BP3: Latvijas republikas prokuratūra | BQ3: LRP esošo telpu nomas un papildu maksājumi Talejas 1 | BR3: LRP esošo telpu nomas maksa Talejas 1 apstiprinātā pēc MK rīkojuma | BS3: LRP esošo telpu nomas maksa Talejas 1 pēc 26.09.2023. PPP starpība | BT3: LRP jauno (pagaidu) telpu nomas un papildu maksājumi Talejas 1 | BU3: LRP jauno (pagaidu) telpu nomas un papildu maksājumi Talejas 1 | BV3: LRP jauno (pagaidu) telpu nomas un papildu maksājumi Ierēdņu ielā 3 | BW3: LRP jauno (pagaidu) telpu komunālie maksājumi Talejas 1 un Ierēdņu 3 | BX3: Veselības inspekcija | BY3: VI nomas un papildu maksājumi Klijānu 7 | BZ3: VI nomas un papildu maksājumi Talejas 1 | CA3: VI pārcelšanās izdevumi | CB3: Ekonomikas ministrija un iestādes | CC3: EM un iestāžu esošo telpu izmaksas | CD3: EM un iestāžu nomas un papildu maksājumi Talejas 1 | CE3: EM un iestāžu pārcelšanās izmaksas | CF3: Nodrošinājuma valsts aģentūra | CG3: NVA (VUGD un VRS) nomas un papildu maksājumi Talejas 1 | CH3: NVA (VUGD) telpu pielāgošana Talejas 1 | CI3: NVA nomas un papildu maksājumi citām ilgtermiņa saistībām un apsaimniekošanai | CJ3: kopā:
A4: 1. | B4: 2. | G4: G=H+I | J4: J=K+N | K4: K=L+M | N4: N=O+P+Q | R4: R=S+T+U | V4: V=W+X+Y | Z4: Z=AA+AB+AC | AD4: AD=C+D+E+F+G+J+R+V+Z | AE4: AE=BG-AD | AJ4: AJ=AK+AL | AM4: AM=AN+AQ | AN4: AN=AO+AP | AQ4: AQ=AR+AS+AT | AU4: AU=AV+AW+AX | AY4: AY=AZ+BA+BB | BC4: BC=BD+BE+BF | BG4: BG=AF+AG+AH+AI+JA+AM+AU+AY+BC
A5: 1 | B5: 2024 | C5: 6780683 | D5: 39288 | E5: 6193 | F5: 35897 | G5: =H5+I5 -> 2999 | H5: 2701 | I5: 298 | J5: =K5+N5 -> 408657 | K5: =L5+M5 -> 89825 | L5: 70510 | M5: 19315 | N5: =O5+P5+Q5 -> 318832 | O5: 154590 | P5: 97824 | Q5: 66418 | R5: =S5+T5+U5 -> 272722 | S5: 272722 | T5: 0 | U5: 0 | V5: =W5+X5+Y5 -> 487652 | W5: 487652 | X5: 0 | Y5: 0 | Z5: =AA5+AB5+AC5 -> 13878235 | AA5: 0 | AB5: 396375 | AC5: 13481860 | AD5: =C5+D5+E5+F5+G5+J5+R5+V5+Z5 -> 21912326 | AE5: =BG5-AD5 -> -255579 | AF5: 6006804 | AG5: 39288 | AH5: 0 | AI5: 0 | AJ5: =AK5+AL5 -> 3243 | AK5: 3243 | AL5: 0 | AM5: =AN5+AQ5 -> 471242 | AN5: =AO5+AP5 -> 88816 | AO5: 88816 | AP5: 0 | AQ5: =AR5+AS5+AT5 -> 382426 | AR5: 218184 | AS5: 97824 | AT5: 66418 | AU5: =AV5+AW5+AX5 -> 355910 | AV5: 272722 | AW5: 83188 | AX5: 0 | AY5: =AZ5+BA5+BB5 -> 902025 | AZ5: 487652 | BA5: 414373 | BB5: 0 | BC5: =BD5+BE5+BF5 -> 13878235 | BD5: 170695 | BE5: 396375 | BF5: 13311165 | BG5: =AF5+AG5+AH5+AI5+AJ5+AM5+AU5+AY5+BC5 -> 21656747 | BI5: =AF5-C5 -> -773879 | BJ5: =AG5-D5 -> 0 | BK5: =AH5-E5 -> -6193 | BL5: =AI5-F5 -> -35897 | BM5: =AJ5-G5 -> 244 | BN5: =AK5-H5 -> 542 | BO5: =AL5-I5 -> -298 | BP5: =AM5-J5 -> 62585 | ... CJ5: =BG5-AD5 -> -255579
A6: 2 | B6: 2025 | C6: 6367743 | D6: 117864 | E6: 6193 | F6: 35897 | G6: =H6+I6 -> 2999 | H6: 2701 | I6: 298 | J6: =K6+N6 -> 1365144 | K6: =L6+M6 -> 89825 | L6: 70510 | M6: 19315 | N6: =O6+P6+Q6 -> 1275319 | O6: 618357 | P6: 391293 | Q6: =148873+116796 -> 265669 | R6: =S6+T6+U6 -> 272722 | S6: 272722 | T6: 0 | U6: 0 | V6: =W6+X6+Y6 -> 487652 | W6: 487652 | X6: 0 | Y6: 0 | Z6: =AA6+AB6+AC6 -> 14033528 | AA6: 0 | AB6: 574021 | AC6: 13459507 | AD6: =C6+D6+E6+F6+G6+J6+R6+V6+Z6 -> 22689742 | AE6: =BG6-AD6 -> -39904 | AF6: 4493208 | AG6: 117864 | AH6: 0 | AI6: 0 | AJ6: =AK6+AL6 -> 3648 | AK6: 3648 | AL6: 0 | AM6: =AN6+AQ6 -> 1410574 | AN6: =AO6+AP6 -> 95004 | AO6: 95004 | AP6: 0 | AQ6: =AR6+AS6+AT6 -> 1315570 | AR6: 658608 | AS6: 391293 | AT6: =148873+116796 -> 265669 | AU6: =AV6+AW6+AX6 -> 576911 | AV6: 181815 | AW6: 360096 | AX6: 35000 | AY6: =AZ6+BA6+BB6 -> 1741772 | AZ6: 487652 | BA6: 1254120 | BB6: 0 | BC6: =BD6+BE6+BF6 -> 14305861 | BD6: 453672 | BE6: 574021 | BF6: 13278168 | BG6: =AF6+AG6+AH6+AI6+AJ6+AM6+AU6+AY6+BC6 -> 22649838 | BI6: =AF6-C6 -> -1874535 | BJ6: =AG6-D6 -> 0 | BK6: =AH6-E6 -> -6193 | BL6: =AI6-F6 -> -35897 | BM6: =AJ6-G6 -> 649 | BN6: =AK6-H6 -> 947 | BO6: =AL6-I6 -> -298 | BP6: =AM6-J6 -> 45430 | ... CJ6: =BG6-AD6 -> -39904
A7: 3 | B7: 2026 | C7: 6367743 | D7: 117864 | E7: 6193 | F7: 35897 | G7: =H7+I7 -> 2999 | H7: 2701 | I7: 298 | J7: =K7+N7 -> 1152591 | K7: =L7+M7 -> 89825 | L7: 70510 | M7: 19315 | N7: =O7+P7+Q7 -> 1062766 | O7: 515298 | P7: 326077 | Q7: =124061+97330 -> 221391 | R7: =S7+T7+U7 -> 272722 | S7: 272722 | T7: 0 | U7: 0 | V7: =W7+X7+Y7 -> 487652 | W7: 487652 | X7: 0 | Y7: 0 | Z7: =AA7+AB7+AC7 -> 13080010 | AA7: 0 | AB7: 0 | AC7: 13080010 | AD7: =C7+D7+E7+F7+G7+J7+R7+V7+Z7 -> 21523671 | AE7: =BG7-AD7 -> -181513 | AF7: 4228824 | AG7: 117864 | AH7: 0 | AI7: 0 | AJ7: =AK7+AL7 -> 3348 | AK7: 3348 | AL7: 0 | AM7: =AN7+AQ7 -> 1264551 | AN7: =AO7+AP7 -> 91080 | AO7: 91080 | AP7: 0 | AQ7: =AR7+AS7+AT7 -> 1173471 | AR7: 626003 | AS7: 326077 | AT7: =124061+97330 -> 221391 | AU7: =AV7+AW7+AX7 -> 568140 | AV7: 0 | AW7: 568140 | AX7: 0 | AY7: =AZ7+BA7+BB7 -> 1895736 | AZ7: 0 | BA7: 1655736 | BB7: 240000 | BC7: =BD7+BE7+BF7 -> 13263695 | BD7: 442884 | BE7: 0 | BF7: 12820811 | BG7: =AF7+AG7+AH7+AI7+AJ7+AM7+AU7+AY7+BC7 -> 21342158 | BI7: =AF7-C7 -> -2138919 | BJ7: =AG7-D7 -> 0 | BK7: =AH7-E7 -> -6193 | BL7: =AI7-F7 -> -35897 | BM7: =AJ7-G7 -> 349 | BN7: =AK7-H7 -> 647 | BO7: =AL7-I7 -> -298 | BP7: =AM7-J7 -> 111960 | ... CJ7: =BG7-AD7 -> -181513
A8: 4 | B8: 2027 | C8: 6780683 | D8: 117864 | E8: 6193 | F8: 35897 | G8: =H8+I8 -> 2999 | H8: 2701 | I8: 298 | J8: =K8+N8 -> 89825 | K8: =L8+M8 -> 89825 | L8: 70510 | M8: 19315 | N8: =O8+P8+Q8 -> 0 | O8: 0 | P8: 0 | Q8: 0 | R8: =S8+T8+U8 -> 272722 | S8: 272722 | T8: 0 | U8: 0 | V8: =W8+X8+Y8 -> 487652 | W8: 487652 | X8: 0 | Y8: 0 | Z8: =AA8+AB8+AC8 -> 13080010 | AA8: 0 | AB8: 0 | AC8: 13080010 | AD8: =C8+D8+E8+F8+G8+J8+R8+V8+Z8 -> 20873845 | AE8: =BG8-AD8 -> -673502 | AF8: 3457548 | AG8: 117864 | AH8: 0 | AI8: 0 | AJ8: =AK8+AL8 -> 2772 | AK8: 2772 | AL8: 0 | AM8: =AN8+AQ8 -> 75984 | AN8: =AO8+AP8 -> 75984 | AO8: 75984 | AP8: 0 | AQ8: =AR8+AS8+AT8 -> 0 | AR8: 0 | AS8: 0 | AT8: 0 | AU8: =AV8+AW8+AX8 -> 517932 | AV8: 0 | AW8: 517932 | AX8: 0 | AY8: =AZ8+BA8+BB8 -> 2826348 | AZ8: 0 | BA8: 2826348 | BB8: 0 | BC8: =BD8+BE8+BF8 -> 13201895 | BD8: 381084 | BE8: 0 | BF8: 12820811 | BG8: =AF8+AG8+AH8+AI8+AJ8+AM8+AU8+AY8+BC8 -> 20200343 | BI8: =AF8-C8 -> -3323135 | BJ8: =AG8-D8 -> 0 | BK8: =AH8-E8 -> -6193 | BL8: =AI8-F8 -> -35897 | BM8: =AJ8-G8 -> -227 | BN8: =AK8-H8 -> 71 | BO8: =AL8-I8 -> -298 | BP8: =AM8-J8 -> -13841 | ... CJ8: =BG8-AD8 -> -673502
A9: 5 | B9: 2028 | C9: 6780683 | D9: 117864 | E9: 6193 | F9: 35897 | G9: =H9+I9 -> 2999 | H9: 2701 | I9: 298 | J9: =K9+N9 -> 89825 | K9: =L9+M9 -> 89825 | L9: 70510 | M9: 19315 | N9: =O9+P9+Q9 -> 0 | O9: 0 | P9: 0 | Q9: 0 | R9: =S9+T9+U9 -> 272722 | S9: 272722 | T9: 0 | U9: 0 | V9: =W9+X9+Y9 -> 487652 | W9: 487652 | X9: 0 | Y9: 0 | Z9: =AA9+AB9+AC9 -> 0 | AA9: 0 | AB9: 0 | AC9: 0 | AD9: =C9+D9+E9+F9+G9+J9+R9+V9+Z9 -> 7793835 | AE9: =BG9-AD9 -> -430503 | AF9: 3457548 | AG9: 117864 | AH9: 0 | AI9: 0 | AJ9: =AK9+AL9 -> 2772 | AK9: 2772 | AL9: 0 | AM9: =AN9+AQ9 -> 75984 | AN9: =AO9+AP9 -> 75984 | AO9: 75984 | AP9: 0 | AQ9: =AR9+AS9+AT9 -> 0 | AR9: 0 | AS9: 0 | AT9: 0 | AU9: =AV9+AW9+AX9 -> 517932 | AV9: 0 | AW9: 517932 | AX9: 0 | AY9: =AZ9+BA9+BB9 -> 2826348 | AZ9: 0 | BA9: 2826348 | BB9: 0 | BC9: =BD9+BE9+BF9 -> 364884 | BD9: 364884 | BE9: 0 | BF9: 0 | BG9: =AF9+AG9+AH9+AI9+AJ9+AM9+AU9+AY9+BC9 -> 7363332 | BI9: =AF9-C9 -> -3323135 | BJ9: =AG9-D9 -> 0 | BK9: =AH9-E9 -> -6193 | BL9: =AI9-F9 -> -35897 | BM9: =AJ9-G9 -> -227 | BN9: =AK9-H9 -> 71 | BO9: =AL9-I9 -> -298 | BP9: =AM9-J9 -> -13841 | ... CJ9: =BG9-AD9 -> -430503
A10: 6 | B10: 2029 | C10: 6780683 | D10: 78576 | E10: 6193 | F10: 35897 | G10: =H10+I10 -> 2999 | H10: 2701 | I10: 298 | J10: =K10+N10 -> 89825 | K10: =L10+M10 -> 89825 | L10: 70510 | M10: 19315 | N10: =O10+P10+Q10 -> 0 | O10: 0 | P10: 0 | Q10: 0 | R10: =S10+T10+U10 -> 272722 | S10: 272722 | T10: 0 | U10: 0 | V10: =W10+X10+Y10 -> 487652 | W10: 487652 | X10: 0 | Y10: 0 | Z10: =AA10+AB10+AC10 -> 0 | AA10: 0 | AB10: 0 | AC10: 0 | AD10: =C10+D10+E10+F10+G10+J10+R10+V10+Z10 -> 7754547 | AE10: =BG10-AD10 -> -430503 | AF10: 3457548 | AG10: 78576 | AH10: 0 | AI10: 0 | AJ10: =AK10+AL10 -> 2772 | AK10: 2772 | AL10: 0 | AM10: =AN10+AQ10 -> 75984 | AN10: =AO10+AP10 -> 75984 | AO10: 75984 | AP10: 0 | AQ10: =AR10+AS10+AT10 -> 0 | AR10: 0 | AS10: 0 | AT10: 0 | AU10: =AV10+AW10+AX10 -> 517932 | AV10: 0 | AW10: 517932 | AX10: 0 | AY10: =AZ10+BA10+BB10 -> 2826348 | AZ10: 0 | BA10: 2826348 | BB10: 0 | BC10: =BD10+BE10+BF10 -> 364884 | BD10: 364884 | BE10: 0 | BF10: 0 | BG10: =AF10+AG10+AH10+AI10+AJ10+AM10+AU10+AY10+BC10 -> 7324044 | BI10: =AF10-C10 -> -3323135 | BJ10: =AG10-D10 -> 0 | BK10: =AH10-E10 -> -6193 | BL10: =AI10-F10 -> -35897 | BM10: =AJ10-G10 -> -227 | BN10: =AK10-H10 -> 71 | BO10: =AL10-I10 -> -298 | BP10: =AM10-J10 -> -13841 | ... CJ10: =BG10-AD10 -> -430503
A11: 7 | B11: 2030 | C11: 6780683 | D11: 0 | E11: 6193 | F11: 35897 | G11: =H11+I11 -> 2999 | H11: 2701 | I11: 298 | J11: =K11+N11 -> 89825 | K11: =L11+M11 -> 89825 | L11: 70510 | M11: 19315 | N11: =O11+P11+Q11 -> 0 | O11: 0 | P11: 0 | Q11: 0 | R11: =S11+T11+U11 -> 272722 | S11: 272722 | T11: 0 | U11: 0 | V11: =W11+X11+Y11 -> 487652 | W11: 487652 | X11: 0 | Y11: 0 | Z11: =AA11+AB11+AC11 -> 0 | AA11: 0 | AB11: 0 | AC11: 0 | AD11: =C11+D11+E11+F11+G11+J11+R11+V11+Z11 -> 7675971 | AE11: =BG11-AD11 -> -463899 | AF11: 3457548 | AG11: 0 | AH11: 0 | AI11: 0 | AJ11: =AK11+AL11 -> 2772 | AK11: 2772 | AL11: 0 | AM11: =AN11+AQ11 -> 75984 | AN11: =AO11+AP11 -> 75984 | AO11: 75984 | AP11: 0 | AQ11: =AR11+AS11+AT11 -> 0 | AR11: 0 | AS11: 0 | AT11: 0 | AU11: =AV11+AW11+AX11 -> 484536 | AV11: 0 | AW11: 484536 | AX11: 0 | AY11: =AZ11+BA11+BB11 -> 2826348 | AZ11: 0 | BA11: 2826348 | BB11: 0 | BC11: =BD11+BE11+BF11 -> 364884 | BD11: 364884 | BE11: 0 | BF11: 0 | BG11: =AF11+AG11+AH11+AI11+AJ11+AM11+AU11+AY11+BC11 -> 7212072 | BI11: =AF11-C11 -> -3323135 | BJ11: =AG11-D11 -> 0 | BK11: =AH11-E11 -> -6193 | BL11: =AI11-F11 -> -35897 | BM11: =AJ11-G11 -> -227 | BN11: =AK11-H11 -> 71 | BO11: =AL11-I11 -> -298 | BP11: =AM11-J11 -> -13841 | ... CJ11: =BG11-AD11 -> -463899
A12: 8 | B12: 2031 | C12: 6780683 | D12: 0 | E12: 6193 | F12: 35897 | G12: =H12+I12 -> 2999 | H12: 2701 | I12: 298 | J12: =K12+N12 -> 89825 | K12: =L12+M12 -> 89825 | L12: 70510 | M12: 19315 | N12: =O12+P12+Q12 -> 0 | O12: 0 | P12: 0 | Q12: 0 | R12: =S12+T12+U12 -> 272722 | S12: 272722 | T12: 0 | U12: 0 | V12: =W12+X12+Y12 -> 487652 | W12: 487652 | X12: 0 | Y12: 0 | Z12: =AA12+AB12+AC12 -> 0 | AA12: 0 | AB12: 0 | AC12: 0 | AD12: =C12+D12+E12+F12+G12+J12+R12+V12+Z12 -> 7675971 | AE12: =BG12-AD12 -> -530691 | AF12: 3457548 | AG12: 0 | AH12: 0 | AI12: 0 | AJ12: =AK12+AL12 -> 2772 | AK12: 2772 | AL12: 0 | AM12: =AN12+AQ12 -> 75984 | AN12: =AO12+AP12 -> 75984 | AO12: 75984 | AP12: 0 | AQ12: =AR12+AS12+AT12 -> 0 | AR12: 0 | AS12: 0 | AT12: 0 | AU12: =AV12+AW12+AX12 -> 417744 | AV12: 0 | AW12: 417744 | AX12: 0 | AY12: =AZ12+BA12+BB12 -> 2826348 | AZ12: 0 | BA12: 2826348 | BB12: 0 | BC12: =BD12+BE12+BF12 -> 364884 | BD12: 364884 | BE12: 0 | BF12: 0 | BG12: =AF12+AG12+AH12+AI12+AJ12+AM12+AU12+AY12+BC12 -> 7145280 | BI12: =AF12-C12 -> -3323135 | BJ12: =AG12-D12 -> 0 | BK12: =AH12-E12 -> -6193 | BL12: =AI12-F12 -> -35897 | BM12: =AJ12-G12 -> -227 | BN12: =AK12-H12 -> 71 | BO12: =AL12-I12 -> -298 | BP12: =AM12-J12 -> -13841 | ... CJ12: =BG12-AD12 -> -530691
A13: 9 | B13: 2032 | C13: 6780683 | D13: 0 | E13: 6193 | F13: 35897 | G13: =H13+I13 -> 2999 | H13: 2701 | I13: 298 | J13: =K13+N13 -> 89825 | K13: =L13+M13 -> 89825 | L13: 70510 | M13: 19315 | N13: =O13+P13+Q13 -> 0 | O13: 0 | P13: 0 | Q13: 0 | R13: =S13+T13+U13 -> 272722 | S13: 272722 | T13: 0 | U13: 0 | V13: =W13+X13+Y13 -> 487652 | W13: 487652 | X13: 0 | Y13: 0 | Z13: =AA13+AB13+AC13 -> 0 | AA13: 0 | AB13: 0 | AC13: 0 | AD13: =C13+D13+E13+F13+G13+J13+R13+V13+Z13 -> 7675971 | AE13: =BG13-AD13 -> -1135875 | AF13: 3457548 | AG13: 0 | AH13: 0 | AI13: 0 | AJ13: =AK13+AL13 -> 2772 | AK13: 2772 | AL13: 0 | AM13: =AN13+AQ13 -> 75984 | AN13: =AO13+AP13 -> 75984 | AO13: 75984 | AP13: 0 | AQ13: =AR13+AS13+AT13 -> 0 | AR13: 0 | AS13: 0 | AT13: 0 | AU13: =AV13+AW13+AX13 -> 417744 | AV13: 0 | AW13: 417744 | AX13: 0 | AY13: =AZ13+BA13+BB13 -> 2221164 | AZ13: 0 | BA13: 2221164 | BB13: 0 | BC13: =BD13+BE13+BF13 -> 364884 | BD13: 364884 | BE13: 0 | BF13: 0 | BG13: =AF13+AG13+AH13+AI13+AJ13+AM13+AU13+AY13+BC13 -> 6540096 | BI13: =AF13-C13 -> -3323135 | BJ13: =AG13-D13 -> 0 | BK13: =AH13-E13 -> -6193 | BL13: =AI13-F13 -> -35897 | BM13: =AJ13-G13 -> -227 | BN13: =AK13-H13 -> 71 | BO13: =AL13-I13 -> -298 | BP13: =AM13-J13 -> -13841 | ... CJ13: =BG13-AD13 -> -1135875
A14: 10 | B14: 2033 | C14: 6780683 | D14: 0 | E14: 6193 | F14: 35897 | G14: =H14+I14 -> 2999 | H14: 2701 | I14: 298 | J14: =K14+N14 -> 89825 | K14: =L14+M14 -> 89825 | L14: 70510 | M14: 19315 | N14: =O14+P14+Q14 -> 0 | O14: 0 | P14: 0 | Q14: 0 | R14: =S14+T14+U14 -> 272722 | S14: 272722 | T14: 0 | U14: 0 | V14: =W14+X14+Y14 -> 487652 | W14: 487652 | X14: 0 | Y14: 0 | Z14: =AA14+AB14+AC14 -> 0 | AA14: 0 | AB14: 0 | AC14: 0 | AD14: =C14+D14+E14+F14+G14+J14+R14+V14+Z14 -> 7675971 | AE14: =BG14-AD14 -> -1135875 | AF14: 3457548 | AG14: 0 | AH14: 0 | AI14: 0 | AJ14: =AK14+AL14 -> 2772 | AK14: 2772 | AL14: 0 | AM14: =AN14+AQ14 -> 75984 | AN14: =AO14+AP14 -> 75984 | AO14: 75984 | AP14: 0 | AQ14: =AR14+AS14+AT14 -> 0 | AR14: 0 | AS14: 0 | AT14: 0 | AU14: =AV14+AW14+AX14 -> 417744 | AV14: 0 | AW14: 417744 | AX14: 0 | AY14: =AZ14+BA14+BB14 -> 2221164 | AZ14: 0 | BA14: 2221164 | BB14: 0 | BC14: =BD14+BE14+BF14 -> 364884 | BD14: 364884 | BE14: 0 | BF14: 0 | BG14: =AF14+AG14+AH14+AI14+AJ14+AM14+AU14+AY14+BC14 -> 6540096 | BI14: =AF14-C14 -> -3323135 | BJ14: =AG14-D14 -> 0 | BK14: =AH14-E14 -> -6193 | BL14: =AI14-F14 -> -35897 | BM14: =AJ14-G14 -> -227 | BN14: =AK14-H14 -> 71 | BO14: =AL14-I14 -> -298 | BP14: =AM14-J14 -> -13841 | ... CJ14: =BG14-AD14 -> -1135875
A15: 11 | B15: 2034 | C15: 6780683 | D15: 0 | E15: 6193 | F15: 35897 | G15: =H15+I15 -> 2999 | H15: 2701 | I15: 298 | J15: =K15+N15 -> 89825 | K15: =L15+M15 -> 89825 | L15: 70510 | M15: 19315 | N15: =O15+P15+Q15 -> 0 | O15: 0 | P15: 0 | Q15: 0 | R15: =S15+T15+U15 -> 272722 | S15: 272722 | T15: 0 | U15: 0 | V15: =W15+X15+Y15 -> 487652 | W15: 487652 | X15: 0 | Y15: 0 | Z15: =AA15+AB15+AC15 -> 0 | AA15: 0 | AB15: 0 | AC15: 0 | AD15: =C15+D15+E15+F15+G15+J15+R15+V15+Z15 -> 7675971 | AE15: =BG15-AD15 -> -1135875 | AF15: 3457548 | AG15: 0 | AH15: 0 | AI15: 0 | AJ15: =AK15+AL15 -> 2772 | AK15: 2772 | AL15: 0 | AM15: =AN15+AQ15 -> 75984 | AN15: =AO15+AP15 -> 75984 | AO15: 75984 | AP15: 0 | AQ15: =AR15+AS15+AT15 -> 0 | AR15: 0 | AS15: 0 | AT15: 0 | AU15: =AV15+AW15+AX15 -> 417744 | AV15: 0 | AW15: 417744 | AX15: 0 | AY15: =AZ15+BA15+BB15 -> 2221164 | AZ15: 0 | BA15: 2221164 | BB15: 0 | BC15: =BD15+BE15+BF15 -> 364884 | BD15: 364884 | BE15: 0 | BF15: 0 | BG15: =AF15+AG15+AH15+AI15+AJ15+AM15+AU15+AY15+BC15 -> 6540096 | BI15: =AF15-C15 -> -3323135 | BJ15: =AG15-D15 -> 0 | BK15: =AH15-E15 -> -6193 | BL15: =AI15-F15 -> -35897 | BM15: =AJ15-G15 -> -227 | BN15: =AK15-H15 -> 71 | BO15: =AL15-I15 -> -298 | BP15: =AM15-J15 -> -13841 | ... CJ15: =BG15-AD15 -> -1135875
A16: 12 | B16: 2035 | C16: 6780683 | D16: 0 | E16: 6193 | F16: 35897 | G16: =H16+I16 -> 2999 | H16: 2701 | I16: 298 | J16: =K16+N16 -> 89825 | K16: =L16+M16 -> 89825 | L16: 70510 | M16: 19315 | N16: =O16+P16+Q16 -> 0 | O16: 0 | P16: 0 | Q16: 0 | R16: =S16+T16+U16 -> 272722 | S16: 272722 | T16: 0 | U16: 0 | V16: =W16+X16+Y16 -> 487652 | W16: 487652 | X16: 0 | Y16: 0 | Z16: =AA16+AB16+AC16 -> 0 | AA16: 0 | AB16: 0 | AC16: 0 | AD16: =C16+D16+E16+F16+G16+J16+R16+V16+Z16 -> 7675971 | AE16: =BG16-AD16 -> -1190931 | AF16: 3457548 | AG16: 0 | AH16: 0 | AI16: 0 | AJ16: =AK16+AL16 -> 2772 | AK16: 2772 | AL16: 0 | AM16: =AN16+AQ16 -> 75984 | AN16: =AO16+AP16 -> 75984 | AO16: 75984 | AP16: 0 | AQ16: =AR16+AS16+AT16 -> 0 | AR16: 0 | AS16: 0 | AT16: 0 | AU16: =AV16+AW16+AX16 -> 362688 | AV16: 0 | AW16: 362688 | AX16: 0 | AY16: =AZ16+BA16+BB16 -> 2221164 | AZ16: 0 | BA16: 2221164 | BB16: 0 | BC16: =BD16+BE16+BF16 -> 364884 | BD16: 364884 | BE16: 0 | BF16: 0 | BG16: =AF16+AG16+AH16+AI16+AJ16+AM16+AU16+AY16+BC16 -> 6485040 | BI16: =AF16-C16 -> -3323135 | BJ16: =AG16-D16 -> 0 | BK16: =AH16-E16 -> -6193 | BL16: =AI16-F16 -> -35897 | BM16: =AJ16-G16 -> -227 | BN16: =AK16-H16 -> 71 | BO16: =AL16-I16 -> -298 | BP16: =AM16-J16 -> -13841 | ... CJ16: =BG16-AD16 -> -1190931
A17: 13 | B17: 2036 | C17: 6780683 | D17: 0 | E17: 6193 | F17: 35897 | G17: =H17+I17 -> 2999 | H17: 2701 | I17: 298 | J17: =K17+N17 -> 89825 | K17: =L17+M17 -> 89825 | L17: 70510 | M17: 19315 | N17: =O17+P17+Q17 -> 0 | O17: 0 | P17: 0 | Q17: 0 | R17: =S17+T17+U17 -> 272722 | S17: 272722 | T17: 0 | U17: 0 | V17: =W17+X17+Y17 -> 487652 | W17: 487652 | X17: 0 | Y17: 0 | Z17: =AA17+AB17+AC17 -> 0 | AA17: 0 | AB17: 0 | AC17: 0 | AD17: =C17+D17+E17+F17+G17+J17+R17+V17+Z17 -> 7675971 | AE17: =BG17-AD17 -> -1301043 | AF17: 3457548 | AG17: 0 | AH17: 0 | AI17: 0 | AJ17: =AK17+AL17 -> 2772 | AK17: 2772 | AL17: 0 | AM17: =AN17+AQ17 -> 75984 | AN17: =AO17+AP17 -> 75984 | AO17: 75984 | AP17: 0 | AQ17: =AR17+AS17+AT17 -> 0 | AR17: 0 | AS17: 0 | AT17: 0 | AU17: =AV17+AW17+AX17 -> 252576 | AV17: 0 | AW17: 252576 | AX17: 0 | AY17: =AZ17+BA17+BB17 -> 2221164 | AZ17: 0 | BA17: 2221164 | BB17: 0 | BC17: =BD17+BE17+BF17 -> 364884 | BD17: 364884 | BE17: 0 | BF17: 0 | BG17: =AF17+AG17+AH17+AI17+AJ17+AM17+AU17+AY17+BC17 -> 6374928 | BI17: =AF17-C17 -> -3323135 | BJ17: =AG17-D17 -> 0 | BK17: =AH17-E17 -> -6193 | BL17: =AI17-F17 -> -35897 | BM17: =AJ17-G17 -> -227 | BN17: =AK17-H17 -> 71 | BO17: =AL17-I17 -> -298 | BP17: =AM17-J17 -> -13841 | ... CJ17: =BG17-AD17 -> -1301043
A18: 14 | B18: 2037 | C18: 6780683 | D18: 0 | E18: 6193 | F18: 35897 | G18: =H18+I18 -> 2999 | H18: 2701 | I18: 298 | J18: =K18+N18 -> 89825 | K18: =L18+M18 -> 89825 | L18: 70510 | M18: 19315 | N18: =O18+P18+Q18 -> 0 | O18: 0 | P18: 0 | Q18: 0 | R18: =S18+T18+U18 -> 272722 | S18: 272722 | T18: 0 | U18: 0 | V18: =W18+X18+Y18 -> 487652 | W18: 487652 | X18: 0 | Y18: 0 | Z18: =AA18+AB18+AC18 -> 0 | AA18: 0 | AB18: 0 | AC18: 0 | AD18: =C18+D18+E18+F18+G18+J18+R18+V18+Z18 -> 7675971 | AE18: =BG18-AD18 -> -1301043 | AF18: 3457548 | AG18: 0 | AH18: 0 | AI18: 0 | AJ18: =AK18+AL18 -> 2772 | AK18: 2772 | AL18: 0 | AM18: =AN18+AQ18 -> 75984 | AN18: =AO18+AP18 -> 75984 | AO18: 75984 | AP18: 0 | AQ18: =AR18+AS18+AT18 -> 0 | AR18: 0 | AS18: 0 | AT18: 0 | AU18: =AV18+AW18+AX18 -> 252576 | AV18: 0 | AW18: 252576 | AX18: 0 | AY18: =AZ18+BA18+BB18 -> 2221164 | AZ18: 0 | BA18: 2221164 | BB18: 0 | BC18: =BD18+BE18+BF18 -> 364884 | BD18: 364884 | BE18: 0 | BF18: 0 | BG18: =AF18+AG18+AH18+AI18+AJ18+AM18+AU18+AY18+BC18 -> 6374928 | BI18: =AF18-C18 -> -3323135 | BJ18: =AG18-D18 -> 0 | BK18: =AH18-E18 -> -6193 | BL18: =AI18-F18 -> -35897 | BM18: =AJ18-G18 -> -227 | BN18: =AK18-H18 -> 71 | BO18: =AL18-I18 -> -298 | BP18: =AM18-J18 -> -13841 | ... CJ18: =BG18-AD18 -> -1301043
A19: 15 | B19: 2038 | C19: 6780683 | D19: 0 | E19: 6193 | F19: 35897 | G19: =H19+I19 -> 2999 | H19: 2701 | I19: 298 | J19: =K19+N19 -> 89825 | K19: =L19+M19 -> 89825 | L19: 70510 | M19: 19315 | N19: =O19+P19+Q19 -> 0 | O19: 0 | P19: 0 | Q19: 0 | R19: =S19+T19+U19 -> 272722 | S19: 272722 | T19: 0 | U19: 0 | V19: =W19+X19+Y19 -> 487652 | W19: 487652 | X19: 0 | Y19: 0 | Z19: =AA19+AB19+AC19 -> 0 | AA19: 0 | AB19: 0 | AC19: 0 | AD19: =C19+D19+E19+F19+G19+J19+R19+V19+Z19 -> 7675971 | AE19: =BG19-AD19 -> -1301043 | AF19: 3457548 | AG19: 0 | AH19: 0 | AI19: 0 | AJ19: =AK19+AL19 -> 2772 | AK19: 2772 | AL19: 0 | AM19: =AN19+AQ19 -> 75984 | AN19: =AO19+AP19 -> 75984 | AO19: 75984 | AP19: 0 | AQ19: =AR19+AS19+AT19 -> 0 | AR19: 0 | AS19: 0 | AT19: 0 | AU19: =AV19+AW19+AX19 -> 252576 | AV19: 0 | AW19: 252576 | AX19: 0 | AY19: =AZ19+BA19+BB19 -> 2221164 | AZ19: 0 | BA19: 2221164 | BB19: 0 | BC19: =BD19+BE19+BF19 -> 364884 | BD19: 364884 | BE19: 0 | BF19: 0 | BG19: =AF19+AG19+AH19+AI19+AJ19+AM19+AU19+AY19+BC19 -> 6374928 | BI19: =AF19-C19 -> -3323135 | BJ19: =AG19-D19 -> 0 | BK19: =AH19-E19 -> -6193 | BL19: =AI19-F19 -> -35897 | BM19: =AJ19-G19 -> -227 | BN19: =AK19-H19 -> 71 | BO19: =AL19-I19 -> -298 | BP19: =AM19-J19 -> -13841 | ... CJ19: =BG19-AD19 -> -1301043
... A24: 20 | B24: 2043 | C24: 6780683 | D24: 0 | E24: 6193 | F24: 35897 | G24: =H24+I24 -> 2999 | H24: 2701 | I24: 298 | J24: =K24+N24 -> 89825 | K24: =L24+M24 -> 89825 | L24: 70510 | M24: 19315 | N24: =O24+P24+Q24 -> 0 | O24: 0 | P24: 0 | Q24: 0 | R24: =S24+T24+U24 -> 272722 | S24: 272722 | T24: 0 | U24: 0 | V24: =W24+X24+Y24 -> 487652 | W24: 487652 | X24: 0 | Y24: 0 | Z24: =AA24+AB24+AC24 -> 0 | AA24: 0 | AB24: 0 | AC24: 0 | AD24: =C24+D24+E24+F24+G24+J24+R24+V24+Z24 -> 7675971 | AE24: =BG24-AD24 -> -1301043 | AF24: 3457548 | AG24: 0 | AH24: 0 | AI24: 0 | AJ24: =AK24+AL24 -> 2772 | AK24: 2772 | AL24: 0 | AM24: =AN24+AQ24 -> 75984 | AN24: =AO24+AP24 -> 75984 | AO24: 75984 | AP24: 0 | AQ24: =AR24+AS24+AT24 -> 0 | AR24: 0 | AS24: 0 | AT24: 0 | AU24: =AV24+AW24+AX24 -> 252576 | AV24: 0 | AW24: 252576 | AX24: 0 | AY24: =AZ24+BA24+BB24 -> 2221164 | AZ24: 0 | BA24: 2221164 | BB24: 0 | BC24: =BD24+BE24+BF24 -> 364884 | BD24: 364884 | BE24: 0 | BF24: 0 | BG24: =AF24+AG24+AH24+AI24+AJ24+AM24+AU24+AY24+BC24 -> 6374928 | BI24: =AF24-C24 -> -3323135 | BJ24: =AG24-D24 -> 0 | BK24: =AH24-E24 -> -6193 | BL24: =AI24-F24 -> -35897 | BM24: =AJ24-G24 -> -227 | BN24: =AK24-H24 -> 71 | BO24: =AL24-I24 -> -298 | BP24: =AM24-J24 -> -13841 | ... CJ24: =BG24-AD24 -> -1301043
A25: 21 | B25: 2044 (4 mēneši) | C25: 1676336 | D25: 0 | E25: 1549 | F25: 8975 | G25: =H25+I25 -> 750 | H25: 668 | I25: 82 | J25: =K25+N25 -> 23870 | K25: =L25+M25 -> 23870 | L25: 17432 | M25: 6438 | N25: =O25+P25+Q25 -> 0 | O25: 0 | P25: 0 | Q25: 0 | R25: =S25+T25+U25 -> 90907 | S25: 90907 | T25: 0 | U25: 0 | V25: =W25+X25+Y25 -> 487652 | W25: 487652 | X25: 0 | Y25: 0 | Z25: =AA25+AB25+AC25 -> 0 | AA25: 0 | AB25: 0 | AC25: 0 | AD25: =C25+D25+E25+F25+G25+J25+R25+V25+Z25 -> 2290039 | AE25: =BG25-AD25 -> -165063 | AF25: 1152516 | AG25: 0 | AH25: 0 | AI25: 0 | AJ25: =AK25+AL25 -> 924 | AK25: 924 | AL25: 0 | AM25: =AN25+AQ25 -> 25328 | AN25: =AO25+AP25 -> 25328 | AO25: 25328 | AP25: 0 | AQ25: =AR25+AS25+AT25 -> 0 | AR25: 0 | AS25: 0 | AT25: 0 | AU25: =AV25+AW25+AX25 -> 84192 | AV25: 0 | AW25: 84192 | AX25: 0 | AY25: =AZ25+BA25+BB25 -> 740388 | AZ25: 0 | BA25: 740388 | BB25: 0 | BC25: =BD25+BE25+BF25 -> 121628 | BD25: 121628 | BE25: 0 | BF25: 0 | BG25: =AF25+AG25+AH25+AI25+AJ25+AM25+AU25+AY25+BC25 -> 2124976 | BI25: =AF25-C25 -> -523820 | BJ25: =AG25-D25 -> 0 | BK25: =AH25-E25 -> -1549 | BL25: =AI25-F25 -> -8975 | BM25: =AJ25-G25 -> 174 | BN25: =AK25-H25 -> 256 | BO25: =AL25-I25 -> -82 | BP25: =AM25-J25 -> 1458 | ... CJ25: =BG25-AD25 -> -165063
A26: PAVISAM KOPĀ: | C26: =SUM(C5:C25) -> 136464116 | D26: =SUM(D5:D25) -> 589320 | E26: =SUM(E5:E25) -> 125409 | F26: =SUM(F5:F25) -> 726915 | G26: =SUM(G5:G25) -> 60730 | H26: =SUM(H5:H25) -> 54688 | I26: =SUM(I5:I25) -> 6042 | J26: =SUM(J5:J25) -> 4477287 | ... BG26: =SUM(BG5:BG25) -> 194123542 | BI26: =SUM(BI5:BI25) -> -61804448 | BJ26: =SUM(BJ5:BJ25) -> 0 | BK26: =SUM(BK5:BK25) -> -125409 | BL26: =SUM(BL5:BL25) -> -726915 | BM26: =SUM(BM5:BM25) -> -2443 | BN26: =SUM(BN5:BN25) -> 3599 | BO26: =SUM(BO5:BO25) -> -6042 | BP26: =SUM(BP5:BP25) -> -13864 | ... CJ26: =SUM(CJ5:CJ25) -> -18178057
C28: * apstiprinātā finansējuma daļā VID, IAUI, LRP finansējums 2044.gadā ir norādīts par 3 mēnešiem.

Sheet VID
A2: Pārskata periods (gads) | B2: VID pieejamais ilgtermiņa saistībām T1 | C2: VID nepieciešamais ilgtermiņa saistībām T1 | D2: VID ilgtermiņa saistību samazinājums | E2: ar MK rīkojumu pārdala no VID uz | K2: ar FM rīkojumu pārdala no VID uz IAUI* | L2: pārdala no VID kopā | M2: Atlikums, kas paliek VID
E3: LRP | F3: VI | G3: EM | H3: NVA | I3: IAUI | J3: citiem kopā
J4: J=E+F+G+H+I | L4: L=J+K | M4: M=D-L
A5: 2024 | B5: ='Talejas 1_anotācijai'!C5 -> 6780683 | C5: ='Talejas 1_anotācijai'!AF5 -> 6006804 | D5: ='Talejas 1_anotācijai'!BI5*-1 -> 773879 | E5: ='Talejas 1_anotācijai'!BP5 -> 62585 | F5: ='Talejas 1_anotācijai'!BX5 -> 83188 | G5: =EM!S5 -> 372283 | H5: ='Talejas 1_anotācijai'!CF5 -> 0 | I5: 0 | J5: =SUM(E5:I5) -> 518056 | K5: ='Talejas 1_anotācijai'!BM5 -> 244 | L5: =SUM(J5:K5) -> 518300 | M5: =D5-L5 -> 255579
A6: 2025 | B6: ='Talejas 1_anotācijai'!C6 -> 6367743 | C6: ='Talejas 1_anotācijai'!AF6 -> 4493208 | D6: ='Talejas 1_anotācijai'!BI6*-1 -> 1874535 | E6: ='Talejas 1_anotācijai'!BP6 -> 45430 | F6: ='Talejas 1_anotācijai'!BX6 -> 304189 | G6: =EM!S6 -> 1212030 | H6: ='Talejas 1_anotācijai'!CF6 -> 272333 | I6: ='Talejas 1_anotācijai'!BM6 -> 649 | J6: =SUM(E6:I6) -> 1834631 | K6: 0 | L6: =SUM(J6:K6) -> 1834631 | M6: =D6-L6 -> 39904
A7: 2026 | B7: ='Talejas 1_anotācijai'!C7 -> 6367743 | C7: ='Talejas 1_anotācijai'!AF7 -> 4228824 | D7: ='Talejas 1_anotācijai'!BI7*-1 -> 2138919 | E7: ='Talejas 1_anotācijai'!BP7 -> 111960 | F7: ='Talejas 1_anotācijai'!BX7 -> 295418 | G7: =EM!S7 -> 1365994 | H7: ='Talejas 1_anotācijai'!CF7 -> 183685 | I7: ='Talejas 1_anotācijai'!BM7 -> 349 | J7: =SUM(E7:I7) -> 1957406 | K7: 0 | L7: =SUM(J7:K7) -> 1957406 | M7: =D7-L7 -> 181513
A8: 2027 | B8: ='Talejas 1_anotācijai'!C8 -> 6780683 | C8: ='Talejas 1_anotācijai'!AF8 -> 3457548 | D8: ='Talejas 1_anotācijai'!BI8*-1 -> 3323135 | E8: 0 | F8: ='Talejas 1_anotācijai'!BX8 -> 245210 | G8: =EM!S8 -> 2282538 | H8: ='Talejas 1_anotācijai'!CF8 -> 121885 | I8: 0 | J8: =SUM(E8:I8) -> 2649633 | K8: 0 | L8: =SUM(J8:K8) -> 2649633 | M8: =D8-L8 -> 673502
A9: 2028 | B9: ='Talejas 1_anotācijai'!C9 -> 6780683 | C9: ='Talejas 1_anotācijai'!AF9 -> 3457548 | D9: ='Talejas 1_anotācijai'!BI9*-1 -> 3323135 | E9: 0 | F9: ='Talejas 1_anotācijai'!BX9 -> 245210 | G9: =EM!S9 -> 2282538 | H9: ='Talejas 1_anotācijai'!CF9 -> 364884 | I9: 0 | J9: =SUM(E9:I9) -> 2892632 | K9: 0 | L9: =SUM(J9:K9) -> 2892632 | M9: =D9-L9 -> 430503
A10: 2029 | B10: ='Talejas 1_anotācijai'!C10 -> 6780683 | C10: ='Talejas 1_anotācijai'!AF10 -> 3457548 | D10: ='Talejas 1_anotācijai'!BI10*-1 -> 3323135 | E10: 0 | F10: ='Talejas 1_anotācijai'!BX10 -> 245210 | G10: =EM!S10 -> 2282538 | H10: ='Talejas 1_anotācijai'!CF10 -> 364884 | I10: 0 | J10: =SUM(E10:I10) -> 2892632 | K10: 0 | L10: =SUM(J10:K10) -> 2892632 | M10: =D10-L10 -> 430503
A11: 2030 | B11: ='Talejas 1_anotācijai'!C11 -> 6780683 | C11: ='Talejas 1_anotācijai'!AF11 -> 3457548 | D11: ='Talejas 1_anotācijai'!BI11*-1 -> 3323135 | E11: 0 | F11: ='Talejas 1_anotācijai'!BX11 -> 211814 | G11: =EM!S11 -> 2282538 | H11: ='Talejas 1_anotācijai'!CF11 -> 364884 | I11: 0 | J11: =SUM(E11:I11) -> 2859236 | K11: 0 | L11: =SUM(J11:K11) -> 2859236 | M11: =D11-L11 -> 463899
A12: 2031 | B12: ='Talejas 1_anotācijai'!C12 -> 6780683 | C12: ='Talejas 1_anotācijai'!AF12 -> 3457548 | D12: ='Talejas 1_anotācijai'!BI12*-1 -> 3323135 | E12: 0 | F12: ='Talejas 1_anotācijai'!BX12 -> 145022 | G12: =EM!S12 -> 2282538 | H12: ='Talejas 1_anotācijai'!CF12 -> 364884 | I12: 0 | J12: =SUM(E12:I12) -> 2792444 | K12: 0 | L12: =SUM(J12:K12) -> 2792444 | M12: =D12-L12 -> 530691
A13: 2032 | B13: ='Talejas 1_anotācijai'!C13 -> 6780683 | C13: ='Talejas 1_anotācijai'!AF13 -> 3457548 | D13: ='Talejas 1_anotācijai'!BI13*-1 -> 3323135 | E13: 0 | F13: ='Talejas 1_anotācijai'!BX13 -> 145022 | G13: =EM!S13 -> 1677354 | H13: ='Talejas 1_anotācijai'!CF13 -> 364884 | I13: 0 | J13: =SUM(E13:I13) -> 2187260 | K13: 0 | L13: =SUM(J13:K13) -> 2187260 | M13: =D13-L13 -> 1135875
A14: 2033 | B14: ='Talejas 1_anotācijai'!C14 -> 6780683 | C14: ='Talejas 1_anotācijai'!AF14 -> 3457548 | D14: ='Talejas 1_anotācijai'!BI14*-1 -> 3323135 | E14: 0 | F14: ='Talejas 1_anotācijai'!BX14 -> 145022 | G14: =EM!S14 -> 1677354 | H14: ='Talejas 1_anotācijai'!CF14 -> 364884 | I14: 0 | J14: =SUM(E14:I14) -> 2187260 | K14: 0 | L14: =SUM(J14:K14) -> 2187260 | M14: =D14-L14 -> 1135875
A15: 2034 | B15: ='Talejas 1_anotācijai'!C15 -> 6780683 | C15: ='Talejas 1_anotācijai'!AF15 -> 3457548 | D15: ='Talejas 1_anotācijai'!BI15*-1 -> 3323135 | E15: 0 | F15: ='Talejas 1_anotācijai'!BX15 -> 145022 | G15: =EM!S15 -> 1677354 | H15: ='Talejas 1_anotācijai'!CF15 -> 364884 | I15: 0 | J15: =SUM(E15:I15) -> 2187260 | K15: 0 | L15: =SUM(J15:K15) -> 2187260 | M15: =D15-L15 -> 1135875
A16: 2035 | B16: ='Talejas 1_anotācijai'!C16 -> 6780683 | C16: ='Talejas 1_anotācijai'!AF16 -> 3457548 | D16: ='Talejas 1_anotācijai'!BI16*-1 -> 3323135 | E16: 0 | F16: ='Talejas 1_anotācijai'!BX16 -> 89966 | G16: =EM!S16 -> 1677354 | H16: ='Talejas 1_anotācijai'!CF16 -> 364884 | I16: 0 | J16: =SUM(E16:I16) -> 2132204 | K16: 0 | L16: =SUM(J16:K16) -> 2132204 | M16: =D16-L16 -> 1190931
A17: 2036 | B17: ='Talejas 1_anotācijai'!C17 -> 6780683 | C17: ='Talejas 1_anotācijai'!AF17 -> 3457548 | D17: ='Talejas 1_anotācijai'!BI17*-1 -> 3323135 | E17: 0 | F17: 0 | G17: =EM!S17 -> 1677354 | H17: ='Talejas 1_anotācijai'!CF17 -> 364884 | I17: 0 | J17: =SUM(E17:I17) -> 2042238 | K17: 0 | L17: =SUM(J17:K17) -> 2042238 | M17: =D17-L17 -> 1280897
A18: 2037 | B18: ='Talejas 1_anotācijai'!C18 -> 6780683 | C18: ='Talejas 1_anotācijai'!AF18 -> 3457548 | D18: ='Talejas 1_anotācijai'!BI18*-1 -> 3323135 | E18: 0 | F18: 0 | G18: =EM!S18 -> 1677354 | H18: ='Talejas 1_anotācijai'!CF18 -> 364884 | I18: 0 | J18: =SUM(E18:I18) -> 2042238 | K18: 0 | L18: =SUM(J18:K18) -> 2042238 | M18: =D18-L18 -> 1280897
A19: 2038 | B19: ='Talejas 1_anotācijai'!C19 -> 6780683 | C19: ='Talejas 1_anotācijai'!AF19 -> 3457548 | D19: ='Talejas 1_anotācijai'!BI19*-1 -> 3323135 | E19: 0 | F19: 0 | G19: =EM!S19 -> 1677354 | H19: ='Talejas 1_anotācijai'!CF19 -> 364884 | I19: 0 | J19: =SUM(E19:I19) -> 2042238 | K19: 0 | L19: =SUM(J19:K19) -> 2042238 | M19: =D19-L19 -> 1280897
A20: 2039 | B20: ='Talejas 1_anotācijai'!C20 -> 6780683 | C20: ='Talejas 1_anotācijai'!AF20 -> 3457548 | D20: ='Talejas 1_anotācijai'!BI20*-1 -> 3323135 | E20: 0 | F20: 0 | G20: =EM!S20 -> 1677354 | H20: ='Talejas 1_anotācijai'!CF20 -> 364884 | I20: 0 | J20: =SUM(E20:I20) -> 2042238 | K20: 0 | L20: =SUM(J20:K20) -> 2042238 | M20: =D20-L20 -> 1280897
A21: 2040 | B21: ='Talejas 1_anotācijai'!C21 -> 6780683 | C21: ='Talejas 1_anotācijai'!AF21 -> 3457548 | D21: ='Talejas 1_anotācijai'!BI21*-1 -> 3323135 | E21: 0 | F21: 0 | G21: =EM!S21 -> 1677354 | H21: ='Talejas 1_anotācijai'!CF21 -> 364884 | I21: 0 | J21: =SUM(E21:I21) -> 2042238 | K21: 0 | L21: =SUM(J21:K21) -> 2042238 | M21: =D21-L21 -> 1280897
A22: 2041 | B22: ='Talejas 1_anotācijai'!C22 -> 6780683 | C22: ='Talejas 1_anotācijai'!AF22 -> 3457548 | D22: ='Talejas 1_anotācijai'!BI22*-1 -> 3323135 | E22: 0 | F22: 0 | G22: =EM!S22 -> 1677354 | H22: ='Talejas 1_anotācijai'!CF22 -> 364884 | I22: 0 | J22: =SUM(E22:I22) -> 2042238 | K22: 0 | L22: =SUM(J22:K22) -> 2042238 | M22: =D22-L22 -> 1280897
A23: 2042 | B23: ='Talejas 1_anotācijai'!C23 -> 6780683 | C23: ='Talejas 1_anotācijai'!AF23 -> 3457548 | D23: ='Talejas 1_anotācijai'!BI23*-1 -> 3323135 | E23: 0 | F23: 0 | G23: =EM!S23 -> 1677354 | H23: ='Talejas 1_anotācijai'!CF23 -> 364884 | I23: 0 | J23: =SUM(E23:I23) -> 2042238 | K23: 0 | L23: =SUM(J23:K23) -> 2042238 | M23: =D23-L23 -> 1280897
A24: 2043 | B24: ='Talejas 1_anotācijai'!C24 -> 6780683 | C24: ='Talejas 1_anotācijai'!AF24 -> 3457548 | D24: ='Talejas 1_anotācijai'!BI24*-1 -> 3323135 | E24: 0 | F24: 0 | G24: =EM!S24 -> 1677354 | H24: ='Talejas 1_anotācijai'!CF24 -> 364884 | I24: 0 | J24: =SUM(E24:I24) -> 2042238 | K24: 0 | L24: =SUM(J24:K24) -> 2042238 | M24: =D24-L24 -> 1280897
A25: 2044 (4 mēneši) | B25: ='Talejas 1_anotācijai'!C25 -> 1676336 | C25: ='Talejas 1_anotācijai'!AF25 -> 1152516 | D25: ='Talejas 1_anotācijai'!BI25*-1 -> 523820 | E25: ='Talejas 1_anotācijai'!BP25 -> 1458 | F25: 0 | G25: =EM!S25 -> 242212 | H25: ='Talejas 1_anotācijai'!CF25 -> 121628 | I25: ='Talejas 1_anotācijai'!BM25 -> 174 | J25: =SUM(E25:I25) -> 365472 | K25: 0 | L25: =SUM(J25:K25) -> 365472 | M25: =D25-L25 -> 158348
A26: PAVISAM KOPĀ: | B26: =SUM(B5:B25) -> 136464116 | C26: =SUM(C5:C25) -> 74659668 | D26: =SUM(D5:D25) -> 61804448 | E26: =SUM(E5:E25) -> 221433 | F26: =SUM(F5:F25) -> 2300293 | G26: =SUM(G5:G25) -> 34733457 | H26: =SUM(H5:H25) -> 6537675 | I26: =SUM(I5:I25) -> 1172 | ... M26: =SUM(M5:M25) -> 18010174
A28: * Likuma par budžetu un finanšu vadību 9. panta piecpadsmitā daļa nosaka, ka "Finanšu ministram ir tiesības veikt apropriācijas pārdali starp ministrijām un citām centrālajām valsts iestādēm, tai skaitā funkciju pārdales vai strukturālo reformu gadījumos, ja ir pieņemts Ministru kabineta lēmums un Saeima ar atsevišķu lēmumu piekritusi šādai pārdalei. "

Sheet VI
A2: Pārskata periods (gads) | B2: Finansējums nomas un papildu maksājumu segšanai Talejas ielā 1 | E2: Finansējums pārcelšanās izdevumu segšanai | H2: Finansējums nomas, papildu maksājumu un pārcelšanās izdevumu segšanai kopā | L2: Atlikums, kas paliek VI no pieejamā finansējuma*
B3: VI nepieciešamais | C3: VI pieejamais | D3: no VID uz VI pārdalāmais | E3: VI nepieciešamais | F3: VI pieejamais | G3: no VID uz VI pārdalāmais | H3: VI nepieciešamais | I3: VI pieejamais | J3: no VID uz VI pārdalāmais
D4: D=IF(C>B;0;B-C) | G4: G=IF(F>E;0;E-F) | H4: H=B+E | I4: I=C+F | J4: J=D+G | L4: L=I-H+J
A5: 2024 | B5: ='Talejas 1_anotācijai'!AW5 -> 83188 | C5: ='Talejas 1_anotācijai'!BY5*-1 -> 0 | D5: =IF(C5>B5,0,B5-C5) -> 83188 | E5: ='Talejas 1_anotācijai'!CA5 -> 0 | F5: ='Talejas 1_anotācijai'!Y5 -> 0 | G5: =IF(F5>E5,0,E5-F5) -> 0 | H5: =B5+E5 -> 83188 | I5: =C5+F5 -> 0 | J5: =D5+G5 -> 83188 | L5: =I5-H5+J5 -> 0
A6: 2025 | B6: ='Talejas 1_anotācijai'!AW6 -> 360096 | C6: ='Talejas 1_anotācijai'!BY6*-1 -> 90907 | D6: =IF(C6>B6,0,B6-C6) -> 269189 | E6: ='Talejas 1_anotācijai'!CA6 -> 35000 | F6: ='Talejas 1_anotācijai'!Y6 -> 0 | G6: =IF(F6>E6,0,E6-F6) -> 35000 | H6: =B6+E6 -> 395096 | I6: =C6+F6 -> 90907 | J6: =D6+G6 -> 304189 | L6: =I6-H6+J6 -> 0
A7: 2026 | B7: ='Talejas 1_anotācijai'!AW7 -> 568140 | C7: ='Talejas 1_anotācijai'!BY7*-1 -> 272722 | D7: =IF(C7>B7,0,B7-C7) -> 295418 | E7: ='Talejas 1_anotācijai'!CA7 -> 0 | F7: ='Talejas 1_anotācijai'!Y7 -> 0 | G7: =IF(F7>E7,0,E7-F7) -> 0 | H7: =B7+E7 -> 568140 | I7: =C7+F7 -> 272722 | J7: =D7+G7 -> 295418 | L7: =I7-H7+J7 -> 0
A8: 2027 | B8: ='Talejas 1_anotācijai'!AW8 -> 517932 | C8: ='Talejas 1_anotācijai'!BY8*-1 -> 272722 | D8: =IF(C8>B8,0,B8-C8) -> 245210 | E8: ='Talejas 1_anotācijai'!CA8 -> 0 | F8: ='Talejas 1_anotācijai'!Y8 -> 0 | G8: =IF(F8>E8,0,E8-F8) -> 0 | H8: =B8+E8 -> 517932 | I8: =C8+F8 -> 272722 | J8: =D8+G8 -> 245210 | L8: =I8-H8+J8 -> 0
A9: 2028 | B9: ='Talejas 1_anotācijai'!AW9 -> 517932 | C9: ='Talejas 1_anotācijai'!BY9*-1 -> 272722 | D9: =IF(C9>B9,0,B9-C9) -> 245210 | E9: ='Talejas 1_anotācijai'!CA9 -> 0 | F9: ='Talejas 1_anotācijai'!Y9 -> 0 | G9: =IF(F9>E9,0,E9-F9) -> 0 | H9: =B9+E9 -> 517932 | I9: =C9+F9 -> 272722 | J9: =D9+G9 -> 245210 | L9: =I9-H9+J9 -> 0
A10: 2029 | B10: ='Talejas 1_anotācijai'!AW10 -> 517932 | C10: ='Talejas 1_anotācijai'!BY10*-1 -> 272722 | D10: =IF(C10>B10,0,B10-C10) -> 245210 | E10: ='Talejas 1_anotācijai'!CA10 -> 0 | F10: ='Talejas 1_anotācijai'!Y10 -> 0 | G10: =IF(F10>E10,0,E10-F10) -> 0 | H10: =B10+E10 -> 517932 | I10: =C10+F10 -> 272722 | J10: =D10+G10 -> 245210 | L10: =I10-H10+J10 -> 0
A11: 2030 | B11: ='Talejas 1_anotācijai'!AW11 -> 484536 | C11: ='Talejas 1_anotācijai'!BY11*-1 -> 272722 | D11: =IF(C11>B11,0,B11-C11) -> 211814 | E11: ='Talejas 1_anotācijai'!CA11 -> 0 | F11: ='Talejas 1_anotācijai'!Y11 -> 0 | G11: =IF(F11>E11,0,E11-F11) -> 0 | H11: =B11+E11 -> 484536 | I11: =C11+F11 -> 272722 | J11: =D11+G11 -> 211814 | L11: =I11-H11+J11 -> 0
A12: 2031 | B12: ='Talejas 1_anotācijai'!AW12 -> 417744 | C12: ='Talejas 1_anotācijai'!BY12*-1 -> 272722 | D12: =IF(C12>B12,0,B12-C12) -> 145022 | E12: ='Talejas 1_anotācijai'!CA12 -> 0 | F12: ='Talejas 1_anotācijai'!Y12 -> 0 | G12: =IF(F12>E12,0,E12-F12) -> 0 | H12: =B12+E12 -> 417744 | I12: =C12+F12 -> 272722 | J12: =D12+G12 -> 145022 | L12: =I12-H12+J12 -> 0
A13: 2032 | B13: ='Talejas 1_anotācijai'!AW13 -> 417744 | C13: ='Talejas 1_anotācijai'!BY13*-1 -> 272722 | D13: =IF(C13>B13,0,B13-C13) -> 145022 | E13: ='Talejas 1_anotācijai'!CA13 -> 0 | F13: ='Talejas 1_anotācijai'!Y13 -> 0 | G13: =IF(F13>E13,0,E13-F13) -> 0 | H13: =B13+E13 -> 417744 | I13: =C13+F13 -> 272722 | J13: =D13+G13 -> 145022 | L13: =I13-H13+J13 -> 0
A14: 2033 | B14: ='Talejas 1_anotācijai'!AW14 -> 417744 | C14: ='Talejas 1_anotācijai'!BY14*-1 -> 272722 | D14: =IF(C14>B14,0,B14-C14) -> 145022 | E14: ='Talejas 1_anotācijai'!CA14 -> 0 | F14: ='Talejas 1_anotācijai'!Y14 -> 0 | G14: =IF(F14>E14,0,E14-F14) -> 0 | H14: =B14+E14 -> 417744 | I14: =C14+F14 -> 272722 | J14: =D14+G14 -> 145022 | L14: =I14-H14+J14 -> 0
A15: 2034 | B15: ='Talejas 1_anotācijai'!AW15 -> 417744 | C15: ='Talejas 1_anotācijai'!BY15*-1 -> 272722 | D15: =IF(C15>B15,0,B15-C15) -> 145022 | E15: ='Talejas 1_anotācijai'!CA15 -> 0 | F15: ='Talejas 1_anotācijai'!Y15 -> 0 | G15: =IF(F15>E15,0,E15-F15) -> 0 | H15: =B15+E15 -> 417744 | I15: =C15+F15 -> 272722 | J15: =D15+G15 -> 145022 | L15: =I15-H15+J15 -> 0
A16: 2035 | B16: ='Talejas 1_anotācijai'!AW16 -> 362688 | C16: ='Talejas 1_anotācijai'!BY16*-1 -> 272722 | D16: =IF(C16>B16,0,B16-C16) -> 89966 | E16: ='Talejas 1_anotācijai'!CA16 -> 0 | F16: ='Talejas 1_anotācijai'!Y16 -> 0 | G16: =IF(F16>E16,0,E16-F16) -> 0 | H16: =B16+E16 -> 362688 | I16: =C16+F16 -> 272722 | J16: =D16+G16 -> 89966 | L16: =I16-H16+J16 -> 0
... A24: 2043 | B24: ='Talejas 1_anotācijai'!AW24 -> 252576 | C24: ='Talejas 1_anotācijai'!BY24*-1 -> 272722 | D24: =IF(C24>B24,0,B24-C24) -> 0 | E24: ='Talejas 1_anotācijai'!CA24 -> 0 | F24: ='Talejas 1_anotācijai'!Y24 -> 0 | G24: =IF(F24>E24,0,E24-F24) -> 0 | H24: =B24+E24 -> 252576 | I24: =C24+F24 -> 272722 | J24: =D24+G24 -> 0 | L24: =I24-H24+J24 -> 20146
A25: 2044 (4 mēneši) | B25: ='Talejas 1_anotācijai'!AW25 -> 84192 | C25: ='Talejas 1_anotācijai'!BY25*-1 -> 90907 | D25: =IF(C25>B25,0,B25-C25) -> 0 | E25: ='Talejas 1_anotācijai'!CA25 -> 0 | F25: ='Talejas 1_anotācijai'!Y25 -> 0 | G25: =IF(F25>E25,0,E25-F25) -> 0 | H25: =B25+E25 -> 84192 | I25: =C25+F25 -> 90907 | J25: =D25+G25 -> 0 | L25: =I25-H25+J25 -> 6715
A27: *VI pieejamais finansējums no 2036,gada līdz 2044.gadam ir lielāks nekā nepieciešams Talejas 1 nomas un papildu maksājumu segšanai

Sheet EM
A2: Pārskata periods (gads) | B2: Finansējums nomas un papildu maksājumu segšanai Talejas ielā 1 | H2: Finansējums pārcelšanās izdevumu segšanai | N2: Finansējums nomas, papildu maksājumu un pārcelšanās izdevumu segšanai kopā
B3: EM nepieciešamais | C3: EM pieejamais | D3: no LM uz EM pārdalāmais | E3: no LRP uz EM pārdalāmais | F3: no IAUI uz EM pārdalāmais | G3: no VID uz EM pārdalāmais | H3: EM nepieciešamais | I3: EM pieejamais | J3: no LM uz EM jāpārdala | K3: no LRP uz EM pārdalāmais | L3: no IAUI uz EM pārdalāmais | M3: no VID uz EM jāpārdala | N3: EM nepieciešamais | O3: EM pieejamais | P3: no LM uz EM jāpārdala | Q3: no LRP uz EM pārdalāmais | R3: no IAUI uz EM pārdalāmais | S3: no VID uz EM jāpārdala
N4: J=B+I | O4: K=C+G | P4: L=D+H | S4: M=E+I
